{"text_format":"1","workbook":"xlsx","n_sheets":7,"sheets":["Methodology & Notes","Dashboard","Sheet1","Sheet2","Sheet3","Pivot","Data"],"not_rendered":{"charts":4,"images":5,"macros":1,"external_links":0,"defined_names":4,"comments":0,"pivot_tables":1},"unopened":[],"bounds":{"document_bytes":16777216,"sheet_cells":100000,"rows_first":2000,"rows_last":500,"rows_between":2000,"halvings":0,"cell_chars":16384,"cell_head_chars":4096},"cells_cut":0,"cells_raw":0,"read":"whole","date_system":"1900"}

{"sheet":"Methodology & Notes","index":0,"n_rows":29,"n_cols":1,"rows_kept":29,"cut":false,"hidden":false,"merged":[]}
["Salary Comparison of Excel Users From 107 Countries"]
["Challenges to comparison:"]
["Comparing Salaries in different currencies doesn’t make sense if we just converted all currencies into a single currency such as USD"]
[]
["1. We have to account for PPP. I have used the IMF data by dividing PPP GDP by Nominal GDP to get the PPP value."]
["2. This conversion should only be done for currencies other than the currency chosen to view the data in."]
["3.  So the column 'Chosen Currency' returns the 'Cleaned Salary' in original currency if its the Chosen currency. "]
["So if INR is chosen as the currency, the original INR data point will be retained as PPP is calcluated relative to this currency for all other currencies."]
["In this dashboard, you can view the data in any chosen currency from the drop-down menu."]
[]
["Few more thngs to keep in mind when looking at the data"]
["1. Though PPP helps provide a pretty good way to adjust for and compare purchasing power of currencies in various countries, there are factors such as tiered taxation which are difficult to factor in. "]
["2. For example, Singapore just has 10% tax, India has 30% taxes and so earning the same amount in SGD could be more profitable as they can save more.  "]
["3. Of course Taxes in some countries depend on marriage status and other demographic and social markers. "]
["4. Also  one big assumption in PPP is whats called 'basket of goods' which used for calculations (cost of utilities, food, transportation). These are assumed to be same for Excel users which is not true in reality. "]
["For example, 2 Excel users in India one of whom buys a lof of products in USD online vs someone just who buys local made products, the former will be impacted more."]
["5. Correlation doesn't mean causality. Often there are multiple variables at play as all Excel Ninjas know!"]
["6. As fun as Excel is, its still a tool and compensation depends on how best we use it and what other skills a person may have."]
[]
["There are questions that this Dashboard tries to answer."]
["1. Comparison of various job titles and pay."]
["2. Comparison of how much people use Excel and how they are paid."]
["3. Where are the Excel Power users?"]
["4. Which job functions use Excel the most?"]
["5. How much time do most Excel users use Excel per day?"]
[]
["For all salary averages, I've used the median instead of arithmetic mean to prevent outliers from skewing the data."]
["All charts are based off the data in the sheet 'Data'"]
["You can ignore all sheets except 'Dashboard'. They are just caculation sheets which I retained for your reference."]

{"sheet":"Dashboard","index":1,"n_rows":53,"n_cols":21,"rows_kept":53,"cut":false,"hidden":false,"merged":[[0,3,1,6],[43,1,43,3],[44,1,44,3],[30,1,30,5],[31,1,31,5],[32,1,32,5],[33,1,33,5],[26,1,26,5],[45,1,45,3],[43,4,43,5],[46,1,46,3],[20,1,20,5],[27,1,27,5],[28,1,28,5],[29,1,29,5],[21,1,21,5],[22,1,22,5],[23,1,23,5],[24,1,24,5],[25,1,25,5],[40,1,40,5],[34,1,34,5],[35,1,35,5],[36,1,36,5],[37,1,37,5],[38,1,38,5],[48,1,48,4],[41,0,41,4],[49,1,49,5],[55,6,55,10],[42,1,42,5],[47,1,47,3]]}
[null,null,null,"Salary Comparison of Excel Users From 107 Countries"]
[]
[]
[]
[null,null,null,null,null,null,null,null,null,"United States dollar",null,null,null,null,null,null,null,null,null,null,"United States dollar"]
[null,null,null,null,null,null,null,null,null,null,null,null,null,null,null,null,null,null,null,null,"Chinese yuan"]
[null,null,null,null,null,null,null,null,null,null,null,null,null,null,null,null,null,null,null,null,"Japanese yen"]
[null,null,null,null,null,null,null,null,null,null,null,null,null,null,null,null,null,null,null,null,"Euro"]
[null,null,null,null,null,null,null,null,null,null,null,null,null,null,null,null,null,null,null,null,"Brazilian real"]
[null,null,null,null,null,null,null,null,null,null,null,null,null,null,null,null,null,null,null,null,"British pound[C]"]
[null,"Who Gets the Top Salary? Where do they Live? How much is their Excel Usage?",null,null,null,null,null,null,null,null,null,null,null,null,null,null,null,null,null,null,"Canadian dollar"]
[null,null,null,null,null,null,null,null,null,null,null,null,null,null,null,null,null,null,null,null,"Indian rupee"]
[null,"Salary","Currency","Job Title","Resides in","Uses Excel","No of years",null,null,null,null,null,null,null,null,null,null,null,null,null,"Australian dollar"]
[null,{"$f":"LARGE(Data!$G$13:$G$1888,1)","v":988057.75400293083},{"$f":"INDEX(Sheet3!$A$2:$A$31,MATCH(Dashboard!$J$5,Sheet3!$B$2:$B$31,0))","v":"USD"},{"$f":"VLOOKUP(B14,Data!$G$13:$L$1888,3,FALSE)","v":"Accountant"},{"$f":"VLOOKUP(B14,Data!$G$13:$L$1888,4,FALSE)","v":"Canada"},{"$f":"VLOOKUP(B14,Data!$G$13:$L$1888,5,FALSE)","v":"4 to 6 hours a day"},{"$f":"VLOOKUP(B14,Data!$G$13:$L$1888,6,FALSE)","v":"Data Not Avaliable"},null,null,null,null,null,null,null,null,null,null,null,null,null,"Mexican peso"]
[null,{"$f":"LARGE(Data!$G$13:$G$1888,2)","v":497290.73466133379},{"$f":"INDEX(Sheet3!$A$2:$A$31,MATCH(Dashboard!$J$5,Sheet3!$B$2:$B$31,0))","v":"USD"},{"$f":"VLOOKUP(B15,Data!$G$13:$L$1888,3,FALSE)","v":"Manager"},{"$f":"VLOOKUP(B15,Data!$G$13:$L$1888,4,FALSE)","v":"India"},{"$f":"VLOOKUP(B15,Data!$G$13:$L$1888,5,FALSE)","v":"2 to 3 hours per day"},{"$f":"VLOOKUP(B15,Data!$G$13:$L$1888,6,FALSE)","v":10},null,null,null,null,null,null,null,null,null,null,null,null,null,"Indonesian rupiah"]
[null,{"$f":"LARGE(Data!$G$13:$G$1888,3)","v":426249.20113828609},{"$f":"INDEX(Sheet3!$A$2:$A$31,MATCH(Dashboard!$J$5,Sheet3!$B$2:$B$31,0))","v":"USD"},{"$f":"VLOOKUP(B16,Data!$G$13:$L$1888,3,FALSE)","v":"Analyst"},{"$f":"VLOOKUP(B16,Data!$G$13:$L$1888,4,FALSE)","v":"India"},{"$f":"VLOOKUP(B16,Data!$G$13:$L$1888,5,FALSE)","v":"4 to 6 hours a day"},{"$f":"VLOOKUP(B16,Data!$G$13:$L$1888,6,FALSE)","v":"Data Not Avaliable"},null,null,null,null,null,null,null,null,null,null,null,null,null,"Swiss franc"]
[null,{"$f":"LARGE(Data!$G$13:$G$1888,4)","v":400000},{"$f":"INDEX(Sheet3!$A$2:$A$31,MATCH(Dashboard!$J$5,Sheet3!$B$2:$B$31,0))","v":"USD"},{"$f":"VLOOKUP(B17,Data!$G$13:$L$1888,3,FALSE)","v":"Manager"},{"$f":"VLOOKUP(B17,Data!$G$13:$L$1888,4,FALSE)","v":"USA"},{"$f":"VLOOKUP(B17,Data!$G$13:$L$1888,5,FALSE)","v":"1 or 2 hours a day"},{"$f":"VLOOKUP(B17,Data!$G$13:$L$1888,6,FALSE)","v":"Data Not Avaliable"},null,null,null,null,null,null,null,null,null,null,null,null,null,"Saudi riyal"]
[null,{"$f":"LARGE(Data!$G$13:$G$1888,5)","v":400000},{"$f":"INDEX(Sheet3!$A$2:$A$31,MATCH(Dashboard!$J$5,Sheet3!$B$2:$B$31,0))","v":"USD"},{"$f":"VLOOKUP(B18,Data!$G$13:$L$1888,3,FALSE)","v":"Manager"},{"$f":"VLOOKUP(B18,Data!$G$13:$L$1888,4,FALSE)","v":"USA"},{"$f":"VLOOKUP(B18,Data!$G$13:$L$1888,5,FALSE)","v":"1 or 2 hours a day"},{"$f":"(VLOOKUP(B18,Data!$G$13:$L$1888,6,FALSE))","v":"Data Not Avaliable"},null,null,null,null,null,null,null,null,null,null,null,null,null,"Swedish krona"]
[null,{"$f":"LARGE(Data!$G$13:$G$1888,6)","v":300000},{"$f":"INDEX(Sheet3!$A$2:$A$31,MATCH(Dashboard!$J$5,Sheet3!$B$2:$B$31,0))","v":"USD"},{"$f":"VLOOKUP(B19,Data!$G$13:$L$1888,3,FALSE)","v":"CXO or Top Mgmt."},{"$f":"VLOOKUP(B19,Data!$G$13:$L$1888,4,FALSE)","v":"USA"},{"$f":"VLOOKUP(B19,Data!$G$13:$L$1888,5)","v":"4 to 6 hours a day"},{"$f":"(VLOOKUP(B19,Data!$G$13:$L$1888,6,FALSE))","v":30},null,null,null,null,null,null,null,null,null,null,null,null,null,"Polish złoty"]
[null,null,null,null,null,null,null,null,null,null,null,null,null,null,null,null,null,null,null,null,"Norwegian krone"]
[null,"How do the Various Job Titles Stack Up in terms of Median Salary?",null,null,null,null,"Over 70% of the Respondents were Either an Analyst or a Manager",null,null,null,null,null,null,null,null,null,null,null,null,null,"South African rand"]
[null,null,null,null,null,null,null,null,null,null,null,null,null,null,null,null,null,null,null,null,"United Arab Emirates dirham"]
[null,null,null,null,null,null,null,null,null,null,null,null,null,null,null,null,null,null,null,null,"Danish krone"]
[null,null,null,null,null,null,null,null,null,null,null,null,null,null,null,null,null,null,null,null,"Malaysian ringgit"]
[null,null,null,null,null,null,null,null,null,null,null,null,null,null,null,null,null,null,null,null,"Philippine peso"]
[null,null,null,null,null,null,null,null,null,null,null,null,null,null,null,null,null,null,null,null,"Pakistani rupee"]
[null,null,null,null,null,null,null,null,null,null,null,null,null,null,null,null,null,null,null,null,"Romanian leu"]
[null,null,null,null,null,null,null,null,null,null,null,null,null,null,null,null,null,null,null,null,"New Zealand dollar"]
[null,null,null,null,null,null,null,null,null,null,null,null,null,null,null,null,null,null,null,null,"Bangladeshi taka"]
[null,null,null,null,null,null,null,null,null,null,null,null,null,null,null,null,null,null,null,null,"Moroccan dirham"]
[null,null,null,null,null,null,null,null,null,null,null,null,null,null,null,null,null,null,null,null,"Sri Lankan rupee"]
[null,null,null,null,null,null,null,null,null,null,null,null,null,null,null,null,null,null,null,null,"Dominican peso"]
[null,null,null,null,null,null,null,null,null,null,null,null,null,null,null,null,null,null,null,null,"Ethiopian birr"]
[null,null,null,null,null,null,null,null,null,null,null,null,null,null,null,null,null,null,null,null,"Mauritian rupee"]
[]
[]
[]
[]
[]
[]
[]
["Interesting Insights"]
[]
[null,"Most Excel Users use Excel about",null,null,{"$f":"INDEX(Data!$K$13:$K$1888,(MODE(MATCH(Data!$K$13:$K$1888,Data!$K$13:$K$1888,0))))","v":"4 to 6 hours a day"}]
[null,"Most Survey respondents are from",null,null,{"$f":"INDEX(Data!$J$13:$J$1888,(MODE(MATCH(Data!$J$13:$J$1888,Data!$J$13:$J$1888,0))))","v":"USA"}]
[null,"Most common Job Title",null,null,{"$f":"INDEX(Data!$I$13:$I$1888,(MODE(MATCH(Data!$I$13:$I$1888,Data!$I$13:$I$1888,0))))","v":"Analyst"}]
[null,"Median Salary (PPP Adjusted)",null,null,{"$f":"MEDIAN(Data!G13:G1888)","v":44996.485615631769},{"$f":"$C$14","v":"USD"}]
[null,"\"Excel is my Life\" Power Users - Use All Day!",null,null,{"$f":"456/1876","v":0.24307036247334754}," - Indians top this list!"]
[null,"But - Using Excel 8 Hours a day may not make you rich!",null,null,null,"See Below!"]
[]
[]
[]
[null,null,null,null,"Comparison of Pay and Excel Usage"]

{"sheet":"Sheet1","index":2,"n_rows":186,"n_cols":17,"rows_kept":186,"cut":false,"hidden":false,"merged":[]}
[]
["Nominal GDP","in $Millions",null,null,null,"PPP GDP","in $Millions",null,null,null,"PPP Table",null,"PPP Value","Currency","Currency Name","Exhange Rate","PPP Value"]
[null,null,"Nom GDP",null,null,null,null,"PPP GDP"]
[1," United States",15094025,null,null,1," United States",15094025,null,null,1," United States",1,"USD","United States dollar",1,1]
[2," China",72981472,null,null,2," China",11299967,null,null,2," China",0.15483336647416485,"CNY","Chinese yuan",0.15721021048875083,0.15483336647416485]
[3," Japan",5869471,null,null,3," India",4457784,null,null,3," Japan",0.75652064726105639,"JPY","Japanese yen",1.2673580527296991E-2,0.75652064726105639]
[4," Germany",3577031,null,null,4," Japan",4440376,null,null,4," Germany",0.86638332181074196,"EUR","Euro",1.2703994389916078,0.86638332181074196]
[5," France",2776324,null,null,5," Germany",3099080,null,null,5," France",0.79886209246471229,"EUR","Euro",1.2703994389916078,0.79886209246471229]
[6," Brazil",2492908,null,null,6," Russia",2383402,null,null,6," Brazil",0.92019200066749351,"BRL","Brazilian real",0.49428116689897877,0.92019200066749351]
[7," United Kingdom",2417570,null,null,7," Brazil",2293954,null,null,7," United Kingdom",0.93515513511501214,"GBP","British pound[C]",1.5761782720672841,0.93515513511501214]
[8," Italy",2198730,null,null,8," United Kingdom",2260803,null,null,8," Italy",0.84000764077444712,"EUR","Euro",1.2703994389916078,0.84000764077444712]
[9," Russia",1850401,null,null,9," France",2217900,null,null,9," Russia",1.2880462126857908,"RUB","Russian ruble",{"$error":"#N/A"},1.2880462126857908]
[10," Canada",1736869,null,null,10," Italy",1846950,null,null,10," Canada",0.80382055296052835,"CAD","Canadian dollar",0.98336152303032687,0.80382055296052835]
[11," India",1676143,null,null,11," Mexico",1661640,null,null,11," India",2.6595487377866922,"INR","Indian rupee",1.7807916687442568E-2,2.6595487377866922]
[12," Spain",1493513,null,null,12," South Korea",1554149,null,null,12," Spain",0.94640488566219372,"EUR","Euro",1.2703994389916078,0.94640488566219372]
[13," Australia",1488221,null,null,13," Spain",1413468,null,null,13," Australia",0.61447997306851598,"AUD","Australian dollar",1.0199096564026358,0.61447997306851598]
[14," Mexico",1154784,null,null,14," Canada",1396131,null,null,14," Mexico",1.4389184470862084,"MXN","Mexican peso",7.3046552567951561E-2,1.4389184470862084]
[15," South Korea",1116247,null,null,15," Indonesia",1124649,null,null,15," South Korea",1.3922984787417121,"KRW","South Korean won",{"$error":"#N/A"},1.3922984787417121]
[16," Indonesia",845680,null,null,16," Turkey",1073565,null,null,16," Indonesia",1.3298753665689149,"IDR","Indonesian rupiah",1.0588946622178973E-4,1.3298753665689149]
[17," Netherlands",840433,null,null,17," Iran",990219,null,null,17," Netherlands",0.8377038978716923,"EUR","Euro[I]",1.2703994389916078,0.8377038978716923]
[18," Turkey",778089,null,null,18," Australia",914482,null,null,18," Turkey",1.3797457617316271,"TRY","Turkish lira",{"$error":"#N/A"},1.3797457617316271]
[19," Switzerland",636059,null,null,19," Taiwan",876035,null,null,19," Switzerland",0.53436866705761576,"CHF","Swiss franc",1.0578730615798488,0.53436866705761576]
[20," Saudi Arabia",577595,null,null,20," Poland",771658,null,null,20," Saudi Arabia",1.1820618253274353,"SAR","Saudi riyal",0.26666666666666666,1.1820618253274353]
[21," Sweden",538237,null,null,21," Argentina",716419,null,null,21," Sweden",0.70920245170807661,"SEK","Swedish krona",0.14365525038391866,0.70920245170807661]
[22," Poland",513821,null,null,22," Netherlands",704034,null,null,22," Poland",1.5018031571305961,"PLN","Polish złoty",0.30031472983686902,1.5018031571305961]
[23," Belgium",513396,null,null,23," Saudi Arabia",682753,null,null,23," Belgium",0.80499458507662702,"EUR","Euro",1.2703994389916078,0.80499458507662702]
[24," Norway",483650,null,null,24," Thailand",602074,null,null,24," Norway",0.54980047555050138,"NOK","Norwegian krone",0.16925113144381371,0.54980047555050138]
[25," Iran",482445,null,null,25," South Africa",555134,null,null,25," Iran",2.0525013213941485,"IRR","Iranian rial",{"$error":"#N/A"},2.0525013213941485]
[26," Taiwan",466832,null,null,26," Egypt",518976,null,null,26," Taiwan",1.876553021215341,"TWD","New Taiwan dollar",{"$error":"#N/A"},1.876553021215341]
[27," Argentina",447644,null,null,27," Pakistan",488580,null,null,27," Argentina",1.6004213169393535,"ARS","Argentine peso",{"$error":"#N/A"},1.6004213169393535]
[28," Austria",419243,null,null,28," Colombia",471964,null,null,28," Austria",0.83964431129440442,"EUR","Euro",1.2703994389916078,0.83964431129440442]
[29," South Africa",408074,null,null,29," Malaysia",447279,null,null,29," South Africa",1.3603758141905635,"ZAR","South African rand",0.12192177986291114,1.3603758141905635]
[30," United Arab Emirates",360136,null,null,30," Nigeria",413402,null,null,30," United Arab Emirates",0.71868682941999684,"AED","United Arab Emirates dirham",0.27221921268759308,0.71868682941999684]
[31," Thailand",345649,null,null,31," Belgium",413281,null,null,31," Thailand",1.7418653026625277,"THB","Thai baht",{"$error":"#N/A"},1.7418653026625277]
[32," Denmark",333238,null,null,32," Philippines",390408,null,null,32," Denmark",0.61993530149622789,"DKK","Danish krone",0.17090423722875361,0.61993530149622789]
[33," Colombia",328422,null,null,33," Sweden",381719,null,null,33," Colombia",1.4370657264129687,"COP","Colombian peso",{"$error":"#N/A"},1.4370657264129687]
[34," Venezuela",315841,null,null,34," Venezuela",374111,null,null,34," Venezuela",1.1844915637931743,"VEF","Venezuelan bolívar",{"$error":"#N/A"},1.1844915637931743]
[35," Greece",303065,null,null,35," Austria",352015,null,null,35," Greece",0.9712074967416231,"EUR","Euro",1.2703994389916078,0.9712074967416231]
[36," Malaysia",278680,null,null,36," Switzerland",339890,null,null,36," Malaysia",1.6049913879718674,"MYR","Malaysian ringgit",0.31680056770661735,1.6049913879718674]
[37," Finland",266553,null,null,37," Ukraine",329497,null,null,37," Finland",0.7342742343924098,"EUR","Euro",1.2703994389916078,0.7342742343924098]
[38," Singapore",259849,null,null,38," Singapore",314911,null,null,38," Singapore",1.2118999880699945,"BND","Brunei dollar",{"$error":"#N/A"},1.2118999880699945]
[39," Chile",248411,null,null,39," Peru",301967,null,null,39," Chile",1.2061945727041072,"CLP","Chilean peso",{"$error":"#N/A"},1.2061945727041072]
[null," Hong Kong",243302,null,null,40," Vietnam",299985,null,null,40," Hong Kong",1.4431406235871469,"HKD","Hong Kong dollar",{"$error":"#N/A"},1.4431406235871469]
[40," Israel",242897,null,null,41," Chile",299632,null,null,41," Israel",0.96840224457280244,"ILS","Israeli new shekel",{"$error":"#N/A"},0.96840224457280244]
[41," Nigeria",238920,null,null,42," Greece",294339,null,null,42," Nigeria",1.7302946593001842,"NGN","Nigerian naira",{"$error":"#N/A"},1.7302946593001842]
[42," Portugal",238880,null,null,43," Czech Republic",284952,null,null,43," Portugal",1.0422848292029472,"EUR","Euro",1.2703994389916078,1.0422848292029472]
[43," Egypt",235719,null,null,44," Bangladesh",282229,null,null,44," Egypt",2.2016723301897598,"EGP","Egyptian pound",{"$error":"#N/A"},2.2016723301897598]
[44," Ireland",217669,null,null,45," Romania",267151,null,null,45," Ireland",0.83427130183903087,"EUR","Euro",1.2703994389916078,0.83427130183903087]
[45," Czech Republic",215265,null,null,46," Norway",265911,null,null,46," Czech Republic",1.3237265695770331,"CZK","Czech koruna",{"$error":"#N/A"},1.3237265695770331]
[46," Philippines",213129,null,null,47," Algeria",263661,null,null,47," Philippines",1.8317920132877272,"PHP","Philippine peso",2.3705052257787702E-2,1.8317920132877272]
[47," Pakistan",210566,null,null,48," United Arab Emirates",258825,null,null,48," Pakistan",2.3203176201286055,"PKR","Pakistani rupee",1.0614088716799131E-2,2.3203176201286055]
[48," Algeria",190709,null,null,49," Portugal",248981,null,null,49," Algeria",1.3825304521548538,"DZD","Algerian dinar",{"$error":"#N/A"},1.3825304521548538]
[49," Romania",189776,null,null,50," Israel",235222,null,null,50," Romania",1.4077175196020573,"RON","Romanian leu",0.28461323906942854,1.4077175196020573]
[50," Kazakhstan",178312,null,null,51," Kazakhstan",216785,null,null,51," Kazakhstan",1.2157622594104716,"KZT","Kazakhstani tenge",{"$error":"#N/A"},1.2157622594104716]
[51," Kuwait",176667,null,null,52," Denmark",206586,null,null,52," Kuwait",0.8688719455246311,"KWD","Kuwaiti dinar",{"$error":"#N/A"},0.8688719455246311]
[52," Qatar",173847,null,null,53," Finland",195723,null,null,53," Qatar",1.0469205680857305,"QAR","Qatari riyal",{"$error":"#N/A"},1.0469205680857305]
[53," Peru",173502,null,null,54," Hungary",195640,null,null,54," Peru",1.7404237415130661,"PEN","Peruvian nuevo sol",{"$error":"#N/A"},1.7404237415130661]
[54," Ukraine",164960,null,null,55," Qatar",182004,null,null,55," Ukraine",1.9974357419980602,"UAH","Ukrainian hryvnia",{"$error":"#N/A"},1.9974357419980602]
[55," New Zealand",161851,null,null,56," Ireland",181595,null,null,56," New Zealand",0.75497216575739412,"NZD","New Zealand dollar",0.79758809360493876,0.75497216575739412]
[56," Hungary",140303,null,null,57," Morocco",162617,null,null,57," Hungary",1.3944106683392372,"HUF","Hungarian forint",{"$error":"#N/A"},1.3944106683392372]
[57," Vietnam",122722,null,null,58," Kuwait",153501,null,null,58," Vietnam",2.4444272420592883,"VND","Vietnamese đồng",{"$error":"#N/A"},2.4444272420592883]
[58," Iraq",115388,null,null,59," Belarus",141771,null,null,59," Iraq",1.106102887648629,"IQD","Iraqi dinar",{"$error":"#N/A"},1.106102887648629]
[59," Bangladesh",113032,null,null,60," Iraq",127631,null,null,60," Bangladesh",2.4968946846910609,"BDT","Bangladeshi taka",1.2220845340313881E-2,2.4968946846910609]
[60," Angola",100948,null,null,61," Ecuador",127426,null,null,61," Angola",1.1459266156833221,"AOA","Angolan kwanza",{"$error":"#N/A"},1.1459266156833221]
[61," Morocco",99241,null,null,62," Slovak Republic",126916,null,null,62," Morocco",1.6386070273374915,"MAD","Moroccan dirham",0.11454753722794959,1.6386070273374915]
[62," Slovakia",96089,null,null,63," New Zealand",122193,null,null,63," Slovakia",{"$error":"#N/A"},"EUR","Euro",1.2703994389916078,{"$error":"#N/A"}]
[63," Oman",71888,null,null,64," Sri Lanka",116541,null,null,64," Oman",1.1374221010460717,"OMR","Omani rial",{"$error":"#N/A"},1.1374221010460717]
[64," Ecuador",66381,null,null,65," Angola",115679,null,null,65," Ecuador",1.9196155526430756,"USD","United States dollar",1,1.9196155526430756]
[65," Sudan + South Sudan",64750,null,null,66," Bulgaria",101036,null,null,66," Sudan + South Sudan",1.3752586872586872,"SSP","South Sudanese pound",{"$error":"#N/A"},1.3752586872586872]
[66," Croatia",63842,null,null,67," Tunisia",100979,null,null,67," Croatia",1.2583252404373297,"HRK","Croatian kuna",{"$error":"#N/A"},1.2583252404373297]
[67," Azerbaijan",62321,null,null,68," Uzbekistan",95239,null,null,68," Azerbaijan",1.4931563999293977,"AZN","Azerbaijani manat",{"$error":"#N/A"},1.4931563999293977]
[68," Sri Lanka",59095,null,null,69," Ethiopia",94878,null,null,69," Sri Lanka",1.9720957779846011,"LKR","Sri Lankan rupee",7.5240581760178168E-3,1.9720957779846011]
[69," Luxembourg",58412,null,null,70," Dominican Republic",93383,null,null,70," Luxembourg",0.70569403547216325,"EUR","Euro",1.2703994389916078,0.70569403547216325]
[70," Dominican Republic",56700,null,null,71," Azerbaijan",93055,null,null,71," Dominican Republic",1.6469664902998236,"DOP","Dominican peso",2.5673940949935813E-2,1.6469664902998236]
[71," Belarus",55483,null,null,72," Sudan + South Sudan",89048,null,null,72," Belarus",2.5552151109348809,"BYR","Belarusian ruble",{"$error":"#N/A"},2.5552151109348809]
[72," Bulgaria",53514,null,null,73," Myanmar",82679,null,null,73," Bulgaria",1.8880293007437305,"BGN","Bulgarian lev",{"$error":"#N/A"},1.8880293007437305]
[73," Burma",51925,null,null,74," Oman",81767,null,null,74," Burma",{"$error":"#N/A"},"MMK","Burmese kyat",{"$error":"#N/A"},{"$error":"#N/A"}]
[74," Slovenia",49588,null,null,75," Croatia",80334,null,null,75," Slovenia",1.1674598693232234,"EUR","Euro",1.2703994389916078,1.1674598693232234]
[75," Guatemala",46897,null,null,76," Serbia",78869,null,null,76," Guatemala",1.5930443311938931,"GTQ","Guatemalan quetzal",{"$error":"#N/A"},1.5930443311938931]
[76," Uruguay",46872,null,null,77," Ghana",74937,null,null,77," Uruguay",1.0861068441713604,"UYU","Uruguayan peso",{"$error":"#N/A"},1.0861068441713604]
[77," Tunisia",46360,null,null,78," Guatemala",74709,null,null,78," Tunisia",2.1781492666091458,"TND","Tunisian dinar",{"$error":"#N/A"},2.1781492666091458]
[78," Uzbekistan",45353,null,null,79," Kenya",71427,null,null,79," Uzbekistan",2.0999492867065022,"UZS","Uzbekistani som",{"$error":"#N/A"},2.0999492867065022]
[79," Serbia",45064,null,null,80," Tanzania",63892,null,null,80," Serbia",1.7501553346351855,"RSD","Serbian dinar",{"$error":"#N/A"},1.7501553346351855]
[80," Lithuania",42718,null,null,81," Lithuania",61605,null,null,81," Lithuania",1.4421321222903694,"LTL","Lithuanian litas",{"$error":"#N/A"},1.4421321222903694]
[81," Costa Rica",40947,null,null,82," Lebanon",61444,null,null,82," Costa Rica",1.3437126040979803,"CRC","Costa Rican colón",{"$error":"#N/A"},1.3437126040979803]
[82," Lebanon",39039,null,null,83," Yemen",57966,null,null,83," Lebanon",1.5739132662209585,"LBP","Lebanese pound",{"$error":"#N/A"},1.5739132662209585]
[83," Ghana",37158,null,null,84," Slovenia",57892,null,null,84," Ghana",2.0167124172452771,"GHS","Ghana cedi",{"$error":"#N/A"},2.0167124172452771]
[84," Libya",36874,null,null,85," Costa Rica",55021,null,null,85," Libya",1.0167597765363128,"LYD","Libyan dinar",{"$error":"#N/A"},1.0167597765363128]
[85," Kenya",34796,null,null,86," Uruguay",50908,null,null,86," Kenya",2.0527359466605355,"KES","Kenyan shilling",{"$error":"#N/A"},2.0527359466605355]
[86," Yemen",33675,null,null,87," Bolivia",50904,null,null,87," Yemen",1.721336302895323,"YER","Yemeni rial",{"$error":"#N/A"},1.721336302895323]
[87," Ethiopia",31256,null,null,88," Panama",50612,null,null,88," Ethiopia",3.0355131814691578,"ETB","Ethiopian birr",5.6561085972850679E-2,3.0355131814691578]
[88," Panama",30569,null,null,89," Cameroon",47251,null,null,89," Panama",1.6556642350093231,"PAB","Panamanian balboa",{"$error":"#N/A"},1.6556642350093231]
[89," Jordan",29233,null,null,90," Uganda",46368,null,null,90," Jordan",1.2620326343515889,"JOD","Jordanian dinar",{"$error":"#N/A"},1.2620326343515889]
[90," Latvia",28252,null,null,91," El Salvador",44576,null,null,91," Latvia",1.2360540846665722,"LVL","Latvian lats",{"$error":"#N/A"},1.2360540846665722]
[91," Bahrain",26108,null,null,92," Turkmenistan",43359,null,null,92," Bahrain",1.1912440631224146,"BHD","Bahraini dinar",{"$error":"#N/A"},1.1912440631224146]
[92," Cameroon",25759,null,null,93," Luxembourg",41221,null,null,93," Cameroon",1.834349159517062,"XAF","Central African CFA franc",{"$error":"#N/A"},1.834349159517062]
[93," Turkmenistan",25742,null,null,94," Nepal",37795,null,null,94," Turkmenistan",1.6843679589775464,"TMT","Turkmenistan manat",{"$error":"#N/A"},1.6843679589775464]
[94," Cyprus",24949,null,null,95," Libya",37492,null,null,95," Cyprus",0.95106016273197325,"EUR","Euro",1.2703994389916078,0.95106016273197325]
[95," Bolivia",24604,null,null,96," Jordan",36893,null,null,96," Bolivia",2.0689318809949602,"BOB","Bolivian boliviano",{"$error":"#N/A"},2.0689318809949602]
[96," Côte d'Ivoire",24096,null,null,97," Côte d'Ivoire",36068,null,null,97," Côte d'Ivoire",1.4968459495351925,"XOF","West African CFA franc",{"$error":"#N/A"},1.4968459495351925]
[97," Tanzania",23333,null,null,98," Honduras",35697,null,null,98," Tanzania",2.7382676895384219,"TZS","Tanzanian shilling",{"$error":"#N/A"},2.7382676895384219]
[98," El Salvador",22761,null,null,99," Paraguay",35346,null,null,99," El Salvador",1.9584376784851281,"SVC","Salvadoran colón",{"$error":"#N/A"},1.9584376784851281]
[99," Trinidad and Tobago",22707,null,null,100," Latvia",34921,null,null,100," Trinidad and Tobago",1.1687144933280487,"TTD","Trinidad and Tobago dollar",{"$error":"#N/A"},1.1687144933280487]
[100," Estonia",22225,null,null,101," Cambodia",33463,null,null,101," Estonia",1.2289313835770528,"EUR","Euro",1.2703994389916078,1.2289313835770528]
[101," Paraguay",21236,null,null,102," Bosnia and Herzegovina",31638,null,null,102," Paraguay",1.6644377472216989,"PYG","Paraguayan guaraní",{"$error":"#N/A"},1.6644377472216989]
[102," Equatorial Guinea",19805,null,null,103," Bahrain",31101,null,null,103," Equatorial Guinea",1.3202221661196667,"XAF","Central African CFA franc",{"$error":"#N/A"},1.3202221661196667]
[103," Zambia",19206,null,null,104," Afghanistan",29731,null,null,104," Zambia",1.1393314589190877,"ZMK","Zambian kwacha",{"$error":"#N/A"},1.1393314589190877]
[104," Nepal",18580,null,null,105," Botswana",29707,null,null,105," Nepal",2.0341765339074271,"NPR","Nepalese rupee",{"$error":"#N/A"},2.0341765339074271]
[105," Afghanistan",18181,null,null,106," Estonia",27313,null,null,106," Afghanistan",1.6352785875364391,"AFN","Afghan afghani",{"$error":"#N/A"},1.6352785875364391]
[106," Bosnia and Herzegovina",17965,null,null,107," Trinidad and Tobago",26538,null,null,107," Bosnia and Herzegovina",1.7610910102978012,"BAM","Bosnia and Herzegovina convertible mark",{"$error":"#N/A"},1.7610910102978012]
[107," Botswana",17570,null,null,108," Equatorial Guinea",26147,null,null,108," Botswana",1.6907797381900969,"BWP","Botswana pula",{"$error":"#N/A"},1.6907797381900969]
[108," Honduras",17381,null,null,109," Congo, Democratic Republic of the",25262,null,null,109," Honduras",2.053794373166101,"HNL","Honduran lempira",{"$error":"#N/A"},2.053794373166101]
[109," Uganda",16810,null,null,110," Senegal",25152,null,null,110," Uganda",2.7583581201665677,"UGX","Ugandan shilling",{"$error":"#N/A"},2.7583581201665677]
[110," Gabon",16176,null,null,111," Albania",24910,null,null,111," Gabon",1.518978733926805,"XAF","Central African CFA franc",{"$error":"#N/A"},1.518978733926805]
[111," Congo, Democratic Republic of the",15668,null,null,112," Jamaica",24750,null,null,112," Congo, Democratic Republic of the",1.6123308654582589,"CDF","Congolese franc",{"$error":"#N/A"},1.6123308654582589]
[112," Brunei",15533,null,null,113," Gabon",24571,null,null,113," Brunei",1.3499645915148393,"BND","Brunei dollar",{"$error":"#N/A"},1.3499645915148393]
[113," Jamaica",14807,null,null,114," Georgia",24541,null,null,114," Jamaica",1.6715067197946918,"JMD","Jamaican dollar",{"$error":"#N/A"},1.6715067197946918]
[114," Congo, Republic of the",14769,null,null,115," Mozambique",23886,null,null,115," Congo, Republic of the",1.2356963910894441,"XAF","Central African CFA franc",{"$error":"#N/A"},1.2356963910894441]
[115," Senegal",14461,null,null,116," Cyprus",23728,null,null,116," Senegal",1.7392988036788604,"XOF","West African CFA franc",{"$error":"#N/A"},1.7392988036788604]
[116," Georgia",14347,null,null,117," Burkina Faso",22042,null,null,117," Georgia",1.7105318184986409,"GEL","Georgian lari",{"$error":"#N/A"},1.7105318184986409]
[117," Iceland",14048,null,null,118," Zambia",21882,null,null,118," Iceland",0.88332858769931666,"ISK","Icelandic króna",{"$error":"#N/A"},0.88332858769931666]
[118," Cambodia",12861,null,null,119," Macedonia",21345,null,null,119," Cambodia",2.6018972086151932,"KHR","Cambodian riel",{"$error":"#N/A"},2.6018972086151932]
[119," Albania",12847,null,null,120," Brunei",20969,null,null,120," Albania",1.9389740795516464,"ALL","Albanian lek",{"$error":"#N/A"},1.9389740795516464]
[120," Mozambique",12827,null,null,121," Madagascar",20400,null,null,121," Mozambique",1.8621657441334685,"MZN","Mozambican metical",{"$error":"#N/A"},1.8621657441334685]
[121," Papua New Guinea",12655,null,null,122," Chad",19543,null,null,122," Papua New Guinea",1.3325167917819043,"PGK","Papua New Guinean kina",{"$error":"#N/A"},1.3325167917819043]
[122," Namibia",12461,null,null,123," Mauritius",19276,null,null,123," Namibia",1.2633817510633176,"NAD","Namibian dollar",{"$error":"#N/A"},1.2633817510633176]
[123," Mauritius",11313,null,null,124," Nicaragua",18878,null,null,124," Mauritius",1.7038804914699903,"MUR","Mauritian rupee",3.2556428429575561E-2,1.7038804914699903]
[124," Mali",10600,null,null,125," Congo, Republic of the",18250,null,null,125," Mali",1.6860377358490566,"XOF","West African CFA franc",{"$error":"#N/A"},1.6860377358490566]
[125," Macedonia",10327,null,null,126," Armenia",17941,null,null,126," Macedonia",2.0669119783092862,"MKD","Macedonian denar",{"$error":"#N/A"},2.0669119783092862]
[126," Armenia",10106,null,null,127," Mali",17872,null,null,127," Armenia",1.7752820106867209,"AMD","Armenian dram",{"$error":"#N/A"},1.7752820106867209]
[127," Madagascar",10025,null,null,128," Laos",17433,null,null,128," Madagascar",2.0349127182044886,"MGA","Malagasy ariary",{"$error":"#N/A"},2.0349127182044886]
[128," Burkina Faso",9981,null,null,129," Papua New Guinea",16863,null,null,129," Burkina Faso",2.2083959523093877,"XOF","West African CFA franc",{"$error":"#N/A"},2.2083959523093877]
[129," Chad",9344,null,null,130," Tajikistan",16221,null,null,130," Chad",2.0915025684931505,"XAF","Central African CFA franc",{"$error":"#N/A"},2.0915025684931505]
[130," Zimbabwe",9323,null,null,131," Namibia",15743,null,null,131," Zimbabwe",0.6571918910222031,"BWP","Botswana pula",{"$error":"#N/A"},0.6571918910222031]
[131," Malta",8896,null,null,132," Benin",14683,null,null,132," Malta",1.209195143884892,"EUR","Euro",1.2703994389916078,1.209195143884892]
[132," Mongolia",8506,null,null,133," Malawi",13901,null,null,133," Mongolia",1.5593698565718317,"MNT","Mongolian tögrög",{"$error":"#N/A"},1.5593698565718317]
[133," Bahamas, The",8074,null,null,134," Rwanda",13684,null,null,134," Bahamas, The",1.3357691354966559,"BSD","Bahamian dollar",{"$error":"#N/A"},1.3357691354966559]
[134," Laos",7891,null,null,135," Mongolia",13264,null,null,135," Laos",2.2092257001647448,"LAK","Lao kip",{"$error":"#N/A"},2.2092257001647448]
[135," Haiti",7388,null,null,136," Kyrgyzstan",13125,null,null,136," Haiti",1.6736599891716297,"HTG","Haitian gourde",{"$error":"#N/A"},1.6736599891716297]
[136," Benin",7306,null,null,137," Kosovo",12859,null,null,137," Benin",2.0097180399671504,"XOF","West African CFA franc",{"$error":"#N/A"},2.0097180399671504]
[137," Nicaragua",7297,null,null,138," Iceland",12409,null,null,138," Nicaragua",2.5870905851719885,"NIO","Nicaraguan córdoba",{"$error":"#N/A"},2.5870905851719885]
[138," Moldova",7003,null,null,139," Haiti",12365,null,null,139," Moldova",1.7132657432528917,"MDL","Moldovan leu",{"$error":"#N/A"},1.7132657432528917]
[139," Tajikistan",6523,null,null,140," Moldova",11998,null,null,140," Tajikistan",2.486739230415453,"TJS","Tajikistani somoni",{"$error":"#N/A"},2.486739230415453]
[140," Kosovo",6452,null,null,141," Niger",11632,null,null,141," Kosovo",1.9930254184748915,"EUR","Euro",1.2703994389916078,1.9930254184748915]
[141," Rwanda",6179,null,null,142," Guinea",11464,null,null,142," Rwanda",2.2145978313642982,"RWF","Rwandan franc",{"$error":"#N/A"},2.2145978313642982]
[142," Niger",6022,null,null,143," Bahamas, The",10785,null,null,143," Niger",1.9315841912985718,"XOF","West African CFA franc",{"$error":"#N/A"},1.9315841912985718]
[143," Kyrgyzstan",5920,null,null,144," Malta",10757,null,null,144," Kyrgyzstan",2.217060810810811,"KGS","Kyrgyzstani som",{"$error":"#N/A"},2.217060810810811]
[144," Malawi",5673,null,null,145," Timor-Leste",9507,null,null,145," Malawi",2.4503789881896703,"MWK","Malawian kwacha",{"$error":"#N/A"},2.4503789881896703]
[145," Guinea",5212,null,null,146," Montenegro",7157,null,null,146," Guinea",2.1995395241749809,"GNF","Guinean franc",{"$error":"#N/A"},2.1995395241749809]
[146," Montenegro",4536,null,null,147," Mauritania",7093,null,null,147," Montenegro",1.5778218694885362,"EUR","Euro",1.2703994389916078,1.5778218694885362]
[147," Barbados",4478,null,null,148," Barbados",6493,null,null,148," Barbados",1.4499776686020545,"BBD","Barbadian dollar",{"$error":"#N/A"},1.4499776686020545]
[148," Timor-Leste",4315,null,null,149," Togo",6415,null,null,149," Timor-Leste",2.20324449594438,"USD","United States dollar",1,2.20324449594438]
[149," Mauritania",4200,null,null,150," Swaziland",6233,null,null,150," Mauritania",1.6888095238095238,"MRO","Mauritanian ouguiya",{"$error":"#N/A"},1.6888095238095238]
[150," Swaziland",3947,null,null,151," Zimbabwe",6127,null,null,151," Swaziland",1.5791740562452496,"SZL","Swazi lilangeni",{"$error":"#N/A"},1.5791740562452496]
[151," Suriname",3790,null,null,152," Guyana",5783,null,null,152," Suriname",1.3350923482849604,"SRD","Surinamese dollar",{"$error":"#N/A"},1.3350923482849604]
[152," Togo",3611,null,null,153," Burundi",5184,null,null,153," Togo",1.7765162004984769,"XOF","West African CFA franc",{"$error":"#N/A"},1.7765162004984769]
[153," Fiji",3546,null,null,154," Sierra Leone",5093,null,null,154," Fiji",1.1655386350817822,"FJD","Fijian dollar",{"$error":"#N/A"},1.1655386350817822]
[154," Eritrea",2609,null,null,155," Suriname",5060,null,null,155," Eritrea",1.5473361441165197,"ERN","Eritrean nakfa",{"$error":"#N/A"},1.5473361441165197]
[155," Guyana",2480,null,null,156," Bhutan",4287,null,null,156," Guyana",2.3318548387096776,"GYD","Guyanese dollar",{"$error":"#N/A"},2.3318548387096776]
[156," Lesotho",2453,null,null,157," Fiji",4133,null,null,157," Lesotho",1.550754178556869,"LSL","Lesotho loti",{"$error":"#N/A"},1.550754178556869]
[157," Burundi",2356,null,null,158," Eritrea",4037,null,null,158," Burundi",2.2003395585738539,"BIF","Burundian franc",{"$error":"#N/A"},2.2003395585738539]
[158," Sierra Leone",2196,null,null,159," Lesotho",3804,null,null,159," Sierra Leone",2.3192167577413478,"SLL","Sierra Leonean leone",{"$error":"#N/A"},2.3192167577413478]
[159," Central African Republic",2165,null,null,160," Central African Republic",3641,null,null,160," Central African Republic",1.6817551963048498,"XAF","Central African CFA franc",{"$error":"#N/A"},1.6817551963048498]
[160," Maldives",1944,null,null,161," Gambia, The",3496,null,null,161," Maldives",1.4614197530864197,"MVR","Maldivian rufiyaa",{"$error":"#N/A"},1.4614197530864197]
[161," Cape Verde",1903,null,null,162," Maldives",2841,null,null,162," Cape Verde",1.0782974251182345,"CVE","Cape Verdean escudo",{"$error":"#N/A"},1.0782974251182345]
[162," Bhutan",1488,null,null,163," Belize",2800,null,null,163," Bhutan",2.881048387096774,"BTN","Bhutanese ngultrum",{"$error":"#N/A"},2.881048387096774]
[163," Belize",1474,null,null,164," Seychelles",2245,null,null,164," Belize",1.8995929443690638,"BZD","Belize dollar",{"$error":"#N/A"},1.8995929443690638]
[164," Djibouti",1239,null,null,165," Djibouti",2231,null,null,165," Djibouti",1.8006456820016141,"DJF","Djiboutian franc",{"$error":"#N/A"},1.8006456820016141]
[165," Saint Lucia",1239,null,null,166," Saint Lucia",2101,null,null,166," Saint Lucia",1.6957223567393058,"XCD","East Caribbean dollar",{"$error":"#N/A"},1.6957223567393058]
[166," Antigua and Barbuda",1187,null,null,167," Cape Verde",2052,null,null,167," Antigua and Barbuda",1.3268744734625106,"XCD","East Caribbean dollar",{"$error":"#N/A"},1.3268744734625106]
[167," Liberia",1154,null,null,168," Guinea-Bissau",1925,null,null,168," Liberia",1.5329289428076256,"LRD","Liberian dollar",{"$error":"#N/A"},1.5329289428076256]
[168," Seychelles",1014,null,null,169," Liberia",1769,null,null,169," Seychelles",2.2140039447731756,"SCR","Seychellois rupee",{"$error":"#N/A"},2.2140039447731756]
[169," Gambia, The",977,null,null,170," Solomon Islands",1725,null,null,170," Gambia, The",3.5783009211873082,"GMD","Gambian dalasi",{"$error":"#N/A"},3.5783009211873082]
[170," Guinea-Bissau",969,null,null,171," Antigua and Barbuda",1575,null,null,171," Guinea-Bissau",1.9865841073271413,"XOF","West African CFA franc",{"$error":"#N/A"},1.9865841073271413]
[171," Solomon Islands",840,null,null,172," Grenada",1449,null,null,172," Solomon Islands",2.0535714285714284,"SBD","Solomon Islands dollar",{"$error":"#N/A"},2.0535714285714284]
[172," Grenada",822,null,null,173," Saint Vincent and the Grenadines",1259,null,null,173," Grenada",1.7627737226277371,"XCD","East Caribbean dollar",{"$error":"#N/A"},1.7627737226277371]
[173," Vanuatu",743,null,null,174," Vanuatu",1204,null,null,174," Vanuatu",1.6204576043068641,"VUV","Vanuatu vatu",{"$error":"#N/A"},1.6204576043068641]
[174," Saint Kitts and Nevis",715,null,null,175," Samoa",1090,null,null,175," Saint Kitts and Nevis",1.2237762237762237,"XCD","East Caribbean dollar",{"$error":"#N/A"},1.2237762237762237]
[175," Saint Vincent and the Grenadines",695,null,null,176," Dominica",977,null,null,176," Saint Vincent and the Grenadines",1.8115107913669064,"XCD","East Caribbean dollar",{"$error":"#N/A"},1.8115107913669064]
[176," Samoa",630,null,null,177," Saint Kitts and Nevis",875,null,null,177," Samoa",1.7301587301587302,"WST","Samoan tālā",{"$error":"#N/A"},1.7301587301587302]
[177," Comoros",614,null,null,178," Comoros",837,null,null,178," Comoros",1.3631921824104234,"KMF","Comorian franc",{"$error":"#N/A"},1.3631921824104234]
[178," Dominica",489,null,null,179," Tonga",763,null,null,179," Dominica",1.9979550102249488,"XCD","East Caribbean dollar",{"$error":"#N/A"},1.9979550102249488]
[179," Tonga",439,null,null,180," Kiribati",599,null,null,180," Tonga",1.7380410022779043,"TOP","Tongan paʻanga",{"$error":"#N/A"},1.7380410022779043]
[180," São Tomé and Príncipe",248,null,null,181," São Tomé and Príncipe",379,null,null,181," São Tomé and Príncipe",1.528225806451613,"STD","São Tomé and Príncipe dobra",{"$error":"#N/A"},1.528225806451613]
[181," Kiribati",167,null,null,182," Tuvalu",37,null,null,182," Kiribati",3.5868263473053892,"AUD","Australian dollar",1.0199096564026358,3.5868263473053892]
[182," Tuvalu",35,null,null,null," Hong Kong",351119,null,null,183," Tuvalu",1.0571428571428572,"AUD","Australian dollar",1.0199096564026358,1.0571428571428572]

{"sheet":"Sheet2","index":3,"n_rows":278,"n_cols":3,"rows_kept":278,"cut":false,"hidden":false,"merged":[]}
[" Abkhazia","None","None"]
[null,"Russian ruble","RUB"]
[" Afghanistan","Afghan afghani","AFN"]
[" Akrotiri and Dhekelia","Euro","EUR"]
[" Albania","Albanian lek","ALL"]
[" Alderney","Alderney pound[A]","None"]
[null,"British pound[C]","GBP"]
[null,"Guernsey pound","None"]
[" Algeria","Algerian dinar","DZD"]
[" Andorra","Euro","EUR"]
[" Angola","Angolan kwanza","AOA"]
[" Anguilla","East Caribbean dollar","XCD"]
[" Antigua and Barbuda","East Caribbean dollar","XCD"]
[" Argentina","Argentine peso","ARS"]
[" Armenia","Armenian dram","AMD"]
[" Aruba","Aruban florin","AWG"]
["United Kingdom Ascension Island","Ascension pound[A]","None"]
[null,"Saint Helena pound","SHP"]
[" Australia","Australian dollar","AUD"]
[" Austria","Euro","EUR"]
[" Azerbaijan","Azerbaijani manat","AZN"]
[" Bahamas, The","Bahamian dollar","BSD"]
[" Bahrain","Bahraini dinar","BHD"]
[" Bangladesh","Bangladeshi taka","BDT"]
[" Barbados","Barbadian dollar","BBD"]
[" Belarus","Belarusian ruble","BYR"]
[" Belgium","Euro","EUR"]
[" Belize","Belize dollar","BZD"]
[" Benin","West African CFA franc","XOF"]
[" Bermuda","Bermudian dollar","BMD"]
[" Bhutan","Bhutanese ngultrum","BTN"]
[null,"Indian rupee","INR"]
[" Bolivia","Bolivian boliviano","BOB"]
[" Bonaire","United States dollar","USD"]
[" Bosnia and Herzegovina","Bosnia and Herzegovina convertible mark","BAM"]
[" Botswana","Botswana pula","BWP"]
[" Brazil","Brazilian real","BRL"]
[" British Indian Ocean Territory","United States dollar","USD"]
[" British Virgin Islands","British Virgin Islands dollar[A]","None"]
[null,"United States dollar","USD"]
[" Brunei","Brunei dollar","BND"]
[null,"Singapore dollar","SGD"]
[" Bulgaria","Bulgarian lev","BGN"]
[" Burkina Faso","West African CFA franc","XOF"]
[" Burma","Burmese kyat","MMK"]
[" Burundi","Burundian franc","BIF"]
[" Cambodia","Cambodian riel","KHR"]
[" Cameroon","Central African CFA franc","XAF"]
[" Canada","Canadian dollar","CAD"]
[" Cape Verde","Cape Verdean escudo","CVE"]
[" Cayman Islands","Cayman Islands dollar","KYD"]
[" Central African Republic","Central African CFA franc","XAF"]
[" Chad","Central African CFA franc","XAF"]
[" Chile","Chilean peso","CLP"]
[" China","Chinese yuan","CNY"]
[" Cocos (Keeling) Islands","Australian dollar","AUD"]
[null,"Cocos (Keeling) Islands dollar[A]","None"]
[" Colombia","Colombian peso","COP"]
[" Comoros","Comorian franc","KMF"]
[" Congo, Democratic Republic of the","Congolese franc","CDF"]
[" Congo, Republic of the","Central African CFA franc","XAF"]
[" Cook Islands","New Zealand dollar","NZD"]
[null,"Cook Islands dollar","None"]
[" Costa Rica","Costa Rican colón","CRC"]
[" Côte d'Ivoire","West African CFA franc","XOF"]
[" Croatia","Croatian kuna","HRK"]
[" Cuba","Cuban convertible peso","CUC"]
[null,"Cuban peso","CUP"]
[" Curaçao","Netherlands Antillean guilder","ANG"]
[" Cyprus","Euro","EUR"]
[" Czech Republic","Czech koruna","CZK"]
[" Denmark","Danish krone","DKK"]
[" Djibouti","Djiboutian franc","DJF"]
[" Dominica","East Caribbean dollar","XCD"]
[" Dominican Republic","Dominican peso","DOP"]
[" Timor-Leste","United States dollar","USD"]
[null,"None","None"]
[" Ecuador","United States dollar","USD"]
[null,"None","None"]
[" Egypt","Egyptian pound","EGP"]
[" El Salvador","Salvadoran colón","SVC"]
[null,"United States dollar","USD"]
[" Equatorial Guinea","Central African CFA franc","XAF"]
[" Eritrea","Eritrean nakfa","ERN"]
[" Estonia","Euro","EUR"]
[" Ethiopia","Ethiopian birr","ETB"]
[" Falkland Islands","Falkland Islands pound","FKP"]
[" Faroe Islands","Danish krone","DKK"]
[null,"Faroese króna","None"]
[" Fiji","Fijian dollar","FJD"]
[" Finland","Euro","EUR"]
[" France","Euro","EUR"]
[" French Polynesia","CFP franc","XPF"]
[" Gabon","Central African CFA franc","XAF"]
[" Gambia, The","Gambian dalasi","GMD"]
[" Georgia","Georgian lari","GEL"]
[" Germany","Euro","EUR"]
[" Ghana","Ghana cedi","GHS"]
[" Gibraltar","Gibraltar pound","GIP"]
[" Greece","Euro","EUR"]
[" Grenada","East Caribbean dollar","XCD"]
[" Guatemala","Guatemalan quetzal","GTQ"]
[" Guernsey","British pound[C]","GBP"]
[null,"Guernsey pound","None"]
[" Guinea","Guinean franc","GNF"]
[" Guinea-Bissau","West African CFA franc","XOF"]
[" Guyana","Guyanese dollar","GYD"]
[" Haiti","Haitian gourde","HTG"]
[" Honduras","Honduran lempira","HNL"]
[" Hong Kong","Hong Kong dollar","HKD"]
[" Hungary","Hungarian forint","HUF"]
[" Iceland","Icelandic króna","ISK"]
[" India","Indian rupee","INR"]
[" Indonesia","Indonesian rupiah","IDR"]
[" Iran","Iranian rial","IRR"]
[" Iraq","Iraqi dinar","IQD"]
[" Ireland","Euro","EUR"]
[" Isle of Man","British pound[C]","GBP"]
[null,"Manx pound","None"]
[" Israel","Israeli new shekel","ILS"]
[" Italy","Euro","EUR"]
[" Jamaica","Jamaican dollar","JMD"]
[" Japan","Japanese yen","JPY"]
[" Jersey","British pound[C]","GBP"]
[null,"Jersey pound","None"]
[" Jordan","Jordanian dinar","JOD"]
[" Kazakhstan","Kazakhstani tenge","KZT"]
[" Kenya","Kenyan shilling","KES"]
[" Kiribati","Australian dollar","AUD"]
[null,"Kiribati dollar[A]","None"]
[" North Korea","North Korean won","KPW"]
[" South Korea","South Korean won","KRW"]
[" Kosovo","Euro","EUR"]
[" Kuwait","Kuwaiti dinar","KWD"]
[" Kyrgyzstan","Kyrgyzstani som","KGS"]
[" Laos","Lao kip","LAK"]
[" Latvia","Latvian lats","LVL"]
[" Lebanon","Lebanese pound","LBP"]
[" Lesotho","Lesotho loti","LSL"]
[null,"South African rand","ZAR"]
[" Liberia","Liberian dollar","LRD"]
[" Libya","Libyan dinar","LYD"]
[" Liechtenstein","Swiss franc","CHF"]
[" Lithuania","Lithuanian litas","LTL"]
[" Luxembourg","Euro","EUR"]
[" Macau","Macanese pataca","MOP"]
[" Macedonia","Macedonian denar","MKD"]
[" Madagascar","Malagasy ariary","MGA"]
[" Malawi","Malawian kwacha","MWK"]
[" Malaysia","Malaysian ringgit","MYR"]
[" Maldives","Maldivian rufiyaa","MVR"]
[" Mali","West African CFA franc","XOF"]
[" Malta","Euro","EUR"]
[" Marshall Islands","United States dollar","USD"]
[" Mauritania","Mauritanian ouguiya","MRO"]
[" Mauritius","Mauritian rupee","MUR"]
[" Mexico","Mexican peso","MXN"]
[" Micronesia","Micronesian dollar[A]","None"]
[null,"United States dollar","USD"]
[" Moldova","Moldovan leu","MDL"]
[" Monaco","Euro","EUR"]
[" Mongolia","Mongolian tögrög","MNT"]
[" Montenegro","Euro","EUR"]
[" Montserrat","East Caribbean dollar","XCD"]
[" Morocco","Moroccan dirham","MAD"]
[" Mozambique","Mozambican metical","MZN"]
[" Nagorno-Karabakh Republic","Armenian dram","AMD"]
[null,"Nagorno-Karabakh dram[A]","None"]
[" Namibia","Namibian dollar","NAD"]
[null,"South African rand","ZAR"]
[" Nauru","Australian dollar","AUD"]
[null,"Nauruan dollar[A]","None"]
[" Nepal","Nepalese rupee","NPR"]
[" Netherlands","Euro[I]","EUR"]
[" New Caledonia","CFP franc","XPF"]
[" New Zealand","New Zealand dollar","NZD"]
[" Nicaragua","Nicaraguan córdoba","NIO"]
[" Niger","West African CFA franc","XOF"]
[" Nigeria","Nigerian naira","NGN"]
[" Niue","New Zealand dollar","NZD"]
[null,"Niuean dollar[A]","None"]
[" Northern Cyprus","Turkish lira","TRY"]
[" Norway","Norwegian krone","NOK"]
[" Oman","Omani rial","OMR"]
[" Pakistan","Pakistani rupee","PKR"]
[" Palau","Palauan dollar[A]","None"]
[null,"United States dollar","USD"]
[" Palestinian territories","Israeli new shekel","ILS"]
[null,"Jordanian dinar","JOD"]
[" Panama","Panamanian balboa","PAB"]
[null,"United States dollar","USD"]
[" Papua New Guinea","Papua New Guinean kina","PGK"]
[" Paraguay","Paraguayan guaraní","PYG"]
[" Peru","Peruvian nuevo sol","PEN"]
[" Philippines","Philippine peso","PHP"]
[" Pitcairn Islands","New Zealand dollar","NZD"]
[null,"Pitcairn Islands dollar[A]","None"]
[" Poland","Polish złoty","PLN"]
[" Portugal","Euro","EUR"]
[" Qatar","Qatari riyal","QAR"]
[" Romania","Romanian leu","RON"]
[" Russia","Russian ruble","RUB"]
[" Rwanda","Rwandan franc","RWF"]
[" Saba","United States dollar","USD"]
[" Sahrawi Republic","Algerian dinar","DZD"]
[null,"Mauritanian ouguiya","MRO"]
[null,"Moroccan dirham","MAD"]
[null,"Sahrawi peseta[J]","None"]
[" Saint Helena","Saint Helena pound","SHP"]
[" Saint Kitts and Nevis","East Caribbean dollar","XCD"]
[" Saint Lucia","East Caribbean dollar","XCD"]
[" Saint Vincent and the Grenadines","East Caribbean dollar","XCD"]
[" Samoa","Samoan tālā","WST"]
[" San Marino","Euro","EUR"]
[" São Tomé and Príncipe","São Tomé and Príncipe dobra","STD"]
[" Saudi Arabia","Saudi riyal","SAR"]
[" Senegal","West African CFA franc","XOF"]
[" Serbia","Serbian dinar","RSD"]
[" Seychelles","Seychellois rupee","SCR"]
[" Sierra Leone","Sierra Leonean leone","SLL"]
[" Singapore","Brunei dollar","BND"]
[null,"Singapore dollar","SGD"]
[" Sint Eustatius","United States dollar","USD"]
[" Sint Maarten","Netherlands Antillean guilder","ANG"]
[" Slovakia","Euro","EUR"]
[" Slovenia","Euro","EUR"]
[" Solomon Islands","Solomon Islands dollar","SBD"]
[" Somalia","Somali shilling","SOS"]
[" Somaliland","Somaliland shilling","None"]
[" South Africa","South African rand","ZAR"]
[" South Georgia and the South Sandwich Islands","British pound","GBP"]
[null,"South Georgia and the South Sandwich Islands pound[A]","None"]
[" South Ossetia","Russian ruble","RUB"]
[" Spain","Euro","EUR"]
[" Sudan + South Sudan","South Sudanese pound","SSP"]
[" Sri Lanka","Sri Lankan rupee","LKR"]
[" Sudan","Sudanese pound","SDG"]
[" Suriname","Surinamese dollar","SRD"]
[" Swaziland","Swazi lilangeni","SZL"]
[" Sweden","Swedish krona","SEK"]
[" Switzerland","Swiss franc","CHF"]
[" Syria","Syrian pound","SYP"]
[" Taiwan","New Taiwan dollar","TWD"]
[" Tajikistan","Tajikistani somoni","TJS"]
[" Tanzania","Tanzanian shilling","TZS"]
[" Thailand","Thai baht","THB"]
[" Togo","West African CFA franc","XOF"]
[" Tonga","Tongan paʻanga","TOP"]
[" Transnistria","Transnistrian ruble","None"]
[" Trinidad and Tobago","Trinidad and Tobago dollar","TTD"]
[" Tristan da Cunha","Saint Helena pound","SHP"]
[null,"Tristan da Cunha pound[A]","None"]
[" Tunisia","Tunisian dinar","TND"]
[" Turkey","Turkish lira","TRY"]
[" Turkmenistan","Turkmenistan manat","TMT"]
[" Turks and Caicos Islands","United States dollar","USD"]
[" Tuvalu","Australian dollar","AUD"]
[null,"Tuvaluan dollar","None"]
[" Uganda","Ugandan shilling","UGX"]
[" Ukraine","Ukrainian hryvnia","UAH"]
[" United Arab Emirates","United Arab Emirates dirham","AED"]
[" United Kingdom","British pound[C]","GBP"]
[" United States","United States dollar","USD"]
[" Uruguay","Uruguayan peso","UYU"]
[" Uzbekistan","Uzbekistani som","UZS"]
[" Vanuatu","Vanuatu vatu","VUV"]
[" Vatican City","Euro","EUR"]
[" Venezuela","Venezuelan bolívar","VEF"]
[" Vietnam","Vietnamese đồng","VND"]
[" Wallis and Futuna","CFP franc","XPF"]
[" Yemen","Yemeni rial","YER"]
[" Zambia","Zambian kwacha","ZMK"]
[" Zimbabwe","Botswana pula","BWP"]
[null,"British pound[C]","GBP"]
[null,"Euro","EUR"]
[null,"South African rand","ZAR"]
[null,"United States dollar","USD"]
[null,"Zimbabwean dollar[N]","ZWL"]

{"sheet":"Sheet3","index":4,"n_rows":31,"n_cols":3,"rows_kept":31,"cut":false,"hidden":false,"merged":[]}
["Currency","Currency Name","Exhange Rate"]
["USD","United States dollar",1]
["CNY","Chinese yuan",0.15721021048875083]
["JPY","Japanese yen",1.2673580527296991E-2]
["EUR","Euro",1.2703994389916078]
["BRL","Brazilian real",0.49428116689897877]
["GBP","British pound[C]",1.5761782720672841]
["CAD","Canadian dollar",0.98336152303032687]
["INR","Indian rupee",1.7807916687442568E-2]
["AUD","Australian dollar",1.0199096564026358]
["MXN","Mexican peso",7.3046552567951561E-2]
["IDR","Indonesian rupiah",1.0588946622178973E-4]
["CHF","Swiss franc",1.0578730615798488]
["SAR","Saudi riyal",0.26666666666666666]
["SEK","Swedish krona",0.14365525038391866]
["PLN","Polish złoty",0.30031472983686902]
["NOK","Norwegian krone",0.16925113144381371]
["ZAR","South African rand",0.12192177986291114]
["AED","United Arab Emirates dirham",0.27221921268759308]
["DKK","Danish krone",0.17090423722875361]
["MYR","Malaysian ringgit",0.31680056770661735]
["PHP","Philippine peso",2.3705052257787702E-2]
["PKR","Pakistani rupee",1.0614088716799131E-2]
["RON","Romanian leu",0.28461323906942854]
["NZD","New Zealand dollar",0.79758809360493876]
["BDT","Bangladeshi taka",1.2220845340313881E-2]
["MAD","Moroccan dirham",0.11454753722794959]
["LKR","Sri Lankan rupee",7.5240581760178168E-3]
["DOP","Dominican peso",2.5673940949935813E-2]
["ETB","Ethiopian birr",5.6561085972850679E-2]
["MUR","Mauritian rupee",3.2556428429575561E-2]

{"sheet":"Pivot","index":5,"n_rows":112,"n_cols":1,"rows_kept":112,"cut":false,"hidden":false,"merged":[]}
[]
[]
[]
["Country"]
["Albania"]
["arabian Gulf"]
["Argentina"]
["Armenia"]
["Aruba"]
["Asia"]
["Australia"]
["Austria"]
["Azerbaijan"]
["Baltic"]
["Bangladesh"]
["Belgium"]
["Bermuda"]
["Bhutan"]
["Bolivia"]
["Brasil"]
["Brazil"]
["Bulgaria"]
["Cambodia"]
["Canada"]
["CEE"]
["Central America"]
["china"]
["Colombia"]
["Costa Rica"]
["Croatia"]
["Czech Republic"]
["Denmark"]
["Dominican Republic"]
["Dubai"]
["Egypt"]
["Estonia"]
["Ethiopia"]
["Europe"]
["Finland"]
["France"]
["Germany"]
["Ghana"]
["Greece"]
["Guyana"]
["Hong Kong"]
["Hungary"]
["Iceland"]
["India"]
["Indonesia"]
["iran"]
["Ireland"]
["Israel"]
["italy"]
["Japan"]
["Kenya"]
["Kuwait"]
["Kuwait "]
["Latin America"]
["Lesotho"]
["Libya"]
["Lithuania"]
["malaysia"]
["Mauritius"]
["Mexico"]
["Mongolia"]
["Montenegro"]
["Morocco"]
["mozambique"]
["Myanmar"]
["MYS"]
["Netherlands"]
["New Zealand"]
["Nigeria"]
["Norway"]
["Oman"]
["Pakistan"]
["Panama"]
["Paraguay"]
["Peru"]
["Philippines"]
["Poland"]
["Portugal"]
["Qatar"]
["Republic of Georgia"]
["Republica Dominicana"]
["Romania"]
["Russia"]
["Saudi Arabia"]
["self-employed"]
["Singapore"]
["Slovakia"]
["Slovenia"]
["Somalia"]
["South Africa"]
["Spain"]
["Sri Lanka"]
["Sweden"]
["Switzerland"]
["Thailand"]
["Tunisia"]
["Turkey"]
["UAE"]
["Uganda"]
["UK"]
["Ukraine"]
["Uruguay"]
["USA"]
["Viet Nam"]
["Vietnam"]
["Zambia"]
["Zimbabwe"]
["Grand Total"]

{"sheet":"Data","index":6,"n_rows":2003,"n_cols":13,"rows_kept":2003,"cut":false,"hidden":false,"merged":[]}
[null,"Excel Salary Survey Data",null,null,12]
[null,null,null,null,null,null,"Chosen Currency",{"$f":"Curr","v":"USD"}]
[null,"Note: Experience data is not available for first few hundred rows."]
[]
[null,"Unique ID","clean Salary (in local currency)","Currency","Salary in USD","PPP Adjusted  USD","Chosen Currency","Your Job Title","Job Type","Country","How many hours of a day you work on Excel","Years of Experience"]
[null,"ID0412",14000000,"COSTARICAN",28109.627547434993,{"$f":"(tblSalaries[[#This Row],[clean Salary (in local currency)]])*(VLOOKUP(tblSalaries[[#This Row],[Currency]],Sheet3!$A$2:$C$31,3,FALSE))*(VLOOKUP(tblSalaries[[#This Row],[Currency]],Sheet1!$N$4:$Q$186,4,FALSE))","v":{"$error":"#N/A"}},{"$f":"IF(Dashboard!$J$5=VLOOKUP(tblSalaries[[#This Row],[Currency]],Sheet3!$A$2:$B$31,2,FALSE),tblSalaries[[#This Row],[clean Salary (in local currency)]],(tblSalaries[[#This Row],[PPP Adjusted  USD]]/VLOOKUP(Dashboard!$J$5,Sheet3!$B$2:$C$31,2,FALSE)))","v":{"$error":"#N/A"}},"Businees Adminstratot","Analyst","Costa Rica","All the 8 hours baby, all the 8!"]
[null,"ID0740",120000,"EGYPT",19831.432821021317,{"$f":"(tblSalaries[[#This Row],[clean Salary (in local currency)]])*(VLOOKUP(tblSalaries[[#This Row],[Currency]],Sheet3!$A$2:$C$31,3,FALSE))*(VLOOKUP(tblSalaries[[#This Row],[Currency]],Sheet1!$N$4:$Q$186,4,FALSE))","v":{"$error":"#N/A"}},{"$f":"IF(Dashboard!$J$5=VLOOKUP(tblSalaries[[#This Row],[Currency]],Sheet3!$A$2:$B$31,2,FALSE),tblSalaries[[#This Row],[clean Salary (in local currency)]],(tblSalaries[[#This Row],[PPP Adjusted  USD]]/VLOOKUP(Dashboard!$J$5,Sheet3!$B$2:$C$31,2,FALSE)))","v":{"$error":"#N/A"}},"Estimator","Analyst","Egypt","All the 8 hours baby, all the 8!",5]
[null,"ID0759",1488000,"NAIRA",9171.0323574730355,{"$f":"(tblSalaries[[#This Row],[clean Salary (in local currency)]])*(VLOOKUP(tblSalaries[[#This Row],[Currency]],Sheet3!$A$2:$C$31,3,FALSE))*(VLOOKUP(tblSalaries[[#This Row],[Currency]],Sheet1!$N$4:$Q$186,4,FALSE))","v":{"$error":"#N/A"}},{"$f":"IF(Dashboard!$J$5=VLOOKUP(tblSalaries[[#This Row],[Currency]],Sheet3!$A$2:$B$31,2,FALSE),tblSalaries[[#This Row],[clean Salary (in local currency)]],(tblSalaries[[#This Row],[PPP Adjusted  USD]]/VLOOKUP(Dashboard!$J$5,Sheet3!$B$2:$C$31,2,FALSE)))","v":{"$error":"#N/A"}},"Company Systems Integration Manager","Manager","Nigeria","2 to 3 hours per day",5]
[null,"ID0958",2000000,"NAIRA",12326.656394453004,{"$f":"(tblSalaries[[#This Row],[clean Salary (in local currency)]])*(VLOOKUP(tblSalaries[[#This Row],[Currency]],Sheet3!$A$2:$C$31,3,FALSE))*(VLOOKUP(tblSalaries[[#This Row],[Currency]],Sheet1!$N$4:$Q$186,4,FALSE))","v":{"$error":"#N/A"}},{"$f":"IF(Dashboard!$J$5=VLOOKUP(tblSalaries[[#This Row],[Currency]],Sheet3!$A$2:$B$31,2,FALSE),tblSalaries[[#This Row],[clean Salary (in local currency)]],(tblSalaries[[#This Row],[PPP Adjusted  USD]]/VLOOKUP(Dashboard!$J$5,Sheet3!$B$2:$C$31,2,FALSE)))","v":{"$error":"#N/A"}},"Head Business Advisory","Manager","Nigeria","4 to 6 hours a day",5]
[null,"ID1021",92000,"SGD",72571.80269935554,{"$f":"(tblSalaries[[#This Row],[clean Salary (in local currency)]])*(VLOOKUP(tblSalaries[[#This Row],[Currency]],Sheet3!$A$2:$C$31,3,FALSE))*(VLOOKUP(tblSalaries[[#This Row],[Currency]],Sheet1!$N$4:$Q$186,4,FALSE))","v":{"$error":"#N/A"}},{"$f":"IF(Dashboard!$J$5=VLOOKUP(tblSalaries[[#This Row],[Currency]],Sheet3!$A$2:$B$31,2,FALSE),tblSalaries[[#This Row],[clean Salary (in local currency)]],(tblSalaries[[#This Row],[PPP Adjusted  USD]]/VLOOKUP(Dashboard!$J$5,Sheet3!$B$2:$C$31,2,FALSE)))","v":{"$error":"#N/A"}},"Finance Manager","Manager","Singapore","All the 8 hours baby, all the 8!",15]
[null,"ID1196",4300000,"KENYA",51497.005988023957,{"$f":"(tblSalaries[[#This Row],[clean Salary (in local currency)]])*(VLOOKUP(tblSalaries[[#This Row],[Currency]],Sheet3!$A$2:$C$31,3,FALSE))*(VLOOKUP(tblSalaries[[#This Row],[Currency]],Sheet1!$N$4:$Q$186,4,FALSE))","v":{"$error":"#N/A"}},{"$f":"IF(Dashboard!$J$5=VLOOKUP(tblSalaries[[#This Row],[Currency]],Sheet3!$A$2:$B$31,2,FALSE),tblSalaries[[#This Row],[clean Salary (in local currency)]],(tblSalaries[[#This Row],[PPP Adjusted  USD]]/VLOOKUP(Dashboard!$J$5,Sheet3!$B$2:$C$31,2,FALSE)))","v":{"$error":"#N/A"}},"Finance Manager","Manager","Kenya","4 to 6 hours a day",9]
[null,"ID1260",9600000,"MONGOLIAN",7261.724659606657,{"$f":"(tblSalaries[[#This Row],[clean Salary (in local currency)]])*(VLOOKUP(tblSalaries[[#This Row],[Currency]],Sheet3!$A$2:$C$31,3,FALSE))*(VLOOKUP(tblSalaries[[#This Row],[Currency]],Sheet1!$N$4:$Q$186,4,FALSE))","v":{"$error":"#N/A"}},{"$f":"IF(Dashboard!$J$5=VLOOKUP(tblSalaries[[#This Row],[Currency]],Sheet3!$A$2:$B$31,2,FALSE),tblSalaries[[#This Row],[clean Salary (in local currency)]],(tblSalaries[[#This Row],[PPP Adjusted  USD]]/VLOOKUP(Dashboard!$J$5,Sheet3!$B$2:$C$31,2,FALSE)))","v":{"$error":"#N/A"}},"Analyst","Analyst","Mongolia","All the 8 hours baby, all the 8!",2]
[null,"ID0477",1250000,"CAD",1229201.9037879086,{"$f":"(tblSalaries[[#This Row],[clean Salary (in local currency)]])*(VLOOKUP(tblSalaries[[#This Row],[Currency]],Sheet3!$A$2:$C$31,3,FALSE))*(VLOOKUP(tblSalaries[[#This Row],[Currency]],Sheet1!$N$4:$Q$186,4,FALSE))","v":988057.75400293083},{"$f":"IF(Dashboard!$J$5=VLOOKUP(tblSalaries[[#This Row],[Currency]],Sheet3!$A$2:$B$31,2,FALSE),tblSalaries[[#This Row],[clean Salary (in local currency)]],(tblSalaries[[#This Row],[PPP Adjusted  USD]]/VLOOKUP(Dashboard!$J$5,Sheet3!$B$2:$C$31,2,FALSE)))","v":988057.75400293083},"Account Executive","Accountant","Canada","4 to 6 hours a day","Data Not Avaliable"]
[null,"ID0655",10500000,"INR",186983.12521814698,{"$f":"(tblSalaries[[#This Row],[clean Salary (in local currency)]])*(VLOOKUP(tblSalaries[[#This Row],[Currency]],Sheet3!$A$2:$C$31,3,FALSE))*(VLOOKUP(tblSalaries[[#This Row],[Currency]],Sheet1!$N$4:$Q$186,4,FALSE))","v":497290.73466133379},{"$f":"IF(Dashboard!$J$5=VLOOKUP(tblSalaries[[#This Row],[Currency]],Sheet3!$A$2:$B$31,2,FALSE),tblSalaries[[#This Row],[clean Salary (in local currency)]],(tblSalaries[[#This Row],[PPP Adjusted  USD]]/VLOOKUP(Dashboard!$J$5,Sheet3!$B$2:$C$31,2,FALSE)))","v":497290.73466133379},"MANAGER","Manager","India","2 to 3 hours per day",10]
[null,"ID0376",9000000,"INR",160271.25018698312,{"$f":"(tblSalaries[[#This Row],[clean Salary (in local currency)]])*(VLOOKUP(tblSalaries[[#This Row],[Currency]],Sheet3!$A$2:$C$31,3,FALSE))*(VLOOKUP(tblSalaries[[#This Row],[Currency]],Sheet1!$N$4:$Q$186,4,FALSE))","v":426249.20113828609},{"$f":"IF(Dashboard!$J$5=VLOOKUP(tblSalaries[[#This Row],[Currency]],Sheet3!$A$2:$B$31,2,FALSE),tblSalaries[[#This Row],[clean Salary (in local currency)]],(tblSalaries[[#This Row],[PPP Adjusted  USD]]/VLOOKUP(Dashboard!$J$5,Sheet3!$B$2:$C$31,2,FALSE)))","v":426249.20113828609},"Financial Analyst","Analyst","India","4 to 6 hours a day","Data Not Avaliable"]
[null,"ID0211",400000,"USD",400000,{"$f":"(tblSalaries[[#This Row],[clean Salary (in local currency)]])*(VLOOKUP(tblSalaries[[#This Row],[Currency]],Sheet3!$A$2:$C$31,3,FALSE))*(VLOOKUP(tblSalaries[[#This Row],[Currency]],Sheet1!$N$4:$Q$186,4,FALSE))","v":400000},{"$f":"IF(Dashboard!$J$5=VLOOKUP(tblSalaries[[#This Row],[Currency]],Sheet3!$A$2:$B$31,2,FALSE),tblSalaries[[#This Row],[clean Salary (in local currency)]],(tblSalaries[[#This Row],[PPP Adjusted  USD]]/VLOOKUP(Dashboard!$J$5,Sheet3!$B$2:$C$31,2,FALSE)))","v":400000},"program manager","Manager","USA","1 or 2 hours a day","Data Not Avaliable"]
[null,"ID0318",400000,"USD",400000,{"$f":"(tblSalaries[[#This Row],[clean Salary (in local currency)]])*(VLOOKUP(tblSalaries[[#This Row],[Currency]],Sheet3!$A$2:$C$31,3,FALSE))*(VLOOKUP(tblSalaries[[#This Row],[Currency]],Sheet1!$N$4:$Q$186,4,FALSE))","v":400000},{"$f":"IF(Dashboard!$J$5=VLOOKUP(tblSalaries[[#This Row],[Currency]],Sheet3!$A$2:$B$31,2,FALSE),tblSalaries[[#This Row],[clean Salary (in local currency)]],(tblSalaries[[#This Row],[PPP Adjusted  USD]]/VLOOKUP(Dashboard!$J$5,Sheet3!$B$2:$C$31,2,FALSE)))","v":400000},"Financial Specialist","Specialist","USA","All the 8 hours baby, all the 8!","Data Not Avaliable"]
[null,"ID0584",300000,"USD",300000,{"$f":"(tblSalaries[[#This Row],[clean Salary (in local currency)]])*(VLOOKUP(tblSalaries[[#This Row],[Currency]],Sheet3!$A$2:$C$31,3,FALSE))*(VLOOKUP(tblSalaries[[#This Row],[Currency]],Sheet1!$N$4:$Q$186,4,FALSE))","v":300000},{"$f":"IF(Dashboard!$J$5=VLOOKUP(tblSalaries[[#This Row],[Currency]],Sheet3!$A$2:$B$31,2,FALSE),tblSalaries[[#This Row],[clean Salary (in local currency)]],(tblSalaries[[#This Row],[PPP Adjusted  USD]]/VLOOKUP(Dashboard!$J$5,Sheet3!$B$2:$C$31,2,FALSE)))","v":300000},"CEO","CXO or Top Mgmt.","USA","2 to 3 hours per day",30]
[null,"ID0493",190000,"GBP",299473.87169278396,{"$f":"(tblSalaries[[#This Row],[clean Salary (in local currency)]])*(VLOOKUP(tblSalaries[[#This Row],[Currency]],Sheet3!$A$2:$C$31,3,FALSE))*(VLOOKUP(tblSalaries[[#This Row],[Currency]],Sheet1!$N$4:$Q$186,4,FALSE))","v":280054.52894628118},{"$f":"IF(Dashboard!$J$5=VLOOKUP(tblSalaries[[#This Row],[Currency]],Sheet3!$A$2:$B$31,2,FALSE),tblSalaries[[#This Row],[clean Salary (in local currency)]],(tblSalaries[[#This Row],[PPP Adjusted  USD]]/VLOOKUP(Dashboard!$J$5,Sheet3!$B$2:$C$31,2,FALSE)))","v":280054.52894628118},"Managing Partner","CXO or Top Mgmt.","UK","4 to 6 hours a day","Data Not Avaliable"]
[null,"ID1585",5650000,"INR",100614.72928405051,{"$f":"(tblSalaries[[#This Row],[clean Salary (in local currency)]])*(VLOOKUP(tblSalaries[[#This Row],[Currency]],Sheet3!$A$2:$C$31,3,FALSE))*(VLOOKUP(tblSalaries[[#This Row],[Currency]],Sheet1!$N$4:$Q$186,4,FALSE))","v":267589.77627014625},{"$f":"IF(Dashboard!$J$5=VLOOKUP(tblSalaries[[#This Row],[Currency]],Sheet3!$A$2:$B$31,2,FALSE),tblSalaries[[#This Row],[clean Salary (in local currency)]],(tblSalaries[[#This Row],[PPP Adjusted  USD]]/VLOOKUP(Dashboard!$J$5,Sheet3!$B$2:$C$31,2,FALSE)))","v":267589.77627014625},"MIS","Reporting","India","2 to 3 hours per day",6]
[null,"ID0981",260000,"USD",260000,{"$f":"(tblSalaries[[#This Row],[clean Salary (in local currency)]])*(VLOOKUP(tblSalaries[[#This Row],[Currency]],Sheet3!$A$2:$C$31,3,FALSE))*(VLOOKUP(tblSalaries[[#This Row],[Currency]],Sheet1!$N$4:$Q$186,4,FALSE))","v":260000},{"$f":"IF(Dashboard!$J$5=VLOOKUP(tblSalaries[[#This Row],[Currency]],Sheet3!$A$2:$B$31,2,FALSE),tblSalaries[[#This Row],[clean Salary (in local currency)]],(tblSalaries[[#This Row],[PPP Adjusted  USD]]/VLOOKUP(Dashboard!$J$5,Sheet3!$B$2:$C$31,2,FALSE)))","v":260000},"CFO","CXO or Top Mgmt.","USA","2 to 3 hours per day",10]
[null,"ID0425",250000,"USD",250000,{"$f":"(tblSalaries[[#This Row],[clean Salary (in local currency)]])*(VLOOKUP(tblSalaries[[#This Row],[Currency]],Sheet3!$A$2:$C$31,3,FALSE))*(VLOOKUP(tblSalaries[[#This Row],[Currency]],Sheet1!$N$4:$Q$186,4,FALSE))","v":250000},{"$f":"IF(Dashboard!$J$5=VLOOKUP(tblSalaries[[#This Row],[Currency]],Sheet3!$A$2:$B$31,2,FALSE),tblSalaries[[#This Row],[clean Salary (in local currency)]],(tblSalaries[[#This Row],[PPP Adjusted  USD]]/VLOOKUP(Dashboard!$J$5,Sheet3!$B$2:$C$31,2,FALSE)))","v":250000},"consultant","Consultant","USA","All the 8 hours baby, all the 8!","Data Not Avaliable"]
[null,"ID1516",250000,"USD",250000,{"$f":"(tblSalaries[[#This Row],[clean Salary (in local currency)]])*(VLOOKUP(tblSalaries[[#This Row],[Currency]],Sheet3!$A$2:$C$31,3,FALSE))*(VLOOKUP(tblSalaries[[#This Row],[Currency]],Sheet1!$N$4:$Q$186,4,FALSE))","v":250000},{"$f":"IF(Dashboard!$J$5=VLOOKUP(tblSalaries[[#This Row],[Currency]],Sheet3!$A$2:$B$31,2,FALSE),tblSalaries[[#This Row],[clean Salary (in local currency)]],(tblSalaries[[#This Row],[PPP Adjusted  USD]]/VLOOKUP(Dashboard!$J$5,Sheet3!$B$2:$C$31,2,FALSE)))","v":250000},"consultant","Consultant","USA","All the 8 hours baby, all the 8!",20]
[null,"ID1656",225000,"USD",225000,{"$f":"(tblSalaries[[#This Row],[clean Salary (in local currency)]])*(VLOOKUP(tblSalaries[[#This Row],[Currency]],Sheet3!$A$2:$C$31,3,FALSE))*(VLOOKUP(tblSalaries[[#This Row],[Currency]],Sheet1!$N$4:$Q$186,4,FALSE))","v":225000},{"$f":"IF(Dashboard!$J$5=VLOOKUP(tblSalaries[[#This Row],[Currency]],Sheet3!$A$2:$B$31,2,FALSE),tblSalaries[[#This Row],[clean Salary (in local currency)]],(tblSalaries[[#This Row],[PPP Adjusted  USD]]/VLOOKUP(Dashboard!$J$5,Sheet3!$B$2:$C$31,2,FALSE)))","v":225000},"SVP of Acquisitions","CXO or Top Mgmt.","USA","4 to 6 hours a day",15]
[null,"ID0374",220700,"USD",220700,{"$f":"(tblSalaries[[#This Row],[clean Salary (in local currency)]])*(VLOOKUP(tblSalaries[[#This Row],[Currency]],Sheet3!$A$2:$C$31,3,FALSE))*(VLOOKUP(tblSalaries[[#This Row],[Currency]],Sheet1!$N$4:$Q$186,4,FALSE))","v":220700},{"$f":"IF(Dashboard!$J$5=VLOOKUP(tblSalaries[[#This Row],[Currency]],Sheet3!$A$2:$B$31,2,FALSE),tblSalaries[[#This Row],[clean Salary (in local currency)]],(tblSalaries[[#This Row],[PPP Adjusted  USD]]/VLOOKUP(Dashboard!$J$5,Sheet3!$B$2:$C$31,2,FALSE)))","v":220700},"Consultant","Consultant","Brazil","All the 8 hours baby, all the 8!","Data Not Avaliable"]
[null,"ID0309",200000,"EUR",254079.88779832155,{"$f":"(tblSalaries[[#This Row],[clean Salary (in local currency)]])*(VLOOKUP(tblSalaries[[#This Row],[Currency]],Sheet3!$A$2:$C$31,3,FALSE))*(VLOOKUP(tblSalaries[[#This Row],[Currency]],Sheet1!$N$4:$Q$186,4,FALSE))","v":220130.57719601042},{"$f":"IF(Dashboard!$J$5=VLOOKUP(tblSalaries[[#This Row],[Currency]],Sheet3!$A$2:$B$31,2,FALSE),tblSalaries[[#This Row],[clean Salary (in local currency)]],(tblSalaries[[#This Row],[PPP Adjusted  USD]]/VLOOKUP(Dashboard!$J$5,Sheet3!$B$2:$C$31,2,FALSE)))","v":220130.57719601042},"consultant bi","Reporting","Netherlands","All the 8 hours baby, all the 8!","Data Not Avaliable"]
[null,"ID1489",146633,"GBP",231119.74856804207,{"$f":"(tblSalaries[[#This Row],[clean Salary (in local currency)]])*(VLOOKUP(tblSalaries[[#This Row],[Currency]],Sheet3!$A$2:$C$31,3,FALSE))*(VLOOKUP(tblSalaries[[#This Row],[Currency]],Sheet1!$N$4:$Q$186,4,FALSE))","v":216132.81969989502},{"$f":"IF(Dashboard!$J$5=VLOOKUP(tblSalaries[[#This Row],[Currency]],Sheet3!$A$2:$B$31,2,FALSE),tblSalaries[[#This Row],[clean Salary (in local currency)]],(tblSalaries[[#This Row],[PPP Adjusted  USD]]/VLOOKUP(Dashboard!$J$5,Sheet3!$B$2:$C$31,2,FALSE)))","v":216132.81969989502},"Senior Planning Engineer","Engineer","UK","2 to 3 hours per day",10]
[null,"ID1825",214000,"USD",214000,{"$f":"(tblSalaries[[#This Row],[clean Salary (in local currency)]])*(VLOOKUP(tblSalaries[[#This Row],[Currency]],Sheet3!$A$2:$C$31,3,FALSE))*(VLOOKUP(tblSalaries[[#This Row],[Currency]],Sheet1!$N$4:$Q$186,4,FALSE))","v":214000},{"$f":"IF(Dashboard!$J$5=VLOOKUP(tblSalaries[[#This Row],[Currency]],Sheet3!$A$2:$B$31,2,FALSE),tblSalaries[[#This Row],[clean Salary (in local currency)]],(tblSalaries[[#This Row],[PPP Adjusted  USD]]/VLOOKUP(Dashboard!$J$5,Sheet3!$B$2:$C$31,2,FALSE)))","v":214000},"Assistant Corporate Controller","Controller","USA","All the 8 hours baby, all the 8!",20]
[null,"ID0641",4500000,"INR",80135.625093491559,{"$f":"(tblSalaries[[#This Row],[clean Salary (in local currency)]])*(VLOOKUP(tblSalaries[[#This Row],[Currency]],Sheet3!$A$2:$C$31,3,FALSE))*(VLOOKUP(tblSalaries[[#This Row],[Currency]],Sheet1!$N$4:$Q$186,4,FALSE))","v":213124.60056914305},{"$f":"IF(Dashboard!$J$5=VLOOKUP(tblSalaries[[#This Row],[Currency]],Sheet3!$A$2:$B$31,2,FALSE),tblSalaries[[#This Row],[clean Salary (in local currency)]],(tblSalaries[[#This Row],[PPP Adjusted  USD]]/VLOOKUP(Dashboard!$J$5,Sheet3!$B$2:$C$31,2,FALSE)))","v":213124.60056914305},"cmo","CXO or Top Mgmt.","India","1 or 2 hours a day",6]
[null,"ID0532",140000,"GBP",220664.95808941979,{"$f":"(tblSalaries[[#This Row],[clean Salary (in local currency)]])*(VLOOKUP(tblSalaries[[#This Row],[Currency]],Sheet3!$A$2:$C$31,3,FALSE))*(VLOOKUP(tblSalaries[[#This Row],[Currency]],Sheet1!$N$4:$Q$186,4,FALSE))","v":206355.96869725984},{"$f":"IF(Dashboard!$J$5=VLOOKUP(tblSalaries[[#This Row],[Currency]],Sheet3!$A$2:$B$31,2,FALSE),tblSalaries[[#This Row],[clean Salary (in local currency)]],(tblSalaries[[#This Row],[PPP Adjusted  USD]]/VLOOKUP(Dashboard!$J$5,Sheet3!$B$2:$C$31,2,FALSE)))","v":206355.96869725984},"vba specialist","Specialist","UK","All the 8 hours baby, all the 8!","Data Not Avaliable"]
[null,"ID0527",200000,"USD",200000,{"$f":"(tblSalaries[[#This Row],[clean Salary (in local currency)]])*(VLOOKUP(tblSalaries[[#This Row],[Currency]],Sheet3!$A$2:$C$31,3,FALSE))*(VLOOKUP(tblSalaries[[#This Row],[Currency]],Sheet1!$N$4:$Q$186,4,FALSE))","v":200000},{"$f":"IF(Dashboard!$J$5=VLOOKUP(tblSalaries[[#This Row],[Currency]],Sheet3!$A$2:$B$31,2,FALSE),tblSalaries[[#This Row],[clean Salary (in local currency)]],(tblSalaries[[#This Row],[PPP Adjusted  USD]]/VLOOKUP(Dashboard!$J$5,Sheet3!$B$2:$C$31,2,FALSE)))","v":200000},"COO","CXO or Top Mgmt.","USA","2 to 3 hours per day","Data Not Avaliable"]
[null,"ID1394",180000,"EUR",228671.89901848941,{"$f":"(tblSalaries[[#This Row],[clean Salary (in local currency)]])*(VLOOKUP(tblSalaries[[#This Row],[Currency]],Sheet3!$A$2:$C$31,3,FALSE))*(VLOOKUP(tblSalaries[[#This Row],[Currency]],Sheet1!$N$4:$Q$186,4,FALSE))","v":198117.51947640939},{"$f":"IF(Dashboard!$J$5=VLOOKUP(tblSalaries[[#This Row],[Currency]],Sheet3!$A$2:$B$31,2,FALSE),tblSalaries[[#This Row],[clean Salary (in local currency)]],(tblSalaries[[#This Row],[PPP Adjusted  USD]]/VLOOKUP(Dashboard!$J$5,Sheet3!$B$2:$C$31,2,FALSE)))","v":198117.51947640939},"MIS Controller","Controller","Europe","4 to 6 hours a day",15]
[null,"ID0620",250000,"CAD",245840.3807575817,{"$f":"(tblSalaries[[#This Row],[clean Salary (in local currency)]])*(VLOOKUP(tblSalaries[[#This Row],[Currency]],Sheet3!$A$2:$C$31,3,FALSE))*(VLOOKUP(tblSalaries[[#This Row],[Currency]],Sheet1!$N$4:$Q$186,4,FALSE))","v":197611.55080058615},{"$f":"IF(Dashboard!$J$5=VLOOKUP(tblSalaries[[#This Row],[Currency]],Sheet3!$A$2:$B$31,2,FALSE),tblSalaries[[#This Row],[clean Salary (in local currency)]],(tblSalaries[[#This Row],[PPP Adjusted  USD]]/VLOOKUP(Dashboard!$J$5,Sheet3!$B$2:$C$31,2,FALSE)))","v":197611.55080058615},"Business Analyst","Analyst","Canada","4 to 6 hours a day",32]
[null,"ID0375",194000,"USD",194000,{"$f":"(tblSalaries[[#This Row],[clean Salary (in local currency)]])*(VLOOKUP(tblSalaries[[#This Row],[Currency]],Sheet3!$A$2:$C$31,3,FALSE))*(VLOOKUP(tblSalaries[[#This Row],[Currency]],Sheet1!$N$4:$Q$186,4,FALSE))","v":194000},{"$f":"IF(Dashboard!$J$5=VLOOKUP(tblSalaries[[#This Row],[Currency]],Sheet3!$A$2:$B$31,2,FALSE),tblSalaries[[#This Row],[clean Salary (in local currency)]],(tblSalaries[[#This Row],[PPP Adjusted  USD]]/VLOOKUP(Dashboard!$J$5,Sheet3!$B$2:$C$31,2,FALSE)))","v":194000},"director","CXO or Top Mgmt.","USA","2 to 3 hours per day","Data Not Avaliable"]
[null,"ID1286",192000,"USD",192000,{"$f":"(tblSalaries[[#This Row],[clean Salary (in local currency)]])*(VLOOKUP(tblSalaries[[#This Row],[Currency]],Sheet3!$A$2:$C$31,3,FALSE))*(VLOOKUP(tblSalaries[[#This Row],[Currency]],Sheet1!$N$4:$Q$186,4,FALSE))","v":192000},{"$f":"IF(Dashboard!$J$5=VLOOKUP(tblSalaries[[#This Row],[Currency]],Sheet3!$A$2:$B$31,2,FALSE),tblSalaries[[#This Row],[clean Salary (in local currency)]],(tblSalaries[[#This Row],[PPP Adjusted  USD]]/VLOOKUP(Dashboard!$J$5,Sheet3!$B$2:$C$31,2,FALSE)))","v":192000},"Publisher","CXO or Top Mgmt.","USA","All the 8 hours baby, all the 8!",27]
[null,"ID0441",4000000,"INR",71231.666749770273,{"$f":"(tblSalaries[[#This Row],[clean Salary (in local currency)]])*(VLOOKUP(tblSalaries[[#This Row],[Currency]],Sheet3!$A$2:$C$31,3,FALSE))*(VLOOKUP(tblSalaries[[#This Row],[Currency]],Sheet1!$N$4:$Q$186,4,FALSE))","v":189444.08939479382},{"$f":"IF(Dashboard!$J$5=VLOOKUP(tblSalaries[[#This Row],[Currency]],Sheet3!$A$2:$B$31,2,FALSE),tblSalaries[[#This Row],[clean Salary (in local currency)]],(tblSalaries[[#This Row],[PPP Adjusted  USD]]/VLOOKUP(Dashboard!$J$5,Sheet3!$B$2:$C$31,2,FALSE)))","v":189444.08939479382},"Sr Mgr Finance","Accountant","India","All the 8 hours baby, all the 8!","Data Not Avaliable"]
[null,"ID0640",4000000,"INR",71231.666749770273,{"$f":"(tblSalaries[[#This Row],[clean Salary (in local currency)]])*(VLOOKUP(tblSalaries[[#This Row],[Currency]],Sheet3!$A$2:$C$31,3,FALSE))*(VLOOKUP(tblSalaries[[#This Row],[Currency]],Sheet1!$N$4:$Q$186,4,FALSE))","v":189444.08939479382},{"$f":"IF(Dashboard!$J$5=VLOOKUP(tblSalaries[[#This Row],[Currency]],Sheet3!$A$2:$B$31,2,FALSE),tblSalaries[[#This Row],[clean Salary (in local currency)]],(tblSalaries[[#This Row],[PPP Adjusted  USD]]/VLOOKUP(Dashboard!$J$5,Sheet3!$B$2:$C$31,2,FALSE)))","v":189444.08939479382},"Senior Executive","Manager","India","4 to 6 hours a day",1.5]
[null,"ID1509",4000000,"INR",71231.666749770273,{"$f":"(tblSalaries[[#This Row],[clean Salary (in local currency)]])*(VLOOKUP(tblSalaries[[#This Row],[Currency]],Sheet3!$A$2:$C$31,3,FALSE))*(VLOOKUP(tblSalaries[[#This Row],[Currency]],Sheet1!$N$4:$Q$186,4,FALSE))","v":189444.08939479382},{"$f":"IF(Dashboard!$J$5=VLOOKUP(tblSalaries[[#This Row],[Currency]],Sheet3!$A$2:$B$31,2,FALSE),tblSalaries[[#This Row],[clean Salary (in local currency)]],(tblSalaries[[#This Row],[PPP Adjusted  USD]]/VLOOKUP(Dashboard!$J$5,Sheet3!$B$2:$C$31,2,FALSE)))","v":189444.08939479382},"Operational Specialist","Specialist","India","All the 8 hours baby, all the 8!",5]
[null,"ID0563",188000,"USD",188000,{"$f":"(tblSalaries[[#This Row],[clean Salary (in local currency)]])*(VLOOKUP(tblSalaries[[#This Row],[Currency]],Sheet3!$A$2:$C$31,3,FALSE))*(VLOOKUP(tblSalaries[[#This Row],[Currency]],Sheet1!$N$4:$Q$186,4,FALSE))","v":188000},{"$f":"IF(Dashboard!$J$5=VLOOKUP(tblSalaries[[#This Row],[Currency]],Sheet3!$A$2:$B$31,2,FALSE),tblSalaries[[#This Row],[clean Salary (in local currency)]],(tblSalaries[[#This Row],[PPP Adjusted  USD]]/VLOOKUP(Dashboard!$J$5,Sheet3!$B$2:$C$31,2,FALSE)))","v":188000},"Director, Supply Chain Operations","CXO or Top Mgmt.","USA","1 or 2 hours a day",20]
[null,"ID0485",1080000,"ZAR",131675.52225194403,{"$f":"(tblSalaries[[#This Row],[clean Salary (in local currency)]])*(VLOOKUP(tblSalaries[[#This Row],[Currency]],Sheet3!$A$2:$C$31,3,FALSE))*(VLOOKUP(tblSalaries[[#This Row],[Currency]],Sheet1!$N$4:$Q$186,4,FALSE))","v":179128.19579245601},{"$f":"IF(Dashboard!$J$5=VLOOKUP(tblSalaries[[#This Row],[Currency]],Sheet3!$A$2:$B$31,2,FALSE),tblSalaries[[#This Row],[clean Salary (in local currency)]],(tblSalaries[[#This Row],[PPP Adjusted  USD]]/VLOOKUP(Dashboard!$J$5,Sheet3!$B$2:$C$31,2,FALSE)))","v":179128.19579245601},"Finance manager","Manager","South Africa","2 to 3 hours per day","Data Not Avaliable"]
[null,"ID1596",177600,"USD",177600,{"$f":"(tblSalaries[[#This Row],[clean Salary (in local currency)]])*(VLOOKUP(tblSalaries[[#This Row],[Currency]],Sheet3!$A$2:$C$31,3,FALSE))*(VLOOKUP(tblSalaries[[#This Row],[Currency]],Sheet1!$N$4:$Q$186,4,FALSE))","v":177600},{"$f":"IF(Dashboard!$J$5=VLOOKUP(tblSalaries[[#This Row],[Currency]],Sheet3!$A$2:$B$31,2,FALSE),tblSalaries[[#This Row],[clean Salary (in local currency)]],(tblSalaries[[#This Row],[PPP Adjusted  USD]]/VLOOKUP(Dashboard!$J$5,Sheet3!$B$2:$C$31,2,FALSE)))","v":177600},"Accountant","Accountant","Lesotho","4 to 6 hours a day",6]
[null,"ID1636",3700000,"INR",65889.291743537498,{"$f":"(tblSalaries[[#This Row],[clean Salary (in local currency)]])*(VLOOKUP(tblSalaries[[#This Row],[Currency]],Sheet3!$A$2:$C$31,3,FALSE))*(VLOOKUP(tblSalaries[[#This Row],[Currency]],Sheet1!$N$4:$Q$186,4,FALSE))","v":175235.78269018428},{"$f":"IF(Dashboard!$J$5=VLOOKUP(tblSalaries[[#This Row],[Currency]],Sheet3!$A$2:$B$31,2,FALSE),tblSalaries[[#This Row],[clean Salary (in local currency)]],(tblSalaries[[#This Row],[PPP Adjusted  USD]]/VLOOKUP(Dashboard!$J$5,Sheet3!$B$2:$C$31,2,FALSE)))","v":175235.78269018428},"Senior Officer","Manager","India","All the 8 hours baby, all the 8!",4]
[null,"ID0358",170000,"USD",170000,{"$f":"(tblSalaries[[#This Row],[clean Salary (in local currency)]])*(VLOOKUP(tblSalaries[[#This Row],[Currency]],Sheet3!$A$2:$C$31,3,FALSE))*(VLOOKUP(tblSalaries[[#This Row],[Currency]],Sheet1!$N$4:$Q$186,4,FALSE))","v":170000},{"$f":"IF(Dashboard!$J$5=VLOOKUP(tblSalaries[[#This Row],[Currency]],Sheet3!$A$2:$B$31,2,FALSE),tblSalaries[[#This Row],[clean Salary (in local currency)]],(tblSalaries[[#This Row],[PPP Adjusted  USD]]/VLOOKUP(Dashboard!$J$5,Sheet3!$B$2:$C$31,2,FALSE)))","v":170000},"RS","Analyst","UK","Excel ?!? What Excel?","Data Not Avaliable"]
[null,"ID1523",170000,"USD",170000,{"$f":"(tblSalaries[[#This Row],[clean Salary (in local currency)]])*(VLOOKUP(tblSalaries[[#This Row],[Currency]],Sheet3!$A$2:$C$31,3,FALSE))*(VLOOKUP(tblSalaries[[#This Row],[Currency]],Sheet1!$N$4:$Q$186,4,FALSE))","v":170000},{"$f":"IF(Dashboard!$J$5=VLOOKUP(tblSalaries[[#This Row],[Currency]],Sheet3!$A$2:$B$31,2,FALSE),tblSalaries[[#This Row],[clean Salary (in local currency)]],(tblSalaries[[#This Row],[PPP Adjusted  USD]]/VLOOKUP(Dashboard!$J$5,Sheet3!$B$2:$C$31,2,FALSE)))","v":170000},"CFO","CXO or Top Mgmt.","USA","2 to 3 hours per day",18]
[null,"ID0482",169000,"USD",169000,{"$f":"(tblSalaries[[#This Row],[clean Salary (in local currency)]])*(VLOOKUP(tblSalaries[[#This Row],[Currency]],Sheet3!$A$2:$C$31,3,FALSE))*(VLOOKUP(tblSalaries[[#This Row],[Currency]],Sheet1!$N$4:$Q$186,4,FALSE))","v":169000},{"$f":"IF(Dashboard!$J$5=VLOOKUP(tblSalaries[[#This Row],[Currency]],Sheet3!$A$2:$B$31,2,FALSE),tblSalaries[[#This Row],[clean Salary (in local currency)]],(tblSalaries[[#This Row],[PPP Adjusted  USD]]/VLOOKUP(Dashboard!$J$5,Sheet3!$B$2:$C$31,2,FALSE)))","v":169000},"Category Director (Marketing)","CXO or Top Mgmt.","USA","2 to 3 hours per day","Data Not Avaliable"]
[null,"ID0608",160000,"USD",160000,{"$f":"(tblSalaries[[#This Row],[clean Salary (in local currency)]])*(VLOOKUP(tblSalaries[[#This Row],[Currency]],Sheet3!$A$2:$C$31,3,FALSE))*(VLOOKUP(tblSalaries[[#This Row],[Currency]],Sheet1!$N$4:$Q$186,4,FALSE))","v":160000},{"$f":"IF(Dashboard!$J$5=VLOOKUP(tblSalaries[[#This Row],[Currency]],Sheet3!$A$2:$B$31,2,FALSE),tblSalaries[[#This Row],[clean Salary (in local currency)]],(tblSalaries[[#This Row],[PPP Adjusted  USD]]/VLOOKUP(Dashboard!$J$5,Sheet3!$B$2:$C$31,2,FALSE)))","v":160000},"Director, Analytics","Analyst","USA","4 to 6 hours a day",5]
[null,"ID0007",145000,"EUR",184207.91865378313,{"$f":"(tblSalaries[[#This Row],[clean Salary (in local currency)]])*(VLOOKUP(tblSalaries[[#This Row],[Currency]],Sheet3!$A$2:$C$31,3,FALSE))*(VLOOKUP(tblSalaries[[#This Row],[Currency]],Sheet1!$N$4:$Q$186,4,FALSE))","v":159594.66846710755},{"$f":"IF(Dashboard!$J$5=VLOOKUP(tblSalaries[[#This Row],[Currency]],Sheet3!$A$2:$B$31,2,FALSE),tblSalaries[[#This Row],[clean Salary (in local currency)]],(tblSalaries[[#This Row],[PPP Adjusted  USD]]/VLOOKUP(Dashboard!$J$5,Sheet3!$B$2:$C$31,2,FALSE)))","v":159594.66846710755},"senior project manager","Manager","Germany","1 or 2 hours a day","Data Not Avaliable"]
[null,"ID1655",155000,"USD",155000,{"$f":"(tblSalaries[[#This Row],[clean Salary (in local currency)]])*(VLOOKUP(tblSalaries[[#This Row],[Currency]],Sheet3!$A$2:$C$31,3,FALSE))*(VLOOKUP(tblSalaries[[#This Row],[Currency]],Sheet1!$N$4:$Q$186,4,FALSE))","v":155000},{"$f":"IF(Dashboard!$J$5=VLOOKUP(tblSalaries[[#This Row],[Currency]],Sheet3!$A$2:$B$31,2,FALSE),tblSalaries[[#This Row],[clean Salary (in local currency)]],(tblSalaries[[#This Row],[PPP Adjusted  USD]]/VLOOKUP(Dashboard!$J$5,Sheet3!$B$2:$C$31,2,FALSE)))","v":155000},"Consulting Practice Manager","Manager","USA","1 or 2 hours a day",14]
[null,"ID1436",3250000,"INR",57875.729234188344,{"$f":"(tblSalaries[[#This Row],[clean Salary (in local currency)]])*(VLOOKUP(tblSalaries[[#This Row],[Currency]],Sheet3!$A$2:$C$31,3,FALSE))*(VLOOKUP(tblSalaries[[#This Row],[Currency]],Sheet1!$N$4:$Q$186,4,FALSE))","v":153923.32263326997},{"$f":"IF(Dashboard!$J$5=VLOOKUP(tblSalaries[[#This Row],[Currency]],Sheet3!$A$2:$B$31,2,FALSE),tblSalaries[[#This Row],[clean Salary (in local currency)]],(tblSalaries[[#This Row],[PPP Adjusted  USD]]/VLOOKUP(Dashboard!$J$5,Sheet3!$B$2:$C$31,2,FALSE)))","v":153923.32263326997},"ISO TS Documentation","Analyst","India","4 to 6 hours a day",5.5]
[null,"ID1320",139000,"EUR",176585.52201983347,{"$f":"(tblSalaries[[#This Row],[clean Salary (in local currency)]])*(VLOOKUP(tblSalaries[[#This Row],[Currency]],Sheet3!$A$2:$C$31,3,FALSE))*(VLOOKUP(tblSalaries[[#This Row],[Currency]],Sheet1!$N$4:$Q$186,4,FALSE))","v":152990.75115122725},{"$f":"IF(Dashboard!$J$5=VLOOKUP(tblSalaries[[#This Row],[Currency]],Sheet3!$A$2:$B$31,2,FALSE),tblSalaries[[#This Row],[clean Salary (in local currency)]],(tblSalaries[[#This Row],[PPP Adjusted  USD]]/VLOOKUP(Dashboard!$J$5,Sheet3!$B$2:$C$31,2,FALSE)))","v":152990.75115122725},"NAF Support Manager","Manager","Germany","1 or 2 hours a day",25]
[null,"ID0037",150000,"USD",150000,{"$f":"(tblSalaries[[#This Row],[clean Salary (in local currency)]])*(VLOOKUP(tblSalaries[[#This Row],[Currency]],Sheet3!$A$2:$C$31,3,FALSE))*(VLOOKUP(tblSalaries[[#This Row],[Currency]],Sheet1!$N$4:$Q$186,4,FALSE))","v":150000},{"$f":"IF(Dashboard!$J$5=VLOOKUP(tblSalaries[[#This Row],[Currency]],Sheet3!$A$2:$B$31,2,FALSE),tblSalaries[[#This Row],[clean Salary (in local currency)]],(tblSalaries[[#This Row],[PPP Adjusted  USD]]/VLOOKUP(Dashboard!$J$5,Sheet3!$B$2:$C$31,2,FALSE)))","v":150000},"Portfolio Manager","Manager","USA","2 to 3 hours per day","Data Not Avaliable"]
[null,"ID0083",150000,"USD",150000,{"$f":"(tblSalaries[[#This Row],[clean Salary (in local currency)]])*(VLOOKUP(tblSalaries[[#This Row],[Currency]],Sheet3!$A$2:$C$31,3,FALSE))*(VLOOKUP(tblSalaries[[#This Row],[Currency]],Sheet1!$N$4:$Q$186,4,FALSE))","v":150000},{"$f":"IF(Dashboard!$J$5=VLOOKUP(tblSalaries[[#This Row],[Currency]],Sheet3!$A$2:$B$31,2,FALSE),tblSalaries[[#This Row],[clean Salary (in local currency)]],(tblSalaries[[#This Row],[PPP Adjusted  USD]]/VLOOKUP(Dashboard!$J$5,Sheet3!$B$2:$C$31,2,FALSE)))","v":150000},"Director","CXO or Top Mgmt.","USA","All the 8 hours baby, all the 8!","Data Not Avaliable"]
[null,"ID0335",150000,"USD",150000,{"$f":"(tblSalaries[[#This Row],[clean Salary (in local currency)]])*(VLOOKUP(tblSalaries[[#This Row],[Currency]],Sheet3!$A$2:$C$31,3,FALSE))*(VLOOKUP(tblSalaries[[#This Row],[Currency]],Sheet1!$N$4:$Q$186,4,FALSE))","v":150000},{"$f":"IF(Dashboard!$J$5=VLOOKUP(tblSalaries[[#This Row],[Currency]],Sheet3!$A$2:$B$31,2,FALSE),tblSalaries[[#This Row],[clean Salary (in local currency)]],(tblSalaries[[#This Row],[PPP Adjusted  USD]]/VLOOKUP(Dashboard!$J$5,Sheet3!$B$2:$C$31,2,FALSE)))","v":150000},"financial planning","Accountant","USA","All the 8 hours baby, all the 8!","Data Not Avaliable"]
[null,"ID0337",150000,"USD",150000,{"$f":"(tblSalaries[[#This Row],[clean Salary (in local currency)]])*(VLOOKUP(tblSalaries[[#This Row],[Currency]],Sheet3!$A$2:$C$31,3,FALSE))*(VLOOKUP(tblSalaries[[#This Row],[Currency]],Sheet1!$N$4:$Q$186,4,FALSE))","v":150000},{"$f":"IF(Dashboard!$J$5=VLOOKUP(tblSalaries[[#This Row],[Currency]],Sheet3!$A$2:$B$31,2,FALSE),tblSalaries[[#This Row],[clean Salary (in local currency)]],(tblSalaries[[#This Row],[PPP Adjusted  USD]]/VLOOKUP(Dashboard!$J$5,Sheet3!$B$2:$C$31,2,FALSE)))","v":150000},"project manager, project finance consultant","Manager","Israel","4 to 6 hours a day","Data Not Avaliable"]
[null,"ID0470",150000,"USD",150000,{"$f":"(tblSalaries[[#This Row],[clean Salary (in local currency)]])*(VLOOKUP(tblSalaries[[#This Row],[Currency]],Sheet3!$A$2:$C$31,3,FALSE))*(VLOOKUP(tblSalaries[[#This Row],[Currency]],Sheet1!$N$4:$Q$186,4,FALSE))","v":150000},{"$f":"IF(Dashboard!$J$5=VLOOKUP(tblSalaries[[#This Row],[Currency]],Sheet3!$A$2:$B$31,2,FALSE),tblSalaries[[#This Row],[clean Salary (in local currency)]],(tblSalaries[[#This Row],[PPP Adjusted  USD]]/VLOOKUP(Dashboard!$J$5,Sheet3!$B$2:$C$31,2,FALSE)))","v":150000},"CFO","CXO or Top Mgmt.","USA","2 to 3 hours per day","Data Not Avaliable"]
[null,"ID0516",150000,"USD",150000,{"$f":"(tblSalaries[[#This Row],[clean Salary (in local currency)]])*(VLOOKUP(tblSalaries[[#This Row],[Currency]],Sheet3!$A$2:$C$31,3,FALSE))*(VLOOKUP(tblSalaries[[#This Row],[Currency]],Sheet1!$N$4:$Q$186,4,FALSE))","v":150000},{"$f":"IF(Dashboard!$J$5=VLOOKUP(tblSalaries[[#This Row],[Currency]],Sheet3!$A$2:$B$31,2,FALSE),tblSalaries[[#This Row],[clean Salary (in local currency)]],(tblSalaries[[#This Row],[PPP Adjusted  USD]]/VLOOKUP(Dashboard!$J$5,Sheet3!$B$2:$C$31,2,FALSE)))","v":150000},"Consultant","Consultant","USA","All the 8 hours baby, all the 8!","Data Not Avaliable"]
[null,"ID0580",150000,"USD",150000,{"$f":"(tblSalaries[[#This Row],[clean Salary (in local currency)]])*(VLOOKUP(tblSalaries[[#This Row],[Currency]],Sheet3!$A$2:$C$31,3,FALSE))*(VLOOKUP(tblSalaries[[#This Row],[Currency]],Sheet1!$N$4:$Q$186,4,FALSE))","v":150000},{"$f":"IF(Dashboard!$J$5=VLOOKUP(tblSalaries[[#This Row],[Currency]],Sheet3!$A$2:$B$31,2,FALSE),tblSalaries[[#This Row],[clean Salary (in local currency)]],(tblSalaries[[#This Row],[PPP Adjusted  USD]]/VLOOKUP(Dashboard!$J$5,Sheet3!$B$2:$C$31,2,FALSE)))","v":150000},"CFO","CXO or Top Mgmt.","USA","4 to 6 hours a day",22]
[null,"ID0927",150000,"USD",150000,{"$f":"(tblSalaries[[#This Row],[clean Salary (in local currency)]])*(VLOOKUP(tblSalaries[[#This Row],[Currency]],Sheet3!$A$2:$C$31,3,FALSE))*(VLOOKUP(tblSalaries[[#This Row],[Currency]],Sheet1!$N$4:$Q$186,4,FALSE))","v":150000},{"$f":"IF(Dashboard!$J$5=VLOOKUP(tblSalaries[[#This Row],[Currency]],Sheet3!$A$2:$B$31,2,FALSE),tblSalaries[[#This Row],[clean Salary (in local currency)]],(tblSalaries[[#This Row],[PPP Adjusted  USD]]/VLOOKUP(Dashboard!$J$5,Sheet3!$B$2:$C$31,2,FALSE)))","v":150000},"Controller","Controller","USA","4 to 6 hours a day",25]
[null,"ID0963",150000,"USD",150000,{"$f":"(tblSalaries[[#This Row],[clean Salary (in local currency)]])*(VLOOKUP(tblSalaries[[#This Row],[Currency]],Sheet3!$A$2:$C$31,3,FALSE))*(VLOOKUP(tblSalaries[[#This Row],[Currency]],Sheet1!$N$4:$Q$186,4,FALSE))","v":150000},{"$f":"IF(Dashboard!$J$5=VLOOKUP(tblSalaries[[#This Row],[Currency]],Sheet3!$A$2:$B$31,2,FALSE),tblSalaries[[#This Row],[clean Salary (in local currency)]],(tblSalaries[[#This Row],[PPP Adjusted  USD]]/VLOOKUP(Dashboard!$J$5,Sheet3!$B$2:$C$31,2,FALSE)))","v":150000},"Software Tester","Analyst","Switzerland","1 or 2 hours a day",20]
[null,"ID1393",150000,"USD",150000,{"$f":"(tblSalaries[[#This Row],[clean Salary (in local currency)]])*(VLOOKUP(tblSalaries[[#This Row],[Currency]],Sheet3!$A$2:$C$31,3,FALSE))*(VLOOKUP(tblSalaries[[#This Row],[Currency]],Sheet1!$N$4:$Q$186,4,FALSE))","v":150000},{"$f":"IF(Dashboard!$J$5=VLOOKUP(tblSalaries[[#This Row],[Currency]],Sheet3!$A$2:$B$31,2,FALSE),tblSalaries[[#This Row],[clean Salary (in local currency)]],(tblSalaries[[#This Row],[PPP Adjusted  USD]]/VLOOKUP(Dashboard!$J$5,Sheet3!$B$2:$C$31,2,FALSE)))","v":150000},"VP, Business Management","Manager","USA","2 to 3 hours per day",30]
[null,"ID1412",150000,"USD",150000,{"$f":"(tblSalaries[[#This Row],[clean Salary (in local currency)]])*(VLOOKUP(tblSalaries[[#This Row],[Currency]],Sheet3!$A$2:$C$31,3,FALSE))*(VLOOKUP(tblSalaries[[#This Row],[Currency]],Sheet1!$N$4:$Q$186,4,FALSE))","v":150000},{"$f":"IF(Dashboard!$J$5=VLOOKUP(tblSalaries[[#This Row],[Currency]],Sheet3!$A$2:$B$31,2,FALSE),tblSalaries[[#This Row],[clean Salary (in local currency)]],(tblSalaries[[#This Row],[PPP Adjusted  USD]]/VLOOKUP(Dashboard!$J$5,Sheet3!$B$2:$C$31,2,FALSE)))","v":150000},"Senior Analyst","Analyst","USA","2 to 3 hours per day",30]
[null,"ID0804",900000,"ZAR",109729.60187662003,{"$f":"(tblSalaries[[#This Row],[clean Salary (in local currency)]])*(VLOOKUP(tblSalaries[[#This Row],[Currency]],Sheet3!$A$2:$C$31,3,FALSE))*(VLOOKUP(tblSalaries[[#This Row],[Currency]],Sheet1!$N$4:$Q$186,4,FALSE))","v":149273.49649371335},{"$f":"IF(Dashboard!$J$5=VLOOKUP(tblSalaries[[#This Row],[Currency]],Sheet3!$A$2:$B$31,2,FALSE),tblSalaries[[#This Row],[clean Salary (in local currency)]],(tblSalaries[[#This Row],[PPP Adjusted  USD]]/VLOOKUP(Dashboard!$J$5,Sheet3!$B$2:$C$31,2,FALSE)))","v":149273.49649371335},"Business Analyst","Analyst","South Africa","All the 8 hours baby, all the 8!",40]
[null,"ID0078",100000,"GBP",157617.8272067284,{"$f":"(tblSalaries[[#This Row],[clean Salary (in local currency)]])*(VLOOKUP(tblSalaries[[#This Row],[Currency]],Sheet3!$A$2:$C$31,3,FALSE))*(VLOOKUP(tblSalaries[[#This Row],[Currency]],Sheet1!$N$4:$Q$186,4,FALSE))","v":147397.12049804273},{"$f":"IF(Dashboard!$J$5=VLOOKUP(tblSalaries[[#This Row],[Currency]],Sheet3!$A$2:$B$31,2,FALSE),tblSalaries[[#This Row],[clean Salary (in local currency)]],(tblSalaries[[#This Row],[PPP Adjusted  USD]]/VLOOKUP(Dashboard!$J$5,Sheet3!$B$2:$C$31,2,FALSE)))","v":147397.12049804273},"Analyst","Analyst","UK","2 to 3 hours per day","Data Not Avaliable"]
[null,"ID0844",100000,"GBP",157617.8272067284,{"$f":"(tblSalaries[[#This Row],[clean Salary (in local currency)]])*(VLOOKUP(tblSalaries[[#This Row],[Currency]],Sheet3!$A$2:$C$31,3,FALSE))*(VLOOKUP(tblSalaries[[#This Row],[Currency]],Sheet1!$N$4:$Q$186,4,FALSE))","v":147397.12049804273},{"$f":"IF(Dashboard!$J$5=VLOOKUP(tblSalaries[[#This Row],[Currency]],Sheet3!$A$2:$B$31,2,FALSE),tblSalaries[[#This Row],[clean Salary (in local currency)]],(tblSalaries[[#This Row],[PPP Adjusted  USD]]/VLOOKUP(Dashboard!$J$5,Sheet3!$B$2:$C$31,2,FALSE)))","v":147397.12049804273},"Financial Controller","Controller","UK","2 to 3 hours per day",20]
[null,"ID0167",145000,"USD",145000,{"$f":"(tblSalaries[[#This Row],[clean Salary (in local currency)]])*(VLOOKUP(tblSalaries[[#This Row],[Currency]],Sheet3!$A$2:$C$31,3,FALSE))*(VLOOKUP(tblSalaries[[#This Row],[Currency]],Sheet1!$N$4:$Q$186,4,FALSE))","v":145000},{"$f":"IF(Dashboard!$J$5=VLOOKUP(tblSalaries[[#This Row],[Currency]],Sheet3!$A$2:$B$31,2,FALSE),tblSalaries[[#This Row],[clean Salary (in local currency)]],(tblSalaries[[#This Row],[PPP Adjusted  USD]]/VLOOKUP(Dashboard!$J$5,Sheet3!$B$2:$C$31,2,FALSE)))","v":145000},"Financialcontroller","Controller","Switzerland","All the 8 hours baby, all the 8!","Data Not Avaliable"]
[null,"ID1528",145000,"USD",145000,{"$f":"(tblSalaries[[#This Row],[clean Salary (in local currency)]])*(VLOOKUP(tblSalaries[[#This Row],[Currency]],Sheet3!$A$2:$C$31,3,FALSE))*(VLOOKUP(tblSalaries[[#This Row],[Currency]],Sheet1!$N$4:$Q$186,4,FALSE))","v":145000},{"$f":"IF(Dashboard!$J$5=VLOOKUP(tblSalaries[[#This Row],[Currency]],Sheet3!$A$2:$B$31,2,FALSE),tblSalaries[[#This Row],[clean Salary (in local currency)]],(tblSalaries[[#This Row],[PPP Adjusted  USD]]/VLOOKUP(Dashboard!$J$5,Sheet3!$B$2:$C$31,2,FALSE)))","v":145000},"Associate","Analyst","USA","4 to 6 hours a day",6]
[null,"ID0445",3000000,"INR",53423.750062327701,{"$f":"(tblSalaries[[#This Row],[clean Salary (in local currency)]])*(VLOOKUP(tblSalaries[[#This Row],[Currency]],Sheet3!$A$2:$C$31,3,FALSE))*(VLOOKUP(tblSalaries[[#This Row],[Currency]],Sheet1!$N$4:$Q$186,4,FALSE))","v":142083.06704609536},{"$f":"IF(Dashboard!$J$5=VLOOKUP(tblSalaries[[#This Row],[Currency]],Sheet3!$A$2:$B$31,2,FALSE),tblSalaries[[#This Row],[clean Salary (in local currency)]],(tblSalaries[[#This Row],[PPP Adjusted  USD]]/VLOOKUP(Dashboard!$J$5,Sheet3!$B$2:$C$31,2,FALSE)))","v":142083.06704609536},"Management Consultant","Manager","India","4 to 6 hours a day","Data Not Avaliable"]
[null,"ID0248",140000,"USD",140000,{"$f":"(tblSalaries[[#This Row],[clean Salary (in local currency)]])*(VLOOKUP(tblSalaries[[#This Row],[Currency]],Sheet3!$A$2:$C$31,3,FALSE))*(VLOOKUP(tblSalaries[[#This Row],[Currency]],Sheet1!$N$4:$Q$186,4,FALSE))","v":140000},{"$f":"IF(Dashboard!$J$5=VLOOKUP(tblSalaries[[#This Row],[Currency]],Sheet3!$A$2:$B$31,2,FALSE),tblSalaries[[#This Row],[clean Salary (in local currency)]],(tblSalaries[[#This Row],[PPP Adjusted  USD]]/VLOOKUP(Dashboard!$J$5,Sheet3!$B$2:$C$31,2,FALSE)))","v":140000},"Manager","Manager","USA","4 to 6 hours a day","Data Not Avaliable"]
[null,"ID0565",140000,"USD",140000,{"$f":"(tblSalaries[[#This Row],[clean Salary (in local currency)]])*(VLOOKUP(tblSalaries[[#This Row],[Currency]],Sheet3!$A$2:$C$31,3,FALSE))*(VLOOKUP(tblSalaries[[#This Row],[Currency]],Sheet1!$N$4:$Q$186,4,FALSE))","v":140000},{"$f":"IF(Dashboard!$J$5=VLOOKUP(tblSalaries[[#This Row],[Currency]],Sheet3!$A$2:$B$31,2,FALSE),tblSalaries[[#This Row],[clean Salary (in local currency)]],(tblSalaries[[#This Row],[PPP Adjusted  USD]]/VLOOKUP(Dashboard!$J$5,Sheet3!$B$2:$C$31,2,FALSE)))","v":140000},"controller","Controller","USA","2 to 3 hours per day",10]
[null,"ID1296",140000,"USD",140000,{"$f":"(tblSalaries[[#This Row],[clean Salary (in local currency)]])*(VLOOKUP(tblSalaries[[#This Row],[Currency]],Sheet3!$A$2:$C$31,3,FALSE))*(VLOOKUP(tblSalaries[[#This Row],[Currency]],Sheet1!$N$4:$Q$186,4,FALSE))","v":140000},{"$f":"IF(Dashboard!$J$5=VLOOKUP(tblSalaries[[#This Row],[Currency]],Sheet3!$A$2:$B$31,2,FALSE),tblSalaries[[#This Row],[clean Salary (in local currency)]],(tblSalaries[[#This Row],[PPP Adjusted  USD]]/VLOOKUP(Dashboard!$J$5,Sheet3!$B$2:$C$31,2,FALSE)))","v":140000},"Senior Accountant","Accountant","USA","4 to 6 hours a day",12]
[null,"ID1626",140000,"USD",140000,{"$f":"(tblSalaries[[#This Row],[clean Salary (in local currency)]])*(VLOOKUP(tblSalaries[[#This Row],[Currency]],Sheet3!$A$2:$C$31,3,FALSE))*(VLOOKUP(tblSalaries[[#This Row],[Currency]],Sheet1!$N$4:$Q$186,4,FALSE))","v":140000},{"$f":"IF(Dashboard!$J$5=VLOOKUP(tblSalaries[[#This Row],[Currency]],Sheet3!$A$2:$B$31,2,FALSE),tblSalaries[[#This Row],[clean Salary (in local currency)]],(tblSalaries[[#This Row],[PPP Adjusted  USD]]/VLOOKUP(Dashboard!$J$5,Sheet3!$B$2:$C$31,2,FALSE)))","v":140000},"sr manager","Manager","USA","4 to 6 hours a day",12]
[null,"ID0224",138000,"USD",138000,{"$f":"(tblSalaries[[#This Row],[clean Salary (in local currency)]])*(VLOOKUP(tblSalaries[[#This Row],[Currency]],Sheet3!$A$2:$C$31,3,FALSE))*(VLOOKUP(tblSalaries[[#This Row],[Currency]],Sheet1!$N$4:$Q$186,4,FALSE))","v":138000},{"$f":"IF(Dashboard!$J$5=VLOOKUP(tblSalaries[[#This Row],[Currency]],Sheet3!$A$2:$B$31,2,FALSE),tblSalaries[[#This Row],[clean Salary (in local currency)]],(tblSalaries[[#This Row],[PPP Adjusted  USD]]/VLOOKUP(Dashboard!$J$5,Sheet3!$B$2:$C$31,2,FALSE)))","v":138000},"Project engineer","Engineer","Thailand","4 to 6 hours a day","Data Not Avaliable"]
[null,"ID0323",137500,"USD",137500,{"$f":"(tblSalaries[[#This Row],[clean Salary (in local currency)]])*(VLOOKUP(tblSalaries[[#This Row],[Currency]],Sheet3!$A$2:$C$31,3,FALSE))*(VLOOKUP(tblSalaries[[#This Row],[Currency]],Sheet1!$N$4:$Q$186,4,FALSE))","v":137500},{"$f":"IF(Dashboard!$J$5=VLOOKUP(tblSalaries[[#This Row],[Currency]],Sheet3!$A$2:$B$31,2,FALSE),tblSalaries[[#This Row],[clean Salary (in local currency)]],(tblSalaries[[#This Row],[PPP Adjusted  USD]]/VLOOKUP(Dashboard!$J$5,Sheet3!$B$2:$C$31,2,FALSE)))","v":137500},"director of analytics","Analyst","USA","4 to 6 hours a day","Data Not Avaliable"]
[null,"ID0822",300000,"BRL",148284.35006969364,{"$f":"(tblSalaries[[#This Row],[clean Salary (in local currency)]])*(VLOOKUP(tblSalaries[[#This Row],[Currency]],Sheet3!$A$2:$C$31,3,FALSE))*(VLOOKUP(tblSalaries[[#This Row],[Currency]],Sheet1!$N$4:$Q$186,4,FALSE))","v":136450.07275831036},{"$f":"IF(Dashboard!$J$5=VLOOKUP(tblSalaries[[#This Row],[Currency]],Sheet3!$A$2:$B$31,2,FALSE),tblSalaries[[#This Row],[clean Salary (in local currency)]],(tblSalaries[[#This Row],[PPP Adjusted  USD]]/VLOOKUP(Dashboard!$J$5,Sheet3!$B$2:$C$31,2,FALSE)))","v":136450.07275831036},"Market Intelligence Analyst","Analyst","Brazil","All the 8 hours baby, all the 8!",3]
[null,"ID1398",136000,"USD",136000,{"$f":"(tblSalaries[[#This Row],[clean Salary (in local currency)]])*(VLOOKUP(tblSalaries[[#This Row],[Currency]],Sheet3!$A$2:$C$31,3,FALSE))*(VLOOKUP(tblSalaries[[#This Row],[Currency]],Sheet1!$N$4:$Q$186,4,FALSE))","v":136000},{"$f":"IF(Dashboard!$J$5=VLOOKUP(tblSalaries[[#This Row],[Currency]],Sheet3!$A$2:$B$31,2,FALSE),tblSalaries[[#This Row],[clean Salary (in local currency)]],(tblSalaries[[#This Row],[PPP Adjusted  USD]]/VLOOKUP(Dashboard!$J$5,Sheet3!$B$2:$C$31,2,FALSE)))","v":136000},"Manager FP and A","Manager","USA","4 to 6 hours a day",10]
[null,"ID0339",135000,"USD",135000,{"$f":"(tblSalaries[[#This Row],[clean Salary (in local currency)]])*(VLOOKUP(tblSalaries[[#This Row],[Currency]],Sheet3!$A$2:$C$31,3,FALSE))*(VLOOKUP(tblSalaries[[#This Row],[Currency]],Sheet1!$N$4:$Q$186,4,FALSE))","v":135000},{"$f":"IF(Dashboard!$J$5=VLOOKUP(tblSalaries[[#This Row],[Currency]],Sheet3!$A$2:$B$31,2,FALSE),tblSalaries[[#This Row],[clean Salary (in local currency)]],(tblSalaries[[#This Row],[PPP Adjusted  USD]]/VLOOKUP(Dashboard!$J$5,Sheet3!$B$2:$C$31,2,FALSE)))","v":135000},"Manager of Trade Investment & Analysis","Manager","USA","All the 8 hours baby, all the 8!","Data Not Avaliable"]
[null,"ID0870",135000,"USD",135000,{"$f":"(tblSalaries[[#This Row],[clean Salary (in local currency)]])*(VLOOKUP(tblSalaries[[#This Row],[Currency]],Sheet3!$A$2:$C$31,3,FALSE))*(VLOOKUP(tblSalaries[[#This Row],[Currency]],Sheet1!$N$4:$Q$186,4,FALSE))","v":135000},{"$f":"IF(Dashboard!$J$5=VLOOKUP(tblSalaries[[#This Row],[Currency]],Sheet3!$A$2:$B$31,2,FALSE),tblSalaries[[#This Row],[clean Salary (in local currency)]],(tblSalaries[[#This Row],[PPP Adjusted  USD]]/VLOOKUP(Dashboard!$J$5,Sheet3!$B$2:$C$31,2,FALSE)))","v":135000},"Director, P&A","CXO or Top Mgmt.","USA","4 to 6 hours a day",25]
[null,"ID0954",135000,"USD",135000,{"$f":"(tblSalaries[[#This Row],[clean Salary (in local currency)]])*(VLOOKUP(tblSalaries[[#This Row],[Currency]],Sheet3!$A$2:$C$31,3,FALSE))*(VLOOKUP(tblSalaries[[#This Row],[Currency]],Sheet1!$N$4:$Q$186,4,FALSE))","v":135000},{"$f":"IF(Dashboard!$J$5=VLOOKUP(tblSalaries[[#This Row],[Currency]],Sheet3!$A$2:$B$31,2,FALSE),tblSalaries[[#This Row],[clean Salary (in local currency)]],(tblSalaries[[#This Row],[PPP Adjusted  USD]]/VLOOKUP(Dashboard!$J$5,Sheet3!$B$2:$C$31,2,FALSE)))","v":135000},"Marketing Insights Manager","Manager","USA","All the 8 hours baby, all the 8!",15]
[null,"ID0257",130000,"USD",130000,{"$f":"(tblSalaries[[#This Row],[clean Salary (in local currency)]])*(VLOOKUP(tblSalaries[[#This Row],[Currency]],Sheet3!$A$2:$C$31,3,FALSE))*(VLOOKUP(tblSalaries[[#This Row],[Currency]],Sheet1!$N$4:$Q$186,4,FALSE))","v":130000},{"$f":"IF(Dashboard!$J$5=VLOOKUP(tblSalaries[[#This Row],[Currency]],Sheet3!$A$2:$B$31,2,FALSE),tblSalaries[[#This Row],[clean Salary (in local currency)]],(tblSalaries[[#This Row],[PPP Adjusted  USD]]/VLOOKUP(Dashboard!$J$5,Sheet3!$B$2:$C$31,2,FALSE)))","v":130000},"Senior Project Manager","Manager","USA","4 to 6 hours a day","Data Not Avaliable"]
[null,"ID0351",130000,"USD",130000,{"$f":"(tblSalaries[[#This Row],[clean Salary (in local currency)]])*(VLOOKUP(tblSalaries[[#This Row],[Currency]],Sheet3!$A$2:$C$31,3,FALSE))*(VLOOKUP(tblSalaries[[#This Row],[Currency]],Sheet1!$N$4:$Q$186,4,FALSE))","v":130000},{"$f":"IF(Dashboard!$J$5=VLOOKUP(tblSalaries[[#This Row],[Currency]],Sheet3!$A$2:$B$31,2,FALSE),tblSalaries[[#This Row],[clean Salary (in local currency)]],(tblSalaries[[#This Row],[PPP Adjusted  USD]]/VLOOKUP(Dashboard!$J$5,Sheet3!$B$2:$C$31,2,FALSE)))","v":130000},"Sr Staff Engineer","Engineer","USA","4 to 6 hours a day","Data Not Avaliable"]
[null,"ID0370",130000,"USD",130000,{"$f":"(tblSalaries[[#This Row],[clean Salary (in local currency)]])*(VLOOKUP(tblSalaries[[#This Row],[Currency]],Sheet3!$A$2:$C$31,3,FALSE))*(VLOOKUP(tblSalaries[[#This Row],[Currency]],Sheet1!$N$4:$Q$186,4,FALSE))","v":130000},{"$f":"IF(Dashboard!$J$5=VLOOKUP(tblSalaries[[#This Row],[Currency]],Sheet3!$A$2:$B$31,2,FALSE),tblSalaries[[#This Row],[clean Salary (in local currency)]],(tblSalaries[[#This Row],[PPP Adjusted  USD]]/VLOOKUP(Dashboard!$J$5,Sheet3!$B$2:$C$31,2,FALSE)))","v":130000},"Project Manager","Manager","USA","2 to 3 hours per day","Data Not Avaliable"]
[null,"ID0725",130000,"USD",130000,{"$f":"(tblSalaries[[#This Row],[clean Salary (in local currency)]])*(VLOOKUP(tblSalaries[[#This Row],[Currency]],Sheet3!$A$2:$C$31,3,FALSE))*(VLOOKUP(tblSalaries[[#This Row],[Currency]],Sheet1!$N$4:$Q$186,4,FALSE))","v":130000},{"$f":"IF(Dashboard!$J$5=VLOOKUP(tblSalaries[[#This Row],[Currency]],Sheet3!$A$2:$B$31,2,FALSE),tblSalaries[[#This Row],[clean Salary (in local currency)]],(tblSalaries[[#This Row],[PPP Adjusted  USD]]/VLOOKUP(Dashboard!$J$5,Sheet3!$B$2:$C$31,2,FALSE)))","v":130000},"Modeller","Manager","Australia","4 to 6 hours a day",3]
[null,"ID1401",130000,"USD",130000,{"$f":"(tblSalaries[[#This Row],[clean Salary (in local currency)]])*(VLOOKUP(tblSalaries[[#This Row],[Currency]],Sheet3!$A$2:$C$31,3,FALSE))*(VLOOKUP(tblSalaries[[#This Row],[Currency]],Sheet1!$N$4:$Q$186,4,FALSE))","v":130000},{"$f":"IF(Dashboard!$J$5=VLOOKUP(tblSalaries[[#This Row],[Currency]],Sheet3!$A$2:$B$31,2,FALSE),tblSalaries[[#This Row],[clean Salary (in local currency)]],(tblSalaries[[#This Row],[PPP Adjusted  USD]]/VLOOKUP(Dashboard!$J$5,Sheet3!$B$2:$C$31,2,FALSE)))","v":130000},"Manager","Manager","USA","1 or 2 hours a day",25]
[null,"ID1473",118000,"EUR",149907.13380100971,{"$f":"(tblSalaries[[#This Row],[clean Salary (in local currency)]])*(VLOOKUP(tblSalaries[[#This Row],[Currency]],Sheet3!$A$2:$C$31,3,FALSE))*(VLOOKUP(tblSalaries[[#This Row],[Currency]],Sheet1!$N$4:$Q$186,4,FALSE))","v":129877.04054564614},{"$f":"IF(Dashboard!$J$5=VLOOKUP(tblSalaries[[#This Row],[Currency]],Sheet3!$A$2:$B$31,2,FALSE),tblSalaries[[#This Row],[clean Salary (in local currency)]],(tblSalaries[[#This Row],[PPP Adjusted  USD]]/VLOOKUP(Dashboard!$J$5,Sheet3!$B$2:$C$31,2,FALSE)))","v":129877.04054564614},"Support","Analyst","Europe","4 to 6 hours a day",7]
[null,"ID0126",128000,"USD",128000,{"$f":"(tblSalaries[[#This Row],[clean Salary (in local currency)]])*(VLOOKUP(tblSalaries[[#This Row],[Currency]],Sheet3!$A$2:$C$31,3,FALSE))*(VLOOKUP(tblSalaries[[#This Row],[Currency]],Sheet1!$N$4:$Q$186,4,FALSE))","v":128000},{"$f":"IF(Dashboard!$J$5=VLOOKUP(tblSalaries[[#This Row],[Currency]],Sheet3!$A$2:$B$31,2,FALSE),tblSalaries[[#This Row],[clean Salary (in local currency)]],(tblSalaries[[#This Row],[PPP Adjusted  USD]]/VLOOKUP(Dashboard!$J$5,Sheet3!$B$2:$C$31,2,FALSE)))","v":128000},"Actuary","Manager","USA","All the 8 hours baby, all the 8!","Data Not Avaliable"]
[null,"ID1522",127500,"USD",127500,{"$f":"(tblSalaries[[#This Row],[clean Salary (in local currency)]])*(VLOOKUP(tblSalaries[[#This Row],[Currency]],Sheet3!$A$2:$C$31,3,FALSE))*(VLOOKUP(tblSalaries[[#This Row],[Currency]],Sheet1!$N$4:$Q$186,4,FALSE))","v":127500},{"$f":"IF(Dashboard!$J$5=VLOOKUP(tblSalaries[[#This Row],[Currency]],Sheet3!$A$2:$B$31,2,FALSE),tblSalaries[[#This Row],[clean Salary (in local currency)]],(tblSalaries[[#This Row],[PPP Adjusted  USD]]/VLOOKUP(Dashboard!$J$5,Sheet3!$B$2:$C$31,2,FALSE)))","v":127500},"SVP","CXO or Top Mgmt.","USA","All the 8 hours baby, all the 8!",22]
[null,"ID0353",160000,"CAD",157337.8436848523,{"$f":"(tblSalaries[[#This Row],[clean Salary (in local currency)]])*(VLOOKUP(tblSalaries[[#This Row],[Currency]],Sheet3!$A$2:$C$31,3,FALSE))*(VLOOKUP(tblSalaries[[#This Row],[Currency]],Sheet1!$N$4:$Q$186,4,FALSE))","v":126471.39251237514},{"$f":"IF(Dashboard!$J$5=VLOOKUP(tblSalaries[[#This Row],[Currency]],Sheet3!$A$2:$B$31,2,FALSE),tblSalaries[[#This Row],[clean Salary (in local currency)]],(tblSalaries[[#This Row],[PPP Adjusted  USD]]/VLOOKUP(Dashboard!$J$5,Sheet3!$B$2:$C$31,2,FALSE)))","v":126471.39251237514},"Consultant","Consultant","Canada","2 to 3 hours per day","Data Not Avaliable"]
[null,"ID0976",200000,"AUD",203981.93128052715,{"$f":"(tblSalaries[[#This Row],[clean Salary (in local currency)]])*(VLOOKUP(tblSalaries[[#This Row],[Currency]],Sheet3!$A$2:$C$31,3,FALSE))*(VLOOKUP(tblSalaries[[#This Row],[Currency]],Sheet1!$N$4:$Q$186,4,FALSE))","v":125342.8116397222},{"$f":"IF(Dashboard!$J$5=VLOOKUP(tblSalaries[[#This Row],[Currency]],Sheet3!$A$2:$B$31,2,FALSE),tblSalaries[[#This Row],[clean Salary (in local currency)]],(tblSalaries[[#This Row],[PPP Adjusted  USD]]/VLOOKUP(Dashboard!$J$5,Sheet3!$B$2:$C$31,2,FALSE)))","v":125342.8116397222},"Corporate Finance Manager","Manager","Australia","4 to 6 hours a day",15]
[null,"ID0091",125000,"USD",125000,{"$f":"(tblSalaries[[#This Row],[clean Salary (in local currency)]])*(VLOOKUP(tblSalaries[[#This Row],[Currency]],Sheet3!$A$2:$C$31,3,FALSE))*(VLOOKUP(tblSalaries[[#This Row],[Currency]],Sheet1!$N$4:$Q$186,4,FALSE))","v":125000},{"$f":"IF(Dashboard!$J$5=VLOOKUP(tblSalaries[[#This Row],[Currency]],Sheet3!$A$2:$B$31,2,FALSE),tblSalaries[[#This Row],[clean Salary (in local currency)]],(tblSalaries[[#This Row],[PPP Adjusted  USD]]/VLOOKUP(Dashboard!$J$5,Sheet3!$B$2:$C$31,2,FALSE)))","v":125000},"Director of Marketing","CXO or Top Mgmt.","USA","4 to 6 hours a day","Data Not Avaliable"]
[null,"ID0314",125000,"USD",125000,{"$f":"(tblSalaries[[#This Row],[clean Salary (in local currency)]])*(VLOOKUP(tblSalaries[[#This Row],[Currency]],Sheet3!$A$2:$C$31,3,FALSE))*(VLOOKUP(tblSalaries[[#This Row],[Currency]],Sheet1!$N$4:$Q$186,4,FALSE))","v":125000},{"$f":"IF(Dashboard!$J$5=VLOOKUP(tblSalaries[[#This Row],[Currency]],Sheet3!$A$2:$B$31,2,FALSE),tblSalaries[[#This Row],[clean Salary (in local currency)]],(tblSalaries[[#This Row],[PPP Adjusted  USD]]/VLOOKUP(Dashboard!$J$5,Sheet3!$B$2:$C$31,2,FALSE)))","v":125000},"Finance, Manager ","Manager","USA","4 to 6 hours a day","Data Not Avaliable"]
[null,"ID0461",125000,"USD",125000,{"$f":"(tblSalaries[[#This Row],[clean Salary (in local currency)]])*(VLOOKUP(tblSalaries[[#This Row],[Currency]],Sheet3!$A$2:$C$31,3,FALSE))*(VLOOKUP(tblSalaries[[#This Row],[Currency]],Sheet1!$N$4:$Q$186,4,FALSE))","v":125000},{"$f":"IF(Dashboard!$J$5=VLOOKUP(tblSalaries[[#This Row],[Currency]],Sheet3!$A$2:$B$31,2,FALSE),tblSalaries[[#This Row],[clean Salary (in local currency)]],(tblSalaries[[#This Row],[PPP Adjusted  USD]]/VLOOKUP(Dashboard!$J$5,Sheet3!$B$2:$C$31,2,FALSE)))","v":125000},"Prod Mgr","Manager","USA","2 to 3 hours per day","Data Not Avaliable"]
[null,"ID0634",125000,"USD",125000,{"$f":"(tblSalaries[[#This Row],[clean Salary (in local currency)]])*(VLOOKUP(tblSalaries[[#This Row],[Currency]],Sheet3!$A$2:$C$31,3,FALSE))*(VLOOKUP(tblSalaries[[#This Row],[Currency]],Sheet1!$N$4:$Q$186,4,FALSE))","v":125000},{"$f":"IF(Dashboard!$J$5=VLOOKUP(tblSalaries[[#This Row],[Currency]],Sheet3!$A$2:$B$31,2,FALSE),tblSalaries[[#This Row],[clean Salary (in local currency)]],(tblSalaries[[#This Row],[PPP Adjusted  USD]]/VLOOKUP(Dashboard!$J$5,Sheet3!$B$2:$C$31,2,FALSE)))","v":125000},"Analyst","Analyst","USA","2 to 3 hours per day",20]
[null,"ID0871",125000,"USD",125000,{"$f":"(tblSalaries[[#This Row],[clean Salary (in local currency)]])*(VLOOKUP(tblSalaries[[#This Row],[Currency]],Sheet3!$A$2:$C$31,3,FALSE))*(VLOOKUP(tblSalaries[[#This Row],[Currency]],Sheet1!$N$4:$Q$186,4,FALSE))","v":125000},{"$f":"IF(Dashboard!$J$5=VLOOKUP(tblSalaries[[#This Row],[Currency]],Sheet3!$A$2:$B$31,2,FALSE),tblSalaries[[#This Row],[clean Salary (in local currency)]],(tblSalaries[[#This Row],[PPP Adjusted  USD]]/VLOOKUP(Dashboard!$J$5,Sheet3!$B$2:$C$31,2,FALSE)))","v":125000},"Project controls manager","Manager","Norway","4 to 6 hours a day",6]
[null,"ID0887",125000,"USD",125000,{"$f":"(tblSalaries[[#This Row],[clean Salary (in local currency)]])*(VLOOKUP(tblSalaries[[#This Row],[Currency]],Sheet3!$A$2:$C$31,3,FALSE))*(VLOOKUP(tblSalaries[[#This Row],[Currency]],Sheet1!$N$4:$Q$186,4,FALSE))","v":125000},{"$f":"IF(Dashboard!$J$5=VLOOKUP(tblSalaries[[#This Row],[Currency]],Sheet3!$A$2:$B$31,2,FALSE),tblSalaries[[#This Row],[clean Salary (in local currency)]],(tblSalaries[[#This Row],[PPP Adjusted  USD]]/VLOOKUP(Dashboard!$J$5,Sheet3!$B$2:$C$31,2,FALSE)))","v":125000},"Commercial Director","CXO or Top Mgmt.","South Africa","4 to 6 hours a day",20]
[null,"ID0991",125000,"USD",125000,{"$f":"(tblSalaries[[#This Row],[clean Salary (in local currency)]])*(VLOOKUP(tblSalaries[[#This Row],[Currency]],Sheet3!$A$2:$C$31,3,FALSE))*(VLOOKUP(tblSalaries[[#This Row],[Currency]],Sheet1!$N$4:$Q$186,4,FALSE))","v":125000},{"$f":"IF(Dashboard!$J$5=VLOOKUP(tblSalaries[[#This Row],[Currency]],Sheet3!$A$2:$B$31,2,FALSE),tblSalaries[[#This Row],[clean Salary (in local currency)]],(tblSalaries[[#This Row],[PPP Adjusted  USD]]/VLOOKUP(Dashboard!$J$5,Sheet3!$B$2:$C$31,2,FALSE)))","v":125000},"VP, Operational Analytics","CXO or Top Mgmt.","USA","4 to 6 hours a day",10]
[null,"ID1355",125000,"USD",125000,{"$f":"(tblSalaries[[#This Row],[clean Salary (in local currency)]])*(VLOOKUP(tblSalaries[[#This Row],[Currency]],Sheet3!$A$2:$C$31,3,FALSE))*(VLOOKUP(tblSalaries[[#This Row],[Currency]],Sheet1!$N$4:$Q$186,4,FALSE))","v":125000},{"$f":"IF(Dashboard!$J$5=VLOOKUP(tblSalaries[[#This Row],[Currency]],Sheet3!$A$2:$B$31,2,FALSE),tblSalaries[[#This Row],[clean Salary (in local currency)]],(tblSalaries[[#This Row],[PPP Adjusted  USD]]/VLOOKUP(Dashboard!$J$5,Sheet3!$B$2:$C$31,2,FALSE)))","v":125000},"Vice President of Performance Management","Manager","USA","4 to 6 hours a day",2]
[null,"ID1364",125000,"USD",125000,{"$f":"(tblSalaries[[#This Row],[clean Salary (in local currency)]])*(VLOOKUP(tblSalaries[[#This Row],[Currency]],Sheet3!$A$2:$C$31,3,FALSE))*(VLOOKUP(tblSalaries[[#This Row],[Currency]],Sheet1!$N$4:$Q$186,4,FALSE))","v":125000},{"$f":"IF(Dashboard!$J$5=VLOOKUP(tblSalaries[[#This Row],[Currency]],Sheet3!$A$2:$B$31,2,FALSE),tblSalaries[[#This Row],[clean Salary (in local currency)]],(tblSalaries[[#This Row],[PPP Adjusted  USD]]/VLOOKUP(Dashboard!$J$5,Sheet3!$B$2:$C$31,2,FALSE)))","v":125000},"Finance Manager","Manager","USA","4 to 6 hours a day",25]
[null,"ID1558",125000,"USD",125000,{"$f":"(tblSalaries[[#This Row],[clean Salary (in local currency)]])*(VLOOKUP(tblSalaries[[#This Row],[Currency]],Sheet3!$A$2:$C$31,3,FALSE))*(VLOOKUP(tblSalaries[[#This Row],[Currency]],Sheet1!$N$4:$Q$186,4,FALSE))","v":125000},{"$f":"IF(Dashboard!$J$5=VLOOKUP(tblSalaries[[#This Row],[Currency]],Sheet3!$A$2:$B$31,2,FALSE),tblSalaries[[#This Row],[clean Salary (in local currency)]],(tblSalaries[[#This Row],[PPP Adjusted  USD]]/VLOOKUP(Dashboard!$J$5,Sheet3!$B$2:$C$31,2,FALSE)))","v":125000},"Consultant","Consultant","USA","All the 8 hours baby, all the 8!",8]
[null,"ID1778",125000,"USD",125000,{"$f":"(tblSalaries[[#This Row],[clean Salary (in local currency)]])*(VLOOKUP(tblSalaries[[#This Row],[Currency]],Sheet3!$A$2:$C$31,3,FALSE))*(VLOOKUP(tblSalaries[[#This Row],[Currency]],Sheet1!$N$4:$Q$186,4,FALSE))","v":125000},{"$f":"IF(Dashboard!$J$5=VLOOKUP(tblSalaries[[#This Row],[Currency]],Sheet3!$A$2:$B$31,2,FALSE),tblSalaries[[#This Row],[clean Salary (in local currency)]],(tblSalaries[[#This Row],[PPP Adjusted  USD]]/VLOOKUP(Dashboard!$J$5,Sheet3!$B$2:$C$31,2,FALSE)))","v":125000},"project manager","Manager","USA","All the 8 hours baby, all the 8!",10]
[null,"ID1216",2600000,"INR",46300.583387350678,{"$f":"(tblSalaries[[#This Row],[clean Salary (in local currency)]])*(VLOOKUP(tblSalaries[[#This Row],[Currency]],Sheet3!$A$2:$C$31,3,FALSE))*(VLOOKUP(tblSalaries[[#This Row],[Currency]],Sheet1!$N$4:$Q$186,4,FALSE))","v":123138.65810661599},{"$f":"IF(Dashboard!$J$5=VLOOKUP(tblSalaries[[#This Row],[Currency]],Sheet3!$A$2:$B$31,2,FALSE),tblSalaries[[#This Row],[clean Salary (in local currency)]],(tblSalaries[[#This Row],[PPP Adjusted  USD]]/VLOOKUP(Dashboard!$J$5,Sheet3!$B$2:$C$31,2,FALSE)))","v":123138.65810661599},"Practice Manager","Manager","India","4 to 6 hours a day",4]
[null,"ID0084",120000,"USD",120000,{"$f":"(tblSalaries[[#This Row],[clean Salary (in local currency)]])*(VLOOKUP(tblSalaries[[#This Row],[Currency]],Sheet3!$A$2:$C$31,3,FALSE))*(VLOOKUP(tblSalaries[[#This Row],[Currency]],Sheet1!$N$4:$Q$186,4,FALSE))","v":120000},{"$f":"IF(Dashboard!$J$5=VLOOKUP(tblSalaries[[#This Row],[Currency]],Sheet3!$A$2:$B$31,2,FALSE),tblSalaries[[#This Row],[clean Salary (in local currency)]],(tblSalaries[[#This Row],[PPP Adjusted  USD]]/VLOOKUP(Dashboard!$J$5,Sheet3!$B$2:$C$31,2,FALSE)))","v":120000},"Manager, Forecasts & Budgets","Manager","USA","4 to 6 hours a day","Data Not Avaliable"]
[null,"ID0440",120000,"USD",120000,{"$f":"(tblSalaries[[#This Row],[clean Salary (in local currency)]])*(VLOOKUP(tblSalaries[[#This Row],[Currency]],Sheet3!$A$2:$C$31,3,FALSE))*(VLOOKUP(tblSalaries[[#This Row],[Currency]],Sheet1!$N$4:$Q$186,4,FALSE))","v":120000},{"$f":"IF(Dashboard!$J$5=VLOOKUP(tblSalaries[[#This Row],[Currency]],Sheet3!$A$2:$B$31,2,FALSE),tblSalaries[[#This Row],[clean Salary (in local currency)]],(tblSalaries[[#This Row],[PPP Adjusted  USD]]/VLOOKUP(Dashboard!$J$5,Sheet3!$B$2:$C$31,2,FALSE)))","v":120000},"Director","CXO or Top Mgmt.","USA","1 or 2 hours a day","Data Not Avaliable"]
[null,"ID0535",120000,"USD",120000,{"$f":"(tblSalaries[[#This Row],[clean Salary (in local currency)]])*(VLOOKUP(tblSalaries[[#This Row],[Currency]],Sheet3!$A$2:$C$31,3,FALSE))*(VLOOKUP(tblSalaries[[#This Row],[Currency]],Sheet1!$N$4:$Q$186,4,FALSE))","v":120000},{"$f":"IF(Dashboard!$J$5=VLOOKUP(tblSalaries[[#This Row],[Currency]],Sheet3!$A$2:$B$31,2,FALSE),tblSalaries[[#This Row],[clean Salary (in local currency)]],(tblSalaries[[#This Row],[PPP Adjusted  USD]]/VLOOKUP(Dashboard!$J$5,Sheet3!$B$2:$C$31,2,FALSE)))","v":120000},"manager","Manager","New Zealand","2 to 3 hours per day","Data Not Avaliable"]
[null,"ID0554",120000,"USD",120000,{"$f":"(tblSalaries[[#This Row],[clean Salary (in local currency)]])*(VLOOKUP(tblSalaries[[#This Row],[Currency]],Sheet3!$A$2:$C$31,3,FALSE))*(VLOOKUP(tblSalaries[[#This Row],[Currency]],Sheet1!$N$4:$Q$186,4,FALSE))","v":120000},{"$f":"IF(Dashboard!$J$5=VLOOKUP(tblSalaries[[#This Row],[Currency]],Sheet3!$A$2:$B$31,2,FALSE),tblSalaries[[#This Row],[clean Salary (in local currency)]],(tblSalaries[[#This Row],[PPP Adjusted  USD]]/VLOOKUP(Dashboard!$J$5,Sheet3!$B$2:$C$31,2,FALSE)))","v":120000},"Director","CXO or Top Mgmt.","USA","4 to 6 hours a day","Data Not Avaliable"]
[null,"ID0592",120000,"USD",120000,{"$f":"(tblSalaries[[#This Row],[clean Salary (in local currency)]])*(VLOOKUP(tblSalaries[[#This Row],[Currency]],Sheet3!$A$2:$C$31,3,FALSE))*(VLOOKUP(tblSalaries[[#This Row],[Currency]],Sheet1!$N$4:$Q$186,4,FALSE))","v":120000},{"$f":"IF(Dashboard!$J$5=VLOOKUP(tblSalaries[[#This Row],[Currency]],Sheet3!$A$2:$B$31,2,FALSE),tblSalaries[[#This Row],[clean Salary (in local currency)]],(tblSalaries[[#This Row],[PPP Adjusted  USD]]/VLOOKUP(Dashboard!$J$5,Sheet3!$B$2:$C$31,2,FALSE)))","v":120000},"Sr. Analyst","Analyst","USA","All the 8 hours baby, all the 8!",7]
[null,"ID1262",120000,"USD",120000,{"$f":"(tblSalaries[[#This Row],[clean Salary (in local currency)]])*(VLOOKUP(tblSalaries[[#This Row],[Currency]],Sheet3!$A$2:$C$31,3,FALSE))*(VLOOKUP(tblSalaries[[#This Row],[Currency]],Sheet1!$N$4:$Q$186,4,FALSE))","v":120000},{"$f":"IF(Dashboard!$J$5=VLOOKUP(tblSalaries[[#This Row],[Currency]],Sheet3!$A$2:$B$31,2,FALSE),tblSalaries[[#This Row],[clean Salary (in local currency)]],(tblSalaries[[#This Row],[PPP Adjusted  USD]]/VLOOKUP(Dashboard!$J$5,Sheet3!$B$2:$C$31,2,FALSE)))","v":120000},"Consultant - Process Improvement","Consultant","Singapore","1 or 2 hours a day",5]
[null,"ID1385",120000,"USD",120000,{"$f":"(tblSalaries[[#This Row],[clean Salary (in local currency)]])*(VLOOKUP(tblSalaries[[#This Row],[Currency]],Sheet3!$A$2:$C$31,3,FALSE))*(VLOOKUP(tblSalaries[[#This Row],[Currency]],Sheet1!$N$4:$Q$186,4,FALSE))","v":120000},{"$f":"IF(Dashboard!$J$5=VLOOKUP(tblSalaries[[#This Row],[Currency]],Sheet3!$A$2:$B$31,2,FALSE),tblSalaries[[#This Row],[clean Salary (in local currency)]],(tblSalaries[[#This Row],[PPP Adjusted  USD]]/VLOOKUP(Dashboard!$J$5,Sheet3!$B$2:$C$31,2,FALSE)))","v":120000},"Finance Manager","Manager","USA","2 to 3 hours per day",5]
[null,"ID1417",120000,"USD",120000,{"$f":"(tblSalaries[[#This Row],[clean Salary (in local currency)]])*(VLOOKUP(tblSalaries[[#This Row],[Currency]],Sheet3!$A$2:$C$31,3,FALSE))*(VLOOKUP(tblSalaries[[#This Row],[Currency]],Sheet1!$N$4:$Q$186,4,FALSE))","v":120000},{"$f":"IF(Dashboard!$J$5=VLOOKUP(tblSalaries[[#This Row],[Currency]],Sheet3!$A$2:$B$31,2,FALSE),tblSalaries[[#This Row],[clean Salary (in local currency)]],(tblSalaries[[#This Row],[PPP Adjusted  USD]]/VLOOKUP(Dashboard!$J$5,Sheet3!$B$2:$C$31,2,FALSE)))","v":120000},"Finance Manager","Manager","USA","2 to 3 hours per day",10]
[null,"ID1830",120000,"USD",120000,{"$f":"(tblSalaries[[#This Row],[clean Salary (in local currency)]])*(VLOOKUP(tblSalaries[[#This Row],[Currency]],Sheet3!$A$2:$C$31,3,FALSE))*(VLOOKUP(tblSalaries[[#This Row],[Currency]],Sheet1!$N$4:$Q$186,4,FALSE))","v":120000},{"$f":"IF(Dashboard!$J$5=VLOOKUP(tblSalaries[[#This Row],[Currency]],Sheet3!$A$2:$B$31,2,FALSE),tblSalaries[[#This Row],[clean Salary (in local currency)]],(tblSalaries[[#This Row],[PPP Adjusted  USD]]/VLOOKUP(Dashboard!$J$5,Sheet3!$B$2:$C$31,2,FALSE)))","v":120000},"Financial Modeler","Accountant","USA","4 to 6 hours a day",20]
[null,"ID1081",2500000,"INR",44519.791718606422,{"$f":"(tblSalaries[[#This Row],[clean Salary (in local currency)]])*(VLOOKUP(tblSalaries[[#This Row],[Currency]],Sheet3!$A$2:$C$31,3,FALSE))*(VLOOKUP(tblSalaries[[#This Row],[Currency]],Sheet1!$N$4:$Q$186,4,FALSE))","v":118402.55587174614},{"$f":"IF(Dashboard!$J$5=VLOOKUP(tblSalaries[[#This Row],[Currency]],Sheet3!$A$2:$B$31,2,FALSE),tblSalaries[[#This Row],[clean Salary (in local currency)]],(tblSalaries[[#This Row],[PPP Adjusted  USD]]/VLOOKUP(Dashboard!$J$5,Sheet3!$B$2:$C$31,2,FALSE)))","v":118402.55587174614},"Vice President","CXO or Top Mgmt.","India","4 to 6 hours a day",9]
[null,"ID1843",118000,"USD",118000,{"$f":"(tblSalaries[[#This Row],[clean Salary (in local currency)]])*(VLOOKUP(tblSalaries[[#This Row],[Currency]],Sheet3!$A$2:$C$31,3,FALSE))*(VLOOKUP(tblSalaries[[#This Row],[Currency]],Sheet1!$N$4:$Q$186,4,FALSE))","v":118000},{"$f":"IF(Dashboard!$J$5=VLOOKUP(tblSalaries[[#This Row],[Currency]],Sheet3!$A$2:$B$31,2,FALSE),tblSalaries[[#This Row],[clean Salary (in local currency)]],(tblSalaries[[#This Row],[PPP Adjusted  USD]]/VLOOKUP(Dashboard!$J$5,Sheet3!$B$2:$C$31,2,FALSE)))","v":118000},"AVP","CXO or Top Mgmt.","USA","4 to 6 hours a day",6]
[null,"ID0909",80000,"GBP",126094.26176538273,{"$f":"(tblSalaries[[#This Row],[clean Salary (in local currency)]])*(VLOOKUP(tblSalaries[[#This Row],[Currency]],Sheet3!$A$2:$C$31,3,FALSE))*(VLOOKUP(tblSalaries[[#This Row],[Currency]],Sheet1!$N$4:$Q$186,4,FALSE))","v":117917.6963984342},{"$f":"IF(Dashboard!$J$5=VLOOKUP(tblSalaries[[#This Row],[Currency]],Sheet3!$A$2:$B$31,2,FALSE),tblSalaries[[#This Row],[clean Salary (in local currency)]],(tblSalaries[[#This Row],[PPP Adjusted  USD]]/VLOOKUP(Dashboard!$J$5,Sheet3!$B$2:$C$31,2,FALSE)))","v":117917.6963984342},"Financial Modeller","Accountant","UK","4 to 6 hours a day",10]
[null,"ID1085",80000,"GBP",126094.26176538273,{"$f":"(tblSalaries[[#This Row],[clean Salary (in local currency)]])*(VLOOKUP(tblSalaries[[#This Row],[Currency]],Sheet3!$A$2:$C$31,3,FALSE))*(VLOOKUP(tblSalaries[[#This Row],[Currency]],Sheet1!$N$4:$Q$186,4,FALSE))","v":117917.6963984342},{"$f":"IF(Dashboard!$J$5=VLOOKUP(tblSalaries[[#This Row],[Currency]],Sheet3!$A$2:$B$31,2,FALSE),tblSalaries[[#This Row],[clean Salary (in local currency)]],(tblSalaries[[#This Row],[PPP Adjusted  USD]]/VLOOKUP(Dashboard!$J$5,Sheet3!$B$2:$C$31,2,FALSE)))","v":117917.6963984342},"Manufacturing consultant","Consultant","UK","4 to 6 hours a day",10]
[null,"ID1170",80000,"GBP",126094.26176538273,{"$f":"(tblSalaries[[#This Row],[clean Salary (in local currency)]])*(VLOOKUP(tblSalaries[[#This Row],[Currency]],Sheet3!$A$2:$C$31,3,FALSE))*(VLOOKUP(tblSalaries[[#This Row],[Currency]],Sheet1!$N$4:$Q$186,4,FALSE))","v":117917.6963984342},{"$f":"IF(Dashboard!$J$5=VLOOKUP(tblSalaries[[#This Row],[Currency]],Sheet3!$A$2:$B$31,2,FALSE),tblSalaries[[#This Row],[clean Salary (in local currency)]],(tblSalaries[[#This Row],[PPP Adjusted  USD]]/VLOOKUP(Dashboard!$J$5,Sheet3!$B$2:$C$31,2,FALSE)))","v":117917.6963984342},"Financial Controller","Controller","UK","4 to 6 hours a day",15]
[null,"ID1600",80000,"GBP",126094.26176538273,{"$f":"(tblSalaries[[#This Row],[clean Salary (in local currency)]])*(VLOOKUP(tblSalaries[[#This Row],[Currency]],Sheet3!$A$2:$C$31,3,FALSE))*(VLOOKUP(tblSalaries[[#This Row],[Currency]],Sheet1!$N$4:$Q$186,4,FALSE))","v":117917.6963984342},{"$f":"IF(Dashboard!$J$5=VLOOKUP(tblSalaries[[#This Row],[Currency]],Sheet3!$A$2:$B$31,2,FALSE),tblSalaries[[#This Row],[clean Salary (in local currency)]],(tblSalaries[[#This Row],[PPP Adjusted  USD]]/VLOOKUP(Dashboard!$J$5,Sheet3!$B$2:$C$31,2,FALSE)))","v":117917.6963984342},"Owner of Business Improvement Consultancy","Consultant","UK","4 to 6 hours a day",12]
[null,"ID1103",79000,"GBP",124518.08349331544,{"$f":"(tblSalaries[[#This Row],[clean Salary (in local currency)]])*(VLOOKUP(tblSalaries[[#This Row],[Currency]],Sheet3!$A$2:$C$31,3,FALSE))*(VLOOKUP(tblSalaries[[#This Row],[Currency]],Sheet1!$N$4:$Q$186,4,FALSE))","v":116443.72519345376},{"$f":"IF(Dashboard!$J$5=VLOOKUP(tblSalaries[[#This Row],[Currency]],Sheet3!$A$2:$B$31,2,FALSE),tblSalaries[[#This Row],[clean Salary (in local currency)]],(tblSalaries[[#This Row],[PPP Adjusted  USD]]/VLOOKUP(Dashboard!$J$5,Sheet3!$B$2:$C$31,2,FALSE)))","v":116443.72519345376},"Market Analyst","Analyst","UK","2 to 3 hours per day",14]
[null,"ID0418",115000,"USD",115000,{"$f":"(tblSalaries[[#This Row],[clean Salary (in local currency)]])*(VLOOKUP(tblSalaries[[#This Row],[Currency]],Sheet3!$A$2:$C$31,3,FALSE))*(VLOOKUP(tblSalaries[[#This Row],[Currency]],Sheet1!$N$4:$Q$186,4,FALSE))","v":115000},{"$f":"IF(Dashboard!$J$5=VLOOKUP(tblSalaries[[#This Row],[Currency]],Sheet3!$A$2:$B$31,2,FALSE),tblSalaries[[#This Row],[clean Salary (in local currency)]],(tblSalaries[[#This Row],[PPP Adjusted  USD]]/VLOOKUP(Dashboard!$J$5,Sheet3!$B$2:$C$31,2,FALSE)))","v":115000},"Consultant","Consultant","USA","2 to 3 hours per day","Data Not Avaliable"]
[null,"ID0586",115000,"USD",115000,{"$f":"(tblSalaries[[#This Row],[clean Salary (in local currency)]])*(VLOOKUP(tblSalaries[[#This Row],[Currency]],Sheet3!$A$2:$C$31,3,FALSE))*(VLOOKUP(tblSalaries[[#This Row],[Currency]],Sheet1!$N$4:$Q$186,4,FALSE))","v":115000},{"$f":"IF(Dashboard!$J$5=VLOOKUP(tblSalaries[[#This Row],[Currency]],Sheet3!$A$2:$B$31,2,FALSE),tblSalaries[[#This Row],[clean Salary (in local currency)]],(tblSalaries[[#This Row],[PPP Adjusted  USD]]/VLOOKUP(Dashboard!$J$5,Sheet3!$B$2:$C$31,2,FALSE)))","v":115000},"Mgr Op Excellence","Manager","USA","4 to 6 hours a day",15]
[null,"ID0873",115000,"USD",115000,{"$f":"(tblSalaries[[#This Row],[clean Salary (in local currency)]])*(VLOOKUP(tblSalaries[[#This Row],[Currency]],Sheet3!$A$2:$C$31,3,FALSE))*(VLOOKUP(tblSalaries[[#This Row],[Currency]],Sheet1!$N$4:$Q$186,4,FALSE))","v":115000},{"$f":"IF(Dashboard!$J$5=VLOOKUP(tblSalaries[[#This Row],[Currency]],Sheet3!$A$2:$B$31,2,FALSE),tblSalaries[[#This Row],[clean Salary (in local currency)]],(tblSalaries[[#This Row],[PPP Adjusted  USD]]/VLOOKUP(Dashboard!$J$5,Sheet3!$B$2:$C$31,2,FALSE)))","v":115000},"Principal Financial Analyst","Analyst","USA","4 to 6 hours a day",10]
[null,"ID1922",115000,"USD",115000,{"$f":"(tblSalaries[[#This Row],[clean Salary (in local currency)]])*(VLOOKUP(tblSalaries[[#This Row],[Currency]],Sheet3!$A$2:$C$31,3,FALSE))*(VLOOKUP(tblSalaries[[#This Row],[Currency]],Sheet1!$N$4:$Q$186,4,FALSE))","v":115000},{"$f":"IF(Dashboard!$J$5=VLOOKUP(tblSalaries[[#This Row],[Currency]],Sheet3!$A$2:$B$31,2,FALSE),tblSalaries[[#This Row],[clean Salary (in local currency)]],(tblSalaries[[#This Row],[PPP Adjusted  USD]]/VLOOKUP(Dashboard!$J$5,Sheet3!$B$2:$C$31,2,FALSE)))","v":115000},"Business Analyst","Analyst","USA","All the 8 hours baby, all the 8!",15]
[null,"ID0514",78000,"GBP",122941.90522124816,{"$f":"(tblSalaries[[#This Row],[clean Salary (in local currency)]])*(VLOOKUP(tblSalaries[[#This Row],[Currency]],Sheet3!$A$2:$C$31,3,FALSE))*(VLOOKUP(tblSalaries[[#This Row],[Currency]],Sheet1!$N$4:$Q$186,4,FALSE))","v":114969.75398847334},{"$f":"IF(Dashboard!$J$5=VLOOKUP(tblSalaries[[#This Row],[Currency]],Sheet3!$A$2:$B$31,2,FALSE),tblSalaries[[#This Row],[clean Salary (in local currency)]],(tblSalaries[[#This Row],[PPP Adjusted  USD]]/VLOOKUP(Dashboard!$J$5,Sheet3!$B$2:$C$31,2,FALSE)))","v":114969.75398847334},"Associate","Analyst","UK","1 or 2 hours a day","Data Not Avaliable"]
[null,"ID0232",114000,"USD",114000,{"$f":"(tblSalaries[[#This Row],[clean Salary (in local currency)]])*(VLOOKUP(tblSalaries[[#This Row],[Currency]],Sheet3!$A$2:$C$31,3,FALSE))*(VLOOKUP(tblSalaries[[#This Row],[Currency]],Sheet1!$N$4:$Q$186,4,FALSE))","v":114000},{"$f":"IF(Dashboard!$J$5=VLOOKUP(tblSalaries[[#This Row],[Currency]],Sheet3!$A$2:$B$31,2,FALSE),tblSalaries[[#This Row],[clean Salary (in local currency)]],(tblSalaries[[#This Row],[PPP Adjusted  USD]]/VLOOKUP(Dashboard!$J$5,Sheet3!$B$2:$C$31,2,FALSE)))","v":114000},"Director","CXO or Top Mgmt.","USA","2 to 3 hours per day","Data Not Avaliable"]
[null,"ID1135",2400000,"INR",42739.000049862167,{"$f":"(tblSalaries[[#This Row],[clean Salary (in local currency)]])*(VLOOKUP(tblSalaries[[#This Row],[Currency]],Sheet3!$A$2:$C$31,3,FALSE))*(VLOOKUP(tblSalaries[[#This Row],[Currency]],Sheet1!$N$4:$Q$186,4,FALSE))","v":113666.45363687631},{"$f":"IF(Dashboard!$J$5=VLOOKUP(tblSalaries[[#This Row],[Currency]],Sheet3!$A$2:$B$31,2,FALSE),tblSalaries[[#This Row],[clean Salary (in local currency)]],(tblSalaries[[#This Row],[PPP Adjusted  USD]]/VLOOKUP(Dashboard!$J$5,Sheet3!$B$2:$C$31,2,FALSE)))","v":113666.45363687631},"GM Finance","Manager","India","All the 8 hours baby, all the 8!",10]
[null,"ID1865",112000,"USD",112000,{"$f":"(tblSalaries[[#This Row],[clean Salary (in local currency)]])*(VLOOKUP(tblSalaries[[#This Row],[Currency]],Sheet3!$A$2:$C$31,3,FALSE))*(VLOOKUP(tblSalaries[[#This Row],[Currency]],Sheet1!$N$4:$Q$186,4,FALSE))","v":112000},{"$f":"IF(Dashboard!$J$5=VLOOKUP(tblSalaries[[#This Row],[Currency]],Sheet3!$A$2:$B$31,2,FALSE),tblSalaries[[#This Row],[clean Salary (in local currency)]],(tblSalaries[[#This Row],[PPP Adjusted  USD]]/VLOOKUP(Dashboard!$J$5,Sheet3!$B$2:$C$31,2,FALSE)))","v":112000},"manager","Manager","USA","2 to 3 hours per day",8]
[null,"ID0181",111680,"USD",111680,{"$f":"(tblSalaries[[#This Row],[clean Salary (in local currency)]])*(VLOOKUP(tblSalaries[[#This Row],[Currency]],Sheet3!$A$2:$C$31,3,FALSE))*(VLOOKUP(tblSalaries[[#This Row],[Currency]],Sheet1!$N$4:$Q$186,4,FALSE))","v":111680},{"$f":"IF(Dashboard!$J$5=VLOOKUP(tblSalaries[[#This Row],[Currency]],Sheet3!$A$2:$B$31,2,FALSE),tblSalaries[[#This Row],[clean Salary (in local currency)]],(tblSalaries[[#This Row],[PPP Adjusted  USD]]/VLOOKUP(Dashboard!$J$5,Sheet3!$B$2:$C$31,2,FALSE)))","v":111680},"Director of Analytics","Analyst","USA","2 to 3 hours per day","Data Not Avaliable"]
[null,"ID0553",111000,"USD",111000,{"$f":"(tblSalaries[[#This Row],[clean Salary (in local currency)]])*(VLOOKUP(tblSalaries[[#This Row],[Currency]],Sheet3!$A$2:$C$31,3,FALSE))*(VLOOKUP(tblSalaries[[#This Row],[Currency]],Sheet1!$N$4:$Q$186,4,FALSE))","v":111000},{"$f":"IF(Dashboard!$J$5=VLOOKUP(tblSalaries[[#This Row],[Currency]],Sheet3!$A$2:$B$31,2,FALSE),tblSalaries[[#This Row],[clean Salary (in local currency)]],(tblSalaries[[#This Row],[PPP Adjusted  USD]]/VLOOKUP(Dashboard!$J$5,Sheet3!$B$2:$C$31,2,FALSE)))","v":111000},"Senior Financial Analyst","Analyst","Japan","All the 8 hours baby, all the 8!","Data Not Avaliable"]
[null,"ID1434",111000,"USD",111000,{"$f":"(tblSalaries[[#This Row],[clean Salary (in local currency)]])*(VLOOKUP(tblSalaries[[#This Row],[Currency]],Sheet3!$A$2:$C$31,3,FALSE))*(VLOOKUP(tblSalaries[[#This Row],[Currency]],Sheet1!$N$4:$Q$186,4,FALSE))","v":111000},{"$f":"IF(Dashboard!$J$5=VLOOKUP(tblSalaries[[#This Row],[Currency]],Sheet3!$A$2:$B$31,2,FALSE),tblSalaries[[#This Row],[clean Salary (in local currency)]],(tblSalaries[[#This Row],[PPP Adjusted  USD]]/VLOOKUP(Dashboard!$J$5,Sheet3!$B$2:$C$31,2,FALSE)))","v":111000},"Project Manager - Finance","Manager","USA","2 to 3 hours per day",10]
[null,"ID1880",2342342,"INR",41712.231189497601,{"$f":"(tblSalaries[[#This Row],[clean Salary (in local currency)]])*(VLOOKUP(tblSalaries[[#This Row],[Currency]],Sheet3!$A$2:$C$31,3,FALSE))*(VLOOKUP(tblSalaries[[#This Row],[Currency]],Sheet1!$N$4:$Q$186,4,FALSE))","v":110935.71181029503},{"$f":"IF(Dashboard!$J$5=VLOOKUP(tblSalaries[[#This Row],[Currency]],Sheet3!$A$2:$B$31,2,FALSE),tblSalaries[[#This Row],[clean Salary (in local currency)]],(tblSalaries[[#This Row],[PPP Adjusted  USD]]/VLOOKUP(Dashboard!$J$5,Sheet3!$B$2:$C$31,2,FALSE)))","v":110935.71181029503},"3r23regedf","Misc.","India","2 to 3 hours per day",12]
[null,"ID1115",75000,"GBP",118213.37040504631,{"$f":"(tblSalaries[[#This Row],[clean Salary (in local currency)]])*(VLOOKUP(tblSalaries[[#This Row],[Currency]],Sheet3!$A$2:$C$31,3,FALSE))*(VLOOKUP(tblSalaries[[#This Row],[Currency]],Sheet1!$N$4:$Q$186,4,FALSE))","v":110547.84037353206},{"$f":"IF(Dashboard!$J$5=VLOOKUP(tblSalaries[[#This Row],[Currency]],Sheet3!$A$2:$B$31,2,FALSE),tblSalaries[[#This Row],[clean Salary (in local currency)]],(tblSalaries[[#This Row],[PPP Adjusted  USD]]/VLOOKUP(Dashboard!$J$5,Sheet3!$B$2:$C$31,2,FALSE)))","v":110547.84037353206},"Management Consultant","Manager","UK","2 to 3 hours per day",10]
[null,"ID1240",75000,"GBP",118213.37040504631,{"$f":"(tblSalaries[[#This Row],[clean Salary (in local currency)]])*(VLOOKUP(tblSalaries[[#This Row],[Currency]],Sheet3!$A$2:$C$31,3,FALSE))*(VLOOKUP(tblSalaries[[#This Row],[Currency]],Sheet1!$N$4:$Q$186,4,FALSE))","v":110547.84037353206},{"$f":"IF(Dashboard!$J$5=VLOOKUP(tblSalaries[[#This Row],[Currency]],Sheet3!$A$2:$B$31,2,FALSE),tblSalaries[[#This Row],[clean Salary (in local currency)]],(tblSalaries[[#This Row],[PPP Adjusted  USD]]/VLOOKUP(Dashboard!$J$5,Sheet3!$B$2:$C$31,2,FALSE)))","v":110547.84037353206},"Finance Manager","Manager","UK","4 to 6 hours a day",20]
[null,"ID1137",100000,"EUR",127039.94389916077,{"$f":"(tblSalaries[[#This Row],[clean Salary (in local currency)]])*(VLOOKUP(tblSalaries[[#This Row],[Currency]],Sheet3!$A$2:$C$31,3,FALSE))*(VLOOKUP(tblSalaries[[#This Row],[Currency]],Sheet1!$N$4:$Q$186,4,FALSE))","v":110065.28859800521},{"$f":"IF(Dashboard!$J$5=VLOOKUP(tblSalaries[[#This Row],[Currency]],Sheet3!$A$2:$B$31,2,FALSE),tblSalaries[[#This Row],[clean Salary (in local currency)]],(tblSalaries[[#This Row],[PPP Adjusted  USD]]/VLOOKUP(Dashboard!$J$5,Sheet3!$B$2:$C$31,2,FALSE)))","v":110065.28859800521},"Finance Director","CXO or Top Mgmt.","Spain","1 or 2 hours a day",20]
[null,"ID0087",110000,"USD",110000,{"$f":"(tblSalaries[[#This Row],[clean Salary (in local currency)]])*(VLOOKUP(tblSalaries[[#This Row],[Currency]],Sheet3!$A$2:$C$31,3,FALSE))*(VLOOKUP(tblSalaries[[#This Row],[Currency]],Sheet1!$N$4:$Q$186,4,FALSE))","v":110000},{"$f":"IF(Dashboard!$J$5=VLOOKUP(tblSalaries[[#This Row],[Currency]],Sheet3!$A$2:$B$31,2,FALSE),tblSalaries[[#This Row],[clean Salary (in local currency)]],(tblSalaries[[#This Row],[PPP Adjusted  USD]]/VLOOKUP(Dashboard!$J$5,Sheet3!$B$2:$C$31,2,FALSE)))","v":110000},"Senior Scheduling Engineer","Engineer","USA","2 to 3 hours per day","Data Not Avaliable"]
[null,"ID0484",110000,"USD",110000,{"$f":"(tblSalaries[[#This Row],[clean Salary (in local currency)]])*(VLOOKUP(tblSalaries[[#This Row],[Currency]],Sheet3!$A$2:$C$31,3,FALSE))*(VLOOKUP(tblSalaries[[#This Row],[Currency]],Sheet1!$N$4:$Q$186,4,FALSE))","v":110000},{"$f":"IF(Dashboard!$J$5=VLOOKUP(tblSalaries[[#This Row],[Currency]],Sheet3!$A$2:$B$31,2,FALSE),tblSalaries[[#This Row],[clean Salary (in local currency)]],(tblSalaries[[#This Row],[PPP Adjusted  USD]]/VLOOKUP(Dashboard!$J$5,Sheet3!$B$2:$C$31,2,FALSE)))","v":110000},"Senior consultant accounting","Accountant","Norway","2 to 3 hours per day","Data Not Avaliable"]
[null,"ID1361",110000,"USD",110000,{"$f":"(tblSalaries[[#This Row],[clean Salary (in local currency)]])*(VLOOKUP(tblSalaries[[#This Row],[Currency]],Sheet3!$A$2:$C$31,3,FALSE))*(VLOOKUP(tblSalaries[[#This Row],[Currency]],Sheet1!$N$4:$Q$186,4,FALSE))","v":110000},{"$f":"IF(Dashboard!$J$5=VLOOKUP(tblSalaries[[#This Row],[Currency]],Sheet3!$A$2:$B$31,2,FALSE),tblSalaries[[#This Row],[clean Salary (in local currency)]],(tblSalaries[[#This Row],[PPP Adjusted  USD]]/VLOOKUP(Dashboard!$J$5,Sheet3!$B$2:$C$31,2,FALSE)))","v":110000},"Business Analytics Associate","Analyst","USA","1 or 2 hours a day",10]
[null,"ID1556",110000,"USD",110000,{"$f":"(tblSalaries[[#This Row],[clean Salary (in local currency)]])*(VLOOKUP(tblSalaries[[#This Row],[Currency]],Sheet3!$A$2:$C$31,3,FALSE))*(VLOOKUP(tblSalaries[[#This Row],[Currency]],Sheet1!$N$4:$Q$186,4,FALSE))","v":110000},{"$f":"IF(Dashboard!$J$5=VLOOKUP(tblSalaries[[#This Row],[Currency]],Sheet3!$A$2:$B$31,2,FALSE),tblSalaries[[#This Row],[clean Salary (in local currency)]],(tblSalaries[[#This Row],[PPP Adjusted  USD]]/VLOOKUP(Dashboard!$J$5,Sheet3!$B$2:$C$31,2,FALSE)))","v":110000},"Business Controller","Controller","Norway","All the 8 hours baby, all the 8!",5]
[null,"ID1919",110000,"USD",110000,{"$f":"(tblSalaries[[#This Row],[clean Salary (in local currency)]])*(VLOOKUP(tblSalaries[[#This Row],[Currency]],Sheet3!$A$2:$C$31,3,FALSE))*(VLOOKUP(tblSalaries[[#This Row],[Currency]],Sheet1!$N$4:$Q$186,4,FALSE))","v":110000},{"$f":"IF(Dashboard!$J$5=VLOOKUP(tblSalaries[[#This Row],[Currency]],Sheet3!$A$2:$B$31,2,FALSE),tblSalaries[[#This Row],[clean Salary (in local currency)]],(tblSalaries[[#This Row],[PPP Adjusted  USD]]/VLOOKUP(Dashboard!$J$5,Sheet3!$B$2:$C$31,2,FALSE)))","v":110000},"Vice President - Finance","CXO or Top Mgmt.","USA","4 to 6 hours a day",10]
[null,"ID0746",74000,"GBP",116637.19213297902,{"$f":"(tblSalaries[[#This Row],[clean Salary (in local currency)]])*(VLOOKUP(tblSalaries[[#This Row],[Currency]],Sheet3!$A$2:$C$31,3,FALSE))*(VLOOKUP(tblSalaries[[#This Row],[Currency]],Sheet1!$N$4:$Q$186,4,FALSE))","v":109073.86916855162},{"$f":"IF(Dashboard!$J$5=VLOOKUP(tblSalaries[[#This Row],[Currency]],Sheet3!$A$2:$B$31,2,FALSE),tblSalaries[[#This Row],[clean Salary (in local currency)]],(tblSalaries[[#This Row],[PPP Adjusted  USD]]/VLOOKUP(Dashboard!$J$5,Sheet3!$B$2:$C$31,2,FALSE)))","v":109073.86916855162},"Corporate Finance Manager","Manager","UK","4 to 6 hours a day",5]
[null,"ID1484",109000,"USD",109000,{"$f":"(tblSalaries[[#This Row],[clean Salary (in local currency)]])*(VLOOKUP(tblSalaries[[#This Row],[Currency]],Sheet3!$A$2:$C$31,3,FALSE))*(VLOOKUP(tblSalaries[[#This Row],[Currency]],Sheet1!$N$4:$Q$186,4,FALSE))","v":109000},{"$f":"IF(Dashboard!$J$5=VLOOKUP(tblSalaries[[#This Row],[Currency]],Sheet3!$A$2:$B$31,2,FALSE),tblSalaries[[#This Row],[clean Salary (in local currency)]],(tblSalaries[[#This Row],[PPP Adjusted  USD]]/VLOOKUP(Dashboard!$J$5,Sheet3!$B$2:$C$31,2,FALSE)))","v":109000},"Mgr Technology","Manager","USA","4 to 6 hours a day",15]
[null,"ID0124",2300000,"INR",40958.208381117904,{"$f":"(tblSalaries[[#This Row],[clean Salary (in local currency)]])*(VLOOKUP(tblSalaries[[#This Row],[Currency]],Sheet3!$A$2:$C$31,3,FALSE))*(VLOOKUP(tblSalaries[[#This Row],[Currency]],Sheet1!$N$4:$Q$186,4,FALSE))","v":108930.35140200643},{"$f":"IF(Dashboard!$J$5=VLOOKUP(tblSalaries[[#This Row],[Currency]],Sheet3!$A$2:$B$31,2,FALSE),tblSalaries[[#This Row],[clean Salary (in local currency)]],(tblSalaries[[#This Row],[PPP Adjusted  USD]]/VLOOKUP(Dashboard!$J$5,Sheet3!$B$2:$C$31,2,FALSE)))","v":108930.35140200643},"Analytics lead","Analyst","India","1 or 2 hours a day","Data Not Avaliable"]
[null,"ID0712",2300000,"INR",40958.208381117904,{"$f":"(tblSalaries[[#This Row],[clean Salary (in local currency)]])*(VLOOKUP(tblSalaries[[#This Row],[Currency]],Sheet3!$A$2:$C$31,3,FALSE))*(VLOOKUP(tblSalaries[[#This Row],[Currency]],Sheet1!$N$4:$Q$186,4,FALSE))","v":108930.35140200643},{"$f":"IF(Dashboard!$J$5=VLOOKUP(tblSalaries[[#This Row],[Currency]],Sheet3!$A$2:$B$31,2,FALSE),tblSalaries[[#This Row],[clean Salary (in local currency)]],(tblSalaries[[#This Row],[PPP Adjusted  USD]]/VLOOKUP(Dashboard!$J$5,Sheet3!$B$2:$C$31,2,FALSE)))","v":108930.35140200643},"analyst","Analyst","India","All the 8 hours baby, all the 8!",5]
[null,"ID0895",2300000,"INR",40958.208381117904,{"$f":"(tblSalaries[[#This Row],[clean Salary (in local currency)]])*(VLOOKUP(tblSalaries[[#This Row],[Currency]],Sheet3!$A$2:$C$31,3,FALSE))*(VLOOKUP(tblSalaries[[#This Row],[Currency]],Sheet1!$N$4:$Q$186,4,FALSE))","v":108930.35140200643},{"$f":"IF(Dashboard!$J$5=VLOOKUP(tblSalaries[[#This Row],[Currency]],Sheet3!$A$2:$B$31,2,FALSE),tblSalaries[[#This Row],[clean Salary (in local currency)]],(tblSalaries[[#This Row],[PPP Adjusted  USD]]/VLOOKUP(Dashboard!$J$5,Sheet3!$B$2:$C$31,2,FALSE)))","v":108930.35140200643},"Manager - Business Planning & Reporting","Manager","India","2 to 3 hours per day",8]
[null,"ID1002",180000,"NZD",143565.85684888897,{"$f":"(tblSalaries[[#This Row],[clean Salary (in local currency)]])*(VLOOKUP(tblSalaries[[#This Row],[Currency]],Sheet3!$A$2:$C$31,3,FALSE))*(VLOOKUP(tblSalaries[[#This Row],[Currency]],Sheet1!$N$4:$Q$186,4,FALSE))","v":108388.22587402172},{"$f":"IF(Dashboard!$J$5=VLOOKUP(tblSalaries[[#This Row],[Currency]],Sheet3!$A$2:$B$31,2,FALSE),tblSalaries[[#This Row],[clean Salary (in local currency)]],(tblSalaries[[#This Row],[PPP Adjusted  USD]]/VLOOKUP(Dashboard!$J$5,Sheet3!$B$2:$C$31,2,FALSE)))","v":108388.22587402172},"Commercial Manager","Manager","New Zealand","4 to 6 hours a day",25]
[null,"ID0209",108160,"USD",108160,{"$f":"(tblSalaries[[#This Row],[clean Salary (in local currency)]])*(VLOOKUP(tblSalaries[[#This Row],[Currency]],Sheet3!$A$2:$C$31,3,FALSE))*(VLOOKUP(tblSalaries[[#This Row],[Currency]],Sheet1!$N$4:$Q$186,4,FALSE))","v":108160},{"$f":"IF(Dashboard!$J$5=VLOOKUP(tblSalaries[[#This Row],[Currency]],Sheet3!$A$2:$B$31,2,FALSE),tblSalaries[[#This Row],[clean Salary (in local currency)]],(tblSalaries[[#This Row],[PPP Adjusted  USD]]/VLOOKUP(Dashboard!$J$5,Sheet3!$B$2:$C$31,2,FALSE)))","v":108160},"Sr. Financial Analyst","Analyst","USA","4 to 6 hours a day","Data Not Avaliable"]
[null,"ID0331",108000,"USD",108000,{"$f":"(tblSalaries[[#This Row],[clean Salary (in local currency)]])*(VLOOKUP(tblSalaries[[#This Row],[Currency]],Sheet3!$A$2:$C$31,3,FALSE))*(VLOOKUP(tblSalaries[[#This Row],[Currency]],Sheet1!$N$4:$Q$186,4,FALSE))","v":108000},{"$f":"IF(Dashboard!$J$5=VLOOKUP(tblSalaries[[#This Row],[Currency]],Sheet3!$A$2:$B$31,2,FALSE),tblSalaries[[#This Row],[clean Salary (in local currency)]],(tblSalaries[[#This Row],[PPP Adjusted  USD]]/VLOOKUP(Dashboard!$J$5,Sheet3!$B$2:$C$31,2,FALSE)))","v":108000},"Database Architect","Manager","USA","2 to 3 hours per day","Data Not Avaliable"]
[null,"ID0496",108000,"USD",108000,{"$f":"(tblSalaries[[#This Row],[clean Salary (in local currency)]])*(VLOOKUP(tblSalaries[[#This Row],[Currency]],Sheet3!$A$2:$C$31,3,FALSE))*(VLOOKUP(tblSalaries[[#This Row],[Currency]],Sheet1!$N$4:$Q$186,4,FALSE))","v":108000},{"$f":"IF(Dashboard!$J$5=VLOOKUP(tblSalaries[[#This Row],[Currency]],Sheet3!$A$2:$B$31,2,FALSE),tblSalaries[[#This Row],[clean Salary (in local currency)]],(tblSalaries[[#This Row],[PPP Adjusted  USD]]/VLOOKUP(Dashboard!$J$5,Sheet3!$B$2:$C$31,2,FALSE)))","v":108000},"Manager","Manager","Norway","4 to 6 hours a day","Data Not Avaliable"]
[null,"ID0596",108000,"USD",108000,{"$f":"(tblSalaries[[#This Row],[clean Salary (in local currency)]])*(VLOOKUP(tblSalaries[[#This Row],[Currency]],Sheet3!$A$2:$C$31,3,FALSE))*(VLOOKUP(tblSalaries[[#This Row],[Currency]],Sheet1!$N$4:$Q$186,4,FALSE))","v":108000},{"$f":"IF(Dashboard!$J$5=VLOOKUP(tblSalaries[[#This Row],[Currency]],Sheet3!$A$2:$B$31,2,FALSE),tblSalaries[[#This Row],[clean Salary (in local currency)]],(tblSalaries[[#This Row],[PPP Adjusted  USD]]/VLOOKUP(Dashboard!$J$5,Sheet3!$B$2:$C$31,2,FALSE)))","v":108000},"Technology consultant ","Consultant","USA","2 to 3 hours per day",7]
[null,"ID0538",73000,"GBP",115061.01386091174,{"$f":"(tblSalaries[[#This Row],[clean Salary (in local currency)]])*(VLOOKUP(tblSalaries[[#This Row],[Currency]],Sheet3!$A$2:$C$31,3,FALSE))*(VLOOKUP(tblSalaries[[#This Row],[Currency]],Sheet1!$N$4:$Q$186,4,FALSE))","v":107599.8979635712},{"$f":"IF(Dashboard!$J$5=VLOOKUP(tblSalaries[[#This Row],[Currency]],Sheet3!$A$2:$B$31,2,FALSE),tblSalaries[[#This Row],[clean Salary (in local currency)]],(tblSalaries[[#This Row],[PPP Adjusted  USD]]/VLOOKUP(Dashboard!$J$5,Sheet3!$B$2:$C$31,2,FALSE)))","v":107599.8979635712},"Finance Manager","Manager","UK","4 to 6 hours a day","Data Not Avaliable"]
[null,"ID1739",73000,"GBP",115061.01386091174,{"$f":"(tblSalaries[[#This Row],[clean Salary (in local currency)]])*(VLOOKUP(tblSalaries[[#This Row],[Currency]],Sheet3!$A$2:$C$31,3,FALSE))*(VLOOKUP(tblSalaries[[#This Row],[Currency]],Sheet1!$N$4:$Q$186,4,FALSE))","v":107599.8979635712},{"$f":"IF(Dashboard!$J$5=VLOOKUP(tblSalaries[[#This Row],[Currency]],Sheet3!$A$2:$B$31,2,FALSE),tblSalaries[[#This Row],[clean Salary (in local currency)]],(tblSalaries[[#This Row],[PPP Adjusted  USD]]/VLOOKUP(Dashboard!$J$5,Sheet3!$B$2:$C$31,2,FALSE)))","v":107599.8979635712},"Financial Controller","Controller","UK","4 to 6 hours a day",8]
[null,"ID0017",107000,"USD",107000,{"$f":"(tblSalaries[[#This Row],[clean Salary (in local currency)]])*(VLOOKUP(tblSalaries[[#This Row],[Currency]],Sheet3!$A$2:$C$31,3,FALSE))*(VLOOKUP(tblSalaries[[#This Row],[Currency]],Sheet1!$N$4:$Q$186,4,FALSE))","v":107000},{"$f":"IF(Dashboard!$J$5=VLOOKUP(tblSalaries[[#This Row],[Currency]],Sheet3!$A$2:$B$31,2,FALSE),tblSalaries[[#This Row],[clean Salary (in local currency)]],(tblSalaries[[#This Row],[PPP Adjusted  USD]]/VLOOKUP(Dashboard!$J$5,Sheet3!$B$2:$C$31,2,FALSE)))","v":107000},"Business Development","Manager","Switzerland","4 to 6 hours a day","Data Not Avaliable"]
[null,"ID1266",107000,"USD",107000,{"$f":"(tblSalaries[[#This Row],[clean Salary (in local currency)]])*(VLOOKUP(tblSalaries[[#This Row],[Currency]],Sheet3!$A$2:$C$31,3,FALSE))*(VLOOKUP(tblSalaries[[#This Row],[Currency]],Sheet1!$N$4:$Q$186,4,FALSE))","v":107000},{"$f":"IF(Dashboard!$J$5=VLOOKUP(tblSalaries[[#This Row],[Currency]],Sheet3!$A$2:$B$31,2,FALSE),tblSalaries[[#This Row],[clean Salary (in local currency)]],(tblSalaries[[#This Row],[PPP Adjusted  USD]]/VLOOKUP(Dashboard!$J$5,Sheet3!$B$2:$C$31,2,FALSE)))","v":107000},"Certified Public Accountant","Accountant","USA","4 to 6 hours a day",12]
[null,"ID1418",107000,"USD",107000,{"$f":"(tblSalaries[[#This Row],[clean Salary (in local currency)]])*(VLOOKUP(tblSalaries[[#This Row],[Currency]],Sheet3!$A$2:$C$31,3,FALSE))*(VLOOKUP(tblSalaries[[#This Row],[Currency]],Sheet1!$N$4:$Q$186,4,FALSE))","v":107000},{"$f":"IF(Dashboard!$J$5=VLOOKUP(tblSalaries[[#This Row],[Currency]],Sheet3!$A$2:$B$31,2,FALSE),tblSalaries[[#This Row],[clean Salary (in local currency)]],(tblSalaries[[#This Row],[PPP Adjusted  USD]]/VLOOKUP(Dashboard!$J$5,Sheet3!$B$2:$C$31,2,FALSE)))","v":107000},"Tax Manager","Manager","USA","All the 8 hours baby, all the 8!",29]
[null,"ID0785",2250000,"INR",40067.812546745779,{"$f":"(tblSalaries[[#This Row],[clean Salary (in local currency)]])*(VLOOKUP(tblSalaries[[#This Row],[Currency]],Sheet3!$A$2:$C$31,3,FALSE))*(VLOOKUP(tblSalaries[[#This Row],[Currency]],Sheet1!$N$4:$Q$186,4,FALSE))","v":106562.30028457152},{"$f":"IF(Dashboard!$J$5=VLOOKUP(tblSalaries[[#This Row],[Currency]],Sheet3!$A$2:$B$31,2,FALSE),tblSalaries[[#This Row],[clean Salary (in local currency)]],(tblSalaries[[#This Row],[PPP Adjusted  USD]]/VLOOKUP(Dashboard!$J$5,Sheet3!$B$2:$C$31,2,FALSE)))","v":106562.30028457152},"company secretary","Accountant","India","1 or 2 hours a day",5]
[null,"ID0633",170000,"AUD",173384.64158844808,{"$f":"(tblSalaries[[#This Row],[clean Salary (in local currency)]])*(VLOOKUP(tblSalaries[[#This Row],[Currency]],Sheet3!$A$2:$C$31,3,FALSE))*(VLOOKUP(tblSalaries[[#This Row],[Currency]],Sheet1!$N$4:$Q$186,4,FALSE))","v":106541.38989376387},{"$f":"IF(Dashboard!$J$5=VLOOKUP(tblSalaries[[#This Row],[Currency]],Sheet3!$A$2:$B$31,2,FALSE),tblSalaries[[#This Row],[clean Salary (in local currency)]],(tblSalaries[[#This Row],[PPP Adjusted  USD]]/VLOOKUP(Dashboard!$J$5,Sheet3!$B$2:$C$31,2,FALSE)))","v":106541.38989376387},"senior business analyst","Analyst","Australia","All the 8 hours baby, all the 8!",10]
[null,"ID1009",170000,"AUD",173384.64158844808,{"$f":"(tblSalaries[[#This Row],[clean Salary (in local currency)]])*(VLOOKUP(tblSalaries[[#This Row],[Currency]],Sheet3!$A$2:$C$31,3,FALSE))*(VLOOKUP(tblSalaries[[#This Row],[Currency]],Sheet1!$N$4:$Q$186,4,FALSE))","v":106541.38989376387},{"$f":"IF(Dashboard!$J$5=VLOOKUP(tblSalaries[[#This Row],[Currency]],Sheet3!$A$2:$B$31,2,FALSE),tblSalaries[[#This Row],[clean Salary (in local currency)]],(tblSalaries[[#This Row],[PPP Adjusted  USD]]/VLOOKUP(Dashboard!$J$5,Sheet3!$B$2:$C$31,2,FALSE)))","v":106541.38989376387},"Business Consultant","Consultant","Australia","2 to 3 hours per day",8]
[null,"ID1637",106000,"USD",106000,{"$f":"(tblSalaries[[#This Row],[clean Salary (in local currency)]])*(VLOOKUP(tblSalaries[[#This Row],[Currency]],Sheet3!$A$2:$C$31,3,FALSE))*(VLOOKUP(tblSalaries[[#This Row],[Currency]],Sheet1!$N$4:$Q$186,4,FALSE))","v":106000},{"$f":"IF(Dashboard!$J$5=VLOOKUP(tblSalaries[[#This Row],[Currency]],Sheet3!$A$2:$B$31,2,FALSE),tblSalaries[[#This Row],[clean Salary (in local currency)]],(tblSalaries[[#This Row],[PPP Adjusted  USD]]/VLOOKUP(Dashboard!$J$5,Sheet3!$B$2:$C$31,2,FALSE)))","v":106000},"IT Developer","Analyst","Denmark","1 or 2 hours a day",7]
[null,"ID1730",134000,"CAD",131770.4440860638,{"$f":"(tblSalaries[[#This Row],[clean Salary (in local currency)]])*(VLOOKUP(tblSalaries[[#This Row],[Currency]],Sheet3!$A$2:$C$31,3,FALSE))*(VLOOKUP(tblSalaries[[#This Row],[Currency]],Sheet1!$N$4:$Q$186,4,FALSE))","v":105919.79122911418},{"$f":"IF(Dashboard!$J$5=VLOOKUP(tblSalaries[[#This Row],[Currency]],Sheet3!$A$2:$B$31,2,FALSE),tblSalaries[[#This Row],[clean Salary (in local currency)]],(tblSalaries[[#This Row],[PPP Adjusted  USD]]/VLOOKUP(Dashboard!$J$5,Sheet3!$B$2:$C$31,2,FALSE)))","v":105919.79122911418},"Senior Production Accountant","Accountant","Canada","All the 8 hours baby, all the 8!",20]
[null,"ID0677",105000,"USD",105000,{"$f":"(tblSalaries[[#This Row],[clean Salary (in local currency)]])*(VLOOKUP(tblSalaries[[#This Row],[Currency]],Sheet3!$A$2:$C$31,3,FALSE))*(VLOOKUP(tblSalaries[[#This Row],[Currency]],Sheet1!$N$4:$Q$186,4,FALSE))","v":105000},{"$f":"IF(Dashboard!$J$5=VLOOKUP(tblSalaries[[#This Row],[Currency]],Sheet3!$A$2:$B$31,2,FALSE),tblSalaries[[#This Row],[clean Salary (in local currency)]],(tblSalaries[[#This Row],[PPP Adjusted  USD]]/VLOOKUP(Dashboard!$J$5,Sheet3!$B$2:$C$31,2,FALSE)))","v":105000},"Senior Consultant","Consultant","USA","2 to 3 hours per day",15]
[null,"ID0930",105000,"USD",105000,{"$f":"(tblSalaries[[#This Row],[clean Salary (in local currency)]])*(VLOOKUP(tblSalaries[[#This Row],[Currency]],Sheet3!$A$2:$C$31,3,FALSE))*(VLOOKUP(tblSalaries[[#This Row],[Currency]],Sheet1!$N$4:$Q$186,4,FALSE))","v":105000},{"$f":"IF(Dashboard!$J$5=VLOOKUP(tblSalaries[[#This Row],[Currency]],Sheet3!$A$2:$B$31,2,FALSE),tblSalaries[[#This Row],[clean Salary (in local currency)]],(tblSalaries[[#This Row],[PPP Adjusted  USD]]/VLOOKUP(Dashboard!$J$5,Sheet3!$B$2:$C$31,2,FALSE)))","v":105000},"business analyst","Analyst","USA","4 to 6 hours a day",20]
[null,"ID1357",105000,"USD",105000,{"$f":"(tblSalaries[[#This Row],[clean Salary (in local currency)]])*(VLOOKUP(tblSalaries[[#This Row],[Currency]],Sheet3!$A$2:$C$31,3,FALSE))*(VLOOKUP(tblSalaries[[#This Row],[Currency]],Sheet1!$N$4:$Q$186,4,FALSE))","v":105000},{"$f":"IF(Dashboard!$J$5=VLOOKUP(tblSalaries[[#This Row],[Currency]],Sheet3!$A$2:$B$31,2,FALSE),tblSalaries[[#This Row],[clean Salary (in local currency)]],(tblSalaries[[#This Row],[PPP Adjusted  USD]]/VLOOKUP(Dashboard!$J$5,Sheet3!$B$2:$C$31,2,FALSE)))","v":105000},"Director of Technology","CXO or Top Mgmt.","USA","1 or 2 hours a day",15]
[null,"ID1534",105000,"USD",105000,{"$f":"(tblSalaries[[#This Row],[clean Salary (in local currency)]])*(VLOOKUP(tblSalaries[[#This Row],[Currency]],Sheet3!$A$2:$C$31,3,FALSE))*(VLOOKUP(tblSalaries[[#This Row],[Currency]],Sheet1!$N$4:$Q$186,4,FALSE))","v":105000},{"$f":"IF(Dashboard!$J$5=VLOOKUP(tblSalaries[[#This Row],[Currency]],Sheet3!$A$2:$B$31,2,FALSE),tblSalaries[[#This Row],[clean Salary (in local currency)]],(tblSalaries[[#This Row],[PPP Adjusted  USD]]/VLOOKUP(Dashboard!$J$5,Sheet3!$B$2:$C$31,2,FALSE)))","v":105000},"Business Banker","Manager","USA","1 or 2 hours a day",30]
[null,"ID1366",2210000,"INR",39355.495879248076,{"$f":"(tblSalaries[[#This Row],[clean Salary (in local currency)]])*(VLOOKUP(tblSalaries[[#This Row],[Currency]],Sheet3!$A$2:$C$31,3,FALSE))*(VLOOKUP(tblSalaries[[#This Row],[Currency]],Sheet1!$N$4:$Q$186,4,FALSE))","v":104667.85939062359},{"$f":"IF(Dashboard!$J$5=VLOOKUP(tblSalaries[[#This Row],[Currency]],Sheet3!$A$2:$B$31,2,FALSE),tblSalaries[[#This Row],[clean Salary (in local currency)]],(tblSalaries[[#This Row],[PPP Adjusted  USD]]/VLOOKUP(Dashboard!$J$5,Sheet3!$B$2:$C$31,2,FALSE)))","v":104667.85939062359},"Marketing","Analyst","India","1 or 2 hours a day",5.6]
[null,"ID0143",104000,"USD",104000,{"$f":"(tblSalaries[[#This Row],[clean Salary (in local currency)]])*(VLOOKUP(tblSalaries[[#This Row],[Currency]],Sheet3!$A$2:$C$31,3,FALSE))*(VLOOKUP(tblSalaries[[#This Row],[Currency]],Sheet1!$N$4:$Q$186,4,FALSE))","v":104000},{"$f":"IF(Dashboard!$J$5=VLOOKUP(tblSalaries[[#This Row],[Currency]],Sheet3!$A$2:$B$31,2,FALSE),tblSalaries[[#This Row],[clean Salary (in local currency)]],(tblSalaries[[#This Row],[PPP Adjusted  USD]]/VLOOKUP(Dashboard!$J$5,Sheet3!$B$2:$C$31,2,FALSE)))","v":104000},"Finance Director","CXO or Top Mgmt.","USA","2 to 3 hours per day","Data Not Avaliable"]
[null,"ID0525",104000,"USD",104000,{"$f":"(tblSalaries[[#This Row],[clean Salary (in local currency)]])*(VLOOKUP(tblSalaries[[#This Row],[Currency]],Sheet3!$A$2:$C$31,3,FALSE))*(VLOOKUP(tblSalaries[[#This Row],[Currency]],Sheet1!$N$4:$Q$186,4,FALSE))","v":104000},{"$f":"IF(Dashboard!$J$5=VLOOKUP(tblSalaries[[#This Row],[Currency]],Sheet3!$A$2:$B$31,2,FALSE),tblSalaries[[#This Row],[clean Salary (in local currency)]],(tblSalaries[[#This Row],[PPP Adjusted  USD]]/VLOOKUP(Dashboard!$J$5,Sheet3!$B$2:$C$31,2,FALSE)))","v":104000},"Vice President, Analyst","Analyst","USA","4 to 6 hours a day","Data Not Avaliable"]
[null,"ID1492",165000,"AUD",168285.09330643489,{"$f":"(tblSalaries[[#This Row],[clean Salary (in local currency)]])*(VLOOKUP(tblSalaries[[#This Row],[Currency]],Sheet3!$A$2:$C$31,3,FALSE))*(VLOOKUP(tblSalaries[[#This Row],[Currency]],Sheet1!$N$4:$Q$186,4,FALSE))","v":103407.81960277082},{"$f":"IF(Dashboard!$J$5=VLOOKUP(tblSalaries[[#This Row],[Currency]],Sheet3!$A$2:$B$31,2,FALSE),tblSalaries[[#This Row],[clean Salary (in local currency)]],(tblSalaries[[#This Row],[PPP Adjusted  USD]]/VLOOKUP(Dashboard!$J$5,Sheet3!$B$2:$C$31,2,FALSE)))","v":103407.81960277082},"Engineer","Engineer","Australia","2 to 3 hours per day",17]
[null,"ID0134",70000,"GBP",110332.47904470989,{"$f":"(tblSalaries[[#This Row],[clean Salary (in local currency)]])*(VLOOKUP(tblSalaries[[#This Row],[Currency]],Sheet3!$A$2:$C$31,3,FALSE))*(VLOOKUP(tblSalaries[[#This Row],[Currency]],Sheet1!$N$4:$Q$186,4,FALSE))","v":103177.98434862992},{"$f":"IF(Dashboard!$J$5=VLOOKUP(tblSalaries[[#This Row],[Currency]],Sheet3!$A$2:$B$31,2,FALSE),tblSalaries[[#This Row],[clean Salary (in local currency)]],(tblSalaries[[#This Row],[PPP Adjusted  USD]]/VLOOKUP(Dashboard!$J$5,Sheet3!$B$2:$C$31,2,FALSE)))","v":103177.98434862992},"Project Manager","Manager","UK","2 to 3 hours per day","Data Not Avaliable"]
[null,"ID1348",70000,"GBP",110332.47904470989,{"$f":"(tblSalaries[[#This Row],[clean Salary (in local currency)]])*(VLOOKUP(tblSalaries[[#This Row],[Currency]],Sheet3!$A$2:$C$31,3,FALSE))*(VLOOKUP(tblSalaries[[#This Row],[Currency]],Sheet1!$N$4:$Q$186,4,FALSE))","v":103177.98434862992},{"$f":"IF(Dashboard!$J$5=VLOOKUP(tblSalaries[[#This Row],[Currency]],Sheet3!$A$2:$B$31,2,FALSE),tblSalaries[[#This Row],[clean Salary (in local currency)]],(tblSalaries[[#This Row],[PPP Adjusted  USD]]/VLOOKUP(Dashboard!$J$5,Sheet3!$B$2:$C$31,2,FALSE)))","v":103177.98434862992},"Consultant","Consultant","UK","4 to 6 hours a day",15]
[null,"ID0270",103000,"USD",103000,{"$f":"(tblSalaries[[#This Row],[clean Salary (in local currency)]])*(VLOOKUP(tblSalaries[[#This Row],[Currency]],Sheet3!$A$2:$C$31,3,FALSE))*(VLOOKUP(tblSalaries[[#This Row],[Currency]],Sheet1!$N$4:$Q$186,4,FALSE))","v":103000},{"$f":"IF(Dashboard!$J$5=VLOOKUP(tblSalaries[[#This Row],[Currency]],Sheet3!$A$2:$B$31,2,FALSE),tblSalaries[[#This Row],[clean Salary (in local currency)]],(tblSalaries[[#This Row],[PPP Adjusted  USD]]/VLOOKUP(Dashboard!$J$5,Sheet3!$B$2:$C$31,2,FALSE)))","v":103000},"VP / Credit Administrator","CXO or Top Mgmt.","USA","2 to 3 hours per day","Data Not Avaliable"]
[null,"ID1379",103000,"USD",103000,{"$f":"(tblSalaries[[#This Row],[clean Salary (in local currency)]])*(VLOOKUP(tblSalaries[[#This Row],[Currency]],Sheet3!$A$2:$C$31,3,FALSE))*(VLOOKUP(tblSalaries[[#This Row],[Currency]],Sheet1!$N$4:$Q$186,4,FALSE))","v":103000},{"$f":"IF(Dashboard!$J$5=VLOOKUP(tblSalaries[[#This Row],[Currency]],Sheet3!$A$2:$B$31,2,FALSE),tblSalaries[[#This Row],[clean Salary (in local currency)]],(tblSalaries[[#This Row],[PPP Adjusted  USD]]/VLOOKUP(Dashboard!$J$5,Sheet3!$B$2:$C$31,2,FALSE)))","v":103000},"Controller","Controller","USA","4 to 6 hours a day",22]
[null,"ID1445",102000,"USD",102000,{"$f":"(tblSalaries[[#This Row],[clean Salary (in local currency)]])*(VLOOKUP(tblSalaries[[#This Row],[Currency]],Sheet3!$A$2:$C$31,3,FALSE))*(VLOOKUP(tblSalaries[[#This Row],[Currency]],Sheet1!$N$4:$Q$186,4,FALSE))","v":102000},{"$f":"IF(Dashboard!$J$5=VLOOKUP(tblSalaries[[#This Row],[Currency]],Sheet3!$A$2:$B$31,2,FALSE),tblSalaries[[#This Row],[clean Salary (in local currency)]],(tblSalaries[[#This Row],[PPP Adjusted  USD]]/VLOOKUP(Dashboard!$J$5,Sheet3!$B$2:$C$31,2,FALSE)))","v":102000},"Sales Analyst","Analyst","USA","4 to 6 hours a day",5]
[null,"ID1543",320000,"SAR",85333.333333333328,{"$f":"(tblSalaries[[#This Row],[clean Salary (in local currency)]])*(VLOOKUP(tblSalaries[[#This Row],[Currency]],Sheet3!$A$2:$C$31,3,FALSE))*(VLOOKUP(tblSalaries[[#This Row],[Currency]],Sheet1!$N$4:$Q$186,4,FALSE))","v":100869.27576127448},{"$f":"IF(Dashboard!$J$5=VLOOKUP(tblSalaries[[#This Row],[Currency]],Sheet3!$A$2:$B$31,2,FALSE),tblSalaries[[#This Row],[clean Salary (in local currency)]],(tblSalaries[[#This Row],[PPP Adjusted  USD]]/VLOOKUP(Dashboard!$J$5,Sheet3!$B$2:$C$31,2,FALSE)))","v":100869.27576127448},"Merchandise Planning Manager","Manager","Saudi Arabia","2 to 3 hours per day",15]
[null,"ID1928",100800,"USD",100800,{"$f":"(tblSalaries[[#This Row],[clean Salary (in local currency)]])*(VLOOKUP(tblSalaries[[#This Row],[Currency]],Sheet3!$A$2:$C$31,3,FALSE))*(VLOOKUP(tblSalaries[[#This Row],[Currency]],Sheet1!$N$4:$Q$186,4,FALSE))","v":100800},{"$f":"IF(Dashboard!$J$5=VLOOKUP(tblSalaries[[#This Row],[Currency]],Sheet3!$A$2:$B$31,2,FALSE),tblSalaries[[#This Row],[clean Salary (in local currency)]],(tblSalaries[[#This Row],[PPP Adjusted  USD]]/VLOOKUP(Dashboard!$J$5,Sheet3!$B$2:$C$31,2,FALSE)))","v":100800},"AVP","CXO or Top Mgmt.","Oman","4 to 6 hours a day",4]
[null,"ID0050",100000,"USD",100000,{"$f":"(tblSalaries[[#This Row],[clean Salary (in local currency)]])*(VLOOKUP(tblSalaries[[#This Row],[Currency]],Sheet3!$A$2:$C$31,3,FALSE))*(VLOOKUP(tblSalaries[[#This Row],[Currency]],Sheet1!$N$4:$Q$186,4,FALSE))","v":100000},{"$f":"IF(Dashboard!$J$5=VLOOKUP(tblSalaries[[#This Row],[Currency]],Sheet3!$A$2:$B$31,2,FALSE),tblSalaries[[#This Row],[clean Salary (in local currency)]],(tblSalaries[[#This Row],[PPP Adjusted  USD]]/VLOOKUP(Dashboard!$J$5,Sheet3!$B$2:$C$31,2,FALSE)))","v":100000},"Seinor Financial Analyst","Analyst","Germany","All the 8 hours baby, all the 8!","Data Not Avaliable"]
[null,"ID0070",100000,"USD",100000,{"$f":"(tblSalaries[[#This Row],[clean Salary (in local currency)]])*(VLOOKUP(tblSalaries[[#This Row],[Currency]],Sheet3!$A$2:$C$31,3,FALSE))*(VLOOKUP(tblSalaries[[#This Row],[Currency]],Sheet1!$N$4:$Q$186,4,FALSE))","v":100000},{"$f":"IF(Dashboard!$J$5=VLOOKUP(tblSalaries[[#This Row],[Currency]],Sheet3!$A$2:$B$31,2,FALSE),tblSalaries[[#This Row],[clean Salary (in local currency)]],(tblSalaries[[#This Row],[PPP Adjusted  USD]]/VLOOKUP(Dashboard!$J$5,Sheet3!$B$2:$C$31,2,FALSE)))","v":100000},"Mngr MI","Manager","South Africa","4 to 6 hours a day","Data Not Avaliable"]
[null,"ID0158",100000,"USD",100000,{"$f":"(tblSalaries[[#This Row],[clean Salary (in local currency)]])*(VLOOKUP(tblSalaries[[#This Row],[Currency]],Sheet3!$A$2:$C$31,3,FALSE))*(VLOOKUP(tblSalaries[[#This Row],[Currency]],Sheet1!$N$4:$Q$186,4,FALSE))","v":100000},{"$f":"IF(Dashboard!$J$5=VLOOKUP(tblSalaries[[#This Row],[Currency]],Sheet3!$A$2:$B$31,2,FALSE),tblSalaries[[#This Row],[clean Salary (in local currency)]],(tblSalaries[[#This Row],[PPP Adjusted  USD]]/VLOOKUP(Dashboard!$J$5,Sheet3!$B$2:$C$31,2,FALSE)))","v":100000},"COST ACCOUNTANT","Accountant","USA","All the 8 hours baby, all the 8!","Data Not Avaliable"]
[null,"ID0204",100000,"USD",100000,{"$f":"(tblSalaries[[#This Row],[clean Salary (in local currency)]])*(VLOOKUP(tblSalaries[[#This Row],[Currency]],Sheet3!$A$2:$C$31,3,FALSE))*(VLOOKUP(tblSalaries[[#This Row],[Currency]],Sheet1!$N$4:$Q$186,4,FALSE))","v":100000},{"$f":"IF(Dashboard!$J$5=VLOOKUP(tblSalaries[[#This Row],[Currency]],Sheet3!$A$2:$B$31,2,FALSE),tblSalaries[[#This Row],[clean Salary (in local currency)]],(tblSalaries[[#This Row],[PPP Adjusted  USD]]/VLOOKUP(Dashboard!$J$5,Sheet3!$B$2:$C$31,2,FALSE)))","v":100000},"Strategic Sourcing Manager","Manager","USA","All the 8 hours baby, all the 8!","Data Not Avaliable"]
[null,"ID0215",100000,"USD",100000,{"$f":"(tblSalaries[[#This Row],[clean Salary (in local currency)]])*(VLOOKUP(tblSalaries[[#This Row],[Currency]],Sheet3!$A$2:$C$31,3,FALSE))*(VLOOKUP(tblSalaries[[#This Row],[Currency]],Sheet1!$N$4:$Q$186,4,FALSE))","v":100000},{"$f":"IF(Dashboard!$J$5=VLOOKUP(tblSalaries[[#This Row],[Currency]],Sheet3!$A$2:$B$31,2,FALSE),tblSalaries[[#This Row],[clean Salary (in local currency)]],(tblSalaries[[#This Row],[PPP Adjusted  USD]]/VLOOKUP(Dashboard!$J$5,Sheet3!$B$2:$C$31,2,FALSE)))","v":100000},"Director of Finance","CXO or Top Mgmt.","USA","4 to 6 hours a day","Data Not Avaliable"]
[null,"ID0346",100000,"USD",100000,{"$f":"(tblSalaries[[#This Row],[clean Salary (in local currency)]])*(VLOOKUP(tblSalaries[[#This Row],[Currency]],Sheet3!$A$2:$C$31,3,FALSE))*(VLOOKUP(tblSalaries[[#This Row],[Currency]],Sheet1!$N$4:$Q$186,4,FALSE))","v":100000},{"$f":"IF(Dashboard!$J$5=VLOOKUP(tblSalaries[[#This Row],[Currency]],Sheet3!$A$2:$B$31,2,FALSE),tblSalaries[[#This Row],[clean Salary (in local currency)]],(tblSalaries[[#This Row],[PPP Adjusted  USD]]/VLOOKUP(Dashboard!$J$5,Sheet3!$B$2:$C$31,2,FALSE)))","v":100000},"Senior Data Analyst","Analyst","UK","4 to 6 hours a day","Data Not Avaliable"]
[null,"ID0397",100000,"USD",100000,{"$f":"(tblSalaries[[#This Row],[clean Salary (in local currency)]])*(VLOOKUP(tblSalaries[[#This Row],[Currency]],Sheet3!$A$2:$C$31,3,FALSE))*(VLOOKUP(tblSalaries[[#This Row],[Currency]],Sheet1!$N$4:$Q$186,4,FALSE))","v":100000},{"$f":"IF(Dashboard!$J$5=VLOOKUP(tblSalaries[[#This Row],[Currency]],Sheet3!$A$2:$B$31,2,FALSE),tblSalaries[[#This Row],[clean Salary (in local currency)]],(tblSalaries[[#This Row],[PPP Adjusted  USD]]/VLOOKUP(Dashboard!$J$5,Sheet3!$B$2:$C$31,2,FALSE)))","v":100000},"Sales Operations Analyst","Analyst","USA","All the 8 hours baby, all the 8!","Data Not Avaliable"]
[null,"ID0505",100000,"USD",100000,{"$f":"(tblSalaries[[#This Row],[clean Salary (in local currency)]])*(VLOOKUP(tblSalaries[[#This Row],[Currency]],Sheet3!$A$2:$C$31,3,FALSE))*(VLOOKUP(tblSalaries[[#This Row],[Currency]],Sheet1!$N$4:$Q$186,4,FALSE))","v":100000},{"$f":"IF(Dashboard!$J$5=VLOOKUP(tblSalaries[[#This Row],[Currency]],Sheet3!$A$2:$B$31,2,FALSE),tblSalaries[[#This Row],[clean Salary (in local currency)]],(tblSalaries[[#This Row],[PPP Adjusted  USD]]/VLOOKUP(Dashboard!$J$5,Sheet3!$B$2:$C$31,2,FALSE)))","v":100000},"Analyst","Analyst","USA","4 to 6 hours a day","Data Not Avaliable"]
[null,"ID0524",100000,"USD",100000,{"$f":"(tblSalaries[[#This Row],[clean Salary (in local currency)]])*(VLOOKUP(tblSalaries[[#This Row],[Currency]],Sheet3!$A$2:$C$31,3,FALSE))*(VLOOKUP(tblSalaries[[#This Row],[Currency]],Sheet1!$N$4:$Q$186,4,FALSE))","v":100000},{"$f":"IF(Dashboard!$J$5=VLOOKUP(tblSalaries[[#This Row],[Currency]],Sheet3!$A$2:$B$31,2,FALSE),tblSalaries[[#This Row],[clean Salary (in local currency)]],(tblSalaries[[#This Row],[PPP Adjusted  USD]]/VLOOKUP(Dashboard!$J$5,Sheet3!$B$2:$C$31,2,FALSE)))","v":100000},"Director","CXO or Top Mgmt.","USA","2 to 3 hours per day","Data Not Avaliable"]
[null,"ID0829",100000,"USD",100000,{"$f":"(tblSalaries[[#This Row],[clean Salary (in local currency)]])*(VLOOKUP(tblSalaries[[#This Row],[Currency]],Sheet3!$A$2:$C$31,3,FALSE))*(VLOOKUP(tblSalaries[[#This Row],[Currency]],Sheet1!$N$4:$Q$186,4,FALSE))","v":100000},{"$f":"IF(Dashboard!$J$5=VLOOKUP(tblSalaries[[#This Row],[Currency]],Sheet3!$A$2:$B$31,2,FALSE),tblSalaries[[#This Row],[clean Salary (in local currency)]],(tblSalaries[[#This Row],[PPP Adjusted  USD]]/VLOOKUP(Dashboard!$J$5,Sheet3!$B$2:$C$31,2,FALSE)))","v":100000},"director","CXO or Top Mgmt.","USA","4 to 6 hours a day",10]
[null,"ID0893",100000,"USD",100000,{"$f":"(tblSalaries[[#This Row],[clean Salary (in local currency)]])*(VLOOKUP(tblSalaries[[#This Row],[Currency]],Sheet3!$A$2:$C$31,3,FALSE))*(VLOOKUP(tblSalaries[[#This Row],[Currency]],Sheet1!$N$4:$Q$186,4,FALSE))","v":100000},{"$f":"IF(Dashboard!$J$5=VLOOKUP(tblSalaries[[#This Row],[Currency]],Sheet3!$A$2:$B$31,2,FALSE),tblSalaries[[#This Row],[clean Salary (in local currency)]],(tblSalaries[[#This Row],[PPP Adjusted  USD]]/VLOOKUP(Dashboard!$J$5,Sheet3!$B$2:$C$31,2,FALSE)))","v":100000},"Director","CXO or Top Mgmt.","Mexico","All the 8 hours baby, all the 8!",10]
[null,"ID1227",100000,"USD",100000,{"$f":"(tblSalaries[[#This Row],[clean Salary (in local currency)]])*(VLOOKUP(tblSalaries[[#This Row],[Currency]],Sheet3!$A$2:$C$31,3,FALSE))*(VLOOKUP(tblSalaries[[#This Row],[Currency]],Sheet1!$N$4:$Q$186,4,FALSE))","v":100000},{"$f":"IF(Dashboard!$J$5=VLOOKUP(tblSalaries[[#This Row],[Currency]],Sheet3!$A$2:$B$31,2,FALSE),tblSalaries[[#This Row],[clean Salary (in local currency)]],(tblSalaries[[#This Row],[PPP Adjusted  USD]]/VLOOKUP(Dashboard!$J$5,Sheet3!$B$2:$C$31,2,FALSE)))","v":100000},"Finance Manager","Manager","USA","4 to 6 hours a day",11]
[null,"ID1235",100000,"USD",100000,{"$f":"(tblSalaries[[#This Row],[clean Salary (in local currency)]])*(VLOOKUP(tblSalaries[[#This Row],[Currency]],Sheet3!$A$2:$C$31,3,FALSE))*(VLOOKUP(tblSalaries[[#This Row],[Currency]],Sheet1!$N$4:$Q$186,4,FALSE))","v":100000},{"$f":"IF(Dashboard!$J$5=VLOOKUP(tblSalaries[[#This Row],[Currency]],Sheet3!$A$2:$B$31,2,FALSE),tblSalaries[[#This Row],[clean Salary (in local currency)]],(tblSalaries[[#This Row],[PPP Adjusted  USD]]/VLOOKUP(Dashboard!$J$5,Sheet3!$B$2:$C$31,2,FALSE)))","v":100000},"Controller","Controller","Norway","4 to 6 hours a day",12]
[null,"ID1305",100000,"USD",100000,{"$f":"(tblSalaries[[#This Row],[clean Salary (in local currency)]])*(VLOOKUP(tblSalaries[[#This Row],[Currency]],Sheet3!$A$2:$C$31,3,FALSE))*(VLOOKUP(tblSalaries[[#This Row],[Currency]],Sheet1!$N$4:$Q$186,4,FALSE))","v":100000},{"$f":"IF(Dashboard!$J$5=VLOOKUP(tblSalaries[[#This Row],[Currency]],Sheet3!$A$2:$B$31,2,FALSE),tblSalaries[[#This Row],[clean Salary (in local currency)]],(tblSalaries[[#This Row],[PPP Adjusted  USD]]/VLOOKUP(Dashboard!$J$5,Sheet3!$B$2:$C$31,2,FALSE)))","v":100000},"Business Analyst","Analyst","Uganda","4 to 6 hours a day",17]
[null,"ID1374",100000,"USD",100000,{"$f":"(tblSalaries[[#This Row],[clean Salary (in local currency)]])*(VLOOKUP(tblSalaries[[#This Row],[Currency]],Sheet3!$A$2:$C$31,3,FALSE))*(VLOOKUP(tblSalaries[[#This Row],[Currency]],Sheet1!$N$4:$Q$186,4,FALSE))","v":100000},{"$f":"IF(Dashboard!$J$5=VLOOKUP(tblSalaries[[#This Row],[Currency]],Sheet3!$A$2:$B$31,2,FALSE),tblSalaries[[#This Row],[clean Salary (in local currency)]],(tblSalaries[[#This Row],[PPP Adjusted  USD]]/VLOOKUP(Dashboard!$J$5,Sheet3!$B$2:$C$31,2,FALSE)))","v":100000},"Senior Financial Analyst","Analyst","USA","4 to 6 hours a day",1]
[null,"ID1382",100000,"USD",100000,{"$f":"(tblSalaries[[#This Row],[clean Salary (in local currency)]])*(VLOOKUP(tblSalaries[[#This Row],[Currency]],Sheet3!$A$2:$C$31,3,FALSE))*(VLOOKUP(tblSalaries[[#This Row],[Currency]],Sheet1!$N$4:$Q$186,4,FALSE))","v":100000},{"$f":"IF(Dashboard!$J$5=VLOOKUP(tblSalaries[[#This Row],[Currency]],Sheet3!$A$2:$B$31,2,FALSE),tblSalaries[[#This Row],[clean Salary (in local currency)]],(tblSalaries[[#This Row],[PPP Adjusted  USD]]/VLOOKUP(Dashboard!$J$5,Sheet3!$B$2:$C$31,2,FALSE)))","v":100000},"Vice Head of Dpt in Education","CXO or Top Mgmt.","Sweden","2 to 3 hours per day",20]
[null,"ID1643",100000,"USD",100000,{"$f":"(tblSalaries[[#This Row],[clean Salary (in local currency)]])*(VLOOKUP(tblSalaries[[#This Row],[Currency]],Sheet3!$A$2:$C$31,3,FALSE))*(VLOOKUP(tblSalaries[[#This Row],[Currency]],Sheet1!$N$4:$Q$186,4,FALSE))","v":100000},{"$f":"IF(Dashboard!$J$5=VLOOKUP(tblSalaries[[#This Row],[Currency]],Sheet3!$A$2:$B$31,2,FALSE),tblSalaries[[#This Row],[clean Salary (in local currency)]],(tblSalaries[[#This Row],[PPP Adjusted  USD]]/VLOOKUP(Dashboard!$J$5,Sheet3!$B$2:$C$31,2,FALSE)))","v":100000},"Consultant","Consultant","USA","2 to 3 hours per day",4]
[null,"ID1723",100000,"USD",100000,{"$f":"(tblSalaries[[#This Row],[clean Salary (in local currency)]])*(VLOOKUP(tblSalaries[[#This Row],[Currency]],Sheet3!$A$2:$C$31,3,FALSE))*(VLOOKUP(tblSalaries[[#This Row],[Currency]],Sheet1!$N$4:$Q$186,4,FALSE))","v":100000},{"$f":"IF(Dashboard!$J$5=VLOOKUP(tblSalaries[[#This Row],[Currency]],Sheet3!$A$2:$B$31,2,FALSE),tblSalaries[[#This Row],[clean Salary (in local currency)]],(tblSalaries[[#This Row],[PPP Adjusted  USD]]/VLOOKUP(Dashboard!$J$5,Sheet3!$B$2:$C$31,2,FALSE)))","v":100000},"financial analyst (real estate)","Analyst","Russia","All the 8 hours baby, all the 8!",6]
[null,"ID1799",100000,"USD",100000,{"$f":"(tblSalaries[[#This Row],[clean Salary (in local currency)]])*(VLOOKUP(tblSalaries[[#This Row],[Currency]],Sheet3!$A$2:$C$31,3,FALSE))*(VLOOKUP(tblSalaries[[#This Row],[Currency]],Sheet1!$N$4:$Q$186,4,FALSE))","v":100000},{"$f":"IF(Dashboard!$J$5=VLOOKUP(tblSalaries[[#This Row],[Currency]],Sheet3!$A$2:$B$31,2,FALSE),tblSalaries[[#This Row],[clean Salary (in local currency)]],(tblSalaries[[#This Row],[PPP Adjusted  USD]]/VLOOKUP(Dashboard!$J$5,Sheet3!$B$2:$C$31,2,FALSE)))","v":100000},"analyst","Analyst","USA","All the 8 hours baby, all the 8!",12]
[null,"ID1884",100000,"USD",100000,{"$f":"(tblSalaries[[#This Row],[clean Salary (in local currency)]])*(VLOOKUP(tblSalaries[[#This Row],[Currency]],Sheet3!$A$2:$C$31,3,FALSE))*(VLOOKUP(tblSalaries[[#This Row],[Currency]],Sheet1!$N$4:$Q$186,4,FALSE))","v":100000},{"$f":"IF(Dashboard!$J$5=VLOOKUP(tblSalaries[[#This Row],[Currency]],Sheet3!$A$2:$B$31,2,FALSE),tblSalaries[[#This Row],[clean Salary (in local currency)]],(tblSalaries[[#This Row],[PPP Adjusted  USD]]/VLOOKUP(Dashboard!$J$5,Sheet3!$B$2:$C$31,2,FALSE)))","v":100000},"Senior Manager MIS","Manager","UAE","All the 8 hours baby, all the 8!",15]
[null,"ID0394",99147,"USD",99147,{"$f":"(tblSalaries[[#This Row],[clean Salary (in local currency)]])*(VLOOKUP(tblSalaries[[#This Row],[Currency]],Sheet3!$A$2:$C$31,3,FALSE))*(VLOOKUP(tblSalaries[[#This Row],[Currency]],Sheet1!$N$4:$Q$186,4,FALSE))","v":99147},{"$f":"IF(Dashboard!$J$5=VLOOKUP(tblSalaries[[#This Row],[Currency]],Sheet3!$A$2:$B$31,2,FALSE),tblSalaries[[#This Row],[clean Salary (in local currency)]],(tblSalaries[[#This Row],[PPP Adjusted  USD]]/VLOOKUP(Dashboard!$J$5,Sheet3!$B$2:$C$31,2,FALSE)))","v":99147},"Chief Specialist of Economics & Planning","Specialist","Russia","4 to 6 hours a day","Data Not Avaliable"]
[null,"ID1147",90000,"EUR",114335.9495092447,{"$f":"(tblSalaries[[#This Row],[clean Salary (in local currency)]])*(VLOOKUP(tblSalaries[[#This Row],[Currency]],Sheet3!$A$2:$C$31,3,FALSE))*(VLOOKUP(tblSalaries[[#This Row],[Currency]],Sheet1!$N$4:$Q$186,4,FALSE))","v":99058.759738204695},{"$f":"IF(Dashboard!$J$5=VLOOKUP(tblSalaries[[#This Row],[Currency]],Sheet3!$A$2:$B$31,2,FALSE),tblSalaries[[#This Row],[clean Salary (in local currency)]],(tblSalaries[[#This Row],[PPP Adjusted  USD]]/VLOOKUP(Dashboard!$J$5,Sheet3!$B$2:$C$31,2,FALSE)))","v":99058.759738204695},"Management Information Manager","Manager","CEE","2 to 3 hours per day",20]
[null,"ID1867",90000,"EUR",114335.9495092447,{"$f":"(tblSalaries[[#This Row],[clean Salary (in local currency)]])*(VLOOKUP(tblSalaries[[#This Row],[Currency]],Sheet3!$A$2:$C$31,3,FALSE))*(VLOOKUP(tblSalaries[[#This Row],[Currency]],Sheet1!$N$4:$Q$186,4,FALSE))","v":99058.759738204695},{"$f":"IF(Dashboard!$J$5=VLOOKUP(tblSalaries[[#This Row],[Currency]],Sheet3!$A$2:$B$31,2,FALSE),tblSalaries[[#This Row],[clean Salary (in local currency)]],(tblSalaries[[#This Row],[PPP Adjusted  USD]]/VLOOKUP(Dashboard!$J$5,Sheet3!$B$2:$C$31,2,FALSE)))","v":99058.759738204695},"Controller","Controller","Europe","2 to 3 hours per day",20]
[null,"ID0198",99000,"USD",99000,{"$f":"(tblSalaries[[#This Row],[clean Salary (in local currency)]])*(VLOOKUP(tblSalaries[[#This Row],[Currency]],Sheet3!$A$2:$C$31,3,FALSE))*(VLOOKUP(tblSalaries[[#This Row],[Currency]],Sheet1!$N$4:$Q$186,4,FALSE))","v":99000},{"$f":"IF(Dashboard!$J$5=VLOOKUP(tblSalaries[[#This Row],[Currency]],Sheet3!$A$2:$B$31,2,FALSE),tblSalaries[[#This Row],[clean Salary (in local currency)]],(tblSalaries[[#This Row],[PPP Adjusted  USD]]/VLOOKUP(Dashboard!$J$5,Sheet3!$B$2:$C$31,2,FALSE)))","v":99000},"Business Controller","Controller","USA","4 to 6 hours a day","Data Not Avaliable"]
[null,"ID0275",99000,"USD",99000,{"$f":"(tblSalaries[[#This Row],[clean Salary (in local currency)]])*(VLOOKUP(tblSalaries[[#This Row],[Currency]],Sheet3!$A$2:$C$31,3,FALSE))*(VLOOKUP(tblSalaries[[#This Row],[Currency]],Sheet1!$N$4:$Q$186,4,FALSE))","v":99000},{"$f":"IF(Dashboard!$J$5=VLOOKUP(tblSalaries[[#This Row],[Currency]],Sheet3!$A$2:$B$31,2,FALSE),tblSalaries[[#This Row],[clean Salary (in local currency)]],(tblSalaries[[#This Row],[PPP Adjusted  USD]]/VLOOKUP(Dashboard!$J$5,Sheet3!$B$2:$C$31,2,FALSE)))","v":99000},"Business Analyst","Analyst","USA","2 to 3 hours per day","Data Not Avaliable"]
[null,"ID0868",98000,"USD",98000,{"$f":"(tblSalaries[[#This Row],[clean Salary (in local currency)]])*(VLOOKUP(tblSalaries[[#This Row],[Currency]],Sheet3!$A$2:$C$31,3,FALSE))*(VLOOKUP(tblSalaries[[#This Row],[Currency]],Sheet1!$N$4:$Q$186,4,FALSE))","v":98000},{"$f":"IF(Dashboard!$J$5=VLOOKUP(tblSalaries[[#This Row],[Currency]],Sheet3!$A$2:$B$31,2,FALSE),tblSalaries[[#This Row],[clean Salary (in local currency)]],(tblSalaries[[#This Row],[PPP Adjusted  USD]]/VLOOKUP(Dashboard!$J$5,Sheet3!$B$2:$C$31,2,FALSE)))","v":98000},"supply chain manager","Manager","Indonesia","2 to 3 hours per day",14]
[null,"ID1810",156000,"AUD",159105.90639881117,{"$f":"(tblSalaries[[#This Row],[clean Salary (in local currency)]])*(VLOOKUP(tblSalaries[[#This Row],[Currency]],Sheet3!$A$2:$C$31,3,FALSE))*(VLOOKUP(tblSalaries[[#This Row],[Currency]],Sheet1!$N$4:$Q$186,4,FALSE))","v":97767.39307898331},{"$f":"IF(Dashboard!$J$5=VLOOKUP(tblSalaries[[#This Row],[Currency]],Sheet3!$A$2:$B$31,2,FALSE),tblSalaries[[#This Row],[clean Salary (in local currency)]],(tblSalaries[[#This Row],[PPP Adjusted  USD]]/VLOOKUP(Dashboard!$J$5,Sheet3!$B$2:$C$31,2,FALSE)))","v":97767.39307898331},"Senior Associate Engineer","Engineer","Australia","2 to 3 hours per day",12]
[null,"ID0419",66000,"GBP",104027.76595644075,{"$f":"(tblSalaries[[#This Row],[clean Salary (in local currency)]])*(VLOOKUP(tblSalaries[[#This Row],[Currency]],Sheet3!$A$2:$C$31,3,FALSE))*(VLOOKUP(tblSalaries[[#This Row],[Currency]],Sheet1!$N$4:$Q$186,4,FALSE))","v":97282.099528708204},{"$f":"IF(Dashboard!$J$5=VLOOKUP(tblSalaries[[#This Row],[Currency]],Sheet3!$A$2:$B$31,2,FALSE),tblSalaries[[#This Row],[clean Salary (in local currency)]],(tblSalaries[[#This Row],[PPP Adjusted  USD]]/VLOOKUP(Dashboard!$J$5,Sheet3!$B$2:$C$31,2,FALSE)))","v":97282.099528708204},"IT Project Manager, EMEA","Manager","UK","1 or 2 hours a day","Data Not Avaliable"]
[null,"ID0569",155000,"AUD",158085.99674240855,{"$f":"(tblSalaries[[#This Row],[clean Salary (in local currency)]])*(VLOOKUP(tblSalaries[[#This Row],[Currency]],Sheet3!$A$2:$C$31,3,FALSE))*(VLOOKUP(tblSalaries[[#This Row],[Currency]],Sheet1!$N$4:$Q$186,4,FALSE))","v":97140.679020784708},{"$f":"IF(Dashboard!$J$5=VLOOKUP(tblSalaries[[#This Row],[Currency]],Sheet3!$A$2:$B$31,2,FALSE),tblSalaries[[#This Row],[clean Salary (in local currency)]],(tblSalaries[[#This Row],[PPP Adjusted  USD]]/VLOOKUP(Dashboard!$J$5,Sheet3!$B$2:$C$31,2,FALSE)))","v":97140.679020784708},"Finance Manager Business Services","Manager","Australia","4 to 6 hours a day",20]
[null,"ID0290",97000,"USD",97000,{"$f":"(tblSalaries[[#This Row],[clean Salary (in local currency)]])*(VLOOKUP(tblSalaries[[#This Row],[Currency]],Sheet3!$A$2:$C$31,3,FALSE))*(VLOOKUP(tblSalaries[[#This Row],[Currency]],Sheet1!$N$4:$Q$186,4,FALSE))","v":97000},{"$f":"IF(Dashboard!$J$5=VLOOKUP(tblSalaries[[#This Row],[Currency]],Sheet3!$A$2:$B$31,2,FALSE),tblSalaries[[#This Row],[clean Salary (in local currency)]],(tblSalaries[[#This Row],[PPP Adjusted  USD]]/VLOOKUP(Dashboard!$J$5,Sheet3!$B$2:$C$31,2,FALSE)))","v":97000},"business analyst","Analyst","USA","All the 8 hours baby, all the 8!","Data Not Avaliable"]
[null,"ID1387",97000,"USD",97000,{"$f":"(tblSalaries[[#This Row],[clean Salary (in local currency)]])*(VLOOKUP(tblSalaries[[#This Row],[Currency]],Sheet3!$A$2:$C$31,3,FALSE))*(VLOOKUP(tblSalaries[[#This Row],[Currency]],Sheet1!$N$4:$Q$186,4,FALSE))","v":97000},{"$f":"IF(Dashboard!$J$5=VLOOKUP(tblSalaries[[#This Row],[Currency]],Sheet3!$A$2:$B$31,2,FALSE),tblSalaries[[#This Row],[clean Salary (in local currency)]],(tblSalaries[[#This Row],[PPP Adjusted  USD]]/VLOOKUP(Dashboard!$J$5,Sheet3!$B$2:$C$31,2,FALSE)))","v":97000},"Sr. Manager of Finance","Manager","USA","4 to 6 hours a day",14]
[null,"ID1443",96230,"USD",96230,{"$f":"(tblSalaries[[#This Row],[clean Salary (in local currency)]])*(VLOOKUP(tblSalaries[[#This Row],[Currency]],Sheet3!$A$2:$C$31,3,FALSE))*(VLOOKUP(tblSalaries[[#This Row],[Currency]],Sheet1!$N$4:$Q$186,4,FALSE))","v":96230},{"$f":"IF(Dashboard!$J$5=VLOOKUP(tblSalaries[[#This Row],[Currency]],Sheet3!$A$2:$B$31,2,FALSE),tblSalaries[[#This Row],[clean Salary (in local currency)]],(tblSalaries[[#This Row],[PPP Adjusted  USD]]/VLOOKUP(Dashboard!$J$5,Sheet3!$B$2:$C$31,2,FALSE)))","v":96230},"Manager, Data Management","Manager","USA","4 to 6 hours a day",18]
[null,"ID0022",96000,"USD",96000,{"$f":"(tblSalaries[[#This Row],[clean Salary (in local currency)]])*(VLOOKUP(tblSalaries[[#This Row],[Currency]],Sheet3!$A$2:$C$31,3,FALSE))*(VLOOKUP(tblSalaries[[#This Row],[Currency]],Sheet1!$N$4:$Q$186,4,FALSE))","v":96000},{"$f":"IF(Dashboard!$J$5=VLOOKUP(tblSalaries[[#This Row],[Currency]],Sheet3!$A$2:$B$31,2,FALSE),tblSalaries[[#This Row],[clean Salary (in local currency)]],(tblSalaries[[#This Row],[PPP Adjusted  USD]]/VLOOKUP(Dashboard!$J$5,Sheet3!$B$2:$C$31,2,FALSE)))","v":96000},"Analyst","Analyst","USA","2 to 3 hours per day","Data Not Avaliable"]
[null,"ID0152",96000,"USD",96000,{"$f":"(tblSalaries[[#This Row],[clean Salary (in local currency)]])*(VLOOKUP(tblSalaries[[#This Row],[Currency]],Sheet3!$A$2:$C$31,3,FALSE))*(VLOOKUP(tblSalaries[[#This Row],[Currency]],Sheet1!$N$4:$Q$186,4,FALSE))","v":96000},{"$f":"IF(Dashboard!$J$5=VLOOKUP(tblSalaries[[#This Row],[Currency]],Sheet3!$A$2:$B$31,2,FALSE),tblSalaries[[#This Row],[clean Salary (in local currency)]],(tblSalaries[[#This Row],[PPP Adjusted  USD]]/VLOOKUP(Dashboard!$J$5,Sheet3!$B$2:$C$31,2,FALSE)))","v":96000},"Specialist - Finance Planning and Analysis","Analyst","USA","4 to 6 hours a day","Data Not Avaliable"]
[null,"ID0194",96000,"USD",96000,{"$f":"(tblSalaries[[#This Row],[clean Salary (in local currency)]])*(VLOOKUP(tblSalaries[[#This Row],[Currency]],Sheet3!$A$2:$C$31,3,FALSE))*(VLOOKUP(tblSalaries[[#This Row],[Currency]],Sheet1!$N$4:$Q$186,4,FALSE))","v":96000},{"$f":"IF(Dashboard!$J$5=VLOOKUP(tblSalaries[[#This Row],[Currency]],Sheet3!$A$2:$B$31,2,FALSE),tblSalaries[[#This Row],[clean Salary (in local currency)]],(tblSalaries[[#This Row],[PPP Adjusted  USD]]/VLOOKUP(Dashboard!$J$5,Sheet3!$B$2:$C$31,2,FALSE)))","v":96000},"Business Process Specialist","Specialist","USA","2 to 3 hours per day","Data Not Avaliable"]
[null,"ID0249",96000,"USD",96000,{"$f":"(tblSalaries[[#This Row],[clean Salary (in local currency)]])*(VLOOKUP(tblSalaries[[#This Row],[Currency]],Sheet3!$A$2:$C$31,3,FALSE))*(VLOOKUP(tblSalaries[[#This Row],[Currency]],Sheet1!$N$4:$Q$186,4,FALSE))","v":96000},{"$f":"IF(Dashboard!$J$5=VLOOKUP(tblSalaries[[#This Row],[Currency]],Sheet3!$A$2:$B$31,2,FALSE),tblSalaries[[#This Row],[clean Salary (in local currency)]],(tblSalaries[[#This Row],[PPP Adjusted  USD]]/VLOOKUP(Dashboard!$J$5,Sheet3!$B$2:$C$31,2,FALSE)))","v":96000},"Freellance","Consultant","Poland","2 to 3 hours per day","Data Not Avaliable"]
[null,"ID0795",96000,"USD",96000,{"$f":"(tblSalaries[[#This Row],[clean Salary (in local currency)]])*(VLOOKUP(tblSalaries[[#This Row],[Currency]],Sheet3!$A$2:$C$31,3,FALSE))*(VLOOKUP(tblSalaries[[#This Row],[Currency]],Sheet1!$N$4:$Q$186,4,FALSE))","v":96000},{"$f":"IF(Dashboard!$J$5=VLOOKUP(tblSalaries[[#This Row],[Currency]],Sheet3!$A$2:$B$31,2,FALSE),tblSalaries[[#This Row],[clean Salary (in local currency)]],(tblSalaries[[#This Row],[PPP Adjusted  USD]]/VLOOKUP(Dashboard!$J$5,Sheet3!$B$2:$C$31,2,FALSE)))","v":96000},"MIS Executive","Reporting","India","All the 8 hours baby, all the 8!",8]
[null,"ID1219",95856,"USD",95856,{"$f":"(tblSalaries[[#This Row],[clean Salary (in local currency)]])*(VLOOKUP(tblSalaries[[#This Row],[Currency]],Sheet3!$A$2:$C$31,3,FALSE))*(VLOOKUP(tblSalaries[[#This Row],[Currency]],Sheet1!$N$4:$Q$186,4,FALSE))","v":95856},{"$f":"IF(Dashboard!$J$5=VLOOKUP(tblSalaries[[#This Row],[Currency]],Sheet3!$A$2:$B$31,2,FALSE),tblSalaries[[#This Row],[clean Salary (in local currency)]],(tblSalaries[[#This Row],[PPP Adjusted  USD]]/VLOOKUP(Dashboard!$J$5,Sheet3!$B$2:$C$31,2,FALSE)))","v":95856},"Analyst","Analyst","USA","2 to 3 hours per day",13]
[null,"ID0433",65000,"GBP",102451.58768437347,{"$f":"(tblSalaries[[#This Row],[clean Salary (in local currency)]])*(VLOOKUP(tblSalaries[[#This Row],[Currency]],Sheet3!$A$2:$C$31,3,FALSE))*(VLOOKUP(tblSalaries[[#This Row],[Currency]],Sheet1!$N$4:$Q$186,4,FALSE))","v":95808.128323727782},{"$f":"IF(Dashboard!$J$5=VLOOKUP(tblSalaries[[#This Row],[Currency]],Sheet3!$A$2:$B$31,2,FALSE),tblSalaries[[#This Row],[clean Salary (in local currency)]],(tblSalaries[[#This Row],[PPP Adjusted  USD]]/VLOOKUP(Dashboard!$J$5,Sheet3!$B$2:$C$31,2,FALSE)))","v":95808.128323727782},"Financial Controller","Controller","UK","2 to 3 hours per day","Data Not Avaliable"]
[null,"ID0748",65000,"GBP",102451.58768437347,{"$f":"(tblSalaries[[#This Row],[clean Salary (in local currency)]])*(VLOOKUP(tblSalaries[[#This Row],[Currency]],Sheet3!$A$2:$C$31,3,FALSE))*(VLOOKUP(tblSalaries[[#This Row],[Currency]],Sheet1!$N$4:$Q$186,4,FALSE))","v":95808.128323727782},{"$f":"IF(Dashboard!$J$5=VLOOKUP(tblSalaries[[#This Row],[Currency]],Sheet3!$A$2:$B$31,2,FALSE),tblSalaries[[#This Row],[clean Salary (in local currency)]],(tblSalaries[[#This Row],[PPP Adjusted  USD]]/VLOOKUP(Dashboard!$J$5,Sheet3!$B$2:$C$31,2,FALSE)))","v":95808.128323727782},"compliance manager","Manager","UK","4 to 6 hours a day",15]
[null,"ID0916",65000,"GBP",102451.58768437347,{"$f":"(tblSalaries[[#This Row],[clean Salary (in local currency)]])*(VLOOKUP(tblSalaries[[#This Row],[Currency]],Sheet3!$A$2:$C$31,3,FALSE))*(VLOOKUP(tblSalaries[[#This Row],[Currency]],Sheet1!$N$4:$Q$186,4,FALSE))","v":95808.128323727782},{"$f":"IF(Dashboard!$J$5=VLOOKUP(tblSalaries[[#This Row],[Currency]],Sheet3!$A$2:$B$31,2,FALSE),tblSalaries[[#This Row],[clean Salary (in local currency)]],(tblSalaries[[#This Row],[PPP Adjusted  USD]]/VLOOKUP(Dashboard!$J$5,Sheet3!$B$2:$C$31,2,FALSE)))","v":95808.128323727782},"Manager","Manager","UK","1 or 2 hours a day",15]
[null,"ID0095",95000,"USD",95000,{"$f":"(tblSalaries[[#This Row],[clean Salary (in local currency)]])*(VLOOKUP(tblSalaries[[#This Row],[Currency]],Sheet3!$A$2:$C$31,3,FALSE))*(VLOOKUP(tblSalaries[[#This Row],[Currency]],Sheet1!$N$4:$Q$186,4,FALSE))","v":95000},{"$f":"IF(Dashboard!$J$5=VLOOKUP(tblSalaries[[#This Row],[Currency]],Sheet3!$A$2:$B$31,2,FALSE),tblSalaries[[#This Row],[clean Salary (in local currency)]],(tblSalaries[[#This Row],[PPP Adjusted  USD]]/VLOOKUP(Dashboard!$J$5,Sheet3!$B$2:$C$31,2,FALSE)))","v":95000},"CFO","CXO or Top Mgmt.","USA","4 to 6 hours a day","Data Not Avaliable"]
[null,"ID0233",95000,"USD",95000,{"$f":"(tblSalaries[[#This Row],[clean Salary (in local currency)]])*(VLOOKUP(tblSalaries[[#This Row],[Currency]],Sheet3!$A$2:$C$31,3,FALSE))*(VLOOKUP(tblSalaries[[#This Row],[Currency]],Sheet1!$N$4:$Q$186,4,FALSE))","v":95000},{"$f":"IF(Dashboard!$J$5=VLOOKUP(tblSalaries[[#This Row],[Currency]],Sheet3!$A$2:$B$31,2,FALSE),tblSalaries[[#This Row],[clean Salary (in local currency)]],(tblSalaries[[#This Row],[PPP Adjusted  USD]]/VLOOKUP(Dashboard!$J$5,Sheet3!$B$2:$C$31,2,FALSE)))","v":95000},"VP - Procurment","CXO or Top Mgmt.","USA","4 to 6 hours a day","Data Not Avaliable"]
[null,"ID0344",95000,"USD",95000,{"$f":"(tblSalaries[[#This Row],[clean Salary (in local currency)]])*(VLOOKUP(tblSalaries[[#This Row],[Currency]],Sheet3!$A$2:$C$31,3,FALSE))*(VLOOKUP(tblSalaries[[#This Row],[Currency]],Sheet1!$N$4:$Q$186,4,FALSE))","v":95000},{"$f":"IF(Dashboard!$J$5=VLOOKUP(tblSalaries[[#This Row],[Currency]],Sheet3!$A$2:$B$31,2,FALSE),tblSalaries[[#This Row],[clean Salary (in local currency)]],(tblSalaries[[#This Row],[PPP Adjusted  USD]]/VLOOKUP(Dashboard!$J$5,Sheet3!$B$2:$C$31,2,FALSE)))","v":95000},"Senior Financial Analyst","Analyst","USA","4 to 6 hours a day","Data Not Avaliable"]
[null,"ID0381",95000,"USD",95000,{"$f":"(tblSalaries[[#This Row],[clean Salary (in local currency)]])*(VLOOKUP(tblSalaries[[#This Row],[Currency]],Sheet3!$A$2:$C$31,3,FALSE))*(VLOOKUP(tblSalaries[[#This Row],[Currency]],Sheet1!$N$4:$Q$186,4,FALSE))","v":95000},{"$f":"IF(Dashboard!$J$5=VLOOKUP(tblSalaries[[#This Row],[Currency]],Sheet3!$A$2:$B$31,2,FALSE),tblSalaries[[#This Row],[clean Salary (in local currency)]],(tblSalaries[[#This Row],[PPP Adjusted  USD]]/VLOOKUP(Dashboard!$J$5,Sheet3!$B$2:$C$31,2,FALSE)))","v":95000},"Senior Financial Analyst","Analyst","USA","All the 8 hours baby, all the 8!","Data Not Avaliable"]
[null,"ID0531",95000,"USD",95000,{"$f":"(tblSalaries[[#This Row],[clean Salary (in local currency)]])*(VLOOKUP(tblSalaries[[#This Row],[Currency]],Sheet3!$A$2:$C$31,3,FALSE))*(VLOOKUP(tblSalaries[[#This Row],[Currency]],Sheet1!$N$4:$Q$186,4,FALSE))","v":95000},{"$f":"IF(Dashboard!$J$5=VLOOKUP(tblSalaries[[#This Row],[Currency]],Sheet3!$A$2:$B$31,2,FALSE),tblSalaries[[#This Row],[clean Salary (in local currency)]],(tblSalaries[[#This Row],[PPP Adjusted  USD]]/VLOOKUP(Dashboard!$J$5,Sheet3!$B$2:$C$31,2,FALSE)))","v":95000},"Process Design Consultant","Consultant","USA","4 to 6 hours a day","Data Not Avaliable"]
[null,"ID0536",95000,"USD",95000,{"$f":"(tblSalaries[[#This Row],[clean Salary (in local currency)]])*(VLOOKUP(tblSalaries[[#This Row],[Currency]],Sheet3!$A$2:$C$31,3,FALSE))*(VLOOKUP(tblSalaries[[#This Row],[Currency]],Sheet1!$N$4:$Q$186,4,FALSE))","v":95000},{"$f":"IF(Dashboard!$J$5=VLOOKUP(tblSalaries[[#This Row],[Currency]],Sheet3!$A$2:$B$31,2,FALSE),tblSalaries[[#This Row],[clean Salary (in local currency)]],(tblSalaries[[#This Row],[PPP Adjusted  USD]]/VLOOKUP(Dashboard!$J$5,Sheet3!$B$2:$C$31,2,FALSE)))","v":95000},"Director of Supply Chain","CXO or Top Mgmt.","Central America","2 to 3 hours per day","Data Not Avaliable"]
[null,"ID0568",95000,"USD",95000,{"$f":"(tblSalaries[[#This Row],[clean Salary (in local currency)]])*(VLOOKUP(tblSalaries[[#This Row],[Currency]],Sheet3!$A$2:$C$31,3,FALSE))*(VLOOKUP(tblSalaries[[#This Row],[Currency]],Sheet1!$N$4:$Q$186,4,FALSE))","v":95000},{"$f":"IF(Dashboard!$J$5=VLOOKUP(tblSalaries[[#This Row],[Currency]],Sheet3!$A$2:$B$31,2,FALSE),tblSalaries[[#This Row],[clean Salary (in local currency)]],(tblSalaries[[#This Row],[PPP Adjusted  USD]]/VLOOKUP(Dashboard!$J$5,Sheet3!$B$2:$C$31,2,FALSE)))","v":95000},"Business Analyst","Analyst","Australia","2 to 3 hours per day",11]
[null,"ID0627",95000,"USD",95000,{"$f":"(tblSalaries[[#This Row],[clean Salary (in local currency)]])*(VLOOKUP(tblSalaries[[#This Row],[Currency]],Sheet3!$A$2:$C$31,3,FALSE))*(VLOOKUP(tblSalaries[[#This Row],[Currency]],Sheet1!$N$4:$Q$186,4,FALSE))","v":95000},{"$f":"IF(Dashboard!$J$5=VLOOKUP(tblSalaries[[#This Row],[Currency]],Sheet3!$A$2:$B$31,2,FALSE),tblSalaries[[#This Row],[clean Salary (in local currency)]],(tblSalaries[[#This Row],[PPP Adjusted  USD]]/VLOOKUP(Dashboard!$J$5,Sheet3!$B$2:$C$31,2,FALSE)))","v":95000},"Program Manager","Manager","USA","1 or 2 hours a day",10]
[null,"ID0815",95000,"USD",95000,{"$f":"(tblSalaries[[#This Row],[clean Salary (in local currency)]])*(VLOOKUP(tblSalaries[[#This Row],[Currency]],Sheet3!$A$2:$C$31,3,FALSE))*(VLOOKUP(tblSalaries[[#This Row],[Currency]],Sheet1!$N$4:$Q$186,4,FALSE))","v":95000},{"$f":"IF(Dashboard!$J$5=VLOOKUP(tblSalaries[[#This Row],[Currency]],Sheet3!$A$2:$B$31,2,FALSE),tblSalaries[[#This Row],[clean Salary (in local currency)]],(tblSalaries[[#This Row],[PPP Adjusted  USD]]/VLOOKUP(Dashboard!$J$5,Sheet3!$B$2:$C$31,2,FALSE)))","v":95000},"Business Analyst","Analyst","USA","2 to 3 hours per day",13]
[null,"ID1376",95000,"USD",95000,{"$f":"(tblSalaries[[#This Row],[clean Salary (in local currency)]])*(VLOOKUP(tblSalaries[[#This Row],[Currency]],Sheet3!$A$2:$C$31,3,FALSE))*(VLOOKUP(tblSalaries[[#This Row],[Currency]],Sheet1!$N$4:$Q$186,4,FALSE))","v":95000},{"$f":"IF(Dashboard!$J$5=VLOOKUP(tblSalaries[[#This Row],[Currency]],Sheet3!$A$2:$B$31,2,FALSE),tblSalaries[[#This Row],[clean Salary (in local currency)]],(tblSalaries[[#This Row],[PPP Adjusted  USD]]/VLOOKUP(Dashboard!$J$5,Sheet3!$B$2:$C$31,2,FALSE)))","v":95000},"Cost Analyst","Analyst","USA","2 to 3 hours per day",7]
[null,"ID1400",95000,"USD",95000,{"$f":"(tblSalaries[[#This Row],[clean Salary (in local currency)]])*(VLOOKUP(tblSalaries[[#This Row],[Currency]],Sheet3!$A$2:$C$31,3,FALSE))*(VLOOKUP(tblSalaries[[#This Row],[Currency]],Sheet1!$N$4:$Q$186,4,FALSE))","v":95000},{"$f":"IF(Dashboard!$J$5=VLOOKUP(tblSalaries[[#This Row],[Currency]],Sheet3!$A$2:$B$31,2,FALSE),tblSalaries[[#This Row],[clean Salary (in local currency)]],(tblSalaries[[#This Row],[PPP Adjusted  USD]]/VLOOKUP(Dashboard!$J$5,Sheet3!$B$2:$C$31,2,FALSE)))","v":95000},"Stress Engineer","Engineer","USA","4 to 6 hours a day",14]
[null,"ID1514",95000,"USD",95000,{"$f":"(tblSalaries[[#This Row],[clean Salary (in local currency)]])*(VLOOKUP(tblSalaries[[#This Row],[Currency]],Sheet3!$A$2:$C$31,3,FALSE))*(VLOOKUP(tblSalaries[[#This Row],[Currency]],Sheet1!$N$4:$Q$186,4,FALSE))","v":95000},{"$f":"IF(Dashboard!$J$5=VLOOKUP(tblSalaries[[#This Row],[Currency]],Sheet3!$A$2:$B$31,2,FALSE),tblSalaries[[#This Row],[clean Salary (in local currency)]],(tblSalaries[[#This Row],[PPP Adjusted  USD]]/VLOOKUP(Dashboard!$J$5,Sheet3!$B$2:$C$31,2,FALSE)))","v":95000},"Sr Financial Analyst","Analyst","USA","4 to 6 hours a day",15]
[null,"ID0918",64210,"GBP",101206.40684944032,{"$f":"(tblSalaries[[#This Row],[clean Salary (in local currency)]])*(VLOOKUP(tblSalaries[[#This Row],[Currency]],Sheet3!$A$2:$C$31,3,FALSE))*(VLOOKUP(tblSalaries[[#This Row],[Currency]],Sheet1!$N$4:$Q$186,4,FALSE))","v":94643.691071793248},{"$f":"IF(Dashboard!$J$5=VLOOKUP(tblSalaries[[#This Row],[Currency]],Sheet3!$A$2:$B$31,2,FALSE),tblSalaries[[#This Row],[clean Salary (in local currency)]],(tblSalaries[[#This Row],[PPP Adjusted  USD]]/VLOOKUP(Dashboard!$J$5,Sheet3!$B$2:$C$31,2,FALSE)))","v":94643.691071793248},"HR Advisor - Systems & MI","Consultant","UK","4 to 6 hours a day",16]
[null,"ID1237",150000,"AUD",152986.44846039536,{"$f":"(tblSalaries[[#This Row],[clean Salary (in local currency)]])*(VLOOKUP(tblSalaries[[#This Row],[Currency]],Sheet3!$A$2:$C$31,3,FALSE))*(VLOOKUP(tblSalaries[[#This Row],[Currency]],Sheet1!$N$4:$Q$186,4,FALSE))","v":94007.108729791653},{"$f":"IF(Dashboard!$J$5=VLOOKUP(tblSalaries[[#This Row],[Currency]],Sheet3!$A$2:$B$31,2,FALSE),tblSalaries[[#This Row],[clean Salary (in local currency)]],(tblSalaries[[#This Row],[PPP Adjusted  USD]]/VLOOKUP(Dashboard!$J$5,Sheet3!$B$2:$C$31,2,FALSE)))","v":94007.108729791653},"Analyst","Analyst","Australia","2 to 3 hours per day",10]
[null,"ID1354",150000,"AUD",152986.44846039536,{"$f":"(tblSalaries[[#This Row],[clean Salary (in local currency)]])*(VLOOKUP(tblSalaries[[#This Row],[Currency]],Sheet3!$A$2:$C$31,3,FALSE))*(VLOOKUP(tblSalaries[[#This Row],[Currency]],Sheet1!$N$4:$Q$186,4,FALSE))","v":94007.108729791653},{"$f":"IF(Dashboard!$J$5=VLOOKUP(tblSalaries[[#This Row],[Currency]],Sheet3!$A$2:$B$31,2,FALSE),tblSalaries[[#This Row],[clean Salary (in local currency)]],(tblSalaries[[#This Row],[PPP Adjusted  USD]]/VLOOKUP(Dashboard!$J$5,Sheet3!$B$2:$C$31,2,FALSE)))","v":94007.108729791653},"Bus Analyst","Analyst","Australia","1 or 2 hours a day",5.5]
[null,"ID1086",63000,"GBP",99299.231140238902,{"$f":"(tblSalaries[[#This Row],[clean Salary (in local currency)]])*(VLOOKUP(tblSalaries[[#This Row],[Currency]],Sheet3!$A$2:$C$31,3,FALSE))*(VLOOKUP(tblSalaries[[#This Row],[Currency]],Sheet1!$N$4:$Q$186,4,FALSE))","v":92860.185913766938},{"$f":"IF(Dashboard!$J$5=VLOOKUP(tblSalaries[[#This Row],[Currency]],Sheet3!$A$2:$B$31,2,FALSE),tblSalaries[[#This Row],[clean Salary (in local currency)]],(tblSalaries[[#This Row],[PPP Adjusted  USD]]/VLOOKUP(Dashboard!$J$5,Sheet3!$B$2:$C$31,2,FALSE)))","v":92860.185913766938},"Business Improvement Specialist","Specialist","UK","2 to 3 hours per day",1]
[null,"ID0854",92500,"USD",92500,{"$f":"(tblSalaries[[#This Row],[clean Salary (in local currency)]])*(VLOOKUP(tblSalaries[[#This Row],[Currency]],Sheet3!$A$2:$C$31,3,FALSE))*(VLOOKUP(tblSalaries[[#This Row],[Currency]],Sheet1!$N$4:$Q$186,4,FALSE))","v":92500},{"$f":"IF(Dashboard!$J$5=VLOOKUP(tblSalaries[[#This Row],[Currency]],Sheet3!$A$2:$B$31,2,FALSE),tblSalaries[[#This Row],[clean Salary (in local currency)]],(tblSalaries[[#This Row],[PPP Adjusted  USD]]/VLOOKUP(Dashboard!$J$5,Sheet3!$B$2:$C$31,2,FALSE)))","v":92500},"Dir of Analytics","Analyst","USA","2 to 3 hours per day",15]
[null,"ID0146",92000,"USD",92000,{"$f":"(tblSalaries[[#This Row],[clean Salary (in local currency)]])*(VLOOKUP(tblSalaries[[#This Row],[Currency]],Sheet3!$A$2:$C$31,3,FALSE))*(VLOOKUP(tblSalaries[[#This Row],[Currency]],Sheet1!$N$4:$Q$186,4,FALSE))","v":92000},{"$f":"IF(Dashboard!$J$5=VLOOKUP(tblSalaries[[#This Row],[Currency]],Sheet3!$A$2:$B$31,2,FALSE),tblSalaries[[#This Row],[clean Salary (in local currency)]],(tblSalaries[[#This Row],[PPP Adjusted  USD]]/VLOOKUP(Dashboard!$J$5,Sheet3!$B$2:$C$31,2,FALSE)))","v":92000},"Senior Financial & Systems Analyst","Analyst","USA","4 to 6 hours a day","Data Not Avaliable"]
[null,"ID0176",92000,"USD",92000,{"$f":"(tblSalaries[[#This Row],[clean Salary (in local currency)]])*(VLOOKUP(tblSalaries[[#This Row],[Currency]],Sheet3!$A$2:$C$31,3,FALSE))*(VLOOKUP(tblSalaries[[#This Row],[Currency]],Sheet1!$N$4:$Q$186,4,FALSE))","v":92000},{"$f":"IF(Dashboard!$J$5=VLOOKUP(tblSalaries[[#This Row],[Currency]],Sheet3!$A$2:$B$31,2,FALSE),tblSalaries[[#This Row],[clean Salary (in local currency)]],(tblSalaries[[#This Row],[PPP Adjusted  USD]]/VLOOKUP(Dashboard!$J$5,Sheet3!$B$2:$C$31,2,FALSE)))","v":92000},"Industrial Engineer (Fed)","Engineer","USA","4 to 6 hours a day","Data Not Avaliable"]
[null,"ID0329",92000,"USD",92000,{"$f":"(tblSalaries[[#This Row],[clean Salary (in local currency)]])*(VLOOKUP(tblSalaries[[#This Row],[Currency]],Sheet3!$A$2:$C$31,3,FALSE))*(VLOOKUP(tblSalaries[[#This Row],[Currency]],Sheet1!$N$4:$Q$186,4,FALSE))","v":92000},{"$f":"IF(Dashboard!$J$5=VLOOKUP(tblSalaries[[#This Row],[Currency]],Sheet3!$A$2:$B$31,2,FALSE),tblSalaries[[#This Row],[clean Salary (in local currency)]],(tblSalaries[[#This Row],[PPP Adjusted  USD]]/VLOOKUP(Dashboard!$J$5,Sheet3!$B$2:$C$31,2,FALSE)))","v":92000},"Sales Analytics Manager","Manager","USA","4 to 6 hours a day","Data Not Avaliable"]
[null,"ID0480",92000,"USD",92000,{"$f":"(tblSalaries[[#This Row],[clean Salary (in local currency)]])*(VLOOKUP(tblSalaries[[#This Row],[Currency]],Sheet3!$A$2:$C$31,3,FALSE))*(VLOOKUP(tblSalaries[[#This Row],[Currency]],Sheet1!$N$4:$Q$186,4,FALSE))","v":92000},{"$f":"IF(Dashboard!$J$5=VLOOKUP(tblSalaries[[#This Row],[Currency]],Sheet3!$A$2:$B$31,2,FALSE),tblSalaries[[#This Row],[clean Salary (in local currency)]],(tblSalaries[[#This Row],[PPP Adjusted  USD]]/VLOOKUP(Dashboard!$J$5,Sheet3!$B$2:$C$31,2,FALSE)))","v":92000},"principal engineer","Engineer","USA","1 or 2 hours a day","Data Not Avaliable"]
[null,"ID1431",92000,"USD",92000,{"$f":"(tblSalaries[[#This Row],[clean Salary (in local currency)]])*(VLOOKUP(tblSalaries[[#This Row],[Currency]],Sheet3!$A$2:$C$31,3,FALSE))*(VLOOKUP(tblSalaries[[#This Row],[Currency]],Sheet1!$N$4:$Q$186,4,FALSE))","v":92000},{"$f":"IF(Dashboard!$J$5=VLOOKUP(tblSalaries[[#This Row],[Currency]],Sheet3!$A$2:$B$31,2,FALSE),tblSalaries[[#This Row],[clean Salary (in local currency)]],(tblSalaries[[#This Row],[PPP Adjusted  USD]]/VLOOKUP(Dashboard!$J$5,Sheet3!$B$2:$C$31,2,FALSE)))","v":92000},"Controller","Controller","USA","2 to 3 hours per day",9]
[null,"ID1668",92000,"USD",92000,{"$f":"(tblSalaries[[#This Row],[clean Salary (in local currency)]])*(VLOOKUP(tblSalaries[[#This Row],[Currency]],Sheet3!$A$2:$C$31,3,FALSE))*(VLOOKUP(tblSalaries[[#This Row],[Currency]],Sheet1!$N$4:$Q$186,4,FALSE))","v":92000},{"$f":"IF(Dashboard!$J$5=VLOOKUP(tblSalaries[[#This Row],[Currency]],Sheet3!$A$2:$B$31,2,FALSE),tblSalaries[[#This Row],[clean Salary (in local currency)]],(tblSalaries[[#This Row],[PPP Adjusted  USD]]/VLOOKUP(Dashboard!$J$5,Sheet3!$B$2:$C$31,2,FALSE)))","v":92000},"BI director","Reporting","USA","2 to 3 hours per day",12]
[null,"ID1698",92000,"USD",92000,{"$f":"(tblSalaries[[#This Row],[clean Salary (in local currency)]])*(VLOOKUP(tblSalaries[[#This Row],[Currency]],Sheet3!$A$2:$C$31,3,FALSE))*(VLOOKUP(tblSalaries[[#This Row],[Currency]],Sheet1!$N$4:$Q$186,4,FALSE))","v":92000},{"$f":"IF(Dashboard!$J$5=VLOOKUP(tblSalaries[[#This Row],[Currency]],Sheet3!$A$2:$B$31,2,FALSE),tblSalaries[[#This Row],[clean Salary (in local currency)]],(tblSalaries[[#This Row],[PPP Adjusted  USD]]/VLOOKUP(Dashboard!$J$5,Sheet3!$B$2:$C$31,2,FALSE)))","v":92000},"Anallyst","Analyst","USA","4 to 6 hours a day",9]
[null,"ID0097",91000,"USD",91000,{"$f":"(tblSalaries[[#This Row],[clean Salary (in local currency)]])*(VLOOKUP(tblSalaries[[#This Row],[Currency]],Sheet3!$A$2:$C$31,3,FALSE))*(VLOOKUP(tblSalaries[[#This Row],[Currency]],Sheet1!$N$4:$Q$186,4,FALSE))","v":91000},{"$f":"IF(Dashboard!$J$5=VLOOKUP(tblSalaries[[#This Row],[Currency]],Sheet3!$A$2:$B$31,2,FALSE),tblSalaries[[#This Row],[clean Salary (in local currency)]],(tblSalaries[[#This Row],[PPP Adjusted  USD]]/VLOOKUP(Dashboard!$J$5,Sheet3!$B$2:$C$31,2,FALSE)))","v":91000},"Channel Marketing Manager","Manager","USA","1 or 2 hours a day","Data Not Avaliable"]
[null,"ID0261",1920000,"INR",34191.200039889729,{"$f":"(tblSalaries[[#This Row],[clean Salary (in local currency)]])*(VLOOKUP(tblSalaries[[#This Row],[Currency]],Sheet3!$A$2:$C$31,3,FALSE))*(VLOOKUP(tblSalaries[[#This Row],[Currency]],Sheet1!$N$4:$Q$186,4,FALSE))","v":90933.162909501028},{"$f":"IF(Dashboard!$J$5=VLOOKUP(tblSalaries[[#This Row],[Currency]],Sheet3!$A$2:$B$31,2,FALSE),tblSalaries[[#This Row],[clean Salary (in local currency)]],(tblSalaries[[#This Row],[PPP Adjusted  USD]]/VLOOKUP(Dashboard!$J$5,Sheet3!$B$2:$C$31,2,FALSE)))","v":90933.162909501028},"Project Manager","Manager","India","2 to 3 hours per day","Data Not Avaliable"]
[null,"ID1816",145000,"AUD",147886.90017838217,{"$f":"(tblSalaries[[#This Row],[clean Salary (in local currency)]])*(VLOOKUP(tblSalaries[[#This Row],[Currency]],Sheet3!$A$2:$C$31,3,FALSE))*(VLOOKUP(tblSalaries[[#This Row],[Currency]],Sheet1!$N$4:$Q$186,4,FALSE))","v":90873.538438798583},{"$f":"IF(Dashboard!$J$5=VLOOKUP(tblSalaries[[#This Row],[Currency]],Sheet3!$A$2:$B$31,2,FALSE),tblSalaries[[#This Row],[clean Salary (in local currency)]],(tblSalaries[[#This Row],[PPP Adjusted  USD]]/VLOOKUP(Dashboard!$J$5,Sheet3!$B$2:$C$31,2,FALSE)))","v":90873.538438798583},"Financial controller","Controller","Australia","2 to 3 hours per day",15]
[null,"ID1197",82000,"EUR",104172.75399731184,{"$f":"(tblSalaries[[#This Row],[clean Salary (in local currency)]])*(VLOOKUP(tblSalaries[[#This Row],[Currency]],Sheet3!$A$2:$C$31,3,FALSE))*(VLOOKUP(tblSalaries[[#This Row],[Currency]],Sheet1!$N$4:$Q$186,4,FALSE))","v":90253.536650364273},{"$f":"IF(Dashboard!$J$5=VLOOKUP(tblSalaries[[#This Row],[Currency]],Sheet3!$A$2:$B$31,2,FALSE),tblSalaries[[#This Row],[clean Salary (in local currency)]],(tblSalaries[[#This Row],[PPP Adjusted  USD]]/VLOOKUP(Dashboard!$J$5,Sheet3!$B$2:$C$31,2,FALSE)))","v":90253.536650364273},"Finance Project Manager","Manager","Netherlands","All the 8 hours baby, all the 8!",25]
[null,"ID0045",90000,"USD",90000,{"$f":"(tblSalaries[[#This Row],[clean Salary (in local currency)]])*(VLOOKUP(tblSalaries[[#This Row],[Currency]],Sheet3!$A$2:$C$31,3,FALSE))*(VLOOKUP(tblSalaries[[#This Row],[Currency]],Sheet1!$N$4:$Q$186,4,FALSE))","v":90000},{"$f":"IF(Dashboard!$J$5=VLOOKUP(tblSalaries[[#This Row],[Currency]],Sheet3!$A$2:$B$31,2,FALSE),tblSalaries[[#This Row],[clean Salary (in local currency)]],(tblSalaries[[#This Row],[PPP Adjusted  USD]]/VLOOKUP(Dashboard!$J$5,Sheet3!$B$2:$C$31,2,FALSE)))","v":90000},"Scientist","Misc.","USA","1 or 2 hours a day","Data Not Avaliable"]
[null,"ID0102",90000,"USD",90000,{"$f":"(tblSalaries[[#This Row],[clean Salary (in local currency)]])*(VLOOKUP(tblSalaries[[#This Row],[Currency]],Sheet3!$A$2:$C$31,3,FALSE))*(VLOOKUP(tblSalaries[[#This Row],[Currency]],Sheet1!$N$4:$Q$186,4,FALSE))","v":90000},{"$f":"IF(Dashboard!$J$5=VLOOKUP(tblSalaries[[#This Row],[Currency]],Sheet3!$A$2:$B$31,2,FALSE),tblSalaries[[#This Row],[clean Salary (in local currency)]],(tblSalaries[[#This Row],[PPP Adjusted  USD]]/VLOOKUP(Dashboard!$J$5,Sheet3!$B$2:$C$31,2,FALSE)))","v":90000},"Product Specialist","Specialist","USA","4 to 6 hours a day","Data Not Avaliable"]
[null,"ID0156",90000,"USD",90000,{"$f":"(tblSalaries[[#This Row],[clean Salary (in local currency)]])*(VLOOKUP(tblSalaries[[#This Row],[Currency]],Sheet3!$A$2:$C$31,3,FALSE))*(VLOOKUP(tblSalaries[[#This Row],[Currency]],Sheet1!$N$4:$Q$186,4,FALSE))","v":90000},{"$f":"IF(Dashboard!$J$5=VLOOKUP(tblSalaries[[#This Row],[Currency]],Sheet3!$A$2:$B$31,2,FALSE),tblSalaries[[#This Row],[clean Salary (in local currency)]],(tblSalaries[[#This Row],[PPP Adjusted  USD]]/VLOOKUP(Dashboard!$J$5,Sheet3!$B$2:$C$31,2,FALSE)))","v":90000},"Senior Data Quality Analyst","Analyst","USA","2 to 3 hours per day","Data Not Avaliable"]
[null,"ID0200",90000,"USD",90000,{"$f":"(tblSalaries[[#This Row],[clean Salary (in local currency)]])*(VLOOKUP(tblSalaries[[#This Row],[Currency]],Sheet3!$A$2:$C$31,3,FALSE))*(VLOOKUP(tblSalaries[[#This Row],[Currency]],Sheet1!$N$4:$Q$186,4,FALSE))","v":90000},{"$f":"IF(Dashboard!$J$5=VLOOKUP(tblSalaries[[#This Row],[Currency]],Sheet3!$A$2:$B$31,2,FALSE),tblSalaries[[#This Row],[clean Salary (in local currency)]],(tblSalaries[[#This Row],[PPP Adjusted  USD]]/VLOOKUP(Dashboard!$J$5,Sheet3!$B$2:$C$31,2,FALSE)))","v":90000},"Project Manager","Manager","USA","2 to 3 hours per day","Data Not Avaliable"]
[null,"ID0244",90000,"USD",90000,{"$f":"(tblSalaries[[#This Row],[clean Salary (in local currency)]])*(VLOOKUP(tblSalaries[[#This Row],[Currency]],Sheet3!$A$2:$C$31,3,FALSE))*(VLOOKUP(tblSalaries[[#This Row],[Currency]],Sheet1!$N$4:$Q$186,4,FALSE))","v":90000},{"$f":"IF(Dashboard!$J$5=VLOOKUP(tblSalaries[[#This Row],[Currency]],Sheet3!$A$2:$B$31,2,FALSE),tblSalaries[[#This Row],[clean Salary (in local currency)]],(tblSalaries[[#This Row],[PPP Adjusted  USD]]/VLOOKUP(Dashboard!$J$5,Sheet3!$B$2:$C$31,2,FALSE)))","v":90000},"Manager Business Control","Manager","USA","4 to 6 hours a day","Data Not Avaliable"]
[null,"ID0422",90000,"USD",90000,{"$f":"(tblSalaries[[#This Row],[clean Salary (in local currency)]])*(VLOOKUP(tblSalaries[[#This Row],[Currency]],Sheet3!$A$2:$C$31,3,FALSE))*(VLOOKUP(tblSalaries[[#This Row],[Currency]],Sheet1!$N$4:$Q$186,4,FALSE))","v":90000},{"$f":"IF(Dashboard!$J$5=VLOOKUP(tblSalaries[[#This Row],[Currency]],Sheet3!$A$2:$B$31,2,FALSE),tblSalaries[[#This Row],[clean Salary (in local currency)]],(tblSalaries[[#This Row],[PPP Adjusted  USD]]/VLOOKUP(Dashboard!$J$5,Sheet3!$B$2:$C$31,2,FALSE)))","v":90000},"Financial Analyst","Analyst","USA","All the 8 hours baby, all the 8!","Data Not Avaliable"]
[null,"ID0435",90000,"USD",90000,{"$f":"(tblSalaries[[#This Row],[clean Salary (in local currency)]])*(VLOOKUP(tblSalaries[[#This Row],[Currency]],Sheet3!$A$2:$C$31,3,FALSE))*(VLOOKUP(tblSalaries[[#This Row],[Currency]],Sheet1!$N$4:$Q$186,4,FALSE))","v":90000},{"$f":"IF(Dashboard!$J$5=VLOOKUP(tblSalaries[[#This Row],[Currency]],Sheet3!$A$2:$B$31,2,FALSE),tblSalaries[[#This Row],[clean Salary (in local currency)]],(tblSalaries[[#This Row],[PPP Adjusted  USD]]/VLOOKUP(Dashboard!$J$5,Sheet3!$B$2:$C$31,2,FALSE)))","v":90000},"senior analyst","Analyst","USA","1 or 2 hours a day","Data Not Avaliable"]
[null,"ID0573",90000,"USD",90000,{"$f":"(tblSalaries[[#This Row],[clean Salary (in local currency)]])*(VLOOKUP(tblSalaries[[#This Row],[Currency]],Sheet3!$A$2:$C$31,3,FALSE))*(VLOOKUP(tblSalaries[[#This Row],[Currency]],Sheet1!$N$4:$Q$186,4,FALSE))","v":90000},{"$f":"IF(Dashboard!$J$5=VLOOKUP(tblSalaries[[#This Row],[Currency]],Sheet3!$A$2:$B$31,2,FALSE),tblSalaries[[#This Row],[clean Salary (in local currency)]],(tblSalaries[[#This Row],[PPP Adjusted  USD]]/VLOOKUP(Dashboard!$J$5,Sheet3!$B$2:$C$31,2,FALSE)))","v":90000},"Sales Operations Supervisor","Manager","USA","4 to 6 hours a day",6]
[null,"ID0579",90000,"USD",90000,{"$f":"(tblSalaries[[#This Row],[clean Salary (in local currency)]])*(VLOOKUP(tblSalaries[[#This Row],[Currency]],Sheet3!$A$2:$C$31,3,FALSE))*(VLOOKUP(tblSalaries[[#This Row],[Currency]],Sheet1!$N$4:$Q$186,4,FALSE))","v":90000},{"$f":"IF(Dashboard!$J$5=VLOOKUP(tblSalaries[[#This Row],[Currency]],Sheet3!$A$2:$B$31,2,FALSE),tblSalaries[[#This Row],[clean Salary (in local currency)]],(tblSalaries[[#This Row],[PPP Adjusted  USD]]/VLOOKUP(Dashboard!$J$5,Sheet3!$B$2:$C$31,2,FALSE)))","v":90000},"Manager","Manager","USA","2 to 3 hours per day",15]
[null,"ID0602",90000,"USD",90000,{"$f":"(tblSalaries[[#This Row],[clean Salary (in local currency)]])*(VLOOKUP(tblSalaries[[#This Row],[Currency]],Sheet3!$A$2:$C$31,3,FALSE))*(VLOOKUP(tblSalaries[[#This Row],[Currency]],Sheet1!$N$4:$Q$186,4,FALSE))","v":90000},{"$f":"IF(Dashboard!$J$5=VLOOKUP(tblSalaries[[#This Row],[Currency]],Sheet3!$A$2:$B$31,2,FALSE),tblSalaries[[#This Row],[clean Salary (in local currency)]],(tblSalaries[[#This Row],[PPP Adjusted  USD]]/VLOOKUP(Dashboard!$J$5,Sheet3!$B$2:$C$31,2,FALSE)))","v":90000},"Operations","Manager","USA","2 to 3 hours per day",20]
[null,"ID1138",90000,"USD",90000,{"$f":"(tblSalaries[[#This Row],[clean Salary (in local currency)]])*(VLOOKUP(tblSalaries[[#This Row],[Currency]],Sheet3!$A$2:$C$31,3,FALSE))*(VLOOKUP(tblSalaries[[#This Row],[Currency]],Sheet1!$N$4:$Q$186,4,FALSE))","v":90000},{"$f":"IF(Dashboard!$J$5=VLOOKUP(tblSalaries[[#This Row],[Currency]],Sheet3!$A$2:$B$31,2,FALSE),tblSalaries[[#This Row],[clean Salary (in local currency)]],(tblSalaries[[#This Row],[PPP Adjusted  USD]]/VLOOKUP(Dashboard!$J$5,Sheet3!$B$2:$C$31,2,FALSE)))","v":90000},"Performance manager","Manager","USA","4 to 6 hours a day",5]
[null,"ID1222",90000,"USD",90000,{"$f":"(tblSalaries[[#This Row],[clean Salary (in local currency)]])*(VLOOKUP(tblSalaries[[#This Row],[Currency]],Sheet3!$A$2:$C$31,3,FALSE))*(VLOOKUP(tblSalaries[[#This Row],[Currency]],Sheet1!$N$4:$Q$186,4,FALSE))","v":90000},{"$f":"IF(Dashboard!$J$5=VLOOKUP(tblSalaries[[#This Row],[Currency]],Sheet3!$A$2:$B$31,2,FALSE),tblSalaries[[#This Row],[clean Salary (in local currency)]],(tblSalaries[[#This Row],[PPP Adjusted  USD]]/VLOOKUP(Dashboard!$J$5,Sheet3!$B$2:$C$31,2,FALSE)))","v":90000},"Senior Analyst","Analyst","USA","4 to 6 hours a day",30]
[null,"ID1564",90000,"USD",90000,{"$f":"(tblSalaries[[#This Row],[clean Salary (in local currency)]])*(VLOOKUP(tblSalaries[[#This Row],[Currency]],Sheet3!$A$2:$C$31,3,FALSE))*(VLOOKUP(tblSalaries[[#This Row],[Currency]],Sheet1!$N$4:$Q$186,4,FALSE))","v":90000},{"$f":"IF(Dashboard!$J$5=VLOOKUP(tblSalaries[[#This Row],[Currency]],Sheet3!$A$2:$B$31,2,FALSE),tblSalaries[[#This Row],[clean Salary (in local currency)]],(tblSalaries[[#This Row],[PPP Adjusted  USD]]/VLOOKUP(Dashboard!$J$5,Sheet3!$B$2:$C$31,2,FALSE)))","v":90000},"Operationsl Regional Manager","Manager","USA","4 to 6 hours a day",25]
[null,"ID1692",90000,"USD",90000,{"$f":"(tblSalaries[[#This Row],[clean Salary (in local currency)]])*(VLOOKUP(tblSalaries[[#This Row],[Currency]],Sheet3!$A$2:$C$31,3,FALSE))*(VLOOKUP(tblSalaries[[#This Row],[Currency]],Sheet1!$N$4:$Q$186,4,FALSE))","v":90000},{"$f":"IF(Dashboard!$J$5=VLOOKUP(tblSalaries[[#This Row],[Currency]],Sheet3!$A$2:$B$31,2,FALSE),tblSalaries[[#This Row],[clean Salary (in local currency)]],(tblSalaries[[#This Row],[PPP Adjusted  USD]]/VLOOKUP(Dashboard!$J$5,Sheet3!$B$2:$C$31,2,FALSE)))","v":90000},"Senior QA Tester","Analyst","USA","2 to 3 hours per day",8]
[null,"ID0367",89000,"USD",89000,{"$f":"(tblSalaries[[#This Row],[clean Salary (in local currency)]])*(VLOOKUP(tblSalaries[[#This Row],[Currency]],Sheet3!$A$2:$C$31,3,FALSE))*(VLOOKUP(tblSalaries[[#This Row],[Currency]],Sheet1!$N$4:$Q$186,4,FALSE))","v":89000},{"$f":"IF(Dashboard!$J$5=VLOOKUP(tblSalaries[[#This Row],[Currency]],Sheet3!$A$2:$B$31,2,FALSE),tblSalaries[[#This Row],[clean Salary (in local currency)]],(tblSalaries[[#This Row],[PPP Adjusted  USD]]/VLOOKUP(Dashboard!$J$5,Sheet3!$B$2:$C$31,2,FALSE)))","v":89000},"Quality Assurance Officer","Manager","USA","4 to 6 hours a day","Data Not Avaliable"]
[null,"ID1519",89000,"USD",89000,{"$f":"(tblSalaries[[#This Row],[clean Salary (in local currency)]])*(VLOOKUP(tblSalaries[[#This Row],[Currency]],Sheet3!$A$2:$C$31,3,FALSE))*(VLOOKUP(tblSalaries[[#This Row],[Currency]],Sheet1!$N$4:$Q$186,4,FALSE))","v":89000},{"$f":"IF(Dashboard!$J$5=VLOOKUP(tblSalaries[[#This Row],[Currency]],Sheet3!$A$2:$B$31,2,FALSE),tblSalaries[[#This Row],[clean Salary (in local currency)]],(tblSalaries[[#This Row],[PPP Adjusted  USD]]/VLOOKUP(Dashboard!$J$5,Sheet3!$B$2:$C$31,2,FALSE)))","v":89000},"Finance Manager","Manager","USA","2 to 3 hours per day",10]
[null,"ID1529",89000,"USD",89000,{"$f":"(tblSalaries[[#This Row],[clean Salary (in local currency)]])*(VLOOKUP(tblSalaries[[#This Row],[Currency]],Sheet3!$A$2:$C$31,3,FALSE))*(VLOOKUP(tblSalaries[[#This Row],[Currency]],Sheet1!$N$4:$Q$186,4,FALSE))","v":89000},{"$f":"IF(Dashboard!$J$5=VLOOKUP(tblSalaries[[#This Row],[Currency]],Sheet3!$A$2:$B$31,2,FALSE),tblSalaries[[#This Row],[clean Salary (in local currency)]],(tblSalaries[[#This Row],[PPP Adjusted  USD]]/VLOOKUP(Dashboard!$J$5,Sheet3!$B$2:$C$31,2,FALSE)))","v":89000},"BI Analyst","Analyst","USA","All the 8 hours baby, all the 8!",14]
[null,"ID0260",60000,"GBP",94570.696324037053,{"$f":"(tblSalaries[[#This Row],[clean Salary (in local currency)]])*(VLOOKUP(tblSalaries[[#This Row],[Currency]],Sheet3!$A$2:$C$31,3,FALSE))*(VLOOKUP(tblSalaries[[#This Row],[Currency]],Sheet1!$N$4:$Q$186,4,FALSE))","v":88438.272298825657},{"$f":"IF(Dashboard!$J$5=VLOOKUP(tblSalaries[[#This Row],[Currency]],Sheet3!$A$2:$B$31,2,FALSE),tblSalaries[[#This Row],[clean Salary (in local currency)]],(tblSalaries[[#This Row],[PPP Adjusted  USD]]/VLOOKUP(Dashboard!$J$5,Sheet3!$B$2:$C$31,2,FALSE)))","v":88438.272298825657},"Decision Analyst & Modeller","Analyst","UK","All the 8 hours baby, all the 8!","Data Not Avaliable"]
[null,"ID0380",60000,"GBP",94570.696324037053,{"$f":"(tblSalaries[[#This Row],[clean Salary (in local currency)]])*(VLOOKUP(tblSalaries[[#This Row],[Currency]],Sheet3!$A$2:$C$31,3,FALSE))*(VLOOKUP(tblSalaries[[#This Row],[Currency]],Sheet1!$N$4:$Q$186,4,FALSE))","v":88438.272298825657},{"$f":"IF(Dashboard!$J$5=VLOOKUP(tblSalaries[[#This Row],[Currency]],Sheet3!$A$2:$B$31,2,FALSE),tblSalaries[[#This Row],[clean Salary (in local currency)]],(tblSalaries[[#This Row],[PPP Adjusted  USD]]/VLOOKUP(Dashboard!$J$5,Sheet3!$B$2:$C$31,2,FALSE)))","v":88438.272298825657},"Managing Director","CXO or Top Mgmt.","UK","2 to 3 hours per day","Data Not Avaliable"]
[null,"ID0450",60000,"GBP",94570.696324037053,{"$f":"(tblSalaries[[#This Row],[clean Salary (in local currency)]])*(VLOOKUP(tblSalaries[[#This Row],[Currency]],Sheet3!$A$2:$C$31,3,FALSE))*(VLOOKUP(tblSalaries[[#This Row],[Currency]],Sheet1!$N$4:$Q$186,4,FALSE))","v":88438.272298825657},{"$f":"IF(Dashboard!$J$5=VLOOKUP(tblSalaries[[#This Row],[Currency]],Sheet3!$A$2:$B$31,2,FALSE),tblSalaries[[#This Row],[clean Salary (in local currency)]],(tblSalaries[[#This Row],[PPP Adjusted  USD]]/VLOOKUP(Dashboard!$J$5,Sheet3!$B$2:$C$31,2,FALSE)))","v":88438.272298825657},"Excel Consultant","Consultant","UK","4 to 6 hours a day","Data Not Avaliable"]
[null,"ID1388",60000,"GBP",94570.696324037053,{"$f":"(tblSalaries[[#This Row],[clean Salary (in local currency)]])*(VLOOKUP(tblSalaries[[#This Row],[Currency]],Sheet3!$A$2:$C$31,3,FALSE))*(VLOOKUP(tblSalaries[[#This Row],[Currency]],Sheet1!$N$4:$Q$186,4,FALSE))","v":88438.272298825657},{"$f":"IF(Dashboard!$J$5=VLOOKUP(tblSalaries[[#This Row],[Currency]],Sheet3!$A$2:$B$31,2,FALSE),tblSalaries[[#This Row],[clean Salary (in local currency)]],(tblSalaries[[#This Row],[PPP Adjusted  USD]]/VLOOKUP(Dashboard!$J$5,Sheet3!$B$2:$C$31,2,FALSE)))","v":88438.272298825657},"Analyst","Analyst","UK","4 to 6 hours a day",7]
[null,"ID1634",60000,"GBP",94570.696324037053,{"$f":"(tblSalaries[[#This Row],[clean Salary (in local currency)]])*(VLOOKUP(tblSalaries[[#This Row],[Currency]],Sheet3!$A$2:$C$31,3,FALSE))*(VLOOKUP(tblSalaries[[#This Row],[Currency]],Sheet1!$N$4:$Q$186,4,FALSE))","v":88438.272298825657},{"$f":"IF(Dashboard!$J$5=VLOOKUP(tblSalaries[[#This Row],[Currency]],Sheet3!$A$2:$B$31,2,FALSE),tblSalaries[[#This Row],[clean Salary (in local currency)]],(tblSalaries[[#This Row],[PPP Adjusted  USD]]/VLOOKUP(Dashboard!$J$5,Sheet3!$B$2:$C$31,2,FALSE)))","v":88438.272298825657},"Data Analyst","Analyst","UK","4 to 6 hours a day",5]
[null,"ID0147",88000,"USD",88000,{"$f":"(tblSalaries[[#This Row],[clean Salary (in local currency)]])*(VLOOKUP(tblSalaries[[#This Row],[Currency]],Sheet3!$A$2:$C$31,3,FALSE))*(VLOOKUP(tblSalaries[[#This Row],[Currency]],Sheet1!$N$4:$Q$186,4,FALSE))","v":88000},{"$f":"IF(Dashboard!$J$5=VLOOKUP(tblSalaries[[#This Row],[Currency]],Sheet3!$A$2:$B$31,2,FALSE),tblSalaries[[#This Row],[clean Salary (in local currency)]],(tblSalaries[[#This Row],[PPP Adjusted  USD]]/VLOOKUP(Dashboard!$J$5,Sheet3!$B$2:$C$31,2,FALSE)))","v":88000},"project manager - metrics","Manager","USA","4 to 6 hours a day","Data Not Avaliable"]
[null,"ID1198",88000,"USD",88000,{"$f":"(tblSalaries[[#This Row],[clean Salary (in local currency)]])*(VLOOKUP(tblSalaries[[#This Row],[Currency]],Sheet3!$A$2:$C$31,3,FALSE))*(VLOOKUP(tblSalaries[[#This Row],[Currency]],Sheet1!$N$4:$Q$186,4,FALSE))","v":88000},{"$f":"IF(Dashboard!$J$5=VLOOKUP(tblSalaries[[#This Row],[Currency]],Sheet3!$A$2:$B$31,2,FALSE),tblSalaries[[#This Row],[clean Salary (in local currency)]],(tblSalaries[[#This Row],[PPP Adjusted  USD]]/VLOOKUP(Dashboard!$J$5,Sheet3!$B$2:$C$31,2,FALSE)))","v":88000},"Manager, Strategy & Insights","Manager","USA","4 to 6 hours a day",2]
[null,"ID1413",88000,"USD",88000,{"$f":"(tblSalaries[[#This Row],[clean Salary (in local currency)]])*(VLOOKUP(tblSalaries[[#This Row],[Currency]],Sheet3!$A$2:$C$31,3,FALSE))*(VLOOKUP(tblSalaries[[#This Row],[Currency]],Sheet1!$N$4:$Q$186,4,FALSE))","v":88000},{"$f":"IF(Dashboard!$J$5=VLOOKUP(tblSalaries[[#This Row],[Currency]],Sheet3!$A$2:$B$31,2,FALSE),tblSalaries[[#This Row],[clean Salary (in local currency)]],(tblSalaries[[#This Row],[PPP Adjusted  USD]]/VLOOKUP(Dashboard!$J$5,Sheet3!$B$2:$C$31,2,FALSE)))","v":88000},"Manager, Financial Planning & Analysis","Manager","USA","4 to 6 hours a day",21]
[null,"ID1744",88000,"USD",88000,{"$f":"(tblSalaries[[#This Row],[clean Salary (in local currency)]])*(VLOOKUP(tblSalaries[[#This Row],[Currency]],Sheet3!$A$2:$C$31,3,FALSE))*(VLOOKUP(tblSalaries[[#This Row],[Currency]],Sheet1!$N$4:$Q$186,4,FALSE))","v":88000},{"$f":"IF(Dashboard!$J$5=VLOOKUP(tblSalaries[[#This Row],[Currency]],Sheet3!$A$2:$B$31,2,FALSE),tblSalaries[[#This Row],[clean Salary (in local currency)]],(tblSalaries[[#This Row],[PPP Adjusted  USD]]/VLOOKUP(Dashboard!$J$5,Sheet3!$B$2:$C$31,2,FALSE)))","v":88000},"Senior Fiancial Analyst","Analyst","USA","All the 8 hours baby, all the 8!",10]
[null,"ID0876",87456,"USD",87456,{"$f":"(tblSalaries[[#This Row],[clean Salary (in local currency)]])*(VLOOKUP(tblSalaries[[#This Row],[Currency]],Sheet3!$A$2:$C$31,3,FALSE))*(VLOOKUP(tblSalaries[[#This Row],[Currency]],Sheet1!$N$4:$Q$186,4,FALSE))","v":87456},{"$f":"IF(Dashboard!$J$5=VLOOKUP(tblSalaries[[#This Row],[Currency]],Sheet3!$A$2:$B$31,2,FALSE),tblSalaries[[#This Row],[clean Salary (in local currency)]],(tblSalaries[[#This Row],[PPP Adjusted  USD]]/VLOOKUP(Dashboard!$J$5,Sheet3!$B$2:$C$31,2,FALSE)))","v":87456},"qa team supervisor ","Manager","USA","2 to 3 hours per day",12]
[null,"ID1807",87000,"USD",87000,{"$f":"(tblSalaries[[#This Row],[clean Salary (in local currency)]])*(VLOOKUP(tblSalaries[[#This Row],[Currency]],Sheet3!$A$2:$C$31,3,FALSE))*(VLOOKUP(tblSalaries[[#This Row],[Currency]],Sheet1!$N$4:$Q$186,4,FALSE))","v":87000},{"$f":"IF(Dashboard!$J$5=VLOOKUP(tblSalaries[[#This Row],[Currency]],Sheet3!$A$2:$B$31,2,FALSE),tblSalaries[[#This Row],[clean Salary (in local currency)]],(tblSalaries[[#This Row],[PPP Adjusted  USD]]/VLOOKUP(Dashboard!$J$5,Sheet3!$B$2:$C$31,2,FALSE)))","v":87000},"Ð˜Ð¨ Ð¤Ñ‚Ñ„Ð´Ð½Ñ‹Ðµ","Misc.","USA","4 to 6 hours a day",3]
[null,"ID0486",59000,"GBP",92994.518051969761,{"$f":"(tblSalaries[[#This Row],[clean Salary (in local currency)]])*(VLOOKUP(tblSalaries[[#This Row],[Currency]],Sheet3!$A$2:$C$31,3,FALSE))*(VLOOKUP(tblSalaries[[#This Row],[Currency]],Sheet1!$N$4:$Q$186,4,FALSE))","v":86964.301093845221},{"$f":"IF(Dashboard!$J$5=VLOOKUP(tblSalaries[[#This Row],[Currency]],Sheet3!$A$2:$B$31,2,FALSE),tblSalaries[[#This Row],[clean Salary (in local currency)]],(tblSalaries[[#This Row],[PPP Adjusted  USD]]/VLOOKUP(Dashboard!$J$5,Sheet3!$B$2:$C$31,2,FALSE)))","v":86964.301093845221},"Health and safety advisor","Consultant","UK","2 to 3 hours per day","Data Not Avaliable"]
[null,"ID0446",110000,"CAD",108169.76753333595,{"$f":"(tblSalaries[[#This Row],[clean Salary (in local currency)]])*(VLOOKUP(tblSalaries[[#This Row],[Currency]],Sheet3!$A$2:$C$31,3,FALSE))*(VLOOKUP(tblSalaries[[#This Row],[Currency]],Sheet1!$N$4:$Q$186,4,FALSE))","v":86949.082352257916},{"$f":"IF(Dashboard!$J$5=VLOOKUP(tblSalaries[[#This Row],[Currency]],Sheet3!$A$2:$B$31,2,FALSE),tblSalaries[[#This Row],[clean Salary (in local currency)]],(tblSalaries[[#This Row],[PPP Adjusted  USD]]/VLOOKUP(Dashboard!$J$5,Sheet3!$B$2:$C$31,2,FALSE)))","v":86949.082352257916},"Continuos improvment","Controller","Canada","2 to 3 hours per day","Data Not Avaliable"]
[null,"ID1650",86000,"USD",86000,{"$f":"(tblSalaries[[#This Row],[clean Salary (in local currency)]])*(VLOOKUP(tblSalaries[[#This Row],[Currency]],Sheet3!$A$2:$C$31,3,FALSE))*(VLOOKUP(tblSalaries[[#This Row],[Currency]],Sheet1!$N$4:$Q$186,4,FALSE))","v":86000},{"$f":"IF(Dashboard!$J$5=VLOOKUP(tblSalaries[[#This Row],[Currency]],Sheet3!$A$2:$B$31,2,FALSE),tblSalaries[[#This Row],[clean Salary (in local currency)]],(tblSalaries[[#This Row],[PPP Adjusted  USD]]/VLOOKUP(Dashboard!$J$5,Sheet3!$B$2:$C$31,2,FALSE)))","v":86000},"Analyst","Analyst","Philippines","All the 8 hours baby, all the 8!",3]
[null,"ID0503",58000,"GBP",91418.339779902482,{"$f":"(tblSalaries[[#This Row],[clean Salary (in local currency)]])*(VLOOKUP(tblSalaries[[#This Row],[Currency]],Sheet3!$A$2:$C$31,3,FALSE))*(VLOOKUP(tblSalaries[[#This Row],[Currency]],Sheet1!$N$4:$Q$186,4,FALSE))","v":85490.329888864799},{"$f":"IF(Dashboard!$J$5=VLOOKUP(tblSalaries[[#This Row],[Currency]],Sheet3!$A$2:$B$31,2,FALSE),tblSalaries[[#This Row],[clean Salary (in local currency)]],(tblSalaries[[#This Row],[PPP Adjusted  USD]]/VLOOKUP(Dashboard!$J$5,Sheet3!$B$2:$C$31,2,FALSE)))","v":85490.329888864799},"Business Modeller","Manager","UK","All the 8 hours baby, all the 8!","Data Not Avaliable"]
[null,"ID1102",58000,"GBP",91418.339779902482,{"$f":"(tblSalaries[[#This Row],[clean Salary (in local currency)]])*(VLOOKUP(tblSalaries[[#This Row],[Currency]],Sheet3!$A$2:$C$31,3,FALSE))*(VLOOKUP(tblSalaries[[#This Row],[Currency]],Sheet1!$N$4:$Q$186,4,FALSE))","v":85490.329888864799},{"$f":"IF(Dashboard!$J$5=VLOOKUP(tblSalaries[[#This Row],[Currency]],Sheet3!$A$2:$B$31,2,FALSE),tblSalaries[[#This Row],[clean Salary (in local currency)]],(tblSalaries[[#This Row],[PPP Adjusted  USD]]/VLOOKUP(Dashboard!$J$5,Sheet3!$B$2:$C$31,2,FALSE)))","v":85490.329888864799},"Data analyst","Analyst","UK","All the 8 hours baby, all the 8!",8]
[null,"ID0205",1800000,"INR",32054.250037396621,{"$f":"(tblSalaries[[#This Row],[clean Salary (in local currency)]])*(VLOOKUP(tblSalaries[[#This Row],[Currency]],Sheet3!$A$2:$C$31,3,FALSE))*(VLOOKUP(tblSalaries[[#This Row],[Currency]],Sheet1!$N$4:$Q$186,4,FALSE))","v":85249.840227657216},{"$f":"IF(Dashboard!$J$5=VLOOKUP(tblSalaries[[#This Row],[Currency]],Sheet3!$A$2:$B$31,2,FALSE),tblSalaries[[#This Row],[clean Salary (in local currency)]],(tblSalaries[[#This Row],[PPP Adjusted  USD]]/VLOOKUP(Dashboard!$J$5,Sheet3!$B$2:$C$31,2,FALSE)))","v":85249.840227657216},"Chief Manager","Manager","India","1 or 2 hours a day","Data Not Avaliable"]
[null,"ID0617",1800000,"INR",32054.250037396621,{"$f":"(tblSalaries[[#This Row],[clean Salary (in local currency)]])*(VLOOKUP(tblSalaries[[#This Row],[Currency]],Sheet3!$A$2:$C$31,3,FALSE))*(VLOOKUP(tblSalaries[[#This Row],[Currency]],Sheet1!$N$4:$Q$186,4,FALSE))","v":85249.840227657216},{"$f":"IF(Dashboard!$J$5=VLOOKUP(tblSalaries[[#This Row],[Currency]],Sheet3!$A$2:$B$31,2,FALSE),tblSalaries[[#This Row],[clean Salary (in local currency)]],(tblSalaries[[#This Row],[PPP Adjusted  USD]]/VLOOKUP(Dashboard!$J$5,Sheet3!$B$2:$C$31,2,FALSE)))","v":85249.840227657216},"AGM Finance","Manager","India","2 to 3 hours per day",10]
[null,"ID1612",1800000,"INR",32054.250037396621,{"$f":"(tblSalaries[[#This Row],[clean Salary (in local currency)]])*(VLOOKUP(tblSalaries[[#This Row],[Currency]],Sheet3!$A$2:$C$31,3,FALSE))*(VLOOKUP(tblSalaries[[#This Row],[Currency]],Sheet1!$N$4:$Q$186,4,FALSE))","v":85249.840227657216},{"$f":"IF(Dashboard!$J$5=VLOOKUP(tblSalaries[[#This Row],[Currency]],Sheet3!$A$2:$B$31,2,FALSE),tblSalaries[[#This Row],[clean Salary (in local currency)]],(tblSalaries[[#This Row],[PPP Adjusted  USD]]/VLOOKUP(Dashboard!$J$5,Sheet3!$B$2:$C$31,2,FALSE)))","v":85249.840227657216},"analyst","Analyst","India","All the 8 hours baby, all the 8!",1]
[null,"ID0068",85087,"USD",85087,{"$f":"(tblSalaries[[#This Row],[clean Salary (in local currency)]])*(VLOOKUP(tblSalaries[[#This Row],[Currency]],Sheet3!$A$2:$C$31,3,FALSE))*(VLOOKUP(tblSalaries[[#This Row],[Currency]],Sheet1!$N$4:$Q$186,4,FALSE))","v":85087},{"$f":"IF(Dashboard!$J$5=VLOOKUP(tblSalaries[[#This Row],[Currency]],Sheet3!$A$2:$B$31,2,FALSE),tblSalaries[[#This Row],[clean Salary (in local currency)]],(tblSalaries[[#This Row],[PPP Adjusted  USD]]/VLOOKUP(Dashboard!$J$5,Sheet3!$B$2:$C$31,2,FALSE)))","v":85087},"Business Systems Analyst","Analyst","USA","2 to 3 hours per day","Data Not Avaliable"]
[null,"ID0015",85000,"USD",85000,{"$f":"(tblSalaries[[#This Row],[clean Salary (in local currency)]])*(VLOOKUP(tblSalaries[[#This Row],[Currency]],Sheet3!$A$2:$C$31,3,FALSE))*(VLOOKUP(tblSalaries[[#This Row],[Currency]],Sheet1!$N$4:$Q$186,4,FALSE))","v":85000},{"$f":"IF(Dashboard!$J$5=VLOOKUP(tblSalaries[[#This Row],[Currency]],Sheet3!$A$2:$B$31,2,FALSE),tblSalaries[[#This Row],[clean Salary (in local currency)]],(tblSalaries[[#This Row],[PPP Adjusted  USD]]/VLOOKUP(Dashboard!$J$5,Sheet3!$B$2:$C$31,2,FALSE)))","v":85000},"Project Engineer","Engineer","USA","1 or 2 hours a day","Data Not Avaliable"]
[null,"ID0065",85000,"USD",85000,{"$f":"(tblSalaries[[#This Row],[clean Salary (in local currency)]])*(VLOOKUP(tblSalaries[[#This Row],[Currency]],Sheet3!$A$2:$C$31,3,FALSE))*(VLOOKUP(tblSalaries[[#This Row],[Currency]],Sheet1!$N$4:$Q$186,4,FALSE))","v":85000},{"$f":"IF(Dashboard!$J$5=VLOOKUP(tblSalaries[[#This Row],[Currency]],Sheet3!$A$2:$B$31,2,FALSE),tblSalaries[[#This Row],[clean Salary (in local currency)]],(tblSalaries[[#This Row],[PPP Adjusted  USD]]/VLOOKUP(Dashboard!$J$5,Sheet3!$B$2:$C$31,2,FALSE)))","v":85000},"Manager","Manager","USA","4 to 6 hours a day","Data Not Avaliable"]
[null,"ID0111",85000,"USD",85000,{"$f":"(tblSalaries[[#This Row],[clean Salary (in local currency)]])*(VLOOKUP(tblSalaries[[#This Row],[Currency]],Sheet3!$A$2:$C$31,3,FALSE))*(VLOOKUP(tblSalaries[[#This Row],[Currency]],Sheet1!$N$4:$Q$186,4,FALSE))","v":85000},{"$f":"IF(Dashboard!$J$5=VLOOKUP(tblSalaries[[#This Row],[Currency]],Sheet3!$A$2:$B$31,2,FALSE),tblSalaries[[#This Row],[clean Salary (in local currency)]],(tblSalaries[[#This Row],[PPP Adjusted  USD]]/VLOOKUP(Dashboard!$J$5,Sheet3!$B$2:$C$31,2,FALSE)))","v":85000},"Strategic Analyst","Analyst","USA","4 to 6 hours a day","Data Not Avaliable"]
[null,"ID0117",85000,"USD",85000,{"$f":"(tblSalaries[[#This Row],[clean Salary (in local currency)]])*(VLOOKUP(tblSalaries[[#This Row],[Currency]],Sheet3!$A$2:$C$31,3,FALSE))*(VLOOKUP(tblSalaries[[#This Row],[Currency]],Sheet1!$N$4:$Q$186,4,FALSE))","v":85000},{"$f":"IF(Dashboard!$J$5=VLOOKUP(tblSalaries[[#This Row],[Currency]],Sheet3!$A$2:$B$31,2,FALSE),tblSalaries[[#This Row],[clean Salary (in local currency)]],(tblSalaries[[#This Row],[PPP Adjusted  USD]]/VLOOKUP(Dashboard!$J$5,Sheet3!$B$2:$C$31,2,FALSE)))","v":85000},"Financial Controller","Controller","UAE","4 to 6 hours a day","Data Not Avaliable"]
[null,"ID0308",85000,"USD",85000,{"$f":"(tblSalaries[[#This Row],[clean Salary (in local currency)]])*(VLOOKUP(tblSalaries[[#This Row],[Currency]],Sheet3!$A$2:$C$31,3,FALSE))*(VLOOKUP(tblSalaries[[#This Row],[Currency]],Sheet1!$N$4:$Q$186,4,FALSE))","v":85000},{"$f":"IF(Dashboard!$J$5=VLOOKUP(tblSalaries[[#This Row],[Currency]],Sheet3!$A$2:$B$31,2,FALSE),tblSalaries[[#This Row],[clean Salary (in local currency)]],(tblSalaries[[#This Row],[PPP Adjusted  USD]]/VLOOKUP(Dashboard!$J$5,Sheet3!$B$2:$C$31,2,FALSE)))","v":85000},"Plant Controller","Controller","USA","All the 8 hours baby, all the 8!","Data Not Avaliable"]
[null,"ID0365",85000,"USD",85000,{"$f":"(tblSalaries[[#This Row],[clean Salary (in local currency)]])*(VLOOKUP(tblSalaries[[#This Row],[Currency]],Sheet3!$A$2:$C$31,3,FALSE))*(VLOOKUP(tblSalaries[[#This Row],[Currency]],Sheet1!$N$4:$Q$186,4,FALSE))","v":85000},{"$f":"IF(Dashboard!$J$5=VLOOKUP(tblSalaries[[#This Row],[Currency]],Sheet3!$A$2:$B$31,2,FALSE),tblSalaries[[#This Row],[clean Salary (in local currency)]],(tblSalaries[[#This Row],[PPP Adjusted  USD]]/VLOOKUP(Dashboard!$J$5,Sheet3!$B$2:$C$31,2,FALSE)))","v":85000},"Sr. Financial Analyst","Analyst","USA","4 to 6 hours a day","Data Not Avaliable"]
[null,"ID0399",85000,"USD",85000,{"$f":"(tblSalaries[[#This Row],[clean Salary (in local currency)]])*(VLOOKUP(tblSalaries[[#This Row],[Currency]],Sheet3!$A$2:$C$31,3,FALSE))*(VLOOKUP(tblSalaries[[#This Row],[Currency]],Sheet1!$N$4:$Q$186,4,FALSE))","v":85000},{"$f":"IF(Dashboard!$J$5=VLOOKUP(tblSalaries[[#This Row],[Currency]],Sheet3!$A$2:$B$31,2,FALSE),tblSalaries[[#This Row],[clean Salary (in local currency)]],(tblSalaries[[#This Row],[PPP Adjusted  USD]]/VLOOKUP(Dashboard!$J$5,Sheet3!$B$2:$C$31,2,FALSE)))","v":85000},"ENGINEER","Engineer","USA","2 to 3 hours per day","Data Not Avaliable"]
[null,"ID0806",85000,"USD",85000,{"$f":"(tblSalaries[[#This Row],[clean Salary (in local currency)]])*(VLOOKUP(tblSalaries[[#This Row],[Currency]],Sheet3!$A$2:$C$31,3,FALSE))*(VLOOKUP(tblSalaries[[#This Row],[Currency]],Sheet1!$N$4:$Q$186,4,FALSE))","v":85000},{"$f":"IF(Dashboard!$J$5=VLOOKUP(tblSalaries[[#This Row],[Currency]],Sheet3!$A$2:$B$31,2,FALSE),tblSalaries[[#This Row],[clean Salary (in local currency)]],(tblSalaries[[#This Row],[PPP Adjusted  USD]]/VLOOKUP(Dashboard!$J$5,Sheet3!$B$2:$C$31,2,FALSE)))","v":85000},"Director, IT/Operations","CXO or Top Mgmt.","USA","4 to 6 hours a day",15]
[null,"ID0840",85000,"USD",85000,{"$f":"(tblSalaries[[#This Row],[clean Salary (in local currency)]])*(VLOOKUP(tblSalaries[[#This Row],[Currency]],Sheet3!$A$2:$C$31,3,FALSE))*(VLOOKUP(tblSalaries[[#This Row],[Currency]],Sheet1!$N$4:$Q$186,4,FALSE))","v":85000},{"$f":"IF(Dashboard!$J$5=VLOOKUP(tblSalaries[[#This Row],[Currency]],Sheet3!$A$2:$B$31,2,FALSE),tblSalaries[[#This Row],[clean Salary (in local currency)]],(tblSalaries[[#This Row],[PPP Adjusted  USD]]/VLOOKUP(Dashboard!$J$5,Sheet3!$B$2:$C$31,2,FALSE)))","v":85000},"actuary","Accountant","USA","All the 8 hours baby, all the 8!",1]
[null,"ID0985",85000,"USD",85000,{"$f":"(tblSalaries[[#This Row],[clean Salary (in local currency)]])*(VLOOKUP(tblSalaries[[#This Row],[Currency]],Sheet3!$A$2:$C$31,3,FALSE))*(VLOOKUP(tblSalaries[[#This Row],[Currency]],Sheet1!$N$4:$Q$186,4,FALSE))","v":85000},{"$f":"IF(Dashboard!$J$5=VLOOKUP(tblSalaries[[#This Row],[Currency]],Sheet3!$A$2:$B$31,2,FALSE),tblSalaries[[#This Row],[clean Salary (in local currency)]],(tblSalaries[[#This Row],[PPP Adjusted  USD]]/VLOOKUP(Dashboard!$J$5,Sheet3!$B$2:$C$31,2,FALSE)))","v":85000},"Reporting and DB Analyist","Reporting","Australia","4 to 6 hours a day",8]
[null,"ID1248",85000,"USD",85000,{"$f":"(tblSalaries[[#This Row],[clean Salary (in local currency)]])*(VLOOKUP(tblSalaries[[#This Row],[Currency]],Sheet3!$A$2:$C$31,3,FALSE))*(VLOOKUP(tblSalaries[[#This Row],[Currency]],Sheet1!$N$4:$Q$186,4,FALSE))","v":85000},{"$f":"IF(Dashboard!$J$5=VLOOKUP(tblSalaries[[#This Row],[Currency]],Sheet3!$A$2:$B$31,2,FALSE),tblSalaries[[#This Row],[clean Salary (in local currency)]],(tblSalaries[[#This Row],[PPP Adjusted  USD]]/VLOOKUP(Dashboard!$J$5,Sheet3!$B$2:$C$31,2,FALSE)))","v":85000},"Senior Executive Compensation Analyst ","Analyst","USA","4 to 6 hours a day",5]
[null,"ID1283",85000,"USD",85000,{"$f":"(tblSalaries[[#This Row],[clean Salary (in local currency)]])*(VLOOKUP(tblSalaries[[#This Row],[Currency]],Sheet3!$A$2:$C$31,3,FALSE))*(VLOOKUP(tblSalaries[[#This Row],[Currency]],Sheet1!$N$4:$Q$186,4,FALSE))","v":85000},{"$f":"IF(Dashboard!$J$5=VLOOKUP(tblSalaries[[#This Row],[Currency]],Sheet3!$A$2:$B$31,2,FALSE),tblSalaries[[#This Row],[clean Salary (in local currency)]],(tblSalaries[[#This Row],[PPP Adjusted  USD]]/VLOOKUP(Dashboard!$J$5,Sheet3!$B$2:$C$31,2,FALSE)))","v":85000},"manager operation","Manager","Sri Lanka","All the 8 hours baby, all the 8!",10]
[null,"ID1381",85000,"USD",85000,{"$f":"(tblSalaries[[#This Row],[clean Salary (in local currency)]])*(VLOOKUP(tblSalaries[[#This Row],[Currency]],Sheet3!$A$2:$C$31,3,FALSE))*(VLOOKUP(tblSalaries[[#This Row],[Currency]],Sheet1!$N$4:$Q$186,4,FALSE))","v":85000},{"$f":"IF(Dashboard!$J$5=VLOOKUP(tblSalaries[[#This Row],[Currency]],Sheet3!$A$2:$B$31,2,FALSE),tblSalaries[[#This Row],[clean Salary (in local currency)]],(tblSalaries[[#This Row],[PPP Adjusted  USD]]/VLOOKUP(Dashboard!$J$5,Sheet3!$B$2:$C$31,2,FALSE)))","v":85000},"Senior Analyst","Analyst","USA","4 to 6 hours a day",17]
[null,"ID1384",85000,"USD",85000,{"$f":"(tblSalaries[[#This Row],[clean Salary (in local currency)]])*(VLOOKUP(tblSalaries[[#This Row],[Currency]],Sheet3!$A$2:$C$31,3,FALSE))*(VLOOKUP(tblSalaries[[#This Row],[Currency]],Sheet1!$N$4:$Q$186,4,FALSE))","v":85000},{"$f":"IF(Dashboard!$J$5=VLOOKUP(tblSalaries[[#This Row],[Currency]],Sheet3!$A$2:$B$31,2,FALSE),tblSalaries[[#This Row],[clean Salary (in local currency)]],(tblSalaries[[#This Row],[PPP Adjusted  USD]]/VLOOKUP(Dashboard!$J$5,Sheet3!$B$2:$C$31,2,FALSE)))","v":85000},"energy engineer","Engineer","USA","2 to 3 hours per day",25]
[null,"ID1483",85000,"USD",85000,{"$f":"(tblSalaries[[#This Row],[clean Salary (in local currency)]])*(VLOOKUP(tblSalaries[[#This Row],[Currency]],Sheet3!$A$2:$C$31,3,FALSE))*(VLOOKUP(tblSalaries[[#This Row],[Currency]],Sheet1!$N$4:$Q$186,4,FALSE))","v":85000},{"$f":"IF(Dashboard!$J$5=VLOOKUP(tblSalaries[[#This Row],[Currency]],Sheet3!$A$2:$B$31,2,FALSE),tblSalaries[[#This Row],[clean Salary (in local currency)]],(tblSalaries[[#This Row],[PPP Adjusted  USD]]/VLOOKUP(Dashboard!$J$5,Sheet3!$B$2:$C$31,2,FALSE)))","v":85000},"sr analyst","Analyst","USA","4 to 6 hours a day",9]
[null,"ID1583",85000,"USD",85000,{"$f":"(tblSalaries[[#This Row],[clean Salary (in local currency)]])*(VLOOKUP(tblSalaries[[#This Row],[Currency]],Sheet3!$A$2:$C$31,3,FALSE))*(VLOOKUP(tblSalaries[[#This Row],[Currency]],Sheet1!$N$4:$Q$186,4,FALSE))","v":85000},{"$f":"IF(Dashboard!$J$5=VLOOKUP(tblSalaries[[#This Row],[Currency]],Sheet3!$A$2:$B$31,2,FALSE),tblSalaries[[#This Row],[clean Salary (in local currency)]],(tblSalaries[[#This Row],[PPP Adjusted  USD]]/VLOOKUP(Dashboard!$J$5,Sheet3!$B$2:$C$31,2,FALSE)))","v":85000},"Sr Report Developer","Reporting","USA","4 to 6 hours a day",10]
[null,"ID1620",85000,"USD",85000,{"$f":"(tblSalaries[[#This Row],[clean Salary (in local currency)]])*(VLOOKUP(tblSalaries[[#This Row],[Currency]],Sheet3!$A$2:$C$31,3,FALSE))*(VLOOKUP(tblSalaries[[#This Row],[Currency]],Sheet1!$N$4:$Q$186,4,FALSE))","v":85000},{"$f":"IF(Dashboard!$J$5=VLOOKUP(tblSalaries[[#This Row],[Currency]],Sheet3!$A$2:$B$31,2,FALSE),tblSalaries[[#This Row],[clean Salary (in local currency)]],(tblSalaries[[#This Row],[PPP Adjusted  USD]]/VLOOKUP(Dashboard!$J$5,Sheet3!$B$2:$C$31,2,FALSE)))","v":85000},"Senior Accountant","Accountant","USA","2 to 3 hours per day",8]
[null,"ID1669",85000,"USD",85000,{"$f":"(tblSalaries[[#This Row],[clean Salary (in local currency)]])*(VLOOKUP(tblSalaries[[#This Row],[Currency]],Sheet3!$A$2:$C$31,3,FALSE))*(VLOOKUP(tblSalaries[[#This Row],[Currency]],Sheet1!$N$4:$Q$186,4,FALSE))","v":85000},{"$f":"IF(Dashboard!$J$5=VLOOKUP(tblSalaries[[#This Row],[Currency]],Sheet3!$A$2:$B$31,2,FALSE),tblSalaries[[#This Row],[clean Salary (in local currency)]],(tblSalaries[[#This Row],[PPP Adjusted  USD]]/VLOOKUP(Dashboard!$J$5,Sheet3!$B$2:$C$31,2,FALSE)))","v":85000},"Sr Manager","Manager","USA","All the 8 hours baby, all the 8!",10]
[null,"ID1694",85000,"USD",85000,{"$f":"(tblSalaries[[#This Row],[clean Salary (in local currency)]])*(VLOOKUP(tblSalaries[[#This Row],[Currency]],Sheet3!$A$2:$C$31,3,FALSE))*(VLOOKUP(tblSalaries[[#This Row],[Currency]],Sheet1!$N$4:$Q$186,4,FALSE))","v":85000},{"$f":"IF(Dashboard!$J$5=VLOOKUP(tblSalaries[[#This Row],[Currency]],Sheet3!$A$2:$B$31,2,FALSE),tblSalaries[[#This Row],[clean Salary (in local currency)]],(tblSalaries[[#This Row],[PPP Adjusted  USD]]/VLOOKUP(Dashboard!$J$5,Sheet3!$B$2:$C$31,2,FALSE)))","v":85000},"Financial Analyst","Analyst","USA","4 to 6 hours a day",12]
[null,"ID1751",85000,"USD",85000,{"$f":"(tblSalaries[[#This Row],[clean Salary (in local currency)]])*(VLOOKUP(tblSalaries[[#This Row],[Currency]],Sheet3!$A$2:$C$31,3,FALSE))*(VLOOKUP(tblSalaries[[#This Row],[Currency]],Sheet1!$N$4:$Q$186,4,FALSE))","v":85000},{"$f":"IF(Dashboard!$J$5=VLOOKUP(tblSalaries[[#This Row],[Currency]],Sheet3!$A$2:$B$31,2,FALSE),tblSalaries[[#This Row],[clean Salary (in local currency)]],(tblSalaries[[#This Row],[PPP Adjusted  USD]]/VLOOKUP(Dashboard!$J$5,Sheet3!$B$2:$C$31,2,FALSE)))","v":85000},"Actuary","Accountant","USA","4 to 6 hours a day",20]
[null,"ID1775",85000,"USD",85000,{"$f":"(tblSalaries[[#This Row],[clean Salary (in local currency)]])*(VLOOKUP(tblSalaries[[#This Row],[Currency]],Sheet3!$A$2:$C$31,3,FALSE))*(VLOOKUP(tblSalaries[[#This Row],[Currency]],Sheet1!$N$4:$Q$186,4,FALSE))","v":85000},{"$f":"IF(Dashboard!$J$5=VLOOKUP(tblSalaries[[#This Row],[Currency]],Sheet3!$A$2:$B$31,2,FALSE),tblSalaries[[#This Row],[clean Salary (in local currency)]],(tblSalaries[[#This Row],[PPP Adjusted  USD]]/VLOOKUP(Dashboard!$J$5,Sheet3!$B$2:$C$31,2,FALSE)))","v":85000},"purchasing manager","Manager","USA","2 to 3 hours per day",15]
[null,"ID1809",85000,"USD",85000,{"$f":"(tblSalaries[[#This Row],[clean Salary (in local currency)]])*(VLOOKUP(tblSalaries[[#This Row],[Currency]],Sheet3!$A$2:$C$31,3,FALSE))*(VLOOKUP(tblSalaries[[#This Row],[Currency]],Sheet1!$N$4:$Q$186,4,FALSE))","v":85000},{"$f":"IF(Dashboard!$J$5=VLOOKUP(tblSalaries[[#This Row],[Currency]],Sheet3!$A$2:$B$31,2,FALSE),tblSalaries[[#This Row],[clean Salary (in local currency)]],(tblSalaries[[#This Row],[PPP Adjusted  USD]]/VLOOKUP(Dashboard!$J$5,Sheet3!$B$2:$C$31,2,FALSE)))","v":85000},"Lead Financial Analyst","Analyst","USA","All the 8 hours baby, all the 8!",3]
[null,"ID1852",85000,"USD",85000,{"$f":"(tblSalaries[[#This Row],[clean Salary (in local currency)]])*(VLOOKUP(tblSalaries[[#This Row],[Currency]],Sheet3!$A$2:$C$31,3,FALSE))*(VLOOKUP(tblSalaries[[#This Row],[Currency]],Sheet1!$N$4:$Q$186,4,FALSE))","v":85000},{"$f":"IF(Dashboard!$J$5=VLOOKUP(tblSalaries[[#This Row],[Currency]],Sheet3!$A$2:$B$31,2,FALSE),tblSalaries[[#This Row],[clean Salary (in local currency)]],(tblSalaries[[#This Row],[PPP Adjusted  USD]]/VLOOKUP(Dashboard!$J$5,Sheet3!$B$2:$C$31,2,FALSE)))","v":85000},"Chief Financial Officer","CXO or Top Mgmt.","USA","2 to 3 hours per day",15]
[null,"ID0166",107000,"CAD",105219.68296424497,{"$f":"(tblSalaries[[#This Row],[clean Salary (in local currency)]])*(VLOOKUP(tblSalaries[[#This Row],[Currency]],Sheet3!$A$2:$C$31,3,FALSE))*(VLOOKUP(tblSalaries[[#This Row],[Currency]],Sheet1!$N$4:$Q$186,4,FALSE))","v":84577.743742650884},{"$f":"IF(Dashboard!$J$5=VLOOKUP(tblSalaries[[#This Row],[Currency]],Sheet3!$A$2:$B$31,2,FALSE),tblSalaries[[#This Row],[clean Salary (in local currency)]],(tblSalaries[[#This Row],[PPP Adjusted  USD]]/VLOOKUP(Dashboard!$J$5,Sheet3!$B$2:$C$31,2,FALSE)))","v":84577.743742650884},"Manager, Asset Optimization","Manager","Canada","2 to 3 hours per day","Data Not Avaliable"]
[null,"ID0498",84000,"USD",84000,{"$f":"(tblSalaries[[#This Row],[clean Salary (in local currency)]])*(VLOOKUP(tblSalaries[[#This Row],[Currency]],Sheet3!$A$2:$C$31,3,FALSE))*(VLOOKUP(tblSalaries[[#This Row],[Currency]],Sheet1!$N$4:$Q$186,4,FALSE))","v":84000},{"$f":"IF(Dashboard!$J$5=VLOOKUP(tblSalaries[[#This Row],[Currency]],Sheet3!$A$2:$B$31,2,FALSE),tblSalaries[[#This Row],[clean Salary (in local currency)]],(tblSalaries[[#This Row],[PPP Adjusted  USD]]/VLOOKUP(Dashboard!$J$5,Sheet3!$B$2:$C$31,2,FALSE)))","v":84000},"Senior Analyst","Analyst","USA","All the 8 hours baby, all the 8!","Data Not Avaliable"]
[null,"ID1383",83000,"USD",83000,{"$f":"(tblSalaries[[#This Row],[clean Salary (in local currency)]])*(VLOOKUP(tblSalaries[[#This Row],[Currency]],Sheet3!$A$2:$C$31,3,FALSE))*(VLOOKUP(tblSalaries[[#This Row],[Currency]],Sheet1!$N$4:$Q$186,4,FALSE))","v":83000},{"$f":"IF(Dashboard!$J$5=VLOOKUP(tblSalaries[[#This Row],[Currency]],Sheet3!$A$2:$B$31,2,FALSE),tblSalaries[[#This Row],[clean Salary (in local currency)]],(tblSalaries[[#This Row],[PPP Adjusted  USD]]/VLOOKUP(Dashboard!$J$5,Sheet3!$B$2:$C$31,2,FALSE)))","v":83000},"Senior Planning Analyst","Analyst","Canada","4 to 6 hours a day",12]
[null,"ID0955",75000,"EUR",95279.957924370581,{"$f":"(tblSalaries[[#This Row],[clean Salary (in local currency)]])*(VLOOKUP(tblSalaries[[#This Row],[Currency]],Sheet3!$A$2:$C$31,3,FALSE))*(VLOOKUP(tblSalaries[[#This Row],[Currency]],Sheet1!$N$4:$Q$186,4,FALSE))","v":82548.96644850391},{"$f":"IF(Dashboard!$J$5=VLOOKUP(tblSalaries[[#This Row],[Currency]],Sheet3!$A$2:$B$31,2,FALSE),tblSalaries[[#This Row],[clean Salary (in local currency)]],(tblSalaries[[#This Row],[PPP Adjusted  USD]]/VLOOKUP(Dashboard!$J$5,Sheet3!$B$2:$C$31,2,FALSE)))","v":82548.96644850391},"Risk analyst","Analyst","Netherlands","4 to 6 hours a day",4]
[null,"ID1331",75000,"EUR",95279.957924370581,{"$f":"(tblSalaries[[#This Row],[clean Salary (in local currency)]])*(VLOOKUP(tblSalaries[[#This Row],[Currency]],Sheet3!$A$2:$C$31,3,FALSE))*(VLOOKUP(tblSalaries[[#This Row],[Currency]],Sheet1!$N$4:$Q$186,4,FALSE))","v":82548.96644850391},{"$f":"IF(Dashboard!$J$5=VLOOKUP(tblSalaries[[#This Row],[Currency]],Sheet3!$A$2:$B$31,2,FALSE),tblSalaries[[#This Row],[clean Salary (in local currency)]],(tblSalaries[[#This Row],[PPP Adjusted  USD]]/VLOOKUP(Dashboard!$J$5,Sheet3!$B$2:$C$31,2,FALSE)))","v":82548.96644850391},"Financial Analyst","Analyst","Netherlands","All the 8 hours baby, all the 8!",16]
[null,"ID0530",82300,"USD",82300,{"$f":"(tblSalaries[[#This Row],[clean Salary (in local currency)]])*(VLOOKUP(tblSalaries[[#This Row],[Currency]],Sheet3!$A$2:$C$31,3,FALSE))*(VLOOKUP(tblSalaries[[#This Row],[Currency]],Sheet1!$N$4:$Q$186,4,FALSE))","v":82300},{"$f":"IF(Dashboard!$J$5=VLOOKUP(tblSalaries[[#This Row],[Currency]],Sheet3!$A$2:$B$31,2,FALSE),tblSalaries[[#This Row],[clean Salary (in local currency)]],(tblSalaries[[#This Row],[PPP Adjusted  USD]]/VLOOKUP(Dashboard!$J$5,Sheet3!$B$2:$C$31,2,FALSE)))","v":82300},"Manager - Finance","Manager","USA","2 to 3 hours per day","Data Not Avaliable"]
[null,"ID1267",82000,"USD",82000,{"$f":"(tblSalaries[[#This Row],[clean Salary (in local currency)]])*(VLOOKUP(tblSalaries[[#This Row],[Currency]],Sheet3!$A$2:$C$31,3,FALSE))*(VLOOKUP(tblSalaries[[#This Row],[Currency]],Sheet1!$N$4:$Q$186,4,FALSE))","v":82000},{"$f":"IF(Dashboard!$J$5=VLOOKUP(tblSalaries[[#This Row],[Currency]],Sheet3!$A$2:$B$31,2,FALSE),tblSalaries[[#This Row],[clean Salary (in local currency)]],(tblSalaries[[#This Row],[PPP Adjusted  USD]]/VLOOKUP(Dashboard!$J$5,Sheet3!$B$2:$C$31,2,FALSE)))","v":82000},"Manager - Marketing Analytics","Manager","USA","4 to 6 hours a day",10]
[null,"ID1325",82000,"USD",82000,{"$f":"(tblSalaries[[#This Row],[clean Salary (in local currency)]])*(VLOOKUP(tblSalaries[[#This Row],[Currency]],Sheet3!$A$2:$C$31,3,FALSE))*(VLOOKUP(tblSalaries[[#This Row],[Currency]],Sheet1!$N$4:$Q$186,4,FALSE))","v":82000},{"$f":"IF(Dashboard!$J$5=VLOOKUP(tblSalaries[[#This Row],[Currency]],Sheet3!$A$2:$B$31,2,FALSE),tblSalaries[[#This Row],[clean Salary (in local currency)]],(tblSalaries[[#This Row],[PPP Adjusted  USD]]/VLOOKUP(Dashboard!$J$5,Sheet3!$B$2:$C$31,2,FALSE)))","v":82000},"Consultant","Consultant","South Africa","4 to 6 hours a day",10]
[null,"ID1164",81600,"USD",81600,{"$f":"(tblSalaries[[#This Row],[clean Salary (in local currency)]])*(VLOOKUP(tblSalaries[[#This Row],[Currency]],Sheet3!$A$2:$C$31,3,FALSE))*(VLOOKUP(tblSalaries[[#This Row],[Currency]],Sheet1!$N$4:$Q$186,4,FALSE))","v":81600},{"$f":"IF(Dashboard!$J$5=VLOOKUP(tblSalaries[[#This Row],[Currency]],Sheet3!$A$2:$B$31,2,FALSE),tblSalaries[[#This Row],[clean Salary (in local currency)]],(tblSalaries[[#This Row],[PPP Adjusted  USD]]/VLOOKUP(Dashboard!$J$5,Sheet3!$B$2:$C$31,2,FALSE)))","v":81600},"Business Analyst - Central Finance","Analyst","UK","4 to 6 hours a day",4]
[null,"ID0581",130000,"AUD",132588.25533234264,{"$f":"(tblSalaries[[#This Row],[clean Salary (in local currency)]])*(VLOOKUP(tblSalaries[[#This Row],[Currency]],Sheet3!$A$2:$C$31,3,FALSE))*(VLOOKUP(tblSalaries[[#This Row],[Currency]],Sheet1!$N$4:$Q$186,4,FALSE))","v":81472.827565819432},{"$f":"IF(Dashboard!$J$5=VLOOKUP(tblSalaries[[#This Row],[Currency]],Sheet3!$A$2:$B$31,2,FALSE),tblSalaries[[#This Row],[clean Salary (in local currency)]],(tblSalaries[[#This Row],[PPP Adjusted  USD]]/VLOOKUP(Dashboard!$J$5,Sheet3!$B$2:$C$31,2,FALSE)))","v":81472.827565819432},"Accountant","Accountant","Australia","2 to 3 hours per day",27]
[null,"ID0820",55000,"GBP",86689.804963700633,{"$f":"(tblSalaries[[#This Row],[clean Salary (in local currency)]])*(VLOOKUP(tblSalaries[[#This Row],[Currency]],Sheet3!$A$2:$C$31,3,FALSE))*(VLOOKUP(tblSalaries[[#This Row],[Currency]],Sheet1!$N$4:$Q$186,4,FALSE))","v":81068.416273923518},{"$f":"IF(Dashboard!$J$5=VLOOKUP(tblSalaries[[#This Row],[Currency]],Sheet3!$A$2:$B$31,2,FALSE),tblSalaries[[#This Row],[clean Salary (in local currency)]],(tblSalaries[[#This Row],[PPP Adjusted  USD]]/VLOOKUP(Dashboard!$J$5,Sheet3!$B$2:$C$31,2,FALSE)))","v":81068.416273923518},"Financial controller","Controller","UK","4 to 6 hours a day",12]
[null,"ID1087",55000,"GBP",86689.804963700633,{"$f":"(tblSalaries[[#This Row],[clean Salary (in local currency)]])*(VLOOKUP(tblSalaries[[#This Row],[Currency]],Sheet3!$A$2:$C$31,3,FALSE))*(VLOOKUP(tblSalaries[[#This Row],[Currency]],Sheet1!$N$4:$Q$186,4,FALSE))","v":81068.416273923518},{"$f":"IF(Dashboard!$J$5=VLOOKUP(tblSalaries[[#This Row],[Currency]],Sheet3!$A$2:$B$31,2,FALSE),tblSalaries[[#This Row],[clean Salary (in local currency)]],(tblSalaries[[#This Row],[PPP Adjusted  USD]]/VLOOKUP(Dashboard!$J$5,Sheet3!$B$2:$C$31,2,FALSE)))","v":81068.416273923518},"Finance Director","CXO or Top Mgmt.","UK","2 to 3 hours per day",22]
[null,"ID0088",81000,"USD",81000,{"$f":"(tblSalaries[[#This Row],[clean Salary (in local currency)]])*(VLOOKUP(tblSalaries[[#This Row],[Currency]],Sheet3!$A$2:$C$31,3,FALSE))*(VLOOKUP(tblSalaries[[#This Row],[Currency]],Sheet1!$N$4:$Q$186,4,FALSE))","v":81000},{"$f":"IF(Dashboard!$J$5=VLOOKUP(tblSalaries[[#This Row],[Currency]],Sheet3!$A$2:$B$31,2,FALSE),tblSalaries[[#This Row],[clean Salary (in local currency)]],(tblSalaries[[#This Row],[PPP Adjusted  USD]]/VLOOKUP(Dashboard!$J$5,Sheet3!$B$2:$C$31,2,FALSE)))","v":81000},"Strategy Consultant","Consultant","UK","4 to 6 hours a day","Data Not Avaliable"]
[null,"ID1420",81000,"USD",81000,{"$f":"(tblSalaries[[#This Row],[clean Salary (in local currency)]])*(VLOOKUP(tblSalaries[[#This Row],[Currency]],Sheet3!$A$2:$C$31,3,FALSE))*(VLOOKUP(tblSalaries[[#This Row],[Currency]],Sheet1!$N$4:$Q$186,4,FALSE))","v":81000},{"$f":"IF(Dashboard!$J$5=VLOOKUP(tblSalaries[[#This Row],[Currency]],Sheet3!$A$2:$B$31,2,FALSE),tblSalaries[[#This Row],[clean Salary (in local currency)]],(tblSalaries[[#This Row],[PPP Adjusted  USD]]/VLOOKUP(Dashboard!$J$5,Sheet3!$B$2:$C$31,2,FALSE)))","v":81000},"Finance & IT Manager","Manager","USA","1 or 2 hours a day",12]
[null,"ID1710",81000,"USD",81000,{"$f":"(tblSalaries[[#This Row],[clean Salary (in local currency)]])*(VLOOKUP(tblSalaries[[#This Row],[Currency]],Sheet3!$A$2:$C$31,3,FALSE))*(VLOOKUP(tblSalaries[[#This Row],[Currency]],Sheet1!$N$4:$Q$186,4,FALSE))","v":81000},{"$f":"IF(Dashboard!$J$5=VLOOKUP(tblSalaries[[#This Row],[Currency]],Sheet3!$A$2:$B$31,2,FALSE),tblSalaries[[#This Row],[clean Salary (in local currency)]],(tblSalaries[[#This Row],[PPP Adjusted  USD]]/VLOOKUP(Dashboard!$J$5,Sheet3!$B$2:$C$31,2,FALSE)))","v":81000},"Contact Operations Analyst","Analyst","USA","4 to 6 hours a day",6]
[null,"ID0826",1700000,"INR",30273.458368652366,{"$f":"(tblSalaries[[#This Row],[clean Salary (in local currency)]])*(VLOOKUP(tblSalaries[[#This Row],[Currency]],Sheet3!$A$2:$C$31,3,FALSE))*(VLOOKUP(tblSalaries[[#This Row],[Currency]],Sheet1!$N$4:$Q$186,4,FALSE))","v":80513.73799278737},{"$f":"IF(Dashboard!$J$5=VLOOKUP(tblSalaries[[#This Row],[Currency]],Sheet3!$A$2:$B$31,2,FALSE),tblSalaries[[#This Row],[clean Salary (in local currency)]],(tblSalaries[[#This Row],[PPP Adjusted  USD]]/VLOOKUP(Dashboard!$J$5,Sheet3!$B$2:$C$31,2,FALSE)))","v":80513.73799278737},"Operations Lead","Manager","India","All the 8 hours baby, all the 8!",1.1000000000000001]
[null,"ID1592",1700000,"INR",30273.458368652366,{"$f":"(tblSalaries[[#This Row],[clean Salary (in local currency)]])*(VLOOKUP(tblSalaries[[#This Row],[Currency]],Sheet3!$A$2:$C$31,3,FALSE))*(VLOOKUP(tblSalaries[[#This Row],[Currency]],Sheet1!$N$4:$Q$186,4,FALSE))","v":80513.73799278737},{"$f":"IF(Dashboard!$J$5=VLOOKUP(tblSalaries[[#This Row],[Currency]],Sheet3!$A$2:$B$31,2,FALSE),tblSalaries[[#This Row],[clean Salary (in local currency)]],(tblSalaries[[#This Row],[PPP Adjusted  USD]]/VLOOKUP(Dashboard!$J$5,Sheet3!$B$2:$C$31,2,FALSE)))","v":80513.73799278737},"AVP","CXO or Top Mgmt.","India","4 to 6 hours a day",6]
[null,"ID1427",80442,"USD",80442,{"$f":"(tblSalaries[[#This Row],[clean Salary (in local currency)]])*(VLOOKUP(tblSalaries[[#This Row],[Currency]],Sheet3!$A$2:$C$31,3,FALSE))*(VLOOKUP(tblSalaries[[#This Row],[Currency]],Sheet1!$N$4:$Q$186,4,FALSE))","v":80442},{"$f":"IF(Dashboard!$J$5=VLOOKUP(tblSalaries[[#This Row],[Currency]],Sheet3!$A$2:$B$31,2,FALSE),tblSalaries[[#This Row],[clean Salary (in local currency)]],(tblSalaries[[#This Row],[PPP Adjusted  USD]]/VLOOKUP(Dashboard!$J$5,Sheet3!$B$2:$C$31,2,FALSE)))","v":80442},"Senior Budget Analyst","Analyst","USA","4 to 6 hours a day",16]
[null,"ID0101",80000,"USD",80000,{"$f":"(tblSalaries[[#This Row],[clean Salary (in local currency)]])*(VLOOKUP(tblSalaries[[#This Row],[Currency]],Sheet3!$A$2:$C$31,3,FALSE))*(VLOOKUP(tblSalaries[[#This Row],[Currency]],Sheet1!$N$4:$Q$186,4,FALSE))","v":80000},{"$f":"IF(Dashboard!$J$5=VLOOKUP(tblSalaries[[#This Row],[Currency]],Sheet3!$A$2:$B$31,2,FALSE),tblSalaries[[#This Row],[clean Salary (in local currency)]],(tblSalaries[[#This Row],[PPP Adjusted  USD]]/VLOOKUP(Dashboard!$J$5,Sheet3!$B$2:$C$31,2,FALSE)))","v":80000},"financial analyst","Analyst","USA","4 to 6 hours a day","Data Not Avaliable"]
[null,"ID0125",80000,"USD",80000,{"$f":"(tblSalaries[[#This Row],[clean Salary (in local currency)]])*(VLOOKUP(tblSalaries[[#This Row],[Currency]],Sheet3!$A$2:$C$31,3,FALSE))*(VLOOKUP(tblSalaries[[#This Row],[Currency]],Sheet1!$N$4:$Q$186,4,FALSE))","v":80000},{"$f":"IF(Dashboard!$J$5=VLOOKUP(tblSalaries[[#This Row],[Currency]],Sheet3!$A$2:$B$31,2,FALSE),tblSalaries[[#This Row],[clean Salary (in local currency)]],(tblSalaries[[#This Row],[PPP Adjusted  USD]]/VLOOKUP(Dashboard!$J$5,Sheet3!$B$2:$C$31,2,FALSE)))","v":80000},"Financial Analyst","Analyst","USA","4 to 6 hours a day","Data Not Avaliable"]
[null,"ID0148",80000,"USD",80000,{"$f":"(tblSalaries[[#This Row],[clean Salary (in local currency)]])*(VLOOKUP(tblSalaries[[#This Row],[Currency]],Sheet3!$A$2:$C$31,3,FALSE))*(VLOOKUP(tblSalaries[[#This Row],[Currency]],Sheet1!$N$4:$Q$186,4,FALSE))","v":80000},{"$f":"IF(Dashboard!$J$5=VLOOKUP(tblSalaries[[#This Row],[Currency]],Sheet3!$A$2:$B$31,2,FALSE),tblSalaries[[#This Row],[clean Salary (in local currency)]],(tblSalaries[[#This Row],[PPP Adjusted  USD]]/VLOOKUP(Dashboard!$J$5,Sheet3!$B$2:$C$31,2,FALSE)))","v":80000},"Informatics Research Analyst","Analyst","USA","2 to 3 hours per day","Data Not Avaliable"]
[null,"ID0169",80000,"USD",80000,{"$f":"(tblSalaries[[#This Row],[clean Salary (in local currency)]])*(VLOOKUP(tblSalaries[[#This Row],[Currency]],Sheet3!$A$2:$C$31,3,FALSE))*(VLOOKUP(tblSalaries[[#This Row],[Currency]],Sheet1!$N$4:$Q$186,4,FALSE))","v":80000},{"$f":"IF(Dashboard!$J$5=VLOOKUP(tblSalaries[[#This Row],[Currency]],Sheet3!$A$2:$B$31,2,FALSE),tblSalaries[[#This Row],[clean Salary (in local currency)]],(tblSalaries[[#This Row],[PPP Adjusted  USD]]/VLOOKUP(Dashboard!$J$5,Sheet3!$B$2:$C$31,2,FALSE)))","v":80000},"Consultant, HR Services & Governance","Consultant","USA","4 to 6 hours a day","Data Not Avaliable"]
[null,"ID0189",80000,"USD",80000,{"$f":"(tblSalaries[[#This Row],[clean Salary (in local currency)]])*(VLOOKUP(tblSalaries[[#This Row],[Currency]],Sheet3!$A$2:$C$31,3,FALSE))*(VLOOKUP(tblSalaries[[#This Row],[Currency]],Sheet1!$N$4:$Q$186,4,FALSE))","v":80000},{"$f":"IF(Dashboard!$J$5=VLOOKUP(tblSalaries[[#This Row],[Currency]],Sheet3!$A$2:$B$31,2,FALSE),tblSalaries[[#This Row],[clean Salary (in local currency)]],(tblSalaries[[#This Row],[PPP Adjusted  USD]]/VLOOKUP(Dashboard!$J$5,Sheet3!$B$2:$C$31,2,FALSE)))","v":80000},"Project Manager (Process Owner)","Manager","USA","2 to 3 hours per day","Data Not Avaliable"]
[null,"ID0217",80000,"USD",80000,{"$f":"(tblSalaries[[#This Row],[clean Salary (in local currency)]])*(VLOOKUP(tblSalaries[[#This Row],[Currency]],Sheet3!$A$2:$C$31,3,FALSE))*(VLOOKUP(tblSalaries[[#This Row],[Currency]],Sheet1!$N$4:$Q$186,4,FALSE))","v":80000},{"$f":"IF(Dashboard!$J$5=VLOOKUP(tblSalaries[[#This Row],[Currency]],Sheet3!$A$2:$B$31,2,FALSE),tblSalaries[[#This Row],[clean Salary (in local currency)]],(tblSalaries[[#This Row],[PPP Adjusted  USD]]/VLOOKUP(Dashboard!$J$5,Sheet3!$B$2:$C$31,2,FALSE)))","v":80000},"Marketing Analyst","Analyst","USA","4 to 6 hours a day","Data Not Avaliable"]
[null,"ID0226",80000,"USD",80000,{"$f":"(tblSalaries[[#This Row],[clean Salary (in local currency)]])*(VLOOKUP(tblSalaries[[#This Row],[Currency]],Sheet3!$A$2:$C$31,3,FALSE))*(VLOOKUP(tblSalaries[[#This Row],[Currency]],Sheet1!$N$4:$Q$186,4,FALSE))","v":80000},{"$f":"IF(Dashboard!$J$5=VLOOKUP(tblSalaries[[#This Row],[Currency]],Sheet3!$A$2:$B$31,2,FALSE),tblSalaries[[#This Row],[clean Salary (in local currency)]],(tblSalaries[[#This Row],[PPP Adjusted  USD]]/VLOOKUP(Dashboard!$J$5,Sheet3!$B$2:$C$31,2,FALSE)))","v":80000},"Senior Analyst","Analyst","USA","4 to 6 hours a day","Data Not Avaliable"]
[null,"ID0247",80000,"USD",80000,{"$f":"(tblSalaries[[#This Row],[clean Salary (in local currency)]])*(VLOOKUP(tblSalaries[[#This Row],[Currency]],Sheet3!$A$2:$C$31,3,FALSE))*(VLOOKUP(tblSalaries[[#This Row],[Currency]],Sheet1!$N$4:$Q$186,4,FALSE))","v":80000},{"$f":"IF(Dashboard!$J$5=VLOOKUP(tblSalaries[[#This Row],[Currency]],Sheet3!$A$2:$B$31,2,FALSE),tblSalaries[[#This Row],[clean Salary (in local currency)]],(tblSalaries[[#This Row],[PPP Adjusted  USD]]/VLOOKUP(Dashboard!$J$5,Sheet3!$B$2:$C$31,2,FALSE)))","v":80000},"Analyst","Analyst","USA","4 to 6 hours a day","Data Not Avaliable"]
[null,"ID0273",80000,"USD",80000,{"$f":"(tblSalaries[[#This Row],[clean Salary (in local currency)]])*(VLOOKUP(tblSalaries[[#This Row],[Currency]],Sheet3!$A$2:$C$31,3,FALSE))*(VLOOKUP(tblSalaries[[#This Row],[Currency]],Sheet1!$N$4:$Q$186,4,FALSE))","v":80000},{"$f":"IF(Dashboard!$J$5=VLOOKUP(tblSalaries[[#This Row],[Currency]],Sheet3!$A$2:$B$31,2,FALSE),tblSalaries[[#This Row],[clean Salary (in local currency)]],(tblSalaries[[#This Row],[PPP Adjusted  USD]]/VLOOKUP(Dashboard!$J$5,Sheet3!$B$2:$C$31,2,FALSE)))","v":80000},"VP","CXO or Top Mgmt.","USA","2 to 3 hours per day","Data Not Avaliable"]
[null,"ID0278",80000,"USD",80000,{"$f":"(tblSalaries[[#This Row],[clean Salary (in local currency)]])*(VLOOKUP(tblSalaries[[#This Row],[Currency]],Sheet3!$A$2:$C$31,3,FALSE))*(VLOOKUP(tblSalaries[[#This Row],[Currency]],Sheet1!$N$4:$Q$186,4,FALSE))","v":80000},{"$f":"IF(Dashboard!$J$5=VLOOKUP(tblSalaries[[#This Row],[Currency]],Sheet3!$A$2:$B$31,2,FALSE),tblSalaries[[#This Row],[clean Salary (in local currency)]],(tblSalaries[[#This Row],[PPP Adjusted  USD]]/VLOOKUP(Dashboard!$J$5,Sheet3!$B$2:$C$31,2,FALSE)))","v":80000},"Enterprise Performance Metrics Manager","Manager","USA","2 to 3 hours per day","Data Not Avaliable"]
[null,"ID0444",80000,"USD",80000,{"$f":"(tblSalaries[[#This Row],[clean Salary (in local currency)]])*(VLOOKUP(tblSalaries[[#This Row],[Currency]],Sheet3!$A$2:$C$31,3,FALSE))*(VLOOKUP(tblSalaries[[#This Row],[Currency]],Sheet1!$N$4:$Q$186,4,FALSE))","v":80000},{"$f":"IF(Dashboard!$J$5=VLOOKUP(tblSalaries[[#This Row],[Currency]],Sheet3!$A$2:$B$31,2,FALSE),tblSalaries[[#This Row],[clean Salary (in local currency)]],(tblSalaries[[#This Row],[PPP Adjusted  USD]]/VLOOKUP(Dashboard!$J$5,Sheet3!$B$2:$C$31,2,FALSE)))","v":80000},"web analyst","Analyst","USA","4 to 6 hours a day","Data Not Avaliable"]
[null,"ID0458",80000,"USD",80000,{"$f":"(tblSalaries[[#This Row],[clean Salary (in local currency)]])*(VLOOKUP(tblSalaries[[#This Row],[Currency]],Sheet3!$A$2:$C$31,3,FALSE))*(VLOOKUP(tblSalaries[[#This Row],[Currency]],Sheet1!$N$4:$Q$186,4,FALSE))","v":80000},{"$f":"IF(Dashboard!$J$5=VLOOKUP(tblSalaries[[#This Row],[Currency]],Sheet3!$A$2:$B$31,2,FALSE),tblSalaries[[#This Row],[clean Salary (in local currency)]],(tblSalaries[[#This Row],[PPP Adjusted  USD]]/VLOOKUP(Dashboard!$J$5,Sheet3!$B$2:$C$31,2,FALSE)))","v":80000},"operations tech","Manager","USA","1 or 2 hours a day","Data Not Avaliable"]
[null,"ID0551",80000,"USD",80000,{"$f":"(tblSalaries[[#This Row],[clean Salary (in local currency)]])*(VLOOKUP(tblSalaries[[#This Row],[Currency]],Sheet3!$A$2:$C$31,3,FALSE))*(VLOOKUP(tblSalaries[[#This Row],[Currency]],Sheet1!$N$4:$Q$186,4,FALSE))","v":80000},{"$f":"IF(Dashboard!$J$5=VLOOKUP(tblSalaries[[#This Row],[Currency]],Sheet3!$A$2:$B$31,2,FALSE),tblSalaries[[#This Row],[clean Salary (in local currency)]],(tblSalaries[[#This Row],[PPP Adjusted  USD]]/VLOOKUP(Dashboard!$J$5,Sheet3!$B$2:$C$31,2,FALSE)))","v":80000},"Cost Analyst","Analyst","USA","All the 8 hours baby, all the 8!","Data Not Avaliable"]
[null,"ID0618",80000,"USD",80000,{"$f":"(tblSalaries[[#This Row],[clean Salary (in local currency)]])*(VLOOKUP(tblSalaries[[#This Row],[Currency]],Sheet3!$A$2:$C$31,3,FALSE))*(VLOOKUP(tblSalaries[[#This Row],[Currency]],Sheet1!$N$4:$Q$186,4,FALSE))","v":80000},{"$f":"IF(Dashboard!$J$5=VLOOKUP(tblSalaries[[#This Row],[Currency]],Sheet3!$A$2:$B$31,2,FALSE),tblSalaries[[#This Row],[clean Salary (in local currency)]],(tblSalaries[[#This Row],[PPP Adjusted  USD]]/VLOOKUP(Dashboard!$J$5,Sheet3!$B$2:$C$31,2,FALSE)))","v":80000},"Sales Controller","Controller","USA","4 to 6 hours a day",15]
[null,"ID0637",80000,"USD",80000,{"$f":"(tblSalaries[[#This Row],[clean Salary (in local currency)]])*(VLOOKUP(tblSalaries[[#This Row],[Currency]],Sheet3!$A$2:$C$31,3,FALSE))*(VLOOKUP(tblSalaries[[#This Row],[Currency]],Sheet1!$N$4:$Q$186,4,FALSE))","v":80000},{"$f":"IF(Dashboard!$J$5=VLOOKUP(tblSalaries[[#This Row],[Currency]],Sheet3!$A$2:$B$31,2,FALSE),tblSalaries[[#This Row],[clean Salary (in local currency)]],(tblSalaries[[#This Row],[PPP Adjusted  USD]]/VLOOKUP(Dashboard!$J$5,Sheet3!$B$2:$C$31,2,FALSE)))","v":80000},"program coordinator - automotive","Manager","USA","4 to 6 hours a day",8]
[null,"ID1199",80000,"USD",80000,{"$f":"(tblSalaries[[#This Row],[clean Salary (in local currency)]])*(VLOOKUP(tblSalaries[[#This Row],[Currency]],Sheet3!$A$2:$C$31,3,FALSE))*(VLOOKUP(tblSalaries[[#This Row],[Currency]],Sheet1!$N$4:$Q$186,4,FALSE))","v":80000},{"$f":"IF(Dashboard!$J$5=VLOOKUP(tblSalaries[[#This Row],[Currency]],Sheet3!$A$2:$B$31,2,FALSE),tblSalaries[[#This Row],[clean Salary (in local currency)]],(tblSalaries[[#This Row],[PPP Adjusted  USD]]/VLOOKUP(Dashboard!$J$5,Sheet3!$B$2:$C$31,2,FALSE)))","v":80000},"Financial/Data Analyst","Analyst","USA","4 to 6 hours a day",6]
[null,"ID1226",80000,"USD",80000,{"$f":"(tblSalaries[[#This Row],[clean Salary (in local currency)]])*(VLOOKUP(tblSalaries[[#This Row],[Currency]],Sheet3!$A$2:$C$31,3,FALSE))*(VLOOKUP(tblSalaries[[#This Row],[Currency]],Sheet1!$N$4:$Q$186,4,FALSE))","v":80000},{"$f":"IF(Dashboard!$J$5=VLOOKUP(tblSalaries[[#This Row],[Currency]],Sheet3!$A$2:$B$31,2,FALSE),tblSalaries[[#This Row],[clean Salary (in local currency)]],(tblSalaries[[#This Row],[PPP Adjusted  USD]]/VLOOKUP(Dashboard!$J$5,Sheet3!$B$2:$C$31,2,FALSE)))","v":80000},"Snr Business Analyst","Analyst","Singapore","1 or 2 hours a day",6]
[null,"ID1303",80000,"USD",80000,{"$f":"(tblSalaries[[#This Row],[clean Salary (in local currency)]])*(VLOOKUP(tblSalaries[[#This Row],[Currency]],Sheet3!$A$2:$C$31,3,FALSE))*(VLOOKUP(tblSalaries[[#This Row],[Currency]],Sheet1!$N$4:$Q$186,4,FALSE))","v":80000},{"$f":"IF(Dashboard!$J$5=VLOOKUP(tblSalaries[[#This Row],[Currency]],Sheet3!$A$2:$B$31,2,FALSE),tblSalaries[[#This Row],[clean Salary (in local currency)]],(tblSalaries[[#This Row],[PPP Adjusted  USD]]/VLOOKUP(Dashboard!$J$5,Sheet3!$B$2:$C$31,2,FALSE)))","v":80000},"Manager","Manager","USA","1 or 2 hours a day",6]
[null,"ID1352",80000,"USD",80000,{"$f":"(tblSalaries[[#This Row],[clean Salary (in local currency)]])*(VLOOKUP(tblSalaries[[#This Row],[Currency]],Sheet3!$A$2:$C$31,3,FALSE))*(VLOOKUP(tblSalaries[[#This Row],[Currency]],Sheet1!$N$4:$Q$186,4,FALSE))","v":80000},{"$f":"IF(Dashboard!$J$5=VLOOKUP(tblSalaries[[#This Row],[Currency]],Sheet3!$A$2:$B$31,2,FALSE),tblSalaries[[#This Row],[clean Salary (in local currency)]],(tblSalaries[[#This Row],[PPP Adjusted  USD]]/VLOOKUP(Dashboard!$J$5,Sheet3!$B$2:$C$31,2,FALSE)))","v":80000},"Developer","Analyst","USA","1 or 2 hours a day",14]
[null,"ID1371",80000,"USD",80000,{"$f":"(tblSalaries[[#This Row],[clean Salary (in local currency)]])*(VLOOKUP(tblSalaries[[#This Row],[Currency]],Sheet3!$A$2:$C$31,3,FALSE))*(VLOOKUP(tblSalaries[[#This Row],[Currency]],Sheet1!$N$4:$Q$186,4,FALSE))","v":80000},{"$f":"IF(Dashboard!$J$5=VLOOKUP(tblSalaries[[#This Row],[Currency]],Sheet3!$A$2:$B$31,2,FALSE),tblSalaries[[#This Row],[clean Salary (in local currency)]],(tblSalaries[[#This Row],[PPP Adjusted  USD]]/VLOOKUP(Dashboard!$J$5,Sheet3!$B$2:$C$31,2,FALSE)))","v":80000},"Manager of Data Analytics","Manager","USA","4 to 6 hours a day",10]
[null,"ID1403",80000,"USD",80000,{"$f":"(tblSalaries[[#This Row],[clean Salary (in local currency)]])*(VLOOKUP(tblSalaries[[#This Row],[Currency]],Sheet3!$A$2:$C$31,3,FALSE))*(VLOOKUP(tblSalaries[[#This Row],[Currency]],Sheet1!$N$4:$Q$186,4,FALSE))","v":80000},{"$f":"IF(Dashboard!$J$5=VLOOKUP(tblSalaries[[#This Row],[Currency]],Sheet3!$A$2:$B$31,2,FALSE),tblSalaries[[#This Row],[clean Salary (in local currency)]],(tblSalaries[[#This Row],[PPP Adjusted  USD]]/VLOOKUP(Dashboard!$J$5,Sheet3!$B$2:$C$31,2,FALSE)))","v":80000},"Sr Process Consultant","Consultant","USA","2 to 3 hours per day",8]
[null,"ID1435",80000,"USD",80000,{"$f":"(tblSalaries[[#This Row],[clean Salary (in local currency)]])*(VLOOKUP(tblSalaries[[#This Row],[Currency]],Sheet3!$A$2:$C$31,3,FALSE))*(VLOOKUP(tblSalaries[[#This Row],[Currency]],Sheet1!$N$4:$Q$186,4,FALSE))","v":80000},{"$f":"IF(Dashboard!$J$5=VLOOKUP(tblSalaries[[#This Row],[Currency]],Sheet3!$A$2:$B$31,2,FALSE),tblSalaries[[#This Row],[clean Salary (in local currency)]],(tblSalaries[[#This Row],[PPP Adjusted  USD]]/VLOOKUP(Dashboard!$J$5,Sheet3!$B$2:$C$31,2,FALSE)))","v":80000},"Senior analyst, ops support","Analyst","USA","4 to 6 hours a day",20]
[null,"ID1679",80000,"USD",80000,{"$f":"(tblSalaries[[#This Row],[clean Salary (in local currency)]])*(VLOOKUP(tblSalaries[[#This Row],[Currency]],Sheet3!$A$2:$C$31,3,FALSE))*(VLOOKUP(tblSalaries[[#This Row],[Currency]],Sheet1!$N$4:$Q$186,4,FALSE))","v":80000},{"$f":"IF(Dashboard!$J$5=VLOOKUP(tblSalaries[[#This Row],[Currency]],Sheet3!$A$2:$B$31,2,FALSE),tblSalaries[[#This Row],[clean Salary (in local currency)]],(tblSalaries[[#This Row],[PPP Adjusted  USD]]/VLOOKUP(Dashboard!$J$5,Sheet3!$B$2:$C$31,2,FALSE)))","v":80000},"Data Resource Specialist","Specialist","USA","2 to 3 hours per day",2]
[null,"ID1748",80000,"USD",80000,{"$f":"(tblSalaries[[#This Row],[clean Salary (in local currency)]])*(VLOOKUP(tblSalaries[[#This Row],[Currency]],Sheet3!$A$2:$C$31,3,FALSE))*(VLOOKUP(tblSalaries[[#This Row],[Currency]],Sheet1!$N$4:$Q$186,4,FALSE))","v":80000},{"$f":"IF(Dashboard!$J$5=VLOOKUP(tblSalaries[[#This Row],[Currency]],Sheet3!$A$2:$B$31,2,FALSE),tblSalaries[[#This Row],[clean Salary (in local currency)]],(tblSalaries[[#This Row],[PPP Adjusted  USD]]/VLOOKUP(Dashboard!$J$5,Sheet3!$B$2:$C$31,2,FALSE)))","v":80000},"Sales / Finance Manager","Manager","USA","4 to 6 hours a day",7]
[null,"ID1776",80000,"USD",80000,{"$f":"(tblSalaries[[#This Row],[clean Salary (in local currency)]])*(VLOOKUP(tblSalaries[[#This Row],[Currency]],Sheet3!$A$2:$C$31,3,FALSE))*(VLOOKUP(tblSalaries[[#This Row],[Currency]],Sheet1!$N$4:$Q$186,4,FALSE))","v":80000},{"$f":"IF(Dashboard!$J$5=VLOOKUP(tblSalaries[[#This Row],[Currency]],Sheet3!$A$2:$B$31,2,FALSE),tblSalaries[[#This Row],[clean Salary (in local currency)]],(tblSalaries[[#This Row],[PPP Adjusted  USD]]/VLOOKUP(Dashboard!$J$5,Sheet3!$B$2:$C$31,2,FALSE)))","v":80000},"Engineer","Engineer","Brazil","1 or 2 hours a day",9]
[null,"ID1821",80000,"USD",80000,{"$f":"(tblSalaries[[#This Row],[clean Salary (in local currency)]])*(VLOOKUP(tblSalaries[[#This Row],[Currency]],Sheet3!$A$2:$C$31,3,FALSE))*(VLOOKUP(tblSalaries[[#This Row],[Currency]],Sheet1!$N$4:$Q$186,4,FALSE))","v":80000},{"$f":"IF(Dashboard!$J$5=VLOOKUP(tblSalaries[[#This Row],[Currency]],Sheet3!$A$2:$B$31,2,FALSE),tblSalaries[[#This Row],[clean Salary (in local currency)]],(tblSalaries[[#This Row],[PPP Adjusted  USD]]/VLOOKUP(Dashboard!$J$5,Sheet3!$B$2:$C$31,2,FALSE)))","v":80000},"Manager, Operations","Manager","USA","4 to 6 hours a day",2]
[null,"ID1842",80000,"USD",80000,{"$f":"(tblSalaries[[#This Row],[clean Salary (in local currency)]])*(VLOOKUP(tblSalaries[[#This Row],[Currency]],Sheet3!$A$2:$C$31,3,FALSE))*(VLOOKUP(tblSalaries[[#This Row],[Currency]],Sheet1!$N$4:$Q$186,4,FALSE))","v":80000},{"$f":"IF(Dashboard!$J$5=VLOOKUP(tblSalaries[[#This Row],[Currency]],Sheet3!$A$2:$B$31,2,FALSE),tblSalaries[[#This Row],[clean Salary (in local currency)]],(tblSalaries[[#This Row],[PPP Adjusted  USD]]/VLOOKUP(Dashboard!$J$5,Sheet3!$B$2:$C$31,2,FALSE)))","v":80000},"Project Controller","Controller","USA","4 to 6 hours a day",9]
[null,"ID1782",72000,"EUR",91468.759607395754,{"$f":"(tblSalaries[[#This Row],[clean Salary (in local currency)]])*(VLOOKUP(tblSalaries[[#This Row],[Currency]],Sheet3!$A$2:$C$31,3,FALSE))*(VLOOKUP(tblSalaries[[#This Row],[Currency]],Sheet1!$N$4:$Q$186,4,FALSE))","v":79247.007790563744},{"$f":"IF(Dashboard!$J$5=VLOOKUP(tblSalaries[[#This Row],[Currency]],Sheet3!$A$2:$B$31,2,FALSE),tblSalaries[[#This Row],[clean Salary (in local currency)]],(tblSalaries[[#This Row],[PPP Adjusted  USD]]/VLOOKUP(Dashboard!$J$5,Sheet3!$B$2:$C$31,2,FALSE)))","v":79247.007790563744},"regional sales manager","Manager","Croatia","1 or 2 hours a day",3]
[null,"ID1764",140000,"CHF",148102.22862117883,{"$f":"(tblSalaries[[#This Row],[clean Salary (in local currency)]])*(VLOOKUP(tblSalaries[[#This Row],[Currency]],Sheet3!$A$2:$C$31,3,FALSE))*(VLOOKUP(tblSalaries[[#This Row],[Currency]],Sheet1!$N$4:$Q$186,4,FALSE))","v":79141.190496561598},{"$f":"IF(Dashboard!$J$5=VLOOKUP(tblSalaries[[#This Row],[Currency]],Sheet3!$A$2:$B$31,2,FALSE),tblSalaries[[#This Row],[clean Salary (in local currency)]],(tblSalaries[[#This Row],[PPP Adjusted  USD]]/VLOOKUP(Dashboard!$J$5,Sheet3!$B$2:$C$31,2,FALSE)))","v":79141.190496561598},"Projektleiter","Manager","Switzerland","2 to 3 hours per day",6]
[null,"ID0239",100000,"CAD",98336.152303032693,{"$f":"(tblSalaries[[#This Row],[clean Salary (in local currency)]])*(VLOOKUP(tblSalaries[[#This Row],[Currency]],Sheet3!$A$2:$C$31,3,FALSE))*(VLOOKUP(tblSalaries[[#This Row],[Currency]],Sheet1!$N$4:$Q$186,4,FALSE))","v":79044.620320234477},{"$f":"IF(Dashboard!$J$5=VLOOKUP(tblSalaries[[#This Row],[Currency]],Sheet3!$A$2:$B$31,2,FALSE),tblSalaries[[#This Row],[clean Salary (in local currency)]],(tblSalaries[[#This Row],[PPP Adjusted  USD]]/VLOOKUP(Dashboard!$J$5,Sheet3!$B$2:$C$31,2,FALSE)))","v":79044.620320234477},"retail buyer","Manager","Canada","2 to 3 hours per day","Data Not Avaliable"]
[null,"ID0793",100000,"CAD",98336.152303032693,{"$f":"(tblSalaries[[#This Row],[clean Salary (in local currency)]])*(VLOOKUP(tblSalaries[[#This Row],[Currency]],Sheet3!$A$2:$C$31,3,FALSE))*(VLOOKUP(tblSalaries[[#This Row],[Currency]],Sheet1!$N$4:$Q$186,4,FALSE))","v":79044.620320234477},{"$f":"IF(Dashboard!$J$5=VLOOKUP(tblSalaries[[#This Row],[Currency]],Sheet3!$A$2:$B$31,2,FALSE),tblSalaries[[#This Row],[clean Salary (in local currency)]],(tblSalaries[[#This Row],[PPP Adjusted  USD]]/VLOOKUP(Dashboard!$J$5,Sheet3!$B$2:$C$31,2,FALSE)))","v":79044.620320234477},"VP Infrastructure","CXO or Top Mgmt.","Canada","4 to 6 hours a day",5]
[null,"ID0852",100000,"CAD",98336.152303032693,{"$f":"(tblSalaries[[#This Row],[clean Salary (in local currency)]])*(VLOOKUP(tblSalaries[[#This Row],[Currency]],Sheet3!$A$2:$C$31,3,FALSE))*(VLOOKUP(tblSalaries[[#This Row],[Currency]],Sheet1!$N$4:$Q$186,4,FALSE))","v":79044.620320234477},{"$f":"IF(Dashboard!$J$5=VLOOKUP(tblSalaries[[#This Row],[Currency]],Sheet3!$A$2:$B$31,2,FALSE),tblSalaries[[#This Row],[clean Salary (in local currency)]],(tblSalaries[[#This Row],[PPP Adjusted  USD]]/VLOOKUP(Dashboard!$J$5,Sheet3!$B$2:$C$31,2,FALSE)))","v":79044.620320234477},"Marketing Manager","Manager","Canada","2 to 3 hours per day",10]
[null,"ID0243",79000,"USD",79000,{"$f":"(tblSalaries[[#This Row],[clean Salary (in local currency)]])*(VLOOKUP(tblSalaries[[#This Row],[Currency]],Sheet3!$A$2:$C$31,3,FALSE))*(VLOOKUP(tblSalaries[[#This Row],[Currency]],Sheet1!$N$4:$Q$186,4,FALSE))","v":79000},{"$f":"IF(Dashboard!$J$5=VLOOKUP(tblSalaries[[#This Row],[Currency]],Sheet3!$A$2:$B$31,2,FALSE),tblSalaries[[#This Row],[clean Salary (in local currency)]],(tblSalaries[[#This Row],[PPP Adjusted  USD]]/VLOOKUP(Dashboard!$J$5,Sheet3!$B$2:$C$31,2,FALSE)))","v":79000},"Director of Finance and Accounting","Accountant","USA","2 to 3 hours per day","Data Not Avaliable"]
[null,"ID0978",125000,"AUD",127488.70705032947,{"$f":"(tblSalaries[[#This Row],[clean Salary (in local currency)]])*(VLOOKUP(tblSalaries[[#This Row],[Currency]],Sheet3!$A$2:$C$31,3,FALSE))*(VLOOKUP(tblSalaries[[#This Row],[Currency]],Sheet1!$N$4:$Q$186,4,FALSE))","v":78339.257274826377},{"$f":"IF(Dashboard!$J$5=VLOOKUP(tblSalaries[[#This Row],[Currency]],Sheet3!$A$2:$B$31,2,FALSE),tblSalaries[[#This Row],[clean Salary (in local currency)]],(tblSalaries[[#This Row],[PPP Adjusted  USD]]/VLOOKUP(Dashboard!$J$5,Sheet3!$B$2:$C$31,2,FALSE)))","v":78339.257274826377},"Director, Informatics","CXO or Top Mgmt.","Australia","4 to 6 hours a day",15]
[null,"ID1475",125000,"AUD",127488.70705032947,{"$f":"(tblSalaries[[#This Row],[clean Salary (in local currency)]])*(VLOOKUP(tblSalaries[[#This Row],[Currency]],Sheet3!$A$2:$C$31,3,FALSE))*(VLOOKUP(tblSalaries[[#This Row],[Currency]],Sheet1!$N$4:$Q$186,4,FALSE))","v":78339.257274826377},{"$f":"IF(Dashboard!$J$5=VLOOKUP(tblSalaries[[#This Row],[Currency]],Sheet3!$A$2:$B$31,2,FALSE),tblSalaries[[#This Row],[clean Salary (in local currency)]],(tblSalaries[[#This Row],[PPP Adjusted  USD]]/VLOOKUP(Dashboard!$J$5,Sheet3!$B$2:$C$31,2,FALSE)))","v":78339.257274826377},"Financial Application Developer","Accountant","Australia","4 to 6 hours a day",7]
[null,"ID1242",71000,"EUR",90198.36016840415,{"$f":"(tblSalaries[[#This Row],[clean Salary (in local currency)]])*(VLOOKUP(tblSalaries[[#This Row],[Currency]],Sheet3!$A$2:$C$31,3,FALSE))*(VLOOKUP(tblSalaries[[#This Row],[Currency]],Sheet1!$N$4:$Q$186,4,FALSE))","v":78146.354904583699},{"$f":"IF(Dashboard!$J$5=VLOOKUP(tblSalaries[[#This Row],[Currency]],Sheet3!$A$2:$B$31,2,FALSE),tblSalaries[[#This Row],[clean Salary (in local currency)]],(tblSalaries[[#This Row],[PPP Adjusted  USD]]/VLOOKUP(Dashboard!$J$5,Sheet3!$B$2:$C$31,2,FALSE)))","v":78146.354904583699},"Consultant","Consultant","Germany","1 or 2 hours a day",3]
[null,"ID0220",78000,"USD",78000,{"$f":"(tblSalaries[[#This Row],[clean Salary (in local currency)]])*(VLOOKUP(tblSalaries[[#This Row],[Currency]],Sheet3!$A$2:$C$31,3,FALSE))*(VLOOKUP(tblSalaries[[#This Row],[Currency]],Sheet1!$N$4:$Q$186,4,FALSE))","v":78000},{"$f":"IF(Dashboard!$J$5=VLOOKUP(tblSalaries[[#This Row],[Currency]],Sheet3!$A$2:$B$31,2,FALSE),tblSalaries[[#This Row],[clean Salary (in local currency)]],(tblSalaries[[#This Row],[PPP Adjusted  USD]]/VLOOKUP(Dashboard!$J$5,Sheet3!$B$2:$C$31,2,FALSE)))","v":78000},"Tax Professional","Accountant","Bermuda","4 to 6 hours a day","Data Not Avaliable"]
[null,"ID0453",78000,"USD",78000,{"$f":"(tblSalaries[[#This Row],[clean Salary (in local currency)]])*(VLOOKUP(tblSalaries[[#This Row],[Currency]],Sheet3!$A$2:$C$31,3,FALSE))*(VLOOKUP(tblSalaries[[#This Row],[Currency]],Sheet1!$N$4:$Q$186,4,FALSE))","v":78000},{"$f":"IF(Dashboard!$J$5=VLOOKUP(tblSalaries[[#This Row],[Currency]],Sheet3!$A$2:$B$31,2,FALSE),tblSalaries[[#This Row],[clean Salary (in local currency)]],(tblSalaries[[#This Row],[PPP Adjusted  USD]]/VLOOKUP(Dashboard!$J$5,Sheet3!$B$2:$C$31,2,FALSE)))","v":78000},"FinanceManager","Manager","Somalia","4 to 6 hours a day","Data Not Avaliable"]
[null,"ID1826",78000,"USD",78000,{"$f":"(tblSalaries[[#This Row],[clean Salary (in local currency)]])*(VLOOKUP(tblSalaries[[#This Row],[Currency]],Sheet3!$A$2:$C$31,3,FALSE))*(VLOOKUP(tblSalaries[[#This Row],[Currency]],Sheet1!$N$4:$Q$186,4,FALSE))","v":78000},{"$f":"IF(Dashboard!$J$5=VLOOKUP(tblSalaries[[#This Row],[Currency]],Sheet3!$A$2:$B$31,2,FALSE),tblSalaries[[#This Row],[clean Salary (in local currency)]],(tblSalaries[[#This Row],[PPP Adjusted  USD]]/VLOOKUP(Dashboard!$J$5,Sheet3!$B$2:$C$31,2,FALSE)))","v":78000},"Data Integration Engenieer","Engineer","USA","All the 8 hours baby, all the 8!",5]
[null,"ID0426",70800,"EUR",89944.280280605832,{"$f":"(tblSalaries[[#This Row],[clean Salary (in local currency)]])*(VLOOKUP(tblSalaries[[#This Row],[Currency]],Sheet3!$A$2:$C$31,3,FALSE))*(VLOOKUP(tblSalaries[[#This Row],[Currency]],Sheet1!$N$4:$Q$186,4,FALSE))","v":77926.224327387696},{"$f":"IF(Dashboard!$J$5=VLOOKUP(tblSalaries[[#This Row],[Currency]],Sheet3!$A$2:$B$31,2,FALSE),tblSalaries[[#This Row],[clean Salary (in local currency)]],(tblSalaries[[#This Row],[PPP Adjusted  USD]]/VLOOKUP(Dashboard!$J$5,Sheet3!$B$2:$C$31,2,FALSE)))","v":77926.224327387696},"Excel trainer","Analyst","Finland","All the 8 hours baby, all the 8!","Data Not Avaliable"]
[null,"ID0256",52680,"GBP",83033.071372504521,{"$f":"(tblSalaries[[#This Row],[clean Salary (in local currency)]])*(VLOOKUP(tblSalaries[[#This Row],[Currency]],Sheet3!$A$2:$C$31,3,FALSE))*(VLOOKUP(tblSalaries[[#This Row],[Currency]],Sheet1!$N$4:$Q$186,4,FALSE))","v":77648.803078368917},{"$f":"IF(Dashboard!$J$5=VLOOKUP(tblSalaries[[#This Row],[Currency]],Sheet3!$A$2:$B$31,2,FALSE),tblSalaries[[#This Row],[clean Salary (in local currency)]],(tblSalaries[[#This Row],[PPP Adjusted  USD]]/VLOOKUP(Dashboard!$J$5,Sheet3!$B$2:$C$31,2,FALSE)))","v":77648.803078368917},"Excel Consultant","Consultant","UK","All the 8 hours baby, all the 8!","Data Not Avaliable"]
[null,"ID1396",77500,"USD",77500,{"$f":"(tblSalaries[[#This Row],[clean Salary (in local currency)]])*(VLOOKUP(tblSalaries[[#This Row],[Currency]],Sheet3!$A$2:$C$31,3,FALSE))*(VLOOKUP(tblSalaries[[#This Row],[Currency]],Sheet1!$N$4:$Q$186,4,FALSE))","v":77500},{"$f":"IF(Dashboard!$J$5=VLOOKUP(tblSalaries[[#This Row],[Currency]],Sheet3!$A$2:$B$31,2,FALSE),tblSalaries[[#This Row],[clean Salary (in local currency)]],(tblSalaries[[#This Row],[PPP Adjusted  USD]]/VLOOKUP(Dashboard!$J$5,Sheet3!$B$2:$C$31,2,FALSE)))","v":77500},"Sr Financial Analyst","Analyst","USA","4 to 6 hours a day",7]
[null,"ID1150",70000,"EUR",88927.960729412545,{"$f":"(tblSalaries[[#This Row],[clean Salary (in local currency)]])*(VLOOKUP(tblSalaries[[#This Row],[Currency]],Sheet3!$A$2:$C$31,3,FALSE))*(VLOOKUP(tblSalaries[[#This Row],[Currency]],Sheet1!$N$4:$Q$186,4,FALSE))","v":77045.702018603653},{"$f":"IF(Dashboard!$J$5=VLOOKUP(tblSalaries[[#This Row],[Currency]],Sheet3!$A$2:$B$31,2,FALSE),tblSalaries[[#This Row],[clean Salary (in local currency)]],(tblSalaries[[#This Row],[PPP Adjusted  USD]]/VLOOKUP(Dashboard!$J$5,Sheet3!$B$2:$C$31,2,FALSE)))","v":77045.702018603653},"Construction Planner","Consultant","Ireland","2 to 3 hours per day",20]
[null,"ID1563",70000,"EUR",88927.960729412545,{"$f":"(tblSalaries[[#This Row],[clean Salary (in local currency)]])*(VLOOKUP(tblSalaries[[#This Row],[Currency]],Sheet3!$A$2:$C$31,3,FALSE))*(VLOOKUP(tblSalaries[[#This Row],[Currency]],Sheet1!$N$4:$Q$186,4,FALSE))","v":77045.702018603653},{"$f":"IF(Dashboard!$J$5=VLOOKUP(tblSalaries[[#This Row],[Currency]],Sheet3!$A$2:$B$31,2,FALSE),tblSalaries[[#This Row],[clean Salary (in local currency)]],(tblSalaries[[#This Row],[PPP Adjusted  USD]]/VLOOKUP(Dashboard!$J$5,Sheet3!$B$2:$C$31,2,FALSE)))","v":77045.702018603653},"Specialist Learning Technology","Specialist","Germany","1 or 2 hours a day",5]
[null,"ID0268",77000,"USD",77000,{"$f":"(tblSalaries[[#This Row],[clean Salary (in local currency)]])*(VLOOKUP(tblSalaries[[#This Row],[Currency]],Sheet3!$A$2:$C$31,3,FALSE))*(VLOOKUP(tblSalaries[[#This Row],[Currency]],Sheet1!$N$4:$Q$186,4,FALSE))","v":77000},{"$f":"IF(Dashboard!$J$5=VLOOKUP(tblSalaries[[#This Row],[Currency]],Sheet3!$A$2:$B$31,2,FALSE),tblSalaries[[#This Row],[clean Salary (in local currency)]],(tblSalaries[[#This Row],[PPP Adjusted  USD]]/VLOOKUP(Dashboard!$J$5,Sheet3!$B$2:$C$31,2,FALSE)))","v":77000},"senior accounting coordinator","Accountant","USA","4 to 6 hours a day","Data Not Avaliable"]
[null,"ID0504",77000,"USD",77000,{"$f":"(tblSalaries[[#This Row],[clean Salary (in local currency)]])*(VLOOKUP(tblSalaries[[#This Row],[Currency]],Sheet3!$A$2:$C$31,3,FALSE))*(VLOOKUP(tblSalaries[[#This Row],[Currency]],Sheet1!$N$4:$Q$186,4,FALSE))","v":77000},{"$f":"IF(Dashboard!$J$5=VLOOKUP(tblSalaries[[#This Row],[Currency]],Sheet3!$A$2:$B$31,2,FALSE),tblSalaries[[#This Row],[clean Salary (in local currency)]],(tblSalaries[[#This Row],[PPP Adjusted  USD]]/VLOOKUP(Dashboard!$J$5,Sheet3!$B$2:$C$31,2,FALSE)))","v":77000},"Senior Financial Analyst","Analyst","USA","All the 8 hours baby, all the 8!","Data Not Avaliable"]
[null,"ID1430",77000,"USD",77000,{"$f":"(tblSalaries[[#This Row],[clean Salary (in local currency)]])*(VLOOKUP(tblSalaries[[#This Row],[Currency]],Sheet3!$A$2:$C$31,3,FALSE))*(VLOOKUP(tblSalaries[[#This Row],[Currency]],Sheet1!$N$4:$Q$186,4,FALSE))","v":77000},{"$f":"IF(Dashboard!$J$5=VLOOKUP(tblSalaries[[#This Row],[Currency]],Sheet3!$A$2:$B$31,2,FALSE),tblSalaries[[#This Row],[clean Salary (in local currency)]],(tblSalaries[[#This Row],[PPP Adjusted  USD]]/VLOOKUP(Dashboard!$J$5,Sheet3!$B$2:$C$31,2,FALSE)))","v":77000},"Assistant Engineer","Engineer","USA","4 to 6 hours a day",10]
[null,"ID1486",77000,"USD",77000,{"$f":"(tblSalaries[[#This Row],[clean Salary (in local currency)]])*(VLOOKUP(tblSalaries[[#This Row],[Currency]],Sheet3!$A$2:$C$31,3,FALSE))*(VLOOKUP(tblSalaries[[#This Row],[Currency]],Sheet1!$N$4:$Q$186,4,FALSE))","v":77000},{"$f":"IF(Dashboard!$J$5=VLOOKUP(tblSalaries[[#This Row],[Currency]],Sheet3!$A$2:$B$31,2,FALSE),tblSalaries[[#This Row],[clean Salary (in local currency)]],(tblSalaries[[#This Row],[PPP Adjusted  USD]]/VLOOKUP(Dashboard!$J$5,Sheet3!$B$2:$C$31,2,FALSE)))","v":77000},"Chemical Engineer","Engineer","USA","2 to 3 hours per day",13]
[null,"ID0432",76600,"USD",76600,{"$f":"(tblSalaries[[#This Row],[clean Salary (in local currency)]])*(VLOOKUP(tblSalaries[[#This Row],[Currency]],Sheet3!$A$2:$C$31,3,FALSE))*(VLOOKUP(tblSalaries[[#This Row],[Currency]],Sheet1!$N$4:$Q$186,4,FALSE))","v":76600},{"$f":"IF(Dashboard!$J$5=VLOOKUP(tblSalaries[[#This Row],[Currency]],Sheet3!$A$2:$B$31,2,FALSE),tblSalaries[[#This Row],[clean Salary (in local currency)]],(tblSalaries[[#This Row],[PPP Adjusted  USD]]/VLOOKUP(Dashboard!$J$5,Sheet3!$B$2:$C$31,2,FALSE)))","v":76600},"Analyst","Analyst","USA","2 to 3 hours per day","Data Not Avaliable"]
[null,"ID0269",76000,"USD",76000,{"$f":"(tblSalaries[[#This Row],[clean Salary (in local currency)]])*(VLOOKUP(tblSalaries[[#This Row],[Currency]],Sheet3!$A$2:$C$31,3,FALSE))*(VLOOKUP(tblSalaries[[#This Row],[Currency]],Sheet1!$N$4:$Q$186,4,FALSE))","v":76000},{"$f":"IF(Dashboard!$J$5=VLOOKUP(tblSalaries[[#This Row],[Currency]],Sheet3!$A$2:$B$31,2,FALSE),tblSalaries[[#This Row],[clean Salary (in local currency)]],(tblSalaries[[#This Row],[PPP Adjusted  USD]]/VLOOKUP(Dashboard!$J$5,Sheet3!$B$2:$C$31,2,FALSE)))","v":76000},"Demand Planning Mgr","Manager","USA","All the 8 hours baby, all the 8!","Data Not Avaliable"]
[null,"ID0515",76000,"USD",76000,{"$f":"(tblSalaries[[#This Row],[clean Salary (in local currency)]])*(VLOOKUP(tblSalaries[[#This Row],[Currency]],Sheet3!$A$2:$C$31,3,FALSE))*(VLOOKUP(tblSalaries[[#This Row],[Currency]],Sheet1!$N$4:$Q$186,4,FALSE))","v":76000},{"$f":"IF(Dashboard!$J$5=VLOOKUP(tblSalaries[[#This Row],[Currency]],Sheet3!$A$2:$B$31,2,FALSE),tblSalaries[[#This Row],[clean Salary (in local currency)]],(tblSalaries[[#This Row],[PPP Adjusted  USD]]/VLOOKUP(Dashboard!$J$5,Sheet3!$B$2:$C$31,2,FALSE)))","v":76000},"Accounting Manager","Manager","USA","2 to 3 hours per day","Data Not Avaliable"]
[null,"ID1490",76000,"USD",76000,{"$f":"(tblSalaries[[#This Row],[clean Salary (in local currency)]])*(VLOOKUP(tblSalaries[[#This Row],[Currency]],Sheet3!$A$2:$C$31,3,FALSE))*(VLOOKUP(tblSalaries[[#This Row],[Currency]],Sheet1!$N$4:$Q$186,4,FALSE))","v":76000},{"$f":"IF(Dashboard!$J$5=VLOOKUP(tblSalaries[[#This Row],[Currency]],Sheet3!$A$2:$B$31,2,FALSE),tblSalaries[[#This Row],[clean Salary (in local currency)]],(tblSalaries[[#This Row],[PPP Adjusted  USD]]/VLOOKUP(Dashboard!$J$5,Sheet3!$B$2:$C$31,2,FALSE)))","v":76000},"Sr. Analyst","Analyst","USA","All the 8 hours baby, all the 8!",10]
[null,"ID1071",1600000,"INR",28492.66669990811,{"$f":"(tblSalaries[[#This Row],[clean Salary (in local currency)]])*(VLOOKUP(tblSalaries[[#This Row],[Currency]],Sheet3!$A$2:$C$31,3,FALSE))*(VLOOKUP(tblSalaries[[#This Row],[Currency]],Sheet1!$N$4:$Q$186,4,FALSE))","v":75777.635757917524},{"$f":"IF(Dashboard!$J$5=VLOOKUP(tblSalaries[[#This Row],[Currency]],Sheet3!$A$2:$B$31,2,FALSE),tblSalaries[[#This Row],[clean Salary (in local currency)]],(tblSalaries[[#This Row],[PPP Adjusted  USD]]/VLOOKUP(Dashboard!$J$5,Sheet3!$B$2:$C$31,2,FALSE)))","v":75777.635757917524},"Manager Fin","Manager","India","All the 8 hours baby, all the 8!",9]
[null,"ID1345",1600000,"INR",28492.66669990811,{"$f":"(tblSalaries[[#This Row],[clean Salary (in local currency)]])*(VLOOKUP(tblSalaries[[#This Row],[Currency]],Sheet3!$A$2:$C$31,3,FALSE))*(VLOOKUP(tblSalaries[[#This Row],[Currency]],Sheet1!$N$4:$Q$186,4,FALSE))","v":75777.635757917524},{"$f":"IF(Dashboard!$J$5=VLOOKUP(tblSalaries[[#This Row],[Currency]],Sheet3!$A$2:$B$31,2,FALSE),tblSalaries[[#This Row],[clean Salary (in local currency)]],(tblSalaries[[#This Row],[PPP Adjusted  USD]]/VLOOKUP(Dashboard!$J$5,Sheet3!$B$2:$C$31,2,FALSE)))","v":75777.635757917524},"Senior Associate ","Analyst","India","2 to 3 hours per day",4]
[null,"ID0989",120000,"AUD",122389.15876831629,{"$f":"(tblSalaries[[#This Row],[clean Salary (in local currency)]])*(VLOOKUP(tblSalaries[[#This Row],[Currency]],Sheet3!$A$2:$C$31,3,FALSE))*(VLOOKUP(tblSalaries[[#This Row],[Currency]],Sheet1!$N$4:$Q$186,4,FALSE))","v":75205.686983833322},{"$f":"IF(Dashboard!$J$5=VLOOKUP(tblSalaries[[#This Row],[Currency]],Sheet3!$A$2:$B$31,2,FALSE),tblSalaries[[#This Row],[clean Salary (in local currency)]],(tblSalaries[[#This Row],[PPP Adjusted  USD]]/VLOOKUP(Dashboard!$J$5,Sheet3!$B$2:$C$31,2,FALSE)))","v":75205.686983833322},"analyst","Analyst","Australia","4 to 6 hours a day",2]
[null,"ID0995",120000,"AUD",122389.15876831629,{"$f":"(tblSalaries[[#This Row],[clean Salary (in local currency)]])*(VLOOKUP(tblSalaries[[#This Row],[Currency]],Sheet3!$A$2:$C$31,3,FALSE))*(VLOOKUP(tblSalaries[[#This Row],[Currency]],Sheet1!$N$4:$Q$186,4,FALSE))","v":75205.686983833322},{"$f":"IF(Dashboard!$J$5=VLOOKUP(tblSalaries[[#This Row],[Currency]],Sheet3!$A$2:$B$31,2,FALSE),tblSalaries[[#This Row],[clean Salary (in local currency)]],(tblSalaries[[#This Row],[PPP Adjusted  USD]]/VLOOKUP(Dashboard!$J$5,Sheet3!$B$2:$C$31,2,FALSE)))","v":75205.686983833322},"HSLP Data Analyst","Analyst","Australia","4 to 6 hours a day",5]
[null,"ID1587",120000,"AUD",122389.15876831629,{"$f":"(tblSalaries[[#This Row],[clean Salary (in local currency)]])*(VLOOKUP(tblSalaries[[#This Row],[Currency]],Sheet3!$A$2:$C$31,3,FALSE))*(VLOOKUP(tblSalaries[[#This Row],[Currency]],Sheet1!$N$4:$Q$186,4,FALSE))","v":75205.686983833322},{"$f":"IF(Dashboard!$J$5=VLOOKUP(tblSalaries[[#This Row],[Currency]],Sheet3!$A$2:$B$31,2,FALSE),tblSalaries[[#This Row],[clean Salary (in local currency)]],(tblSalaries[[#This Row],[PPP Adjusted  USD]]/VLOOKUP(Dashboard!$J$5,Sheet3!$B$2:$C$31,2,FALSE)))","v":75205.686983833322},"Reporting Analyst","Analyst","Australia","2 to 3 hours per day",5]
[null,"ID1901",120000,"AUD",122389.15876831629,{"$f":"(tblSalaries[[#This Row],[clean Salary (in local currency)]])*(VLOOKUP(tblSalaries[[#This Row],[Currency]],Sheet3!$A$2:$C$31,3,FALSE))*(VLOOKUP(tblSalaries[[#This Row],[Currency]],Sheet1!$N$4:$Q$186,4,FALSE))","v":75205.686983833322},{"$f":"IF(Dashboard!$J$5=VLOOKUP(tblSalaries[[#This Row],[Currency]],Sheet3!$A$2:$B$31,2,FALSE),tblSalaries[[#This Row],[clean Salary (in local currency)]],(tblSalaries[[#This Row],[PPP Adjusted  USD]]/VLOOKUP(Dashboard!$J$5,Sheet3!$B$2:$C$31,2,FALSE)))","v":75205.686983833322},"Manager","Manager","Australia","1 or 2 hours a day",8]
[null,"ID0906",75010,"USD",75010,{"$f":"(tblSalaries[[#This Row],[clean Salary (in local currency)]])*(VLOOKUP(tblSalaries[[#This Row],[Currency]],Sheet3!$A$2:$C$31,3,FALSE))*(VLOOKUP(tblSalaries[[#This Row],[Currency]],Sheet1!$N$4:$Q$186,4,FALSE))","v":75010},{"$f":"IF(Dashboard!$J$5=VLOOKUP(tblSalaries[[#This Row],[Currency]],Sheet3!$A$2:$B$31,2,FALSE),tblSalaries[[#This Row],[clean Salary (in local currency)]],(tblSalaries[[#This Row],[PPP Adjusted  USD]]/VLOOKUP(Dashboard!$J$5,Sheet3!$B$2:$C$31,2,FALSE)))","v":75010},"Senior Business Analyst","Analyst","USA","2 to 3 hours per day",6]
[null,"ID0016",75000,"USD",75000,{"$f":"(tblSalaries[[#This Row],[clean Salary (in local currency)]])*(VLOOKUP(tblSalaries[[#This Row],[Currency]],Sheet3!$A$2:$C$31,3,FALSE))*(VLOOKUP(tblSalaries[[#This Row],[Currency]],Sheet1!$N$4:$Q$186,4,FALSE))","v":75000},{"$f":"IF(Dashboard!$J$5=VLOOKUP(tblSalaries[[#This Row],[Currency]],Sheet3!$A$2:$B$31,2,FALSE),tblSalaries[[#This Row],[clean Salary (in local currency)]],(tblSalaries[[#This Row],[PPP Adjusted  USD]]/VLOOKUP(Dashboard!$J$5,Sheet3!$B$2:$C$31,2,FALSE)))","v":75000},"Sr Project Engineer","Engineer","USA","All the 8 hours baby, all the 8!","Data Not Avaliable"]
[null,"ID0024",75000,"USD",75000,{"$f":"(tblSalaries[[#This Row],[clean Salary (in local currency)]])*(VLOOKUP(tblSalaries[[#This Row],[Currency]],Sheet3!$A$2:$C$31,3,FALSE))*(VLOOKUP(tblSalaries[[#This Row],[Currency]],Sheet1!$N$4:$Q$186,4,FALSE))","v":75000},{"$f":"IF(Dashboard!$J$5=VLOOKUP(tblSalaries[[#This Row],[Currency]],Sheet3!$A$2:$B$31,2,FALSE),tblSalaries[[#This Row],[clean Salary (in local currency)]],(tblSalaries[[#This Row],[PPP Adjusted  USD]]/VLOOKUP(Dashboard!$J$5,Sheet3!$B$2:$C$31,2,FALSE)))","v":75000},"Marketing Director","CXO or Top Mgmt.","USA","4 to 6 hours a day","Data Not Avaliable"]
[null,"ID0072",75000,"USD",75000,{"$f":"(tblSalaries[[#This Row],[clean Salary (in local currency)]])*(VLOOKUP(tblSalaries[[#This Row],[Currency]],Sheet3!$A$2:$C$31,3,FALSE))*(VLOOKUP(tblSalaries[[#This Row],[Currency]],Sheet1!$N$4:$Q$186,4,FALSE))","v":75000},{"$f":"IF(Dashboard!$J$5=VLOOKUP(tblSalaries[[#This Row],[Currency]],Sheet3!$A$2:$B$31,2,FALSE),tblSalaries[[#This Row],[clean Salary (in local currency)]],(tblSalaries[[#This Row],[PPP Adjusted  USD]]/VLOOKUP(Dashboard!$J$5,Sheet3!$B$2:$C$31,2,FALSE)))","v":75000},"Consumer Research Program Manager","Manager","USA","All the 8 hours baby, all the 8!","Data Not Avaliable"]
[null,"ID0094",75000,"USD",75000,{"$f":"(tblSalaries[[#This Row],[clean Salary (in local currency)]])*(VLOOKUP(tblSalaries[[#This Row],[Currency]],Sheet3!$A$2:$C$31,3,FALSE))*(VLOOKUP(tblSalaries[[#This Row],[Currency]],Sheet1!$N$4:$Q$186,4,FALSE))","v":75000},{"$f":"IF(Dashboard!$J$5=VLOOKUP(tblSalaries[[#This Row],[Currency]],Sheet3!$A$2:$B$31,2,FALSE),tblSalaries[[#This Row],[clean Salary (in local currency)]],(tblSalaries[[#This Row],[PPP Adjusted  USD]]/VLOOKUP(Dashboard!$J$5,Sheet3!$B$2:$C$31,2,FALSE)))","v":75000},"Data Analyst","Analyst","USA","1 or 2 hours a day","Data Not Avaliable"]
[null,"ID0161",75000,"USD",75000,{"$f":"(tblSalaries[[#This Row],[clean Salary (in local currency)]])*(VLOOKUP(tblSalaries[[#This Row],[Currency]],Sheet3!$A$2:$C$31,3,FALSE))*(VLOOKUP(tblSalaries[[#This Row],[Currency]],Sheet1!$N$4:$Q$186,4,FALSE))","v":75000},{"$f":"IF(Dashboard!$J$5=VLOOKUP(tblSalaries[[#This Row],[Currency]],Sheet3!$A$2:$B$31,2,FALSE),tblSalaries[[#This Row],[clean Salary (in local currency)]],(tblSalaries[[#This Row],[PPP Adjusted  USD]]/VLOOKUP(Dashboard!$J$5,Sheet3!$B$2:$C$31,2,FALSE)))","v":75000},"Program Analyst","Analyst","USA","1 or 2 hours a day","Data Not Avaliable"]
[null,"ID0177",75000,"USD",75000,{"$f":"(tblSalaries[[#This Row],[clean Salary (in local currency)]])*(VLOOKUP(tblSalaries[[#This Row],[Currency]],Sheet3!$A$2:$C$31,3,FALSE))*(VLOOKUP(tblSalaries[[#This Row],[Currency]],Sheet1!$N$4:$Q$186,4,FALSE))","v":75000},{"$f":"IF(Dashboard!$J$5=VLOOKUP(tblSalaries[[#This Row],[Currency]],Sheet3!$A$2:$B$31,2,FALSE),tblSalaries[[#This Row],[clean Salary (in local currency)]],(tblSalaries[[#This Row],[PPP Adjusted  USD]]/VLOOKUP(Dashboard!$J$5,Sheet3!$B$2:$C$31,2,FALSE)))","v":75000},"Informatics specialist","Specialist","USA","All the 8 hours baby, all the 8!","Data Not Avaliable"]
[null,"ID0277",75000,"USD",75000,{"$f":"(tblSalaries[[#This Row],[clean Salary (in local currency)]])*(VLOOKUP(tblSalaries[[#This Row],[Currency]],Sheet3!$A$2:$C$31,3,FALSE))*(VLOOKUP(tblSalaries[[#This Row],[Currency]],Sheet1!$N$4:$Q$186,4,FALSE))","v":75000},{"$f":"IF(Dashboard!$J$5=VLOOKUP(tblSalaries[[#This Row],[Currency]],Sheet3!$A$2:$B$31,2,FALSE),tblSalaries[[#This Row],[clean Salary (in local currency)]],(tblSalaries[[#This Row],[PPP Adjusted  USD]]/VLOOKUP(Dashboard!$J$5,Sheet3!$B$2:$C$31,2,FALSE)))","v":75000},"financial analyst","Analyst","USA","4 to 6 hours a day","Data Not Avaliable"]
[null,"ID0300",75000,"USD",75000,{"$f":"(tblSalaries[[#This Row],[clean Salary (in local currency)]])*(VLOOKUP(tblSalaries[[#This Row],[Currency]],Sheet3!$A$2:$C$31,3,FALSE))*(VLOOKUP(tblSalaries[[#This Row],[Currency]],Sheet1!$N$4:$Q$186,4,FALSE))","v":75000},{"$f":"IF(Dashboard!$J$5=VLOOKUP(tblSalaries[[#This Row],[Currency]],Sheet3!$A$2:$B$31,2,FALSE),tblSalaries[[#This Row],[clean Salary (in local currency)]],(tblSalaries[[#This Row],[PPP Adjusted  USD]]/VLOOKUP(Dashboard!$J$5,Sheet3!$B$2:$C$31,2,FALSE)))","v":75000},"FA","Analyst","USA","4 to 6 hours a day","Data Not Avaliable"]
[null,"ID0360",75000,"USD",75000,{"$f":"(tblSalaries[[#This Row],[clean Salary (in local currency)]])*(VLOOKUP(tblSalaries[[#This Row],[Currency]],Sheet3!$A$2:$C$31,3,FALSE))*(VLOOKUP(tblSalaries[[#This Row],[Currency]],Sheet1!$N$4:$Q$186,4,FALSE))","v":75000},{"$f":"IF(Dashboard!$J$5=VLOOKUP(tblSalaries[[#This Row],[Currency]],Sheet3!$A$2:$B$31,2,FALSE),tblSalaries[[#This Row],[clean Salary (in local currency)]],(tblSalaries[[#This Row],[PPP Adjusted  USD]]/VLOOKUP(Dashboard!$J$5,Sheet3!$B$2:$C$31,2,FALSE)))","v":75000},"Sr. Financial Analyst","Analyst","USA","All the 8 hours baby, all the 8!","Data Not Avaliable"]
[null,"ID0437",75000,"USD",75000,{"$f":"(tblSalaries[[#This Row],[clean Salary (in local currency)]])*(VLOOKUP(tblSalaries[[#This Row],[Currency]],Sheet3!$A$2:$C$31,3,FALSE))*(VLOOKUP(tblSalaries[[#This Row],[Currency]],Sheet1!$N$4:$Q$186,4,FALSE))","v":75000},{"$f":"IF(Dashboard!$J$5=VLOOKUP(tblSalaries[[#This Row],[Currency]],Sheet3!$A$2:$B$31,2,FALSE),tblSalaries[[#This Row],[clean Salary (in local currency)]],(tblSalaries[[#This Row],[PPP Adjusted  USD]]/VLOOKUP(Dashboard!$J$5,Sheet3!$B$2:$C$31,2,FALSE)))","v":75000},"Financial Analys","Analyst","USA","4 to 6 hours a day","Data Not Avaliable"]
[null,"ID0589",75000,"USD",75000,{"$f":"(tblSalaries[[#This Row],[clean Salary (in local currency)]])*(VLOOKUP(tblSalaries[[#This Row],[Currency]],Sheet3!$A$2:$C$31,3,FALSE))*(VLOOKUP(tblSalaries[[#This Row],[Currency]],Sheet1!$N$4:$Q$186,4,FALSE))","v":75000},{"$f":"IF(Dashboard!$J$5=VLOOKUP(tblSalaries[[#This Row],[Currency]],Sheet3!$A$2:$B$31,2,FALSE),tblSalaries[[#This Row],[clean Salary (in local currency)]],(tblSalaries[[#This Row],[PPP Adjusted  USD]]/VLOOKUP(Dashboard!$J$5,Sheet3!$B$2:$C$31,2,FALSE)))","v":75000},"Sr. Human Resources Analyst","Analyst","USA","2 to 3 hours per day",25]
[null,"ID0597",75000,"USD",75000,{"$f":"(tblSalaries[[#This Row],[clean Salary (in local currency)]])*(VLOOKUP(tblSalaries[[#This Row],[Currency]],Sheet3!$A$2:$C$31,3,FALSE))*(VLOOKUP(tblSalaries[[#This Row],[Currency]],Sheet1!$N$4:$Q$186,4,FALSE))","v":75000},{"$f":"IF(Dashboard!$J$5=VLOOKUP(tblSalaries[[#This Row],[Currency]],Sheet3!$A$2:$B$31,2,FALSE),tblSalaries[[#This Row],[clean Salary (in local currency)]],(tblSalaries[[#This Row],[PPP Adjusted  USD]]/VLOOKUP(Dashboard!$J$5,Sheet3!$B$2:$C$31,2,FALSE)))","v":75000},"Financial Analyst","Analyst","USA","4 to 6 hours a day",5]
[null,"ID0824",75000,"USD",75000,{"$f":"(tblSalaries[[#This Row],[clean Salary (in local currency)]])*(VLOOKUP(tblSalaries[[#This Row],[Currency]],Sheet3!$A$2:$C$31,3,FALSE))*(VLOOKUP(tblSalaries[[#This Row],[Currency]],Sheet1!$N$4:$Q$186,4,FALSE))","v":75000},{"$f":"IF(Dashboard!$J$5=VLOOKUP(tblSalaries[[#This Row],[Currency]],Sheet3!$A$2:$B$31,2,FALSE),tblSalaries[[#This Row],[clean Salary (in local currency)]],(tblSalaries[[#This Row],[PPP Adjusted  USD]]/VLOOKUP(Dashboard!$J$5,Sheet3!$B$2:$C$31,2,FALSE)))","v":75000},"sr financial analyst","Analyst","USA","2 to 3 hours per day",27]
[null,"ID1167",75000,"USD",75000,{"$f":"(tblSalaries[[#This Row],[clean Salary (in local currency)]])*(VLOOKUP(tblSalaries[[#This Row],[Currency]],Sheet3!$A$2:$C$31,3,FALSE))*(VLOOKUP(tblSalaries[[#This Row],[Currency]],Sheet1!$N$4:$Q$186,4,FALSE))","v":75000},{"$f":"IF(Dashboard!$J$5=VLOOKUP(tblSalaries[[#This Row],[Currency]],Sheet3!$A$2:$B$31,2,FALSE),tblSalaries[[#This Row],[clean Salary (in local currency)]],(tblSalaries[[#This Row],[PPP Adjusted  USD]]/VLOOKUP(Dashboard!$J$5,Sheet3!$B$2:$C$31,2,FALSE)))","v":75000},"Controller","Controller","USA","2 to 3 hours per day",20]
[null,"ID1188",75000,"USD",75000,{"$f":"(tblSalaries[[#This Row],[clean Salary (in local currency)]])*(VLOOKUP(tblSalaries[[#This Row],[Currency]],Sheet3!$A$2:$C$31,3,FALSE))*(VLOOKUP(tblSalaries[[#This Row],[Currency]],Sheet1!$N$4:$Q$186,4,FALSE))","v":75000},{"$f":"IF(Dashboard!$J$5=VLOOKUP(tblSalaries[[#This Row],[Currency]],Sheet3!$A$2:$B$31,2,FALSE),tblSalaries[[#This Row],[clean Salary (in local currency)]],(tblSalaries[[#This Row],[PPP Adjusted  USD]]/VLOOKUP(Dashboard!$J$5,Sheet3!$B$2:$C$31,2,FALSE)))","v":75000},"Financial Analyst","Analyst","USA","4 to 6 hours a day",12]
[null,"ID1359",75000,"USD",75000,{"$f":"(tblSalaries[[#This Row],[clean Salary (in local currency)]])*(VLOOKUP(tblSalaries[[#This Row],[Currency]],Sheet3!$A$2:$C$31,3,FALSE))*(VLOOKUP(tblSalaries[[#This Row],[Currency]],Sheet1!$N$4:$Q$186,4,FALSE))","v":75000},{"$f":"IF(Dashboard!$J$5=VLOOKUP(tblSalaries[[#This Row],[Currency]],Sheet3!$A$2:$B$31,2,FALSE),tblSalaries[[#This Row],[clean Salary (in local currency)]],(tblSalaries[[#This Row],[PPP Adjusted  USD]]/VLOOKUP(Dashboard!$J$5,Sheet3!$B$2:$C$31,2,FALSE)))","v":75000},"Financial Analyst","Analyst","USA","4 to 6 hours a day",7]
[null,"ID1428",75000,"USD",75000,{"$f":"(tblSalaries[[#This Row],[clean Salary (in local currency)]])*(VLOOKUP(tblSalaries[[#This Row],[Currency]],Sheet3!$A$2:$C$31,3,FALSE))*(VLOOKUP(tblSalaries[[#This Row],[Currency]],Sheet1!$N$4:$Q$186,4,FALSE))","v":75000},{"$f":"IF(Dashboard!$J$5=VLOOKUP(tblSalaries[[#This Row],[Currency]],Sheet3!$A$2:$B$31,2,FALSE),tblSalaries[[#This Row],[clean Salary (in local currency)]],(tblSalaries[[#This Row],[PPP Adjusted  USD]]/VLOOKUP(Dashboard!$J$5,Sheet3!$B$2:$C$31,2,FALSE)))","v":75000},"HR Cordinator","Manager","USA","1 or 2 hours a day",9]
[null,"ID1444",75000,"USD",75000,{"$f":"(tblSalaries[[#This Row],[clean Salary (in local currency)]])*(VLOOKUP(tblSalaries[[#This Row],[Currency]],Sheet3!$A$2:$C$31,3,FALSE))*(VLOOKUP(tblSalaries[[#This Row],[Currency]],Sheet1!$N$4:$Q$186,4,FALSE))","v":75000},{"$f":"IF(Dashboard!$J$5=VLOOKUP(tblSalaries[[#This Row],[Currency]],Sheet3!$A$2:$B$31,2,FALSE),tblSalaries[[#This Row],[clean Salary (in local currency)]],(tblSalaries[[#This Row],[PPP Adjusted  USD]]/VLOOKUP(Dashboard!$J$5,Sheet3!$B$2:$C$31,2,FALSE)))","v":75000},"Business Analyst","Analyst","USA","2 to 3 hours per day",1.5]
[null,"ID1520",75000,"USD",75000,{"$f":"(tblSalaries[[#This Row],[clean Salary (in local currency)]])*(VLOOKUP(tblSalaries[[#This Row],[Currency]],Sheet3!$A$2:$C$31,3,FALSE))*(VLOOKUP(tblSalaries[[#This Row],[Currency]],Sheet1!$N$4:$Q$186,4,FALSE))","v":75000},{"$f":"IF(Dashboard!$J$5=VLOOKUP(tblSalaries[[#This Row],[Currency]],Sheet3!$A$2:$B$31,2,FALSE),tblSalaries[[#This Row],[clean Salary (in local currency)]],(tblSalaries[[#This Row],[PPP Adjusted  USD]]/VLOOKUP(Dashboard!$J$5,Sheet3!$B$2:$C$31,2,FALSE)))","v":75000},"Financial Analyst","Analyst","USA","All the 8 hours baby, all the 8!",1.5]
[null,"ID1594",75000,"USD",75000,{"$f":"(tblSalaries[[#This Row],[clean Salary (in local currency)]])*(VLOOKUP(tblSalaries[[#This Row],[Currency]],Sheet3!$A$2:$C$31,3,FALSE))*(VLOOKUP(tblSalaries[[#This Row],[Currency]],Sheet1!$N$4:$Q$186,4,FALSE))","v":75000},{"$f":"IF(Dashboard!$J$5=VLOOKUP(tblSalaries[[#This Row],[Currency]],Sheet3!$A$2:$B$31,2,FALSE),tblSalaries[[#This Row],[clean Salary (in local currency)]],(tblSalaries[[#This Row],[PPP Adjusted  USD]]/VLOOKUP(Dashboard!$J$5,Sheet3!$B$2:$C$31,2,FALSE)))","v":75000},"Consultant","Consultant","Germany","2 to 3 hours per day",9]
[null,"ID1675",75000,"USD",75000,{"$f":"(tblSalaries[[#This Row],[clean Salary (in local currency)]])*(VLOOKUP(tblSalaries[[#This Row],[Currency]],Sheet3!$A$2:$C$31,3,FALSE))*(VLOOKUP(tblSalaries[[#This Row],[Currency]],Sheet1!$N$4:$Q$186,4,FALSE))","v":75000},{"$f":"IF(Dashboard!$J$5=VLOOKUP(tblSalaries[[#This Row],[Currency]],Sheet3!$A$2:$B$31,2,FALSE),tblSalaries[[#This Row],[clean Salary (in local currency)]],(tblSalaries[[#This Row],[PPP Adjusted  USD]]/VLOOKUP(Dashboard!$J$5,Sheet3!$B$2:$C$31,2,FALSE)))","v":75000},"Accountant","Accountant","USA","4 to 6 hours a day",10]
[null,"ID1697",75000,"USD",75000,{"$f":"(tblSalaries[[#This Row],[clean Salary (in local currency)]])*(VLOOKUP(tblSalaries[[#This Row],[Currency]],Sheet3!$A$2:$C$31,3,FALSE))*(VLOOKUP(tblSalaries[[#This Row],[Currency]],Sheet1!$N$4:$Q$186,4,FALSE))","v":75000},{"$f":"IF(Dashboard!$J$5=VLOOKUP(tblSalaries[[#This Row],[Currency]],Sheet3!$A$2:$B$31,2,FALSE),tblSalaries[[#This Row],[clean Salary (in local currency)]],(tblSalaries[[#This Row],[PPP Adjusted  USD]]/VLOOKUP(Dashboard!$J$5,Sheet3!$B$2:$C$31,2,FALSE)))","v":75000},"Directer of Sales Support","CXO or Top Mgmt.","USA","2 to 3 hours per day",3]
[null,"ID1743",75000,"USD",75000,{"$f":"(tblSalaries[[#This Row],[clean Salary (in local currency)]])*(VLOOKUP(tblSalaries[[#This Row],[Currency]],Sheet3!$A$2:$C$31,3,FALSE))*(VLOOKUP(tblSalaries[[#This Row],[Currency]],Sheet1!$N$4:$Q$186,4,FALSE))","v":75000},{"$f":"IF(Dashboard!$J$5=VLOOKUP(tblSalaries[[#This Row],[Currency]],Sheet3!$A$2:$B$31,2,FALSE),tblSalaries[[#This Row],[clean Salary (in local currency)]],(tblSalaries[[#This Row],[PPP Adjusted  USD]]/VLOOKUP(Dashboard!$J$5,Sheet3!$B$2:$C$31,2,FALSE)))","v":75000},"Senior Financial Analyst","Analyst","USA","All the 8 hours baby, all the 8!",5]
[null,"ID1749",75000,"USD",75000,{"$f":"(tblSalaries[[#This Row],[clean Salary (in local currency)]])*(VLOOKUP(tblSalaries[[#This Row],[Currency]],Sheet3!$A$2:$C$31,3,FALSE))*(VLOOKUP(tblSalaries[[#This Row],[Currency]],Sheet1!$N$4:$Q$186,4,FALSE))","v":75000},{"$f":"IF(Dashboard!$J$5=VLOOKUP(tblSalaries[[#This Row],[Currency]],Sheet3!$A$2:$B$31,2,FALSE),tblSalaries[[#This Row],[clean Salary (in local currency)]],(tblSalaries[[#This Row],[PPP Adjusted  USD]]/VLOOKUP(Dashboard!$J$5,Sheet3!$B$2:$C$31,2,FALSE)))","v":75000},"actuary","Accountant","USA","All the 8 hours baby, all the 8!",1]
[null,"ID1915",75000,"USD",75000,{"$f":"(tblSalaries[[#This Row],[clean Salary (in local currency)]])*(VLOOKUP(tblSalaries[[#This Row],[Currency]],Sheet3!$A$2:$C$31,3,FALSE))*(VLOOKUP(tblSalaries[[#This Row],[Currency]],Sheet1!$N$4:$Q$186,4,FALSE))","v":75000},{"$f":"IF(Dashboard!$J$5=VLOOKUP(tblSalaries[[#This Row],[Currency]],Sheet3!$A$2:$B$31,2,FALSE),tblSalaries[[#This Row],[clean Salary (in local currency)]],(tblSalaries[[#This Row],[PPP Adjusted  USD]]/VLOOKUP(Dashboard!$J$5,Sheet3!$B$2:$C$31,2,FALSE)))","v":75000},"Data Analyst","Analyst","USA","1 or 2 hours a day",3]
[null,"ID1788",74461,"USD",74461,{"$f":"(tblSalaries[[#This Row],[clean Salary (in local currency)]])*(VLOOKUP(tblSalaries[[#This Row],[Currency]],Sheet3!$A$2:$C$31,3,FALSE))*(VLOOKUP(tblSalaries[[#This Row],[Currency]],Sheet1!$N$4:$Q$186,4,FALSE))","v":74461},{"$f":"IF(Dashboard!$J$5=VLOOKUP(tblSalaries[[#This Row],[Currency]],Sheet3!$A$2:$B$31,2,FALSE),tblSalaries[[#This Row],[clean Salary (in local currency)]],(tblSalaries[[#This Row],[PPP Adjusted  USD]]/VLOOKUP(Dashboard!$J$5,Sheet3!$B$2:$C$31,2,FALSE)))","v":74461},"Scientist III","Misc.","USA","1 or 2 hours a day",9]
[null,"ID1511",74300,"USD",74300,{"$f":"(tblSalaries[[#This Row],[clean Salary (in local currency)]])*(VLOOKUP(tblSalaries[[#This Row],[Currency]],Sheet3!$A$2:$C$31,3,FALSE))*(VLOOKUP(tblSalaries[[#This Row],[Currency]],Sheet1!$N$4:$Q$186,4,FALSE))","v":74300},{"$f":"IF(Dashboard!$J$5=VLOOKUP(tblSalaries[[#This Row],[Currency]],Sheet3!$A$2:$B$31,2,FALSE),tblSalaries[[#This Row],[clean Salary (in local currency)]],(tblSalaries[[#This Row],[PPP Adjusted  USD]]/VLOOKUP(Dashboard!$J$5,Sheet3!$B$2:$C$31,2,FALSE)))","v":74300},"Senior Business Research Analyst","Analyst","USA","4 to 6 hours a day",3]
[null,"ID0100",74000,"USD",74000,{"$f":"(tblSalaries[[#This Row],[clean Salary (in local currency)]])*(VLOOKUP(tblSalaries[[#This Row],[Currency]],Sheet3!$A$2:$C$31,3,FALSE))*(VLOOKUP(tblSalaries[[#This Row],[Currency]],Sheet1!$N$4:$Q$186,4,FALSE))","v":74000},{"$f":"IF(Dashboard!$J$5=VLOOKUP(tblSalaries[[#This Row],[Currency]],Sheet3!$A$2:$B$31,2,FALSE),tblSalaries[[#This Row],[clean Salary (in local currency)]],(tblSalaries[[#This Row],[PPP Adjusted  USD]]/VLOOKUP(Dashboard!$J$5,Sheet3!$B$2:$C$31,2,FALSE)))","v":74000},"Senior Consultant","Consultant","USA","4 to 6 hours a day","Data Not Avaliable"]
[null,"ID0449",74000,"USD",74000,{"$f":"(tblSalaries[[#This Row],[clean Salary (in local currency)]])*(VLOOKUP(tblSalaries[[#This Row],[Currency]],Sheet3!$A$2:$C$31,3,FALSE))*(VLOOKUP(tblSalaries[[#This Row],[Currency]],Sheet1!$N$4:$Q$186,4,FALSE))","v":74000},{"$f":"IF(Dashboard!$J$5=VLOOKUP(tblSalaries[[#This Row],[Currency]],Sheet3!$A$2:$B$31,2,FALSE),tblSalaries[[#This Row],[clean Salary (in local currency)]],(tblSalaries[[#This Row],[PPP Adjusted  USD]]/VLOOKUP(Dashboard!$J$5,Sheet3!$B$2:$C$31,2,FALSE)))","v":74000},"Engineer","Engineer","USA","4 to 6 hours a day","Data Not Avaliable"]
[null,"ID1218",74000,"USD",74000,{"$f":"(tblSalaries[[#This Row],[clean Salary (in local currency)]])*(VLOOKUP(tblSalaries[[#This Row],[Currency]],Sheet3!$A$2:$C$31,3,FALSE))*(VLOOKUP(tblSalaries[[#This Row],[Currency]],Sheet1!$N$4:$Q$186,4,FALSE))","v":74000},{"$f":"IF(Dashboard!$J$5=VLOOKUP(tblSalaries[[#This Row],[Currency]],Sheet3!$A$2:$B$31,2,FALSE),tblSalaries[[#This Row],[clean Salary (in local currency)]],(tblSalaries[[#This Row],[PPP Adjusted  USD]]/VLOOKUP(Dashboard!$J$5,Sheet3!$B$2:$C$31,2,FALSE)))","v":74000},"marketing specialist","Specialist","USA","4 to 6 hours a day",10]
[null,"ID0932",50000,"GBP",78808.913603364199,{"$f":"(tblSalaries[[#This Row],[clean Salary (in local currency)]])*(VLOOKUP(tblSalaries[[#This Row],[Currency]],Sheet3!$A$2:$C$31,3,FALSE))*(VLOOKUP(tblSalaries[[#This Row],[Currency]],Sheet1!$N$4:$Q$186,4,FALSE))","v":73698.560249021364},{"$f":"IF(Dashboard!$J$5=VLOOKUP(tblSalaries[[#This Row],[Currency]],Sheet3!$A$2:$B$31,2,FALSE),tblSalaries[[#This Row],[clean Salary (in local currency)]],(tblSalaries[[#This Row],[PPP Adjusted  USD]]/VLOOKUP(Dashboard!$J$5,Sheet3!$B$2:$C$31,2,FALSE)))","v":73698.560249021364},"Finance Analyst","Analyst","UK","All the 8 hours baby, all the 8!",10]
[null,"ID1076",50000,"GBP",78808.913603364199,{"$f":"(tblSalaries[[#This Row],[clean Salary (in local currency)]])*(VLOOKUP(tblSalaries[[#This Row],[Currency]],Sheet3!$A$2:$C$31,3,FALSE))*(VLOOKUP(tblSalaries[[#This Row],[Currency]],Sheet1!$N$4:$Q$186,4,FALSE))","v":73698.560249021364},{"$f":"IF(Dashboard!$J$5=VLOOKUP(tblSalaries[[#This Row],[Currency]],Sheet3!$A$2:$B$31,2,FALSE),tblSalaries[[#This Row],[clean Salary (in local currency)]],(tblSalaries[[#This Row],[PPP Adjusted  USD]]/VLOOKUP(Dashboard!$J$5,Sheet3!$B$2:$C$31,2,FALSE)))","v":73698.560249021364},"Production manager","Manager","UK","2 to 3 hours per day",12]
[null,"ID1695",50000,"GBP",78808.913603364199,{"$f":"(tblSalaries[[#This Row],[clean Salary (in local currency)]])*(VLOOKUP(tblSalaries[[#This Row],[Currency]],Sheet3!$A$2:$C$31,3,FALSE))*(VLOOKUP(tblSalaries[[#This Row],[Currency]],Sheet1!$N$4:$Q$186,4,FALSE))","v":73698.560249021364},{"$f":"IF(Dashboard!$J$5=VLOOKUP(tblSalaries[[#This Row],[Currency]],Sheet3!$A$2:$B$31,2,FALSE),tblSalaries[[#This Row],[clean Salary (in local currency)]],(tblSalaries[[#This Row],[PPP Adjusted  USD]]/VLOOKUP(Dashboard!$J$5,Sheet3!$B$2:$C$31,2,FALSE)))","v":73698.560249021364},"Commercial Director","CXO or Top Mgmt.","UK","4 to 6 hours a day",10]
[null,"ID1733",50000,"GBP",78808.913603364199,{"$f":"(tblSalaries[[#This Row],[clean Salary (in local currency)]])*(VLOOKUP(tblSalaries[[#This Row],[Currency]],Sheet3!$A$2:$C$31,3,FALSE))*(VLOOKUP(tblSalaries[[#This Row],[Currency]],Sheet1!$N$4:$Q$186,4,FALSE))","v":73698.560249021364},{"$f":"IF(Dashboard!$J$5=VLOOKUP(tblSalaries[[#This Row],[Currency]],Sheet3!$A$2:$B$31,2,FALSE),tblSalaries[[#This Row],[clean Salary (in local currency)]],(tblSalaries[[#This Row],[PPP Adjusted  USD]]/VLOOKUP(Dashboard!$J$5,Sheet3!$B$2:$C$31,2,FALSE)))","v":73698.560249021364},"Research Analyst","Analyst","UK","2 to 3 hours per day",2]
[null,"ID1838",50000,"GBP",78808.913603364199,{"$f":"(tblSalaries[[#This Row],[clean Salary (in local currency)]])*(VLOOKUP(tblSalaries[[#This Row],[Currency]],Sheet3!$A$2:$C$31,3,FALSE))*(VLOOKUP(tblSalaries[[#This Row],[Currency]],Sheet1!$N$4:$Q$186,4,FALSE))","v":73698.560249021364},{"$f":"IF(Dashboard!$J$5=VLOOKUP(tblSalaries[[#This Row],[Currency]],Sheet3!$A$2:$B$31,2,FALSE),tblSalaries[[#This Row],[clean Salary (in local currency)]],(tblSalaries[[#This Row],[PPP Adjusted  USD]]/VLOOKUP(Dashboard!$J$5,Sheet3!$B$2:$C$31,2,FALSE)))","v":73698.560249021364},"Assistant Financial Accountant","Accountant","UK","2 to 3 hours per day",10]
[null,"ID1395",73500,"USD",73500,{"$f":"(tblSalaries[[#This Row],[clean Salary (in local currency)]])*(VLOOKUP(tblSalaries[[#This Row],[Currency]],Sheet3!$A$2:$C$31,3,FALSE))*(VLOOKUP(tblSalaries[[#This Row],[Currency]],Sheet1!$N$4:$Q$186,4,FALSE))","v":73500},{"$f":"IF(Dashboard!$J$5=VLOOKUP(tblSalaries[[#This Row],[Currency]],Sheet3!$A$2:$B$31,2,FALSE),tblSalaries[[#This Row],[clean Salary (in local currency)]],(tblSalaries[[#This Row],[PPP Adjusted  USD]]/VLOOKUP(Dashboard!$J$5,Sheet3!$B$2:$C$31,2,FALSE)))","v":73500},"Senior Underwriting Analyst","Analyst","USA","All the 8 hours baby, all the 8!",6]
[null,"ID0241",73000,"USD",73000,{"$f":"(tblSalaries[[#This Row],[clean Salary (in local currency)]])*(VLOOKUP(tblSalaries[[#This Row],[Currency]],Sheet3!$A$2:$C$31,3,FALSE))*(VLOOKUP(tblSalaries[[#This Row],[Currency]],Sheet1!$N$4:$Q$186,4,FALSE))","v":73000},{"$f":"IF(Dashboard!$J$5=VLOOKUP(tblSalaries[[#This Row],[Currency]],Sheet3!$A$2:$B$31,2,FALSE),tblSalaries[[#This Row],[clean Salary (in local currency)]],(tblSalaries[[#This Row],[PPP Adjusted  USD]]/VLOOKUP(Dashboard!$J$5,Sheet3!$B$2:$C$31,2,FALSE)))","v":73000},"Financial Analyst","Analyst","USA","4 to 6 hours a day","Data Not Avaliable"]
[null,"ID0263",73000,"USD",73000,{"$f":"(tblSalaries[[#This Row],[clean Salary (in local currency)]])*(VLOOKUP(tblSalaries[[#This Row],[Currency]],Sheet3!$A$2:$C$31,3,FALSE))*(VLOOKUP(tblSalaries[[#This Row],[Currency]],Sheet1!$N$4:$Q$186,4,FALSE))","v":73000},{"$f":"IF(Dashboard!$J$5=VLOOKUP(tblSalaries[[#This Row],[Currency]],Sheet3!$A$2:$B$31,2,FALSE),tblSalaries[[#This Row],[clean Salary (in local currency)]],(tblSalaries[[#This Row],[PPP Adjusted  USD]]/VLOOKUP(Dashboard!$J$5,Sheet3!$B$2:$C$31,2,FALSE)))","v":73000},"Sr. Global marketing Specialist","Specialist","USA","4 to 6 hours a day","Data Not Avaliable"]
[null,"ID1707",73000,"USD",73000,{"$f":"(tblSalaries[[#This Row],[clean Salary (in local currency)]])*(VLOOKUP(tblSalaries[[#This Row],[Currency]],Sheet3!$A$2:$C$31,3,FALSE))*(VLOOKUP(tblSalaries[[#This Row],[Currency]],Sheet1!$N$4:$Q$186,4,FALSE))","v":73000},{"$f":"IF(Dashboard!$J$5=VLOOKUP(tblSalaries[[#This Row],[Currency]],Sheet3!$A$2:$B$31,2,FALSE),tblSalaries[[#This Row],[clean Salary (in local currency)]],(tblSalaries[[#This Row],[PPP Adjusted  USD]]/VLOOKUP(Dashboard!$J$5,Sheet3!$B$2:$C$31,2,FALSE)))","v":73000},"process coordinator","Manager","USA","2 to 3 hours per day",6]
[null,"ID0187",92000,"CAD",90469.260118790073,{"$f":"(tblSalaries[[#This Row],[clean Salary (in local currency)]])*(VLOOKUP(tblSalaries[[#This Row],[Currency]],Sheet3!$A$2:$C$31,3,FALSE))*(VLOOKUP(tblSalaries[[#This Row],[Currency]],Sheet1!$N$4:$Q$186,4,FALSE))","v":72721.050694615711},{"$f":"IF(Dashboard!$J$5=VLOOKUP(tblSalaries[[#This Row],[Currency]],Sheet3!$A$2:$B$31,2,FALSE),tblSalaries[[#This Row],[clean Salary (in local currency)]],(tblSalaries[[#This Row],[PPP Adjusted  USD]]/VLOOKUP(Dashboard!$J$5,Sheet3!$B$2:$C$31,2,FALSE)))","v":72721.050694615711},"Consultant - Retail Mkts","Consultant","Canada","All the 8 hours baby, all the 8!","Data Not Avaliable"]
[null,"ID0743",66000,"EUR",83846.362973446114,{"$f":"(tblSalaries[[#This Row],[clean Salary (in local currency)]])*(VLOOKUP(tblSalaries[[#This Row],[Currency]],Sheet3!$A$2:$C$31,3,FALSE))*(VLOOKUP(tblSalaries[[#This Row],[Currency]],Sheet1!$N$4:$Q$186,4,FALSE))","v":72643.090474683442},{"$f":"IF(Dashboard!$J$5=VLOOKUP(tblSalaries[[#This Row],[Currency]],Sheet3!$A$2:$B$31,2,FALSE),tblSalaries[[#This Row],[clean Salary (in local currency)]],(tblSalaries[[#This Row],[PPP Adjusted  USD]]/VLOOKUP(Dashboard!$J$5,Sheet3!$B$2:$C$31,2,FALSE)))","v":72643.090474683442},"Logistics Analyst","Analyst","Germany","4 to 6 hours a day",7]
[null,"ID0523",72600,"USD",72600,{"$f":"(tblSalaries[[#This Row],[clean Salary (in local currency)]])*(VLOOKUP(tblSalaries[[#This Row],[Currency]],Sheet3!$A$2:$C$31,3,FALSE))*(VLOOKUP(tblSalaries[[#This Row],[Currency]],Sheet1!$N$4:$Q$186,4,FALSE))","v":72600},{"$f":"IF(Dashboard!$J$5=VLOOKUP(tblSalaries[[#This Row],[Currency]],Sheet3!$A$2:$B$31,2,FALSE),tblSalaries[[#This Row],[clean Salary (in local currency)]],(tblSalaries[[#This Row],[PPP Adjusted  USD]]/VLOOKUP(Dashboard!$J$5,Sheet3!$B$2:$C$31,2,FALSE)))","v":72600},"Accounting Operations Manager","Manager","USA","2 to 3 hours per day","Data Not Avaliable"]
[null,"ID0223",72500,"USD",72500,{"$f":"(tblSalaries[[#This Row],[clean Salary (in local currency)]])*(VLOOKUP(tblSalaries[[#This Row],[Currency]],Sheet3!$A$2:$C$31,3,FALSE))*(VLOOKUP(tblSalaries[[#This Row],[Currency]],Sheet1!$N$4:$Q$186,4,FALSE))","v":72500},{"$f":"IF(Dashboard!$J$5=VLOOKUP(tblSalaries[[#This Row],[Currency]],Sheet3!$A$2:$B$31,2,FALSE),tblSalaries[[#This Row],[clean Salary (in local currency)]],(tblSalaries[[#This Row],[PPP Adjusted  USD]]/VLOOKUP(Dashboard!$J$5,Sheet3!$B$2:$C$31,2,FALSE)))","v":72500},"Assistant Controller","Controller","USA","4 to 6 hours a day","Data Not Avaliable"]
[null,"ID0356",72500,"USD",72500,{"$f":"(tblSalaries[[#This Row],[clean Salary (in local currency)]])*(VLOOKUP(tblSalaries[[#This Row],[Currency]],Sheet3!$A$2:$C$31,3,FALSE))*(VLOOKUP(tblSalaries[[#This Row],[Currency]],Sheet1!$N$4:$Q$186,4,FALSE))","v":72500},{"$f":"IF(Dashboard!$J$5=VLOOKUP(tblSalaries[[#This Row],[Currency]],Sheet3!$A$2:$B$31,2,FALSE),tblSalaries[[#This Row],[clean Salary (in local currency)]],(tblSalaries[[#This Row],[PPP Adjusted  USD]]/VLOOKUP(Dashboard!$J$5,Sheet3!$B$2:$C$31,2,FALSE)))","v":72500},"Transportation Engineer","Engineer","USA","2 to 3 hours per day","Data Not Avaliable"]
[null,"ID0421",72000,"USD",72000,{"$f":"(tblSalaries[[#This Row],[clean Salary (in local currency)]])*(VLOOKUP(tblSalaries[[#This Row],[Currency]],Sheet3!$A$2:$C$31,3,FALSE))*(VLOOKUP(tblSalaries[[#This Row],[Currency]],Sheet1!$N$4:$Q$186,4,FALSE))","v":72000},{"$f":"IF(Dashboard!$J$5=VLOOKUP(tblSalaries[[#This Row],[Currency]],Sheet3!$A$2:$B$31,2,FALSE),tblSalaries[[#This Row],[clean Salary (in local currency)]],(tblSalaries[[#This Row],[PPP Adjusted  USD]]/VLOOKUP(Dashboard!$J$5,Sheet3!$B$2:$C$31,2,FALSE)))","v":72000},"IS Director","CXO or Top Mgmt.","USA","4 to 6 hours a day","Data Not Avaliable"]
[null,"ID0438",72000,"USD",72000,{"$f":"(tblSalaries[[#This Row],[clean Salary (in local currency)]])*(VLOOKUP(tblSalaries[[#This Row],[Currency]],Sheet3!$A$2:$C$31,3,FALSE))*(VLOOKUP(tblSalaries[[#This Row],[Currency]],Sheet1!$N$4:$Q$186,4,FALSE))","v":72000},{"$f":"IF(Dashboard!$J$5=VLOOKUP(tblSalaries[[#This Row],[Currency]],Sheet3!$A$2:$B$31,2,FALSE),tblSalaries[[#This Row],[clean Salary (in local currency)]],(tblSalaries[[#This Row],[PPP Adjusted  USD]]/VLOOKUP(Dashboard!$J$5,Sheet3!$B$2:$C$31,2,FALSE)))","v":72000},"Sr. Information Systems Analyst","Analyst","USA","2 to 3 hours per day","Data Not Avaliable"]
[null,"ID0533",72000,"USD",72000,{"$f":"(tblSalaries[[#This Row],[clean Salary (in local currency)]])*(VLOOKUP(tblSalaries[[#This Row],[Currency]],Sheet3!$A$2:$C$31,3,FALSE))*(VLOOKUP(tblSalaries[[#This Row],[Currency]],Sheet1!$N$4:$Q$186,4,FALSE))","v":72000},{"$f":"IF(Dashboard!$J$5=VLOOKUP(tblSalaries[[#This Row],[Currency]],Sheet3!$A$2:$B$31,2,FALSE),tblSalaries[[#This Row],[clean Salary (in local currency)]],(tblSalaries[[#This Row],[PPP Adjusted  USD]]/VLOOKUP(Dashboard!$J$5,Sheet3!$B$2:$C$31,2,FALSE)))","v":72000},"Analytical Department Director ","Analyst","Russia","2 to 3 hours per day","Data Not Avaliable"]
[null,"ID1249",72000,"USD",72000,{"$f":"(tblSalaries[[#This Row],[clean Salary (in local currency)]])*(VLOOKUP(tblSalaries[[#This Row],[Currency]],Sheet3!$A$2:$C$31,3,FALSE))*(VLOOKUP(tblSalaries[[#This Row],[Currency]],Sheet1!$N$4:$Q$186,4,FALSE))","v":72000},{"$f":"IF(Dashboard!$J$5=VLOOKUP(tblSalaries[[#This Row],[Currency]],Sheet3!$A$2:$B$31,2,FALSE),tblSalaries[[#This Row],[clean Salary (in local currency)]],(tblSalaries[[#This Row],[PPP Adjusted  USD]]/VLOOKUP(Dashboard!$J$5,Sheet3!$B$2:$C$31,2,FALSE)))","v":72000},"Markets Adviser","Consultant","New Zealand","2 to 3 hours per day",10]
[null,"ID1424",72000,"USD",72000,{"$f":"(tblSalaries[[#This Row],[clean Salary (in local currency)]])*(VLOOKUP(tblSalaries[[#This Row],[Currency]],Sheet3!$A$2:$C$31,3,FALSE))*(VLOOKUP(tblSalaries[[#This Row],[Currency]],Sheet1!$N$4:$Q$186,4,FALSE))","v":72000},{"$f":"IF(Dashboard!$J$5=VLOOKUP(tblSalaries[[#This Row],[Currency]],Sheet3!$A$2:$B$31,2,FALSE),tblSalaries[[#This Row],[clean Salary (in local currency)]],(tblSalaries[[#This Row],[PPP Adjusted  USD]]/VLOOKUP(Dashboard!$J$5,Sheet3!$B$2:$C$31,2,FALSE)))","v":72000},"Manager","Manager","USA","1 or 2 hours a day",20]
[null,"ID1432",72000,"USD",72000,{"$f":"(tblSalaries[[#This Row],[clean Salary (in local currency)]])*(VLOOKUP(tblSalaries[[#This Row],[Currency]],Sheet3!$A$2:$C$31,3,FALSE))*(VLOOKUP(tblSalaries[[#This Row],[Currency]],Sheet1!$N$4:$Q$186,4,FALSE))","v":72000},{"$f":"IF(Dashboard!$J$5=VLOOKUP(tblSalaries[[#This Row],[Currency]],Sheet3!$A$2:$B$31,2,FALSE),tblSalaries[[#This Row],[clean Salary (in local currency)]],(tblSalaries[[#This Row],[PPP Adjusted  USD]]/VLOOKUP(Dashboard!$J$5,Sheet3!$B$2:$C$31,2,FALSE)))","v":72000},"sr. senior analyst","Analyst","USA","All the 8 hours baby, all the 8!",10]
[null,"ID1769",72000,"USD",72000,{"$f":"(tblSalaries[[#This Row],[clean Salary (in local currency)]])*(VLOOKUP(tblSalaries[[#This Row],[Currency]],Sheet3!$A$2:$C$31,3,FALSE))*(VLOOKUP(tblSalaries[[#This Row],[Currency]],Sheet1!$N$4:$Q$186,4,FALSE))","v":72000},{"$f":"IF(Dashboard!$J$5=VLOOKUP(tblSalaries[[#This Row],[Currency]],Sheet3!$A$2:$B$31,2,FALSE),tblSalaries[[#This Row],[clean Salary (in local currency)]],(tblSalaries[[#This Row],[PPP Adjusted  USD]]/VLOOKUP(Dashboard!$J$5,Sheet3!$B$2:$C$31,2,FALSE)))","v":72000},"Consultant","Consultant","USA","2 to 3 hours per day",13]
[null,"ID1869",72000,"USD",72000,{"$f":"(tblSalaries[[#This Row],[clean Salary (in local currency)]])*(VLOOKUP(tblSalaries[[#This Row],[Currency]],Sheet3!$A$2:$C$31,3,FALSE))*(VLOOKUP(tblSalaries[[#This Row],[Currency]],Sheet1!$N$4:$Q$186,4,FALSE))","v":72000},{"$f":"IF(Dashboard!$J$5=VLOOKUP(tblSalaries[[#This Row],[Currency]],Sheet3!$A$2:$B$31,2,FALSE),tblSalaries[[#This Row],[clean Salary (in local currency)]],(tblSalaries[[#This Row],[PPP Adjusted  USD]]/VLOOKUP(Dashboard!$J$5,Sheet3!$B$2:$C$31,2,FALSE)))","v":72000},"HR Supervisor","Manager","USA","4 to 6 hours a day",10]
[null,"ID0305",65000,"EUR",82575.963534454509,{"$f":"(tblSalaries[[#This Row],[clean Salary (in local currency)]])*(VLOOKUP(tblSalaries[[#This Row],[Currency]],Sheet3!$A$2:$C$31,3,FALSE))*(VLOOKUP(tblSalaries[[#This Row],[Currency]],Sheet1!$N$4:$Q$186,4,FALSE))","v":71542.437588703397},{"$f":"IF(Dashboard!$J$5=VLOOKUP(tblSalaries[[#This Row],[Currency]],Sheet3!$A$2:$B$31,2,FALSE),tblSalaries[[#This Row],[clean Salary (in local currency)]],(tblSalaries[[#This Row],[PPP Adjusted  USD]]/VLOOKUP(Dashboard!$J$5,Sheet3!$B$2:$C$31,2,FALSE)))","v":71542.437588703397},"controller","Controller","Germany","All the 8 hours baby, all the 8!","Data Not Avaliable"]
[null,"ID1561",71500,"USD",71500,{"$f":"(tblSalaries[[#This Row],[clean Salary (in local currency)]])*(VLOOKUP(tblSalaries[[#This Row],[Currency]],Sheet3!$A$2:$C$31,3,FALSE))*(VLOOKUP(tblSalaries[[#This Row],[Currency]],Sheet1!$N$4:$Q$186,4,FALSE))","v":71500},{"$f":"IF(Dashboard!$J$5=VLOOKUP(tblSalaries[[#This Row],[Currency]],Sheet3!$A$2:$B$31,2,FALSE),tblSalaries[[#This Row],[clean Salary (in local currency)]],(tblSalaries[[#This Row],[PPP Adjusted  USD]]/VLOOKUP(Dashboard!$J$5,Sheet3!$B$2:$C$31,2,FALSE)))","v":71500},"Management Reporting Analyst","Analyst","USA","4 to 6 hours a day",5]
[null,"ID1765",71500,"USD",71500,{"$f":"(tblSalaries[[#This Row],[clean Salary (in local currency)]])*(VLOOKUP(tblSalaries[[#This Row],[Currency]],Sheet3!$A$2:$C$31,3,FALSE))*(VLOOKUP(tblSalaries[[#This Row],[Currency]],Sheet1!$N$4:$Q$186,4,FALSE))","v":71500},{"$f":"IF(Dashboard!$J$5=VLOOKUP(tblSalaries[[#This Row],[Currency]],Sheet3!$A$2:$B$31,2,FALSE),tblSalaries[[#This Row],[clean Salary (in local currency)]],(tblSalaries[[#This Row],[PPP Adjusted  USD]]/VLOOKUP(Dashboard!$J$5,Sheet3!$B$2:$C$31,2,FALSE)))","v":71500},"Pricing Manager","Manager","USA","All the 8 hours baby, all the 8!",11]
[null,"ID1544",48360,"GBP",76223.981237173866,{"$f":"(tblSalaries[[#This Row],[clean Salary (in local currency)]])*(VLOOKUP(tblSalaries[[#This Row],[Currency]],Sheet3!$A$2:$C$31,3,FALSE))*(VLOOKUP(tblSalaries[[#This Row],[Currency]],Sheet1!$N$4:$Q$186,4,FALSE))","v":71281.247472853473},{"$f":"IF(Dashboard!$J$5=VLOOKUP(tblSalaries[[#This Row],[Currency]],Sheet3!$A$2:$B$31,2,FALSE),tblSalaries[[#This Row],[clean Salary (in local currency)]],(tblSalaries[[#This Row],[PPP Adjusted  USD]]/VLOOKUP(Dashboard!$J$5,Sheet3!$B$2:$C$31,2,FALSE)))","v":71281.247472853473},"pricing manager","Manager","UK","All the 8 hours baby, all the 8!",8]
[null,"ID0171",90000,"CAD",88502.537072729421,{"$f":"(tblSalaries[[#This Row],[clean Salary (in local currency)]])*(VLOOKUP(tblSalaries[[#This Row],[Currency]],Sheet3!$A$2:$C$31,3,FALSE))*(VLOOKUP(tblSalaries[[#This Row],[Currency]],Sheet1!$N$4:$Q$186,4,FALSE))","v":71140.158288211023},{"$f":"IF(Dashboard!$J$5=VLOOKUP(tblSalaries[[#This Row],[Currency]],Sheet3!$A$2:$B$31,2,FALSE),tblSalaries[[#This Row],[clean Salary (in local currency)]],(tblSalaries[[#This Row],[PPP Adjusted  USD]]/VLOOKUP(Dashboard!$J$5,Sheet3!$B$2:$C$31,2,FALSE)))","v":71140.158288211023},"Senior Actuarial Analyst","Analyst","Canada","4 to 6 hours a day","Data Not Avaliable"]
[null,"ID0286",1500000,"INR",26711.875031163851,{"$f":"(tblSalaries[[#This Row],[clean Salary (in local currency)]])*(VLOOKUP(tblSalaries[[#This Row],[Currency]],Sheet3!$A$2:$C$31,3,FALSE))*(VLOOKUP(tblSalaries[[#This Row],[Currency]],Sheet1!$N$4:$Q$186,4,FALSE))","v":71041.533523047678},{"$f":"IF(Dashboard!$J$5=VLOOKUP(tblSalaries[[#This Row],[Currency]],Sheet3!$A$2:$B$31,2,FALSE),tblSalaries[[#This Row],[clean Salary (in local currency)]],(tblSalaries[[#This Row],[PPP Adjusted  USD]]/VLOOKUP(Dashboard!$J$5,Sheet3!$B$2:$C$31,2,FALSE)))","v":71041.533523047678},"Consultant","Consultant","India","All the 8 hours baby, all the 8!","Data Not Avaliable"]
[null,"ID1304",1500000,"INR",26711.875031163851,{"$f":"(tblSalaries[[#This Row],[clean Salary (in local currency)]])*(VLOOKUP(tblSalaries[[#This Row],[Currency]],Sheet3!$A$2:$C$31,3,FALSE))*(VLOOKUP(tblSalaries[[#This Row],[Currency]],Sheet1!$N$4:$Q$186,4,FALSE))","v":71041.533523047678},{"$f":"IF(Dashboard!$J$5=VLOOKUP(tblSalaries[[#This Row],[Currency]],Sheet3!$A$2:$B$31,2,FALSE),tblSalaries[[#This Row],[clean Salary (in local currency)]],(tblSalaries[[#This Row],[PPP Adjusted  USD]]/VLOOKUP(Dashboard!$J$5,Sheet3!$B$2:$C$31,2,FALSE)))","v":71041.533523047678},"Analyst","Analyst","India","4 to 6 hours a day",7]
[null,"ID1512",1500000,"INR",26711.875031163851,{"$f":"(tblSalaries[[#This Row],[clean Salary (in local currency)]])*(VLOOKUP(tblSalaries[[#This Row],[Currency]],Sheet3!$A$2:$C$31,3,FALSE))*(VLOOKUP(tblSalaries[[#This Row],[Currency]],Sheet1!$N$4:$Q$186,4,FALSE))","v":71041.533523047678},{"$f":"IF(Dashboard!$J$5=VLOOKUP(tblSalaries[[#This Row],[Currency]],Sheet3!$A$2:$B$31,2,FALSE),tblSalaries[[#This Row],[clean Salary (in local currency)]],(tblSalaries[[#This Row],[PPP Adjusted  USD]]/VLOOKUP(Dashboard!$J$5,Sheet3!$B$2:$C$31,2,FALSE)))","v":71041.533523047678},"Senior Consultant - PMO","Consultant","India","4 to 6 hours a day",10]
[null,"ID0135",71000,"USD",71000,{"$f":"(tblSalaries[[#This Row],[clean Salary (in local currency)]])*(VLOOKUP(tblSalaries[[#This Row],[Currency]],Sheet3!$A$2:$C$31,3,FALSE))*(VLOOKUP(tblSalaries[[#This Row],[Currency]],Sheet1!$N$4:$Q$186,4,FALSE))","v":71000},{"$f":"IF(Dashboard!$J$5=VLOOKUP(tblSalaries[[#This Row],[Currency]],Sheet3!$A$2:$B$31,2,FALSE),tblSalaries[[#This Row],[clean Salary (in local currency)]],(tblSalaries[[#This Row],[PPP Adjusted  USD]]/VLOOKUP(Dashboard!$J$5,Sheet3!$B$2:$C$31,2,FALSE)))","v":71000},"Market Research Analyst","Analyst","USA","4 to 6 hours a day","Data Not Avaliable"]
[null,"ID1554",70970,"USD",70970,{"$f":"(tblSalaries[[#This Row],[clean Salary (in local currency)]])*(VLOOKUP(tblSalaries[[#This Row],[Currency]],Sheet3!$A$2:$C$31,3,FALSE))*(VLOOKUP(tblSalaries[[#This Row],[Currency]],Sheet1!$N$4:$Q$186,4,FALSE))","v":70970},{"$f":"IF(Dashboard!$J$5=VLOOKUP(tblSalaries[[#This Row],[Currency]],Sheet3!$A$2:$B$31,2,FALSE),tblSalaries[[#This Row],[clean Salary (in local currency)]],(tblSalaries[[#This Row],[PPP Adjusted  USD]]/VLOOKUP(Dashboard!$J$5,Sheet3!$B$2:$C$31,2,FALSE)))","v":70970},"Sr. Risk Analyst","Analyst","USA","4 to 6 hours a day",17]
[null,"ID1098",48000,"GBP",75656.557059229643,{"$f":"(tblSalaries[[#This Row],[clean Salary (in local currency)]])*(VLOOKUP(tblSalaries[[#This Row],[Currency]],Sheet3!$A$2:$C$31,3,FALSE))*(VLOOKUP(tblSalaries[[#This Row],[Currency]],Sheet1!$N$4:$Q$186,4,FALSE))","v":70750.61783906052},{"$f":"IF(Dashboard!$J$5=VLOOKUP(tblSalaries[[#This Row],[Currency]],Sheet3!$A$2:$B$31,2,FALSE),tblSalaries[[#This Row],[clean Salary (in local currency)]],(tblSalaries[[#This Row],[PPP Adjusted  USD]]/VLOOKUP(Dashboard!$J$5,Sheet3!$B$2:$C$31,2,FALSE)))","v":70750.61783906052},"Business Operations Co-ordinator","Manager","UK","2 to 3 hours per day",10]
[null,"ID0122",70000,"USD",70000,{"$f":"(tblSalaries[[#This Row],[clean Salary (in local currency)]])*(VLOOKUP(tblSalaries[[#This Row],[Currency]],Sheet3!$A$2:$C$31,3,FALSE))*(VLOOKUP(tblSalaries[[#This Row],[Currency]],Sheet1!$N$4:$Q$186,4,FALSE))","v":70000},{"$f":"IF(Dashboard!$J$5=VLOOKUP(tblSalaries[[#This Row],[Currency]],Sheet3!$A$2:$B$31,2,FALSE),tblSalaries[[#This Row],[clean Salary (in local currency)]],(tblSalaries[[#This Row],[PPP Adjusted  USD]]/VLOOKUP(Dashboard!$J$5,Sheet3!$B$2:$C$31,2,FALSE)))","v":70000},"Sr. Acct","Accountant","USA","All the 8 hours baby, all the 8!","Data Not Avaliable"]
[null,"ID0183",70000,"USD",70000,{"$f":"(tblSalaries[[#This Row],[clean Salary (in local currency)]])*(VLOOKUP(tblSalaries[[#This Row],[Currency]],Sheet3!$A$2:$C$31,3,FALSE))*(VLOOKUP(tblSalaries[[#This Row],[Currency]],Sheet1!$N$4:$Q$186,4,FALSE))","v":70000},{"$f":"IF(Dashboard!$J$5=VLOOKUP(tblSalaries[[#This Row],[Currency]],Sheet3!$A$2:$B$31,2,FALSE),tblSalaries[[#This Row],[clean Salary (in local currency)]],(tblSalaries[[#This Row],[PPP Adjusted  USD]]/VLOOKUP(Dashboard!$J$5,Sheet3!$B$2:$C$31,2,FALSE)))","v":70000},"Project Speciast","Manager","USA","4 to 6 hours a day","Data Not Avaliable"]
[null,"ID0196",70000,"USD",70000,{"$f":"(tblSalaries[[#This Row],[clean Salary (in local currency)]])*(VLOOKUP(tblSalaries[[#This Row],[Currency]],Sheet3!$A$2:$C$31,3,FALSE))*(VLOOKUP(tblSalaries[[#This Row],[Currency]],Sheet1!$N$4:$Q$186,4,FALSE))","v":70000},{"$f":"IF(Dashboard!$J$5=VLOOKUP(tblSalaries[[#This Row],[Currency]],Sheet3!$A$2:$B$31,2,FALSE),tblSalaries[[#This Row],[clean Salary (in local currency)]],(tblSalaries[[#This Row],[PPP Adjusted  USD]]/VLOOKUP(Dashboard!$J$5,Sheet3!$B$2:$C$31,2,FALSE)))","v":70000},"Sr Financial Analyst","Analyst","USA","4 to 6 hours a day","Data Not Avaliable"]
[null,"ID0245",70000,"USD",70000,{"$f":"(tblSalaries[[#This Row],[clean Salary (in local currency)]])*(VLOOKUP(tblSalaries[[#This Row],[Currency]],Sheet3!$A$2:$C$31,3,FALSE))*(VLOOKUP(tblSalaries[[#This Row],[Currency]],Sheet1!$N$4:$Q$186,4,FALSE))","v":70000},{"$f":"IF(Dashboard!$J$5=VLOOKUP(tblSalaries[[#This Row],[Currency]],Sheet3!$A$2:$B$31,2,FALSE),tblSalaries[[#This Row],[clean Salary (in local currency)]],(tblSalaries[[#This Row],[PPP Adjusted  USD]]/VLOOKUP(Dashboard!$J$5,Sheet3!$B$2:$C$31,2,FALSE)))","v":70000},"Manager Pricing","Manager","USA","2 to 3 hours per day","Data Not Avaliable"]
[null,"ID0283",70000,"USD",70000,{"$f":"(tblSalaries[[#This Row],[clean Salary (in local currency)]])*(VLOOKUP(tblSalaries[[#This Row],[Currency]],Sheet3!$A$2:$C$31,3,FALSE))*(VLOOKUP(tblSalaries[[#This Row],[Currency]],Sheet1!$N$4:$Q$186,4,FALSE))","v":70000},{"$f":"IF(Dashboard!$J$5=VLOOKUP(tblSalaries[[#This Row],[Currency]],Sheet3!$A$2:$B$31,2,FALSE),tblSalaries[[#This Row],[clean Salary (in local currency)]],(tblSalaries[[#This Row],[PPP Adjusted  USD]]/VLOOKUP(Dashboard!$J$5,Sheet3!$B$2:$C$31,2,FALSE)))","v":70000},"Engineering Tech Sr.","Engineer","USA","All the 8 hours baby, all the 8!","Data Not Avaliable"]
[null,"ID0317",70000,"USD",70000,{"$f":"(tblSalaries[[#This Row],[clean Salary (in local currency)]])*(VLOOKUP(tblSalaries[[#This Row],[Currency]],Sheet3!$A$2:$C$31,3,FALSE))*(VLOOKUP(tblSalaries[[#This Row],[Currency]],Sheet1!$N$4:$Q$186,4,FALSE))","v":70000},{"$f":"IF(Dashboard!$J$5=VLOOKUP(tblSalaries[[#This Row],[Currency]],Sheet3!$A$2:$B$31,2,FALSE),tblSalaries[[#This Row],[clean Salary (in local currency)]],(tblSalaries[[#This Row],[PPP Adjusted  USD]]/VLOOKUP(Dashboard!$J$5,Sheet3!$B$2:$C$31,2,FALSE)))","v":70000},"Analyst","Analyst","USA","2 to 3 hours per day","Data Not Avaliable"]
[null,"ID0396",70000,"USD",70000,{"$f":"(tblSalaries[[#This Row],[clean Salary (in local currency)]])*(VLOOKUP(tblSalaries[[#This Row],[Currency]],Sheet3!$A$2:$C$31,3,FALSE))*(VLOOKUP(tblSalaries[[#This Row],[Currency]],Sheet1!$N$4:$Q$186,4,FALSE))","v":70000},{"$f":"IF(Dashboard!$J$5=VLOOKUP(tblSalaries[[#This Row],[Currency]],Sheet3!$A$2:$B$31,2,FALSE),tblSalaries[[#This Row],[clean Salary (in local currency)]],(tblSalaries[[#This Row],[PPP Adjusted  USD]]/VLOOKUP(Dashboard!$J$5,Sheet3!$B$2:$C$31,2,FALSE)))","v":70000},"Management Ananlyst","Manager","USA","4 to 6 hours a day","Data Not Avaliable"]
[null,"ID0472",70000,"USD",70000,{"$f":"(tblSalaries[[#This Row],[clean Salary (in local currency)]])*(VLOOKUP(tblSalaries[[#This Row],[Currency]],Sheet3!$A$2:$C$31,3,FALSE))*(VLOOKUP(tblSalaries[[#This Row],[Currency]],Sheet1!$N$4:$Q$186,4,FALSE))","v":70000},{"$f":"IF(Dashboard!$J$5=VLOOKUP(tblSalaries[[#This Row],[Currency]],Sheet3!$A$2:$B$31,2,FALSE),tblSalaries[[#This Row],[clean Salary (in local currency)]],(tblSalaries[[#This Row],[PPP Adjusted  USD]]/VLOOKUP(Dashboard!$J$5,Sheet3!$B$2:$C$31,2,FALSE)))","v":70000},"Analyst","Analyst","USA","4 to 6 hours a day","Data Not Avaliable"]
[null,"ID0520",70000,"USD",70000,{"$f":"(tblSalaries[[#This Row],[clean Salary (in local currency)]])*(VLOOKUP(tblSalaries[[#This Row],[Currency]],Sheet3!$A$2:$C$31,3,FALSE))*(VLOOKUP(tblSalaries[[#This Row],[Currency]],Sheet1!$N$4:$Q$186,4,FALSE))","v":70000},{"$f":"IF(Dashboard!$J$5=VLOOKUP(tblSalaries[[#This Row],[Currency]],Sheet3!$A$2:$B$31,2,FALSE),tblSalaries[[#This Row],[clean Salary (in local currency)]],(tblSalaries[[#This Row],[PPP Adjusted  USD]]/VLOOKUP(Dashboard!$J$5,Sheet3!$B$2:$C$31,2,FALSE)))","v":70000},"Metrics Analyst","Analyst","USA","All the 8 hours baby, all the 8!","Data Not Avaliable"]
[null,"ID0587",70000,"USD",70000,{"$f":"(tblSalaries[[#This Row],[clean Salary (in local currency)]])*(VLOOKUP(tblSalaries[[#This Row],[Currency]],Sheet3!$A$2:$C$31,3,FALSE))*(VLOOKUP(tblSalaries[[#This Row],[Currency]],Sheet1!$N$4:$Q$186,4,FALSE))","v":70000},{"$f":"IF(Dashboard!$J$5=VLOOKUP(tblSalaries[[#This Row],[Currency]],Sheet3!$A$2:$B$31,2,FALSE),tblSalaries[[#This Row],[clean Salary (in local currency)]],(tblSalaries[[#This Row],[PPP Adjusted  USD]]/VLOOKUP(Dashboard!$J$5,Sheet3!$B$2:$C$31,2,FALSE)))","v":70000},"Financial Analyst","Analyst","USA","4 to 6 hours a day",3]
[null,"ID0606",70000,"USD",70000,{"$f":"(tblSalaries[[#This Row],[clean Salary (in local currency)]])*(VLOOKUP(tblSalaries[[#This Row],[Currency]],Sheet3!$A$2:$C$31,3,FALSE))*(VLOOKUP(tblSalaries[[#This Row],[Currency]],Sheet1!$N$4:$Q$186,4,FALSE))","v":70000},{"$f":"IF(Dashboard!$J$5=VLOOKUP(tblSalaries[[#This Row],[Currency]],Sheet3!$A$2:$B$31,2,FALSE),tblSalaries[[#This Row],[clean Salary (in local currency)]],(tblSalaries[[#This Row],[PPP Adjusted  USD]]/VLOOKUP(Dashboard!$J$5,Sheet3!$B$2:$C$31,2,FALSE)))","v":70000},"Program/Mgt Analyst","Analyst","USA","2 to 3 hours per day",18]
[null,"ID0874",70000,"USD",70000,{"$f":"(tblSalaries[[#This Row],[clean Salary (in local currency)]])*(VLOOKUP(tblSalaries[[#This Row],[Currency]],Sheet3!$A$2:$C$31,3,FALSE))*(VLOOKUP(tblSalaries[[#This Row],[Currency]],Sheet1!$N$4:$Q$186,4,FALSE))","v":70000},{"$f":"IF(Dashboard!$J$5=VLOOKUP(tblSalaries[[#This Row],[Currency]],Sheet3!$A$2:$B$31,2,FALSE),tblSalaries[[#This Row],[clean Salary (in local currency)]],(tblSalaries[[#This Row],[PPP Adjusted  USD]]/VLOOKUP(Dashboard!$J$5,Sheet3!$B$2:$C$31,2,FALSE)))","v":70000},"Financial Analyst","Analyst","USA","All the 8 hours baby, all the 8!",15]
[null,"ID0945",70000,"USD",70000,{"$f":"(tblSalaries[[#This Row],[clean Salary (in local currency)]])*(VLOOKUP(tblSalaries[[#This Row],[Currency]],Sheet3!$A$2:$C$31,3,FALSE))*(VLOOKUP(tblSalaries[[#This Row],[Currency]],Sheet1!$N$4:$Q$186,4,FALSE))","v":70000},{"$f":"IF(Dashboard!$J$5=VLOOKUP(tblSalaries[[#This Row],[Currency]],Sheet3!$A$2:$B$31,2,FALSE),tblSalaries[[#This Row],[clean Salary (in local currency)]],(tblSalaries[[#This Row],[PPP Adjusted  USD]]/VLOOKUP(Dashboard!$J$5,Sheet3!$B$2:$C$31,2,FALSE)))","v":70000},"Client Manager","Manager","USA","4 to 6 hours a day",4]
[null,"ID1258",70000,"USD",70000,{"$f":"(tblSalaries[[#This Row],[clean Salary (in local currency)]])*(VLOOKUP(tblSalaries[[#This Row],[Currency]],Sheet3!$A$2:$C$31,3,FALSE))*(VLOOKUP(tblSalaries[[#This Row],[Currency]],Sheet1!$N$4:$Q$186,4,FALSE))","v":70000},{"$f":"IF(Dashboard!$J$5=VLOOKUP(tblSalaries[[#This Row],[Currency]],Sheet3!$A$2:$B$31,2,FALSE),tblSalaries[[#This Row],[clean Salary (in local currency)]],(tblSalaries[[#This Row],[PPP Adjusted  USD]]/VLOOKUP(Dashboard!$J$5,Sheet3!$B$2:$C$31,2,FALSE)))","v":70000},"Develope","Analyst","USA","1 or 2 hours a day",6]
[null,"ID1275",70000,"USD",70000,{"$f":"(tblSalaries[[#This Row],[clean Salary (in local currency)]])*(VLOOKUP(tblSalaries[[#This Row],[Currency]],Sheet3!$A$2:$C$31,3,FALSE))*(VLOOKUP(tblSalaries[[#This Row],[Currency]],Sheet1!$N$4:$Q$186,4,FALSE))","v":70000},{"$f":"IF(Dashboard!$J$5=VLOOKUP(tblSalaries[[#This Row],[Currency]],Sheet3!$A$2:$B$31,2,FALSE),tblSalaries[[#This Row],[clean Salary (in local currency)]],(tblSalaries[[#This Row],[PPP Adjusted  USD]]/VLOOKUP(Dashboard!$J$5,Sheet3!$B$2:$C$31,2,FALSE)))","v":70000},"Project Manager","Manager","USA","4 to 6 hours a day",8]
[null,"ID1654",70000,"USD",70000,{"$f":"(tblSalaries[[#This Row],[clean Salary (in local currency)]])*(VLOOKUP(tblSalaries[[#This Row],[Currency]],Sheet3!$A$2:$C$31,3,FALSE))*(VLOOKUP(tblSalaries[[#This Row],[Currency]],Sheet1!$N$4:$Q$186,4,FALSE))","v":70000},{"$f":"IF(Dashboard!$J$5=VLOOKUP(tblSalaries[[#This Row],[Currency]],Sheet3!$A$2:$B$31,2,FALSE),tblSalaries[[#This Row],[clean Salary (in local currency)]],(tblSalaries[[#This Row],[PPP Adjusted  USD]]/VLOOKUP(Dashboard!$J$5,Sheet3!$B$2:$C$31,2,FALSE)))","v":70000},"Sr financial analyst","Analyst","USA","4 to 6 hours a day",9]
[null,"ID1824",70000,"USD",70000,{"$f":"(tblSalaries[[#This Row],[clean Salary (in local currency)]])*(VLOOKUP(tblSalaries[[#This Row],[Currency]],Sheet3!$A$2:$C$31,3,FALSE))*(VLOOKUP(tblSalaries[[#This Row],[Currency]],Sheet1!$N$4:$Q$186,4,FALSE))","v":70000},{"$f":"IF(Dashboard!$J$5=VLOOKUP(tblSalaries[[#This Row],[Currency]],Sheet3!$A$2:$B$31,2,FALSE),tblSalaries[[#This Row],[clean Salary (in local currency)]],(tblSalaries[[#This Row],[PPP Adjusted  USD]]/VLOOKUP(Dashboard!$J$5,Sheet3!$B$2:$C$31,2,FALSE)))","v":70000},"business analyst","Analyst","USA","2 to 3 hours per day",5]
[null,"ID1932",70000,"USD",70000,{"$f":"(tblSalaries[[#This Row],[clean Salary (in local currency)]])*(VLOOKUP(tblSalaries[[#This Row],[Currency]],Sheet3!$A$2:$C$31,3,FALSE))*(VLOOKUP(tblSalaries[[#This Row],[Currency]],Sheet1!$N$4:$Q$186,4,FALSE))","v":70000},{"$f":"IF(Dashboard!$J$5=VLOOKUP(tblSalaries[[#This Row],[Currency]],Sheet3!$A$2:$B$31,2,FALSE),tblSalaries[[#This Row],[clean Salary (in local currency)]],(tblSalaries[[#This Row],[PPP Adjusted  USD]]/VLOOKUP(Dashboard!$J$5,Sheet3!$B$2:$C$31,2,FALSE)))","v":70000},"Administrative Coordinator","Analyst","USA","4 to 6 hours a day",10]
[null,"ID1386",69960,"USD",69960,{"$f":"(tblSalaries[[#This Row],[clean Salary (in local currency)]])*(VLOOKUP(tblSalaries[[#This Row],[Currency]],Sheet3!$A$2:$C$31,3,FALSE))*(VLOOKUP(tblSalaries[[#This Row],[Currency]],Sheet1!$N$4:$Q$186,4,FALSE))","v":69960},{"$f":"IF(Dashboard!$J$5=VLOOKUP(tblSalaries[[#This Row],[Currency]],Sheet3!$A$2:$B$31,2,FALSE),tblSalaries[[#This Row],[clean Salary (in local currency)]],(tblSalaries[[#This Row],[PPP Adjusted  USD]]/VLOOKUP(Dashboard!$J$5,Sheet3!$B$2:$C$31,2,FALSE)))","v":69960},"Measurement & Verification Engineer","Engineer","USA","2 to 3 hours per day",22]
[null,"ID0944",63200,"EUR",80289.244544269619,{"$f":"(tblSalaries[[#This Row],[clean Salary (in local currency)]])*(VLOOKUP(tblSalaries[[#This Row],[Currency]],Sheet3!$A$2:$C$31,3,FALSE))*(VLOOKUP(tblSalaries[[#This Row],[Currency]],Sheet1!$N$4:$Q$186,4,FALSE))","v":69561.262393939309},{"$f":"IF(Dashboard!$J$5=VLOOKUP(tblSalaries[[#This Row],[Currency]],Sheet3!$A$2:$B$31,2,FALSE),tblSalaries[[#This Row],[clean Salary (in local currency)]],(tblSalaries[[#This Row],[PPP Adjusted  USD]]/VLOOKUP(Dashboard!$J$5,Sheet3!$B$2:$C$31,2,FALSE)))","v":69561.262393939309},"Consultant","Consultant","France","4 to 6 hours a day",3]
[null,"ID0522",87550,"CAD",86093.301341305123,{"$f":"(tblSalaries[[#This Row],[clean Salary (in local currency)]])*(VLOOKUP(tblSalaries[[#This Row],[Currency]],Sheet3!$A$2:$C$31,3,FALSE))*(VLOOKUP(tblSalaries[[#This Row],[Currency]],Sheet1!$N$4:$Q$186,4,FALSE))","v":69203.565090365286},{"$f":"IF(Dashboard!$J$5=VLOOKUP(tblSalaries[[#This Row],[Currency]],Sheet3!$A$2:$B$31,2,FALSE),tblSalaries[[#This Row],[clean Salary (in local currency)]],(tblSalaries[[#This Row],[PPP Adjusted  USD]]/VLOOKUP(Dashboard!$J$5,Sheet3!$B$2:$C$31,2,FALSE)))","v":69203.565090365286},"Manager","Manager","Canada","4 to 6 hours a day","Data Not Avaliable"]
[null,"ID0038",69000,"USD",69000,{"$f":"(tblSalaries[[#This Row],[clean Salary (in local currency)]])*(VLOOKUP(tblSalaries[[#This Row],[Currency]],Sheet3!$A$2:$C$31,3,FALSE))*(VLOOKUP(tblSalaries[[#This Row],[Currency]],Sheet1!$N$4:$Q$186,4,FALSE))","v":69000},{"$f":"IF(Dashboard!$J$5=VLOOKUP(tblSalaries[[#This Row],[Currency]],Sheet3!$A$2:$B$31,2,FALSE),tblSalaries[[#This Row],[clean Salary (in local currency)]],(tblSalaries[[#This Row],[PPP Adjusted  USD]]/VLOOKUP(Dashboard!$J$5,Sheet3!$B$2:$C$31,2,FALSE)))","v":69000},"Design Engineer","Engineer","USA","4 to 6 hours a day","Data Not Avaliable"]
[null,"ID0149",69000,"USD",69000,{"$f":"(tblSalaries[[#This Row],[clean Salary (in local currency)]])*(VLOOKUP(tblSalaries[[#This Row],[Currency]],Sheet3!$A$2:$C$31,3,FALSE))*(VLOOKUP(tblSalaries[[#This Row],[Currency]],Sheet1!$N$4:$Q$186,4,FALSE))","v":69000},{"$f":"IF(Dashboard!$J$5=VLOOKUP(tblSalaries[[#This Row],[Currency]],Sheet3!$A$2:$B$31,2,FALSE),tblSalaries[[#This Row],[clean Salary (in local currency)]],(tblSalaries[[#This Row],[PPP Adjusted  USD]]/VLOOKUP(Dashboard!$J$5,Sheet3!$B$2:$C$31,2,FALSE)))","v":69000},"Business Technical Consultant","Consultant","USA","4 to 6 hours a day","Data Not Avaliable"]
[null,"ID1159",69000,"USD",69000,{"$f":"(tblSalaries[[#This Row],[clean Salary (in local currency)]])*(VLOOKUP(tblSalaries[[#This Row],[Currency]],Sheet3!$A$2:$C$31,3,FALSE))*(VLOOKUP(tblSalaries[[#This Row],[Currency]],Sheet1!$N$4:$Q$186,4,FALSE))","v":69000},{"$f":"IF(Dashboard!$J$5=VLOOKUP(tblSalaries[[#This Row],[Currency]],Sheet3!$A$2:$B$31,2,FALSE),tblSalaries[[#This Row],[clean Salary (in local currency)]],(tblSalaries[[#This Row],[PPP Adjusted  USD]]/VLOOKUP(Dashboard!$J$5,Sheet3!$B$2:$C$31,2,FALSE)))","v":69000},"Financial Analysist","Analyst","USA","2 to 3 hours per day",20]
[null,"ID1271",69000,"USD",69000,{"$f":"(tblSalaries[[#This Row],[clean Salary (in local currency)]])*(VLOOKUP(tblSalaries[[#This Row],[Currency]],Sheet3!$A$2:$C$31,3,FALSE))*(VLOOKUP(tblSalaries[[#This Row],[Currency]],Sheet1!$N$4:$Q$186,4,FALSE))","v":69000},{"$f":"IF(Dashboard!$J$5=VLOOKUP(tblSalaries[[#This Row],[Currency]],Sheet3!$A$2:$B$31,2,FALSE),tblSalaries[[#This Row],[clean Salary (in local currency)]],(tblSalaries[[#This Row],[PPP Adjusted  USD]]/VLOOKUP(Dashboard!$J$5,Sheet3!$B$2:$C$31,2,FALSE)))","v":69000},"master scheduler","Controller","USA","4 to 6 hours a day",20]
[null,"ID1746",69000,"USD",69000,{"$f":"(tblSalaries[[#This Row],[clean Salary (in local currency)]])*(VLOOKUP(tblSalaries[[#This Row],[Currency]],Sheet3!$A$2:$C$31,3,FALSE))*(VLOOKUP(tblSalaries[[#This Row],[Currency]],Sheet1!$N$4:$Q$186,4,FALSE))","v":69000},{"$f":"IF(Dashboard!$J$5=VLOOKUP(tblSalaries[[#This Row],[Currency]],Sheet3!$A$2:$B$31,2,FALSE),tblSalaries[[#This Row],[clean Salary (in local currency)]],(tblSalaries[[#This Row],[PPP Adjusted  USD]]/VLOOKUP(Dashboard!$J$5,Sheet3!$B$2:$C$31,2,FALSE)))","v":69000},"Business Analyst II","Analyst","USA","All the 8 hours baby, all the 8!",15]
[null,"ID0983",110000,"AUD",112190.06220428993,{"$f":"(tblSalaries[[#This Row],[clean Salary (in local currency)]])*(VLOOKUP(tblSalaries[[#This Row],[Currency]],Sheet3!$A$2:$C$31,3,FALSE))*(VLOOKUP(tblSalaries[[#This Row],[Currency]],Sheet1!$N$4:$Q$186,4,FALSE))","v":68938.546401847212},{"$f":"IF(Dashboard!$J$5=VLOOKUP(tblSalaries[[#This Row],[Currency]],Sheet3!$A$2:$B$31,2,FALSE),tblSalaries[[#This Row],[clean Salary (in local currency)]],(tblSalaries[[#This Row],[PPP Adjusted  USD]]/VLOOKUP(Dashboard!$J$5,Sheet3!$B$2:$C$31,2,FALSE)))","v":68938.546401847212},"Sustainability Strategy Advisor","Manager","Australia","2 to 3 hours per day",8]
[null,"ID1264",110000,"AUD",112190.06220428993,{"$f":"(tblSalaries[[#This Row],[clean Salary (in local currency)]])*(VLOOKUP(tblSalaries[[#This Row],[Currency]],Sheet3!$A$2:$C$31,3,FALSE))*(VLOOKUP(tblSalaries[[#This Row],[Currency]],Sheet1!$N$4:$Q$186,4,FALSE))","v":68938.546401847212},{"$f":"IF(Dashboard!$J$5=VLOOKUP(tblSalaries[[#This Row],[Currency]],Sheet3!$A$2:$B$31,2,FALSE),tblSalaries[[#This Row],[clean Salary (in local currency)]],(tblSalaries[[#This Row],[PPP Adjusted  USD]]/VLOOKUP(Dashboard!$J$5,Sheet3!$B$2:$C$31,2,FALSE)))","v":68938.546401847212},"Analyst","Analyst","Australia","2 to 3 hours per day",7]
[null,"ID0468",87000,"CAD",85552.452503638444,{"$f":"(tblSalaries[[#This Row],[clean Salary (in local currency)]])*(VLOOKUP(tblSalaries[[#This Row],[Currency]],Sheet3!$A$2:$C$31,3,FALSE))*(VLOOKUP(tblSalaries[[#This Row],[Currency]],Sheet1!$N$4:$Q$186,4,FALSE))","v":68768.819678603992},{"$f":"IF(Dashboard!$J$5=VLOOKUP(tblSalaries[[#This Row],[Currency]],Sheet3!$A$2:$B$31,2,FALSE),tblSalaries[[#This Row],[clean Salary (in local currency)]],(tblSalaries[[#This Row],[PPP Adjusted  USD]]/VLOOKUP(Dashboard!$J$5,Sheet3!$B$2:$C$31,2,FALSE)))","v":68768.819678603992},"Business Manager","Manager","Canada","4 to 6 hours a day","Data Not Avaliable"]
[null,"ID1236",62000,"EUR",78764.765217479682,{"$f":"(tblSalaries[[#This Row],[clean Salary (in local currency)]])*(VLOOKUP(tblSalaries[[#This Row],[Currency]],Sheet3!$A$2:$C$31,3,FALSE))*(VLOOKUP(tblSalaries[[#This Row],[Currency]],Sheet1!$N$4:$Q$186,4,FALSE))","v":68240.478930763231},{"$f":"IF(Dashboard!$J$5=VLOOKUP(tblSalaries[[#This Row],[Currency]],Sheet3!$A$2:$B$31,2,FALSE),tblSalaries[[#This Row],[clean Salary (in local currency)]],(tblSalaries[[#This Row],[PPP Adjusted  USD]]/VLOOKUP(Dashboard!$J$5,Sheet3!$B$2:$C$31,2,FALSE)))","v":68240.478930763231},"Stafmember","Analyst","Netherlands","4 to 6 hours a day",15]
[null,"ID1370",62000,"EUR",78764.765217479682,{"$f":"(tblSalaries[[#This Row],[clean Salary (in local currency)]])*(VLOOKUP(tblSalaries[[#This Row],[Currency]],Sheet3!$A$2:$C$31,3,FALSE))*(VLOOKUP(tblSalaries[[#This Row],[Currency]],Sheet1!$N$4:$Q$186,4,FALSE))","v":68240.478930763231},{"$f":"IF(Dashboard!$J$5=VLOOKUP(tblSalaries[[#This Row],[Currency]],Sheet3!$A$2:$B$31,2,FALSE),tblSalaries[[#This Row],[clean Salary (in local currency)]],(tblSalaries[[#This Row],[PPP Adjusted  USD]]/VLOOKUP(Dashboard!$J$5,Sheet3!$B$2:$C$31,2,FALSE)))","v":68240.478930763231},"Controller","Controller","Netherlands","4 to 6 hours a day",15]
[null,"ID1415",216000,"SAR",57600,{"$f":"(tblSalaries[[#This Row],[clean Salary (in local currency)]])*(VLOOKUP(tblSalaries[[#This Row],[Currency]],Sheet3!$A$2:$C$31,3,FALSE))*(VLOOKUP(tblSalaries[[#This Row],[Currency]],Sheet1!$N$4:$Q$186,4,FALSE))","v":68086.761138860267},{"$f":"IF(Dashboard!$J$5=VLOOKUP(tblSalaries[[#This Row],[Currency]],Sheet3!$A$2:$B$31,2,FALSE),tblSalaries[[#This Row],[clean Salary (in local currency)]],(tblSalaries[[#This Row],[PPP Adjusted  USD]]/VLOOKUP(Dashboard!$J$5,Sheet3!$B$2:$C$31,2,FALSE)))","v":68086.761138860267},"Senior Electrical Engineer","Engineer","Saudi Arabia","4 to 6 hours a day",20]
[null,"ID0061",68000,"USD",68000,{"$f":"(tblSalaries[[#This Row],[clean Salary (in local currency)]])*(VLOOKUP(tblSalaries[[#This Row],[Currency]],Sheet3!$A$2:$C$31,3,FALSE))*(VLOOKUP(tblSalaries[[#This Row],[Currency]],Sheet1!$N$4:$Q$186,4,FALSE))","v":68000},{"$f":"IF(Dashboard!$J$5=VLOOKUP(tblSalaries[[#This Row],[Currency]],Sheet3!$A$2:$B$31,2,FALSE),tblSalaries[[#This Row],[clean Salary (in local currency)]],(tblSalaries[[#This Row],[PPP Adjusted  USD]]/VLOOKUP(Dashboard!$J$5,Sheet3!$B$2:$C$31,2,FALSE)))","v":68000},"Engineering Data Analyst","Analyst","USA","All the 8 hours baby, all the 8!","Data Not Avaliable"]
[null,"ID0289",68000,"USD",68000,{"$f":"(tblSalaries[[#This Row],[clean Salary (in local currency)]])*(VLOOKUP(tblSalaries[[#This Row],[Currency]],Sheet3!$A$2:$C$31,3,FALSE))*(VLOOKUP(tblSalaries[[#This Row],[Currency]],Sheet1!$N$4:$Q$186,4,FALSE))","v":68000},{"$f":"IF(Dashboard!$J$5=VLOOKUP(tblSalaries[[#This Row],[Currency]],Sheet3!$A$2:$B$31,2,FALSE),tblSalaries[[#This Row],[clean Salary (in local currency)]],(tblSalaries[[#This Row],[PPP Adjusted  USD]]/VLOOKUP(Dashboard!$J$5,Sheet3!$B$2:$C$31,2,FALSE)))","v":68000},"management accountant","Manager","USA","All the 8 hours baby, all the 8!","Data Not Avaliable"]
[null,"ID0359",68000,"USD",68000,{"$f":"(tblSalaries[[#This Row],[clean Salary (in local currency)]])*(VLOOKUP(tblSalaries[[#This Row],[Currency]],Sheet3!$A$2:$C$31,3,FALSE))*(VLOOKUP(tblSalaries[[#This Row],[Currency]],Sheet1!$N$4:$Q$186,4,FALSE))","v":68000},{"$f":"IF(Dashboard!$J$5=VLOOKUP(tblSalaries[[#This Row],[Currency]],Sheet3!$A$2:$B$31,2,FALSE),tblSalaries[[#This Row],[clean Salary (in local currency)]],(tblSalaries[[#This Row],[PPP Adjusted  USD]]/VLOOKUP(Dashboard!$J$5,Sheet3!$B$2:$C$31,2,FALSE)))","v":68000},"Project Manager","Manager","USA","2 to 3 hours per day","Data Not Avaliable"]
[null,"ID1619",68000,"USD",68000,{"$f":"(tblSalaries[[#This Row],[clean Salary (in local currency)]])*(VLOOKUP(tblSalaries[[#This Row],[Currency]],Sheet3!$A$2:$C$31,3,FALSE))*(VLOOKUP(tblSalaries[[#This Row],[Currency]],Sheet1!$N$4:$Q$186,4,FALSE))","v":68000},{"$f":"IF(Dashboard!$J$5=VLOOKUP(tblSalaries[[#This Row],[Currency]],Sheet3!$A$2:$B$31,2,FALSE),tblSalaries[[#This Row],[clean Salary (in local currency)]],(tblSalaries[[#This Row],[PPP Adjusted  USD]]/VLOOKUP(Dashboard!$J$5,Sheet3!$B$2:$C$31,2,FALSE)))","v":68000},"Supply Chain Analyst","Analyst","USA","4 to 6 hours a day",12]
[null,"ID1742",68000,"USD",68000,{"$f":"(tblSalaries[[#This Row],[clean Salary (in local currency)]])*(VLOOKUP(tblSalaries[[#This Row],[Currency]],Sheet3!$A$2:$C$31,3,FALSE))*(VLOOKUP(tblSalaries[[#This Row],[Currency]],Sheet1!$N$4:$Q$186,4,FALSE))","v":68000},{"$f":"IF(Dashboard!$J$5=VLOOKUP(tblSalaries[[#This Row],[Currency]],Sheet3!$A$2:$B$31,2,FALSE),tblSalaries[[#This Row],[clean Salary (in local currency)]],(tblSalaries[[#This Row],[PPP Adjusted  USD]]/VLOOKUP(Dashboard!$J$5,Sheet3!$B$2:$C$31,2,FALSE)))","v":68000},"Tax Associate","Analyst","USA","4 to 6 hours a day",2.5]
[null,"ID0987",107000,"AUD",109130.33323508203,{"$f":"(tblSalaries[[#This Row],[clean Salary (in local currency)]])*(VLOOKUP(tblSalaries[[#This Row],[Currency]],Sheet3!$A$2:$C$31,3,FALSE))*(VLOOKUP(tblSalaries[[#This Row],[Currency]],Sheet1!$N$4:$Q$186,4,FALSE))","v":67058.404227251376},{"$f":"IF(Dashboard!$J$5=VLOOKUP(tblSalaries[[#This Row],[Currency]],Sheet3!$A$2:$B$31,2,FALSE),tblSalaries[[#This Row],[clean Salary (in local currency)]],(tblSalaries[[#This Row],[PPP Adjusted  USD]]/VLOOKUP(Dashboard!$J$5,Sheet3!$B$2:$C$31,2,FALSE)))","v":67058.404227251376},"Management Accountant","Manager","Australia","4 to 6 hours a day",35]
[null,"ID0116",67000,"USD",67000,{"$f":"(tblSalaries[[#This Row],[clean Salary (in local currency)]])*(VLOOKUP(tblSalaries[[#This Row],[Currency]],Sheet3!$A$2:$C$31,3,FALSE))*(VLOOKUP(tblSalaries[[#This Row],[Currency]],Sheet1!$N$4:$Q$186,4,FALSE))","v":67000},{"$f":"IF(Dashboard!$J$5=VLOOKUP(tblSalaries[[#This Row],[Currency]],Sheet3!$A$2:$B$31,2,FALSE),tblSalaries[[#This Row],[clean Salary (in local currency)]],(tblSalaries[[#This Row],[PPP Adjusted  USD]]/VLOOKUP(Dashboard!$J$5,Sheet3!$B$2:$C$31,2,FALSE)))","v":67000},"Operations Cost Analyst","Analyst","USA","4 to 6 hours a day","Data Not Avaliable"]
[null,"ID0174",67000,"USD",67000,{"$f":"(tblSalaries[[#This Row],[clean Salary (in local currency)]])*(VLOOKUP(tblSalaries[[#This Row],[Currency]],Sheet3!$A$2:$C$31,3,FALSE))*(VLOOKUP(tblSalaries[[#This Row],[Currency]],Sheet1!$N$4:$Q$186,4,FALSE))","v":67000},{"$f":"IF(Dashboard!$J$5=VLOOKUP(tblSalaries[[#This Row],[Currency]],Sheet3!$A$2:$B$31,2,FALSE),tblSalaries[[#This Row],[clean Salary (in local currency)]],(tblSalaries[[#This Row],[PPP Adjusted  USD]]/VLOOKUP(Dashboard!$J$5,Sheet3!$B$2:$C$31,2,FALSE)))","v":67000},"B.I. Data Analyst II","Analyst","USA","4 to 6 hours a day","Data Not Avaliable"]
[null,"ID0195",67000,"USD",67000,{"$f":"(tblSalaries[[#This Row],[clean Salary (in local currency)]])*(VLOOKUP(tblSalaries[[#This Row],[Currency]],Sheet3!$A$2:$C$31,3,FALSE))*(VLOOKUP(tblSalaries[[#This Row],[Currency]],Sheet1!$N$4:$Q$186,4,FALSE))","v":67000},{"$f":"IF(Dashboard!$J$5=VLOOKUP(tblSalaries[[#This Row],[Currency]],Sheet3!$A$2:$B$31,2,FALSE),tblSalaries[[#This Row],[clean Salary (in local currency)]],(tblSalaries[[#This Row],[PPP Adjusted  USD]]/VLOOKUP(Dashboard!$J$5,Sheet3!$B$2:$C$31,2,FALSE)))","v":67000},"Financial Analyst","Analyst","USA","4 to 6 hours a day","Data Not Avaliable"]
[null,"ID0306",67000,"USD",67000,{"$f":"(tblSalaries[[#This Row],[clean Salary (in local currency)]])*(VLOOKUP(tblSalaries[[#This Row],[Currency]],Sheet3!$A$2:$C$31,3,FALSE))*(VLOOKUP(tblSalaries[[#This Row],[Currency]],Sheet1!$N$4:$Q$186,4,FALSE))","v":67000},{"$f":"IF(Dashboard!$J$5=VLOOKUP(tblSalaries[[#This Row],[Currency]],Sheet3!$A$2:$B$31,2,FALSE),tblSalaries[[#This Row],[clean Salary (in local currency)]],(tblSalaries[[#This Row],[PPP Adjusted  USD]]/VLOOKUP(Dashboard!$J$5,Sheet3!$B$2:$C$31,2,FALSE)))","v":67000},"HR Analyst","Analyst","USA","4 to 6 hours a day","Data Not Avaliable"]
[null,"ID0552",67000,"USD",67000,{"$f":"(tblSalaries[[#This Row],[clean Salary (in local currency)]])*(VLOOKUP(tblSalaries[[#This Row],[Currency]],Sheet3!$A$2:$C$31,3,FALSE))*(VLOOKUP(tblSalaries[[#This Row],[Currency]],Sheet1!$N$4:$Q$186,4,FALSE))","v":67000},{"$f":"IF(Dashboard!$J$5=VLOOKUP(tblSalaries[[#This Row],[Currency]],Sheet3!$A$2:$B$31,2,FALSE),tblSalaries[[#This Row],[clean Salary (in local currency)]],(tblSalaries[[#This Row],[PPP Adjusted  USD]]/VLOOKUP(Dashboard!$J$5,Sheet3!$B$2:$C$31,2,FALSE)))","v":67000},"Management Analyst","Analyst","USA","4 to 6 hours a day","Data Not Avaliable"]
[null,"ID1449",67000,"USD",67000,{"$f":"(tblSalaries[[#This Row],[clean Salary (in local currency)]])*(VLOOKUP(tblSalaries[[#This Row],[Currency]],Sheet3!$A$2:$C$31,3,FALSE))*(VLOOKUP(tblSalaries[[#This Row],[Currency]],Sheet1!$N$4:$Q$186,4,FALSE))","v":67000},{"$f":"IF(Dashboard!$J$5=VLOOKUP(tblSalaries[[#This Row],[Currency]],Sheet3!$A$2:$B$31,2,FALSE),tblSalaries[[#This Row],[clean Salary (in local currency)]],(tblSalaries[[#This Row],[PPP Adjusted  USD]]/VLOOKUP(Dashboard!$J$5,Sheet3!$B$2:$C$31,2,FALSE)))","v":67000},"accounting systems manager ","Manager","USA","2 to 3 hours per day",20]
[null,"ID1762",67000,"USD",67000,{"$f":"(tblSalaries[[#This Row],[clean Salary (in local currency)]])*(VLOOKUP(tblSalaries[[#This Row],[Currency]],Sheet3!$A$2:$C$31,3,FALSE))*(VLOOKUP(tblSalaries[[#This Row],[Currency]],Sheet1!$N$4:$Q$186,4,FALSE))","v":67000},{"$f":"IF(Dashboard!$J$5=VLOOKUP(tblSalaries[[#This Row],[Currency]],Sheet3!$A$2:$B$31,2,FALSE),tblSalaries[[#This Row],[clean Salary (in local currency)]],(tblSalaries[[#This Row],[PPP Adjusted  USD]]/VLOOKUP(Dashboard!$J$5,Sheet3!$B$2:$C$31,2,FALSE)))","v":67000},"Manager","Manager","USA","4 to 6 hours a day",16]
[null,"ID1766",67000,"USD",67000,{"$f":"(tblSalaries[[#This Row],[clean Salary (in local currency)]])*(VLOOKUP(tblSalaries[[#This Row],[Currency]],Sheet3!$A$2:$C$31,3,FALSE))*(VLOOKUP(tblSalaries[[#This Row],[Currency]],Sheet1!$N$4:$Q$186,4,FALSE))","v":67000},{"$f":"IF(Dashboard!$J$5=VLOOKUP(tblSalaries[[#This Row],[Currency]],Sheet3!$A$2:$B$31,2,FALSE),tblSalaries[[#This Row],[clean Salary (in local currency)]],(tblSalaries[[#This Row],[PPP Adjusted  USD]]/VLOOKUP(Dashboard!$J$5,Sheet3!$B$2:$C$31,2,FALSE)))","v":67000},"Manager","Manager","USA","Excel ?!? What Excel?",6]
[null,"ID1871",67000,"USD",67000,{"$f":"(tblSalaries[[#This Row],[clean Salary (in local currency)]])*(VLOOKUP(tblSalaries[[#This Row],[Currency]],Sheet3!$A$2:$C$31,3,FALSE))*(VLOOKUP(tblSalaries[[#This Row],[Currency]],Sheet1!$N$4:$Q$186,4,FALSE))","v":67000},{"$f":"IF(Dashboard!$J$5=VLOOKUP(tblSalaries[[#This Row],[Currency]],Sheet3!$A$2:$B$31,2,FALSE),tblSalaries[[#This Row],[clean Salary (in local currency)]],(tblSalaries[[#This Row],[PPP Adjusted  USD]]/VLOOKUP(Dashboard!$J$5,Sheet3!$B$2:$C$31,2,FALSE)))","v":67000},"Sales Compensation Analyst","Analyst","USA","4 to 6 hours a day",6]
[null,"ID1122",45200,"GBP",71243.257897441246,{"$f":"(tblSalaries[[#This Row],[clean Salary (in local currency)]])*(VLOOKUP(tblSalaries[[#This Row],[Currency]],Sheet3!$A$2:$C$31,3,FALSE))*(VLOOKUP(tblSalaries[[#This Row],[Currency]],Sheet1!$N$4:$Q$186,4,FALSE))","v":66623.498465115321},{"$f":"IF(Dashboard!$J$5=VLOOKUP(tblSalaries[[#This Row],[Currency]],Sheet3!$A$2:$B$31,2,FALSE),tblSalaries[[#This Row],[clean Salary (in local currency)]],(tblSalaries[[#This Row],[PPP Adjusted  USD]]/VLOOKUP(Dashboard!$J$5,Sheet3!$B$2:$C$31,2,FALSE)))","v":66623.498465115321},"Clinical audit manager","Manager","UK","2 to 3 hours per day",5]
[null,"ID0157",66500,"USD",66500,{"$f":"(tblSalaries[[#This Row],[clean Salary (in local currency)]])*(VLOOKUP(tblSalaries[[#This Row],[Currency]],Sheet3!$A$2:$C$31,3,FALSE))*(VLOOKUP(tblSalaries[[#This Row],[Currency]],Sheet1!$N$4:$Q$186,4,FALSE))","v":66500},{"$f":"IF(Dashboard!$J$5=VLOOKUP(tblSalaries[[#This Row],[Currency]],Sheet3!$A$2:$B$31,2,FALSE),tblSalaries[[#This Row],[clean Salary (in local currency)]],(tblSalaries[[#This Row],[PPP Adjusted  USD]]/VLOOKUP(Dashboard!$J$5,Sheet3!$B$2:$C$31,2,FALSE)))","v":66500},"Sr Business Analyst","Analyst","USA","All the 8 hours baby, all the 8!","Data Not Avaliable"]
[null,"ID0588",106000,"AUD",108110.42357867939,{"$f":"(tblSalaries[[#This Row],[clean Salary (in local currency)]])*(VLOOKUP(tblSalaries[[#This Row],[Currency]],Sheet3!$A$2:$C$31,3,FALSE))*(VLOOKUP(tblSalaries[[#This Row],[Currency]],Sheet1!$N$4:$Q$186,4,FALSE))","v":66431.690169052759},{"$f":"IF(Dashboard!$J$5=VLOOKUP(tblSalaries[[#This Row],[Currency]],Sheet3!$A$2:$B$31,2,FALSE),tblSalaries[[#This Row],[clean Salary (in local currency)]],(tblSalaries[[#This Row],[PPP Adjusted  USD]]/VLOOKUP(Dashboard!$J$5,Sheet3!$B$2:$C$31,2,FALSE)))","v":66431.690169052759},"Pricing and Strategy Specialist","Specialist","Australia","4 to 6 hours a day",16]
[null,"ID0235",45000,"GBP",70928.022243027779,{"$f":"(tblSalaries[[#This Row],[clean Salary (in local currency)]])*(VLOOKUP(tblSalaries[[#This Row],[Currency]],Sheet3!$A$2:$C$31,3,FALSE))*(VLOOKUP(tblSalaries[[#This Row],[Currency]],Sheet1!$N$4:$Q$186,4,FALSE))","v":66328.704224119225},{"$f":"IF(Dashboard!$J$5=VLOOKUP(tblSalaries[[#This Row],[Currency]],Sheet3!$A$2:$B$31,2,FALSE),tblSalaries[[#This Row],[clean Salary (in local currency)]],(tblSalaries[[#This Row],[PPP Adjusted  USD]]/VLOOKUP(Dashboard!$J$5,Sheet3!$B$2:$C$31,2,FALSE)))","v":66328.704224119225},"Procurement manager","Manager","UK","2 to 3 hours per day","Data Not Avaliable"]
[null,"ID1117",45000,"GBP",70928.022243027779,{"$f":"(tblSalaries[[#This Row],[clean Salary (in local currency)]])*(VLOOKUP(tblSalaries[[#This Row],[Currency]],Sheet3!$A$2:$C$31,3,FALSE))*(VLOOKUP(tblSalaries[[#This Row],[Currency]],Sheet1!$N$4:$Q$186,4,FALSE))","v":66328.704224119225},{"$f":"IF(Dashboard!$J$5=VLOOKUP(tblSalaries[[#This Row],[Currency]],Sheet3!$A$2:$B$31,2,FALSE),tblSalaries[[#This Row],[clean Salary (in local currency)]],(tblSalaries[[#This Row],[PPP Adjusted  USD]]/VLOOKUP(Dashboard!$J$5,Sheet3!$B$2:$C$31,2,FALSE)))","v":66328.704224119225},"Assistant Director - Performance Information","CXO or Top Mgmt.","UK","4 to 6 hours a day",8]
[null,"ID1332",45000,"GBP",70928.022243027779,{"$f":"(tblSalaries[[#This Row],[clean Salary (in local currency)]])*(VLOOKUP(tblSalaries[[#This Row],[Currency]],Sheet3!$A$2:$C$31,3,FALSE))*(VLOOKUP(tblSalaries[[#This Row],[Currency]],Sheet1!$N$4:$Q$186,4,FALSE))","v":66328.704224119225},{"$f":"IF(Dashboard!$J$5=VLOOKUP(tblSalaries[[#This Row],[Currency]],Sheet3!$A$2:$B$31,2,FALSE),tblSalaries[[#This Row],[clean Salary (in local currency)]],(tblSalaries[[#This Row],[PPP Adjusted  USD]]/VLOOKUP(Dashboard!$J$5,Sheet3!$B$2:$C$31,2,FALSE)))","v":66328.704224119225},"Senior Consultant","Consultant","UK","2 to 3 hours per day",4]
[null,"ID1372",45000,"GBP",70928.022243027779,{"$f":"(tblSalaries[[#This Row],[clean Salary (in local currency)]])*(VLOOKUP(tblSalaries[[#This Row],[Currency]],Sheet3!$A$2:$C$31,3,FALSE))*(VLOOKUP(tblSalaries[[#This Row],[Currency]],Sheet1!$N$4:$Q$186,4,FALSE))","v":66328.704224119225},{"$f":"IF(Dashboard!$J$5=VLOOKUP(tblSalaries[[#This Row],[Currency]],Sheet3!$A$2:$B$31,2,FALSE),tblSalaries[[#This Row],[clean Salary (in local currency)]],(tblSalaries[[#This Row],[PPP Adjusted  USD]]/VLOOKUP(Dashboard!$J$5,Sheet3!$B$2:$C$31,2,FALSE)))","v":66328.704224119225},"Management Accountant","Manager","UK","2 to 3 hours per day",15]
[null,"ID1690",45000,"GBP",70928.022243027779,{"$f":"(tblSalaries[[#This Row],[clean Salary (in local currency)]])*(VLOOKUP(tblSalaries[[#This Row],[Currency]],Sheet3!$A$2:$C$31,3,FALSE))*(VLOOKUP(tblSalaries[[#This Row],[Currency]],Sheet1!$N$4:$Q$186,4,FALSE))","v":66328.704224119225},{"$f":"IF(Dashboard!$J$5=VLOOKUP(tblSalaries[[#This Row],[Currency]],Sheet3!$A$2:$B$31,2,FALSE),tblSalaries[[#This Row],[clean Salary (in local currency)]],(tblSalaries[[#This Row],[PPP Adjusted  USD]]/VLOOKUP(Dashboard!$J$5,Sheet3!$B$2:$C$31,2,FALSE)))","v":66328.704224119225},"Data Analyst","Analyst","UK","All the 8 hours baby, all the 8!",5]
[null,"ID1761",45000,"GBP",70928.022243027779,{"$f":"(tblSalaries[[#This Row],[clean Salary (in local currency)]])*(VLOOKUP(tblSalaries[[#This Row],[Currency]],Sheet3!$A$2:$C$31,3,FALSE))*(VLOOKUP(tblSalaries[[#This Row],[Currency]],Sheet1!$N$4:$Q$186,4,FALSE))","v":66328.704224119225},{"$f":"IF(Dashboard!$J$5=VLOOKUP(tblSalaries[[#This Row],[Currency]],Sheet3!$A$2:$B$31,2,FALSE),tblSalaries[[#This Row],[clean Salary (in local currency)]],(tblSalaries[[#This Row],[PPP Adjusted  USD]]/VLOOKUP(Dashboard!$J$5,Sheet3!$B$2:$C$31,2,FALSE)))","v":66328.704224119225},"bUSINESS aNALYST","Analyst","UK","All the 8 hours baby, all the 8!",20]
[null,"ID0313",1400000,"INR",24931.083362419595,{"$f":"(tblSalaries[[#This Row],[clean Salary (in local currency)]])*(VLOOKUP(tblSalaries[[#This Row],[Currency]],Sheet3!$A$2:$C$31,3,FALSE))*(VLOOKUP(tblSalaries[[#This Row],[Currency]],Sheet1!$N$4:$Q$186,4,FALSE))","v":66305.431288177831},{"$f":"IF(Dashboard!$J$5=VLOOKUP(tblSalaries[[#This Row],[Currency]],Sheet3!$A$2:$B$31,2,FALSE),tblSalaries[[#This Row],[clean Salary (in local currency)]],(tblSalaries[[#This Row],[PPP Adjusted  USD]]/VLOOKUP(Dashboard!$J$5,Sheet3!$B$2:$C$31,2,FALSE)))","v":66305.431288177831},"Marketing","Manager","India","1 or 2 hours a day","Data Not Avaliable"]
[null,"ID1861",1400000,"INR",24931.083362419595,{"$f":"(tblSalaries[[#This Row],[clean Salary (in local currency)]])*(VLOOKUP(tblSalaries[[#This Row],[Currency]],Sheet3!$A$2:$C$31,3,FALSE))*(VLOOKUP(tblSalaries[[#This Row],[Currency]],Sheet1!$N$4:$Q$186,4,FALSE))","v":66305.431288177831},{"$f":"IF(Dashboard!$J$5=VLOOKUP(tblSalaries[[#This Row],[Currency]],Sheet3!$A$2:$B$31,2,FALSE),tblSalaries[[#This Row],[clean Salary (in local currency)]],(tblSalaries[[#This Row],[PPP Adjusted  USD]]/VLOOKUP(Dashboard!$J$5,Sheet3!$B$2:$C$31,2,FALSE)))","v":66305.431288177831},"Manager - Controlling","Manager","India","4 to 6 hours a day",10]
[null,"ID1684",110000,"NZD",87734.690296543267,{"$f":"(tblSalaries[[#This Row],[clean Salary (in local currency)]])*(VLOOKUP(tblSalaries[[#This Row],[Currency]],Sheet3!$A$2:$C$31,3,FALSE))*(VLOOKUP(tblSalaries[[#This Row],[Currency]],Sheet1!$N$4:$Q$186,4,FALSE))","v":66237.249145235503},{"$f":"IF(Dashboard!$J$5=VLOOKUP(tblSalaries[[#This Row],[Currency]],Sheet3!$A$2:$B$31,2,FALSE),tblSalaries[[#This Row],[clean Salary (in local currency)]],(tblSalaries[[#This Row],[PPP Adjusted  USD]]/VLOOKUP(Dashboard!$J$5,Sheet3!$B$2:$C$31,2,FALSE)))","v":66237.249145235503},"Enterprise Portfolio Manager","Manager","New Zealand","4 to 6 hours a day",6]
[null,"ID1213",625000,"DKK",106815.148267971,{"$f":"(tblSalaries[[#This Row],[clean Salary (in local currency)]])*(VLOOKUP(tblSalaries[[#This Row],[Currency]],Sheet3!$A$2:$C$31,3,FALSE))*(VLOOKUP(tblSalaries[[#This Row],[Currency]],Sheet1!$N$4:$Q$186,4,FALSE))","v":66218.481145868893},{"$f":"IF(Dashboard!$J$5=VLOOKUP(tblSalaries[[#This Row],[Currency]],Sheet3!$A$2:$B$31,2,FALSE),tblSalaries[[#This Row],[clean Salary (in local currency)]],(tblSalaries[[#This Row],[PPP Adjusted  USD]]/VLOOKUP(Dashboard!$J$5,Sheet3!$B$2:$C$31,2,FALSE)))","v":66218.481145868893},"Manager Business Controlling","Manager","Denmark","4 to 6 hours a day",25]
[null,"ID1126",60000,"EUR",76223.966339496474,{"$f":"(tblSalaries[[#This Row],[clean Salary (in local currency)]])*(VLOOKUP(tblSalaries[[#This Row],[Currency]],Sheet3!$A$2:$C$31,3,FALSE))*(VLOOKUP(tblSalaries[[#This Row],[Currency]],Sheet1!$N$4:$Q$186,4,FALSE))","v":66039.17315880314},{"$f":"IF(Dashboard!$J$5=VLOOKUP(tblSalaries[[#This Row],[Currency]],Sheet3!$A$2:$B$31,2,FALSE),tblSalaries[[#This Row],[clean Salary (in local currency)]],(tblSalaries[[#This Row],[PPP Adjusted  USD]]/VLOOKUP(Dashboard!$J$5,Sheet3!$B$2:$C$31,2,FALSE)))","v":66039.17315880314},"Development Manager","Manager","Finland","1 or 2 hours a day",4]
[null,"ID1485",60000,"EUR",76223.966339496474,{"$f":"(tblSalaries[[#This Row],[clean Salary (in local currency)]])*(VLOOKUP(tblSalaries[[#This Row],[Currency]],Sheet3!$A$2:$C$31,3,FALSE))*(VLOOKUP(tblSalaries[[#This Row],[Currency]],Sheet1!$N$4:$Q$186,4,FALSE))","v":66039.17315880314},{"$f":"IF(Dashboard!$J$5=VLOOKUP(tblSalaries[[#This Row],[Currency]],Sheet3!$A$2:$B$31,2,FALSE),tblSalaries[[#This Row],[clean Salary (in local currency)]],(tblSalaries[[#This Row],[PPP Adjusted  USD]]/VLOOKUP(Dashboard!$J$5,Sheet3!$B$2:$C$31,2,FALSE)))","v":66039.17315880314},"Sales Analyst","Analyst","italy","All the 8 hours baby, all the 8!",14]
[null,"ID1542",60000,"EUR",76223.966339496474,{"$f":"(tblSalaries[[#This Row],[clean Salary (in local currency)]])*(VLOOKUP(tblSalaries[[#This Row],[Currency]],Sheet3!$A$2:$C$31,3,FALSE))*(VLOOKUP(tblSalaries[[#This Row],[Currency]],Sheet1!$N$4:$Q$186,4,FALSE))","v":66039.17315880314},{"$f":"IF(Dashboard!$J$5=VLOOKUP(tblSalaries[[#This Row],[Currency]],Sheet3!$A$2:$B$31,2,FALSE),tblSalaries[[#This Row],[clean Salary (in local currency)]],(tblSalaries[[#This Row],[PPP Adjusted  USD]]/VLOOKUP(Dashboard!$J$5,Sheet3!$B$2:$C$31,2,FALSE)))","v":66039.17315880314},"Trade Marketing","Manager","Netherlands","2 to 3 hours per day",15]
[null,"ID1555",60000,"EUR",76223.966339496474,{"$f":"(tblSalaries[[#This Row],[clean Salary (in local currency)]])*(VLOOKUP(tblSalaries[[#This Row],[Currency]],Sheet3!$A$2:$C$31,3,FALSE))*(VLOOKUP(tblSalaries[[#This Row],[Currency]],Sheet1!$N$4:$Q$186,4,FALSE))","v":66039.17315880314},{"$f":"IF(Dashboard!$J$5=VLOOKUP(tblSalaries[[#This Row],[Currency]],Sheet3!$A$2:$B$31,2,FALSE),tblSalaries[[#This Row],[clean Salary (in local currency)]],(tblSalaries[[#This Row],[PPP Adjusted  USD]]/VLOOKUP(Dashboard!$J$5,Sheet3!$B$2:$C$31,2,FALSE)))","v":66039.17315880314},"Business Engineer","Engineer","Netherlands","4 to 6 hours a day",7]
[null,"ID1889",60000,"EUR",76223.966339496474,{"$f":"(tblSalaries[[#This Row],[clean Salary (in local currency)]])*(VLOOKUP(tblSalaries[[#This Row],[Currency]],Sheet3!$A$2:$C$31,3,FALSE))*(VLOOKUP(tblSalaries[[#This Row],[Currency]],Sheet1!$N$4:$Q$186,4,FALSE))","v":66039.17315880314},{"$f":"IF(Dashboard!$J$5=VLOOKUP(tblSalaries[[#This Row],[Currency]],Sheet3!$A$2:$B$31,2,FALSE),tblSalaries[[#This Row],[clean Salary (in local currency)]],(tblSalaries[[#This Row],[PPP Adjusted  USD]]/VLOOKUP(Dashboard!$J$5,Sheet3!$B$2:$C$31,2,FALSE)))","v":66039.17315880314},"pm","Manager","Germany","4 to 6 hours a day",6]
[null,"ID1925",60000,"EUR",76223.966339496474,{"$f":"(tblSalaries[[#This Row],[clean Salary (in local currency)]])*(VLOOKUP(tblSalaries[[#This Row],[Currency]],Sheet3!$A$2:$C$31,3,FALSE))*(VLOOKUP(tblSalaries[[#This Row],[Currency]],Sheet1!$N$4:$Q$186,4,FALSE))","v":66039.17315880314},{"$f":"IF(Dashboard!$J$5=VLOOKUP(tblSalaries[[#This Row],[Currency]],Sheet3!$A$2:$B$31,2,FALSE),tblSalaries[[#This Row],[clean Salary (in local currency)]],(tblSalaries[[#This Row],[PPP Adjusted  USD]]/VLOOKUP(Dashboard!$J$5,Sheet3!$B$2:$C$31,2,FALSE)))","v":66039.17315880314},"Project Manager","Manager","Europe","2 to 3 hours per day",20]
[null,"ID0108",66000,"USD",66000,{"$f":"(tblSalaries[[#This Row],[clean Salary (in local currency)]])*(VLOOKUP(tblSalaries[[#This Row],[Currency]],Sheet3!$A$2:$C$31,3,FALSE))*(VLOOKUP(tblSalaries[[#This Row],[Currency]],Sheet1!$N$4:$Q$186,4,FALSE))","v":66000},{"$f":"IF(Dashboard!$J$5=VLOOKUP(tblSalaries[[#This Row],[Currency]],Sheet3!$A$2:$B$31,2,FALSE),tblSalaries[[#This Row],[clean Salary (in local currency)]],(tblSalaries[[#This Row],[PPP Adjusted  USD]]/VLOOKUP(Dashboard!$J$5,Sheet3!$B$2:$C$31,2,FALSE)))","v":66000},"Analyst","Analyst","USA","2 to 3 hours per day","Data Not Avaliable"]
[null,"ID1502",66000,"USD",66000,{"$f":"(tblSalaries[[#This Row],[clean Salary (in local currency)]])*(VLOOKUP(tblSalaries[[#This Row],[Currency]],Sheet3!$A$2:$C$31,3,FALSE))*(VLOOKUP(tblSalaries[[#This Row],[Currency]],Sheet1!$N$4:$Q$186,4,FALSE))","v":66000},{"$f":"IF(Dashboard!$J$5=VLOOKUP(tblSalaries[[#This Row],[Currency]],Sheet3!$A$2:$B$31,2,FALSE),tblSalaries[[#This Row],[clean Salary (in local currency)]],(tblSalaries[[#This Row],[PPP Adjusted  USD]]/VLOOKUP(Dashboard!$J$5,Sheet3!$B$2:$C$31,2,FALSE)))","v":66000},"Director of Business Analytics","Analyst","USA","4 to 6 hours a day",2]
[null,"ID0237",65250,"USD",65250,{"$f":"(tblSalaries[[#This Row],[clean Salary (in local currency)]])*(VLOOKUP(tblSalaries[[#This Row],[Currency]],Sheet3!$A$2:$C$31,3,FALSE))*(VLOOKUP(tblSalaries[[#This Row],[Currency]],Sheet1!$N$4:$Q$186,4,FALSE))","v":65250},{"$f":"IF(Dashboard!$J$5=VLOOKUP(tblSalaries[[#This Row],[Currency]],Sheet3!$A$2:$B$31,2,FALSE),tblSalaries[[#This Row],[clean Salary (in local currency)]],(tblSalaries[[#This Row],[PPP Adjusted  USD]]/VLOOKUP(Dashboard!$J$5,Sheet3!$B$2:$C$31,2,FALSE)))","v":65250},"Accountant","Accountant","USA","4 to 6 hours a day","Data Not Avaliable"]
[null,"ID0128",65000,"USD",65000,{"$f":"(tblSalaries[[#This Row],[clean Salary (in local currency)]])*(VLOOKUP(tblSalaries[[#This Row],[Currency]],Sheet3!$A$2:$C$31,3,FALSE))*(VLOOKUP(tblSalaries[[#This Row],[Currency]],Sheet1!$N$4:$Q$186,4,FALSE))","v":65000},{"$f":"IF(Dashboard!$J$5=VLOOKUP(tblSalaries[[#This Row],[Currency]],Sheet3!$A$2:$B$31,2,FALSE),tblSalaries[[#This Row],[clean Salary (in local currency)]],(tblSalaries[[#This Row],[PPP Adjusted  USD]]/VLOOKUP(Dashboard!$J$5,Sheet3!$B$2:$C$31,2,FALSE)))","v":65000},"sr accountant","Accountant","USA","All the 8 hours baby, all the 8!","Data Not Avaliable"]
[null,"ID0153",65000,"USD",65000,{"$f":"(tblSalaries[[#This Row],[clean Salary (in local currency)]])*(VLOOKUP(tblSalaries[[#This Row],[Currency]],Sheet3!$A$2:$C$31,3,FALSE))*(VLOOKUP(tblSalaries[[#This Row],[Currency]],Sheet1!$N$4:$Q$186,4,FALSE))","v":65000},{"$f":"IF(Dashboard!$J$5=VLOOKUP(tblSalaries[[#This Row],[Currency]],Sheet3!$A$2:$B$31,2,FALSE),tblSalaries[[#This Row],[clean Salary (in local currency)]],(tblSalaries[[#This Row],[PPP Adjusted  USD]]/VLOOKUP(Dashboard!$J$5,Sheet3!$B$2:$C$31,2,FALSE)))","v":65000},"Sr Accountant","Accountant","USA","All the 8 hours baby, all the 8!","Data Not Avaliable"]
[null,"ID0231",65000,"USD",65000,{"$f":"(tblSalaries[[#This Row],[clean Salary (in local currency)]])*(VLOOKUP(tblSalaries[[#This Row],[Currency]],Sheet3!$A$2:$C$31,3,FALSE))*(VLOOKUP(tblSalaries[[#This Row],[Currency]],Sheet1!$N$4:$Q$186,4,FALSE))","v":65000},{"$f":"IF(Dashboard!$J$5=VLOOKUP(tblSalaries[[#This Row],[Currency]],Sheet3!$A$2:$B$31,2,FALSE),tblSalaries[[#This Row],[clean Salary (in local currency)]],(tblSalaries[[#This Row],[PPP Adjusted  USD]]/VLOOKUP(Dashboard!$J$5,Sheet3!$B$2:$C$31,2,FALSE)))","v":65000},"Sr. Strategic Development Specialist","Specialist","USA","2 to 3 hours per day","Data Not Avaliable"]
[null,"ID0292",65000,"USD",65000,{"$f":"(tblSalaries[[#This Row],[clean Salary (in local currency)]])*(VLOOKUP(tblSalaries[[#This Row],[Currency]],Sheet3!$A$2:$C$31,3,FALSE))*(VLOOKUP(tblSalaries[[#This Row],[Currency]],Sheet1!$N$4:$Q$186,4,FALSE))","v":65000},{"$f":"IF(Dashboard!$J$5=VLOOKUP(tblSalaries[[#This Row],[Currency]],Sheet3!$A$2:$B$31,2,FALSE),tblSalaries[[#This Row],[clean Salary (in local currency)]],(tblSalaries[[#This Row],[PPP Adjusted  USD]]/VLOOKUP(Dashboard!$J$5,Sheet3!$B$2:$C$31,2,FALSE)))","v":65000},"Software Support","Analyst","USA","4 to 6 hours a day","Data Not Avaliable"]
[null,"ID0327",65000,"USD",65000,{"$f":"(tblSalaries[[#This Row],[clean Salary (in local currency)]])*(VLOOKUP(tblSalaries[[#This Row],[Currency]],Sheet3!$A$2:$C$31,3,FALSE))*(VLOOKUP(tblSalaries[[#This Row],[Currency]],Sheet1!$N$4:$Q$186,4,FALSE))","v":65000},{"$f":"IF(Dashboard!$J$5=VLOOKUP(tblSalaries[[#This Row],[Currency]],Sheet3!$A$2:$B$31,2,FALSE),tblSalaries[[#This Row],[clean Salary (in local currency)]],(tblSalaries[[#This Row],[PPP Adjusted  USD]]/VLOOKUP(Dashboard!$J$5,Sheet3!$B$2:$C$31,2,FALSE)))","v":65000},"business analyst","Analyst","USA","All the 8 hours baby, all the 8!","Data Not Avaliable"]
[null,"ID0439",65000,"USD",65000,{"$f":"(tblSalaries[[#This Row],[clean Salary (in local currency)]])*(VLOOKUP(tblSalaries[[#This Row],[Currency]],Sheet3!$A$2:$C$31,3,FALSE))*(VLOOKUP(tblSalaries[[#This Row],[Currency]],Sheet1!$N$4:$Q$186,4,FALSE))","v":65000},{"$f":"IF(Dashboard!$J$5=VLOOKUP(tblSalaries[[#This Row],[Currency]],Sheet3!$A$2:$B$31,2,FALSE),tblSalaries[[#This Row],[clean Salary (in local currency)]],(tblSalaries[[#This Row],[PPP Adjusted  USD]]/VLOOKUP(Dashboard!$J$5,Sheet3!$B$2:$C$31,2,FALSE)))","v":65000},"Senior Claims Analyst","Analyst","USA","4 to 6 hours a day","Data Not Avaliable"]
[null,"ID0488",65000,"USD",65000,{"$f":"(tblSalaries[[#This Row],[clean Salary (in local currency)]])*(VLOOKUP(tblSalaries[[#This Row],[Currency]],Sheet3!$A$2:$C$31,3,FALSE))*(VLOOKUP(tblSalaries[[#This Row],[Currency]],Sheet1!$N$4:$Q$186,4,FALSE))","v":65000},{"$f":"IF(Dashboard!$J$5=VLOOKUP(tblSalaries[[#This Row],[Currency]],Sheet3!$A$2:$B$31,2,FALSE),tblSalaries[[#This Row],[clean Salary (in local currency)]],(tblSalaries[[#This Row],[PPP Adjusted  USD]]/VLOOKUP(Dashboard!$J$5,Sheet3!$B$2:$C$31,2,FALSE)))","v":65000},"Business Systems Analyst","Analyst","USA","2 to 3 hours per day","Data Not Avaliable"]
[null,"ID0512",65000,"USD",65000,{"$f":"(tblSalaries[[#This Row],[clean Salary (in local currency)]])*(VLOOKUP(tblSalaries[[#This Row],[Currency]],Sheet3!$A$2:$C$31,3,FALSE))*(VLOOKUP(tblSalaries[[#This Row],[Currency]],Sheet1!$N$4:$Q$186,4,FALSE))","v":65000},{"$f":"IF(Dashboard!$J$5=VLOOKUP(tblSalaries[[#This Row],[Currency]],Sheet3!$A$2:$B$31,2,FALSE),tblSalaries[[#This Row],[clean Salary (in local currency)]],(tblSalaries[[#This Row],[PPP Adjusted  USD]]/VLOOKUP(Dashboard!$J$5,Sheet3!$B$2:$C$31,2,FALSE)))","v":65000},"Retail Store Manager","Manager","USA","All the 8 hours baby, all the 8!","Data Not Avaliable"]
[null,"ID0591",65000,"USD",65000,{"$f":"(tblSalaries[[#This Row],[clean Salary (in local currency)]])*(VLOOKUP(tblSalaries[[#This Row],[Currency]],Sheet3!$A$2:$C$31,3,FALSE))*(VLOOKUP(tblSalaries[[#This Row],[Currency]],Sheet1!$N$4:$Q$186,4,FALSE))","v":65000},{"$f":"IF(Dashboard!$J$5=VLOOKUP(tblSalaries[[#This Row],[Currency]],Sheet3!$A$2:$B$31,2,FALSE),tblSalaries[[#This Row],[clean Salary (in local currency)]],(tblSalaries[[#This Row],[PPP Adjusted  USD]]/VLOOKUP(Dashboard!$J$5,Sheet3!$B$2:$C$31,2,FALSE)))","v":65000},"Data Analyst","Analyst","USA","4 to 6 hours a day",3]
[null,"ID0605",65000,"USD",65000,{"$f":"(tblSalaries[[#This Row],[clean Salary (in local currency)]])*(VLOOKUP(tblSalaries[[#This Row],[Currency]],Sheet3!$A$2:$C$31,3,FALSE))*(VLOOKUP(tblSalaries[[#This Row],[Currency]],Sheet1!$N$4:$Q$186,4,FALSE))","v":65000},{"$f":"IF(Dashboard!$J$5=VLOOKUP(tblSalaries[[#This Row],[Currency]],Sheet3!$A$2:$B$31,2,FALSE),tblSalaries[[#This Row],[clean Salary (in local currency)]],(tblSalaries[[#This Row],[PPP Adjusted  USD]]/VLOOKUP(Dashboard!$J$5,Sheet3!$B$2:$C$31,2,FALSE)))","v":65000},"Helicopter Mechanic","Analyst","USA","2 to 3 hours per day",17]
[null,"ID0791",65000,"USD",65000,{"$f":"(tblSalaries[[#This Row],[clean Salary (in local currency)]])*(VLOOKUP(tblSalaries[[#This Row],[Currency]],Sheet3!$A$2:$C$31,3,FALSE))*(VLOOKUP(tblSalaries[[#This Row],[Currency]],Sheet1!$N$4:$Q$186,4,FALSE))","v":65000},{"$f":"IF(Dashboard!$J$5=VLOOKUP(tblSalaries[[#This Row],[Currency]],Sheet3!$A$2:$B$31,2,FALSE),tblSalaries[[#This Row],[clean Salary (in local currency)]],(tblSalaries[[#This Row],[PPP Adjusted  USD]]/VLOOKUP(Dashboard!$J$5,Sheet3!$B$2:$C$31,2,FALSE)))","v":65000},"security analyst","Analyst","USA","2 to 3 hours per day",10]
[null,"ID0866",65000,"USD",65000,{"$f":"(tblSalaries[[#This Row],[clean Salary (in local currency)]])*(VLOOKUP(tblSalaries[[#This Row],[Currency]],Sheet3!$A$2:$C$31,3,FALSE))*(VLOOKUP(tblSalaries[[#This Row],[Currency]],Sheet1!$N$4:$Q$186,4,FALSE))","v":65000},{"$f":"IF(Dashboard!$J$5=VLOOKUP(tblSalaries[[#This Row],[Currency]],Sheet3!$A$2:$B$31,2,FALSE),tblSalaries[[#This Row],[clean Salary (in local currency)]],(tblSalaries[[#This Row],[PPP Adjusted  USD]]/VLOOKUP(Dashboard!$J$5,Sheet3!$B$2:$C$31,2,FALSE)))","v":65000},"Security Access Governance Analyst","Analyst","USA","1 or 2 hours a day",8]
[null,"ID1025",65000,"USD",65000,{"$f":"(tblSalaries[[#This Row],[clean Salary (in local currency)]])*(VLOOKUP(tblSalaries[[#This Row],[Currency]],Sheet3!$A$2:$C$31,3,FALSE))*(VLOOKUP(tblSalaries[[#This Row],[Currency]],Sheet1!$N$4:$Q$186,4,FALSE))","v":65000},{"$f":"IF(Dashboard!$J$5=VLOOKUP(tblSalaries[[#This Row],[Currency]],Sheet3!$A$2:$B$31,2,FALSE),tblSalaries[[#This Row],[clean Salary (in local currency)]],(tblSalaries[[#This Row],[PPP Adjusted  USD]]/VLOOKUP(Dashboard!$J$5,Sheet3!$B$2:$C$31,2,FALSE)))","v":65000},"Controller","Controller","USA","4 to 6 hours a day",9]
[null,"ID1402",65000,"USD",65000,{"$f":"(tblSalaries[[#This Row],[clean Salary (in local currency)]])*(VLOOKUP(tblSalaries[[#This Row],[Currency]],Sheet3!$A$2:$C$31,3,FALSE))*(VLOOKUP(tblSalaries[[#This Row],[Currency]],Sheet1!$N$4:$Q$186,4,FALSE))","v":65000},{"$f":"IF(Dashboard!$J$5=VLOOKUP(tblSalaries[[#This Row],[Currency]],Sheet3!$A$2:$B$31,2,FALSE),tblSalaries[[#This Row],[clean Salary (in local currency)]],(tblSalaries[[#This Row],[PPP Adjusted  USD]]/VLOOKUP(Dashboard!$J$5,Sheet3!$B$2:$C$31,2,FALSE)))","v":65000},"eeo analyst","Analyst","USA","2 to 3 hours per day",10]
[null,"ID1407",65000,"USD",65000,{"$f":"(tblSalaries[[#This Row],[clean Salary (in local currency)]])*(VLOOKUP(tblSalaries[[#This Row],[Currency]],Sheet3!$A$2:$C$31,3,FALSE))*(VLOOKUP(tblSalaries[[#This Row],[Currency]],Sheet1!$N$4:$Q$186,4,FALSE))","v":65000},{"$f":"IF(Dashboard!$J$5=VLOOKUP(tblSalaries[[#This Row],[Currency]],Sheet3!$A$2:$B$31,2,FALSE),tblSalaries[[#This Row],[clean Salary (in local currency)]],(tblSalaries[[#This Row],[PPP Adjusted  USD]]/VLOOKUP(Dashboard!$J$5,Sheet3!$B$2:$C$31,2,FALSE)))","v":65000},"Data Analyst","Analyst","USA","All the 8 hours baby, all the 8!",14]
[null,"ID1696",65000,"USD",65000,{"$f":"(tblSalaries[[#This Row],[clean Salary (in local currency)]])*(VLOOKUP(tblSalaries[[#This Row],[Currency]],Sheet3!$A$2:$C$31,3,FALSE))*(VLOOKUP(tblSalaries[[#This Row],[Currency]],Sheet1!$N$4:$Q$186,4,FALSE))","v":65000},{"$f":"IF(Dashboard!$J$5=VLOOKUP(tblSalaries[[#This Row],[Currency]],Sheet3!$A$2:$B$31,2,FALSE),tblSalaries[[#This Row],[clean Salary (in local currency)]],(tblSalaries[[#This Row],[PPP Adjusted  USD]]/VLOOKUP(Dashboard!$J$5,Sheet3!$B$2:$C$31,2,FALSE)))","v":65000},"Business Analyst","Analyst","USA","4 to 6 hours a day",8]
[null,"ID1706",65000,"USD",65000,{"$f":"(tblSalaries[[#This Row],[clean Salary (in local currency)]])*(VLOOKUP(tblSalaries[[#This Row],[Currency]],Sheet3!$A$2:$C$31,3,FALSE))*(VLOOKUP(tblSalaries[[#This Row],[Currency]],Sheet1!$N$4:$Q$186,4,FALSE))","v":65000},{"$f":"IF(Dashboard!$J$5=VLOOKUP(tblSalaries[[#This Row],[Currency]],Sheet3!$A$2:$B$31,2,FALSE),tblSalaries[[#This Row],[clean Salary (in local currency)]],(tblSalaries[[#This Row],[PPP Adjusted  USD]]/VLOOKUP(Dashboard!$J$5,Sheet3!$B$2:$C$31,2,FALSE)))","v":65000},"Actuarial Analyst","Analyst","USA","All the 8 hours baby, all the 8!",4]
[null,"ID1768",65000,"USD",65000,{"$f":"(tblSalaries[[#This Row],[clean Salary (in local currency)]])*(VLOOKUP(tblSalaries[[#This Row],[Currency]],Sheet3!$A$2:$C$31,3,FALSE))*(VLOOKUP(tblSalaries[[#This Row],[Currency]],Sheet1!$N$4:$Q$186,4,FALSE))","v":65000},{"$f":"IF(Dashboard!$J$5=VLOOKUP(tblSalaries[[#This Row],[Currency]],Sheet3!$A$2:$B$31,2,FALSE),tblSalaries[[#This Row],[clean Salary (in local currency)]],(tblSalaries[[#This Row],[PPP Adjusted  USD]]/VLOOKUP(Dashboard!$J$5,Sheet3!$B$2:$C$31,2,FALSE)))","v":65000},"Compliance Officer","Manager","USA","4 to 6 hours a day",2]
[null,"ID1802",65000,"USD",65000,{"$f":"(tblSalaries[[#This Row],[clean Salary (in local currency)]])*(VLOOKUP(tblSalaries[[#This Row],[Currency]],Sheet3!$A$2:$C$31,3,FALSE))*(VLOOKUP(tblSalaries[[#This Row],[Currency]],Sheet1!$N$4:$Q$186,4,FALSE))","v":65000},{"$f":"IF(Dashboard!$J$5=VLOOKUP(tblSalaries[[#This Row],[Currency]],Sheet3!$A$2:$B$31,2,FALSE),tblSalaries[[#This Row],[clean Salary (in local currency)]],(tblSalaries[[#This Row],[PPP Adjusted  USD]]/VLOOKUP(Dashboard!$J$5,Sheet3!$B$2:$C$31,2,FALSE)))","v":65000},"Sr Financial Systems Analyst","Analyst","USA","4 to 6 hours a day",14]
[null,"ID1803",65000,"USD",65000,{"$f":"(tblSalaries[[#This Row],[clean Salary (in local currency)]])*(VLOOKUP(tblSalaries[[#This Row],[Currency]],Sheet3!$A$2:$C$31,3,FALSE))*(VLOOKUP(tblSalaries[[#This Row],[Currency]],Sheet1!$N$4:$Q$186,4,FALSE))","v":65000},{"$f":"IF(Dashboard!$J$5=VLOOKUP(tblSalaries[[#This Row],[Currency]],Sheet3!$A$2:$B$31,2,FALSE),tblSalaries[[#This Row],[clean Salary (in local currency)]],(tblSalaries[[#This Row],[PPP Adjusted  USD]]/VLOOKUP(Dashboard!$J$5,Sheet3!$B$2:$C$31,2,FALSE)))","v":65000},"Data Analyst","Analyst","USA","2 to 3 hours per day",10]
[null,"ID1804",65000,"USD",65000,{"$f":"(tblSalaries[[#This Row],[clean Salary (in local currency)]])*(VLOOKUP(tblSalaries[[#This Row],[Currency]],Sheet3!$A$2:$C$31,3,FALSE))*(VLOOKUP(tblSalaries[[#This Row],[Currency]],Sheet1!$N$4:$Q$186,4,FALSE))","v":65000},{"$f":"IF(Dashboard!$J$5=VLOOKUP(tblSalaries[[#This Row],[Currency]],Sheet3!$A$2:$B$31,2,FALSE),tblSalaries[[#This Row],[clean Salary (in local currency)]],(tblSalaries[[#This Row],[PPP Adjusted  USD]]/VLOOKUP(Dashboard!$J$5,Sheet3!$B$2:$C$31,2,FALSE)))","v":65000},"Assistant Controller","Controller","USA","2 to 3 hours per day",13]
[null,"ID1104",43912,"GBP",69213.140283018583,{"$f":"(tblSalaries[[#This Row],[clean Salary (in local currency)]])*(VLOOKUP(tblSalaries[[#This Row],[Currency]],Sheet3!$A$2:$C$31,3,FALSE))*(VLOOKUP(tblSalaries[[#This Row],[Currency]],Sheet1!$N$4:$Q$186,4,FALSE))","v":64725.023553100531},{"$f":"IF(Dashboard!$J$5=VLOOKUP(tblSalaries[[#This Row],[Currency]],Sheet3!$A$2:$B$31,2,FALSE),tblSalaries[[#This Row],[clean Salary (in local currency)]],(tblSalaries[[#This Row],[PPP Adjusted  USD]]/VLOOKUP(Dashboard!$J$5,Sheet3!$B$2:$C$31,2,FALSE)))","v":64725.023553100531},"Senior Data Analyst","Analyst","UK","All the 8 hours baby, all the 8!",3]
[null,"ID1414",64500,"USD",64500,{"$f":"(tblSalaries[[#This Row],[clean Salary (in local currency)]])*(VLOOKUP(tblSalaries[[#This Row],[Currency]],Sheet3!$A$2:$C$31,3,FALSE))*(VLOOKUP(tblSalaries[[#This Row],[Currency]],Sheet1!$N$4:$Q$186,4,FALSE))","v":64500},{"$f":"IF(Dashboard!$J$5=VLOOKUP(tblSalaries[[#This Row],[Currency]],Sheet3!$A$2:$B$31,2,FALSE),tblSalaries[[#This Row],[clean Salary (in local currency)]],(tblSalaries[[#This Row],[PPP Adjusted  USD]]/VLOOKUP(Dashboard!$J$5,Sheet3!$B$2:$C$31,2,FALSE)))","v":64500},"Lead Budget/Financial Analyst","Analyst","USA","4 to 6 hours a day",13]
[null,"ID1515",64300,"USD",64300,{"$f":"(tblSalaries[[#This Row],[clean Salary (in local currency)]])*(VLOOKUP(tblSalaries[[#This Row],[Currency]],Sheet3!$A$2:$C$31,3,FALSE))*(VLOOKUP(tblSalaries[[#This Row],[Currency]],Sheet1!$N$4:$Q$186,4,FALSE))","v":64300},{"$f":"IF(Dashboard!$J$5=VLOOKUP(tblSalaries[[#This Row],[Currency]],Sheet3!$A$2:$B$31,2,FALSE),tblSalaries[[#This Row],[clean Salary (in local currency)]],(tblSalaries[[#This Row],[PPP Adjusted  USD]]/VLOOKUP(Dashboard!$J$5,Sheet3!$B$2:$C$31,2,FALSE)))","v":64300},"Financial Analst","Accountant","USA","4 to 6 hours a day",15]
[null,"ID1488",64000,"USD",64000,{"$f":"(tblSalaries[[#This Row],[clean Salary (in local currency)]])*(VLOOKUP(tblSalaries[[#This Row],[Currency]],Sheet3!$A$2:$C$31,3,FALSE))*(VLOOKUP(tblSalaries[[#This Row],[Currency]],Sheet1!$N$4:$Q$186,4,FALSE))","v":64000},{"$f":"IF(Dashboard!$J$5=VLOOKUP(tblSalaries[[#This Row],[Currency]],Sheet3!$A$2:$B$31,2,FALSE),tblSalaries[[#This Row],[clean Salary (in local currency)]],(tblSalaries[[#This Row],[PPP Adjusted  USD]]/VLOOKUP(Dashboard!$J$5,Sheet3!$B$2:$C$31,2,FALSE)))","v":64000},"Program Manager","Manager","USA","2 to 3 hours per day",12]
[null,"ID0585",102000,"AUD",104030.78495306884,{"$f":"(tblSalaries[[#This Row],[clean Salary (in local currency)]])*(VLOOKUP(tblSalaries[[#This Row],[Currency]],Sheet3!$A$2:$C$31,3,FALSE))*(VLOOKUP(tblSalaries[[#This Row],[Currency]],Sheet1!$N$4:$Q$186,4,FALSE))","v":63924.833936258321},{"$f":"IF(Dashboard!$J$5=VLOOKUP(tblSalaries[[#This Row],[Currency]],Sheet3!$A$2:$B$31,2,FALSE),tblSalaries[[#This Row],[clean Salary (in local currency)]],(tblSalaries[[#This Row],[PPP Adjusted  USD]]/VLOOKUP(Dashboard!$J$5,Sheet3!$B$2:$C$31,2,FALSE)))","v":63924.833936258321},"coordinator lismore regional airport","Manager","Australia","1 or 2 hours a day",10]
[null,"ID0408",63586,"USD",63586,{"$f":"(tblSalaries[[#This Row],[clean Salary (in local currency)]])*(VLOOKUP(tblSalaries[[#This Row],[Currency]],Sheet3!$A$2:$C$31,3,FALSE))*(VLOOKUP(tblSalaries[[#This Row],[Currency]],Sheet1!$N$4:$Q$186,4,FALSE))","v":63586},{"$f":"IF(Dashboard!$J$5=VLOOKUP(tblSalaries[[#This Row],[Currency]],Sheet3!$A$2:$B$31,2,FALSE),tblSalaries[[#This Row],[clean Salary (in local currency)]],(tblSalaries[[#This Row],[PPP Adjusted  USD]]/VLOOKUP(Dashboard!$J$5,Sheet3!$B$2:$C$31,2,FALSE)))","v":63586},"Senior Purchasing Officer","Manager","UAE","2 to 3 hours per day","Data Not Avaliable"]
[null,"ID1890",600000,"DKK",102542.54233725216,{"$f":"(tblSalaries[[#This Row],[clean Salary (in local currency)]])*(VLOOKUP(tblSalaries[[#This Row],[Currency]],Sheet3!$A$2:$C$31,3,FALSE))*(VLOOKUP(tblSalaries[[#This Row],[Currency]],Sheet1!$N$4:$Q$186,4,FALSE))","v":63569.741900034132},{"$f":"IF(Dashboard!$J$5=VLOOKUP(tblSalaries[[#This Row],[Currency]],Sheet3!$A$2:$B$31,2,FALSE),tblSalaries[[#This Row],[clean Salary (in local currency)]],(tblSalaries[[#This Row],[PPP Adjusted  USD]]/VLOOKUP(Dashboard!$J$5,Sheet3!$B$2:$C$31,2,FALSE)))","v":63569.741900034132},"Engineer","Engineer","Denmark","2 to 3 hours per day",20]
[null,"ID0229",43000,"GBP",67775.665698893223,{"$f":"(tblSalaries[[#This Row],[clean Salary (in local currency)]])*(VLOOKUP(tblSalaries[[#This Row],[Currency]],Sheet3!$A$2:$C$31,3,FALSE))*(VLOOKUP(tblSalaries[[#This Row],[Currency]],Sheet1!$N$4:$Q$186,4,FALSE))","v":63380.761814158388},{"$f":"IF(Dashboard!$J$5=VLOOKUP(tblSalaries[[#This Row],[Currency]],Sheet3!$A$2:$B$31,2,FALSE),tblSalaries[[#This Row],[clean Salary (in local currency)]],(tblSalaries[[#This Row],[PPP Adjusted  USD]]/VLOOKUP(Dashboard!$J$5,Sheet3!$B$2:$C$31,2,FALSE)))","v":63380.761814158388},"ServiceDesk Supervisor","Manager","UK","2 to 3 hours per day","Data Not Avaliable"]
[null,"ID0366",43000,"GBP",67775.665698893223,{"$f":"(tblSalaries[[#This Row],[clean Salary (in local currency)]])*(VLOOKUP(tblSalaries[[#This Row],[Currency]],Sheet3!$A$2:$C$31,3,FALSE))*(VLOOKUP(tblSalaries[[#This Row],[Currency]],Sheet1!$N$4:$Q$186,4,FALSE))","v":63380.761814158388},{"$f":"IF(Dashboard!$J$5=VLOOKUP(tblSalaries[[#This Row],[Currency]],Sheet3!$A$2:$B$31,2,FALSE),tblSalaries[[#This Row],[clean Salary (in local currency)]],(tblSalaries[[#This Row],[PPP Adjusted  USD]]/VLOOKUP(Dashboard!$J$5,Sheet3!$B$2:$C$31,2,FALSE)))","v":63380.761814158388},"Commercial Manager","Manager","UK","4 to 6 hours a day","Data Not Avaliable"]
[null,"ID1176",43000,"GBP",67775.665698893223,{"$f":"(tblSalaries[[#This Row],[clean Salary (in local currency)]])*(VLOOKUP(tblSalaries[[#This Row],[Currency]],Sheet3!$A$2:$C$31,3,FALSE))*(VLOOKUP(tblSalaries[[#This Row],[Currency]],Sheet1!$N$4:$Q$186,4,FALSE))","v":63380.761814158388},{"$f":"IF(Dashboard!$J$5=VLOOKUP(tblSalaries[[#This Row],[Currency]],Sheet3!$A$2:$B$31,2,FALSE),tblSalaries[[#This Row],[clean Salary (in local currency)]],(tblSalaries[[#This Row],[PPP Adjusted  USD]]/VLOOKUP(Dashboard!$J$5,Sheet3!$B$2:$C$31,2,FALSE)))","v":63380.761814158388},"Head of Finance","Accountant","UK","All the 8 hours baby, all the 8!",15]
[null,"ID1251",43000,"GBP",67775.665698893223,{"$f":"(tblSalaries[[#This Row],[clean Salary (in local currency)]])*(VLOOKUP(tblSalaries[[#This Row],[Currency]],Sheet3!$A$2:$C$31,3,FALSE))*(VLOOKUP(tblSalaries[[#This Row],[Currency]],Sheet1!$N$4:$Q$186,4,FALSE))","v":63380.761814158388},{"$f":"IF(Dashboard!$J$5=VLOOKUP(tblSalaries[[#This Row],[Currency]],Sheet3!$A$2:$B$31,2,FALSE),tblSalaries[[#This Row],[clean Salary (in local currency)]],(tblSalaries[[#This Row],[PPP Adjusted  USD]]/VLOOKUP(Dashboard!$J$5,Sheet3!$B$2:$C$31,2,FALSE)))","v":63380.761814158388},"Financial Controller","Controller","UK","4 to 6 hours a day",25]
[null,"ID0378",80000,"CAD",78668.921842426149,{"$f":"(tblSalaries[[#This Row],[clean Salary (in local currency)]])*(VLOOKUP(tblSalaries[[#This Row],[Currency]],Sheet3!$A$2:$C$31,3,FALSE))*(VLOOKUP(tblSalaries[[#This Row],[Currency]],Sheet1!$N$4:$Q$186,4,FALSE))","v":63235.69625618757},{"$f":"IF(Dashboard!$J$5=VLOOKUP(tblSalaries[[#This Row],[Currency]],Sheet3!$A$2:$B$31,2,FALSE),tblSalaries[[#This Row],[clean Salary (in local currency)]],(tblSalaries[[#This Row],[PPP Adjusted  USD]]/VLOOKUP(Dashboard!$J$5,Sheet3!$B$2:$C$31,2,FALSE)))","v":63235.69625618757},"Senior Business Analyst","Analyst","Canada","4 to 6 hours a day","Data Not Avaliable"]
[null,"ID1582",80000,"CAD",78668.921842426149,{"$f":"(tblSalaries[[#This Row],[clean Salary (in local currency)]])*(VLOOKUP(tblSalaries[[#This Row],[Currency]],Sheet3!$A$2:$C$31,3,FALSE))*(VLOOKUP(tblSalaries[[#This Row],[Currency]],Sheet1!$N$4:$Q$186,4,FALSE))","v":63235.69625618757},{"$f":"IF(Dashboard!$J$5=VLOOKUP(tblSalaries[[#This Row],[Currency]],Sheet3!$A$2:$B$31,2,FALSE),tblSalaries[[#This Row],[clean Salary (in local currency)]],(tblSalaries[[#This Row],[PPP Adjusted  USD]]/VLOOKUP(Dashboard!$J$5,Sheet3!$B$2:$C$31,2,FALSE)))","v":63235.69625618757},"Business Operations Analyst","Analyst","Canada","4 to 6 hours a day",7]
[null,"ID0343",63000,"USD",63000,{"$f":"(tblSalaries[[#This Row],[clean Salary (in local currency)]])*(VLOOKUP(tblSalaries[[#This Row],[Currency]],Sheet3!$A$2:$C$31,3,FALSE))*(VLOOKUP(tblSalaries[[#This Row],[Currency]],Sheet1!$N$4:$Q$186,4,FALSE))","v":63000},{"$f":"IF(Dashboard!$J$5=VLOOKUP(tblSalaries[[#This Row],[Currency]],Sheet3!$A$2:$B$31,2,FALSE),tblSalaries[[#This Row],[clean Salary (in local currency)]],(tblSalaries[[#This Row],[PPP Adjusted  USD]]/VLOOKUP(Dashboard!$J$5,Sheet3!$B$2:$C$31,2,FALSE)))","v":63000},"Sales Analyst","Analyst","USA","All the 8 hours baby, all the 8!","Data Not Avaliable"]
[null,"ID1254",63000,"USD",63000,{"$f":"(tblSalaries[[#This Row],[clean Salary (in local currency)]])*(VLOOKUP(tblSalaries[[#This Row],[Currency]],Sheet3!$A$2:$C$31,3,FALSE))*(VLOOKUP(tblSalaries[[#This Row],[Currency]],Sheet1!$N$4:$Q$186,4,FALSE))","v":63000},{"$f":"IF(Dashboard!$J$5=VLOOKUP(tblSalaries[[#This Row],[Currency]],Sheet3!$A$2:$B$31,2,FALSE),tblSalaries[[#This Row],[clean Salary (in local currency)]],(tblSalaries[[#This Row],[PPP Adjusted  USD]]/VLOOKUP(Dashboard!$J$5,Sheet3!$B$2:$C$31,2,FALSE)))","v":63000},"Senior Staff Accountant","Accountant","USA","All the 8 hours baby, all the 8!",16]
[null,"ID1806",63000,"USD",63000,{"$f":"(tblSalaries[[#This Row],[clean Salary (in local currency)]])*(VLOOKUP(tblSalaries[[#This Row],[Currency]],Sheet3!$A$2:$C$31,3,FALSE))*(VLOOKUP(tblSalaries[[#This Row],[Currency]],Sheet1!$N$4:$Q$186,4,FALSE))","v":63000},{"$f":"IF(Dashboard!$J$5=VLOOKUP(tblSalaries[[#This Row],[Currency]],Sheet3!$A$2:$B$31,2,FALSE),tblSalaries[[#This Row],[clean Salary (in local currency)]],(tblSalaries[[#This Row],[PPP Adjusted  USD]]/VLOOKUP(Dashboard!$J$5,Sheet3!$B$2:$C$31,2,FALSE)))","v":63000},"Sales Analyst","Analyst","USA","All the 8 hours baby, all the 8!",10]
[null,"ID1874",63000,"USD",63000,{"$f":"(tblSalaries[[#This Row],[clean Salary (in local currency)]])*(VLOOKUP(tblSalaries[[#This Row],[Currency]],Sheet3!$A$2:$C$31,3,FALSE))*(VLOOKUP(tblSalaries[[#This Row],[Currency]],Sheet1!$N$4:$Q$186,4,FALSE))","v":63000},{"$f":"IF(Dashboard!$J$5=VLOOKUP(tblSalaries[[#This Row],[Currency]],Sheet3!$A$2:$B$31,2,FALSE),tblSalaries[[#This Row],[clean Salary (in local currency)]],(tblSalaries[[#This Row],[PPP Adjusted  USD]]/VLOOKUP(Dashboard!$J$5,Sheet3!$B$2:$C$31,2,FALSE)))","v":63000},"Marketing Database Analyst","Analyst","USA","4 to 6 hours a day",6]
[null,"ID1875",63000,"USD",63000,{"$f":"(tblSalaries[[#This Row],[clean Salary (in local currency)]])*(VLOOKUP(tblSalaries[[#This Row],[Currency]],Sheet3!$A$2:$C$31,3,FALSE))*(VLOOKUP(tblSalaries[[#This Row],[Currency]],Sheet1!$N$4:$Q$186,4,FALSE))","v":63000},{"$f":"IF(Dashboard!$J$5=VLOOKUP(tblSalaries[[#This Row],[Currency]],Sheet3!$A$2:$B$31,2,FALSE),tblSalaries[[#This Row],[clean Salary (in local currency)]],(tblSalaries[[#This Row],[PPP Adjusted  USD]]/VLOOKUP(Dashboard!$J$5,Sheet3!$B$2:$C$31,2,FALSE)))","v":63000},"Financial Analyst","Analyst","USA","All the 8 hours baby, all the 8!",1]
[null,"ID1108",57000,"EUR",72412.768022521646,{"$f":"(tblSalaries[[#This Row],[clean Salary (in local currency)]])*(VLOOKUP(tblSalaries[[#This Row],[Currency]],Sheet3!$A$2:$C$31,3,FALSE))*(VLOOKUP(tblSalaries[[#This Row],[Currency]],Sheet1!$N$4:$Q$186,4,FALSE))","v":62737.214500862974},{"$f":"IF(Dashboard!$J$5=VLOOKUP(tblSalaries[[#This Row],[Currency]],Sheet3!$A$2:$B$31,2,FALSE),tblSalaries[[#This Row],[clean Salary (in local currency)]],(tblSalaries[[#This Row],[PPP Adjusted  USD]]/VLOOKUP(Dashboard!$J$5,Sheet3!$B$2:$C$31,2,FALSE)))","v":62737.214500862974},"Spare Part Coordinator","Manager","Norway","1 or 2 hours a day",15]
[null,"ID0073",100000,"AUD",101990.96564026357,{"$f":"(tblSalaries[[#This Row],[clean Salary (in local currency)]])*(VLOOKUP(tblSalaries[[#This Row],[Currency]],Sheet3!$A$2:$C$31,3,FALSE))*(VLOOKUP(tblSalaries[[#This Row],[Currency]],Sheet1!$N$4:$Q$186,4,FALSE))","v":62671.405819861102},{"$f":"IF(Dashboard!$J$5=VLOOKUP(tblSalaries[[#This Row],[Currency]],Sheet3!$A$2:$B$31,2,FALSE),tblSalaries[[#This Row],[clean Salary (in local currency)]],(tblSalaries[[#This Row],[PPP Adjusted  USD]]/VLOOKUP(Dashboard!$J$5,Sheet3!$B$2:$C$31,2,FALSE)))","v":62671.405819861102},"technical trainer","Manager","Australia","4 to 6 hours a day","Data Not Avaliable"]
[null,"ID0609",100000,"AUD",101990.96564026357,{"$f":"(tblSalaries[[#This Row],[clean Salary (in local currency)]])*(VLOOKUP(tblSalaries[[#This Row],[Currency]],Sheet3!$A$2:$C$31,3,FALSE))*(VLOOKUP(tblSalaries[[#This Row],[Currency]],Sheet1!$N$4:$Q$186,4,FALSE))","v":62671.405819861102},{"$f":"IF(Dashboard!$J$5=VLOOKUP(tblSalaries[[#This Row],[Currency]],Sheet3!$A$2:$B$31,2,FALSE),tblSalaries[[#This Row],[clean Salary (in local currency)]],(tblSalaries[[#This Row],[PPP Adjusted  USD]]/VLOOKUP(Dashboard!$J$5,Sheet3!$B$2:$C$31,2,FALSE)))","v":62671.405819861102},"Purchasing Manager","Manager","Australia","2 to 3 hours per day",20]
[null,"ID0626",100000,"AUD",101990.96564026357,{"$f":"(tblSalaries[[#This Row],[clean Salary (in local currency)]])*(VLOOKUP(tblSalaries[[#This Row],[Currency]],Sheet3!$A$2:$C$31,3,FALSE))*(VLOOKUP(tblSalaries[[#This Row],[Currency]],Sheet1!$N$4:$Q$186,4,FALSE))","v":62671.405819861102},{"$f":"IF(Dashboard!$J$5=VLOOKUP(tblSalaries[[#This Row],[Currency]],Sheet3!$A$2:$B$31,2,FALSE),tblSalaries[[#This Row],[clean Salary (in local currency)]],(tblSalaries[[#This Row],[PPP Adjusted  USD]]/VLOOKUP(Dashboard!$J$5,Sheet3!$B$2:$C$31,2,FALSE)))","v":62671.405819861102},"Business Analyst","Analyst","Australia","All the 8 hours baby, all the 8!",1]
[null,"ID0681",100000,"AUD",101990.96564026357,{"$f":"(tblSalaries[[#This Row],[clean Salary (in local currency)]])*(VLOOKUP(tblSalaries[[#This Row],[Currency]],Sheet3!$A$2:$C$31,3,FALSE))*(VLOOKUP(tblSalaries[[#This Row],[Currency]],Sheet1!$N$4:$Q$186,4,FALSE))","v":62671.405819861102},{"$f":"IF(Dashboard!$J$5=VLOOKUP(tblSalaries[[#This Row],[Currency]],Sheet3!$A$2:$B$31,2,FALSE),tblSalaries[[#This Row],[clean Salary (in local currency)]],(tblSalaries[[#This Row],[PPP Adjusted  USD]]/VLOOKUP(Dashboard!$J$5,Sheet3!$B$2:$C$31,2,FALSE)))","v":62671.405819861102},"principal developer","Manager","Australia","1 or 2 hours a day",20]
[null,"ID0969",100000,"AUD",101990.96564026357,{"$f":"(tblSalaries[[#This Row],[clean Salary (in local currency)]])*(VLOOKUP(tblSalaries[[#This Row],[Currency]],Sheet3!$A$2:$C$31,3,FALSE))*(VLOOKUP(tblSalaries[[#This Row],[Currency]],Sheet1!$N$4:$Q$186,4,FALSE))","v":62671.405819861102},{"$f":"IF(Dashboard!$J$5=VLOOKUP(tblSalaries[[#This Row],[Currency]],Sheet3!$A$2:$B$31,2,FALSE),tblSalaries[[#This Row],[clean Salary (in local currency)]],(tblSalaries[[#This Row],[PPP Adjusted  USD]]/VLOOKUP(Dashboard!$J$5,Sheet3!$B$2:$C$31,2,FALSE)))","v":62671.405819861102},"Senior Consultant","Consultant","Australia","All the 8 hours baby, all the 8!",6]
[null,"ID0994",100000,"AUD",101990.96564026357,{"$f":"(tblSalaries[[#This Row],[clean Salary (in local currency)]])*(VLOOKUP(tblSalaries[[#This Row],[Currency]],Sheet3!$A$2:$C$31,3,FALSE))*(VLOOKUP(tblSalaries[[#This Row],[Currency]],Sheet1!$N$4:$Q$186,4,FALSE))","v":62671.405819861102},{"$f":"IF(Dashboard!$J$5=VLOOKUP(tblSalaries[[#This Row],[Currency]],Sheet3!$A$2:$B$31,2,FALSE),tblSalaries[[#This Row],[clean Salary (in local currency)]],(tblSalaries[[#This Row],[PPP Adjusted  USD]]/VLOOKUP(Dashboard!$J$5,Sheet3!$B$2:$C$31,2,FALSE)))","v":62671.405819861102},"Reporting Analyst","Analyst","Australia","4 to 6 hours a day",20]
[null,"ID1268",100000,"AUD",101990.96564026357,{"$f":"(tblSalaries[[#This Row],[clean Salary (in local currency)]])*(VLOOKUP(tblSalaries[[#This Row],[Currency]],Sheet3!$A$2:$C$31,3,FALSE))*(VLOOKUP(tblSalaries[[#This Row],[Currency]],Sheet1!$N$4:$Q$186,4,FALSE))","v":62671.405819861102},{"$f":"IF(Dashboard!$J$5=VLOOKUP(tblSalaries[[#This Row],[Currency]],Sheet3!$A$2:$B$31,2,FALSE),tblSalaries[[#This Row],[clean Salary (in local currency)]],(tblSalaries[[#This Row],[PPP Adjusted  USD]]/VLOOKUP(Dashboard!$J$5,Sheet3!$B$2:$C$31,2,FALSE)))","v":62671.405819861102},"Contractor/Consultant","Consultant","Australia","4 to 6 hours a day",15]
[null,"ID1356",100000,"AUD",101990.96564026357,{"$f":"(tblSalaries[[#This Row],[clean Salary (in local currency)]])*(VLOOKUP(tblSalaries[[#This Row],[Currency]],Sheet3!$A$2:$C$31,3,FALSE))*(VLOOKUP(tblSalaries[[#This Row],[Currency]],Sheet1!$N$4:$Q$186,4,FALSE))","v":62671.405819861102},{"$f":"IF(Dashboard!$J$5=VLOOKUP(tblSalaries[[#This Row],[Currency]],Sheet3!$A$2:$B$31,2,FALSE),tblSalaries[[#This Row],[clean Salary (in local currency)]],(tblSalaries[[#This Row],[PPP Adjusted  USD]]/VLOOKUP(Dashboard!$J$5,Sheet3!$B$2:$C$31,2,FALSE)))","v":62671.405819861102},"Principal advisor","Consultant","Australia","1 or 2 hours a day",30]
[null,"ID1584",100000,"AUD",101990.96564026357,{"$f":"(tblSalaries[[#This Row],[clean Salary (in local currency)]])*(VLOOKUP(tblSalaries[[#This Row],[Currency]],Sheet3!$A$2:$C$31,3,FALSE))*(VLOOKUP(tblSalaries[[#This Row],[Currency]],Sheet1!$N$4:$Q$186,4,FALSE))","v":62671.405819861102},{"$f":"IF(Dashboard!$J$5=VLOOKUP(tblSalaries[[#This Row],[Currency]],Sheet3!$A$2:$B$31,2,FALSE),tblSalaries[[#This Row],[clean Salary (in local currency)]],(tblSalaries[[#This Row],[PPP Adjusted  USD]]/VLOOKUP(Dashboard!$J$5,Sheet3!$B$2:$C$31,2,FALSE)))","v":62671.405819861102},"Management Accountant","Manager","Australia","4 to 6 hours a day",20]
[null,"ID0361",62500,"USD",62500,{"$f":"(tblSalaries[[#This Row],[clean Salary (in local currency)]])*(VLOOKUP(tblSalaries[[#This Row],[Currency]],Sheet3!$A$2:$C$31,3,FALSE))*(VLOOKUP(tblSalaries[[#This Row],[Currency]],Sheet1!$N$4:$Q$186,4,FALSE))","v":62500},{"$f":"IF(Dashboard!$J$5=VLOOKUP(tblSalaries[[#This Row],[Currency]],Sheet3!$A$2:$B$31,2,FALSE),tblSalaries[[#This Row],[clean Salary (in local currency)]],(tblSalaries[[#This Row],[PPP Adjusted  USD]]/VLOOKUP(Dashboard!$J$5,Sheet3!$B$2:$C$31,2,FALSE)))","v":62500},"Director of Payroll","CXO or Top Mgmt.","USA","All the 8 hours baby, all the 8!","Data Not Avaliable"]
[null,"ID0264",62400,"USD",62400,{"$f":"(tblSalaries[[#This Row],[clean Salary (in local currency)]])*(VLOOKUP(tblSalaries[[#This Row],[Currency]],Sheet3!$A$2:$C$31,3,FALSE))*(VLOOKUP(tblSalaries[[#This Row],[Currency]],Sheet1!$N$4:$Q$186,4,FALSE))","v":62400},{"$f":"IF(Dashboard!$J$5=VLOOKUP(tblSalaries[[#This Row],[Currency]],Sheet3!$A$2:$B$31,2,FALSE),tblSalaries[[#This Row],[clean Salary (in local currency)]],(tblSalaries[[#This Row],[PPP Adjusted  USD]]/VLOOKUP(Dashboard!$J$5,Sheet3!$B$2:$C$31,2,FALSE)))","v":62400},"financial accountant","Accountant","USA","All the 8 hours baby, all the 8!","Data Not Avaliable"]
[null,"ID0055",62000,"USD",62000,{"$f":"(tblSalaries[[#This Row],[clean Salary (in local currency)]])*(VLOOKUP(tblSalaries[[#This Row],[Currency]],Sheet3!$A$2:$C$31,3,FALSE))*(VLOOKUP(tblSalaries[[#This Row],[Currency]],Sheet1!$N$4:$Q$186,4,FALSE))","v":62000},{"$f":"IF(Dashboard!$J$5=VLOOKUP(tblSalaries[[#This Row],[Currency]],Sheet3!$A$2:$B$31,2,FALSE),tblSalaries[[#This Row],[clean Salary (in local currency)]],(tblSalaries[[#This Row],[PPP Adjusted  USD]]/VLOOKUP(Dashboard!$J$5,Sheet3!$B$2:$C$31,2,FALSE)))","v":62000},"Analyst","Analyst","USA","4 to 6 hours a day","Data Not Avaliable"]
[null,"ID0764",62000,"USD",62000,{"$f":"(tblSalaries[[#This Row],[clean Salary (in local currency)]])*(VLOOKUP(tblSalaries[[#This Row],[Currency]],Sheet3!$A$2:$C$31,3,FALSE))*(VLOOKUP(tblSalaries[[#This Row],[Currency]],Sheet1!$N$4:$Q$186,4,FALSE))","v":62000},{"$f":"IF(Dashboard!$J$5=VLOOKUP(tblSalaries[[#This Row],[Currency]],Sheet3!$A$2:$B$31,2,FALSE),tblSalaries[[#This Row],[clean Salary (in local currency)]],(tblSalaries[[#This Row],[PPP Adjusted  USD]]/VLOOKUP(Dashboard!$J$5,Sheet3!$B$2:$C$31,2,FALSE)))","v":62000},"System Analyst ","Analyst","USA","2 to 3 hours per day",20]
[null,"ID0880",62000,"USD",62000,{"$f":"(tblSalaries[[#This Row],[clean Salary (in local currency)]])*(VLOOKUP(tblSalaries[[#This Row],[Currency]],Sheet3!$A$2:$C$31,3,FALSE))*(VLOOKUP(tblSalaries[[#This Row],[Currency]],Sheet1!$N$4:$Q$186,4,FALSE))","v":62000},{"$f":"IF(Dashboard!$J$5=VLOOKUP(tblSalaries[[#This Row],[Currency]],Sheet3!$A$2:$B$31,2,FALSE),tblSalaries[[#This Row],[clean Salary (in local currency)]],(tblSalaries[[#This Row],[PPP Adjusted  USD]]/VLOOKUP(Dashboard!$J$5,Sheet3!$B$2:$C$31,2,FALSE)))","v":62000},"Deputy Manager Finance","Manager","Qatar","All the 8 hours baby, all the 8!",11]
[null,"ID1391",62000,"USD",62000,{"$f":"(tblSalaries[[#This Row],[clean Salary (in local currency)]])*(VLOOKUP(tblSalaries[[#This Row],[Currency]],Sheet3!$A$2:$C$31,3,FALSE))*(VLOOKUP(tblSalaries[[#This Row],[Currency]],Sheet1!$N$4:$Q$186,4,FALSE))","v":62000},{"$f":"IF(Dashboard!$J$5=VLOOKUP(tblSalaries[[#This Row],[Currency]],Sheet3!$A$2:$B$31,2,FALSE),tblSalaries[[#This Row],[clean Salary (in local currency)]],(tblSalaries[[#This Row],[PPP Adjusted  USD]]/VLOOKUP(Dashboard!$J$5,Sheet3!$B$2:$C$31,2,FALSE)))","v":62000},"Measurement Specialist","Specialist","USA","All the 8 hours baby, all the 8!",25]
[null,"ID1525",62000,"USD",62000,{"$f":"(tblSalaries[[#This Row],[clean Salary (in local currency)]])*(VLOOKUP(tblSalaries[[#This Row],[Currency]],Sheet3!$A$2:$C$31,3,FALSE))*(VLOOKUP(tblSalaries[[#This Row],[Currency]],Sheet1!$N$4:$Q$186,4,FALSE))","v":62000},{"$f":"IF(Dashboard!$J$5=VLOOKUP(tblSalaries[[#This Row],[Currency]],Sheet3!$A$2:$B$31,2,FALSE),tblSalaries[[#This Row],[clean Salary (in local currency)]],(tblSalaries[[#This Row],[PPP Adjusted  USD]]/VLOOKUP(Dashboard!$J$5,Sheet3!$B$2:$C$31,2,FALSE)))","v":62000},"info analyst","Analyst","USA","All the 8 hours baby, all the 8!",27]
[null,"ID1614",62000,"USD",62000,{"$f":"(tblSalaries[[#This Row],[clean Salary (in local currency)]])*(VLOOKUP(tblSalaries[[#This Row],[Currency]],Sheet3!$A$2:$C$31,3,FALSE))*(VLOOKUP(tblSalaries[[#This Row],[Currency]],Sheet1!$N$4:$Q$186,4,FALSE))","v":62000},{"$f":"IF(Dashboard!$J$5=VLOOKUP(tblSalaries[[#This Row],[Currency]],Sheet3!$A$2:$B$31,2,FALSE),tblSalaries[[#This Row],[clean Salary (in local currency)]],(tblSalaries[[#This Row],[PPP Adjusted  USD]]/VLOOKUP(Dashboard!$J$5,Sheet3!$B$2:$C$31,2,FALSE)))","v":62000},"Financial Analyst","Analyst","USA","2 to 3 hours per day",5]
[null,"ID1688",62000,"USD",62000,{"$f":"(tblSalaries[[#This Row],[clean Salary (in local currency)]])*(VLOOKUP(tblSalaries[[#This Row],[Currency]],Sheet3!$A$2:$C$31,3,FALSE))*(VLOOKUP(tblSalaries[[#This Row],[Currency]],Sheet1!$N$4:$Q$186,4,FALSE))","v":62000},{"$f":"IF(Dashboard!$J$5=VLOOKUP(tblSalaries[[#This Row],[Currency]],Sheet3!$A$2:$B$31,2,FALSE),tblSalaries[[#This Row],[clean Salary (in local currency)]],(tblSalaries[[#This Row],[PPP Adjusted  USD]]/VLOOKUP(Dashboard!$J$5,Sheet3!$B$2:$C$31,2,FALSE)))","v":62000},"Quality Engineer","Engineer","USA","2 to 3 hours per day",12]
[null,"ID1910",62000,"USD",62000,{"$f":"(tblSalaries[[#This Row],[clean Salary (in local currency)]])*(VLOOKUP(tblSalaries[[#This Row],[Currency]],Sheet3!$A$2:$C$31,3,FALSE))*(VLOOKUP(tblSalaries[[#This Row],[Currency]],Sheet1!$N$4:$Q$186,4,FALSE))","v":62000},{"$f":"IF(Dashboard!$J$5=VLOOKUP(tblSalaries[[#This Row],[Currency]],Sheet3!$A$2:$B$31,2,FALSE),tblSalaries[[#This Row],[clean Salary (in local currency)]],(tblSalaries[[#This Row],[PPP Adjusted  USD]]/VLOOKUP(Dashboard!$J$5,Sheet3!$B$2:$C$31,2,FALSE)))","v":62000},"Analyst","Analyst","USA","4 to 6 hours a day",4]
[null,"ID1662",42000,"GBP",66199.48742682593,{"$f":"(tblSalaries[[#This Row],[clean Salary (in local currency)]])*(VLOOKUP(tblSalaries[[#This Row],[Currency]],Sheet3!$A$2:$C$31,3,FALSE))*(VLOOKUP(tblSalaries[[#This Row],[Currency]],Sheet1!$N$4:$Q$186,4,FALSE))","v":61906.790609177951},{"$f":"IF(Dashboard!$J$5=VLOOKUP(tblSalaries[[#This Row],[Currency]],Sheet3!$A$2:$B$31,2,FALSE),tblSalaries[[#This Row],[clean Salary (in local currency)]],(tblSalaries[[#This Row],[PPP Adjusted  USD]]/VLOOKUP(Dashboard!$J$5,Sheet3!$B$2:$C$31,2,FALSE)))","v":61906.790609177951},"Management Accountant","Manager","UK","4 to 6 hours a day",23]
[null,"ID1805",78000,"CAD",76702.198796365497,{"$f":"(tblSalaries[[#This Row],[clean Salary (in local currency)]])*(VLOOKUP(tblSalaries[[#This Row],[Currency]],Sheet3!$A$2:$C$31,3,FALSE))*(VLOOKUP(tblSalaries[[#This Row],[Currency]],Sheet1!$N$4:$Q$186,4,FALSE))","v":61654.803849782889},{"$f":"IF(Dashboard!$J$5=VLOOKUP(tblSalaries[[#This Row],[Currency]],Sheet3!$A$2:$B$31,2,FALSE),tblSalaries[[#This Row],[clean Salary (in local currency)]],(tblSalaries[[#This Row],[PPP Adjusted  USD]]/VLOOKUP(Dashboard!$J$5,Sheet3!$B$2:$C$31,2,FALSE)))","v":61654.803849782889},"SFA","Analyst","Canada","All the 8 hours baby, all the 8!",4]
[null,"ID0165",1300000,"INR",23150.291693675339,{"$f":"(tblSalaries[[#This Row],[clean Salary (in local currency)]])*(VLOOKUP(tblSalaries[[#This Row],[Currency]],Sheet3!$A$2:$C$31,3,FALSE))*(VLOOKUP(tblSalaries[[#This Row],[Currency]],Sheet1!$N$4:$Q$186,4,FALSE))","v":61569.329053307993},{"$f":"IF(Dashboard!$J$5=VLOOKUP(tblSalaries[[#This Row],[Currency]],Sheet3!$A$2:$B$31,2,FALSE),tblSalaries[[#This Row],[clean Salary (in local currency)]],(tblSalaries[[#This Row],[PPP Adjusted  USD]]/VLOOKUP(Dashboard!$J$5,Sheet3!$B$2:$C$31,2,FALSE)))","v":61569.329053307993},"Manager","Manager","India","4 to 6 hours a day","Data Not Avaliable"]
[null,"ID0911",1300000,"INR",23150.291693675339,{"$f":"(tblSalaries[[#This Row],[clean Salary (in local currency)]])*(VLOOKUP(tblSalaries[[#This Row],[Currency]],Sheet3!$A$2:$C$31,3,FALSE))*(VLOOKUP(tblSalaries[[#This Row],[Currency]],Sheet1!$N$4:$Q$186,4,FALSE))","v":61569.329053307993},{"$f":"IF(Dashboard!$J$5=VLOOKUP(tblSalaries[[#This Row],[Currency]],Sheet3!$A$2:$B$31,2,FALSE),tblSalaries[[#This Row],[clean Salary (in local currency)]],(tblSalaries[[#This Row],[PPP Adjusted  USD]]/VLOOKUP(Dashboard!$J$5,Sheet3!$B$2:$C$31,2,FALSE)))","v":61569.329053307993},"banker","Manager","India","1 or 2 hours a day",3]
[null,"ID1779",1300000,"INR",23150.291693675339,{"$f":"(tblSalaries[[#This Row],[clean Salary (in local currency)]])*(VLOOKUP(tblSalaries[[#This Row],[Currency]],Sheet3!$A$2:$C$31,3,FALSE))*(VLOOKUP(tblSalaries[[#This Row],[Currency]],Sheet1!$N$4:$Q$186,4,FALSE))","v":61569.329053307993},{"$f":"IF(Dashboard!$J$5=VLOOKUP(tblSalaries[[#This Row],[Currency]],Sheet3!$A$2:$B$31,2,FALSE),tblSalaries[[#This Row],[clean Salary (in local currency)]],(tblSalaries[[#This Row],[PPP Adjusted  USD]]/VLOOKUP(Dashboard!$J$5,Sheet3!$B$2:$C$31,2,FALSE)))","v":61569.329053307993},"Manager","Manager","India","All the 8 hours baby, all the 8!",9]
[null,"ID0063",61000,"USD",61000,{"$f":"(tblSalaries[[#This Row],[clean Salary (in local currency)]])*(VLOOKUP(tblSalaries[[#This Row],[Currency]],Sheet3!$A$2:$C$31,3,FALSE))*(VLOOKUP(tblSalaries[[#This Row],[Currency]],Sheet1!$N$4:$Q$186,4,FALSE))","v":61000},{"$f":"IF(Dashboard!$J$5=VLOOKUP(tblSalaries[[#This Row],[Currency]],Sheet3!$A$2:$B$31,2,FALSE),tblSalaries[[#This Row],[clean Salary (in local currency)]],(tblSalaries[[#This Row],[PPP Adjusted  USD]]/VLOOKUP(Dashboard!$J$5,Sheet3!$B$2:$C$31,2,FALSE)))","v":61000},"Coordinator Of Costa and Buget","Manager","Brasil","All the 8 hours baby, all the 8!","Data Not Avaliable"]
[null,"ID0332",61000,"USD",61000,{"$f":"(tblSalaries[[#This Row],[clean Salary (in local currency)]])*(VLOOKUP(tblSalaries[[#This Row],[Currency]],Sheet3!$A$2:$C$31,3,FALSE))*(VLOOKUP(tblSalaries[[#This Row],[Currency]],Sheet1!$N$4:$Q$186,4,FALSE))","v":61000},{"$f":"IF(Dashboard!$J$5=VLOOKUP(tblSalaries[[#This Row],[Currency]],Sheet3!$A$2:$B$31,2,FALSE),tblSalaries[[#This Row],[clean Salary (in local currency)]],(tblSalaries[[#This Row],[PPP Adjusted  USD]]/VLOOKUP(Dashboard!$J$5,Sheet3!$B$2:$C$31,2,FALSE)))","v":61000},"Data Analyst","Analyst","USA","1 or 2 hours a day","Data Not Avaliable"]
[null,"ID0519",61000,"USD",61000,{"$f":"(tblSalaries[[#This Row],[clean Salary (in local currency)]])*(VLOOKUP(tblSalaries[[#This Row],[Currency]],Sheet3!$A$2:$C$31,3,FALSE))*(VLOOKUP(tblSalaries[[#This Row],[Currency]],Sheet1!$N$4:$Q$186,4,FALSE))","v":61000},{"$f":"IF(Dashboard!$J$5=VLOOKUP(tblSalaries[[#This Row],[Currency]],Sheet3!$A$2:$B$31,2,FALSE),tblSalaries[[#This Row],[clean Salary (in local currency)]],(tblSalaries[[#This Row],[PPP Adjusted  USD]]/VLOOKUP(Dashboard!$J$5,Sheet3!$B$2:$C$31,2,FALSE)))","v":61000},"Senior Accountant","Accountant","USA","4 to 6 hours a day","Data Not Avaliable"]
[null,"ID0614",61000,"USD",61000,{"$f":"(tblSalaries[[#This Row],[clean Salary (in local currency)]])*(VLOOKUP(tblSalaries[[#This Row],[Currency]],Sheet3!$A$2:$C$31,3,FALSE))*(VLOOKUP(tblSalaries[[#This Row],[Currency]],Sheet1!$N$4:$Q$186,4,FALSE))","v":61000},{"$f":"IF(Dashboard!$J$5=VLOOKUP(tblSalaries[[#This Row],[Currency]],Sheet3!$A$2:$B$31,2,FALSE),tblSalaries[[#This Row],[clean Salary (in local currency)]],(tblSalaries[[#This Row],[PPP Adjusted  USD]]/VLOOKUP(Dashboard!$J$5,Sheet3!$B$2:$C$31,2,FALSE)))","v":61000},"Sales ops","Manager","USA","4 to 6 hours a day",5]
[null,"ID1204",61000,"USD",61000,{"$f":"(tblSalaries[[#This Row],[clean Salary (in local currency)]])*(VLOOKUP(tblSalaries[[#This Row],[Currency]],Sheet3!$A$2:$C$31,3,FALSE))*(VLOOKUP(tblSalaries[[#This Row],[Currency]],Sheet1!$N$4:$Q$186,4,FALSE))","v":61000},{"$f":"IF(Dashboard!$J$5=VLOOKUP(tblSalaries[[#This Row],[Currency]],Sheet3!$A$2:$B$31,2,FALSE),tblSalaries[[#This Row],[clean Salary (in local currency)]],(tblSalaries[[#This Row],[PPP Adjusted  USD]]/VLOOKUP(Dashboard!$J$5,Sheet3!$B$2:$C$31,2,FALSE)))","v":61000},"Financial Analyst","Analyst","USA","4 to 6 hours a day",1.5]
[null,"ID1429",61000,"USD",61000,{"$f":"(tblSalaries[[#This Row],[clean Salary (in local currency)]])*(VLOOKUP(tblSalaries[[#This Row],[Currency]],Sheet3!$A$2:$C$31,3,FALSE))*(VLOOKUP(tblSalaries[[#This Row],[Currency]],Sheet1!$N$4:$Q$186,4,FALSE))","v":61000},{"$f":"IF(Dashboard!$J$5=VLOOKUP(tblSalaries[[#This Row],[Currency]],Sheet3!$A$2:$B$31,2,FALSE),tblSalaries[[#This Row],[clean Salary (in local currency)]],(tblSalaries[[#This Row],[PPP Adjusted  USD]]/VLOOKUP(Dashboard!$J$5,Sheet3!$B$2:$C$31,2,FALSE)))","v":61000},"Treasury Analyst","Analyst","USA","4 to 6 hours a day",12]
[null,"ID1439",61000,"USD",61000,{"$f":"(tblSalaries[[#This Row],[clean Salary (in local currency)]])*(VLOOKUP(tblSalaries[[#This Row],[Currency]],Sheet3!$A$2:$C$31,3,FALSE))*(VLOOKUP(tblSalaries[[#This Row],[Currency]],Sheet1!$N$4:$Q$186,4,FALSE))","v":61000},{"$f":"IF(Dashboard!$J$5=VLOOKUP(tblSalaries[[#This Row],[Currency]],Sheet3!$A$2:$B$31,2,FALSE),tblSalaries[[#This Row],[clean Salary (in local currency)]],(tblSalaries[[#This Row],[PPP Adjusted  USD]]/VLOOKUP(Dashboard!$J$5,Sheet3!$B$2:$C$31,2,FALSE)))","v":61000},"Accounting manager","Manager","USA","2 to 3 hours per day",25]
[null,"ID1501",61000,"USD",61000,{"$f":"(tblSalaries[[#This Row],[clean Salary (in local currency)]])*(VLOOKUP(tblSalaries[[#This Row],[Currency]],Sheet3!$A$2:$C$31,3,FALSE))*(VLOOKUP(tblSalaries[[#This Row],[Currency]],Sheet1!$N$4:$Q$186,4,FALSE))","v":61000},{"$f":"IF(Dashboard!$J$5=VLOOKUP(tblSalaries[[#This Row],[Currency]],Sheet3!$A$2:$B$31,2,FALSE),tblSalaries[[#This Row],[clean Salary (in local currency)]],(tblSalaries[[#This Row],[PPP Adjusted  USD]]/VLOOKUP(Dashboard!$J$5,Sheet3!$B$2:$C$31,2,FALSE)))","v":61000},"Financial Analyst","Analyst","USA","4 to 6 hours a day",5]
[null,"ID1397",60800,"USD",60800,{"$f":"(tblSalaries[[#This Row],[clean Salary (in local currency)]])*(VLOOKUP(tblSalaries[[#This Row],[Currency]],Sheet3!$A$2:$C$31,3,FALSE))*(VLOOKUP(tblSalaries[[#This Row],[Currency]],Sheet1!$N$4:$Q$186,4,FALSE))","v":60800},{"$f":"IF(Dashboard!$J$5=VLOOKUP(tblSalaries[[#This Row],[Currency]],Sheet3!$A$2:$B$31,2,FALSE),tblSalaries[[#This Row],[clean Salary (in local currency)]],(tblSalaries[[#This Row],[PPP Adjusted  USD]]/VLOOKUP(Dashboard!$J$5,Sheet3!$B$2:$C$31,2,FALSE)))","v":60800},"Data Integrity & Reporting Tool Analyst","Analyst","USA","All the 8 hours baby, all the 8!",10]
[null,"ID1158",366252,"ZAR",44654.095718350931,{"$f":"(tblSalaries[[#This Row],[clean Salary (in local currency)]])*(VLOOKUP(tblSalaries[[#This Row],[Currency]],Sheet3!$A$2:$C$31,3,FALSE))*(VLOOKUP(tblSalaries[[#This Row],[Currency]],Sheet1!$N$4:$Q$186,4,FALSE))","v":60746.351819795003},{"$f":"IF(Dashboard!$J$5=VLOOKUP(tblSalaries[[#This Row],[Currency]],Sheet3!$A$2:$B$31,2,FALSE),tblSalaries[[#This Row],[clean Salary (in local currency)]],(tblSalaries[[#This Row],[PPP Adjusted  USD]]/VLOOKUP(Dashboard!$J$5,Sheet3!$B$2:$C$31,2,FALSE)))","v":60746.351819795003},"Accountant","Accountant","South Africa","All the 8 hours baby, all the 8!",15]
[null,"ID0566",55000,"EUR",69871.969144538423,{"$f":"(tblSalaries[[#This Row],[clean Salary (in local currency)]])*(VLOOKUP(tblSalaries[[#This Row],[Currency]],Sheet3!$A$2:$C$31,3,FALSE))*(VLOOKUP(tblSalaries[[#This Row],[Currency]],Sheet1!$N$4:$Q$186,4,FALSE))","v":60535.908728902868},{"$f":"IF(Dashboard!$J$5=VLOOKUP(tblSalaries[[#This Row],[Currency]],Sheet3!$A$2:$B$31,2,FALSE),tblSalaries[[#This Row],[clean Salary (in local currency)]],(tblSalaries[[#This Row],[PPP Adjusted  USD]]/VLOOKUP(Dashboard!$J$5,Sheet3!$B$2:$C$31,2,FALSE)))","v":60535.908728902868},"Business analyst","Analyst","Netherlands","All the 8 hours baby, all the 8!",6]
[null,"ID0778",55000,"EUR",69871.969144538423,{"$f":"(tblSalaries[[#This Row],[clean Salary (in local currency)]])*(VLOOKUP(tblSalaries[[#This Row],[Currency]],Sheet3!$A$2:$C$31,3,FALSE))*(VLOOKUP(tblSalaries[[#This Row],[Currency]],Sheet1!$N$4:$Q$186,4,FALSE))","v":60535.908728902868},{"$f":"IF(Dashboard!$J$5=VLOOKUP(tblSalaries[[#This Row],[Currency]],Sheet3!$A$2:$B$31,2,FALSE),tblSalaries[[#This Row],[clean Salary (in local currency)]],(tblSalaries[[#This Row],[PPP Adjusted  USD]]/VLOOKUP(Dashboard!$J$5,Sheet3!$B$2:$C$31,2,FALSE)))","v":60535.908728902868},"CFO","CXO or Top Mgmt.","italy","2 to 3 hours per day",18]
[null,"ID1553",55000,"EUR",69871.969144538423,{"$f":"(tblSalaries[[#This Row],[clean Salary (in local currency)]])*(VLOOKUP(tblSalaries[[#This Row],[Currency]],Sheet3!$A$2:$C$31,3,FALSE))*(VLOOKUP(tblSalaries[[#This Row],[Currency]],Sheet1!$N$4:$Q$186,4,FALSE))","v":60535.908728902868},{"$f":"IF(Dashboard!$J$5=VLOOKUP(tblSalaries[[#This Row],[Currency]],Sheet3!$A$2:$B$31,2,FALSE),tblSalaries[[#This Row],[clean Salary (in local currency)]],(tblSalaries[[#This Row],[PPP Adjusted  USD]]/VLOOKUP(Dashboard!$J$5,Sheet3!$B$2:$C$31,2,FALSE)))","v":60535.908728902868},"Risk Officer","Manager","Netherlands","1 or 2 hours a day",5]
[null,"ID0026",60000,"USD",60000,{"$f":"(tblSalaries[[#This Row],[clean Salary (in local currency)]])*(VLOOKUP(tblSalaries[[#This Row],[Currency]],Sheet3!$A$2:$C$31,3,FALSE))*(VLOOKUP(tblSalaries[[#This Row],[Currency]],Sheet1!$N$4:$Q$186,4,FALSE))","v":60000},{"$f":"IF(Dashboard!$J$5=VLOOKUP(tblSalaries[[#This Row],[Currency]],Sheet3!$A$2:$B$31,2,FALSE),tblSalaries[[#This Row],[clean Salary (in local currency)]],(tblSalaries[[#This Row],[PPP Adjusted  USD]]/VLOOKUP(Dashboard!$J$5,Sheet3!$B$2:$C$31,2,FALSE)))","v":60000},"Analyst II","Analyst","USA","All the 8 hours baby, all the 8!","Data Not Avaliable"]
[null,"ID0077",60000,"USD",60000,{"$f":"(tblSalaries[[#This Row],[clean Salary (in local currency)]])*(VLOOKUP(tblSalaries[[#This Row],[Currency]],Sheet3!$A$2:$C$31,3,FALSE))*(VLOOKUP(tblSalaries[[#This Row],[Currency]],Sheet1!$N$4:$Q$186,4,FALSE))","v":60000},{"$f":"IF(Dashboard!$J$5=VLOOKUP(tblSalaries[[#This Row],[Currency]],Sheet3!$A$2:$B$31,2,FALSE),tblSalaries[[#This Row],[clean Salary (in local currency)]],(tblSalaries[[#This Row],[PPP Adjusted  USD]]/VLOOKUP(Dashboard!$J$5,Sheet3!$B$2:$C$31,2,FALSE)))","v":60000},"Statistical Analyst","Analyst","Canada","1 or 2 hours a day","Data Not Avaliable"]
[null,"ID0164",60000,"USD",60000,{"$f":"(tblSalaries[[#This Row],[clean Salary (in local currency)]])*(VLOOKUP(tblSalaries[[#This Row],[Currency]],Sheet3!$A$2:$C$31,3,FALSE))*(VLOOKUP(tblSalaries[[#This Row],[Currency]],Sheet1!$N$4:$Q$186,4,FALSE))","v":60000},{"$f":"IF(Dashboard!$J$5=VLOOKUP(tblSalaries[[#This Row],[Currency]],Sheet3!$A$2:$B$31,2,FALSE),tblSalaries[[#This Row],[clean Salary (in local currency)]],(tblSalaries[[#This Row],[PPP Adjusted  USD]]/VLOOKUP(Dashboard!$J$5,Sheet3!$B$2:$C$31,2,FALSE)))","v":60000},"Telecom Technician","Analyst","USA","4 to 6 hours a day","Data Not Avaliable"]
[null,"ID0186",60000,"USD",60000,{"$f":"(tblSalaries[[#This Row],[clean Salary (in local currency)]])*(VLOOKUP(tblSalaries[[#This Row],[Currency]],Sheet3!$A$2:$C$31,3,FALSE))*(VLOOKUP(tblSalaries[[#This Row],[Currency]],Sheet1!$N$4:$Q$186,4,FALSE))","v":60000},{"$f":"IF(Dashboard!$J$5=VLOOKUP(tblSalaries[[#This Row],[Currency]],Sheet3!$A$2:$B$31,2,FALSE),tblSalaries[[#This Row],[clean Salary (in local currency)]],(tblSalaries[[#This Row],[PPP Adjusted  USD]]/VLOOKUP(Dashboard!$J$5,Sheet3!$B$2:$C$31,2,FALSE)))","v":60000},"Senior Staff Accountant","Accountant","USA","4 to 6 hours a day","Data Not Avaliable"]
[null,"ID0193",60000,"USD",60000,{"$f":"(tblSalaries[[#This Row],[clean Salary (in local currency)]])*(VLOOKUP(tblSalaries[[#This Row],[Currency]],Sheet3!$A$2:$C$31,3,FALSE))*(VLOOKUP(tblSalaries[[#This Row],[Currency]],Sheet1!$N$4:$Q$186,4,FALSE))","v":60000},{"$f":"IF(Dashboard!$J$5=VLOOKUP(tblSalaries[[#This Row],[Currency]],Sheet3!$A$2:$B$31,2,FALSE),tblSalaries[[#This Row],[clean Salary (in local currency)]],(tblSalaries[[#This Row],[PPP Adjusted  USD]]/VLOOKUP(Dashboard!$J$5,Sheet3!$B$2:$C$31,2,FALSE)))","v":60000},"Accounting/Financial Analyst","Analyst","USA","4 to 6 hours a day","Data Not Avaliable"]
[null,"ID0236",60000,"USD",60000,{"$f":"(tblSalaries[[#This Row],[clean Salary (in local currency)]])*(VLOOKUP(tblSalaries[[#This Row],[Currency]],Sheet3!$A$2:$C$31,3,FALSE))*(VLOOKUP(tblSalaries[[#This Row],[Currency]],Sheet1!$N$4:$Q$186,4,FALSE))","v":60000},{"$f":"IF(Dashboard!$J$5=VLOOKUP(tblSalaries[[#This Row],[Currency]],Sheet3!$A$2:$B$31,2,FALSE),tblSalaries[[#This Row],[clean Salary (in local currency)]],(tblSalaries[[#This Row],[PPP Adjusted  USD]]/VLOOKUP(Dashboard!$J$5,Sheet3!$B$2:$C$31,2,FALSE)))","v":60000},"Energy Analyst","Analyst","USA","4 to 6 hours a day","Data Not Avaliable"]
[null,"ID0298",60000,"USD",60000,{"$f":"(tblSalaries[[#This Row],[clean Salary (in local currency)]])*(VLOOKUP(tblSalaries[[#This Row],[Currency]],Sheet3!$A$2:$C$31,3,FALSE))*(VLOOKUP(tblSalaries[[#This Row],[Currency]],Sheet1!$N$4:$Q$186,4,FALSE))","v":60000},{"$f":"IF(Dashboard!$J$5=VLOOKUP(tblSalaries[[#This Row],[Currency]],Sheet3!$A$2:$B$31,2,FALSE),tblSalaries[[#This Row],[clean Salary (in local currency)]],(tblSalaries[[#This Row],[PPP Adjusted  USD]]/VLOOKUP(Dashboard!$J$5,Sheet3!$B$2:$C$31,2,FALSE)))","v":60000},"IS Manager","Manager","USA","All the 8 hours baby, all the 8!","Data Not Avaliable"]
[null,"ID0320",60000,"USD",60000,{"$f":"(tblSalaries[[#This Row],[clean Salary (in local currency)]])*(VLOOKUP(tblSalaries[[#This Row],[Currency]],Sheet3!$A$2:$C$31,3,FALSE))*(VLOOKUP(tblSalaries[[#This Row],[Currency]],Sheet1!$N$4:$Q$186,4,FALSE))","v":60000},{"$f":"IF(Dashboard!$J$5=VLOOKUP(tblSalaries[[#This Row],[Currency]],Sheet3!$A$2:$B$31,2,FALSE),tblSalaries[[#This Row],[clean Salary (in local currency)]],(tblSalaries[[#This Row],[PPP Adjusted  USD]]/VLOOKUP(Dashboard!$J$5,Sheet3!$B$2:$C$31,2,FALSE)))","v":60000},"Management Analyst","Analyst","USA","4 to 6 hours a day","Data Not Avaliable"]
[null,"ID0410",60000,"USD",60000,{"$f":"(tblSalaries[[#This Row],[clean Salary (in local currency)]])*(VLOOKUP(tblSalaries[[#This Row],[Currency]],Sheet3!$A$2:$C$31,3,FALSE))*(VLOOKUP(tblSalaries[[#This Row],[Currency]],Sheet1!$N$4:$Q$186,4,FALSE))","v":60000},{"$f":"IF(Dashboard!$J$5=VLOOKUP(tblSalaries[[#This Row],[Currency]],Sheet3!$A$2:$B$31,2,FALSE),tblSalaries[[#This Row],[clean Salary (in local currency)]],(tblSalaries[[#This Row],[PPP Adjusted  USD]]/VLOOKUP(Dashboard!$J$5,Sheet3!$B$2:$C$31,2,FALSE)))","v":60000},"Sr financial analyst ","Analyst","USA","4 to 6 hours a day","Data Not Avaliable"]
[null,"ID0431",60000,"USD",60000,{"$f":"(tblSalaries[[#This Row],[clean Salary (in local currency)]])*(VLOOKUP(tblSalaries[[#This Row],[Currency]],Sheet3!$A$2:$C$31,3,FALSE))*(VLOOKUP(tblSalaries[[#This Row],[Currency]],Sheet1!$N$4:$Q$186,4,FALSE))","v":60000},{"$f":"IF(Dashboard!$J$5=VLOOKUP(tblSalaries[[#This Row],[Currency]],Sheet3!$A$2:$B$31,2,FALSE),tblSalaries[[#This Row],[clean Salary (in local currency)]],(tblSalaries[[#This Row],[PPP Adjusted  USD]]/VLOOKUP(Dashboard!$J$5,Sheet3!$B$2:$C$31,2,FALSE)))","v":60000},"Planner","Manager","USA","4 to 6 hours a day","Data Not Avaliable"]
[null,"ID0456",60000,"USD",60000,{"$f":"(tblSalaries[[#This Row],[clean Salary (in local currency)]])*(VLOOKUP(tblSalaries[[#This Row],[Currency]],Sheet3!$A$2:$C$31,3,FALSE))*(VLOOKUP(tblSalaries[[#This Row],[Currency]],Sheet1!$N$4:$Q$186,4,FALSE))","v":60000},{"$f":"IF(Dashboard!$J$5=VLOOKUP(tblSalaries[[#This Row],[Currency]],Sheet3!$A$2:$B$31,2,FALSE),tblSalaries[[#This Row],[clean Salary (in local currency)]],(tblSalaries[[#This Row],[PPP Adjusted  USD]]/VLOOKUP(Dashboard!$J$5,Sheet3!$B$2:$C$31,2,FALSE)))","v":60000},"Finalcial Reporting Analyst","Analyst","USA","All the 8 hours baby, all the 8!","Data Not Avaliable"]
[null,"ID0465",60000,"USD",60000,{"$f":"(tblSalaries[[#This Row],[clean Salary (in local currency)]])*(VLOOKUP(tblSalaries[[#This Row],[Currency]],Sheet3!$A$2:$C$31,3,FALSE))*(VLOOKUP(tblSalaries[[#This Row],[Currency]],Sheet1!$N$4:$Q$186,4,FALSE))","v":60000},{"$f":"IF(Dashboard!$J$5=VLOOKUP(tblSalaries[[#This Row],[Currency]],Sheet3!$A$2:$B$31,2,FALSE),tblSalaries[[#This Row],[clean Salary (in local currency)]],(tblSalaries[[#This Row],[PPP Adjusted  USD]]/VLOOKUP(Dashboard!$J$5,Sheet3!$B$2:$C$31,2,FALSE)))","v":60000},"Business intelligence manager","Manager","USA","All the 8 hours baby, all the 8!","Data Not Avaliable"]
[null,"ID0557",60000,"USD",60000,{"$f":"(tblSalaries[[#This Row],[clean Salary (in local currency)]])*(VLOOKUP(tblSalaries[[#This Row],[Currency]],Sheet3!$A$2:$C$31,3,FALSE))*(VLOOKUP(tblSalaries[[#This Row],[Currency]],Sheet1!$N$4:$Q$186,4,FALSE))","v":60000},{"$f":"IF(Dashboard!$J$5=VLOOKUP(tblSalaries[[#This Row],[Currency]],Sheet3!$A$2:$B$31,2,FALSE),tblSalaries[[#This Row],[clean Salary (in local currency)]],(tblSalaries[[#This Row],[PPP Adjusted  USD]]/VLOOKUP(Dashboard!$J$5,Sheet3!$B$2:$C$31,2,FALSE)))","v":60000},"Marketing Specialist","Specialist","USA","1 or 2 hours a day","Data Not Avaliable"]
[null,"ID0632",60000,"USD",60000,{"$f":"(tblSalaries[[#This Row],[clean Salary (in local currency)]])*(VLOOKUP(tblSalaries[[#This Row],[Currency]],Sheet3!$A$2:$C$31,3,FALSE))*(VLOOKUP(tblSalaries[[#This Row],[Currency]],Sheet1!$N$4:$Q$186,4,FALSE))","v":60000},{"$f":"IF(Dashboard!$J$5=VLOOKUP(tblSalaries[[#This Row],[Currency]],Sheet3!$A$2:$B$31,2,FALSE),tblSalaries[[#This Row],[clean Salary (in local currency)]],(tblSalaries[[#This Row],[PPP Adjusted  USD]]/VLOOKUP(Dashboard!$J$5,Sheet3!$B$2:$C$31,2,FALSE)))","v":60000},"business analyst","Analyst","USA","4 to 6 hours a day",12]
[null,"ID0734",60000,"USD",60000,{"$f":"(tblSalaries[[#This Row],[clean Salary (in local currency)]])*(VLOOKUP(tblSalaries[[#This Row],[Currency]],Sheet3!$A$2:$C$31,3,FALSE))*(VLOOKUP(tblSalaries[[#This Row],[Currency]],Sheet1!$N$4:$Q$186,4,FALSE))","v":60000},{"$f":"IF(Dashboard!$J$5=VLOOKUP(tblSalaries[[#This Row],[Currency]],Sheet3!$A$2:$B$31,2,FALSE),tblSalaries[[#This Row],[clean Salary (in local currency)]],(tblSalaries[[#This Row],[PPP Adjusted  USD]]/VLOOKUP(Dashboard!$J$5,Sheet3!$B$2:$C$31,2,FALSE)))","v":60000},"Manager","Manager","Russia","4 to 6 hours a day",10]
[null,"ID0811",60000,"USD",60000,{"$f":"(tblSalaries[[#This Row],[clean Salary (in local currency)]])*(VLOOKUP(tblSalaries[[#This Row],[Currency]],Sheet3!$A$2:$C$31,3,FALSE))*(VLOOKUP(tblSalaries[[#This Row],[Currency]],Sheet1!$N$4:$Q$186,4,FALSE))","v":60000},{"$f":"IF(Dashboard!$J$5=VLOOKUP(tblSalaries[[#This Row],[Currency]],Sheet3!$A$2:$B$31,2,FALSE),tblSalaries[[#This Row],[clean Salary (in local currency)]],(tblSalaries[[#This Row],[PPP Adjusted  USD]]/VLOOKUP(Dashboard!$J$5,Sheet3!$B$2:$C$31,2,FALSE)))","v":60000},"Audit Manager","Manager","UAE","2 to 3 hours per day",15]
[null,"ID0875",60000,"USD",60000,{"$f":"(tblSalaries[[#This Row],[clean Salary (in local currency)]])*(VLOOKUP(tblSalaries[[#This Row],[Currency]],Sheet3!$A$2:$C$31,3,FALSE))*(VLOOKUP(tblSalaries[[#This Row],[Currency]],Sheet1!$N$4:$Q$186,4,FALSE))","v":60000},{"$f":"IF(Dashboard!$J$5=VLOOKUP(tblSalaries[[#This Row],[Currency]],Sheet3!$A$2:$B$31,2,FALSE),tblSalaries[[#This Row],[clean Salary (in local currency)]],(tblSalaries[[#This Row],[PPP Adjusted  USD]]/VLOOKUP(Dashboard!$J$5,Sheet3!$B$2:$C$31,2,FALSE)))","v":60000},"Store keeper","Analyst","USA","2 to 3 hours per day",8]
[null,"ID0910",60000,"USD",60000,{"$f":"(tblSalaries[[#This Row],[clean Salary (in local currency)]])*(VLOOKUP(tblSalaries[[#This Row],[Currency]],Sheet3!$A$2:$C$31,3,FALSE))*(VLOOKUP(tblSalaries[[#This Row],[Currency]],Sheet1!$N$4:$Q$186,4,FALSE))","v":60000},{"$f":"IF(Dashboard!$J$5=VLOOKUP(tblSalaries[[#This Row],[Currency]],Sheet3!$A$2:$B$31,2,FALSE),tblSalaries[[#This Row],[clean Salary (in local currency)]],(tblSalaries[[#This Row],[PPP Adjusted  USD]]/VLOOKUP(Dashboard!$J$5,Sheet3!$B$2:$C$31,2,FALSE)))","v":60000},"Cost accountant","Accountant","Singapore","All the 8 hours baby, all the 8!",10]
[null,"ID0935",60000,"USD",60000,{"$f":"(tblSalaries[[#This Row],[clean Salary (in local currency)]])*(VLOOKUP(tblSalaries[[#This Row],[Currency]],Sheet3!$A$2:$C$31,3,FALSE))*(VLOOKUP(tblSalaries[[#This Row],[Currency]],Sheet1!$N$4:$Q$186,4,FALSE))","v":60000},{"$f":"IF(Dashboard!$J$5=VLOOKUP(tblSalaries[[#This Row],[Currency]],Sheet3!$A$2:$B$31,2,FALSE),tblSalaries[[#This Row],[clean Salary (in local currency)]],(tblSalaries[[#This Row],[PPP Adjusted  USD]]/VLOOKUP(Dashboard!$J$5,Sheet3!$B$2:$C$31,2,FALSE)))","v":60000},"Consultant","Consultant","Singapore","4 to 6 hours a day",5]
[null,"ID0970",60000,"USD",60000,{"$f":"(tblSalaries[[#This Row],[clean Salary (in local currency)]])*(VLOOKUP(tblSalaries[[#This Row],[Currency]],Sheet3!$A$2:$C$31,3,FALSE))*(VLOOKUP(tblSalaries[[#This Row],[Currency]],Sheet1!$N$4:$Q$186,4,FALSE))","v":60000},{"$f":"IF(Dashboard!$J$5=VLOOKUP(tblSalaries[[#This Row],[Currency]],Sheet3!$A$2:$B$31,2,FALSE),tblSalaries[[#This Row],[clean Salary (in local currency)]],(tblSalaries[[#This Row],[PPP Adjusted  USD]]/VLOOKUP(Dashboard!$J$5,Sheet3!$B$2:$C$31,2,FALSE)))","v":60000},"Sales Manager","Manager","USA","2 to 3 hours per day",3]
[null,"ID1043",60000,"USD",60000,{"$f":"(tblSalaries[[#This Row],[clean Salary (in local currency)]])*(VLOOKUP(tblSalaries[[#This Row],[Currency]],Sheet3!$A$2:$C$31,3,FALSE))*(VLOOKUP(tblSalaries[[#This Row],[Currency]],Sheet1!$N$4:$Q$186,4,FALSE))","v":60000},{"$f":"IF(Dashboard!$J$5=VLOOKUP(tblSalaries[[#This Row],[Currency]],Sheet3!$A$2:$B$31,2,FALSE),tblSalaries[[#This Row],[clean Salary (in local currency)]],(tblSalaries[[#This Row],[PPP Adjusted  USD]]/VLOOKUP(Dashboard!$J$5,Sheet3!$B$2:$C$31,2,FALSE)))","v":60000},"Excel Developer","Consultant","Finland","All the 8 hours baby, all the 8!",5]
[null,"ID1121",60000,"USD",60000,{"$f":"(tblSalaries[[#This Row],[clean Salary (in local currency)]])*(VLOOKUP(tblSalaries[[#This Row],[Currency]],Sheet3!$A$2:$C$31,3,FALSE))*(VLOOKUP(tblSalaries[[#This Row],[Currency]],Sheet1!$N$4:$Q$186,4,FALSE))","v":60000},{"$f":"IF(Dashboard!$J$5=VLOOKUP(tblSalaries[[#This Row],[Currency]],Sheet3!$A$2:$B$31,2,FALSE),tblSalaries[[#This Row],[clean Salary (in local currency)]],(tblSalaries[[#This Row],[PPP Adjusted  USD]]/VLOOKUP(Dashboard!$J$5,Sheet3!$B$2:$C$31,2,FALSE)))","v":60000},"manager","Manager","India","All the 8 hours baby, all the 8!",14]
[null,"ID1144",60000,"USD",60000,{"$f":"(tblSalaries[[#This Row],[clean Salary (in local currency)]])*(VLOOKUP(tblSalaries[[#This Row],[Currency]],Sheet3!$A$2:$C$31,3,FALSE))*(VLOOKUP(tblSalaries[[#This Row],[Currency]],Sheet1!$N$4:$Q$186,4,FALSE))","v":60000},{"$f":"IF(Dashboard!$J$5=VLOOKUP(tblSalaries[[#This Row],[Currency]],Sheet3!$A$2:$B$31,2,FALSE),tblSalaries[[#This Row],[clean Salary (in local currency)]],(tblSalaries[[#This Row],[PPP Adjusted  USD]]/VLOOKUP(Dashboard!$J$5,Sheet3!$B$2:$C$31,2,FALSE)))","v":60000},"Business Anaylyst","Analyst","USA","2 to 3 hours per day",4]
[null,"ID1191",60000,"USD",60000,{"$f":"(tblSalaries[[#This Row],[clean Salary (in local currency)]])*(VLOOKUP(tblSalaries[[#This Row],[Currency]],Sheet3!$A$2:$C$31,3,FALSE))*(VLOOKUP(tblSalaries[[#This Row],[Currency]],Sheet1!$N$4:$Q$186,4,FALSE))","v":60000},{"$f":"IF(Dashboard!$J$5=VLOOKUP(tblSalaries[[#This Row],[Currency]],Sheet3!$A$2:$B$31,2,FALSE),tblSalaries[[#This Row],[clean Salary (in local currency)]],(tblSalaries[[#This Row],[PPP Adjusted  USD]]/VLOOKUP(Dashboard!$J$5,Sheet3!$B$2:$C$31,2,FALSE)))","v":60000},"Quality Management","Manager","USA","2 to 3 hours per day",10]
[null,"ID1211",60000,"USD",60000,{"$f":"(tblSalaries[[#This Row],[clean Salary (in local currency)]])*(VLOOKUP(tblSalaries[[#This Row],[Currency]],Sheet3!$A$2:$C$31,3,FALSE))*(VLOOKUP(tblSalaries[[#This Row],[Currency]],Sheet1!$N$4:$Q$186,4,FALSE))","v":60000},{"$f":"IF(Dashboard!$J$5=VLOOKUP(tblSalaries[[#This Row],[Currency]],Sheet3!$A$2:$B$31,2,FALSE),tblSalaries[[#This Row],[clean Salary (in local currency)]],(tblSalaries[[#This Row],[PPP Adjusted  USD]]/VLOOKUP(Dashboard!$J$5,Sheet3!$B$2:$C$31,2,FALSE)))","v":60000},"Quality Assurance Engineer","Engineer","USA","1 or 2 hours a day",6]
[null,"ID1215",60000,"USD",60000,{"$f":"(tblSalaries[[#This Row],[clean Salary (in local currency)]])*(VLOOKUP(tblSalaries[[#This Row],[Currency]],Sheet3!$A$2:$C$31,3,FALSE))*(VLOOKUP(tblSalaries[[#This Row],[Currency]],Sheet1!$N$4:$Q$186,4,FALSE))","v":60000},{"$f":"IF(Dashboard!$J$5=VLOOKUP(tblSalaries[[#This Row],[Currency]],Sheet3!$A$2:$B$31,2,FALSE),tblSalaries[[#This Row],[clean Salary (in local currency)]],(tblSalaries[[#This Row],[PPP Adjusted  USD]]/VLOOKUP(Dashboard!$J$5,Sheet3!$B$2:$C$31,2,FALSE)))","v":60000},"sample manager","Manager","USA","4 to 6 hours a day",12]
[null,"ID1337",60000,"USD",60000,{"$f":"(tblSalaries[[#This Row],[clean Salary (in local currency)]])*(VLOOKUP(tblSalaries[[#This Row],[Currency]],Sheet3!$A$2:$C$31,3,FALSE))*(VLOOKUP(tblSalaries[[#This Row],[Currency]],Sheet1!$N$4:$Q$186,4,FALSE))","v":60000},{"$f":"IF(Dashboard!$J$5=VLOOKUP(tblSalaries[[#This Row],[Currency]],Sheet3!$A$2:$B$31,2,FALSE),tblSalaries[[#This Row],[clean Salary (in local currency)]],(tblSalaries[[#This Row],[PPP Adjusted  USD]]/VLOOKUP(Dashboard!$J$5,Sheet3!$B$2:$C$31,2,FALSE)))","v":60000},"Controlling Manager","Manager","CEE","All the 8 hours baby, all the 8!",20]
[null,"ID1365",60000,"USD",60000,{"$f":"(tblSalaries[[#This Row],[clean Salary (in local currency)]])*(VLOOKUP(tblSalaries[[#This Row],[Currency]],Sheet3!$A$2:$C$31,3,FALSE))*(VLOOKUP(tblSalaries[[#This Row],[Currency]],Sheet1!$N$4:$Q$186,4,FALSE))","v":60000},{"$f":"IF(Dashboard!$J$5=VLOOKUP(tblSalaries[[#This Row],[Currency]],Sheet3!$A$2:$B$31,2,FALSE),tblSalaries[[#This Row],[clean Salary (in local currency)]],(tblSalaries[[#This Row],[PPP Adjusted  USD]]/VLOOKUP(Dashboard!$J$5,Sheet3!$B$2:$C$31,2,FALSE)))","v":60000},"Business Information Analyst","Analyst","USA","All the 8 hours baby, all the 8!",12]
[null,"ID1375",60000,"USD",60000,{"$f":"(tblSalaries[[#This Row],[clean Salary (in local currency)]])*(VLOOKUP(tblSalaries[[#This Row],[Currency]],Sheet3!$A$2:$C$31,3,FALSE))*(VLOOKUP(tblSalaries[[#This Row],[Currency]],Sheet1!$N$4:$Q$186,4,FALSE))","v":60000},{"$f":"IF(Dashboard!$J$5=VLOOKUP(tblSalaries[[#This Row],[Currency]],Sheet3!$A$2:$B$31,2,FALSE),tblSalaries[[#This Row],[clean Salary (in local currency)]],(tblSalaries[[#This Row],[PPP Adjusted  USD]]/VLOOKUP(Dashboard!$J$5,Sheet3!$B$2:$C$31,2,FALSE)))","v":60000},"project manager","Manager","USA","2 to 3 hours per day",20]
[null,"ID1410",60000,"USD",60000,{"$f":"(tblSalaries[[#This Row],[clean Salary (in local currency)]])*(VLOOKUP(tblSalaries[[#This Row],[Currency]],Sheet3!$A$2:$C$31,3,FALSE))*(VLOOKUP(tblSalaries[[#This Row],[Currency]],Sheet1!$N$4:$Q$186,4,FALSE))","v":60000},{"$f":"IF(Dashboard!$J$5=VLOOKUP(tblSalaries[[#This Row],[Currency]],Sheet3!$A$2:$B$31,2,FALSE),tblSalaries[[#This Row],[clean Salary (in local currency)]],(tblSalaries[[#This Row],[PPP Adjusted  USD]]/VLOOKUP(Dashboard!$J$5,Sheet3!$B$2:$C$31,2,FALSE)))","v":60000},"business analyst","Analyst","USA","4 to 6 hours a day",15]
[null,"ID1459",60000,"USD",60000,{"$f":"(tblSalaries[[#This Row],[clean Salary (in local currency)]])*(VLOOKUP(tblSalaries[[#This Row],[Currency]],Sheet3!$A$2:$C$31,3,FALSE))*(VLOOKUP(tblSalaries[[#This Row],[Currency]],Sheet1!$N$4:$Q$186,4,FALSE))","v":60000},{"$f":"IF(Dashboard!$J$5=VLOOKUP(tblSalaries[[#This Row],[Currency]],Sheet3!$A$2:$B$31,2,FALSE),tblSalaries[[#This Row],[clean Salary (in local currency)]],(tblSalaries[[#This Row],[PPP Adjusted  USD]]/VLOOKUP(Dashboard!$J$5,Sheet3!$B$2:$C$31,2,FALSE)))","v":60000},"Business Intelligence Supervisor","Manager","USA","2 to 3 hours per day",4]
[null,"ID1482",60000,"USD",60000,{"$f":"(tblSalaries[[#This Row],[clean Salary (in local currency)]])*(VLOOKUP(tblSalaries[[#This Row],[Currency]],Sheet3!$A$2:$C$31,3,FALSE))*(VLOOKUP(tblSalaries[[#This Row],[Currency]],Sheet1!$N$4:$Q$186,4,FALSE))","v":60000},{"$f":"IF(Dashboard!$J$5=VLOOKUP(tblSalaries[[#This Row],[Currency]],Sheet3!$A$2:$B$31,2,FALSE),tblSalaries[[#This Row],[clean Salary (in local currency)]],(tblSalaries[[#This Row],[PPP Adjusted  USD]]/VLOOKUP(Dashboard!$J$5,Sheet3!$B$2:$C$31,2,FALSE)))","v":60000},"sales&marketing","Analyst","Turkey","2 to 3 hours per day",10]
[null,"ID1616",60000,"USD",60000,{"$f":"(tblSalaries[[#This Row],[clean Salary (in local currency)]])*(VLOOKUP(tblSalaries[[#This Row],[Currency]],Sheet3!$A$2:$C$31,3,FALSE))*(VLOOKUP(tblSalaries[[#This Row],[Currency]],Sheet1!$N$4:$Q$186,4,FALSE))","v":60000},{"$f":"IF(Dashboard!$J$5=VLOOKUP(tblSalaries[[#This Row],[Currency]],Sheet3!$A$2:$B$31,2,FALSE),tblSalaries[[#This Row],[clean Salary (in local currency)]],(tblSalaries[[#This Row],[PPP Adjusted  USD]]/VLOOKUP(Dashboard!$J$5,Sheet3!$B$2:$C$31,2,FALSE)))","v":60000},"Data Analyst","Analyst","USA","2 to 3 hours per day",1]
[null,"ID1631",60000,"USD",60000,{"$f":"(tblSalaries[[#This Row],[clean Salary (in local currency)]])*(VLOOKUP(tblSalaries[[#This Row],[Currency]],Sheet3!$A$2:$C$31,3,FALSE))*(VLOOKUP(tblSalaries[[#This Row],[Currency]],Sheet1!$N$4:$Q$186,4,FALSE))","v":60000},{"$f":"IF(Dashboard!$J$5=VLOOKUP(tblSalaries[[#This Row],[Currency]],Sheet3!$A$2:$B$31,2,FALSE),tblSalaries[[#This Row],[clean Salary (in local currency)]],(tblSalaries[[#This Row],[PPP Adjusted  USD]]/VLOOKUP(Dashboard!$J$5,Sheet3!$B$2:$C$31,2,FALSE)))","v":60000},"Head of Business","Manager","Indonesia","2 to 3 hours per day",16]
[null,"ID1705",60000,"USD",60000,{"$f":"(tblSalaries[[#This Row],[clean Salary (in local currency)]])*(VLOOKUP(tblSalaries[[#This Row],[Currency]],Sheet3!$A$2:$C$31,3,FALSE))*(VLOOKUP(tblSalaries[[#This Row],[Currency]],Sheet1!$N$4:$Q$186,4,FALSE))","v":60000},{"$f":"IF(Dashboard!$J$5=VLOOKUP(tblSalaries[[#This Row],[Currency]],Sheet3!$A$2:$B$31,2,FALSE),tblSalaries[[#This Row],[clean Salary (in local currency)]],(tblSalaries[[#This Row],[PPP Adjusted  USD]]/VLOOKUP(Dashboard!$J$5,Sheet3!$B$2:$C$31,2,FALSE)))","v":60000},"Analyst","Analyst","USA","All the 8 hours baby, all the 8!",1]
[null,"ID1754",60000,"USD",60000,{"$f":"(tblSalaries[[#This Row],[clean Salary (in local currency)]])*(VLOOKUP(tblSalaries[[#This Row],[Currency]],Sheet3!$A$2:$C$31,3,FALSE))*(VLOOKUP(tblSalaries[[#This Row],[Currency]],Sheet1!$N$4:$Q$186,4,FALSE))","v":60000},{"$f":"IF(Dashboard!$J$5=VLOOKUP(tblSalaries[[#This Row],[Currency]],Sheet3!$A$2:$B$31,2,FALSE),tblSalaries[[#This Row],[clean Salary (in local currency)]],(tblSalaries[[#This Row],[PPP Adjusted  USD]]/VLOOKUP(Dashboard!$J$5,Sheet3!$B$2:$C$31,2,FALSE)))","v":60000},"Project Lead ","Manager","USA","All the 8 hours baby, all the 8!",2]
[null,"ID1755",60000,"USD",60000,{"$f":"(tblSalaries[[#This Row],[clean Salary (in local currency)]])*(VLOOKUP(tblSalaries[[#This Row],[Currency]],Sheet3!$A$2:$C$31,3,FALSE))*(VLOOKUP(tblSalaries[[#This Row],[Currency]],Sheet1!$N$4:$Q$186,4,FALSE))","v":60000},{"$f":"IF(Dashboard!$J$5=VLOOKUP(tblSalaries[[#This Row],[Currency]],Sheet3!$A$2:$B$31,2,FALSE),tblSalaries[[#This Row],[clean Salary (in local currency)]],(tblSalaries[[#This Row],[PPP Adjusted  USD]]/VLOOKUP(Dashboard!$J$5,Sheet3!$B$2:$C$31,2,FALSE)))","v":60000},"Project Lead ","Manager","USA","All the 8 hours baby, all the 8!",2]
[null,"ID1839",60000,"USD",60000,{"$f":"(tblSalaries[[#This Row],[clean Salary (in local currency)]])*(VLOOKUP(tblSalaries[[#This Row],[Currency]],Sheet3!$A$2:$C$31,3,FALSE))*(VLOOKUP(tblSalaries[[#This Row],[Currency]],Sheet1!$N$4:$Q$186,4,FALSE))","v":60000},{"$f":"IF(Dashboard!$J$5=VLOOKUP(tblSalaries[[#This Row],[Currency]],Sheet3!$A$2:$B$31,2,FALSE),tblSalaries[[#This Row],[clean Salary (in local currency)]],(tblSalaries[[#This Row],[PPP Adjusted  USD]]/VLOOKUP(Dashboard!$J$5,Sheet3!$B$2:$C$31,2,FALSE)))","v":60000},"Business Analyst","Analyst","USA","4 to 6 hours a day",15]
[null,"ID1844",60000,"USD",60000,{"$f":"(tblSalaries[[#This Row],[clean Salary (in local currency)]])*(VLOOKUP(tblSalaries[[#This Row],[Currency]],Sheet3!$A$2:$C$31,3,FALSE))*(VLOOKUP(tblSalaries[[#This Row],[Currency]],Sheet1!$N$4:$Q$186,4,FALSE))","v":60000},{"$f":"IF(Dashboard!$J$5=VLOOKUP(tblSalaries[[#This Row],[Currency]],Sheet3!$A$2:$B$31,2,FALSE),tblSalaries[[#This Row],[clean Salary (in local currency)]],(tblSalaries[[#This Row],[PPP Adjusted  USD]]/VLOOKUP(Dashboard!$J$5,Sheet3!$B$2:$C$31,2,FALSE)))","v":60000},"Analyst","Analyst","UAE","4 to 6 hours a day",5]
[null,"ID1849",60000,"USD",60000,{"$f":"(tblSalaries[[#This Row],[clean Salary (in local currency)]])*(VLOOKUP(tblSalaries[[#This Row],[Currency]],Sheet3!$A$2:$C$31,3,FALSE))*(VLOOKUP(tblSalaries[[#This Row],[Currency]],Sheet1!$N$4:$Q$186,4,FALSE))","v":60000},{"$f":"IF(Dashboard!$J$5=VLOOKUP(tblSalaries[[#This Row],[Currency]],Sheet3!$A$2:$B$31,2,FALSE),tblSalaries[[#This Row],[clean Salary (in local currency)]],(tblSalaries[[#This Row],[PPP Adjusted  USD]]/VLOOKUP(Dashboard!$J$5,Sheet3!$B$2:$C$31,2,FALSE)))","v":60000},"Business Analyst","Analyst","USA","2 to 3 hours per day",3]
[null,"ID1870",60000,"USD",60000,{"$f":"(tblSalaries[[#This Row],[clean Salary (in local currency)]])*(VLOOKUP(tblSalaries[[#This Row],[Currency]],Sheet3!$A$2:$C$31,3,FALSE))*(VLOOKUP(tblSalaries[[#This Row],[Currency]],Sheet1!$N$4:$Q$186,4,FALSE))","v":60000},{"$f":"IF(Dashboard!$J$5=VLOOKUP(tblSalaries[[#This Row],[Currency]],Sheet3!$A$2:$B$31,2,FALSE),tblSalaries[[#This Row],[clean Salary (in local currency)]],(tblSalaries[[#This Row],[PPP Adjusted  USD]]/VLOOKUP(Dashboard!$J$5,Sheet3!$B$2:$C$31,2,FALSE)))","v":60000},"Marketing Initatities Analyst","Analyst","USA","All the 8 hours baby, all the 8!",10]
[null,"ID1897",60000,"USD",60000,{"$f":"(tblSalaries[[#This Row],[clean Salary (in local currency)]])*(VLOOKUP(tblSalaries[[#This Row],[Currency]],Sheet3!$A$2:$C$31,3,FALSE))*(VLOOKUP(tblSalaries[[#This Row],[Currency]],Sheet1!$N$4:$Q$186,4,FALSE))","v":60000},{"$f":"IF(Dashboard!$J$5=VLOOKUP(tblSalaries[[#This Row],[Currency]],Sheet3!$A$2:$B$31,2,FALSE),tblSalaries[[#This Row],[clean Salary (in local currency)]],(tblSalaries[[#This Row],[PPP Adjusted  USD]]/VLOOKUP(Dashboard!$J$5,Sheet3!$B$2:$C$31,2,FALSE)))","v":60000},"buyer","Manager","Canada","2 to 3 hours per day",10]
[null,"ID1092",40500,"GBP",63835.220018725006,{"$f":"(tblSalaries[[#This Row],[clean Salary (in local currency)]])*(VLOOKUP(tblSalaries[[#This Row],[Currency]],Sheet3!$A$2:$C$31,3,FALSE))*(VLOOKUP(tblSalaries[[#This Row],[Currency]],Sheet1!$N$4:$Q$186,4,FALSE))","v":59695.833801707311},{"$f":"IF(Dashboard!$J$5=VLOOKUP(tblSalaries[[#This Row],[Currency]],Sheet3!$A$2:$B$31,2,FALSE),tblSalaries[[#This Row],[clean Salary (in local currency)]],(tblSalaries[[#This Row],[PPP Adjusted  USD]]/VLOOKUP(Dashboard!$J$5,Sheet3!$B$2:$C$31,2,FALSE)))","v":59695.833801707311},"Policy, Performance and Research Officer","Manager","UK","2 to 3 hours per day",25]
[null,"ID0769",95000,"AUD",96891.417358250401,{"$f":"(tblSalaries[[#This Row],[clean Salary (in local currency)]])*(VLOOKUP(tblSalaries[[#This Row],[Currency]],Sheet3!$A$2:$C$31,3,FALSE))*(VLOOKUP(tblSalaries[[#This Row],[Currency]],Sheet1!$N$4:$Q$186,4,FALSE))","v":59537.835528868047},{"$f":"IF(Dashboard!$J$5=VLOOKUP(tblSalaries[[#This Row],[Currency]],Sheet3!$A$2:$B$31,2,FALSE),tblSalaries[[#This Row],[clean Salary (in local currency)]],(tblSalaries[[#This Row],[PPP Adjusted  USD]]/VLOOKUP(Dashboard!$J$5,Sheet3!$B$2:$C$31,2,FALSE)))","v":59537.835528868047},"Data Analyst - Report Writer","Analyst","Australia","2 to 3 hours per day",11]
[null,"ID0922",95000,"AUD",96891.417358250401,{"$f":"(tblSalaries[[#This Row],[clean Salary (in local currency)]])*(VLOOKUP(tblSalaries[[#This Row],[Currency]],Sheet3!$A$2:$C$31,3,FALSE))*(VLOOKUP(tblSalaries[[#This Row],[Currency]],Sheet1!$N$4:$Q$186,4,FALSE))","v":59537.835528868047},{"$f":"IF(Dashboard!$J$5=VLOOKUP(tblSalaries[[#This Row],[Currency]],Sheet3!$A$2:$B$31,2,FALSE),tblSalaries[[#This Row],[clean Salary (in local currency)]],(tblSalaries[[#This Row],[PPP Adjusted  USD]]/VLOOKUP(Dashboard!$J$5,Sheet3!$B$2:$C$31,2,FALSE)))","v":59537.835528868047},"Senior Marketing Analyst","Analyst","Australia","1 or 2 hours a day",7]
[null,"ID0965",95000,"AUD",96891.417358250401,{"$f":"(tblSalaries[[#This Row],[clean Salary (in local currency)]])*(VLOOKUP(tblSalaries[[#This Row],[Currency]],Sheet3!$A$2:$C$31,3,FALSE))*(VLOOKUP(tblSalaries[[#This Row],[Currency]],Sheet1!$N$4:$Q$186,4,FALSE))","v":59537.835528868047},{"$f":"IF(Dashboard!$J$5=VLOOKUP(tblSalaries[[#This Row],[Currency]],Sheet3!$A$2:$B$31,2,FALSE),tblSalaries[[#This Row],[clean Salary (in local currency)]],(tblSalaries[[#This Row],[PPP Adjusted  USD]]/VLOOKUP(Dashboard!$J$5,Sheet3!$B$2:$C$31,2,FALSE)))","v":59537.835528868047},"financial analyst","Analyst","Australia","2 to 3 hours per day",20]
[null,"ID0357",75000,"CAD",73752.11422727452,{"$f":"(tblSalaries[[#This Row],[clean Salary (in local currency)]])*(VLOOKUP(tblSalaries[[#This Row],[Currency]],Sheet3!$A$2:$C$31,3,FALSE))*(VLOOKUP(tblSalaries[[#This Row],[Currency]],Sheet1!$N$4:$Q$186,4,FALSE))","v":59283.465240175858},{"$f":"IF(Dashboard!$J$5=VLOOKUP(tblSalaries[[#This Row],[Currency]],Sheet3!$A$2:$B$31,2,FALSE),tblSalaries[[#This Row],[clean Salary (in local currency)]],(tblSalaries[[#This Row],[PPP Adjusted  USD]]/VLOOKUP(Dashboard!$J$5,Sheet3!$B$2:$C$31,2,FALSE)))","v":59283.465240175858},"web marketing analyst","Analyst","Canada","4 to 6 hours a day","Data Not Avaliable"]
[null,"ID1168",59000,"USD",59000,{"$f":"(tblSalaries[[#This Row],[clean Salary (in local currency)]])*(VLOOKUP(tblSalaries[[#This Row],[Currency]],Sheet3!$A$2:$C$31,3,FALSE))*(VLOOKUP(tblSalaries[[#This Row],[Currency]],Sheet1!$N$4:$Q$186,4,FALSE))","v":59000},{"$f":"IF(Dashboard!$J$5=VLOOKUP(tblSalaries[[#This Row],[Currency]],Sheet3!$A$2:$B$31,2,FALSE),tblSalaries[[#This Row],[clean Salary (in local currency)]],(tblSalaries[[#This Row],[PPP Adjusted  USD]]/VLOOKUP(Dashboard!$J$5,Sheet3!$B$2:$C$31,2,FALSE)))","v":59000},"Management Analyst","Analyst","USA","4 to 6 hours a day",14]
[null,"ID1560",59000,"USD",59000,{"$f":"(tblSalaries[[#This Row],[clean Salary (in local currency)]])*(VLOOKUP(tblSalaries[[#This Row],[Currency]],Sheet3!$A$2:$C$31,3,FALSE))*(VLOOKUP(tblSalaries[[#This Row],[Currency]],Sheet1!$N$4:$Q$186,4,FALSE))","v":59000},{"$f":"IF(Dashboard!$J$5=VLOOKUP(tblSalaries[[#This Row],[Currency]],Sheet3!$A$2:$B$31,2,FALSE),tblSalaries[[#This Row],[clean Salary (in local currency)]],(tblSalaries[[#This Row],[PPP Adjusted  USD]]/VLOOKUP(Dashboard!$J$5,Sheet3!$B$2:$C$31,2,FALSE)))","v":59000},"Operations Manager","Manager","USA","4 to 6 hours a day",15]
[null,"ID1673",59000,"USD",59000,{"$f":"(tblSalaries[[#This Row],[clean Salary (in local currency)]])*(VLOOKUP(tblSalaries[[#This Row],[Currency]],Sheet3!$A$2:$C$31,3,FALSE))*(VLOOKUP(tblSalaries[[#This Row],[Currency]],Sheet1!$N$4:$Q$186,4,FALSE))","v":59000},{"$f":"IF(Dashboard!$J$5=VLOOKUP(tblSalaries[[#This Row],[Currency]],Sheet3!$A$2:$B$31,2,FALSE),tblSalaries[[#This Row],[clean Salary (in local currency)]],(tblSalaries[[#This Row],[PPP Adjusted  USD]]/VLOOKUP(Dashboard!$J$5,Sheet3!$B$2:$C$31,2,FALSE)))","v":59000},"Category Leader","Manager","USA","1 or 2 hours a day",3]
[null,"ID0052",40000,"GBP",63047.130882691366,{"$f":"(tblSalaries[[#This Row],[clean Salary (in local currency)]])*(VLOOKUP(tblSalaries[[#This Row],[Currency]],Sheet3!$A$2:$C$31,3,FALSE))*(VLOOKUP(tblSalaries[[#This Row],[Currency]],Sheet1!$N$4:$Q$186,4,FALSE))","v":58958.8481992171},{"$f":"IF(Dashboard!$J$5=VLOOKUP(tblSalaries[[#This Row],[Currency]],Sheet3!$A$2:$B$31,2,FALSE),tblSalaries[[#This Row],[clean Salary (in local currency)]],(tblSalaries[[#This Row],[PPP Adjusted  USD]]/VLOOKUP(Dashboard!$J$5,Sheet3!$B$2:$C$31,2,FALSE)))","v":58958.8481992171},"Senior Accountant","Accountant","UK","4 to 6 hours a day","Data Not Avaliable"]
[null,"ID1107",40000,"GBP",63047.130882691366,{"$f":"(tblSalaries[[#This Row],[clean Salary (in local currency)]])*(VLOOKUP(tblSalaries[[#This Row],[Currency]],Sheet3!$A$2:$C$31,3,FALSE))*(VLOOKUP(tblSalaries[[#This Row],[Currency]],Sheet1!$N$4:$Q$186,4,FALSE))","v":58958.8481992171},{"$f":"IF(Dashboard!$J$5=VLOOKUP(tblSalaries[[#This Row],[Currency]],Sheet3!$A$2:$B$31,2,FALSE),tblSalaries[[#This Row],[clean Salary (in local currency)]],(tblSalaries[[#This Row],[PPP Adjusted  USD]]/VLOOKUP(Dashboard!$J$5,Sheet3!$B$2:$C$31,2,FALSE)))","v":58958.8481992171},"Buyer","Manager","UK","1 or 2 hours a day",20]
[null,"ID1682",40000,"GBP",63047.130882691366,{"$f":"(tblSalaries[[#This Row],[clean Salary (in local currency)]])*(VLOOKUP(tblSalaries[[#This Row],[Currency]],Sheet3!$A$2:$C$31,3,FALSE))*(VLOOKUP(tblSalaries[[#This Row],[Currency]],Sheet1!$N$4:$Q$186,4,FALSE))","v":58958.8481992171},{"$f":"IF(Dashboard!$J$5=VLOOKUP(tblSalaries[[#This Row],[Currency]],Sheet3!$A$2:$B$31,2,FALSE),tblSalaries[[#This Row],[clean Salary (in local currency)]],(tblSalaries[[#This Row],[PPP Adjusted  USD]]/VLOOKUP(Dashboard!$J$5,Sheet3!$B$2:$C$31,2,FALSE)))","v":58958.8481992171},"Technical Specialist","Specialist","UK","2 to 3 hours per day",25]
[null,"ID1724",40000,"GBP",63047.130882691366,{"$f":"(tblSalaries[[#This Row],[clean Salary (in local currency)]])*(VLOOKUP(tblSalaries[[#This Row],[Currency]],Sheet3!$A$2:$C$31,3,FALSE))*(VLOOKUP(tblSalaries[[#This Row],[Currency]],Sheet1!$N$4:$Q$186,4,FALSE))","v":58958.8481992171},{"$f":"IF(Dashboard!$J$5=VLOOKUP(tblSalaries[[#This Row],[Currency]],Sheet3!$A$2:$B$31,2,FALSE),tblSalaries[[#This Row],[clean Salary (in local currency)]],(tblSalaries[[#This Row],[PPP Adjusted  USD]]/VLOOKUP(Dashboard!$J$5,Sheet3!$B$2:$C$31,2,FALSE)))","v":58958.8481992171},"project manager","Manager","UK","4 to 6 hours a day",15]
[null,"ID1737",40000,"GBP",63047.130882691366,{"$f":"(tblSalaries[[#This Row],[clean Salary (in local currency)]])*(VLOOKUP(tblSalaries[[#This Row],[Currency]],Sheet3!$A$2:$C$31,3,FALSE))*(VLOOKUP(tblSalaries[[#This Row],[Currency]],Sheet1!$N$4:$Q$186,4,FALSE))","v":58958.8481992171},{"$f":"IF(Dashboard!$J$5=VLOOKUP(tblSalaries[[#This Row],[Currency]],Sheet3!$A$2:$B$31,2,FALSE),tblSalaries[[#This Row],[clean Salary (in local currency)]],(tblSalaries[[#This Row],[PPP Adjusted  USD]]/VLOOKUP(Dashboard!$J$5,Sheet3!$B$2:$C$31,2,FALSE)))","v":58958.8481992171},"Analyst","Analyst","UK","4 to 6 hours a day",5]
[null,"ID0986",94000,"AUD",95871.50770184776,{"$f":"(tblSalaries[[#This Row],[clean Salary (in local currency)]])*(VLOOKUP(tblSalaries[[#This Row],[Currency]],Sheet3!$A$2:$C$31,3,FALSE))*(VLOOKUP(tblSalaries[[#This Row],[Currency]],Sheet1!$N$4:$Q$186,4,FALSE))","v":58911.121470669437},{"$f":"IF(Dashboard!$J$5=VLOOKUP(tblSalaries[[#This Row],[Currency]],Sheet3!$A$2:$B$31,2,FALSE),tblSalaries[[#This Row],[clean Salary (in local currency)]],(tblSalaries[[#This Row],[PPP Adjusted  USD]]/VLOOKUP(Dashboard!$J$5,Sheet3!$B$2:$C$31,2,FALSE)))","v":58911.121470669437},"Business Analyst","Analyst","Australia","2 to 3 hours per day",2.5]
[null,"ID1008",94000,"AUD",95871.50770184776,{"$f":"(tblSalaries[[#This Row],[clean Salary (in local currency)]])*(VLOOKUP(tblSalaries[[#This Row],[Currency]],Sheet3!$A$2:$C$31,3,FALSE))*(VLOOKUP(tblSalaries[[#This Row],[Currency]],Sheet1!$N$4:$Q$186,4,FALSE))","v":58911.121470669437},{"$f":"IF(Dashboard!$J$5=VLOOKUP(tblSalaries[[#This Row],[Currency]],Sheet3!$A$2:$B$31,2,FALSE),tblSalaries[[#This Row],[clean Salary (in local currency)]],(tblSalaries[[#This Row],[PPP Adjusted  USD]]/VLOOKUP(Dashboard!$J$5,Sheet3!$B$2:$C$31,2,FALSE)))","v":58911.121470669437},"Principal Analyst","Analyst","Australia","2 to 3 hours per day",14]
[null,"ID1559",74000,"CAD",72768.752704244194,{"$f":"(tblSalaries[[#This Row],[clean Salary (in local currency)]])*(VLOOKUP(tblSalaries[[#This Row],[Currency]],Sheet3!$A$2:$C$31,3,FALSE))*(VLOOKUP(tblSalaries[[#This Row],[Currency]],Sheet1!$N$4:$Q$186,4,FALSE))","v":58493.019036973514},{"$f":"IF(Dashboard!$J$5=VLOOKUP(tblSalaries[[#This Row],[Currency]],Sheet3!$A$2:$B$31,2,FALSE),tblSalaries[[#This Row],[clean Salary (in local currency)]],(tblSalaries[[#This Row],[PPP Adjusted  USD]]/VLOOKUP(Dashboard!$J$5,Sheet3!$B$2:$C$31,2,FALSE)))","v":58493.019036973514},"Operations Analyst","Analyst","Canada","4 to 6 hours a day",10]
[null,"ID1759",1230000,"INR",21903.737525554359,{"$f":"(tblSalaries[[#This Row],[clean Salary (in local currency)]])*(VLOOKUP(tblSalaries[[#This Row],[Currency]],Sheet3!$A$2:$C$31,3,FALSE))*(VLOOKUP(tblSalaries[[#This Row],[Currency]],Sheet1!$N$4:$Q$186,4,FALSE))","v":58254.057488899103},{"$f":"IF(Dashboard!$J$5=VLOOKUP(tblSalaries[[#This Row],[Currency]],Sheet3!$A$2:$B$31,2,FALSE),tblSalaries[[#This Row],[clean Salary (in local currency)]],(tblSalaries[[#This Row],[PPP Adjusted  USD]]/VLOOKUP(Dashboard!$J$5,Sheet3!$B$2:$C$31,2,FALSE)))","v":58254.057488899103},"Financial Analyst ","Analyst","India","All the 8 hours baby, all the 8!",3]
[null,"ID0003",58000,"USD",58000,{"$f":"(tblSalaries[[#This Row],[clean Salary (in local currency)]])*(VLOOKUP(tblSalaries[[#This Row],[Currency]],Sheet3!$A$2:$C$31,3,FALSE))*(VLOOKUP(tblSalaries[[#This Row],[Currency]],Sheet1!$N$4:$Q$186,4,FALSE))","v":58000},{"$f":"IF(Dashboard!$J$5=VLOOKUP(tblSalaries[[#This Row],[Currency]],Sheet3!$A$2:$B$31,2,FALSE),tblSalaries[[#This Row],[clean Salary (in local currency)]],(tblSalaries[[#This Row],[PPP Adjusted  USD]]/VLOOKUP(Dashboard!$J$5,Sheet3!$B$2:$C$31,2,FALSE)))","v":58000},"Financial Analyst","Analyst","USA","All the 8 hours baby, all the 8!","Data Not Avaliable"]
[null,"ID0044",58000,"USD",58000,{"$f":"(tblSalaries[[#This Row],[clean Salary (in local currency)]])*(VLOOKUP(tblSalaries[[#This Row],[Currency]],Sheet3!$A$2:$C$31,3,FALSE))*(VLOOKUP(tblSalaries[[#This Row],[Currency]],Sheet1!$N$4:$Q$186,4,FALSE))","v":58000},{"$f":"IF(Dashboard!$J$5=VLOOKUP(tblSalaries[[#This Row],[Currency]],Sheet3!$A$2:$B$31,2,FALSE),tblSalaries[[#This Row],[clean Salary (in local currency)]],(tblSalaries[[#This Row],[PPP Adjusted  USD]]/VLOOKUP(Dashboard!$J$5,Sheet3!$B$2:$C$31,2,FALSE)))","v":58000},"Senior Accountant","Accountant","USA","4 to 6 hours a day","Data Not Avaliable"]
[null,"ID0113",58000,"USD",58000,{"$f":"(tblSalaries[[#This Row],[clean Salary (in local currency)]])*(VLOOKUP(tblSalaries[[#This Row],[Currency]],Sheet3!$A$2:$C$31,3,FALSE))*(VLOOKUP(tblSalaries[[#This Row],[Currency]],Sheet1!$N$4:$Q$186,4,FALSE))","v":58000},{"$f":"IF(Dashboard!$J$5=VLOOKUP(tblSalaries[[#This Row],[Currency]],Sheet3!$A$2:$B$31,2,FALSE),tblSalaries[[#This Row],[clean Salary (in local currency)]],(tblSalaries[[#This Row],[PPP Adjusted  USD]]/VLOOKUP(Dashboard!$J$5,Sheet3!$B$2:$C$31,2,FALSE)))","v":58000},"Operations Programs Support","Manager","USA","4 to 6 hours a day","Data Not Avaliable"]
[null,"ID0162",58000,"USD",58000,{"$f":"(tblSalaries[[#This Row],[clean Salary (in local currency)]])*(VLOOKUP(tblSalaries[[#This Row],[Currency]],Sheet3!$A$2:$C$31,3,FALSE))*(VLOOKUP(tblSalaries[[#This Row],[Currency]],Sheet1!$N$4:$Q$186,4,FALSE))","v":58000},{"$f":"IF(Dashboard!$J$5=VLOOKUP(tblSalaries[[#This Row],[Currency]],Sheet3!$A$2:$B$31,2,FALSE),tblSalaries[[#This Row],[clean Salary (in local currency)]],(tblSalaries[[#This Row],[PPP Adjusted  USD]]/VLOOKUP(Dashboard!$J$5,Sheet3!$B$2:$C$31,2,FALSE)))","v":58000},"Team Lead - Computer Discounts","Manager","Canada","1 or 2 hours a day","Data Not Avaliable"]
[null,"ID1426",57678,"USD",57678,{"$f":"(tblSalaries[[#This Row],[clean Salary (in local currency)]])*(VLOOKUP(tblSalaries[[#This Row],[Currency]],Sheet3!$A$2:$C$31,3,FALSE))*(VLOOKUP(tblSalaries[[#This Row],[Currency]],Sheet1!$N$4:$Q$186,4,FALSE))","v":57678},{"$f":"IF(Dashboard!$J$5=VLOOKUP(tblSalaries[[#This Row],[Currency]],Sheet3!$A$2:$B$31,2,FALSE),tblSalaries[[#This Row],[clean Salary (in local currency)]],(tblSalaries[[#This Row],[PPP Adjusted  USD]]/VLOOKUP(Dashboard!$J$5,Sheet3!$B$2:$C$31,2,FALSE)))","v":57678},"Financial Analyst","Analyst","USA","4 to 6 hours a day",2]
[null,"ID0993",92000,"AUD",93831.688389042494,{"$f":"(tblSalaries[[#This Row],[clean Salary (in local currency)]])*(VLOOKUP(tblSalaries[[#This Row],[Currency]],Sheet3!$A$2:$C$31,3,FALSE))*(VLOOKUP(tblSalaries[[#This Row],[Currency]],Sheet1!$N$4:$Q$186,4,FALSE))","v":57657.693354272218},{"$f":"IF(Dashboard!$J$5=VLOOKUP(tblSalaries[[#This Row],[Currency]],Sheet3!$A$2:$B$31,2,FALSE),tblSalaries[[#This Row],[clean Salary (in local currency)]],(tblSalaries[[#This Row],[PPP Adjusted  USD]]/VLOOKUP(Dashboard!$J$5,Sheet3!$B$2:$C$31,2,FALSE)))","v":57657.693354272218},"Finance analyst","Analyst","Australia","All the 8 hours baby, all the 8!",6]
[null,"ID1369",57500,"USD",57500,{"$f":"(tblSalaries[[#This Row],[clean Salary (in local currency)]])*(VLOOKUP(tblSalaries[[#This Row],[Currency]],Sheet3!$A$2:$C$31,3,FALSE))*(VLOOKUP(tblSalaries[[#This Row],[Currency]],Sheet1!$N$4:$Q$186,4,FALSE))","v":57500},{"$f":"IF(Dashboard!$J$5=VLOOKUP(tblSalaries[[#This Row],[Currency]],Sheet3!$A$2:$B$31,2,FALSE),tblSalaries[[#This Row],[clean Salary (in local currency)]],(tblSalaries[[#This Row],[PPP Adjusted  USD]]/VLOOKUP(Dashboard!$J$5,Sheet3!$B$2:$C$31,2,FALSE)))","v":57500},"Planning Supervisor","Manager","USA","4 to 6 hours a day",30]
[null,"ID0107",57400,"USD",57400,{"$f":"(tblSalaries[[#This Row],[clean Salary (in local currency)]])*(VLOOKUP(tblSalaries[[#This Row],[Currency]],Sheet3!$A$2:$C$31,3,FALSE))*(VLOOKUP(tblSalaries[[#This Row],[Currency]],Sheet1!$N$4:$Q$186,4,FALSE))","v":57400},{"$f":"IF(Dashboard!$J$5=VLOOKUP(tblSalaries[[#This Row],[Currency]],Sheet3!$A$2:$B$31,2,FALSE),tblSalaries[[#This Row],[clean Salary (in local currency)]],(tblSalaries[[#This Row],[PPP Adjusted  USD]]/VLOOKUP(Dashboard!$J$5,Sheet3!$B$2:$C$31,2,FALSE)))","v":57400},"IT Analyst","Analyst","USA","4 to 6 hours a day","Data Not Avaliable"]
[null,"ID0973",95000,"NZD",75770.868892469181,{"$f":"(tblSalaries[[#This Row],[clean Salary (in local currency)]])*(VLOOKUP(tblSalaries[[#This Row],[Currency]],Sheet3!$A$2:$C$31,3,FALSE))*(VLOOKUP(tblSalaries[[#This Row],[Currency]],Sheet1!$N$4:$Q$186,4,FALSE))","v":57204.89698906702},{"$f":"IF(Dashboard!$J$5=VLOOKUP(tblSalaries[[#This Row],[Currency]],Sheet3!$A$2:$B$31,2,FALSE),tblSalaries[[#This Row],[clean Salary (in local currency)]],(tblSalaries[[#This Row],[PPP Adjusted  USD]]/VLOOKUP(Dashboard!$J$5,Sheet3!$B$2:$C$31,2,FALSE)))","v":57204.89698906702},"Cost Accountant","Accountant","New Zealand","4 to 6 hours a day",20]
[null,"ID0051",57000,"USD",57000,{"$f":"(tblSalaries[[#This Row],[clean Salary (in local currency)]])*(VLOOKUP(tblSalaries[[#This Row],[Currency]],Sheet3!$A$2:$C$31,3,FALSE))*(VLOOKUP(tblSalaries[[#This Row],[Currency]],Sheet1!$N$4:$Q$186,4,FALSE))","v":57000},{"$f":"IF(Dashboard!$J$5=VLOOKUP(tblSalaries[[#This Row],[Currency]],Sheet3!$A$2:$B$31,2,FALSE),tblSalaries[[#This Row],[clean Salary (in local currency)]],(tblSalaries[[#This Row],[PPP Adjusted  USD]]/VLOOKUP(Dashboard!$J$5,Sheet3!$B$2:$C$31,2,FALSE)))","v":57000},"Senior Accounting Supervisor","Accountant","USA","2 to 3 hours per day","Data Not Avaliable"]
[null,"ID0071",57000,"USD",57000,{"$f":"(tblSalaries[[#This Row],[clean Salary (in local currency)]])*(VLOOKUP(tblSalaries[[#This Row],[Currency]],Sheet3!$A$2:$C$31,3,FALSE))*(VLOOKUP(tblSalaries[[#This Row],[Currency]],Sheet1!$N$4:$Q$186,4,FALSE))","v":57000},{"$f":"IF(Dashboard!$J$5=VLOOKUP(tblSalaries[[#This Row],[Currency]],Sheet3!$A$2:$B$31,2,FALSE),tblSalaries[[#This Row],[clean Salary (in local currency)]],(tblSalaries[[#This Row],[PPP Adjusted  USD]]/VLOOKUP(Dashboard!$J$5,Sheet3!$B$2:$C$31,2,FALSE)))","v":57000},"sales analyst","Analyst","USA","4 to 6 hours a day","Data Not Avaliable"]
[null,"ID0099",57000,"USD",57000,{"$f":"(tblSalaries[[#This Row],[clean Salary (in local currency)]])*(VLOOKUP(tblSalaries[[#This Row],[Currency]],Sheet3!$A$2:$C$31,3,FALSE))*(VLOOKUP(tblSalaries[[#This Row],[Currency]],Sheet1!$N$4:$Q$186,4,FALSE))","v":57000},{"$f":"IF(Dashboard!$J$5=VLOOKUP(tblSalaries[[#This Row],[Currency]],Sheet3!$A$2:$B$31,2,FALSE),tblSalaries[[#This Row],[clean Salary (in local currency)]],(tblSalaries[[#This Row],[PPP Adjusted  USD]]/VLOOKUP(Dashboard!$J$5,Sheet3!$B$2:$C$31,2,FALSE)))","v":57000},"Production Scheduler","Manager","USA","4 to 6 hours a day","Data Not Avaliable"]
[null,"ID0144",57000,"USD",57000,{"$f":"(tblSalaries[[#This Row],[clean Salary (in local currency)]])*(VLOOKUP(tblSalaries[[#This Row],[Currency]],Sheet3!$A$2:$C$31,3,FALSE))*(VLOOKUP(tblSalaries[[#This Row],[Currency]],Sheet1!$N$4:$Q$186,4,FALSE))","v":57000},{"$f":"IF(Dashboard!$J$5=VLOOKUP(tblSalaries[[#This Row],[Currency]],Sheet3!$A$2:$B$31,2,FALSE),tblSalaries[[#This Row],[clean Salary (in local currency)]],(tblSalaries[[#This Row],[PPP Adjusted  USD]]/VLOOKUP(Dashboard!$J$5,Sheet3!$B$2:$C$31,2,FALSE)))","v":57000},"Industrial Engineer","Engineer","USA","4 to 6 hours a day","Data Not Avaliable"]
[null,"ID0518",57000,"USD",57000,{"$f":"(tblSalaries[[#This Row],[clean Salary (in local currency)]])*(VLOOKUP(tblSalaries[[#This Row],[Currency]],Sheet3!$A$2:$C$31,3,FALSE))*(VLOOKUP(tblSalaries[[#This Row],[Currency]],Sheet1!$N$4:$Q$186,4,FALSE))","v":57000},{"$f":"IF(Dashboard!$J$5=VLOOKUP(tblSalaries[[#This Row],[Currency]],Sheet3!$A$2:$B$31,2,FALSE),tblSalaries[[#This Row],[clean Salary (in local currency)]],(tblSalaries[[#This Row],[PPP Adjusted  USD]]/VLOOKUP(Dashboard!$J$5,Sheet3!$B$2:$C$31,2,FALSE)))","v":57000},"project finance manager","Manager","Israel","4 to 6 hours a day","Data Not Avaliable"]
[null,"ID0953",57000,"USD",57000,{"$f":"(tblSalaries[[#This Row],[clean Salary (in local currency)]])*(VLOOKUP(tblSalaries[[#This Row],[Currency]],Sheet3!$A$2:$C$31,3,FALSE))*(VLOOKUP(tblSalaries[[#This Row],[Currency]],Sheet1!$N$4:$Q$186,4,FALSE))","v":57000},{"$f":"IF(Dashboard!$J$5=VLOOKUP(tblSalaries[[#This Row],[Currency]],Sheet3!$A$2:$B$31,2,FALSE),tblSalaries[[#This Row],[clean Salary (in local currency)]],(tblSalaries[[#This Row],[PPP Adjusted  USD]]/VLOOKUP(Dashboard!$J$5,Sheet3!$B$2:$C$31,2,FALSE)))","v":57000},"Construction Engineer","Engineer","USA","2 to 3 hours per day",4]
[null,"ID1840",57000,"USD",57000,{"$f":"(tblSalaries[[#This Row],[clean Salary (in local currency)]])*(VLOOKUP(tblSalaries[[#This Row],[Currency]],Sheet3!$A$2:$C$31,3,FALSE))*(VLOOKUP(tblSalaries[[#This Row],[Currency]],Sheet1!$N$4:$Q$186,4,FALSE))","v":57000},{"$f":"IF(Dashboard!$J$5=VLOOKUP(tblSalaries[[#This Row],[Currency]],Sheet3!$A$2:$B$31,2,FALSE),tblSalaries[[#This Row],[clean Salary (in local currency)]],(tblSalaries[[#This Row],[PPP Adjusted  USD]]/VLOOKUP(Dashboard!$J$5,Sheet3!$B$2:$C$31,2,FALSE)))","v":57000},"Staff Accountant","Accountant","USA","4 to 6 hours a day",9]
[null,"ID0403",72000,"CAD",70802.029658183528,{"$f":"(tblSalaries[[#This Row],[clean Salary (in local currency)]])*(VLOOKUP(tblSalaries[[#This Row],[Currency]],Sheet3!$A$2:$C$31,3,FALSE))*(VLOOKUP(tblSalaries[[#This Row],[Currency]],Sheet1!$N$4:$Q$186,4,FALSE))","v":56912.126630568811},{"$f":"IF(Dashboard!$J$5=VLOOKUP(tblSalaries[[#This Row],[Currency]],Sheet3!$A$2:$B$31,2,FALSE),tblSalaries[[#This Row],[clean Salary (in local currency)]],(tblSalaries[[#This Row],[PPP Adjusted  USD]]/VLOOKUP(Dashboard!$J$5,Sheet3!$B$2:$C$31,2,FALSE)))","v":56912.126630568811},"Controller","Controller","Canada","4 to 6 hours a day","Data Not Avaliable"]
[null,"ID0011",51650,"EUR",65616.131023916547,{"$f":"(tblSalaries[[#This Row],[clean Salary (in local currency)]])*(VLOOKUP(tblSalaries[[#This Row],[Currency]],Sheet3!$A$2:$C$31,3,FALSE))*(VLOOKUP(tblSalaries[[#This Row],[Currency]],Sheet1!$N$4:$Q$186,4,FALSE))","v":56848.721560869701},{"$f":"IF(Dashboard!$J$5=VLOOKUP(tblSalaries[[#This Row],[Currency]],Sheet3!$A$2:$B$31,2,FALSE),tblSalaries[[#This Row],[clean Salary (in local currency)]],(tblSalaries[[#This Row],[PPP Adjusted  USD]]/VLOOKUP(Dashboard!$J$5,Sheet3!$B$2:$C$31,2,FALSE)))","v":56848.721560869701},"Training Specialist","Specialist","Ireland","2 to 3 hours per day","Data Not Avaliable"]
[null,"ID0238",1200000,"INR",21369.500024931083,{"$f":"(tblSalaries[[#This Row],[clean Salary (in local currency)]])*(VLOOKUP(tblSalaries[[#This Row],[Currency]],Sheet3!$A$2:$C$31,3,FALSE))*(VLOOKUP(tblSalaries[[#This Row],[Currency]],Sheet1!$N$4:$Q$186,4,FALSE))","v":56833.226818438154},{"$f":"IF(Dashboard!$J$5=VLOOKUP(tblSalaries[[#This Row],[Currency]],Sheet3!$A$2:$B$31,2,FALSE),tblSalaries[[#This Row],[clean Salary (in local currency)]],(tblSalaries[[#This Row],[PPP Adjusted  USD]]/VLOOKUP(Dashboard!$J$5,Sheet3!$B$2:$C$31,2,FALSE)))","v":56833.226818438154},"Branch head -sales","Manager","India","2 to 3 hours per day","Data Not Avaliable"]
[null,"ID0770",1200000,"INR",21369.500024931083,{"$f":"(tblSalaries[[#This Row],[clean Salary (in local currency)]])*(VLOOKUP(tblSalaries[[#This Row],[Currency]],Sheet3!$A$2:$C$31,3,FALSE))*(VLOOKUP(tblSalaries[[#This Row],[Currency]],Sheet1!$N$4:$Q$186,4,FALSE))","v":56833.226818438154},{"$f":"IF(Dashboard!$J$5=VLOOKUP(tblSalaries[[#This Row],[Currency]],Sheet3!$A$2:$B$31,2,FALSE),tblSalaries[[#This Row],[clean Salary (in local currency)]],(tblSalaries[[#This Row],[PPP Adjusted  USD]]/VLOOKUP(Dashboard!$J$5,Sheet3!$B$2:$C$31,2,FALSE)))","v":56833.226818438154},"Regional Formwork Head ","Manager","India","All the 8 hours baby, all the 8!",14]
[null,"ID0845",1200000,"INR",21369.500024931083,{"$f":"(tblSalaries[[#This Row],[clean Salary (in local currency)]])*(VLOOKUP(tblSalaries[[#This Row],[Currency]],Sheet3!$A$2:$C$31,3,FALSE))*(VLOOKUP(tblSalaries[[#This Row],[Currency]],Sheet1!$N$4:$Q$186,4,FALSE))","v":56833.226818438154},{"$f":"IF(Dashboard!$J$5=VLOOKUP(tblSalaries[[#This Row],[Currency]],Sheet3!$A$2:$B$31,2,FALSE),tblSalaries[[#This Row],[clean Salary (in local currency)]],(tblSalaries[[#This Row],[PPP Adjusted  USD]]/VLOOKUP(Dashboard!$J$5,Sheet3!$B$2:$C$31,2,FALSE)))","v":56833.226818438154},"project manager","Manager","India","1 or 2 hours a day",18]
[null,"ID0896",1200000,"INR",21369.500024931083,{"$f":"(tblSalaries[[#This Row],[clean Salary (in local currency)]])*(VLOOKUP(tblSalaries[[#This Row],[Currency]],Sheet3!$A$2:$C$31,3,FALSE))*(VLOOKUP(tblSalaries[[#This Row],[Currency]],Sheet1!$N$4:$Q$186,4,FALSE))","v":56833.226818438154},{"$f":"IF(Dashboard!$J$5=VLOOKUP(tblSalaries[[#This Row],[Currency]],Sheet3!$A$2:$B$31,2,FALSE),tblSalaries[[#This Row],[clean Salary (in local currency)]],(tblSalaries[[#This Row],[PPP Adjusted  USD]]/VLOOKUP(Dashboard!$J$5,Sheet3!$B$2:$C$31,2,FALSE)))","v":56833.226818438154},"ASST VICE PREDISDENT","CXO or Top Mgmt.","India","4 to 6 hours a day",17]
[null,"ID0999",1200000,"INR",21369.500024931083,{"$f":"(tblSalaries[[#This Row],[clean Salary (in local currency)]])*(VLOOKUP(tblSalaries[[#This Row],[Currency]],Sheet3!$A$2:$C$31,3,FALSE))*(VLOOKUP(tblSalaries[[#This Row],[Currency]],Sheet1!$N$4:$Q$186,4,FALSE))","v":56833.226818438154},{"$f":"IF(Dashboard!$J$5=VLOOKUP(tblSalaries[[#This Row],[Currency]],Sheet3!$A$2:$B$31,2,FALSE),tblSalaries[[#This Row],[clean Salary (in local currency)]],(tblSalaries[[#This Row],[PPP Adjusted  USD]]/VLOOKUP(Dashboard!$J$5,Sheet3!$B$2:$C$31,2,FALSE)))","v":56833.226818438154},"Senior Consultant","Consultant","India","All the 8 hours baby, all the 8!",6]
[null,"ID1054",1200000,"INR",21369.500024931083,{"$f":"(tblSalaries[[#This Row],[clean Salary (in local currency)]])*(VLOOKUP(tblSalaries[[#This Row],[Currency]],Sheet3!$A$2:$C$31,3,FALSE))*(VLOOKUP(tblSalaries[[#This Row],[Currency]],Sheet1!$N$4:$Q$186,4,FALSE))","v":56833.226818438154},{"$f":"IF(Dashboard!$J$5=VLOOKUP(tblSalaries[[#This Row],[Currency]],Sheet3!$A$2:$B$31,2,FALSE),tblSalaries[[#This Row],[clean Salary (in local currency)]],(tblSalaries[[#This Row],[PPP Adjusted  USD]]/VLOOKUP(Dashboard!$J$5,Sheet3!$B$2:$C$31,2,FALSE)))","v":56833.226818438154},"Management Trainee","Manager","India","2 to 3 hours per day",2]
[null,"ID1068",1200000,"INR",21369.500024931083,{"$f":"(tblSalaries[[#This Row],[clean Salary (in local currency)]])*(VLOOKUP(tblSalaries[[#This Row],[Currency]],Sheet3!$A$2:$C$31,3,FALSE))*(VLOOKUP(tblSalaries[[#This Row],[Currency]],Sheet1!$N$4:$Q$186,4,FALSE))","v":56833.226818438154},{"$f":"IF(Dashboard!$J$5=VLOOKUP(tblSalaries[[#This Row],[Currency]],Sheet3!$A$2:$B$31,2,FALSE),tblSalaries[[#This Row],[clean Salary (in local currency)]],(tblSalaries[[#This Row],[PPP Adjusted  USD]]/VLOOKUP(Dashboard!$J$5,Sheet3!$B$2:$C$31,2,FALSE)))","v":56833.226818438154},"executive","Analyst","India","4 to 6 hours a day",7]
[null,"ID1084",1200000,"INR",21369.500024931083,{"$f":"(tblSalaries[[#This Row],[clean Salary (in local currency)]])*(VLOOKUP(tblSalaries[[#This Row],[Currency]],Sheet3!$A$2:$C$31,3,FALSE))*(VLOOKUP(tblSalaries[[#This Row],[Currency]],Sheet1!$N$4:$Q$186,4,FALSE))","v":56833.226818438154},{"$f":"IF(Dashboard!$J$5=VLOOKUP(tblSalaries[[#This Row],[Currency]],Sheet3!$A$2:$B$31,2,FALSE),tblSalaries[[#This Row],[clean Salary (in local currency)]],(tblSalaries[[#This Row],[PPP Adjusted  USD]]/VLOOKUP(Dashboard!$J$5,Sheet3!$B$2:$C$31,2,FALSE)))","v":56833.226818438154},"finance controller","Controller","India","4 to 6 hours a day",8]
[null,"ID1110",1200000,"INR",21369.500024931083,{"$f":"(tblSalaries[[#This Row],[clean Salary (in local currency)]])*(VLOOKUP(tblSalaries[[#This Row],[Currency]],Sheet3!$A$2:$C$31,3,FALSE))*(VLOOKUP(tblSalaries[[#This Row],[Currency]],Sheet1!$N$4:$Q$186,4,FALSE))","v":56833.226818438154},{"$f":"IF(Dashboard!$J$5=VLOOKUP(tblSalaries[[#This Row],[Currency]],Sheet3!$A$2:$B$31,2,FALSE),tblSalaries[[#This Row],[clean Salary (in local currency)]],(tblSalaries[[#This Row],[PPP Adjusted  USD]]/VLOOKUP(Dashboard!$J$5,Sheet3!$B$2:$C$31,2,FALSE)))","v":56833.226818438154},"coordinator","Manager","India","2 to 3 hours per day",5]
[null,"ID1318",1200000,"INR",21369.500024931083,{"$f":"(tblSalaries[[#This Row],[clean Salary (in local currency)]])*(VLOOKUP(tblSalaries[[#This Row],[Currency]],Sheet3!$A$2:$C$31,3,FALSE))*(VLOOKUP(tblSalaries[[#This Row],[Currency]],Sheet1!$N$4:$Q$186,4,FALSE))","v":56833.226818438154},{"$f":"IF(Dashboard!$J$5=VLOOKUP(tblSalaries[[#This Row],[Currency]],Sheet3!$A$2:$B$31,2,FALSE),tblSalaries[[#This Row],[clean Salary (in local currency)]],(tblSalaries[[#This Row],[PPP Adjusted  USD]]/VLOOKUP(Dashboard!$J$5,Sheet3!$B$2:$C$31,2,FALSE)))","v":56833.226818438154},"Manager - Corporate strategy and Planning","Manager","India","4 to 6 hours a day",9]
[null,"ID1342",1200000,"INR",21369.500024931083,{"$f":"(tblSalaries[[#This Row],[clean Salary (in local currency)]])*(VLOOKUP(tblSalaries[[#This Row],[Currency]],Sheet3!$A$2:$C$31,3,FALSE))*(VLOOKUP(tblSalaries[[#This Row],[Currency]],Sheet1!$N$4:$Q$186,4,FALSE))","v":56833.226818438154},{"$f":"IF(Dashboard!$J$5=VLOOKUP(tblSalaries[[#This Row],[Currency]],Sheet3!$A$2:$B$31,2,FALSE),tblSalaries[[#This Row],[clean Salary (in local currency)]],(tblSalaries[[#This Row],[PPP Adjusted  USD]]/VLOOKUP(Dashboard!$J$5,Sheet3!$B$2:$C$31,2,FALSE)))","v":56833.226818438154},"Consultant","Consultant","India","2 to 3 hours per day",21]
[null,"ID1836",1200000,"INR",21369.500024931083,{"$f":"(tblSalaries[[#This Row],[clean Salary (in local currency)]])*(VLOOKUP(tblSalaries[[#This Row],[Currency]],Sheet3!$A$2:$C$31,3,FALSE))*(VLOOKUP(tblSalaries[[#This Row],[Currency]],Sheet1!$N$4:$Q$186,4,FALSE))","v":56833.226818438154},{"$f":"IF(Dashboard!$J$5=VLOOKUP(tblSalaries[[#This Row],[Currency]],Sheet3!$A$2:$B$31,2,FALSE),tblSalaries[[#This Row],[clean Salary (in local currency)]],(tblSalaries[[#This Row],[PPP Adjusted  USD]]/VLOOKUP(Dashboard!$J$5,Sheet3!$B$2:$C$31,2,FALSE)))","v":56833.226818438154},"AM","Manager","India","4 to 6 hours a day",7]
[null,"ID1796",56600,"USD",56600,{"$f":"(tblSalaries[[#This Row],[clean Salary (in local currency)]])*(VLOOKUP(tblSalaries[[#This Row],[Currency]],Sheet3!$A$2:$C$31,3,FALSE))*(VLOOKUP(tblSalaries[[#This Row],[Currency]],Sheet1!$N$4:$Q$186,4,FALSE))","v":56600},{"$f":"IF(Dashboard!$J$5=VLOOKUP(tblSalaries[[#This Row],[Currency]],Sheet3!$A$2:$B$31,2,FALSE),tblSalaries[[#This Row],[clean Salary (in local currency)]],(tblSalaries[[#This Row],[PPP Adjusted  USD]]/VLOOKUP(Dashboard!$J$5,Sheet3!$B$2:$C$31,2,FALSE)))","v":56600},"ECommerce Manager","Manager","USA","4 to 6 hours a day",12]
[null,"ID0966",90000,"AUD",91791.869076237213,{"$f":"(tblSalaries[[#This Row],[clean Salary (in local currency)]])*(VLOOKUP(tblSalaries[[#This Row],[Currency]],Sheet3!$A$2:$C$31,3,FALSE))*(VLOOKUP(tblSalaries[[#This Row],[Currency]],Sheet1!$N$4:$Q$186,4,FALSE))","v":56404.265237874984},{"$f":"IF(Dashboard!$J$5=VLOOKUP(tblSalaries[[#This Row],[Currency]],Sheet3!$A$2:$B$31,2,FALSE),tblSalaries[[#This Row],[clean Salary (in local currency)]],(tblSalaries[[#This Row],[PPP Adjusted  USD]]/VLOOKUP(Dashboard!$J$5,Sheet3!$B$2:$C$31,2,FALSE)))","v":56404.265237874984},"Senior Research Analyst","Analyst","Australia","4 to 6 hours a day",13]
[null,"ID1263",90000,"AUD",91791.869076237213,{"$f":"(tblSalaries[[#This Row],[clean Salary (in local currency)]])*(VLOOKUP(tblSalaries[[#This Row],[Currency]],Sheet3!$A$2:$C$31,3,FALSE))*(VLOOKUP(tblSalaries[[#This Row],[Currency]],Sheet1!$N$4:$Q$186,4,FALSE))","v":56404.265237874984},{"$f":"IF(Dashboard!$J$5=VLOOKUP(tblSalaries[[#This Row],[Currency]],Sheet3!$A$2:$B$31,2,FALSE),tblSalaries[[#This Row],[clean Salary (in local currency)]],(tblSalaries[[#This Row],[PPP Adjusted  USD]]/VLOOKUP(Dashboard!$J$5,Sheet3!$B$2:$C$31,2,FALSE)))","v":56404.265237874984},"Business Analyst","Analyst","Australia","4 to 6 hours a day",5]
[null,"ID0674",56400,"USD",56400,{"$f":"(tblSalaries[[#This Row],[clean Salary (in local currency)]])*(VLOOKUP(tblSalaries[[#This Row],[Currency]],Sheet3!$A$2:$C$31,3,FALSE))*(VLOOKUP(tblSalaries[[#This Row],[Currency]],Sheet1!$N$4:$Q$186,4,FALSE))","v":56400},{"$f":"IF(Dashboard!$J$5=VLOOKUP(tblSalaries[[#This Row],[Currency]],Sheet3!$A$2:$B$31,2,FALSE),tblSalaries[[#This Row],[clean Salary (in local currency)]],(tblSalaries[[#This Row],[PPP Adjusted  USD]]/VLOOKUP(Dashboard!$J$5,Sheet3!$B$2:$C$31,2,FALSE)))","v":56400},"Finance Manager","Manager","UAE","2 to 3 hours per day",6]
[null,"ID0118",56160,"USD",56160,{"$f":"(tblSalaries[[#This Row],[clean Salary (in local currency)]])*(VLOOKUP(tblSalaries[[#This Row],[Currency]],Sheet3!$A$2:$C$31,3,FALSE))*(VLOOKUP(tblSalaries[[#This Row],[Currency]],Sheet1!$N$4:$Q$186,4,FALSE))","v":56160},{"$f":"IF(Dashboard!$J$5=VLOOKUP(tblSalaries[[#This Row],[Currency]],Sheet3!$A$2:$B$31,2,FALSE),tblSalaries[[#This Row],[clean Salary (in local currency)]],(tblSalaries[[#This Row],[PPP Adjusted  USD]]/VLOOKUP(Dashboard!$J$5,Sheet3!$B$2:$C$31,2,FALSE)))","v":56160},"Utilization Analyst","Analyst","USA","4 to 6 hours a day","Data Not Avaliable"]
[null,"ID0459",38000,"GBP",59894.774338556796,{"$f":"(tblSalaries[[#This Row],[clean Salary (in local currency)]])*(VLOOKUP(tblSalaries[[#This Row],[Currency]],Sheet3!$A$2:$C$31,3,FALSE))*(VLOOKUP(tblSalaries[[#This Row],[Currency]],Sheet1!$N$4:$Q$186,4,FALSE))","v":56010.905789256241},{"$f":"IF(Dashboard!$J$5=VLOOKUP(tblSalaries[[#This Row],[Currency]],Sheet3!$A$2:$B$31,2,FALSE),tblSalaries[[#This Row],[clean Salary (in local currency)]],(tblSalaries[[#This Row],[PPP Adjusted  USD]]/VLOOKUP(Dashboard!$J$5,Sheet3!$B$2:$C$31,2,FALSE)))","v":56010.905789256241},"Commercial Accountant","Accountant","UK","4 to 6 hours a day","Data Not Avaliable"]
[null,"ID0355",56000,"USD",56000,{"$f":"(tblSalaries[[#This Row],[clean Salary (in local currency)]])*(VLOOKUP(tblSalaries[[#This Row],[Currency]],Sheet3!$A$2:$C$31,3,FALSE))*(VLOOKUP(tblSalaries[[#This Row],[Currency]],Sheet1!$N$4:$Q$186,4,FALSE))","v":56000},{"$f":"IF(Dashboard!$J$5=VLOOKUP(tblSalaries[[#This Row],[Currency]],Sheet3!$A$2:$B$31,2,FALSE),tblSalaries[[#This Row],[clean Salary (in local currency)]],(tblSalaries[[#This Row],[PPP Adjusted  USD]]/VLOOKUP(Dashboard!$J$5,Sheet3!$B$2:$C$31,2,FALSE)))","v":56000},"asset manager","Manager","USA","2 to 3 hours per day","Data Not Avaliable"]
[null,"ID0413",56000,"USD",56000,{"$f":"(tblSalaries[[#This Row],[clean Salary (in local currency)]])*(VLOOKUP(tblSalaries[[#This Row],[Currency]],Sheet3!$A$2:$C$31,3,FALSE))*(VLOOKUP(tblSalaries[[#This Row],[Currency]],Sheet1!$N$4:$Q$186,4,FALSE))","v":56000},{"$f":"IF(Dashboard!$J$5=VLOOKUP(tblSalaries[[#This Row],[Currency]],Sheet3!$A$2:$B$31,2,FALSE),tblSalaries[[#This Row],[clean Salary (in local currency)]],(tblSalaries[[#This Row],[PPP Adjusted  USD]]/VLOOKUP(Dashboard!$J$5,Sheet3!$B$2:$C$31,2,FALSE)))","v":56000},"Staff assistant ","Analyst","USA","4 to 6 hours a day","Data Not Avaliable"]
[null,"ID0417",56000,"USD",56000,{"$f":"(tblSalaries[[#This Row],[clean Salary (in local currency)]])*(VLOOKUP(tblSalaries[[#This Row],[Currency]],Sheet3!$A$2:$C$31,3,FALSE))*(VLOOKUP(tblSalaries[[#This Row],[Currency]],Sheet1!$N$4:$Q$186,4,FALSE))","v":56000},{"$f":"IF(Dashboard!$J$5=VLOOKUP(tblSalaries[[#This Row],[Currency]],Sheet3!$A$2:$B$31,2,FALSE),tblSalaries[[#This Row],[clean Salary (in local currency)]],(tblSalaries[[#This Row],[PPP Adjusted  USD]]/VLOOKUP(Dashboard!$J$5,Sheet3!$B$2:$C$31,2,FALSE)))","v":56000},"financial management consultant","Manager","USA","All the 8 hours baby, all the 8!","Data Not Avaliable"]
[null,"ID1194",56000,"USD",56000,{"$f":"(tblSalaries[[#This Row],[clean Salary (in local currency)]])*(VLOOKUP(tblSalaries[[#This Row],[Currency]],Sheet3!$A$2:$C$31,3,FALSE))*(VLOOKUP(tblSalaries[[#This Row],[Currency]],Sheet1!$N$4:$Q$186,4,FALSE))","v":56000},{"$f":"IF(Dashboard!$J$5=VLOOKUP(tblSalaries[[#This Row],[Currency]],Sheet3!$A$2:$B$31,2,FALSE),tblSalaries[[#This Row],[clean Salary (in local currency)]],(tblSalaries[[#This Row],[PPP Adjusted  USD]]/VLOOKUP(Dashboard!$J$5,Sheet3!$B$2:$C$31,2,FALSE)))","v":56000},"Analyst","Analyst","USA","1 or 2 hours a day",2]
[null,"ID1244",56000,"USD",56000,{"$f":"(tblSalaries[[#This Row],[clean Salary (in local currency)]])*(VLOOKUP(tblSalaries[[#This Row],[Currency]],Sheet3!$A$2:$C$31,3,FALSE))*(VLOOKUP(tblSalaries[[#This Row],[Currency]],Sheet1!$N$4:$Q$186,4,FALSE))","v":56000},{"$f":"IF(Dashboard!$J$5=VLOOKUP(tblSalaries[[#This Row],[Currency]],Sheet3!$A$2:$B$31,2,FALSE),tblSalaries[[#This Row],[clean Salary (in local currency)]],(tblSalaries[[#This Row],[PPP Adjusted  USD]]/VLOOKUP(Dashboard!$J$5,Sheet3!$B$2:$C$31,2,FALSE)))","v":56000},"Accountant","Accountant","USA","4 to 6 hours a day",1]
[null,"ID0506",55500,"USD",55500,{"$f":"(tblSalaries[[#This Row],[clean Salary (in local currency)]])*(VLOOKUP(tblSalaries[[#This Row],[Currency]],Sheet3!$A$2:$C$31,3,FALSE))*(VLOOKUP(tblSalaries[[#This Row],[Currency]],Sheet1!$N$4:$Q$186,4,FALSE))","v":55500},{"$f":"IF(Dashboard!$J$5=VLOOKUP(tblSalaries[[#This Row],[Currency]],Sheet3!$A$2:$B$31,2,FALSE),tblSalaries[[#This Row],[clean Salary (in local currency)]],(tblSalaries[[#This Row],[PPP Adjusted  USD]]/VLOOKUP(Dashboard!$J$5,Sheet3!$B$2:$C$31,2,FALSE)))","v":55500},"Sr QS","Controller","UAE","4 to 6 hours a day","Data Not Avaliable"]
[null,"ID0043",70000,"CAD",68835.306612122877,{"$f":"(tblSalaries[[#This Row],[clean Salary (in local currency)]])*(VLOOKUP(tblSalaries[[#This Row],[Currency]],Sheet3!$A$2:$C$31,3,FALSE))*(VLOOKUP(tblSalaries[[#This Row],[Currency]],Sheet1!$N$4:$Q$186,4,FALSE))","v":55331.234224164124},{"$f":"IF(Dashboard!$J$5=VLOOKUP(tblSalaries[[#This Row],[Currency]],Sheet3!$A$2:$B$31,2,FALSE),tblSalaries[[#This Row],[clean Salary (in local currency)]],(tblSalaries[[#This Row],[PPP Adjusted  USD]]/VLOOKUP(Dashboard!$J$5,Sheet3!$B$2:$C$31,2,FALSE)))","v":55331.234224164124},"Product Engineer","Engineer","Canada","2 to 3 hours per day","Data Not Avaliable"]
[null,"ID0137",70000,"CAD",68835.306612122877,{"$f":"(tblSalaries[[#This Row],[clean Salary (in local currency)]])*(VLOOKUP(tblSalaries[[#This Row],[Currency]],Sheet3!$A$2:$C$31,3,FALSE))*(VLOOKUP(tblSalaries[[#This Row],[Currency]],Sheet1!$N$4:$Q$186,4,FALSE))","v":55331.234224164124},{"$f":"IF(Dashboard!$J$5=VLOOKUP(tblSalaries[[#This Row],[Currency]],Sheet3!$A$2:$B$31,2,FALSE),tblSalaries[[#This Row],[clean Salary (in local currency)]],(tblSalaries[[#This Row],[PPP Adjusted  USD]]/VLOOKUP(Dashboard!$J$5,Sheet3!$B$2:$C$31,2,FALSE)))","v":55331.234224164124},"project manager","Manager","Canada","4 to 6 hours a day","Data Not Avaliable"]
[null,"ID0466",70000,"CAD",68835.306612122877,{"$f":"(tblSalaries[[#This Row],[clean Salary (in local currency)]])*(VLOOKUP(tblSalaries[[#This Row],[Currency]],Sheet3!$A$2:$C$31,3,FALSE))*(VLOOKUP(tblSalaries[[#This Row],[Currency]],Sheet1!$N$4:$Q$186,4,FALSE))","v":55331.234224164124},{"$f":"IF(Dashboard!$J$5=VLOOKUP(tblSalaries[[#This Row],[Currency]],Sheet3!$A$2:$B$31,2,FALSE),tblSalaries[[#This Row],[clean Salary (in local currency)]],(tblSalaries[[#This Row],[PPP Adjusted  USD]]/VLOOKUP(Dashboard!$J$5,Sheet3!$B$2:$C$31,2,FALSE)))","v":55331.234224164124},"Program Manager","Manager","Canada","1 or 2 hours a day","Data Not Avaliable"]
[null,"ID1731",70000,"CAD",68835.306612122877,{"$f":"(tblSalaries[[#This Row],[clean Salary (in local currency)]])*(VLOOKUP(tblSalaries[[#This Row],[Currency]],Sheet3!$A$2:$C$31,3,FALSE))*(VLOOKUP(tblSalaries[[#This Row],[Currency]],Sheet1!$N$4:$Q$186,4,FALSE))","v":55331.234224164124},{"$f":"IF(Dashboard!$J$5=VLOOKUP(tblSalaries[[#This Row],[Currency]],Sheet3!$A$2:$B$31,2,FALSE),tblSalaries[[#This Row],[clean Salary (in local currency)]],(tblSalaries[[#This Row],[PPP Adjusted  USD]]/VLOOKUP(Dashboard!$J$5,Sheet3!$B$2:$C$31,2,FALSE)))","v":55331.234224164124},"Financial Analyst","Analyst","Canada","All the 8 hours baby, all the 8!",2]
[null,"ID1156",37500,"GBP",59106.685202523156,{"$f":"(tblSalaries[[#This Row],[clean Salary (in local currency)]])*(VLOOKUP(tblSalaries[[#This Row],[Currency]],Sheet3!$A$2:$C$31,3,FALSE))*(VLOOKUP(tblSalaries[[#This Row],[Currency]],Sheet1!$N$4:$Q$186,4,FALSE))","v":55273.92018676603},{"$f":"IF(Dashboard!$J$5=VLOOKUP(tblSalaries[[#This Row],[Currency]],Sheet3!$A$2:$B$31,2,FALSE),tblSalaries[[#This Row],[clean Salary (in local currency)]],(tblSalaries[[#This Row],[PPP Adjusted  USD]]/VLOOKUP(Dashboard!$J$5,Sheet3!$B$2:$C$31,2,FALSE)))","v":55273.92018676603},"Corporate Finance Executive","Accountant","UK","2 to 3 hours per day",5]
[null,"ID0208",50000,"EUR",63519.971949580387,{"$f":"(tblSalaries[[#This Row],[clean Salary (in local currency)]])*(VLOOKUP(tblSalaries[[#This Row],[Currency]],Sheet3!$A$2:$C$31,3,FALSE))*(VLOOKUP(tblSalaries[[#This Row],[Currency]],Sheet1!$N$4:$Q$186,4,FALSE))","v":55032.644299002604},{"$f":"IF(Dashboard!$J$5=VLOOKUP(tblSalaries[[#This Row],[Currency]],Sheet3!$A$2:$B$31,2,FALSE),tblSalaries[[#This Row],[clean Salary (in local currency)]],(tblSalaries[[#This Row],[PPP Adjusted  USD]]/VLOOKUP(Dashboard!$J$5,Sheet3!$B$2:$C$31,2,FALSE)))","v":55032.644299002604},"Data Analyst","Analyst","Ireland","4 to 6 hours a day","Data Not Avaliable"]
[null,"ID0559",50000,"EUR",63519.971949580387,{"$f":"(tblSalaries[[#This Row],[clean Salary (in local currency)]])*(VLOOKUP(tblSalaries[[#This Row],[Currency]],Sheet3!$A$2:$C$31,3,FALSE))*(VLOOKUP(tblSalaries[[#This Row],[Currency]],Sheet1!$N$4:$Q$186,4,FALSE))","v":55032.644299002604},{"$f":"IF(Dashboard!$J$5=VLOOKUP(tblSalaries[[#This Row],[Currency]],Sheet3!$A$2:$B$31,2,FALSE),tblSalaries[[#This Row],[clean Salary (in local currency)]],(tblSalaries[[#This Row],[PPP Adjusted  USD]]/VLOOKUP(Dashboard!$J$5,Sheet3!$B$2:$C$31,2,FALSE)))","v":55032.644299002604},"Proyect Manager","Manager","Panama","2 to 3 hours per day","Data Not Avaliable"]
[null,"ID0595",50000,"EUR",63519.971949580387,{"$f":"(tblSalaries[[#This Row],[clean Salary (in local currency)]])*(VLOOKUP(tblSalaries[[#This Row],[Currency]],Sheet3!$A$2:$C$31,3,FALSE))*(VLOOKUP(tblSalaries[[#This Row],[Currency]],Sheet1!$N$4:$Q$186,4,FALSE))","v":55032.644299002604},{"$f":"IF(Dashboard!$J$5=VLOOKUP(tblSalaries[[#This Row],[Currency]],Sheet3!$A$2:$B$31,2,FALSE),tblSalaries[[#This Row],[clean Salary (in local currency)]],(tblSalaries[[#This Row],[PPP Adjusted  USD]]/VLOOKUP(Dashboard!$J$5,Sheet3!$B$2:$C$31,2,FALSE)))","v":55032.644299002604},"Analyst","Analyst","Germany","2 to 3 hours per day",4]
[null,"ID1129",50000,"EUR",63519.971949580387,{"$f":"(tblSalaries[[#This Row],[clean Salary (in local currency)]])*(VLOOKUP(tblSalaries[[#This Row],[Currency]],Sheet3!$A$2:$C$31,3,FALSE))*(VLOOKUP(tblSalaries[[#This Row],[Currency]],Sheet1!$N$4:$Q$186,4,FALSE))","v":55032.644299002604},{"$f":"IF(Dashboard!$J$5=VLOOKUP(tblSalaries[[#This Row],[Currency]],Sheet3!$A$2:$B$31,2,FALSE),tblSalaries[[#This Row],[clean Salary (in local currency)]],(tblSalaries[[#This Row],[PPP Adjusted  USD]]/VLOOKUP(Dashboard!$J$5,Sheet3!$B$2:$C$31,2,FALSE)))","v":55032.644299002604},"Network Enginer","Engineer","Portugal","2 to 3 hours per day",14]
[null,"ID1508",50000,"EUR",63519.971949580387,{"$f":"(tblSalaries[[#This Row],[clean Salary (in local currency)]])*(VLOOKUP(tblSalaries[[#This Row],[Currency]],Sheet3!$A$2:$C$31,3,FALSE))*(VLOOKUP(tblSalaries[[#This Row],[Currency]],Sheet1!$N$4:$Q$186,4,FALSE))","v":55032.644299002604},{"$f":"IF(Dashboard!$J$5=VLOOKUP(tblSalaries[[#This Row],[Currency]],Sheet3!$A$2:$B$31,2,FALSE),tblSalaries[[#This Row],[clean Salary (in local currency)]],(tblSalaries[[#This Row],[PPP Adjusted  USD]]/VLOOKUP(Dashboard!$J$5,Sheet3!$B$2:$C$31,2,FALSE)))","v":55032.644299002604},"accountant","Accountant","italy","All the 8 hours baby, all the 8!",15]
[null,"ID1608",50000,"EUR",63519.971949580387,{"$f":"(tblSalaries[[#This Row],[clean Salary (in local currency)]])*(VLOOKUP(tblSalaries[[#This Row],[Currency]],Sheet3!$A$2:$C$31,3,FALSE))*(VLOOKUP(tblSalaries[[#This Row],[Currency]],Sheet1!$N$4:$Q$186,4,FALSE))","v":55032.644299002604},{"$f":"IF(Dashboard!$J$5=VLOOKUP(tblSalaries[[#This Row],[Currency]],Sheet3!$A$2:$B$31,2,FALSE),tblSalaries[[#This Row],[clean Salary (in local currency)]],(tblSalaries[[#This Row],[PPP Adjusted  USD]]/VLOOKUP(Dashboard!$J$5,Sheet3!$B$2:$C$31,2,FALSE)))","v":55032.644299002604},"Controller","Controller","Netherlands","4 to 6 hours a day",10]
[null,"ID0163",55000,"USD",55000,{"$f":"(tblSalaries[[#This Row],[clean Salary (in local currency)]])*(VLOOKUP(tblSalaries[[#This Row],[Currency]],Sheet3!$A$2:$C$31,3,FALSE))*(VLOOKUP(tblSalaries[[#This Row],[Currency]],Sheet1!$N$4:$Q$186,4,FALSE))","v":55000},{"$f":"IF(Dashboard!$J$5=VLOOKUP(tblSalaries[[#This Row],[Currency]],Sheet3!$A$2:$B$31,2,FALSE),tblSalaries[[#This Row],[clean Salary (in local currency)]],(tblSalaries[[#This Row],[PPP Adjusted  USD]]/VLOOKUP(Dashboard!$J$5,Sheet3!$B$2:$C$31,2,FALSE)))","v":55000},"Change Architect","Manager","USA","2 to 3 hours per day","Data Not Avaliable"]
[null,"ID0274",55000,"USD",55000,{"$f":"(tblSalaries[[#This Row],[clean Salary (in local currency)]])*(VLOOKUP(tblSalaries[[#This Row],[Currency]],Sheet3!$A$2:$C$31,3,FALSE))*(VLOOKUP(tblSalaries[[#This Row],[Currency]],Sheet1!$N$4:$Q$186,4,FALSE))","v":55000},{"$f":"IF(Dashboard!$J$5=VLOOKUP(tblSalaries[[#This Row],[Currency]],Sheet3!$A$2:$B$31,2,FALSE),tblSalaries[[#This Row],[clean Salary (in local currency)]],(tblSalaries[[#This Row],[PPP Adjusted  USD]]/VLOOKUP(Dashboard!$J$5,Sheet3!$B$2:$C$31,2,FALSE)))","v":55000},"data analyst","Analyst","USA","All the 8 hours baby, all the 8!","Data Not Avaliable"]
[null,"ID0319",55000,"USD",55000,{"$f":"(tblSalaries[[#This Row],[clean Salary (in local currency)]])*(VLOOKUP(tblSalaries[[#This Row],[Currency]],Sheet3!$A$2:$C$31,3,FALSE))*(VLOOKUP(tblSalaries[[#This Row],[Currency]],Sheet1!$N$4:$Q$186,4,FALSE))","v":55000},{"$f":"IF(Dashboard!$J$5=VLOOKUP(tblSalaries[[#This Row],[Currency]],Sheet3!$A$2:$B$31,2,FALSE),tblSalaries[[#This Row],[clean Salary (in local currency)]],(tblSalaries[[#This Row],[PPP Adjusted  USD]]/VLOOKUP(Dashboard!$J$5,Sheet3!$B$2:$C$31,2,FALSE)))","v":55000},"Business Analyst","Analyst","USA","4 to 6 hours a day","Data Not Avaliable"]
[null,"ID0390",55000,"USD",55000,{"$f":"(tblSalaries[[#This Row],[clean Salary (in local currency)]])*(VLOOKUP(tblSalaries[[#This Row],[Currency]],Sheet3!$A$2:$C$31,3,FALSE))*(VLOOKUP(tblSalaries[[#This Row],[Currency]],Sheet1!$N$4:$Q$186,4,FALSE))","v":55000},{"$f":"IF(Dashboard!$J$5=VLOOKUP(tblSalaries[[#This Row],[Currency]],Sheet3!$A$2:$B$31,2,FALSE),tblSalaries[[#This Row],[clean Salary (in local currency)]],(tblSalaries[[#This Row],[PPP Adjusted  USD]]/VLOOKUP(Dashboard!$J$5,Sheet3!$B$2:$C$31,2,FALSE)))","v":55000},"Accountant","Accountant","USA","4 to 6 hours a day","Data Not Avaliable"]
[null,"ID0490",55000,"USD",55000,{"$f":"(tblSalaries[[#This Row],[clean Salary (in local currency)]])*(VLOOKUP(tblSalaries[[#This Row],[Currency]],Sheet3!$A$2:$C$31,3,FALSE))*(VLOOKUP(tblSalaries[[#This Row],[Currency]],Sheet1!$N$4:$Q$186,4,FALSE))","v":55000},{"$f":"IF(Dashboard!$J$5=VLOOKUP(tblSalaries[[#This Row],[Currency]],Sheet3!$A$2:$B$31,2,FALSE),tblSalaries[[#This Row],[clean Salary (in local currency)]],(tblSalaries[[#This Row],[PPP Adjusted  USD]]/VLOOKUP(Dashboard!$J$5,Sheet3!$B$2:$C$31,2,FALSE)))","v":55000},"Analyst","Analyst","USA","2 to 3 hours per day","Data Not Avaliable"]
[null,"ID0547",55000,"USD",55000,{"$f":"(tblSalaries[[#This Row],[clean Salary (in local currency)]])*(VLOOKUP(tblSalaries[[#This Row],[Currency]],Sheet3!$A$2:$C$31,3,FALSE))*(VLOOKUP(tblSalaries[[#This Row],[Currency]],Sheet1!$N$4:$Q$186,4,FALSE))","v":55000},{"$f":"IF(Dashboard!$J$5=VLOOKUP(tblSalaries[[#This Row],[Currency]],Sheet3!$A$2:$B$31,2,FALSE),tblSalaries[[#This Row],[clean Salary (in local currency)]],(tblSalaries[[#This Row],[PPP Adjusted  USD]]/VLOOKUP(Dashboard!$J$5,Sheet3!$B$2:$C$31,2,FALSE)))","v":55000},"Marketing","Analyst","USA","2 to 3 hours per day","Data Not Avaliable"]
[null,"ID0857",55000,"USD",55000,{"$f":"(tblSalaries[[#This Row],[clean Salary (in local currency)]])*(VLOOKUP(tblSalaries[[#This Row],[Currency]],Sheet3!$A$2:$C$31,3,FALSE))*(VLOOKUP(tblSalaries[[#This Row],[Currency]],Sheet1!$N$4:$Q$186,4,FALSE))","v":55000},{"$f":"IF(Dashboard!$J$5=VLOOKUP(tblSalaries[[#This Row],[Currency]],Sheet3!$A$2:$B$31,2,FALSE),tblSalaries[[#This Row],[clean Salary (in local currency)]],(tblSalaries[[#This Row],[PPP Adjusted  USD]]/VLOOKUP(Dashboard!$J$5,Sheet3!$B$2:$C$31,2,FALSE)))","v":55000},"Analyst","Analyst","USA","4 to 6 hours a day",10]
[null,"ID1051",55000,"USD",55000,{"$f":"(tblSalaries[[#This Row],[clean Salary (in local currency)]])*(VLOOKUP(tblSalaries[[#This Row],[Currency]],Sheet3!$A$2:$C$31,3,FALSE))*(VLOOKUP(tblSalaries[[#This Row],[Currency]],Sheet1!$N$4:$Q$186,4,FALSE))","v":55000},{"$f":"IF(Dashboard!$J$5=VLOOKUP(tblSalaries[[#This Row],[Currency]],Sheet3!$A$2:$B$31,2,FALSE),tblSalaries[[#This Row],[clean Salary (in local currency)]],(tblSalaries[[#This Row],[PPP Adjusted  USD]]/VLOOKUP(Dashboard!$J$5,Sheet3!$B$2:$C$31,2,FALSE)))","v":55000},"Economist","Reporting","Israel","4 to 6 hours a day",6]
[null,"ID1250",55000,"USD",55000,{"$f":"(tblSalaries[[#This Row],[clean Salary (in local currency)]])*(VLOOKUP(tblSalaries[[#This Row],[Currency]],Sheet3!$A$2:$C$31,3,FALSE))*(VLOOKUP(tblSalaries[[#This Row],[Currency]],Sheet1!$N$4:$Q$186,4,FALSE))","v":55000},{"$f":"IF(Dashboard!$J$5=VLOOKUP(tblSalaries[[#This Row],[Currency]],Sheet3!$A$2:$B$31,2,FALSE),tblSalaries[[#This Row],[clean Salary (in local currency)]],(tblSalaries[[#This Row],[PPP Adjusted  USD]]/VLOOKUP(Dashboard!$J$5,Sheet3!$B$2:$C$31,2,FALSE)))","v":55000},"Systems Analyst","Analyst","USA","1 or 2 hours a day",7]
[null,"ID1408",55000,"USD",55000,{"$f":"(tblSalaries[[#This Row],[clean Salary (in local currency)]])*(VLOOKUP(tblSalaries[[#This Row],[Currency]],Sheet3!$A$2:$C$31,3,FALSE))*(VLOOKUP(tblSalaries[[#This Row],[Currency]],Sheet1!$N$4:$Q$186,4,FALSE))","v":55000},{"$f":"IF(Dashboard!$J$5=VLOOKUP(tblSalaries[[#This Row],[Currency]],Sheet3!$A$2:$B$31,2,FALSE),tblSalaries[[#This Row],[clean Salary (in local currency)]],(tblSalaries[[#This Row],[PPP Adjusted  USD]]/VLOOKUP(Dashboard!$J$5,Sheet3!$B$2:$C$31,2,FALSE)))","v":55000},"Risk Analyst","Analyst","USA","All the 8 hours baby, all the 8!",1]
[null,"ID1504",55000,"USD",55000,{"$f":"(tblSalaries[[#This Row],[clean Salary (in local currency)]])*(VLOOKUP(tblSalaries[[#This Row],[Currency]],Sheet3!$A$2:$C$31,3,FALSE))*(VLOOKUP(tblSalaries[[#This Row],[Currency]],Sheet1!$N$4:$Q$186,4,FALSE))","v":55000},{"$f":"IF(Dashboard!$J$5=VLOOKUP(tblSalaries[[#This Row],[Currency]],Sheet3!$A$2:$B$31,2,FALSE),tblSalaries[[#This Row],[clean Salary (in local currency)]],(tblSalaries[[#This Row],[PPP Adjusted  USD]]/VLOOKUP(Dashboard!$J$5,Sheet3!$B$2:$C$31,2,FALSE)))","v":55000},"Supplier Manager","Manager","USA","2 to 3 hours per day",14]
[null,"ID1610",55000,"USD",55000,{"$f":"(tblSalaries[[#This Row],[clean Salary (in local currency)]])*(VLOOKUP(tblSalaries[[#This Row],[Currency]],Sheet3!$A$2:$C$31,3,FALSE))*(VLOOKUP(tblSalaries[[#This Row],[Currency]],Sheet1!$N$4:$Q$186,4,FALSE))","v":55000},{"$f":"IF(Dashboard!$J$5=VLOOKUP(tblSalaries[[#This Row],[Currency]],Sheet3!$A$2:$B$31,2,FALSE),tblSalaries[[#This Row],[clean Salary (in local currency)]],(tblSalaries[[#This Row],[PPP Adjusted  USD]]/VLOOKUP(Dashboard!$J$5,Sheet3!$B$2:$C$31,2,FALSE)))","v":55000},"Business Analyst","Analyst","USA","4 to 6 hours a day",2]
[null,"ID1630",55000,"USD",55000,{"$f":"(tblSalaries[[#This Row],[clean Salary (in local currency)]])*(VLOOKUP(tblSalaries[[#This Row],[Currency]],Sheet3!$A$2:$C$31,3,FALSE))*(VLOOKUP(tblSalaries[[#This Row],[Currency]],Sheet1!$N$4:$Q$186,4,FALSE))","v":55000},{"$f":"IF(Dashboard!$J$5=VLOOKUP(tblSalaries[[#This Row],[Currency]],Sheet3!$A$2:$B$31,2,FALSE),tblSalaries[[#This Row],[clean Salary (in local currency)]],(tblSalaries[[#This Row],[PPP Adjusted  USD]]/VLOOKUP(Dashboard!$J$5,Sheet3!$B$2:$C$31,2,FALSE)))","v":55000},"Supply Chain Analyst","Analyst","USA","4 to 6 hours a day",1]
[null,"ID1674",55000,"USD",55000,{"$f":"(tblSalaries[[#This Row],[clean Salary (in local currency)]])*(VLOOKUP(tblSalaries[[#This Row],[Currency]],Sheet3!$A$2:$C$31,3,FALSE))*(VLOOKUP(tblSalaries[[#This Row],[Currency]],Sheet1!$N$4:$Q$186,4,FALSE))","v":55000},{"$f":"IF(Dashboard!$J$5=VLOOKUP(tblSalaries[[#This Row],[Currency]],Sheet3!$A$2:$B$31,2,FALSE),tblSalaries[[#This Row],[clean Salary (in local currency)]],(tblSalaries[[#This Row],[PPP Adjusted  USD]]/VLOOKUP(Dashboard!$J$5,Sheet3!$B$2:$C$31,2,FALSE)))","v":55000},"Customer Sales Analyst","Analyst","USA","4 to 6 hours a day",15]
[null,"ID0796",1152000,"INR",20514.720023933838,{"$f":"(tblSalaries[[#This Row],[clean Salary (in local currency)]])*(VLOOKUP(tblSalaries[[#This Row],[Currency]],Sheet3!$A$2:$C$31,3,FALSE))*(VLOOKUP(tblSalaries[[#This Row],[Currency]],Sheet1!$N$4:$Q$186,4,FALSE))","v":54559.897745700619},{"$f":"IF(Dashboard!$J$5=VLOOKUP(tblSalaries[[#This Row],[Currency]],Sheet3!$A$2:$B$31,2,FALSE),tblSalaries[[#This Row],[clean Salary (in local currency)]],(tblSalaries[[#This Row],[PPP Adjusted  USD]]/VLOOKUP(Dashboard!$J$5,Sheet3!$B$2:$C$31,2,FALSE)))","v":54559.897745700619},"Cashier","Accountant","India","4 to 6 hours a day",6]
[null,"ID1476",37000,"GBP",58318.59606648951,{"$f":"(tblSalaries[[#This Row],[clean Salary (in local currency)]])*(VLOOKUP(tblSalaries[[#This Row],[Currency]],Sheet3!$A$2:$C$31,3,FALSE))*(VLOOKUP(tblSalaries[[#This Row],[Currency]],Sheet1!$N$4:$Q$186,4,FALSE))","v":54536.934584275812},{"$f":"IF(Dashboard!$J$5=VLOOKUP(tblSalaries[[#This Row],[Currency]],Sheet3!$A$2:$B$31,2,FALSE),tblSalaries[[#This Row],[clean Salary (in local currency)]],(tblSalaries[[#This Row],[PPP Adjusted  USD]]/VLOOKUP(Dashboard!$J$5,Sheet3!$B$2:$C$31,2,FALSE)))","v":54536.934584275812},"Planning & Scheduling Manager","Manager","UK","All the 8 hours baby, all the 8!",20]
[null,"ID1628",37000,"GBP",58318.59606648951,{"$f":"(tblSalaries[[#This Row],[clean Salary (in local currency)]])*(VLOOKUP(tblSalaries[[#This Row],[Currency]],Sheet3!$A$2:$C$31,3,FALSE))*(VLOOKUP(tblSalaries[[#This Row],[Currency]],Sheet1!$N$4:$Q$186,4,FALSE))","v":54536.934584275812},{"$f":"IF(Dashboard!$J$5=VLOOKUP(tblSalaries[[#This Row],[Currency]],Sheet3!$A$2:$B$31,2,FALSE),tblSalaries[[#This Row],[clean Salary (in local currency)]],(tblSalaries[[#This Row],[PPP Adjusted  USD]]/VLOOKUP(Dashboard!$J$5,Sheet3!$B$2:$C$31,2,FALSE)))","v":54536.934584275812},"Technical Web Analyst","Analyst","UK","4 to 6 hours a day",9]
[null,"ID0688",1150000,"INR",20479.104190558952,{"$f":"(tblSalaries[[#This Row],[clean Salary (in local currency)]])*(VLOOKUP(tblSalaries[[#This Row],[Currency]],Sheet3!$A$2:$C$31,3,FALSE))*(VLOOKUP(tblSalaries[[#This Row],[Currency]],Sheet1!$N$4:$Q$186,4,FALSE))","v":54465.175701003216},{"$f":"IF(Dashboard!$J$5=VLOOKUP(tblSalaries[[#This Row],[Currency]],Sheet3!$A$2:$B$31,2,FALSE),tblSalaries[[#This Row],[clean Salary (in local currency)]],(tblSalaries[[#This Row],[PPP Adjusted  USD]]/VLOOKUP(Dashboard!$J$5,Sheet3!$B$2:$C$31,2,FALSE)))","v":54465.175701003216},"manager portfolio monitoring","Manager","India","2 to 3 hours per day",7]
[null,"ID1466",1150000,"INR",20479.104190558952,{"$f":"(tblSalaries[[#This Row],[clean Salary (in local currency)]])*(VLOOKUP(tblSalaries[[#This Row],[Currency]],Sheet3!$A$2:$C$31,3,FALSE))*(VLOOKUP(tblSalaries[[#This Row],[Currency]],Sheet1!$N$4:$Q$186,4,FALSE))","v":54465.175701003216},{"$f":"IF(Dashboard!$J$5=VLOOKUP(tblSalaries[[#This Row],[Currency]],Sheet3!$A$2:$B$31,2,FALSE),tblSalaries[[#This Row],[clean Salary (in local currency)]],(tblSalaries[[#This Row],[PPP Adjusted  USD]]/VLOOKUP(Dashboard!$J$5,Sheet3!$B$2:$C$31,2,FALSE)))","v":54465.175701003216},"Project Manager","Manager","India","All the 8 hours baby, all the 8!",12]
[null,"ID0528",49248,"EUR",62564.631571458704,{"$f":"(tblSalaries[[#This Row],[clean Salary (in local currency)]])*(VLOOKUP(tblSalaries[[#This Row],[Currency]],Sheet3!$A$2:$C$31,3,FALSE))*(VLOOKUP(tblSalaries[[#This Row],[Currency]],Sheet1!$N$4:$Q$186,4,FALSE))","v":54204.953328745614},{"$f":"IF(Dashboard!$J$5=VLOOKUP(tblSalaries[[#This Row],[Currency]],Sheet3!$A$2:$B$31,2,FALSE),tblSalaries[[#This Row],[clean Salary (in local currency)]],(tblSalaries[[#This Row],[PPP Adjusted  USD]]/VLOOKUP(Dashboard!$J$5,Sheet3!$B$2:$C$31,2,FALSE)))","v":54204.953328745614},"Financial Advisor","Accountant","Netherlands","All the 8 hours baby, all the 8!","Data Not Avaliable"]
[null,"ID0501",68500,"CAD",67360.264327577388,{"$f":"(tblSalaries[[#This Row],[clean Salary (in local currency)]])*(VLOOKUP(tblSalaries[[#This Row],[Currency]],Sheet3!$A$2:$C$31,3,FALSE))*(VLOOKUP(tblSalaries[[#This Row],[Currency]],Sheet1!$N$4:$Q$186,4,FALSE))","v":54145.564919360608},{"$f":"IF(Dashboard!$J$5=VLOOKUP(tblSalaries[[#This Row],[Currency]],Sheet3!$A$2:$B$31,2,FALSE),tblSalaries[[#This Row],[clean Salary (in local currency)]],(tblSalaries[[#This Row],[PPP Adjusted  USD]]/VLOOKUP(Dashboard!$J$5,Sheet3!$B$2:$C$31,2,FALSE)))","v":54145.564919360608},"Financial Analyst","Analyst","Canada","4 to 6 hours a day","Data Not Avaliable"]
[null,"ID0005",54000,"USD",54000,{"$f":"(tblSalaries[[#This Row],[clean Salary (in local currency)]])*(VLOOKUP(tblSalaries[[#This Row],[Currency]],Sheet3!$A$2:$C$31,3,FALSE))*(VLOOKUP(tblSalaries[[#This Row],[Currency]],Sheet1!$N$4:$Q$186,4,FALSE))","v":54000},{"$f":"IF(Dashboard!$J$5=VLOOKUP(tblSalaries[[#This Row],[Currency]],Sheet3!$A$2:$B$31,2,FALSE),tblSalaries[[#This Row],[clean Salary (in local currency)]],(tblSalaries[[#This Row],[PPP Adjusted  USD]]/VLOOKUP(Dashboard!$J$5,Sheet3!$B$2:$C$31,2,FALSE)))","v":54000},"Quality Engineer","Engineer","USA","All the 8 hours baby, all the 8!","Data Not Avaliable"]
[null,"ID0133",54000,"USD",54000,{"$f":"(tblSalaries[[#This Row],[clean Salary (in local currency)]])*(VLOOKUP(tblSalaries[[#This Row],[Currency]],Sheet3!$A$2:$C$31,3,FALSE))*(VLOOKUP(tblSalaries[[#This Row],[Currency]],Sheet1!$N$4:$Q$186,4,FALSE))","v":54000},{"$f":"IF(Dashboard!$J$5=VLOOKUP(tblSalaries[[#This Row],[Currency]],Sheet3!$A$2:$B$31,2,FALSE),tblSalaries[[#This Row],[clean Salary (in local currency)]],(tblSalaries[[#This Row],[PPP Adjusted  USD]]/VLOOKUP(Dashboard!$J$5,Sheet3!$B$2:$C$31,2,FALSE)))","v":54000},"Research Analyst","Analyst","USA","2 to 3 hours per day","Data Not Avaliable"]
[null,"ID0266",54000,"USD",54000,{"$f":"(tblSalaries[[#This Row],[clean Salary (in local currency)]])*(VLOOKUP(tblSalaries[[#This Row],[Currency]],Sheet3!$A$2:$C$31,3,FALSE))*(VLOOKUP(tblSalaries[[#This Row],[Currency]],Sheet1!$N$4:$Q$186,4,FALSE))","v":54000},{"$f":"IF(Dashboard!$J$5=VLOOKUP(tblSalaries[[#This Row],[Currency]],Sheet3!$A$2:$B$31,2,FALSE),tblSalaries[[#This Row],[clean Salary (in local currency)]],(tblSalaries[[#This Row],[PPP Adjusted  USD]]/VLOOKUP(Dashboard!$J$5,Sheet3!$B$2:$C$31,2,FALSE)))","v":54000},"Anaylst","Manager","USA","All the 8 hours baby, all the 8!","Data Not Avaliable"]
[null,"ID0517",54000,"USD",54000,{"$f":"(tblSalaries[[#This Row],[clean Salary (in local currency)]])*(VLOOKUP(tblSalaries[[#This Row],[Currency]],Sheet3!$A$2:$C$31,3,FALSE))*(VLOOKUP(tblSalaries[[#This Row],[Currency]],Sheet1!$N$4:$Q$186,4,FALSE))","v":54000},{"$f":"IF(Dashboard!$J$5=VLOOKUP(tblSalaries[[#This Row],[Currency]],Sheet3!$A$2:$B$31,2,FALSE),tblSalaries[[#This Row],[clean Salary (in local currency)]],(tblSalaries[[#This Row],[PPP Adjusted  USD]]/VLOOKUP(Dashboard!$J$5,Sheet3!$B$2:$C$31,2,FALSE)))","v":54000},"Business Analyst","Analyst","USA","4 to 6 hours a day","Data Not Avaliable"]
[null,"ID0560",54000,"USD",54000,{"$f":"(tblSalaries[[#This Row],[clean Salary (in local currency)]])*(VLOOKUP(tblSalaries[[#This Row],[Currency]],Sheet3!$A$2:$C$31,3,FALSE))*(VLOOKUP(tblSalaries[[#This Row],[Currency]],Sheet1!$N$4:$Q$186,4,FALSE))","v":54000},{"$f":"IF(Dashboard!$J$5=VLOOKUP(tblSalaries[[#This Row],[Currency]],Sheet3!$A$2:$B$31,2,FALSE),tblSalaries[[#This Row],[clean Salary (in local currency)]],(tblSalaries[[#This Row],[PPP Adjusted  USD]]/VLOOKUP(Dashboard!$J$5,Sheet3!$B$2:$C$31,2,FALSE)))","v":54000},"IT Specialist","Specialist","USA","All the 8 hours baby, all the 8!",5]
[null,"ID1287",54000,"USD",54000,{"$f":"(tblSalaries[[#This Row],[clean Salary (in local currency)]])*(VLOOKUP(tblSalaries[[#This Row],[Currency]],Sheet3!$A$2:$C$31,3,FALSE))*(VLOOKUP(tblSalaries[[#This Row],[Currency]],Sheet1!$N$4:$Q$186,4,FALSE))","v":54000},{"$f":"IF(Dashboard!$J$5=VLOOKUP(tblSalaries[[#This Row],[Currency]],Sheet3!$A$2:$B$31,2,FALSE),tblSalaries[[#This Row],[clean Salary (in local currency)]],(tblSalaries[[#This Row],[PPP Adjusted  USD]]/VLOOKUP(Dashboard!$J$5,Sheet3!$B$2:$C$31,2,FALSE)))","v":54000},"Resource Planning Analyst","Analyst","USA","All the 8 hours baby, all the 8!",6]
[null,"ID1642",54000,"USD",54000,{"$f":"(tblSalaries[[#This Row],[clean Salary (in local currency)]])*(VLOOKUP(tblSalaries[[#This Row],[Currency]],Sheet3!$A$2:$C$31,3,FALSE))*(VLOOKUP(tblSalaries[[#This Row],[Currency]],Sheet1!$N$4:$Q$186,4,FALSE))","v":54000},{"$f":"IF(Dashboard!$J$5=VLOOKUP(tblSalaries[[#This Row],[Currency]],Sheet3!$A$2:$B$31,2,FALSE),tblSalaries[[#This Row],[clean Salary (in local currency)]],(tblSalaries[[#This Row],[PPP Adjusted  USD]]/VLOOKUP(Dashboard!$J$5,Sheet3!$B$2:$C$31,2,FALSE)))","v":54000},"assistant director of finance","CXO or Top Mgmt.","USA","4 to 6 hours a day",10]
[null,"ID1708",54000,"USD",54000,{"$f":"(tblSalaries[[#This Row],[clean Salary (in local currency)]])*(VLOOKUP(tblSalaries[[#This Row],[Currency]],Sheet3!$A$2:$C$31,3,FALSE))*(VLOOKUP(tblSalaries[[#This Row],[Currency]],Sheet1!$N$4:$Q$186,4,FALSE))","v":54000},{"$f":"IF(Dashboard!$J$5=VLOOKUP(tblSalaries[[#This Row],[Currency]],Sheet3!$A$2:$B$31,2,FALSE),tblSalaries[[#This Row],[clean Salary (in local currency)]],(tblSalaries[[#This Row],[PPP Adjusted  USD]]/VLOOKUP(Dashboard!$J$5,Sheet3!$B$2:$C$31,2,FALSE)))","v":54000},"Energy Analyst","Analyst","USA","All the 8 hours baby, all the 8!",6]
[null,"ID1872",54000,"USD",54000,{"$f":"(tblSalaries[[#This Row],[clean Salary (in local currency)]])*(VLOOKUP(tblSalaries[[#This Row],[Currency]],Sheet3!$A$2:$C$31,3,FALSE))*(VLOOKUP(tblSalaries[[#This Row],[Currency]],Sheet1!$N$4:$Q$186,4,FALSE))","v":54000},{"$f":"IF(Dashboard!$J$5=VLOOKUP(tblSalaries[[#This Row],[Currency]],Sheet3!$A$2:$B$31,2,FALSE),tblSalaries[[#This Row],[clean Salary (in local currency)]],(tblSalaries[[#This Row],[PPP Adjusted  USD]]/VLOOKUP(Dashboard!$J$5,Sheet3!$B$2:$C$31,2,FALSE)))","v":54000},"materials","Analyst","USA","4 to 6 hours a day",18]
[null,"ID0058",49000,"EUR",62249.572510588783,{"$f":"(tblSalaries[[#This Row],[clean Salary (in local currency)]])*(VLOOKUP(tblSalaries[[#This Row],[Currency]],Sheet3!$A$2:$C$31,3,FALSE))*(VLOOKUP(tblSalaries[[#This Row],[Currency]],Sheet1!$N$4:$Q$186,4,FALSE))","v":53931.991413022559},{"$f":"IF(Dashboard!$J$5=VLOOKUP(tblSalaries[[#This Row],[Currency]],Sheet3!$A$2:$B$31,2,FALSE),tblSalaries[[#This Row],[clean Salary (in local currency)]],(tblSalaries[[#This Row],[PPP Adjusted  USD]]/VLOOKUP(Dashboard!$J$5,Sheet3!$B$2:$C$31,2,FALSE)))","v":53931.991413022559},"Project leader","Manager","France","2 to 3 hours per day","Data Not Avaliable"]
[null,"ID1456",86000,"AUD",87712.230450626681,{"$f":"(tblSalaries[[#This Row],[clean Salary (in local currency)]])*(VLOOKUP(tblSalaries[[#This Row],[Currency]],Sheet3!$A$2:$C$31,3,FALSE))*(VLOOKUP(tblSalaries[[#This Row],[Currency]],Sheet1!$N$4:$Q$186,4,FALSE))","v":53897.409005080553},{"$f":"IF(Dashboard!$J$5=VLOOKUP(tblSalaries[[#This Row],[Currency]],Sheet3!$A$2:$B$31,2,FALSE),tblSalaries[[#This Row],[clean Salary (in local currency)]],(tblSalaries[[#This Row],[PPP Adjusted  USD]]/VLOOKUP(Dashboard!$J$5,Sheet3!$B$2:$C$31,2,FALSE)))","v":53897.409005080553},"data analyst","Analyst","Australia","4 to 6 hours a day",10]
[null,"ID0529",36500,"GBP",57530.506930455871,{"$f":"(tblSalaries[[#This Row],[clean Salary (in local currency)]])*(VLOOKUP(tblSalaries[[#This Row],[Currency]],Sheet3!$A$2:$C$31,3,FALSE))*(VLOOKUP(tblSalaries[[#This Row],[Currency]],Sheet1!$N$4:$Q$186,4,FALSE))","v":53799.948981785601},{"$f":"IF(Dashboard!$J$5=VLOOKUP(tblSalaries[[#This Row],[Currency]],Sheet3!$A$2:$B$31,2,FALSE),tblSalaries[[#This Row],[clean Salary (in local currency)]],(tblSalaries[[#This Row],[PPP Adjusted  USD]]/VLOOKUP(Dashboard!$J$5,Sheet3!$B$2:$C$31,2,FALSE)))","v":53799.948981785601},"Production Manager","Manager","UK","2 to 3 hours per day","Data Not Avaliable"]
[null,"ID1760",1130000,"INR",20122.945856810104,{"$f":"(tblSalaries[[#This Row],[clean Salary (in local currency)]])*(VLOOKUP(tblSalaries[[#This Row],[Currency]],Sheet3!$A$2:$C$31,3,FALSE))*(VLOOKUP(tblSalaries[[#This Row],[Currency]],Sheet1!$N$4:$Q$186,4,FALSE))","v":53517.955254029257},{"$f":"IF(Dashboard!$J$5=VLOOKUP(tblSalaries[[#This Row],[Currency]],Sheet3!$A$2:$B$31,2,FALSE),tblSalaries[[#This Row],[clean Salary (in local currency)]],(tblSalaries[[#This Row],[PPP Adjusted  USD]]/VLOOKUP(Dashboard!$J$5,Sheet3!$B$2:$C$31,2,FALSE)))","v":53517.955254029257},"Financial Analyst ","Analyst","India","All the 8 hours baby, all the 8!",3]
[null,"ID1312",48500,"EUR",61614.372791092981,{"$f":"(tblSalaries[[#This Row],[clean Salary (in local currency)]])*(VLOOKUP(tblSalaries[[#This Row],[Currency]],Sheet3!$A$2:$C$31,3,FALSE))*(VLOOKUP(tblSalaries[[#This Row],[Currency]],Sheet1!$N$4:$Q$186,4,FALSE))","v":53381.664970032536},{"$f":"IF(Dashboard!$J$5=VLOOKUP(tblSalaries[[#This Row],[Currency]],Sheet3!$A$2:$B$31,2,FALSE),tblSalaries[[#This Row],[clean Salary (in local currency)]],(tblSalaries[[#This Row],[PPP Adjusted  USD]]/VLOOKUP(Dashboard!$J$5,Sheet3!$B$2:$C$31,2,FALSE)))","v":53381.664970032536},"Information analyst","Analyst","Netherlands","4 to 6 hours a day",8]
[null,"ID0067",85000,"AUD",86692.320794224041,{"$f":"(tblSalaries[[#This Row],[clean Salary (in local currency)]])*(VLOOKUP(tblSalaries[[#This Row],[Currency]],Sheet3!$A$2:$C$31,3,FALSE))*(VLOOKUP(tblSalaries[[#This Row],[Currency]],Sheet1!$N$4:$Q$186,4,FALSE))","v":53270.694946881937},{"$f":"IF(Dashboard!$J$5=VLOOKUP(tblSalaries[[#This Row],[Currency]],Sheet3!$A$2:$B$31,2,FALSE),tblSalaries[[#This Row],[clean Salary (in local currency)]],(tblSalaries[[#This Row],[PPP Adjusted  USD]]/VLOOKUP(Dashboard!$J$5,Sheet3!$B$2:$C$31,2,FALSE)))","v":53270.694946881937},"head of data","CXO or Top Mgmt.","Australia","4 to 6 hours a day","Data Not Avaliable"]
[null,"ID0543",85000,"AUD",86692.320794224041,{"$f":"(tblSalaries[[#This Row],[clean Salary (in local currency)]])*(VLOOKUP(tblSalaries[[#This Row],[Currency]],Sheet3!$A$2:$C$31,3,FALSE))*(VLOOKUP(tblSalaries[[#This Row],[Currency]],Sheet1!$N$4:$Q$186,4,FALSE))","v":53270.694946881937},{"$f":"IF(Dashboard!$J$5=VLOOKUP(tblSalaries[[#This Row],[Currency]],Sheet3!$A$2:$B$31,2,FALSE),tblSalaries[[#This Row],[clean Salary (in local currency)]],(tblSalaries[[#This Row],[PPP Adjusted  USD]]/VLOOKUP(Dashboard!$J$5,Sheet3!$B$2:$C$31,2,FALSE)))","v":53270.694946881937},"Business analyst","Analyst","Australia","4 to 6 hours a day","Data Not Avaliable"]
[null,"ID0623",85000,"AUD",86692.320794224041,{"$f":"(tblSalaries[[#This Row],[clean Salary (in local currency)]])*(VLOOKUP(tblSalaries[[#This Row],[Currency]],Sheet3!$A$2:$C$31,3,FALSE))*(VLOOKUP(tblSalaries[[#This Row],[Currency]],Sheet1!$N$4:$Q$186,4,FALSE))","v":53270.694946881937},{"$f":"IF(Dashboard!$J$5=VLOOKUP(tblSalaries[[#This Row],[Currency]],Sheet3!$A$2:$B$31,2,FALSE),tblSalaries[[#This Row],[clean Salary (in local currency)]],(tblSalaries[[#This Row],[PPP Adjusted  USD]]/VLOOKUP(Dashboard!$J$5,Sheet3!$B$2:$C$31,2,FALSE)))","v":53270.694946881937},"Trainer","Consultant","Australia","1 or 2 hours a day",20]
[null,"ID1537",85000,"AUD",86692.320794224041,{"$f":"(tblSalaries[[#This Row],[clean Salary (in local currency)]])*(VLOOKUP(tblSalaries[[#This Row],[Currency]],Sheet3!$A$2:$C$31,3,FALSE))*(VLOOKUP(tblSalaries[[#This Row],[Currency]],Sheet1!$N$4:$Q$186,4,FALSE))","v":53270.694946881937},{"$f":"IF(Dashboard!$J$5=VLOOKUP(tblSalaries[[#This Row],[Currency]],Sheet3!$A$2:$B$31,2,FALSE),tblSalaries[[#This Row],[clean Salary (in local currency)]],(tblSalaries[[#This Row],[PPP Adjusted  USD]]/VLOOKUP(Dashboard!$J$5,Sheet3!$B$2:$C$31,2,FALSE)))","v":53270.694946881937},"Demand Planner","Analyst","Australia","1 or 2 hours a day",5]
[null,"ID1586",85000,"AUD",86692.320794224041,{"$f":"(tblSalaries[[#This Row],[clean Salary (in local currency)]])*(VLOOKUP(tblSalaries[[#This Row],[Currency]],Sheet3!$A$2:$C$31,3,FALSE))*(VLOOKUP(tblSalaries[[#This Row],[Currency]],Sheet1!$N$4:$Q$186,4,FALSE))","v":53270.694946881937},{"$f":"IF(Dashboard!$J$5=VLOOKUP(tblSalaries[[#This Row],[Currency]],Sheet3!$A$2:$B$31,2,FALSE),tblSalaries[[#This Row],[clean Salary (in local currency)]],(tblSalaries[[#This Row],[PPP Adjusted  USD]]/VLOOKUP(Dashboard!$J$5,Sheet3!$B$2:$C$31,2,FALSE)))","v":53270.694946881937},"Administrator","Analyst","Australia","4 to 6 hours a day",30]
[null,"ID1725",36000,"GBP",56742.417794422225,{"$f":"(tblSalaries[[#This Row],[clean Salary (in local currency)]])*(VLOOKUP(tblSalaries[[#This Row],[Currency]],Sheet3!$A$2:$C$31,3,FALSE))*(VLOOKUP(tblSalaries[[#This Row],[Currency]],Sheet1!$N$4:$Q$186,4,FALSE))","v":53062.963379295383},{"$f":"IF(Dashboard!$J$5=VLOOKUP(tblSalaries[[#This Row],[Currency]],Sheet3!$A$2:$B$31,2,FALSE),tblSalaries[[#This Row],[clean Salary (in local currency)]],(tblSalaries[[#This Row],[PPP Adjusted  USD]]/VLOOKUP(Dashboard!$J$5,Sheet3!$B$2:$C$31,2,FALSE)))","v":53062.963379295383},"contracts officer","Manager","UK","1 or 2 hours a day",25]
[null,"ID1835",36000,"GBP",56742.417794422225,{"$f":"(tblSalaries[[#This Row],[clean Salary (in local currency)]])*(VLOOKUP(tblSalaries[[#This Row],[Currency]],Sheet3!$A$2:$C$31,3,FALSE))*(VLOOKUP(tblSalaries[[#This Row],[Currency]],Sheet1!$N$4:$Q$186,4,FALSE))","v":53062.963379295383},{"$f":"IF(Dashboard!$J$5=VLOOKUP(tblSalaries[[#This Row],[Currency]],Sheet3!$A$2:$B$31,2,FALSE),tblSalaries[[#This Row],[clean Salary (in local currency)]],(tblSalaries[[#This Row],[PPP Adjusted  USD]]/VLOOKUP(Dashboard!$J$5,Sheet3!$B$2:$C$31,2,FALSE)))","v":53062.963379295383},"Senior officer data reporting","Manager","UK","All the 8 hours baby, all the 8!",7]
[null,"ID0142",53000,"USD",53000,{"$f":"(tblSalaries[[#This Row],[clean Salary (in local currency)]])*(VLOOKUP(tblSalaries[[#This Row],[Currency]],Sheet3!$A$2:$C$31,3,FALSE))*(VLOOKUP(tblSalaries[[#This Row],[Currency]],Sheet1!$N$4:$Q$186,4,FALSE))","v":53000},{"$f":"IF(Dashboard!$J$5=VLOOKUP(tblSalaries[[#This Row],[Currency]],Sheet3!$A$2:$B$31,2,FALSE),tblSalaries[[#This Row],[clean Salary (in local currency)]],(tblSalaries[[#This Row],[PPP Adjusted  USD]]/VLOOKUP(Dashboard!$J$5,Sheet3!$B$2:$C$31,2,FALSE)))","v":53000},"Data Analyst","Analyst","USA","4 to 6 hours a day","Data Not Avaliable"]
[null,"ID0304",53000,"USD",53000,{"$f":"(tblSalaries[[#This Row],[clean Salary (in local currency)]])*(VLOOKUP(tblSalaries[[#This Row],[Currency]],Sheet3!$A$2:$C$31,3,FALSE))*(VLOOKUP(tblSalaries[[#This Row],[Currency]],Sheet1!$N$4:$Q$186,4,FALSE))","v":53000},{"$f":"IF(Dashboard!$J$5=VLOOKUP(tblSalaries[[#This Row],[Currency]],Sheet3!$A$2:$B$31,2,FALSE),tblSalaries[[#This Row],[clean Salary (in local currency)]],(tblSalaries[[#This Row],[PPP Adjusted  USD]]/VLOOKUP(Dashboard!$J$5,Sheet3!$B$2:$C$31,2,FALSE)))","v":53000},"Data Analyst","Analyst","USA","4 to 6 hours a day","Data Not Avaliable"]
[null,"ID0350",53000,"USD",53000,{"$f":"(tblSalaries[[#This Row],[clean Salary (in local currency)]])*(VLOOKUP(tblSalaries[[#This Row],[Currency]],Sheet3!$A$2:$C$31,3,FALSE))*(VLOOKUP(tblSalaries[[#This Row],[Currency]],Sheet1!$N$4:$Q$186,4,FALSE))","v":53000},{"$f":"IF(Dashboard!$J$5=VLOOKUP(tblSalaries[[#This Row],[Currency]],Sheet3!$A$2:$B$31,2,FALSE),tblSalaries[[#This Row],[clean Salary (in local currency)]],(tblSalaries[[#This Row],[PPP Adjusted  USD]]/VLOOKUP(Dashboard!$J$5,Sheet3!$B$2:$C$31,2,FALSE)))","v":53000},"General Manager","Manager","USA","2 to 3 hours per day","Data Not Avaliable"]
[null,"ID0643",53000,"USD",53000,{"$f":"(tblSalaries[[#This Row],[clean Salary (in local currency)]])*(VLOOKUP(tblSalaries[[#This Row],[Currency]],Sheet3!$A$2:$C$31,3,FALSE))*(VLOOKUP(tblSalaries[[#This Row],[Currency]],Sheet1!$N$4:$Q$186,4,FALSE))","v":53000},{"$f":"IF(Dashboard!$J$5=VLOOKUP(tblSalaries[[#This Row],[Currency]],Sheet3!$A$2:$B$31,2,FALSE),tblSalaries[[#This Row],[clean Salary (in local currency)]],(tblSalaries[[#This Row],[PPP Adjusted  USD]]/VLOOKUP(Dashboard!$J$5,Sheet3!$B$2:$C$31,2,FALSE)))","v":53000},"Financial Analyst","Analyst","USA","4 to 6 hours a day",30]
[null,"ID1659",84000,"AUD",85672.4111378214,{"$f":"(tblSalaries[[#This Row],[clean Salary (in local currency)]])*(VLOOKUP(tblSalaries[[#This Row],[Currency]],Sheet3!$A$2:$C$31,3,FALSE))*(VLOOKUP(tblSalaries[[#This Row],[Currency]],Sheet1!$N$4:$Q$186,4,FALSE))","v":52643.98088868332},{"$f":"IF(Dashboard!$J$5=VLOOKUP(tblSalaries[[#This Row],[Currency]],Sheet3!$A$2:$B$31,2,FALSE),tblSalaries[[#This Row],[clean Salary (in local currency)]],(tblSalaries[[#This Row],[PPP Adjusted  USD]]/VLOOKUP(Dashboard!$J$5,Sheet3!$B$2:$C$31,2,FALSE)))","v":52643.98088868332},"consultant","Consultant","Australia","4 to 6 hours a day",6]
[null,"ID0234",52500,"USD",52500,{"$f":"(tblSalaries[[#This Row],[clean Salary (in local currency)]])*(VLOOKUP(tblSalaries[[#This Row],[Currency]],Sheet3!$A$2:$C$31,3,FALSE))*(VLOOKUP(tblSalaries[[#This Row],[Currency]],Sheet1!$N$4:$Q$186,4,FALSE))","v":52500},{"$f":"IF(Dashboard!$J$5=VLOOKUP(tblSalaries[[#This Row],[Currency]],Sheet3!$A$2:$B$31,2,FALSE),tblSalaries[[#This Row],[clean Salary (in local currency)]],(tblSalaries[[#This Row],[PPP Adjusted  USD]]/VLOOKUP(Dashboard!$J$5,Sheet3!$B$2:$C$31,2,FALSE)))","v":52500},"HRIS Analyst","Analyst","USA","4 to 6 hours a day","Data Not Avaliable"]
[null,"ID0253",52500,"USD",52500,{"$f":"(tblSalaries[[#This Row],[clean Salary (in local currency)]])*(VLOOKUP(tblSalaries[[#This Row],[Currency]],Sheet3!$A$2:$C$31,3,FALSE))*(VLOOKUP(tblSalaries[[#This Row],[Currency]],Sheet1!$N$4:$Q$186,4,FALSE))","v":52500},{"$f":"IF(Dashboard!$J$5=VLOOKUP(tblSalaries[[#This Row],[Currency]],Sheet3!$A$2:$B$31,2,FALSE),tblSalaries[[#This Row],[clean Salary (in local currency)]],(tblSalaries[[#This Row],[PPP Adjusted  USD]]/VLOOKUP(Dashboard!$J$5,Sheet3!$B$2:$C$31,2,FALSE)))","v":52500},"Analyst","Analyst","USA","4 to 6 hours a day","Data Not Avaliable"]
[null,"ID1770",52500,"USD",52500,{"$f":"(tblSalaries[[#This Row],[clean Salary (in local currency)]])*(VLOOKUP(tblSalaries[[#This Row],[Currency]],Sheet3!$A$2:$C$31,3,FALSE))*(VLOOKUP(tblSalaries[[#This Row],[Currency]],Sheet1!$N$4:$Q$186,4,FALSE))","v":52500},{"$f":"IF(Dashboard!$J$5=VLOOKUP(tblSalaries[[#This Row],[Currency]],Sheet3!$A$2:$B$31,2,FALSE),tblSalaries[[#This Row],[clean Salary (in local currency)]],(tblSalaries[[#This Row],[PPP Adjusted  USD]]/VLOOKUP(Dashboard!$J$5,Sheet3!$B$2:$C$31,2,FALSE)))","v":52500},"Data Management Solutions Supervisor","Manager","USA","All the 8 hours baby, all the 8!",3]
[null,"ID1927",52500,"USD",52500,{"$f":"(tblSalaries[[#This Row],[clean Salary (in local currency)]])*(VLOOKUP(tblSalaries[[#This Row],[Currency]],Sheet3!$A$2:$C$31,3,FALSE))*(VLOOKUP(tblSalaries[[#This Row],[Currency]],Sheet1!$N$4:$Q$186,4,FALSE))","v":52500},{"$f":"IF(Dashboard!$J$5=VLOOKUP(tblSalaries[[#This Row],[Currency]],Sheet3!$A$2:$B$31,2,FALSE),tblSalaries[[#This Row],[clean Salary (in local currency)]],(tblSalaries[[#This Row],[PPP Adjusted  USD]]/VLOOKUP(Dashboard!$J$5,Sheet3!$B$2:$C$31,2,FALSE)))","v":52500},"Business Analist","Analyst","South Africa","4 to 6 hours a day",21]
[null,"ID1700",35500,"GBP",55954.328658388586,{"$f":"(tblSalaries[[#This Row],[clean Salary (in local currency)]])*(VLOOKUP(tblSalaries[[#This Row],[Currency]],Sheet3!$A$2:$C$31,3,FALSE))*(VLOOKUP(tblSalaries[[#This Row],[Currency]],Sheet1!$N$4:$Q$186,4,FALSE))","v":52325.977776805172},{"$f":"IF(Dashboard!$J$5=VLOOKUP(tblSalaries[[#This Row],[Currency]],Sheet3!$A$2:$B$31,2,FALSE),tblSalaries[[#This Row],[clean Salary (in local currency)]],(tblSalaries[[#This Row],[PPP Adjusted  USD]]/VLOOKUP(Dashboard!$J$5,Sheet3!$B$2:$C$31,2,FALSE)))","v":52325.977776805172},"Assistant Accountant","Accountant","UK","4 to 6 hours a day",8]
[null,"ID0790",66000,"CAD",64901.860520001574,{"$f":"(tblSalaries[[#This Row],[clean Salary (in local currency)]])*(VLOOKUP(tblSalaries[[#This Row],[Currency]],Sheet3!$A$2:$C$31,3,FALSE))*(VLOOKUP(tblSalaries[[#This Row],[Currency]],Sheet1!$N$4:$Q$186,4,FALSE))","v":52169.449411354748},{"$f":"IF(Dashboard!$J$5=VLOOKUP(tblSalaries[[#This Row],[Currency]],Sheet3!$A$2:$B$31,2,FALSE),tblSalaries[[#This Row],[clean Salary (in local currency)]],(tblSalaries[[#This Row],[PPP Adjusted  USD]]/VLOOKUP(Dashboard!$J$5,Sheet3!$B$2:$C$31,2,FALSE)))","v":52169.449411354748},"Programmer-analyst","Analyst","Canada","2 to 3 hours per day",20]
[null,"ID0175",1100000,"INR",19588.708356186824,{"$f":"(tblSalaries[[#This Row],[clean Salary (in local currency)]])*(VLOOKUP(tblSalaries[[#This Row],[Currency]],Sheet3!$A$2:$C$31,3,FALSE))*(VLOOKUP(tblSalaries[[#This Row],[Currency]],Sheet1!$N$4:$Q$186,4,FALSE))","v":52097.1245835683},{"$f":"IF(Dashboard!$J$5=VLOOKUP(tblSalaries[[#This Row],[Currency]],Sheet3!$A$2:$B$31,2,FALSE),tblSalaries[[#This Row],[clean Salary (in local currency)]],(tblSalaries[[#This Row],[PPP Adjusted  USD]]/VLOOKUP(Dashboard!$J$5,Sheet3!$B$2:$C$31,2,FALSE)))","v":52097.1245835683},"Asst manager investor relations and business analytics","Manager","India","4 to 6 hours a day","Data Not Avaliable"]
[null,"ID0443",1100000,"INR",19588.708356186824,{"$f":"(tblSalaries[[#This Row],[clean Salary (in local currency)]])*(VLOOKUP(tblSalaries[[#This Row],[Currency]],Sheet3!$A$2:$C$31,3,FALSE))*(VLOOKUP(tblSalaries[[#This Row],[Currency]],Sheet1!$N$4:$Q$186,4,FALSE))","v":52097.1245835683},{"$f":"IF(Dashboard!$J$5=VLOOKUP(tblSalaries[[#This Row],[Currency]],Sheet3!$A$2:$B$31,2,FALSE),tblSalaries[[#This Row],[clean Salary (in local currency)]],(tblSalaries[[#This Row],[PPP Adjusted  USD]]/VLOOKUP(Dashboard!$J$5,Sheet3!$B$2:$C$31,2,FALSE)))","v":52097.1245835683},"manager - MIS & operations planning","Manager","India","4 to 6 hours a day","Data Not Avaliable"]
[null,"ID1203",1100000,"INR",19588.708356186824,{"$f":"(tblSalaries[[#This Row],[clean Salary (in local currency)]])*(VLOOKUP(tblSalaries[[#This Row],[Currency]],Sheet3!$A$2:$C$31,3,FALSE))*(VLOOKUP(tblSalaries[[#This Row],[Currency]],Sheet1!$N$4:$Q$186,4,FALSE))","v":52097.1245835683},{"$f":"IF(Dashboard!$J$5=VLOOKUP(tblSalaries[[#This Row],[Currency]],Sheet3!$A$2:$B$31,2,FALSE),tblSalaries[[#This Row],[clean Salary (in local currency)]],(tblSalaries[[#This Row],[PPP Adjusted  USD]]/VLOOKUP(Dashboard!$J$5,Sheet3!$B$2:$C$31,2,FALSE)))","v":52097.1245835683},"Sr. Consultant","Consultant","India","All the 8 hours baby, all the 8!",13]
[null,"ID0104",52000,"USD",52000,{"$f":"(tblSalaries[[#This Row],[clean Salary (in local currency)]])*(VLOOKUP(tblSalaries[[#This Row],[Currency]],Sheet3!$A$2:$C$31,3,FALSE))*(VLOOKUP(tblSalaries[[#This Row],[Currency]],Sheet1!$N$4:$Q$186,4,FALSE))","v":52000},{"$f":"IF(Dashboard!$J$5=VLOOKUP(tblSalaries[[#This Row],[Currency]],Sheet3!$A$2:$B$31,2,FALSE),tblSalaries[[#This Row],[clean Salary (in local currency)]],(tblSalaries[[#This Row],[PPP Adjusted  USD]]/VLOOKUP(Dashboard!$J$5,Sheet3!$B$2:$C$31,2,FALSE)))","v":52000},"sr. project coordinator","Manager","USA","4 to 6 hours a day","Data Not Avaliable"]
[null,"ID0120",52000,"USD",52000,{"$f":"(tblSalaries[[#This Row],[clean Salary (in local currency)]])*(VLOOKUP(tblSalaries[[#This Row],[Currency]],Sheet3!$A$2:$C$31,3,FALSE))*(VLOOKUP(tblSalaries[[#This Row],[Currency]],Sheet1!$N$4:$Q$186,4,FALSE))","v":52000},{"$f":"IF(Dashboard!$J$5=VLOOKUP(tblSalaries[[#This Row],[Currency]],Sheet3!$A$2:$B$31,2,FALSE),tblSalaries[[#This Row],[clean Salary (in local currency)]],(tblSalaries[[#This Row],[PPP Adjusted  USD]]/VLOOKUP(Dashboard!$J$5,Sheet3!$B$2:$C$31,2,FALSE)))","v":52000},"Market Analyst","Analyst","USA","Excel ?!? What Excel?","Data Not Avaliable"]
[null,"ID0405",52000,"USD",52000,{"$f":"(tblSalaries[[#This Row],[clean Salary (in local currency)]])*(VLOOKUP(tblSalaries[[#This Row],[Currency]],Sheet3!$A$2:$C$31,3,FALSE))*(VLOOKUP(tblSalaries[[#This Row],[Currency]],Sheet1!$N$4:$Q$186,4,FALSE))","v":52000},{"$f":"IF(Dashboard!$J$5=VLOOKUP(tblSalaries[[#This Row],[Currency]],Sheet3!$A$2:$B$31,2,FALSE),tblSalaries[[#This Row],[clean Salary (in local currency)]],(tblSalaries[[#This Row],[PPP Adjusted  USD]]/VLOOKUP(Dashboard!$J$5,Sheet3!$B$2:$C$31,2,FALSE)))","v":52000},"Data Analyst","Analyst","USA","4 to 6 hours a day","Data Not Avaliable"]
[null,"ID0414",52000,"USD",52000,{"$f":"(tblSalaries[[#This Row],[clean Salary (in local currency)]])*(VLOOKUP(tblSalaries[[#This Row],[Currency]],Sheet3!$A$2:$C$31,3,FALSE))*(VLOOKUP(tblSalaries[[#This Row],[Currency]],Sheet1!$N$4:$Q$186,4,FALSE))","v":52000},{"$f":"IF(Dashboard!$J$5=VLOOKUP(tblSalaries[[#This Row],[Currency]],Sheet3!$A$2:$B$31,2,FALSE),tblSalaries[[#This Row],[clean Salary (in local currency)]],(tblSalaries[[#This Row],[PPP Adjusted  USD]]/VLOOKUP(Dashboard!$J$5,Sheet3!$B$2:$C$31,2,FALSE)))","v":52000},"Sr. Accountant","Accountant","USA","4 to 6 hours a day","Data Not Avaliable"]
[null,"ID0462",52000,"USD",52000,{"$f":"(tblSalaries[[#This Row],[clean Salary (in local currency)]])*(VLOOKUP(tblSalaries[[#This Row],[Currency]],Sheet3!$A$2:$C$31,3,FALSE))*(VLOOKUP(tblSalaries[[#This Row],[Currency]],Sheet1!$N$4:$Q$186,4,FALSE))","v":52000},{"$f":"IF(Dashboard!$J$5=VLOOKUP(tblSalaries[[#This Row],[Currency]],Sheet3!$A$2:$B$31,2,FALSE),tblSalaries[[#This Row],[clean Salary (in local currency)]],(tblSalaries[[#This Row],[PPP Adjusted  USD]]/VLOOKUP(Dashboard!$J$5,Sheet3!$B$2:$C$31,2,FALSE)))","v":52000},"Graphics/Web Document Designer","Analyst","USA","2 to 3 hours per day","Data Not Avaliable"]
[null,"ID0481",52000,"USD",52000,{"$f":"(tblSalaries[[#This Row],[clean Salary (in local currency)]])*(VLOOKUP(tblSalaries[[#This Row],[Currency]],Sheet3!$A$2:$C$31,3,FALSE))*(VLOOKUP(tblSalaries[[#This Row],[Currency]],Sheet1!$N$4:$Q$186,4,FALSE))","v":52000},{"$f":"IF(Dashboard!$J$5=VLOOKUP(tblSalaries[[#This Row],[Currency]],Sheet3!$A$2:$B$31,2,FALSE),tblSalaries[[#This Row],[clean Salary (in local currency)]],(tblSalaries[[#This Row],[PPP Adjusted  USD]]/VLOOKUP(Dashboard!$J$5,Sheet3!$B$2:$C$31,2,FALSE)))","v":52000},"budget analyst","Analyst","USA","4 to 6 hours a day","Data Not Avaliable"]
[null,"ID0683",52000,"USD",52000,{"$f":"(tblSalaries[[#This Row],[clean Salary (in local currency)]])*(VLOOKUP(tblSalaries[[#This Row],[Currency]],Sheet3!$A$2:$C$31,3,FALSE))*(VLOOKUP(tblSalaries[[#This Row],[Currency]],Sheet1!$N$4:$Q$186,4,FALSE))","v":52000},{"$f":"IF(Dashboard!$J$5=VLOOKUP(tblSalaries[[#This Row],[Currency]],Sheet3!$A$2:$B$31,2,FALSE),tblSalaries[[#This Row],[clean Salary (in local currency)]],(tblSalaries[[#This Row],[PPP Adjusted  USD]]/VLOOKUP(Dashboard!$J$5,Sheet3!$B$2:$C$31,2,FALSE)))","v":52000},"Maint Sys Support Specialist","Specialist","USA","4 to 6 hours a day",18]
[null,"ID1593",52000,"USD",52000,{"$f":"(tblSalaries[[#This Row],[clean Salary (in local currency)]])*(VLOOKUP(tblSalaries[[#This Row],[Currency]],Sheet3!$A$2:$C$31,3,FALSE))*(VLOOKUP(tblSalaries[[#This Row],[Currency]],Sheet1!$N$4:$Q$186,4,FALSE))","v":52000},{"$f":"IF(Dashboard!$J$5=VLOOKUP(tblSalaries[[#This Row],[Currency]],Sheet3!$A$2:$B$31,2,FALSE),tblSalaries[[#This Row],[clean Salary (in local currency)]],(tblSalaries[[#This Row],[PPP Adjusted  USD]]/VLOOKUP(Dashboard!$J$5,Sheet3!$B$2:$C$31,2,FALSE)))","v":52000},"Planner","Analyst","USA","All the 8 hours baby, all the 8!",5]
[null,"ID0415",51613,"USD",51613,{"$f":"(tblSalaries[[#This Row],[clean Salary (in local currency)]])*(VLOOKUP(tblSalaries[[#This Row],[Currency]],Sheet3!$A$2:$C$31,3,FALSE))*(VLOOKUP(tblSalaries[[#This Row],[Currency]],Sheet1!$N$4:$Q$186,4,FALSE))","v":51613},{"$f":"IF(Dashboard!$J$5=VLOOKUP(tblSalaries[[#This Row],[Currency]],Sheet3!$A$2:$B$31,2,FALSE),tblSalaries[[#This Row],[clean Salary (in local currency)]],(tblSalaries[[#This Row],[PPP Adjusted  USD]]/VLOOKUP(Dashboard!$J$5,Sheet3!$B$2:$C$31,2,FALSE)))","v":51613},"Air Planning Analyst","Analyst","USA","All the 8 hours baby, all the 8!","Data Not Avaliable"]
[null,"ID0033",35000,"GBP",55166.239522354947,{"$f":"(tblSalaries[[#This Row],[clean Salary (in local currency)]])*(VLOOKUP(tblSalaries[[#This Row],[Currency]],Sheet3!$A$2:$C$31,3,FALSE))*(VLOOKUP(tblSalaries[[#This Row],[Currency]],Sheet1!$N$4:$Q$186,4,FALSE))","v":51588.992174314961},{"$f":"IF(Dashboard!$J$5=VLOOKUP(tblSalaries[[#This Row],[Currency]],Sheet3!$A$2:$B$31,2,FALSE),tblSalaries[[#This Row],[clean Salary (in local currency)]],(tblSalaries[[#This Row],[PPP Adjusted  USD]]/VLOOKUP(Dashboard!$J$5,Sheet3!$B$2:$C$31,2,FALSE)))","v":51588.992174314961},"Management Information Analyst","Analyst","UK","All the 8 hours baby, all the 8!","Data Not Avaliable"]
[null,"ID0409",35000,"GBP",55166.239522354947,{"$f":"(tblSalaries[[#This Row],[clean Salary (in local currency)]])*(VLOOKUP(tblSalaries[[#This Row],[Currency]],Sheet3!$A$2:$C$31,3,FALSE))*(VLOOKUP(tblSalaries[[#This Row],[Currency]],Sheet1!$N$4:$Q$186,4,FALSE))","v":51588.992174314961},{"$f":"IF(Dashboard!$J$5=VLOOKUP(tblSalaries[[#This Row],[Currency]],Sheet3!$A$2:$B$31,2,FALSE),tblSalaries[[#This Row],[clean Salary (in local currency)]],(tblSalaries[[#This Row],[PPP Adjusted  USD]]/VLOOKUP(Dashboard!$J$5,Sheet3!$B$2:$C$31,2,FALSE)))","v":51588.992174314961},"Mgmt Accountant","Accountant","UK","4 to 6 hours a day","Data Not Avaliable"]
[null,"ID1111",35000,"GBP",55166.239522354947,{"$f":"(tblSalaries[[#This Row],[clean Salary (in local currency)]])*(VLOOKUP(tblSalaries[[#This Row],[Currency]],Sheet3!$A$2:$C$31,3,FALSE))*(VLOOKUP(tblSalaries[[#This Row],[Currency]],Sheet1!$N$4:$Q$186,4,FALSE))","v":51588.992174314961},{"$f":"IF(Dashboard!$J$5=VLOOKUP(tblSalaries[[#This Row],[Currency]],Sheet3!$A$2:$B$31,2,FALSE),tblSalaries[[#This Row],[clean Salary (in local currency)]],(tblSalaries[[#This Row],[PPP Adjusted  USD]]/VLOOKUP(Dashboard!$J$5,Sheet3!$B$2:$C$31,2,FALSE)))","v":51588.992174314961},"Systems Analyst","Analyst","UK","2 to 3 hours per day",6]
[null,"ID1153",35000,"GBP",55166.239522354947,{"$f":"(tblSalaries[[#This Row],[clean Salary (in local currency)]])*(VLOOKUP(tblSalaries[[#This Row],[Currency]],Sheet3!$A$2:$C$31,3,FALSE))*(VLOOKUP(tblSalaries[[#This Row],[Currency]],Sheet1!$N$4:$Q$186,4,FALSE))","v":51588.992174314961},{"$f":"IF(Dashboard!$J$5=VLOOKUP(tblSalaries[[#This Row],[Currency]],Sheet3!$A$2:$B$31,2,FALSE),tblSalaries[[#This Row],[clean Salary (in local currency)]],(tblSalaries[[#This Row],[PPP Adjusted  USD]]/VLOOKUP(Dashboard!$J$5,Sheet3!$B$2:$C$31,2,FALSE)))","v":51588.992174314961},"MI Analyst","Analyst","UK","4 to 6 hours a day",10]
[null,"ID1552",35000,"GBP",55166.239522354947,{"$f":"(tblSalaries[[#This Row],[clean Salary (in local currency)]])*(VLOOKUP(tblSalaries[[#This Row],[Currency]],Sheet3!$A$2:$C$31,3,FALSE))*(VLOOKUP(tblSalaries[[#This Row],[Currency]],Sheet1!$N$4:$Q$186,4,FALSE))","v":51588.992174314961},{"$f":"IF(Dashboard!$J$5=VLOOKUP(tblSalaries[[#This Row],[Currency]],Sheet3!$A$2:$B$31,2,FALSE),tblSalaries[[#This Row],[clean Salary (in local currency)]],(tblSalaries[[#This Row],[PPP Adjusted  USD]]/VLOOKUP(Dashboard!$J$5,Sheet3!$B$2:$C$31,2,FALSE)))","v":51588.992174314961},"Research Analyst","Analyst","UK","4 to 6 hours a day",3]
[null,"ID1577",35000,"GBP",55166.239522354947,{"$f":"(tblSalaries[[#This Row],[clean Salary (in local currency)]])*(VLOOKUP(tblSalaries[[#This Row],[Currency]],Sheet3!$A$2:$C$31,3,FALSE))*(VLOOKUP(tblSalaries[[#This Row],[Currency]],Sheet1!$N$4:$Q$186,4,FALSE))","v":51588.992174314961},{"$f":"IF(Dashboard!$J$5=VLOOKUP(tblSalaries[[#This Row],[Currency]],Sheet3!$A$2:$B$31,2,FALSE),tblSalaries[[#This Row],[clean Salary (in local currency)]],(tblSalaries[[#This Row],[PPP Adjusted  USD]]/VLOOKUP(Dashboard!$J$5,Sheet3!$B$2:$C$31,2,FALSE)))","v":51588.992174314961},"finance director","CXO or Top Mgmt.","UK","2 to 3 hours per day",30]
[null,"ID1895",35000,"GBP",55166.239522354947,{"$f":"(tblSalaries[[#This Row],[clean Salary (in local currency)]])*(VLOOKUP(tblSalaries[[#This Row],[Currency]],Sheet3!$A$2:$C$31,3,FALSE))*(VLOOKUP(tblSalaries[[#This Row],[Currency]],Sheet1!$N$4:$Q$186,4,FALSE))","v":51588.992174314961},{"$f":"IF(Dashboard!$J$5=VLOOKUP(tblSalaries[[#This Row],[Currency]],Sheet3!$A$2:$B$31,2,FALSE),tblSalaries[[#This Row],[clean Salary (in local currency)]],(tblSalaries[[#This Row],[PPP Adjusted  USD]]/VLOOKUP(Dashboard!$J$5,Sheet3!$B$2:$C$31,2,FALSE)))","v":51588.992174314961},"Process Analyst","Analyst","UK","All the 8 hours baby, all the 8!",34]
[null,"ID1638",485000,"DKK",82888.5550559455,{"$f":"(tblSalaries[[#This Row],[clean Salary (in local currency)]])*(VLOOKUP(tblSalaries[[#This Row],[Currency]],Sheet3!$A$2:$C$31,3,FALSE))*(VLOOKUP(tblSalaries[[#This Row],[Currency]],Sheet1!$N$4:$Q$186,4,FALSE))","v":51385.541369194259},{"$f":"IF(Dashboard!$J$5=VLOOKUP(tblSalaries[[#This Row],[Currency]],Sheet3!$A$2:$B$31,2,FALSE),tblSalaries[[#This Row],[clean Salary (in local currency)]],(tblSalaries[[#This Row],[PPP Adjusted  USD]]/VLOOKUP(Dashboard!$J$5,Sheet3!$B$2:$C$31,2,FALSE)))","v":51385.541369194259},"Controller","Controller","Denmark","4 to 6 hours a day",18]
[null,"ID0246",65000,"CAD",63918.498996971248,{"$f":"(tblSalaries[[#This Row],[clean Salary (in local currency)]])*(VLOOKUP(tblSalaries[[#This Row],[Currency]],Sheet3!$A$2:$C$31,3,FALSE))*(VLOOKUP(tblSalaries[[#This Row],[Currency]],Sheet1!$N$4:$Q$186,4,FALSE))","v":51379.003208152404},{"$f":"IF(Dashboard!$J$5=VLOOKUP(tblSalaries[[#This Row],[Currency]],Sheet3!$A$2:$B$31,2,FALSE),tblSalaries[[#This Row],[clean Salary (in local currency)]],(tblSalaries[[#This Row],[PPP Adjusted  USD]]/VLOOKUP(Dashboard!$J$5,Sheet3!$B$2:$C$31,2,FALSE)))","v":51379.003208152404},"Insurance Manager","Manager","Canada","4 to 6 hours a day","Data Not Avaliable"]
[null,"ID0333",65000,"CAD",63918.498996971248,{"$f":"(tblSalaries[[#This Row],[clean Salary (in local currency)]])*(VLOOKUP(tblSalaries[[#This Row],[Currency]],Sheet3!$A$2:$C$31,3,FALSE))*(VLOOKUP(tblSalaries[[#This Row],[Currency]],Sheet1!$N$4:$Q$186,4,FALSE))","v":51379.003208152404},{"$f":"IF(Dashboard!$J$5=VLOOKUP(tblSalaries[[#This Row],[Currency]],Sheet3!$A$2:$B$31,2,FALSE),tblSalaries[[#This Row],[clean Salary (in local currency)]],(tblSalaries[[#This Row],[PPP Adjusted  USD]]/VLOOKUP(Dashboard!$J$5,Sheet3!$B$2:$C$31,2,FALSE)))","v":51379.003208152404},"Product developer","Manager","Canada","2 to 3 hours per day","Data Not Avaliable"]
[null,"ID1166",65000,"CAD",63918.498996971248,{"$f":"(tblSalaries[[#This Row],[clean Salary (in local currency)]])*(VLOOKUP(tblSalaries[[#This Row],[Currency]],Sheet3!$A$2:$C$31,3,FALSE))*(VLOOKUP(tblSalaries[[#This Row],[Currency]],Sheet1!$N$4:$Q$186,4,FALSE))","v":51379.003208152404},{"$f":"IF(Dashboard!$J$5=VLOOKUP(tblSalaries[[#This Row],[Currency]],Sheet3!$A$2:$B$31,2,FALSE),tblSalaries[[#This Row],[clean Salary (in local currency)]],(tblSalaries[[#This Row],[PPP Adjusted  USD]]/VLOOKUP(Dashboard!$J$5,Sheet3!$B$2:$C$31,2,FALSE)))","v":51379.003208152404},"IT Analyst (Reporting)","Analyst","Canada","4 to 6 hours a day",20]
[null,"ID1259",65000,"CAD",63918.498996971248,{"$f":"(tblSalaries[[#This Row],[clean Salary (in local currency)]])*(VLOOKUP(tblSalaries[[#This Row],[Currency]],Sheet3!$A$2:$C$31,3,FALSE))*(VLOOKUP(tblSalaries[[#This Row],[Currency]],Sheet1!$N$4:$Q$186,4,FALSE))","v":51379.003208152404},{"$f":"IF(Dashboard!$J$5=VLOOKUP(tblSalaries[[#This Row],[Currency]],Sheet3!$A$2:$B$31,2,FALSE),tblSalaries[[#This Row],[clean Salary (in local currency)]],(tblSalaries[[#This Row],[PPP Adjusted  USD]]/VLOOKUP(Dashboard!$J$5,Sheet3!$B$2:$C$31,2,FALSE)))","v":51379.003208152404},"it manager","Manager","Canada","2 to 3 hours per day",15]
[null,"ID0721",85000,"NZD",67794.987956419791,{"$f":"(tblSalaries[[#This Row],[clean Salary (in local currency)]])*(VLOOKUP(tblSalaries[[#This Row],[Currency]],Sheet3!$A$2:$C$31,3,FALSE))*(VLOOKUP(tblSalaries[[#This Row],[Currency]],Sheet1!$N$4:$Q$186,4,FALSE))","v":51183.328884954703},{"$f":"IF(Dashboard!$J$5=VLOOKUP(tblSalaries[[#This Row],[Currency]],Sheet3!$A$2:$B$31,2,FALSE),tblSalaries[[#This Row],[clean Salary (in local currency)]],(tblSalaries[[#This Row],[PPP Adjusted  USD]]/VLOOKUP(Dashboard!$J$5,Sheet3!$B$2:$C$31,2,FALSE)))","v":51183.328884954703},"Systems Manager","Manager","New Zealand","4 to 6 hours a day",15]
[null,"ID1017",308500,"ZAR",37612.869087708088,{"$f":"(tblSalaries[[#This Row],[clean Salary (in local currency)]])*(VLOOKUP(tblSalaries[[#This Row],[Currency]],Sheet3!$A$2:$C$31,3,FALSE))*(VLOOKUP(tblSalaries[[#This Row],[Currency]],Sheet1!$N$4:$Q$186,4,FALSE))","v":51167.637409233968},{"$f":"IF(Dashboard!$J$5=VLOOKUP(tblSalaries[[#This Row],[Currency]],Sheet3!$A$2:$B$31,2,FALSE),tblSalaries[[#This Row],[clean Salary (in local currency)]],(tblSalaries[[#This Row],[PPP Adjusted  USD]]/VLOOKUP(Dashboard!$J$5,Sheet3!$B$2:$C$31,2,FALSE)))","v":51167.637409233968},"Management Information Consultant","Manager","South Africa","All the 8 hours baby, all the 8!",3]
[null,"ID0203",51000,"USD",51000,{"$f":"(tblSalaries[[#This Row],[clean Salary (in local currency)]])*(VLOOKUP(tblSalaries[[#This Row],[Currency]],Sheet3!$A$2:$C$31,3,FALSE))*(VLOOKUP(tblSalaries[[#This Row],[Currency]],Sheet1!$N$4:$Q$186,4,FALSE))","v":51000},{"$f":"IF(Dashboard!$J$5=VLOOKUP(tblSalaries[[#This Row],[Currency]],Sheet3!$A$2:$B$31,2,FALSE),tblSalaries[[#This Row],[clean Salary (in local currency)]],(tblSalaries[[#This Row],[PPP Adjusted  USD]]/VLOOKUP(Dashboard!$J$5,Sheet3!$B$2:$C$31,2,FALSE)))","v":51000},"Service Line Coordinator","Manager","USA","4 to 6 hours a day","Data Not Avaliable"]
[null,"ID0259",51000,"USD",51000,{"$f":"(tblSalaries[[#This Row],[clean Salary (in local currency)]])*(VLOOKUP(tblSalaries[[#This Row],[Currency]],Sheet3!$A$2:$C$31,3,FALSE))*(VLOOKUP(tblSalaries[[#This Row],[Currency]],Sheet1!$N$4:$Q$186,4,FALSE))","v":51000},{"$f":"IF(Dashboard!$J$5=VLOOKUP(tblSalaries[[#This Row],[Currency]],Sheet3!$A$2:$B$31,2,FALSE),tblSalaries[[#This Row],[clean Salary (in local currency)]],(tblSalaries[[#This Row],[PPP Adjusted  USD]]/VLOOKUP(Dashboard!$J$5,Sheet3!$B$2:$C$31,2,FALSE)))","v":51000},"Business Data Analyst I","Analyst","USA","2 to 3 hours per day","Data Not Avaliable"]
[null,"ID0447",51000,"USD",51000,{"$f":"(tblSalaries[[#This Row],[clean Salary (in local currency)]])*(VLOOKUP(tblSalaries[[#This Row],[Currency]],Sheet3!$A$2:$C$31,3,FALSE))*(VLOOKUP(tblSalaries[[#This Row],[Currency]],Sheet1!$N$4:$Q$186,4,FALSE))","v":51000},{"$f":"IF(Dashboard!$J$5=VLOOKUP(tblSalaries[[#This Row],[Currency]],Sheet3!$A$2:$B$31,2,FALSE),tblSalaries[[#This Row],[clean Salary (in local currency)]],(tblSalaries[[#This Row],[PPP Adjusted  USD]]/VLOOKUP(Dashboard!$J$5,Sheet3!$B$2:$C$31,2,FALSE)))","v":51000},"Direct marketing manager","Manager","USA","2 to 3 hours per day","Data Not Avaliable"]
[null,"ID1253",50846,"USD",50846,{"$f":"(tblSalaries[[#This Row],[clean Salary (in local currency)]])*(VLOOKUP(tblSalaries[[#This Row],[Currency]],Sheet3!$A$2:$C$31,3,FALSE))*(VLOOKUP(tblSalaries[[#This Row],[Currency]],Sheet1!$N$4:$Q$186,4,FALSE))","v":50846},{"$f":"IF(Dashboard!$J$5=VLOOKUP(tblSalaries[[#This Row],[Currency]],Sheet3!$A$2:$B$31,2,FALSE),tblSalaries[[#This Row],[clean Salary (in local currency)]],(tblSalaries[[#This Row],[PPP Adjusted  USD]]/VLOOKUP(Dashboard!$J$5,Sheet3!$B$2:$C$31,2,FALSE)))","v":50846},"Program & Policy Analyst-Advanced","Analyst","USA","4 to 6 hours a day",25]
[null,"ID1256",50700,"USD",50700,{"$f":"(tblSalaries[[#This Row],[clean Salary (in local currency)]])*(VLOOKUP(tblSalaries[[#This Row],[Currency]],Sheet3!$A$2:$C$31,3,FALSE))*(VLOOKUP(tblSalaries[[#This Row],[Currency]],Sheet1!$N$4:$Q$186,4,FALSE))","v":50700},{"$f":"IF(Dashboard!$J$5=VLOOKUP(tblSalaries[[#This Row],[Currency]],Sheet3!$A$2:$B$31,2,FALSE),tblSalaries[[#This Row],[clean Salary (in local currency)]],(tblSalaries[[#This Row],[PPP Adjusted  USD]]/VLOOKUP(Dashboard!$J$5,Sheet3!$B$2:$C$31,2,FALSE)))","v":50700},"Sr. Systems Analyst","Analyst","Brazil","1 or 2 hours a day",15]
[null,"ID0964",80000,"AUD",81592.772512210868,{"$f":"(tblSalaries[[#This Row],[clean Salary (in local currency)]])*(VLOOKUP(tblSalaries[[#This Row],[Currency]],Sheet3!$A$2:$C$31,3,FALSE))*(VLOOKUP(tblSalaries[[#This Row],[Currency]],Sheet1!$N$4:$Q$186,4,FALSE))","v":50137.124655888889},{"$f":"IF(Dashboard!$J$5=VLOOKUP(tblSalaries[[#This Row],[Currency]],Sheet3!$A$2:$B$31,2,FALSE),tblSalaries[[#This Row],[clean Salary (in local currency)]],(tblSalaries[[#This Row],[PPP Adjusted  USD]]/VLOOKUP(Dashboard!$J$5,Sheet3!$B$2:$C$31,2,FALSE)))","v":50137.124655888889},"Billing manager","Manager","Australia","4 to 6 hours a day",25]
[null,"ID1255",80000,"AUD",81592.772512210868,{"$f":"(tblSalaries[[#This Row],[clean Salary (in local currency)]])*(VLOOKUP(tblSalaries[[#This Row],[Currency]],Sheet3!$A$2:$C$31,3,FALSE))*(VLOOKUP(tblSalaries[[#This Row],[Currency]],Sheet1!$N$4:$Q$186,4,FALSE))","v":50137.124655888889},{"$f":"IF(Dashboard!$J$5=VLOOKUP(tblSalaries[[#This Row],[Currency]],Sheet3!$A$2:$B$31,2,FALSE),tblSalaries[[#This Row],[clean Salary (in local currency)]],(tblSalaries[[#This Row],[PPP Adjusted  USD]]/VLOOKUP(Dashboard!$J$5,Sheet3!$B$2:$C$31,2,FALSE)))","v":50137.124655888889},"systems accountant","Accountant","Australia","4 to 6 hours a day",5]
[null,"ID1713",80000,"AUD",81592.772512210868,{"$f":"(tblSalaries[[#This Row],[clean Salary (in local currency)]])*(VLOOKUP(tblSalaries[[#This Row],[Currency]],Sheet3!$A$2:$C$31,3,FALSE))*(VLOOKUP(tblSalaries[[#This Row],[Currency]],Sheet1!$N$4:$Q$186,4,FALSE))","v":50137.124655888889},{"$f":"IF(Dashboard!$J$5=VLOOKUP(tblSalaries[[#This Row],[Currency]],Sheet3!$A$2:$B$31,2,FALSE),tblSalaries[[#This Row],[clean Salary (in local currency)]],(tblSalaries[[#This Row],[PPP Adjusted  USD]]/VLOOKUP(Dashboard!$J$5,Sheet3!$B$2:$C$31,2,FALSE)))","v":50137.124655888889},"PPC Search Specialist","Specialist","Australia","4 to 6 hours a day",5]
[null,"ID1205",34000,"GBP",53590.061250287661,{"$f":"(tblSalaries[[#This Row],[clean Salary (in local currency)]])*(VLOOKUP(tblSalaries[[#This Row],[Currency]],Sheet3!$A$2:$C$31,3,FALSE))*(VLOOKUP(tblSalaries[[#This Row],[Currency]],Sheet1!$N$4:$Q$186,4,FALSE))","v":50115.020969334531},{"$f":"IF(Dashboard!$J$5=VLOOKUP(tblSalaries[[#This Row],[Currency]],Sheet3!$A$2:$B$31,2,FALSE),tblSalaries[[#This Row],[clean Salary (in local currency)]],(tblSalaries[[#This Row],[PPP Adjusted  USD]]/VLOOKUP(Dashboard!$J$5,Sheet3!$B$2:$C$31,2,FALSE)))","v":50115.020969334531},"investment accountant","Accountant","UK","All the 8 hours baby, all the 8!",10]
[null,"ID1206",34000,"GBP",53590.061250287661,{"$f":"(tblSalaries[[#This Row],[clean Salary (in local currency)]])*(VLOOKUP(tblSalaries[[#This Row],[Currency]],Sheet3!$A$2:$C$31,3,FALSE))*(VLOOKUP(tblSalaries[[#This Row],[Currency]],Sheet1!$N$4:$Q$186,4,FALSE))","v":50115.020969334531},{"$f":"IF(Dashboard!$J$5=VLOOKUP(tblSalaries[[#This Row],[Currency]],Sheet3!$A$2:$B$31,2,FALSE),tblSalaries[[#This Row],[clean Salary (in local currency)]],(tblSalaries[[#This Row],[PPP Adjusted  USD]]/VLOOKUP(Dashboard!$J$5,Sheet3!$B$2:$C$31,2,FALSE)))","v":50115.020969334531},"investment accountant","Accountant","UK","All the 8 hours baby, all the 8!",10]
[null,"ID1246",34000,"GBP",53590.061250287661,{"$f":"(tblSalaries[[#This Row],[clean Salary (in local currency)]])*(VLOOKUP(tblSalaries[[#This Row],[Currency]],Sheet3!$A$2:$C$31,3,FALSE))*(VLOOKUP(tblSalaries[[#This Row],[Currency]],Sheet1!$N$4:$Q$186,4,FALSE))","v":50115.020969334531},{"$f":"IF(Dashboard!$J$5=VLOOKUP(tblSalaries[[#This Row],[Currency]],Sheet3!$A$2:$B$31,2,FALSE),tblSalaries[[#This Row],[clean Salary (in local currency)]],(tblSalaries[[#This Row],[PPP Adjusted  USD]]/VLOOKUP(Dashboard!$J$5,Sheet3!$B$2:$C$31,2,FALSE)))","v":50115.020969334531},"Investment Accountant","Accountant","UK","All the 8 hours baby, all the 8!",10]
[null,"ID0020",50000,"USD",50000,{"$f":"(tblSalaries[[#This Row],[clean Salary (in local currency)]])*(VLOOKUP(tblSalaries[[#This Row],[Currency]],Sheet3!$A$2:$C$31,3,FALSE))*(VLOOKUP(tblSalaries[[#This Row],[Currency]],Sheet1!$N$4:$Q$186,4,FALSE))","v":50000},{"$f":"IF(Dashboard!$J$5=VLOOKUP(tblSalaries[[#This Row],[Currency]],Sheet3!$A$2:$B$31,2,FALSE),tblSalaries[[#This Row],[clean Salary (in local currency)]],(tblSalaries[[#This Row],[PPP Adjusted  USD]]/VLOOKUP(Dashboard!$J$5,Sheet3!$B$2:$C$31,2,FALSE)))","v":50000},"GM","Manager","India","1 or 2 hours a day","Data Not Avaliable"]
[null,"ID0069",50000,"USD",50000,{"$f":"(tblSalaries[[#This Row],[clean Salary (in local currency)]])*(VLOOKUP(tblSalaries[[#This Row],[Currency]],Sheet3!$A$2:$C$31,3,FALSE))*(VLOOKUP(tblSalaries[[#This Row],[Currency]],Sheet1!$N$4:$Q$186,4,FALSE))","v":50000},{"$f":"IF(Dashboard!$J$5=VLOOKUP(tblSalaries[[#This Row],[Currency]],Sheet3!$A$2:$B$31,2,FALSE),tblSalaries[[#This Row],[clean Salary (in local currency)]],(tblSalaries[[#This Row],[PPP Adjusted  USD]]/VLOOKUP(Dashboard!$J$5,Sheet3!$B$2:$C$31,2,FALSE)))","v":50000},"Financial Analyst II","Analyst","USA","All the 8 hours baby, all the 8!","Data Not Avaliable"]
[null,"ID0080",50000,"USD",50000,{"$f":"(tblSalaries[[#This Row],[clean Salary (in local currency)]])*(VLOOKUP(tblSalaries[[#This Row],[Currency]],Sheet3!$A$2:$C$31,3,FALSE))*(VLOOKUP(tblSalaries[[#This Row],[Currency]],Sheet1!$N$4:$Q$186,4,FALSE))","v":50000},{"$f":"IF(Dashboard!$J$5=VLOOKUP(tblSalaries[[#This Row],[Currency]],Sheet3!$A$2:$B$31,2,FALSE),tblSalaries[[#This Row],[clean Salary (in local currency)]],(tblSalaries[[#This Row],[PPP Adjusted  USD]]/VLOOKUP(Dashboard!$J$5,Sheet3!$B$2:$C$31,2,FALSE)))","v":50000},"Exceler","Manager","USA","2 to 3 hours per day","Data Not Avaliable"]
[null,"ID0112",50000,"USD",50000,{"$f":"(tblSalaries[[#This Row],[clean Salary (in local currency)]])*(VLOOKUP(tblSalaries[[#This Row],[Currency]],Sheet3!$A$2:$C$31,3,FALSE))*(VLOOKUP(tblSalaries[[#This Row],[Currency]],Sheet1!$N$4:$Q$186,4,FALSE))","v":50000},{"$f":"IF(Dashboard!$J$5=VLOOKUP(tblSalaries[[#This Row],[Currency]],Sheet3!$A$2:$B$31,2,FALSE),tblSalaries[[#This Row],[clean Salary (in local currency)]],(tblSalaries[[#This Row],[PPP Adjusted  USD]]/VLOOKUP(Dashboard!$J$5,Sheet3!$B$2:$C$31,2,FALSE)))","v":50000},"Transportation Specialist","Specialist","USA","4 to 6 hours a day","Data Not Avaliable"]
[null,"ID0123",50000,"USD",50000,{"$f":"(tblSalaries[[#This Row],[clean Salary (in local currency)]])*(VLOOKUP(tblSalaries[[#This Row],[Currency]],Sheet3!$A$2:$C$31,3,FALSE))*(VLOOKUP(tblSalaries[[#This Row],[Currency]],Sheet1!$N$4:$Q$186,4,FALSE))","v":50000},{"$f":"IF(Dashboard!$J$5=VLOOKUP(tblSalaries[[#This Row],[Currency]],Sheet3!$A$2:$B$31,2,FALSE),tblSalaries[[#This Row],[clean Salary (in local currency)]],(tblSalaries[[#This Row],[PPP Adjusted  USD]]/VLOOKUP(Dashboard!$J$5,Sheet3!$B$2:$C$31,2,FALSE)))","v":50000},"Information Systems Specialist","Specialist","USA","4 to 6 hours a day","Data Not Avaliable"]
[null,"ID0150",50000,"USD",50000,{"$f":"(tblSalaries[[#This Row],[clean Salary (in local currency)]])*(VLOOKUP(tblSalaries[[#This Row],[Currency]],Sheet3!$A$2:$C$31,3,FALSE))*(VLOOKUP(tblSalaries[[#This Row],[Currency]],Sheet1!$N$4:$Q$186,4,FALSE))","v":50000},{"$f":"IF(Dashboard!$J$5=VLOOKUP(tblSalaries[[#This Row],[Currency]],Sheet3!$A$2:$B$31,2,FALSE),tblSalaries[[#This Row],[clean Salary (in local currency)]],(tblSalaries[[#This Row],[PPP Adjusted  USD]]/VLOOKUP(Dashboard!$J$5,Sheet3!$B$2:$C$31,2,FALSE)))","v":50000},"Business Operations Reporting Analyst","Analyst","Mexico","All the 8 hours baby, all the 8!","Data Not Avaliable"]
[null,"ID0210",50000,"USD",50000,{"$f":"(tblSalaries[[#This Row],[clean Salary (in local currency)]])*(VLOOKUP(tblSalaries[[#This Row],[Currency]],Sheet3!$A$2:$C$31,3,FALSE))*(VLOOKUP(tblSalaries[[#This Row],[Currency]],Sheet1!$N$4:$Q$186,4,FALSE))","v":50000},{"$f":"IF(Dashboard!$J$5=VLOOKUP(tblSalaries[[#This Row],[Currency]],Sheet3!$A$2:$B$31,2,FALSE),tblSalaries[[#This Row],[clean Salary (in local currency)]],(tblSalaries[[#This Row],[PPP Adjusted  USD]]/VLOOKUP(Dashboard!$J$5,Sheet3!$B$2:$C$31,2,FALSE)))","v":50000},"Buyer","Manager","USA","4 to 6 hours a day","Data Not Avaliable"]
[null,"ID0227",50000,"USD",50000,{"$f":"(tblSalaries[[#This Row],[clean Salary (in local currency)]])*(VLOOKUP(tblSalaries[[#This Row],[Currency]],Sheet3!$A$2:$C$31,3,FALSE))*(VLOOKUP(tblSalaries[[#This Row],[Currency]],Sheet1!$N$4:$Q$186,4,FALSE))","v":50000},{"$f":"IF(Dashboard!$J$5=VLOOKUP(tblSalaries[[#This Row],[Currency]],Sheet3!$A$2:$B$31,2,FALSE),tblSalaries[[#This Row],[clean Salary (in local currency)]],(tblSalaries[[#This Row],[PPP Adjusted  USD]]/VLOOKUP(Dashboard!$J$5,Sheet3!$B$2:$C$31,2,FALSE)))","v":50000},"Project Manager","Manager","USA","4 to 6 hours a day","Data Not Avaliable"]
[null,"ID0242",50000,"USD",50000,{"$f":"(tblSalaries[[#This Row],[clean Salary (in local currency)]])*(VLOOKUP(tblSalaries[[#This Row],[Currency]],Sheet3!$A$2:$C$31,3,FALSE))*(VLOOKUP(tblSalaries[[#This Row],[Currency]],Sheet1!$N$4:$Q$186,4,FALSE))","v":50000},{"$f":"IF(Dashboard!$J$5=VLOOKUP(tblSalaries[[#This Row],[Currency]],Sheet3!$A$2:$B$31,2,FALSE),tblSalaries[[#This Row],[clean Salary (in local currency)]],(tblSalaries[[#This Row],[PPP Adjusted  USD]]/VLOOKUP(Dashboard!$J$5,Sheet3!$B$2:$C$31,2,FALSE)))","v":50000},"data analyst","Analyst","USA","All the 8 hours baby, all the 8!","Data Not Avaliable"]
[null,"ID0295",50000,"USD",50000,{"$f":"(tblSalaries[[#This Row],[clean Salary (in local currency)]])*(VLOOKUP(tblSalaries[[#This Row],[Currency]],Sheet3!$A$2:$C$31,3,FALSE))*(VLOOKUP(tblSalaries[[#This Row],[Currency]],Sheet1!$N$4:$Q$186,4,FALSE))","v":50000},{"$f":"IF(Dashboard!$J$5=VLOOKUP(tblSalaries[[#This Row],[Currency]],Sheet3!$A$2:$B$31,2,FALSE),tblSalaries[[#This Row],[clean Salary (in local currency)]],(tblSalaries[[#This Row],[PPP Adjusted  USD]]/VLOOKUP(Dashboard!$J$5,Sheet3!$B$2:$C$31,2,FALSE)))","v":50000},"Mathematical Data Analyist","Analyst","USA","All the 8 hours baby, all the 8!","Data Not Avaliable"]
[null,"ID0334",50000,"USD",50000,{"$f":"(tblSalaries[[#This Row],[clean Salary (in local currency)]])*(VLOOKUP(tblSalaries[[#This Row],[Currency]],Sheet3!$A$2:$C$31,3,FALSE))*(VLOOKUP(tblSalaries[[#This Row],[Currency]],Sheet1!$N$4:$Q$186,4,FALSE))","v":50000},{"$f":"IF(Dashboard!$J$5=VLOOKUP(tblSalaries[[#This Row],[Currency]],Sheet3!$A$2:$B$31,2,FALSE),tblSalaries[[#This Row],[clean Salary (in local currency)]],(tblSalaries[[#This Row],[PPP Adjusted  USD]]/VLOOKUP(Dashboard!$J$5,Sheet3!$B$2:$C$31,2,FALSE)))","v":50000},"Supply Chain Analyst","Analyst","USA","All the 8 hours baby, all the 8!","Data Not Avaliable"]
[null,"ID0392",50000,"USD",50000,{"$f":"(tblSalaries[[#This Row],[clean Salary (in local currency)]])*(VLOOKUP(tblSalaries[[#This Row],[Currency]],Sheet3!$A$2:$C$31,3,FALSE))*(VLOOKUP(tblSalaries[[#This Row],[Currency]],Sheet1!$N$4:$Q$186,4,FALSE))","v":50000},{"$f":"IF(Dashboard!$J$5=VLOOKUP(tblSalaries[[#This Row],[Currency]],Sheet3!$A$2:$B$31,2,FALSE),tblSalaries[[#This Row],[clean Salary (in local currency)]],(tblSalaries[[#This Row],[PPP Adjusted  USD]]/VLOOKUP(Dashboard!$J$5,Sheet3!$B$2:$C$31,2,FALSE)))","v":50000},"IR Manager","Manager","USA","2 to 3 hours per day","Data Not Avaliable"]
[null,"ID0451",50000,"USD",50000,{"$f":"(tblSalaries[[#This Row],[clean Salary (in local currency)]])*(VLOOKUP(tblSalaries[[#This Row],[Currency]],Sheet3!$A$2:$C$31,3,FALSE))*(VLOOKUP(tblSalaries[[#This Row],[Currency]],Sheet1!$N$4:$Q$186,4,FALSE))","v":50000},{"$f":"IF(Dashboard!$J$5=VLOOKUP(tblSalaries[[#This Row],[Currency]],Sheet3!$A$2:$B$31,2,FALSE),tblSalaries[[#This Row],[clean Salary (in local currency)]],(tblSalaries[[#This Row],[PPP Adjusted  USD]]/VLOOKUP(Dashboard!$J$5,Sheet3!$B$2:$C$31,2,FALSE)))","v":50000},"Wine Analyst","Analyst","USA","4 to 6 hours a day","Data Not Avaliable"]
[null,"ID0471",50000,"USD",50000,{"$f":"(tblSalaries[[#This Row],[clean Salary (in local currency)]])*(VLOOKUP(tblSalaries[[#This Row],[Currency]],Sheet3!$A$2:$C$31,3,FALSE))*(VLOOKUP(tblSalaries[[#This Row],[Currency]],Sheet1!$N$4:$Q$186,4,FALSE))","v":50000},{"$f":"IF(Dashboard!$J$5=VLOOKUP(tblSalaries[[#This Row],[Currency]],Sheet3!$A$2:$B$31,2,FALSE),tblSalaries[[#This Row],[clean Salary (in local currency)]],(tblSalaries[[#This Row],[PPP Adjusted  USD]]/VLOOKUP(Dashboard!$J$5,Sheet3!$B$2:$C$31,2,FALSE)))","v":50000},"Researcher & Data Analyst","Analyst","USA","4 to 6 hours a day","Data Not Avaliable"]
[null,"ID0487",50000,"USD",50000,{"$f":"(tblSalaries[[#This Row],[clean Salary (in local currency)]])*(VLOOKUP(tblSalaries[[#This Row],[Currency]],Sheet3!$A$2:$C$31,3,FALSE))*(VLOOKUP(tblSalaries[[#This Row],[Currency]],Sheet1!$N$4:$Q$186,4,FALSE))","v":50000},{"$f":"IF(Dashboard!$J$5=VLOOKUP(tblSalaries[[#This Row],[Currency]],Sheet3!$A$2:$B$31,2,FALSE),tblSalaries[[#This Row],[clean Salary (in local currency)]],(tblSalaries[[#This Row],[PPP Adjusted  USD]]/VLOOKUP(Dashboard!$J$5,Sheet3!$B$2:$C$31,2,FALSE)))","v":50000},"Workforce Analyst","Analyst","USA","4 to 6 hours a day","Data Not Avaliable"]
[null,"ID0537",50000,"USD",50000,{"$f":"(tblSalaries[[#This Row],[clean Salary (in local currency)]])*(VLOOKUP(tblSalaries[[#This Row],[Currency]],Sheet3!$A$2:$C$31,3,FALSE))*(VLOOKUP(tblSalaries[[#This Row],[Currency]],Sheet1!$N$4:$Q$186,4,FALSE))","v":50000},{"$f":"IF(Dashboard!$J$5=VLOOKUP(tblSalaries[[#This Row],[Currency]],Sheet3!$A$2:$B$31,2,FALSE),tblSalaries[[#This Row],[clean Salary (in local currency)]],(tblSalaries[[#This Row],[PPP Adjusted  USD]]/VLOOKUP(Dashboard!$J$5,Sheet3!$B$2:$C$31,2,FALSE)))","v":50000},"Research Assistant","Analyst","USA","2 to 3 hours per day","Data Not Avaliable"]
[null,"ID0539",50000,"USD",50000,{"$f":"(tblSalaries[[#This Row],[clean Salary (in local currency)]])*(VLOOKUP(tblSalaries[[#This Row],[Currency]],Sheet3!$A$2:$C$31,3,FALSE))*(VLOOKUP(tblSalaries[[#This Row],[Currency]],Sheet1!$N$4:$Q$186,4,FALSE))","v":50000},{"$f":"IF(Dashboard!$J$5=VLOOKUP(tblSalaries[[#This Row],[Currency]],Sheet3!$A$2:$B$31,2,FALSE),tblSalaries[[#This Row],[clean Salary (in local currency)]],(tblSalaries[[#This Row],[PPP Adjusted  USD]]/VLOOKUP(Dashboard!$J$5,Sheet3!$B$2:$C$31,2,FALSE)))","v":50000},"Excel professional","Analyst","self-employed","4 to 6 hours a day","Data Not Avaliable"]
[null,"ID0550",50000,"USD",50000,{"$f":"(tblSalaries[[#This Row],[clean Salary (in local currency)]])*(VLOOKUP(tblSalaries[[#This Row],[Currency]],Sheet3!$A$2:$C$31,3,FALSE))*(VLOOKUP(tblSalaries[[#This Row],[Currency]],Sheet1!$N$4:$Q$186,4,FALSE))","v":50000},{"$f":"IF(Dashboard!$J$5=VLOOKUP(tblSalaries[[#This Row],[Currency]],Sheet3!$A$2:$B$31,2,FALSE),tblSalaries[[#This Row],[clean Salary (in local currency)]],(tblSalaries[[#This Row],[PPP Adjusted  USD]]/VLOOKUP(Dashboard!$J$5,Sheet3!$B$2:$C$31,2,FALSE)))","v":50000},"Quality Compliance Manager","Manager","USA","4 to 6 hours a day","Data Not Avaliable"]
[null,"ID0583",50000,"USD",50000,{"$f":"(tblSalaries[[#This Row],[clean Salary (in local currency)]])*(VLOOKUP(tblSalaries[[#This Row],[Currency]],Sheet3!$A$2:$C$31,3,FALSE))*(VLOOKUP(tblSalaries[[#This Row],[Currency]],Sheet1!$N$4:$Q$186,4,FALSE))","v":50000},{"$f":"IF(Dashboard!$J$5=VLOOKUP(tblSalaries[[#This Row],[Currency]],Sheet3!$A$2:$B$31,2,FALSE),tblSalaries[[#This Row],[clean Salary (in local currency)]],(tblSalaries[[#This Row],[PPP Adjusted  USD]]/VLOOKUP(Dashboard!$J$5,Sheet3!$B$2:$C$31,2,FALSE)))","v":50000},"IT Specialist","Specialist","USA","2 to 3 hours per day",10]
[null,"ID0599",50000,"USD",50000,{"$f":"(tblSalaries[[#This Row],[clean Salary (in local currency)]])*(VLOOKUP(tblSalaries[[#This Row],[Currency]],Sheet3!$A$2:$C$31,3,FALSE))*(VLOOKUP(tblSalaries[[#This Row],[Currency]],Sheet1!$N$4:$Q$186,4,FALSE))","v":50000},{"$f":"IF(Dashboard!$J$5=VLOOKUP(tblSalaries[[#This Row],[Currency]],Sheet3!$A$2:$B$31,2,FALSE),tblSalaries[[#This Row],[clean Salary (in local currency)]],(tblSalaries[[#This Row],[PPP Adjusted  USD]]/VLOOKUP(Dashboard!$J$5,Sheet3!$B$2:$C$31,2,FALSE)))","v":50000},"General manager","Manager","India","1 or 2 hours a day",25]
[null,"ID0604",50000,"USD",50000,{"$f":"(tblSalaries[[#This Row],[clean Salary (in local currency)]])*(VLOOKUP(tblSalaries[[#This Row],[Currency]],Sheet3!$A$2:$C$31,3,FALSE))*(VLOOKUP(tblSalaries[[#This Row],[Currency]],Sheet1!$N$4:$Q$186,4,FALSE))","v":50000},{"$f":"IF(Dashboard!$J$5=VLOOKUP(tblSalaries[[#This Row],[Currency]],Sheet3!$A$2:$B$31,2,FALSE),tblSalaries[[#This Row],[clean Salary (in local currency)]],(tblSalaries[[#This Row],[PPP Adjusted  USD]]/VLOOKUP(Dashboard!$J$5,Sheet3!$B$2:$C$31,2,FALSE)))","v":50000},"Product manager","Manager","India","1 or 2 hours a day",10]
[null,"ID0624",50000,"USD",50000,{"$f":"(tblSalaries[[#This Row],[clean Salary (in local currency)]])*(VLOOKUP(tblSalaries[[#This Row],[Currency]],Sheet3!$A$2:$C$31,3,FALSE))*(VLOOKUP(tblSalaries[[#This Row],[Currency]],Sheet1!$N$4:$Q$186,4,FALSE))","v":50000},{"$f":"IF(Dashboard!$J$5=VLOOKUP(tblSalaries[[#This Row],[Currency]],Sheet3!$A$2:$B$31,2,FALSE),tblSalaries[[#This Row],[clean Salary (in local currency)]],(tblSalaries[[#This Row],[PPP Adjusted  USD]]/VLOOKUP(Dashboard!$J$5,Sheet3!$B$2:$C$31,2,FALSE)))","v":50000},"Project coordinator","Manager","USA","4 to 6 hours a day",20]
[null,"ID0690",50000,"USD",50000,{"$f":"(tblSalaries[[#This Row],[clean Salary (in local currency)]])*(VLOOKUP(tblSalaries[[#This Row],[Currency]],Sheet3!$A$2:$C$31,3,FALSE))*(VLOOKUP(tblSalaries[[#This Row],[Currency]],Sheet1!$N$4:$Q$186,4,FALSE))","v":50000},{"$f":"IF(Dashboard!$J$5=VLOOKUP(tblSalaries[[#This Row],[Currency]],Sheet3!$A$2:$B$31,2,FALSE),tblSalaries[[#This Row],[clean Salary (in local currency)]],(tblSalaries[[#This Row],[PPP Adjusted  USD]]/VLOOKUP(Dashboard!$J$5,Sheet3!$B$2:$C$31,2,FALSE)))","v":50000},"AREA SALES MANAGER","Manager","India","2 to 3 hours per day",20]
[null,"ID0869",50000,"USD",50000,{"$f":"(tblSalaries[[#This Row],[clean Salary (in local currency)]])*(VLOOKUP(tblSalaries[[#This Row],[Currency]],Sheet3!$A$2:$C$31,3,FALSE))*(VLOOKUP(tblSalaries[[#This Row],[Currency]],Sheet1!$N$4:$Q$186,4,FALSE))","v":50000},{"$f":"IF(Dashboard!$J$5=VLOOKUP(tblSalaries[[#This Row],[Currency]],Sheet3!$A$2:$B$31,2,FALSE),tblSalaries[[#This Row],[clean Salary (in local currency)]],(tblSalaries[[#This Row],[PPP Adjusted  USD]]/VLOOKUP(Dashboard!$J$5,Sheet3!$B$2:$C$31,2,FALSE)))","v":50000},"Boss","CXO or Top Mgmt.","USA","All the 8 hours baby, all the 8!",15]
[null,"ID1070",50000,"USD",50000,{"$f":"(tblSalaries[[#This Row],[clean Salary (in local currency)]])*(VLOOKUP(tblSalaries[[#This Row],[Currency]],Sheet3!$A$2:$C$31,3,FALSE))*(VLOOKUP(tblSalaries[[#This Row],[Currency]],Sheet1!$N$4:$Q$186,4,FALSE))","v":50000},{"$f":"IF(Dashboard!$J$5=VLOOKUP(tblSalaries[[#This Row],[Currency]],Sheet3!$A$2:$B$31,2,FALSE),tblSalaries[[#This Row],[clean Salary (in local currency)]],(tblSalaries[[#This Row],[PPP Adjusted  USD]]/VLOOKUP(Dashboard!$J$5,Sheet3!$B$2:$C$31,2,FALSE)))","v":50000},"Managing Partner","CXO or Top Mgmt.","India","1 or 2 hours a day",26]
[null,"ID1088",50000,"USD",50000,{"$f":"(tblSalaries[[#This Row],[clean Salary (in local currency)]])*(VLOOKUP(tblSalaries[[#This Row],[Currency]],Sheet3!$A$2:$C$31,3,FALSE))*(VLOOKUP(tblSalaries[[#This Row],[Currency]],Sheet1!$N$4:$Q$186,4,FALSE))","v":50000},{"$f":"IF(Dashboard!$J$5=VLOOKUP(tblSalaries[[#This Row],[Currency]],Sheet3!$A$2:$B$31,2,FALSE),tblSalaries[[#This Row],[clean Salary (in local currency)]],(tblSalaries[[#This Row],[PPP Adjusted  USD]]/VLOOKUP(Dashboard!$J$5,Sheet3!$B$2:$C$31,2,FALSE)))","v":50000},"Sr. Manager MIS","Manager","India","2 to 3 hours per day",30]
[null,"ID1169",50000,"USD",50000,{"$f":"(tblSalaries[[#This Row],[clean Salary (in local currency)]])*(VLOOKUP(tblSalaries[[#This Row],[Currency]],Sheet3!$A$2:$C$31,3,FALSE))*(VLOOKUP(tblSalaries[[#This Row],[Currency]],Sheet1!$N$4:$Q$186,4,FALSE))","v":50000},{"$f":"IF(Dashboard!$J$5=VLOOKUP(tblSalaries[[#This Row],[Currency]],Sheet3!$A$2:$B$31,2,FALSE),tblSalaries[[#This Row],[clean Salary (in local currency)]],(tblSalaries[[#This Row],[PPP Adjusted  USD]]/VLOOKUP(Dashboard!$J$5,Sheet3!$B$2:$C$31,2,FALSE)))","v":50000},"Program Manager","Manager","Canada","1 or 2 hours a day",5]
[null,"ID1185",50000,"USD",50000,{"$f":"(tblSalaries[[#This Row],[clean Salary (in local currency)]])*(VLOOKUP(tblSalaries[[#This Row],[Currency]],Sheet3!$A$2:$C$31,3,FALSE))*(VLOOKUP(tblSalaries[[#This Row],[Currency]],Sheet1!$N$4:$Q$186,4,FALSE))","v":50000},{"$f":"IF(Dashboard!$J$5=VLOOKUP(tblSalaries[[#This Row],[Currency]],Sheet3!$A$2:$B$31,2,FALSE),tblSalaries[[#This Row],[clean Salary (in local currency)]],(tblSalaries[[#This Row],[PPP Adjusted  USD]]/VLOOKUP(Dashboard!$J$5,Sheet3!$B$2:$C$31,2,FALSE)))","v":50000},"Engineer","Engineer","Singapore","2 to 3 hours per day",25]
[null,"ID1282",50000,"USD",50000,{"$f":"(tblSalaries[[#This Row],[clean Salary (in local currency)]])*(VLOOKUP(tblSalaries[[#This Row],[Currency]],Sheet3!$A$2:$C$31,3,FALSE))*(VLOOKUP(tblSalaries[[#This Row],[Currency]],Sheet1!$N$4:$Q$186,4,FALSE))","v":50000},{"$f":"IF(Dashboard!$J$5=VLOOKUP(tblSalaries[[#This Row],[Currency]],Sheet3!$A$2:$B$31,2,FALSE),tblSalaries[[#This Row],[clean Salary (in local currency)]],(tblSalaries[[#This Row],[PPP Adjusted  USD]]/VLOOKUP(Dashboard!$J$5,Sheet3!$B$2:$C$31,2,FALSE)))","v":50000},"Data Analyst","Analyst","USA","4 to 6 hours a day",3]
[null,"ID1378",50000,"USD",50000,{"$f":"(tblSalaries[[#This Row],[clean Salary (in local currency)]])*(VLOOKUP(tblSalaries[[#This Row],[Currency]],Sheet3!$A$2:$C$31,3,FALSE))*(VLOOKUP(tblSalaries[[#This Row],[Currency]],Sheet1!$N$4:$Q$186,4,FALSE))","v":50000},{"$f":"IF(Dashboard!$J$5=VLOOKUP(tblSalaries[[#This Row],[Currency]],Sheet3!$A$2:$B$31,2,FALSE),tblSalaries[[#This Row],[clean Salary (in local currency)]],(tblSalaries[[#This Row],[PPP Adjusted  USD]]/VLOOKUP(Dashboard!$J$5,Sheet3!$B$2:$C$31,2,FALSE)))","v":50000},"Engineering Intern","Engineer","USA","4 to 6 hours a day",0.5]
[null,"ID1416",50000,"USD",50000,{"$f":"(tblSalaries[[#This Row],[clean Salary (in local currency)]])*(VLOOKUP(tblSalaries[[#This Row],[Currency]],Sheet3!$A$2:$C$31,3,FALSE))*(VLOOKUP(tblSalaries[[#This Row],[Currency]],Sheet1!$N$4:$Q$186,4,FALSE))","v":50000},{"$f":"IF(Dashboard!$J$5=VLOOKUP(tblSalaries[[#This Row],[Currency]],Sheet3!$A$2:$B$31,2,FALSE),tblSalaries[[#This Row],[clean Salary (in local currency)]],(tblSalaries[[#This Row],[PPP Adjusted  USD]]/VLOOKUP(Dashboard!$J$5,Sheet3!$B$2:$C$31,2,FALSE)))","v":50000},"Accounting Supervisor","Accountant","USA","4 to 6 hours a day",15]
[null,"ID1425",50000,"USD",50000,{"$f":"(tblSalaries[[#This Row],[clean Salary (in local currency)]])*(VLOOKUP(tblSalaries[[#This Row],[Currency]],Sheet3!$A$2:$C$31,3,FALSE))*(VLOOKUP(tblSalaries[[#This Row],[Currency]],Sheet1!$N$4:$Q$186,4,FALSE))","v":50000},{"$f":"IF(Dashboard!$J$5=VLOOKUP(tblSalaries[[#This Row],[Currency]],Sheet3!$A$2:$B$31,2,FALSE),tblSalaries[[#This Row],[clean Salary (in local currency)]],(tblSalaries[[#This Row],[PPP Adjusted  USD]]/VLOOKUP(Dashboard!$J$5,Sheet3!$B$2:$C$31,2,FALSE)))","v":50000},"Digital Analyst","Analyst","USA","4 to 6 hours a day",7]
[null,"ID1493",50000,"USD",50000,{"$f":"(tblSalaries[[#This Row],[clean Salary (in local currency)]])*(VLOOKUP(tblSalaries[[#This Row],[Currency]],Sheet3!$A$2:$C$31,3,FALSE))*(VLOOKUP(tblSalaries[[#This Row],[Currency]],Sheet1!$N$4:$Q$186,4,FALSE))","v":50000},{"$f":"IF(Dashboard!$J$5=VLOOKUP(tblSalaries[[#This Row],[Currency]],Sheet3!$A$2:$B$31,2,FALSE),tblSalaries[[#This Row],[clean Salary (in local currency)]],(tblSalaries[[#This Row],[PPP Adjusted  USD]]/VLOOKUP(Dashboard!$J$5,Sheet3!$B$2:$C$31,2,FALSE)))","v":50000},"Sr. Financial Analyst","Analyst","Kuwait","4 to 6 hours a day",13]
[null,"ID1581",50000,"USD",50000,{"$f":"(tblSalaries[[#This Row],[clean Salary (in local currency)]])*(VLOOKUP(tblSalaries[[#This Row],[Currency]],Sheet3!$A$2:$C$31,3,FALSE))*(VLOOKUP(tblSalaries[[#This Row],[Currency]],Sheet1!$N$4:$Q$186,4,FALSE))","v":50000},{"$f":"IF(Dashboard!$J$5=VLOOKUP(tblSalaries[[#This Row],[Currency]],Sheet3!$A$2:$B$31,2,FALSE),tblSalaries[[#This Row],[clean Salary (in local currency)]],(tblSalaries[[#This Row],[PPP Adjusted  USD]]/VLOOKUP(Dashboard!$J$5,Sheet3!$B$2:$C$31,2,FALSE)))","v":50000},"Staff Accountant","Accountant","USA","4 to 6 hours a day",15]
[null,"ID1603",50000,"USD",50000,{"$f":"(tblSalaries[[#This Row],[clean Salary (in local currency)]])*(VLOOKUP(tblSalaries[[#This Row],[Currency]],Sheet3!$A$2:$C$31,3,FALSE))*(VLOOKUP(tblSalaries[[#This Row],[Currency]],Sheet1!$N$4:$Q$186,4,FALSE))","v":50000},{"$f":"IF(Dashboard!$J$5=VLOOKUP(tblSalaries[[#This Row],[Currency]],Sheet3!$A$2:$B$31,2,FALSE),tblSalaries[[#This Row],[clean Salary (in local currency)]],(tblSalaries[[#This Row],[PPP Adjusted  USD]]/VLOOKUP(Dashboard!$J$5,Sheet3!$B$2:$C$31,2,FALSE)))","v":50000},"Sales Operations Analyst","Analyst","USA","All the 8 hours baby, all the 8!",2]
[null,"ID1605",50000,"USD",50000,{"$f":"(tblSalaries[[#This Row],[clean Salary (in local currency)]])*(VLOOKUP(tblSalaries[[#This Row],[Currency]],Sheet3!$A$2:$C$31,3,FALSE))*(VLOOKUP(tblSalaries[[#This Row],[Currency]],Sheet1!$N$4:$Q$186,4,FALSE))","v":50000},{"$f":"IF(Dashboard!$J$5=VLOOKUP(tblSalaries[[#This Row],[Currency]],Sheet3!$A$2:$B$31,2,FALSE),tblSalaries[[#This Row],[clean Salary (in local currency)]],(tblSalaries[[#This Row],[PPP Adjusted  USD]]/VLOOKUP(Dashboard!$J$5,Sheet3!$B$2:$C$31,2,FALSE)))","v":50000},"Catalog Circulation Analyst","Analyst","USA","All the 8 hours baby, all the 8!",12]
[null,"ID1624",50000,"USD",50000,{"$f":"(tblSalaries[[#This Row],[clean Salary (in local currency)]])*(VLOOKUP(tblSalaries[[#This Row],[Currency]],Sheet3!$A$2:$C$31,3,FALSE))*(VLOOKUP(tblSalaries[[#This Row],[Currency]],Sheet1!$N$4:$Q$186,4,FALSE))","v":50000},{"$f":"IF(Dashboard!$J$5=VLOOKUP(tblSalaries[[#This Row],[Currency]],Sheet3!$A$2:$B$31,2,FALSE),tblSalaries[[#This Row],[clean Salary (in local currency)]],(tblSalaries[[#This Row],[PPP Adjusted  USD]]/VLOOKUP(Dashboard!$J$5,Sheet3!$B$2:$C$31,2,FALSE)))","v":50000},"Associate Vice President","CXO or Top Mgmt.","India","1 or 2 hours a day",8]
[null,"ID1847",50000,"USD",50000,{"$f":"(tblSalaries[[#This Row],[clean Salary (in local currency)]])*(VLOOKUP(tblSalaries[[#This Row],[Currency]],Sheet3!$A$2:$C$31,3,FALSE))*(VLOOKUP(tblSalaries[[#This Row],[Currency]],Sheet1!$N$4:$Q$186,4,FALSE))","v":50000},{"$f":"IF(Dashboard!$J$5=VLOOKUP(tblSalaries[[#This Row],[Currency]],Sheet3!$A$2:$B$31,2,FALSE),tblSalaries[[#This Row],[clean Salary (in local currency)]],(tblSalaries[[#This Row],[PPP Adjusted  USD]]/VLOOKUP(Dashboard!$J$5,Sheet3!$B$2:$C$31,2,FALSE)))","v":50000},"Digital Media Analyst","Analyst","USA","All the 8 hours baby, all the 8!",15]
[null,"ID1920",50000,"USD",50000,{"$f":"(tblSalaries[[#This Row],[clean Salary (in local currency)]])*(VLOOKUP(tblSalaries[[#This Row],[Currency]],Sheet3!$A$2:$C$31,3,FALSE))*(VLOOKUP(tblSalaries[[#This Row],[Currency]],Sheet1!$N$4:$Q$186,4,FALSE))","v":50000},{"$f":"IF(Dashboard!$J$5=VLOOKUP(tblSalaries[[#This Row],[Currency]],Sheet3!$A$2:$B$31,2,FALSE),tblSalaries[[#This Row],[clean Salary (in local currency)]],(tblSalaries[[#This Row],[PPP Adjusted  USD]]/VLOOKUP(Dashboard!$J$5,Sheet3!$B$2:$C$31,2,FALSE)))","v":50000},"Operations Analyst ","Analyst","USA","All the 8 hours baby, all the 8!",3.5]
[null,"ID0913",1050000,"INR",18698.312521814696,{"$f":"(tblSalaries[[#This Row],[clean Salary (in local currency)]])*(VLOOKUP(tblSalaries[[#This Row],[Currency]],Sheet3!$A$2:$C$31,3,FALSE))*(VLOOKUP(tblSalaries[[#This Row],[Currency]],Sheet1!$N$4:$Q$186,4,FALSE))","v":49729.073466133377},{"$f":"IF(Dashboard!$J$5=VLOOKUP(tblSalaries[[#This Row],[Currency]],Sheet3!$A$2:$B$31,2,FALSE),tblSalaries[[#This Row],[clean Salary (in local currency)]],(tblSalaries[[#This Row],[PPP Adjusted  USD]]/VLOOKUP(Dashboard!$J$5,Sheet3!$B$2:$C$31,2,FALSE)))","v":49729.073466133377},"Manager Market Reesrach","Manager","India","All the 8 hours baby, all the 8!",5]
[null,"ID0049",45000,"EUR",57167.974754622352,{"$f":"(tblSalaries[[#This Row],[clean Salary (in local currency)]])*(VLOOKUP(tblSalaries[[#This Row],[Currency]],Sheet3!$A$2:$C$31,3,FALSE))*(VLOOKUP(tblSalaries[[#This Row],[Currency]],Sheet1!$N$4:$Q$186,4,FALSE))","v":49529.379869102348},{"$f":"IF(Dashboard!$J$5=VLOOKUP(tblSalaries[[#This Row],[Currency]],Sheet3!$A$2:$B$31,2,FALSE),tblSalaries[[#This Row],[clean Salary (in local currency)]],(tblSalaries[[#This Row],[PPP Adjusted  USD]]/VLOOKUP(Dashboard!$J$5,Sheet3!$B$2:$C$31,2,FALSE)))","v":49529.379869102348},"Online Traffic Manager / Web Analist","Manager","Netherlands","4 to 6 hours a day","Data Not Avaliable"]
[null,"ID0957",45000,"EUR",57167.974754622352,{"$f":"(tblSalaries[[#This Row],[clean Salary (in local currency)]])*(VLOOKUP(tblSalaries[[#This Row],[Currency]],Sheet3!$A$2:$C$31,3,FALSE))*(VLOOKUP(tblSalaries[[#This Row],[Currency]],Sheet1!$N$4:$Q$186,4,FALSE))","v":49529.379869102348},{"$f":"IF(Dashboard!$J$5=VLOOKUP(tblSalaries[[#This Row],[Currency]],Sheet3!$A$2:$B$31,2,FALSE),tblSalaries[[#This Row],[clean Salary (in local currency)]],(tblSalaries[[#This Row],[PPP Adjusted  USD]]/VLOOKUP(Dashboard!$J$5,Sheet3!$B$2:$C$31,2,FALSE)))","v":49529.379869102348},"data analist","Analyst","Netherlands","2 to 3 hours per day",10]
[null,"ID1134",45000,"EUR",57167.974754622352,{"$f":"(tblSalaries[[#This Row],[clean Salary (in local currency)]])*(VLOOKUP(tblSalaries[[#This Row],[Currency]],Sheet3!$A$2:$C$31,3,FALSE))*(VLOOKUP(tblSalaries[[#This Row],[Currency]],Sheet1!$N$4:$Q$186,4,FALSE))","v":49529.379869102348},{"$f":"IF(Dashboard!$J$5=VLOOKUP(tblSalaries[[#This Row],[Currency]],Sheet3!$A$2:$B$31,2,FALSE),tblSalaries[[#This Row],[clean Salary (in local currency)]],(tblSalaries[[#This Row],[PPP Adjusted  USD]]/VLOOKUP(Dashboard!$J$5,Sheet3!$B$2:$C$31,2,FALSE)))","v":49529.379869102348},"Sales Planning","Manager","Spain","4 to 6 hours a day",14]
[null,"ID1367",45000,"EUR",57167.974754622352,{"$f":"(tblSalaries[[#This Row],[clean Salary (in local currency)]])*(VLOOKUP(tblSalaries[[#This Row],[Currency]],Sheet3!$A$2:$C$31,3,FALSE))*(VLOOKUP(tblSalaries[[#This Row],[Currency]],Sheet1!$N$4:$Q$186,4,FALSE))","v":49529.379869102348},{"$f":"IF(Dashboard!$J$5=VLOOKUP(tblSalaries[[#This Row],[Currency]],Sheet3!$A$2:$B$31,2,FALSE),tblSalaries[[#This Row],[clean Salary (in local currency)]],(tblSalaries[[#This Row],[PPP Adjusted  USD]]/VLOOKUP(Dashboard!$J$5,Sheet3!$B$2:$C$31,2,FALSE)))","v":49529.379869102348},"Junior Controller","Controller","Germany","4 to 6 hours a day",12]
[null,"ID1822",45000,"EUR",57167.974754622352,{"$f":"(tblSalaries[[#This Row],[clean Salary (in local currency)]])*(VLOOKUP(tblSalaries[[#This Row],[Currency]],Sheet3!$A$2:$C$31,3,FALSE))*(VLOOKUP(tblSalaries[[#This Row],[Currency]],Sheet1!$N$4:$Q$186,4,FALSE))","v":49529.379869102348},{"$f":"IF(Dashboard!$J$5=VLOOKUP(tblSalaries[[#This Row],[Currency]],Sheet3!$A$2:$B$31,2,FALSE),tblSalaries[[#This Row],[clean Salary (in local currency)]],(tblSalaries[[#This Row],[PPP Adjusted  USD]]/VLOOKUP(Dashboard!$J$5,Sheet3!$B$2:$C$31,2,FALSE)))","v":49529.379869102348},"IT Trainer","Analyst","Netherlands","2 to 3 hours per day",14]
[null,"ID1346",49500,"USD",49500,{"$f":"(tblSalaries[[#This Row],[clean Salary (in local currency)]])*(VLOOKUP(tblSalaries[[#This Row],[Currency]],Sheet3!$A$2:$C$31,3,FALSE))*(VLOOKUP(tblSalaries[[#This Row],[Currency]],Sheet1!$N$4:$Q$186,4,FALSE))","v":49500},{"$f":"IF(Dashboard!$J$5=VLOOKUP(tblSalaries[[#This Row],[Currency]],Sheet3!$A$2:$B$31,2,FALSE),tblSalaries[[#This Row],[clean Salary (in local currency)]],(tblSalaries[[#This Row],[PPP Adjusted  USD]]/VLOOKUP(Dashboard!$J$5,Sheet3!$B$2:$C$31,2,FALSE)))","v":49500},"Financial Analyst II","Analyst","USA","4 to 6 hours a day",4.5]
[null,"ID1854",33500,"GBP",52801.972114254015,{"$f":"(tblSalaries[[#This Row],[clean Salary (in local currency)]])*(VLOOKUP(tblSalaries[[#This Row],[Currency]],Sheet3!$A$2:$C$31,3,FALSE))*(VLOOKUP(tblSalaries[[#This Row],[Currency]],Sheet1!$N$4:$Q$186,4,FALSE))","v":49378.035366844313},{"$f":"IF(Dashboard!$J$5=VLOOKUP(tblSalaries[[#This Row],[Currency]],Sheet3!$A$2:$B$31,2,FALSE),tblSalaries[[#This Row],[clean Salary (in local currency)]],(tblSalaries[[#This Row],[PPP Adjusted  USD]]/VLOOKUP(Dashboard!$J$5,Sheet3!$B$2:$C$31,2,FALSE)))","v":49378.035366844313},"Senior Manufacturing Engineer","Engineer","UK","2 to 3 hours per day",7]
[null,"ID1190",2000000,"PKR",21228.177433598263,{"$f":"(tblSalaries[[#This Row],[clean Salary (in local currency)]])*(VLOOKUP(tblSalaries[[#This Row],[Currency]],Sheet3!$A$2:$C$31,3,FALSE))*(VLOOKUP(tblSalaries[[#This Row],[Currency]],Sheet1!$N$4:$Q$186,4,FALSE))","v":49256.114142394494},{"$f":"IF(Dashboard!$J$5=VLOOKUP(tblSalaries[[#This Row],[Currency]],Sheet3!$A$2:$B$31,2,FALSE),tblSalaries[[#This Row],[clean Salary (in local currency)]],(tblSalaries[[#This Row],[PPP Adjusted  USD]]/VLOOKUP(Dashboard!$J$5,Sheet3!$B$2:$C$31,2,FALSE)))","v":49256.114142394494},"Excel Corporate Trainer","Consultant","Pakistan","All the 8 hours baby, all the 8!",8]
[null,"ID1228",49200,"USD",49200,{"$f":"(tblSalaries[[#This Row],[clean Salary (in local currency)]])*(VLOOKUP(tblSalaries[[#This Row],[Currency]],Sheet3!$A$2:$C$31,3,FALSE))*(VLOOKUP(tblSalaries[[#This Row],[Currency]],Sheet1!$N$4:$Q$186,4,FALSE))","v":49200},{"$f":"IF(Dashboard!$J$5=VLOOKUP(tblSalaries[[#This Row],[Currency]],Sheet3!$A$2:$B$31,2,FALSE),tblSalaries[[#This Row],[clean Salary (in local currency)]],(tblSalaries[[#This Row],[PPP Adjusted  USD]]/VLOOKUP(Dashboard!$J$5,Sheet3!$B$2:$C$31,2,FALSE)))","v":49200},"Chief Accountant","Accountant","Qatar","2 to 3 hours per day",25]
[null,"ID0140",62000,"CAD",60968.414427880263,{"$f":"(tblSalaries[[#This Row],[clean Salary (in local currency)]])*(VLOOKUP(tblSalaries[[#This Row],[Currency]],Sheet3!$A$2:$C$31,3,FALSE))*(VLOOKUP(tblSalaries[[#This Row],[Currency]],Sheet1!$N$4:$Q$186,4,FALSE))","v":49007.664598545365},{"$f":"IF(Dashboard!$J$5=VLOOKUP(tblSalaries[[#This Row],[Currency]],Sheet3!$A$2:$B$31,2,FALSE),tblSalaries[[#This Row],[clean Salary (in local currency)]],(tblSalaries[[#This Row],[PPP Adjusted  USD]]/VLOOKUP(Dashboard!$J$5,Sheet3!$B$2:$C$31,2,FALSE)))","v":49007.664598545365},"Process Technician","Analyst","Canada","2 to 3 hours per day","Data Not Avaliable"]
[null,"ID0014",49000,"USD",49000,{"$f":"(tblSalaries[[#This Row],[clean Salary (in local currency)]])*(VLOOKUP(tblSalaries[[#This Row],[Currency]],Sheet3!$A$2:$C$31,3,FALSE))*(VLOOKUP(tblSalaries[[#This Row],[Currency]],Sheet1!$N$4:$Q$186,4,FALSE))","v":49000},{"$f":"IF(Dashboard!$J$5=VLOOKUP(tblSalaries[[#This Row],[Currency]],Sheet3!$A$2:$B$31,2,FALSE),tblSalaries[[#This Row],[clean Salary (in local currency)]],(tblSalaries[[#This Row],[PPP Adjusted  USD]]/VLOOKUP(Dashboard!$J$5,Sheet3!$B$2:$C$31,2,FALSE)))","v":49000},"business analyst","Analyst","USA","All the 8 hours baby, all the 8!","Data Not Avaliable"]
[null,"ID1406",49000,"USD",49000,{"$f":"(tblSalaries[[#This Row],[clean Salary (in local currency)]])*(VLOOKUP(tblSalaries[[#This Row],[Currency]],Sheet3!$A$2:$C$31,3,FALSE))*(VLOOKUP(tblSalaries[[#This Row],[Currency]],Sheet1!$N$4:$Q$186,4,FALSE))","v":49000},{"$f":"IF(Dashboard!$J$5=VLOOKUP(tblSalaries[[#This Row],[Currency]],Sheet3!$A$2:$B$31,2,FALSE),tblSalaries[[#This Row],[clean Salary (in local currency)]],(tblSalaries[[#This Row],[PPP Adjusted  USD]]/VLOOKUP(Dashboard!$J$5,Sheet3!$B$2:$C$31,2,FALSE)))","v":49000},"Research Analyst","Analyst","USA","4 to 6 hours a day",10]
[null,"ID1422",49000,"USD",49000,{"$f":"(tblSalaries[[#This Row],[clean Salary (in local currency)]])*(VLOOKUP(tblSalaries[[#This Row],[Currency]],Sheet3!$A$2:$C$31,3,FALSE))*(VLOOKUP(tblSalaries[[#This Row],[Currency]],Sheet1!$N$4:$Q$186,4,FALSE))","v":49000},{"$f":"IF(Dashboard!$J$5=VLOOKUP(tblSalaries[[#This Row],[Currency]],Sheet3!$A$2:$B$31,2,FALSE),tblSalaries[[#This Row],[clean Salary (in local currency)]],(tblSalaries[[#This Row],[PPP Adjusted  USD]]/VLOOKUP(Dashboard!$J$5,Sheet3!$B$2:$C$31,2,FALSE)))","v":49000},"Clinical Data Specialist","Specialist","USA","4 to 6 hours a day",5]
[null,"ID1672",49000,"USD",49000,{"$f":"(tblSalaries[[#This Row],[clean Salary (in local currency)]])*(VLOOKUP(tblSalaries[[#This Row],[Currency]],Sheet3!$A$2:$C$31,3,FALSE))*(VLOOKUP(tblSalaries[[#This Row],[Currency]],Sheet1!$N$4:$Q$186,4,FALSE))","v":49000},{"$f":"IF(Dashboard!$J$5=VLOOKUP(tblSalaries[[#This Row],[Currency]],Sheet3!$A$2:$B$31,2,FALSE),tblSalaries[[#This Row],[clean Salary (in local currency)]],(tblSalaries[[#This Row],[PPP Adjusted  USD]]/VLOOKUP(Dashboard!$J$5,Sheet3!$B$2:$C$31,2,FALSE)))","v":49000},"Marketing Data Analyst","Analyst","USA","2 to 3 hours per day",3]
[null,"ID0363",480000,"SEK",68954.520184280962,{"$f":"(tblSalaries[[#This Row],[clean Salary (in local currency)]])*(VLOOKUP(tblSalaries[[#This Row],[Currency]],Sheet3!$A$2:$C$31,3,FALSE))*(VLOOKUP(tblSalaries[[#This Row],[Currency]],Sheet1!$N$4:$Q$186,4,FALSE))","v":48902.714771046114},{"$f":"IF(Dashboard!$J$5=VLOOKUP(tblSalaries[[#This Row],[Currency]],Sheet3!$A$2:$B$31,2,FALSE),tblSalaries[[#This Row],[clean Salary (in local currency)]],(tblSalaries[[#This Row],[PPP Adjusted  USD]]/VLOOKUP(Dashboard!$J$5,Sheet3!$B$2:$C$31,2,FALSE)))","v":48902.714771046114},"IT consultant","Consultant","Sweden","1 or 2 hours a day","Data Not Avaliable"]
[null,"ID0635",78000,"AUD",79552.953199405587,{"$f":"(tblSalaries[[#This Row],[clean Salary (in local currency)]])*(VLOOKUP(tblSalaries[[#This Row],[Currency]],Sheet3!$A$2:$C$31,3,FALSE))*(VLOOKUP(tblSalaries[[#This Row],[Currency]],Sheet1!$N$4:$Q$186,4,FALSE))","v":48883.696539491655},{"$f":"IF(Dashboard!$J$5=VLOOKUP(tblSalaries[[#This Row],[Currency]],Sheet3!$A$2:$B$31,2,FALSE),tblSalaries[[#This Row],[clean Salary (in local currency)]],(tblSalaries[[#This Row],[PPP Adjusted  USD]]/VLOOKUP(Dashboard!$J$5,Sheet3!$B$2:$C$31,2,FALSE)))","v":48883.696539491655},"Corporate Accountant","Accountant","Australia","All the 8 hours baby, all the 8!",4]
[null,"ID0499",33000,"GBP",52013.882978220376,{"$f":"(tblSalaries[[#This Row],[clean Salary (in local currency)]])*(VLOOKUP(tblSalaries[[#This Row],[Currency]],Sheet3!$A$2:$C$31,3,FALSE))*(VLOOKUP(tblSalaries[[#This Row],[Currency]],Sheet1!$N$4:$Q$186,4,FALSE))","v":48641.049764354102},{"$f":"IF(Dashboard!$J$5=VLOOKUP(tblSalaries[[#This Row],[Currency]],Sheet3!$A$2:$B$31,2,FALSE),tblSalaries[[#This Row],[clean Salary (in local currency)]],(tblSalaries[[#This Row],[PPP Adjusted  USD]]/VLOOKUP(Dashboard!$J$5,Sheet3!$B$2:$C$31,2,FALSE)))","v":48641.049764354102},"LOGISTIC MANAGER","Manager","UK","4 to 6 hours a day","Data Not Avaliable"]
[null,"ID0801",48500,"USD",48500,{"$f":"(tblSalaries[[#This Row],[clean Salary (in local currency)]])*(VLOOKUP(tblSalaries[[#This Row],[Currency]],Sheet3!$A$2:$C$31,3,FALSE))*(VLOOKUP(tblSalaries[[#This Row],[Currency]],Sheet1!$N$4:$Q$186,4,FALSE))","v":48500},{"$f":"IF(Dashboard!$J$5=VLOOKUP(tblSalaries[[#This Row],[Currency]],Sheet3!$A$2:$B$31,2,FALSE),tblSalaries[[#This Row],[clean Salary (in local currency)]],(tblSalaries[[#This Row],[PPP Adjusted  USD]]/VLOOKUP(Dashboard!$J$5,Sheet3!$B$2:$C$31,2,FALSE)))","v":48500},"Loss Prevention Finance Coordinator","Manager","USA","2 to 3 hours per day",10]
[null,"ID1681",48500,"USD",48500,{"$f":"(tblSalaries[[#This Row],[clean Salary (in local currency)]])*(VLOOKUP(tblSalaries[[#This Row],[Currency]],Sheet3!$A$2:$C$31,3,FALSE))*(VLOOKUP(tblSalaries[[#This Row],[Currency]],Sheet1!$N$4:$Q$186,4,FALSE))","v":48500},{"$f":"IF(Dashboard!$J$5=VLOOKUP(tblSalaries[[#This Row],[Currency]],Sheet3!$A$2:$B$31,2,FALSE),tblSalaries[[#This Row],[clean Salary (in local currency)]],(tblSalaries[[#This Row],[PPP Adjusted  USD]]/VLOOKUP(Dashboard!$J$5,Sheet3!$B$2:$C$31,2,FALSE)))","v":48500},"Business Systems Analyst I","Analyst","USA","4 to 6 hours a day",6]
[null,"ID0556",77000,"AUD",78533.043543002947,{"$f":"(tblSalaries[[#This Row],[clean Salary (in local currency)]])*(VLOOKUP(tblSalaries[[#This Row],[Currency]],Sheet3!$A$2:$C$31,3,FALSE))*(VLOOKUP(tblSalaries[[#This Row],[Currency]],Sheet1!$N$4:$Q$186,4,FALSE))","v":48256.982481293046},{"$f":"IF(Dashboard!$J$5=VLOOKUP(tblSalaries[[#This Row],[Currency]],Sheet3!$A$2:$B$31,2,FALSE),tblSalaries[[#This Row],[clean Salary (in local currency)]],(tblSalaries[[#This Row],[PPP Adjusted  USD]]/VLOOKUP(Dashboard!$J$5,Sheet3!$B$2:$C$31,2,FALSE)))","v":48256.982481293046},"Intelligence Analyst","Analyst","Australia","2 to 3 hours per day","Data Not Avaliable"]
[null,"ID0570",80000,"NZD",63807.047488395103,{"$f":"(tblSalaries[[#This Row],[clean Salary (in local currency)]])*(VLOOKUP(tblSalaries[[#This Row],[Currency]],Sheet3!$A$2:$C$31,3,FALSE))*(VLOOKUP(tblSalaries[[#This Row],[Currency]],Sheet1!$N$4:$Q$186,4,FALSE))","v":48172.544832898544},{"$f":"IF(Dashboard!$J$5=VLOOKUP(tblSalaries[[#This Row],[Currency]],Sheet3!$A$2:$B$31,2,FALSE),tblSalaries[[#This Row],[clean Salary (in local currency)]],(tblSalaries[[#This Row],[PPP Adjusted  USD]]/VLOOKUP(Dashboard!$J$5,Sheet3!$B$2:$C$31,2,FALSE)))","v":48172.544832898544},"Accountant/Analyst","Analyst","New Zealand","4 to 6 hours a day",23]
[null,"ID1335",80000,"NZD",63807.047488395103,{"$f":"(tblSalaries[[#This Row],[clean Salary (in local currency)]])*(VLOOKUP(tblSalaries[[#This Row],[Currency]],Sheet3!$A$2:$C$31,3,FALSE))*(VLOOKUP(tblSalaries[[#This Row],[Currency]],Sheet1!$N$4:$Q$186,4,FALSE))","v":48172.544832898544},{"$f":"IF(Dashboard!$J$5=VLOOKUP(tblSalaries[[#This Row],[Currency]],Sheet3!$A$2:$B$31,2,FALSE),tblSalaries[[#This Row],[clean Salary (in local currency)]],(tblSalaries[[#This Row],[PPP Adjusted  USD]]/VLOOKUP(Dashboard!$J$5,Sheet3!$B$2:$C$31,2,FALSE)))","v":48172.544832898544},"accountant","Accountant","New Zealand","All the 8 hours baby, all the 8!",15]
[null,"ID0004",48000,"USD",48000,{"$f":"(tblSalaries[[#This Row],[clean Salary (in local currency)]])*(VLOOKUP(tblSalaries[[#This Row],[Currency]],Sheet3!$A$2:$C$31,3,FALSE))*(VLOOKUP(tblSalaries[[#This Row],[Currency]],Sheet1!$N$4:$Q$186,4,FALSE))","v":48000},{"$f":"IF(Dashboard!$J$5=VLOOKUP(tblSalaries[[#This Row],[Currency]],Sheet3!$A$2:$B$31,2,FALSE),tblSalaries[[#This Row],[clean Salary (in local currency)]],(tblSalaries[[#This Row],[PPP Adjusted  USD]]/VLOOKUP(Dashboard!$J$5,Sheet3!$B$2:$C$31,2,FALSE)))","v":48000},"Quality Control","Controller","Pakistan","2 to 3 hours per day","Data Not Avaliable"]
[null,"ID0115",48000,"USD",48000,{"$f":"(tblSalaries[[#This Row],[clean Salary (in local currency)]])*(VLOOKUP(tblSalaries[[#This Row],[Currency]],Sheet3!$A$2:$C$31,3,FALSE))*(VLOOKUP(tblSalaries[[#This Row],[Currency]],Sheet1!$N$4:$Q$186,4,FALSE))","v":48000},{"$f":"IF(Dashboard!$J$5=VLOOKUP(tblSalaries[[#This Row],[Currency]],Sheet3!$A$2:$B$31,2,FALSE),tblSalaries[[#This Row],[clean Salary (in local currency)]],(tblSalaries[[#This Row],[PPP Adjusted  USD]]/VLOOKUP(Dashboard!$J$5,Sheet3!$B$2:$C$31,2,FALSE)))","v":48000},"Asst.Manager Finance","Manager","UAE","2 to 3 hours per day","Data Not Avaliable"]
[null,"ID0383",48000,"USD",48000,{"$f":"(tblSalaries[[#This Row],[clean Salary (in local currency)]])*(VLOOKUP(tblSalaries[[#This Row],[Currency]],Sheet3!$A$2:$C$31,3,FALSE))*(VLOOKUP(tblSalaries[[#This Row],[Currency]],Sheet1!$N$4:$Q$186,4,FALSE))","v":48000},{"$f":"IF(Dashboard!$J$5=VLOOKUP(tblSalaries[[#This Row],[Currency]],Sheet3!$A$2:$B$31,2,FALSE),tblSalaries[[#This Row],[clean Salary (in local currency)]],(tblSalaries[[#This Row],[PPP Adjusted  USD]]/VLOOKUP(Dashboard!$J$5,Sheet3!$B$2:$C$31,2,FALSE)))","v":48000},"Quality Analyst","Analyst","USA","1 or 2 hours a day","Data Not Avaliable"]
[null,"ID0774",48000,"USD",48000,{"$f":"(tblSalaries[[#This Row],[clean Salary (in local currency)]])*(VLOOKUP(tblSalaries[[#This Row],[Currency]],Sheet3!$A$2:$C$31,3,FALSE))*(VLOOKUP(tblSalaries[[#This Row],[Currency]],Sheet1!$N$4:$Q$186,4,FALSE))","v":48000},{"$f":"IF(Dashboard!$J$5=VLOOKUP(tblSalaries[[#This Row],[Currency]],Sheet3!$A$2:$B$31,2,FALSE),tblSalaries[[#This Row],[clean Salary (in local currency)]],(tblSalaries[[#This Row],[PPP Adjusted  USD]]/VLOOKUP(Dashboard!$J$5,Sheet3!$B$2:$C$31,2,FALSE)))","v":48000},"Consultant","Consultant","Singapore","All the 8 hours baby, all the 8!",3]
[null,"ID0808",48000,"USD",48000,{"$f":"(tblSalaries[[#This Row],[clean Salary (in local currency)]])*(VLOOKUP(tblSalaries[[#This Row],[Currency]],Sheet3!$A$2:$C$31,3,FALSE))*(VLOOKUP(tblSalaries[[#This Row],[Currency]],Sheet1!$N$4:$Q$186,4,FALSE))","v":48000},{"$f":"IF(Dashboard!$J$5=VLOOKUP(tblSalaries[[#This Row],[Currency]],Sheet3!$A$2:$B$31,2,FALSE),tblSalaries[[#This Row],[clean Salary (in local currency)]],(tblSalaries[[#This Row],[PPP Adjusted  USD]]/VLOOKUP(Dashboard!$J$5,Sheet3!$B$2:$C$31,2,FALSE)))","v":48000},"Operations Support Coordinator","Manager","USA","2 to 3 hours per day",16]
[null,"ID0960",48000,"USD",48000,{"$f":"(tblSalaries[[#This Row],[clean Salary (in local currency)]])*(VLOOKUP(tblSalaries[[#This Row],[Currency]],Sheet3!$A$2:$C$31,3,FALSE))*(VLOOKUP(tblSalaries[[#This Row],[Currency]],Sheet1!$N$4:$Q$186,4,FALSE))","v":48000},{"$f":"IF(Dashboard!$J$5=VLOOKUP(tblSalaries[[#This Row],[Currency]],Sheet3!$A$2:$B$31,2,FALSE),tblSalaries[[#This Row],[clean Salary (in local currency)]],(tblSalaries[[#This Row],[PPP Adjusted  USD]]/VLOOKUP(Dashboard!$J$5,Sheet3!$B$2:$C$31,2,FALSE)))","v":48000},"Merchandise planner","Manager","France","4 to 6 hours a day",5]
[null,"ID1186",48000,"USD",48000,{"$f":"(tblSalaries[[#This Row],[clean Salary (in local currency)]])*(VLOOKUP(tblSalaries[[#This Row],[Currency]],Sheet3!$A$2:$C$31,3,FALSE))*(VLOOKUP(tblSalaries[[#This Row],[Currency]],Sheet1!$N$4:$Q$186,4,FALSE))","v":48000},{"$f":"IF(Dashboard!$J$5=VLOOKUP(tblSalaries[[#This Row],[Currency]],Sheet3!$A$2:$B$31,2,FALSE),tblSalaries[[#This Row],[clean Salary (in local currency)]],(tblSalaries[[#This Row],[PPP Adjusted  USD]]/VLOOKUP(Dashboard!$J$5,Sheet3!$B$2:$C$31,2,FALSE)))","v":48000},"Cost Controlling Executive","Controller","Qatar","2 to 3 hours per day",10]
[null,"ID1857",48000,"USD",48000,{"$f":"(tblSalaries[[#This Row],[clean Salary (in local currency)]])*(VLOOKUP(tblSalaries[[#This Row],[Currency]],Sheet3!$A$2:$C$31,3,FALSE))*(VLOOKUP(tblSalaries[[#This Row],[Currency]],Sheet1!$N$4:$Q$186,4,FALSE))","v":48000},{"$f":"IF(Dashboard!$J$5=VLOOKUP(tblSalaries[[#This Row],[Currency]],Sheet3!$A$2:$B$31,2,FALSE),tblSalaries[[#This Row],[clean Salary (in local currency)]],(tblSalaries[[#This Row],[PPP Adjusted  USD]]/VLOOKUP(Dashboard!$J$5,Sheet3!$B$2:$C$31,2,FALSE)))","v":48000},"Accountant","Accountant","USA","4 to 6 hours a day",1]
[null,"ID1858",48000,"USD",48000,{"$f":"(tblSalaries[[#This Row],[clean Salary (in local currency)]])*(VLOOKUP(tblSalaries[[#This Row],[Currency]],Sheet3!$A$2:$C$31,3,FALSE))*(VLOOKUP(tblSalaries[[#This Row],[Currency]],Sheet1!$N$4:$Q$186,4,FALSE))","v":48000},{"$f":"IF(Dashboard!$J$5=VLOOKUP(tblSalaries[[#This Row],[Currency]],Sheet3!$A$2:$B$31,2,FALSE),tblSalaries[[#This Row],[clean Salary (in local currency)]],(tblSalaries[[#This Row],[PPP Adjusted  USD]]/VLOOKUP(Dashboard!$J$5,Sheet3!$B$2:$C$31,2,FALSE)))","v":48000},"Accountant","Accountant","USA","4 to 6 hours a day",1]
[null,"ID1900",48000,"USD",48000,{"$f":"(tblSalaries[[#This Row],[clean Salary (in local currency)]])*(VLOOKUP(tblSalaries[[#This Row],[Currency]],Sheet3!$A$2:$C$31,3,FALSE))*(VLOOKUP(tblSalaries[[#This Row],[Currency]],Sheet1!$N$4:$Q$186,4,FALSE))","v":48000},{"$f":"IF(Dashboard!$J$5=VLOOKUP(tblSalaries[[#This Row],[Currency]],Sheet3!$A$2:$B$31,2,FALSE),tblSalaries[[#This Row],[clean Salary (in local currency)]],(tblSalaries[[#This Row],[PPP Adjusted  USD]]/VLOOKUP(Dashboard!$J$5,Sheet3!$B$2:$C$31,2,FALSE)))","v":48000},"Inventory Analyst","Analyst","USA","4 to 6 hours a day",12]
[null,"ID1911",48000,"USD",48000,{"$f":"(tblSalaries[[#This Row],[clean Salary (in local currency)]])*(VLOOKUP(tblSalaries[[#This Row],[Currency]],Sheet3!$A$2:$C$31,3,FALSE))*(VLOOKUP(tblSalaries[[#This Row],[Currency]],Sheet1!$N$4:$Q$186,4,FALSE))","v":48000},{"$f":"IF(Dashboard!$J$5=VLOOKUP(tblSalaries[[#This Row],[Currency]],Sheet3!$A$2:$B$31,2,FALSE),tblSalaries[[#This Row],[clean Salary (in local currency)]],(tblSalaries[[#This Row],[PPP Adjusted  USD]]/VLOOKUP(Dashboard!$J$5,Sheet3!$B$2:$C$31,2,FALSE)))","v":48000},"Marketing Analyst Co-op","Analyst","USA","4 to 6 hours a day",1]
[null,"ID1053",43500,"EUR",55262.375596134938,{"$f":"(tblSalaries[[#This Row],[clean Salary (in local currency)]])*(VLOOKUP(tblSalaries[[#This Row],[Currency]],Sheet3!$A$2:$C$31,3,FALSE))*(VLOOKUP(tblSalaries[[#This Row],[Currency]],Sheet1!$N$4:$Q$186,4,FALSE))","v":47878.400540132272},{"$f":"IF(Dashboard!$J$5=VLOOKUP(tblSalaries[[#This Row],[Currency]],Sheet3!$A$2:$B$31,2,FALSE),tblSalaries[[#This Row],[clean Salary (in local currency)]],(tblSalaries[[#This Row],[PPP Adjusted  USD]]/VLOOKUP(Dashboard!$J$5,Sheet3!$B$2:$C$31,2,FALSE)))","v":47878.400540132272},"RRHH","Manager","Spain","2 to 3 hours per day",10]
[null,"ID1893",76300,"AUD",77819.106783521114,{"$f":"(tblSalaries[[#This Row],[clean Salary (in local currency)]])*(VLOOKUP(tblSalaries[[#This Row],[Currency]],Sheet3!$A$2:$C$31,3,FALSE))*(VLOOKUP(tblSalaries[[#This Row],[Currency]],Sheet1!$N$4:$Q$186,4,FALSE))","v":47818.282640554025},{"$f":"IF(Dashboard!$J$5=VLOOKUP(tblSalaries[[#This Row],[Currency]],Sheet3!$A$2:$B$31,2,FALSE),tblSalaries[[#This Row],[clean Salary (in local currency)]],(tblSalaries[[#This Row],[PPP Adjusted  USD]]/VLOOKUP(Dashboard!$J$5,Sheet3!$B$2:$C$31,2,FALSE)))","v":47818.282640554025},"Operations Analyst","Analyst","Australia","All the 8 hours baby, all the 8!",3]
[null,"ID0251",47700,"USD",47700,{"$f":"(tblSalaries[[#This Row],[clean Salary (in local currency)]])*(VLOOKUP(tblSalaries[[#This Row],[Currency]],Sheet3!$A$2:$C$31,3,FALSE))*(VLOOKUP(tblSalaries[[#This Row],[Currency]],Sheet1!$N$4:$Q$186,4,FALSE))","v":47700},{"$f":"IF(Dashboard!$J$5=VLOOKUP(tblSalaries[[#This Row],[Currency]],Sheet3!$A$2:$B$31,2,FALSE),tblSalaries[[#This Row],[clean Salary (in local currency)]],(tblSalaries[[#This Row],[PPP Adjusted  USD]]/VLOOKUP(Dashboard!$J$5,Sheet3!$B$2:$C$31,2,FALSE)))","v":47700},"Customer Operations Analyst","Analyst","USA","4 to 6 hours a day","Data Not Avaliable"]
[null,"ID1247",450000,"DKK",76906.906752939132,{"$f":"(tblSalaries[[#This Row],[clean Salary (in local currency)]])*(VLOOKUP(tblSalaries[[#This Row],[Currency]],Sheet3!$A$2:$C$31,3,FALSE))*(VLOOKUP(tblSalaries[[#This Row],[Currency]],Sheet1!$N$4:$Q$186,4,FALSE))","v":47677.306425025607},{"$f":"IF(Dashboard!$J$5=VLOOKUP(tblSalaries[[#This Row],[Currency]],Sheet3!$A$2:$B$31,2,FALSE),tblSalaries[[#This Row],[clean Salary (in local currency)]],(tblSalaries[[#This Row],[PPP Adjusted  USD]]/VLOOKUP(Dashboard!$J$5,Sheet3!$B$2:$C$31,2,FALSE)))","v":47677.306425025607},"owner","CXO or Top Mgmt.","Denmark","All the 8 hours baby, all the 8!",17]
[null,"ID0159",32250,"GBP",50831.74927416991,{"$f":"(tblSalaries[[#This Row],[clean Salary (in local currency)]])*(VLOOKUP(tblSalaries[[#This Row],[Currency]],Sheet3!$A$2:$C$31,3,FALSE))*(VLOOKUP(tblSalaries[[#This Row],[Currency]],Sheet1!$N$4:$Q$186,4,FALSE))","v":47535.571360618786},{"$f":"IF(Dashboard!$J$5=VLOOKUP(tblSalaries[[#This Row],[Currency]],Sheet3!$A$2:$B$31,2,FALSE),tblSalaries[[#This Row],[clean Salary (in local currency)]],(tblSalaries[[#This Row],[PPP Adjusted  USD]]/VLOOKUP(Dashboard!$J$5,Sheet3!$B$2:$C$31,2,FALSE)))","v":47535.571360618786},"project Support","Manager","UK","4 to 6 hours a day","Data Not Avaliable"]
[null,"ID0369",47500,"USD",47500,{"$f":"(tblSalaries[[#This Row],[clean Salary (in local currency)]])*(VLOOKUP(tblSalaries[[#This Row],[Currency]],Sheet3!$A$2:$C$31,3,FALSE))*(VLOOKUP(tblSalaries[[#This Row],[Currency]],Sheet1!$N$4:$Q$186,4,FALSE))","v":47500},{"$f":"IF(Dashboard!$J$5=VLOOKUP(tblSalaries[[#This Row],[Currency]],Sheet3!$A$2:$B$31,2,FALSE),tblSalaries[[#This Row],[clean Salary (in local currency)]],(tblSalaries[[#This Row],[PPP Adjusted  USD]]/VLOOKUP(Dashboard!$J$5,Sheet3!$B$2:$C$31,2,FALSE)))","v":47500},"Supervisor, Contracts, Rebates, Chargebacks and Returns","Manager","USA","All the 8 hours baby, all the 8!","Data Not Avaliable"]
[null,"ID0121",60000,"CAD",59001.691381819612,{"$f":"(tblSalaries[[#This Row],[clean Salary (in local currency)]])*(VLOOKUP(tblSalaries[[#This Row],[Currency]],Sheet3!$A$2:$C$31,3,FALSE))*(VLOOKUP(tblSalaries[[#This Row],[Currency]],Sheet1!$N$4:$Q$186,4,FALSE))","v":47426.772192140677},{"$f":"IF(Dashboard!$J$5=VLOOKUP(tblSalaries[[#This Row],[Currency]],Sheet3!$A$2:$B$31,2,FALSE),tblSalaries[[#This Row],[clean Salary (in local currency)]],(tblSalaries[[#This Row],[PPP Adjusted  USD]]/VLOOKUP(Dashboard!$J$5,Sheet3!$B$2:$C$31,2,FALSE)))","v":47426.772192140677},"Web Developer","Analyst","Canada","Excel ?!? What Excel?","Data Not Avaliable"]
[null,"ID0190",60000,"CAD",59001.691381819612,{"$f":"(tblSalaries[[#This Row],[clean Salary (in local currency)]])*(VLOOKUP(tblSalaries[[#This Row],[Currency]],Sheet3!$A$2:$C$31,3,FALSE))*(VLOOKUP(tblSalaries[[#This Row],[Currency]],Sheet1!$N$4:$Q$186,4,FALSE))","v":47426.772192140677},{"$f":"IF(Dashboard!$J$5=VLOOKUP(tblSalaries[[#This Row],[Currency]],Sheet3!$A$2:$B$31,2,FALSE),tblSalaries[[#This Row],[clean Salary (in local currency)]],(tblSalaries[[#This Row],[PPP Adjusted  USD]]/VLOOKUP(Dashboard!$J$5,Sheet3!$B$2:$C$31,2,FALSE)))","v":47426.772192140677},"Demographer","Analyst","Canada","2 to 3 hours per day","Data Not Avaliable"]
[null,"ID0315",60000,"CAD",59001.691381819612,{"$f":"(tblSalaries[[#This Row],[clean Salary (in local currency)]])*(VLOOKUP(tblSalaries[[#This Row],[Currency]],Sheet3!$A$2:$C$31,3,FALSE))*(VLOOKUP(tblSalaries[[#This Row],[Currency]],Sheet1!$N$4:$Q$186,4,FALSE))","v":47426.772192140677},{"$f":"IF(Dashboard!$J$5=VLOOKUP(tblSalaries[[#This Row],[Currency]],Sheet3!$A$2:$B$31,2,FALSE),tblSalaries[[#This Row],[clean Salary (in local currency)]],(tblSalaries[[#This Row],[PPP Adjusted  USD]]/VLOOKUP(Dashboard!$J$5,Sheet3!$B$2:$C$31,2,FALSE)))","v":47426.772192140677},"Sr. Business Analyst","Analyst","Canada","All the 8 hours baby, all the 8!","Data Not Avaliable"]
[null,"ID0023",1000000,"INR",17807.916687442568,{"$f":"(tblSalaries[[#This Row],[clean Salary (in local currency)]])*(VLOOKUP(tblSalaries[[#This Row],[Currency]],Sheet3!$A$2:$C$31,3,FALSE))*(VLOOKUP(tblSalaries[[#This Row],[Currency]],Sheet1!$N$4:$Q$186,4,FALSE))","v":47361.022348698454},{"$f":"IF(Dashboard!$J$5=VLOOKUP(tblSalaries[[#This Row],[Currency]],Sheet3!$A$2:$B$31,2,FALSE),tblSalaries[[#This Row],[clean Salary (in local currency)]],(tblSalaries[[#This Row],[PPP Adjusted  USD]]/VLOOKUP(Dashboard!$J$5,Sheet3!$B$2:$C$31,2,FALSE)))","v":47361.022348698454},"Manager","Manager","India","4 to 6 hours a day","Data Not Avaliable"]
[null,"ID0321",1000000,"INR",17807.916687442568,{"$f":"(tblSalaries[[#This Row],[clean Salary (in local currency)]])*(VLOOKUP(tblSalaries[[#This Row],[Currency]],Sheet3!$A$2:$C$31,3,FALSE))*(VLOOKUP(tblSalaries[[#This Row],[Currency]],Sheet1!$N$4:$Q$186,4,FALSE))","v":47361.022348698454},{"$f":"IF(Dashboard!$J$5=VLOOKUP(tblSalaries[[#This Row],[Currency]],Sheet3!$A$2:$B$31,2,FALSE),tblSalaries[[#This Row],[clean Salary (in local currency)]],(tblSalaries[[#This Row],[PPP Adjusted  USD]]/VLOOKUP(Dashboard!$J$5,Sheet3!$B$2:$C$31,2,FALSE)))","v":47361.022348698454},"Manager","Manager","India","4 to 6 hours a day","Data Not Avaliable"]
[null,"ID0732",1000000,"INR",17807.916687442568,{"$f":"(tblSalaries[[#This Row],[clean Salary (in local currency)]])*(VLOOKUP(tblSalaries[[#This Row],[Currency]],Sheet3!$A$2:$C$31,3,FALSE))*(VLOOKUP(tblSalaries[[#This Row],[Currency]],Sheet1!$N$4:$Q$186,4,FALSE))","v":47361.022348698454},{"$f":"IF(Dashboard!$J$5=VLOOKUP(tblSalaries[[#This Row],[Currency]],Sheet3!$A$2:$B$31,2,FALSE),tblSalaries[[#This Row],[clean Salary (in local currency)]],(tblSalaries[[#This Row],[PPP Adjusted  USD]]/VLOOKUP(Dashboard!$J$5,Sheet3!$B$2:$C$31,2,FALSE)))","v":47361.022348698454},"Sr Associate","Analyst","India","2 to 3 hours per day",12]
[null,"ID0837",1000000,"INR",17807.916687442568,{"$f":"(tblSalaries[[#This Row],[clean Salary (in local currency)]])*(VLOOKUP(tblSalaries[[#This Row],[Currency]],Sheet3!$A$2:$C$31,3,FALSE))*(VLOOKUP(tblSalaries[[#This Row],[Currency]],Sheet1!$N$4:$Q$186,4,FALSE))","v":47361.022348698454},{"$f":"IF(Dashboard!$J$5=VLOOKUP(tblSalaries[[#This Row],[Currency]],Sheet3!$A$2:$B$31,2,FALSE),tblSalaries[[#This Row],[clean Salary (in local currency)]],(tblSalaries[[#This Row],[PPP Adjusted  USD]]/VLOOKUP(Dashboard!$J$5,Sheet3!$B$2:$C$31,2,FALSE)))","v":47361.022348698454},"business analyist","Analyst","India","4 to 6 hours a day",10]
[null,"ID0850",1000000,"INR",17807.916687442568,{"$f":"(tblSalaries[[#This Row],[clean Salary (in local currency)]])*(VLOOKUP(tblSalaries[[#This Row],[Currency]],Sheet3!$A$2:$C$31,3,FALSE))*(VLOOKUP(tblSalaries[[#This Row],[Currency]],Sheet1!$N$4:$Q$186,4,FALSE))","v":47361.022348698454},{"$f":"IF(Dashboard!$J$5=VLOOKUP(tblSalaries[[#This Row],[Currency]],Sheet3!$A$2:$B$31,2,FALSE),tblSalaries[[#This Row],[clean Salary (in local currency)]],(tblSalaries[[#This Row],[PPP Adjusted  USD]]/VLOOKUP(Dashboard!$J$5,Sheet3!$B$2:$C$31,2,FALSE)))","v":47361.022348698454},"HR Analyst","Analyst","India","4 to 6 hours a day",6.5]
[null,"ID0899",1000000,"INR",17807.916687442568,{"$f":"(tblSalaries[[#This Row],[clean Salary (in local currency)]])*(VLOOKUP(tblSalaries[[#This Row],[Currency]],Sheet3!$A$2:$C$31,3,FALSE))*(VLOOKUP(tblSalaries[[#This Row],[Currency]],Sheet1!$N$4:$Q$186,4,FALSE))","v":47361.022348698454},{"$f":"IF(Dashboard!$J$5=VLOOKUP(tblSalaries[[#This Row],[Currency]],Sheet3!$A$2:$B$31,2,FALSE),tblSalaries[[#This Row],[clean Salary (in local currency)]],(tblSalaries[[#This Row],[PPP Adjusted  USD]]/VLOOKUP(Dashboard!$J$5,Sheet3!$B$2:$C$31,2,FALSE)))","v":47361.022348698454},"Engagement Lead","Manager","India","4 to 6 hours a day",5]
[null,"ID0936",1000000,"INR",17807.916687442568,{"$f":"(tblSalaries[[#This Row],[clean Salary (in local currency)]])*(VLOOKUP(tblSalaries[[#This Row],[Currency]],Sheet3!$A$2:$C$31,3,FALSE))*(VLOOKUP(tblSalaries[[#This Row],[Currency]],Sheet1!$N$4:$Q$186,4,FALSE))","v":47361.022348698454},{"$f":"IF(Dashboard!$J$5=VLOOKUP(tblSalaries[[#This Row],[Currency]],Sheet3!$A$2:$B$31,2,FALSE),tblSalaries[[#This Row],[clean Salary (in local currency)]],(tblSalaries[[#This Row],[PPP Adjusted  USD]]/VLOOKUP(Dashboard!$J$5,Sheet3!$B$2:$C$31,2,FALSE)))","v":47361.022348698454},"business","Manager","India","All the 8 hours baby, all the 8!",8]
[null,"ID1004",1000000,"INR",17807.916687442568,{"$f":"(tblSalaries[[#This Row],[clean Salary (in local currency)]])*(VLOOKUP(tblSalaries[[#This Row],[Currency]],Sheet3!$A$2:$C$31,3,FALSE))*(VLOOKUP(tblSalaries[[#This Row],[Currency]],Sheet1!$N$4:$Q$186,4,FALSE))","v":47361.022348698454},{"$f":"IF(Dashboard!$J$5=VLOOKUP(tblSalaries[[#This Row],[Currency]],Sheet3!$A$2:$B$31,2,FALSE),tblSalaries[[#This Row],[clean Salary (in local currency)]],(tblSalaries[[#This Row],[PPP Adjusted  USD]]/VLOOKUP(Dashboard!$J$5,Sheet3!$B$2:$C$31,2,FALSE)))","v":47361.022348698454},"Credit Manager - Loans","Manager","India","All the 8 hours baby, all the 8!",8]
[null,"ID1041",1000000,"INR",17807.916687442568,{"$f":"(tblSalaries[[#This Row],[clean Salary (in local currency)]])*(VLOOKUP(tblSalaries[[#This Row],[Currency]],Sheet3!$A$2:$C$31,3,FALSE))*(VLOOKUP(tblSalaries[[#This Row],[Currency]],Sheet1!$N$4:$Q$186,4,FALSE))","v":47361.022348698454},{"$f":"IF(Dashboard!$J$5=VLOOKUP(tblSalaries[[#This Row],[Currency]],Sheet3!$A$2:$B$31,2,FALSE),tblSalaries[[#This Row],[clean Salary (in local currency)]],(tblSalaries[[#This Row],[PPP Adjusted  USD]]/VLOOKUP(Dashboard!$J$5,Sheet3!$B$2:$C$31,2,FALSE)))","v":47361.022348698454},"Teaching","Analyst","India","1 or 2 hours a day",25]
[null,"ID1224",1000000,"INR",17807.916687442568,{"$f":"(tblSalaries[[#This Row],[clean Salary (in local currency)]])*(VLOOKUP(tblSalaries[[#This Row],[Currency]],Sheet3!$A$2:$C$31,3,FALSE))*(VLOOKUP(tblSalaries[[#This Row],[Currency]],Sheet1!$N$4:$Q$186,4,FALSE))","v":47361.022348698454},{"$f":"IF(Dashboard!$J$5=VLOOKUP(tblSalaries[[#This Row],[Currency]],Sheet3!$A$2:$B$31,2,FALSE),tblSalaries[[#This Row],[clean Salary (in local currency)]],(tblSalaries[[#This Row],[PPP Adjusted  USD]]/VLOOKUP(Dashboard!$J$5,Sheet3!$B$2:$C$31,2,FALSE)))","v":47361.022348698454},"Asst Manager","Manager","India","4 to 6 hours a day",8.5]
[null,"ID1284",1000000,"INR",17807.916687442568,{"$f":"(tblSalaries[[#This Row],[clean Salary (in local currency)]])*(VLOOKUP(tblSalaries[[#This Row],[Currency]],Sheet3!$A$2:$C$31,3,FALSE))*(VLOOKUP(tblSalaries[[#This Row],[Currency]],Sheet1!$N$4:$Q$186,4,FALSE))","v":47361.022348698454},{"$f":"IF(Dashboard!$J$5=VLOOKUP(tblSalaries[[#This Row],[Currency]],Sheet3!$A$2:$B$31,2,FALSE),tblSalaries[[#This Row],[clean Salary (in local currency)]],(tblSalaries[[#This Row],[PPP Adjusted  USD]]/VLOOKUP(Dashboard!$J$5,Sheet3!$B$2:$C$31,2,FALSE)))","v":47361.022348698454},"Manager","Manager","India","2 to 3 hours per day",10]
[null,"ID1457",1000000,"INR",17807.916687442568,{"$f":"(tblSalaries[[#This Row],[clean Salary (in local currency)]])*(VLOOKUP(tblSalaries[[#This Row],[Currency]],Sheet3!$A$2:$C$31,3,FALSE))*(VLOOKUP(tblSalaries[[#This Row],[Currency]],Sheet1!$N$4:$Q$186,4,FALSE))","v":47361.022348698454},{"$f":"IF(Dashboard!$J$5=VLOOKUP(tblSalaries[[#This Row],[Currency]],Sheet3!$A$2:$B$31,2,FALSE),tblSalaries[[#This Row],[clean Salary (in local currency)]],(tblSalaries[[#This Row],[PPP Adjusted  USD]]/VLOOKUP(Dashboard!$J$5,Sheet3!$B$2:$C$31,2,FALSE)))","v":47361.022348698454},"project management","Manager","India","All the 8 hours baby, all the 8!",6]
[null,"ID1468",1000000,"INR",17807.916687442568,{"$f":"(tblSalaries[[#This Row],[clean Salary (in local currency)]])*(VLOOKUP(tblSalaries[[#This Row],[Currency]],Sheet3!$A$2:$C$31,3,FALSE))*(VLOOKUP(tblSalaries[[#This Row],[Currency]],Sheet1!$N$4:$Q$186,4,FALSE))","v":47361.022348698454},{"$f":"IF(Dashboard!$J$5=VLOOKUP(tblSalaries[[#This Row],[Currency]],Sheet3!$A$2:$B$31,2,FALSE),tblSalaries[[#This Row],[clean Salary (in local currency)]],(tblSalaries[[#This Row],[PPP Adjusted  USD]]/VLOOKUP(Dashboard!$J$5,Sheet3!$B$2:$C$31,2,FALSE)))","v":47361.022348698454},"Marketing Specialist","Specialist","India","2 to 3 hours per day",7]
[null,"ID1551",1000000,"INR",17807.916687442568,{"$f":"(tblSalaries[[#This Row],[clean Salary (in local currency)]])*(VLOOKUP(tblSalaries[[#This Row],[Currency]],Sheet3!$A$2:$C$31,3,FALSE))*(VLOOKUP(tblSalaries[[#This Row],[Currency]],Sheet1!$N$4:$Q$186,4,FALSE))","v":47361.022348698454},{"$f":"IF(Dashboard!$J$5=VLOOKUP(tblSalaries[[#This Row],[Currency]],Sheet3!$A$2:$B$31,2,FALSE),tblSalaries[[#This Row],[clean Salary (in local currency)]],(tblSalaries[[#This Row],[PPP Adjusted  USD]]/VLOOKUP(Dashboard!$J$5,Sheet3!$B$2:$C$31,2,FALSE)))","v":47361.022348698454},"Financial analyst","Analyst","India","All the 8 hours baby, all the 8!",10]
[null,"ID1595",1000000,"INR",17807.916687442568,{"$f":"(tblSalaries[[#This Row],[clean Salary (in local currency)]])*(VLOOKUP(tblSalaries[[#This Row],[Currency]],Sheet3!$A$2:$C$31,3,FALSE))*(VLOOKUP(tblSalaries[[#This Row],[Currency]],Sheet1!$N$4:$Q$186,4,FALSE))","v":47361.022348698454},{"$f":"IF(Dashboard!$J$5=VLOOKUP(tblSalaries[[#This Row],[Currency]],Sheet3!$A$2:$B$31,2,FALSE),tblSalaries[[#This Row],[clean Salary (in local currency)]],(tblSalaries[[#This Row],[PPP Adjusted  USD]]/VLOOKUP(Dashboard!$J$5,Sheet3!$B$2:$C$31,2,FALSE)))","v":47361.022348698454},"Senior Analyst","Analyst","India","All the 8 hours baby, all the 8!",4]
[null,"ID1641",1000000,"INR",17807.916687442568,{"$f":"(tblSalaries[[#This Row],[clean Salary (in local currency)]])*(VLOOKUP(tblSalaries[[#This Row],[Currency]],Sheet3!$A$2:$C$31,3,FALSE))*(VLOOKUP(tblSalaries[[#This Row],[Currency]],Sheet1!$N$4:$Q$186,4,FALSE))","v":47361.022348698454},{"$f":"IF(Dashboard!$J$5=VLOOKUP(tblSalaries[[#This Row],[Currency]],Sheet3!$A$2:$B$31,2,FALSE),tblSalaries[[#This Row],[clean Salary (in local currency)]],(tblSalaries[[#This Row],[PPP Adjusted  USD]]/VLOOKUP(Dashboard!$J$5,Sheet3!$B$2:$C$31,2,FALSE)))","v":47361.022348698454},"Category Manager","Manager","India","2 to 3 hours per day",13]
[null,"ID1647",1000000,"INR",17807.916687442568,{"$f":"(tblSalaries[[#This Row],[clean Salary (in local currency)]])*(VLOOKUP(tblSalaries[[#This Row],[Currency]],Sheet3!$A$2:$C$31,3,FALSE))*(VLOOKUP(tblSalaries[[#This Row],[Currency]],Sheet1!$N$4:$Q$186,4,FALSE))","v":47361.022348698454},{"$f":"IF(Dashboard!$J$5=VLOOKUP(tblSalaries[[#This Row],[Currency]],Sheet3!$A$2:$B$31,2,FALSE),tblSalaries[[#This Row],[clean Salary (in local currency)]],(tblSalaries[[#This Row],[PPP Adjusted  USD]]/VLOOKUP(Dashboard!$J$5,Sheet3!$B$2:$C$31,2,FALSE)))","v":47361.022348698454},"Senior Associate, Finance","Analyst","India","All the 8 hours baby, all the 8!",4]
[null,"ID1833",1000000,"INR",17807.916687442568,{"$f":"(tblSalaries[[#This Row],[clean Salary (in local currency)]])*(VLOOKUP(tblSalaries[[#This Row],[Currency]],Sheet3!$A$2:$C$31,3,FALSE))*(VLOOKUP(tblSalaries[[#This Row],[Currency]],Sheet1!$N$4:$Q$186,4,FALSE))","v":47361.022348698454},{"$f":"IF(Dashboard!$J$5=VLOOKUP(tblSalaries[[#This Row],[Currency]],Sheet3!$A$2:$B$31,2,FALSE),tblSalaries[[#This Row],[clean Salary (in local currency)]],(tblSalaries[[#This Row],[PPP Adjusted  USD]]/VLOOKUP(Dashboard!$J$5,Sheet3!$B$2:$C$31,2,FALSE)))","v":47361.022348698454},"Mnanager- Customer Project finance & recovery","Manager","India","2 to 3 hours per day",10]
[null,"ID1864",1000000,"INR",17807.916687442568,{"$f":"(tblSalaries[[#This Row],[clean Salary (in local currency)]])*(VLOOKUP(tblSalaries[[#This Row],[Currency]],Sheet3!$A$2:$C$31,3,FALSE))*(VLOOKUP(tblSalaries[[#This Row],[Currency]],Sheet1!$N$4:$Q$186,4,FALSE))","v":47361.022348698454},{"$f":"IF(Dashboard!$J$5=VLOOKUP(tblSalaries[[#This Row],[Currency]],Sheet3!$A$2:$B$31,2,FALSE),tblSalaries[[#This Row],[clean Salary (in local currency)]],(tblSalaries[[#This Row],[PPP Adjusted  USD]]/VLOOKUP(Dashboard!$J$5,Sheet3!$B$2:$C$31,2,FALSE)))","v":47361.022348698454},"Sr.Manager","Manager","India","All the 8 hours baby, all the 8!",10]
[null,"ID0064",43000,"EUR",54627.175876639136,{"$f":"(tblSalaries[[#This Row],[clean Salary (in local currency)]])*(VLOOKUP(tblSalaries[[#This Row],[Currency]],Sheet3!$A$2:$C$31,3,FALSE))*(VLOOKUP(tblSalaries[[#This Row],[Currency]],Sheet1!$N$4:$Q$186,4,FALSE))","v":47328.074097142242},{"$f":"IF(Dashboard!$J$5=VLOOKUP(tblSalaries[[#This Row],[Currency]],Sheet3!$A$2:$B$31,2,FALSE),tblSalaries[[#This Row],[clean Salary (in local currency)]],(tblSalaries[[#This Row],[PPP Adjusted  USD]]/VLOOKUP(Dashboard!$J$5,Sheet3!$B$2:$C$31,2,FALSE)))","v":47328.074097142242},"SAP consultant","Consultant","France","4 to 6 hours a day","Data Not Avaliable"]
[null,"ID1322",43000,"EUR",54627.175876639136,{"$f":"(tblSalaries[[#This Row],[clean Salary (in local currency)]])*(VLOOKUP(tblSalaries[[#This Row],[Currency]],Sheet3!$A$2:$C$31,3,FALSE))*(VLOOKUP(tblSalaries[[#This Row],[Currency]],Sheet1!$N$4:$Q$186,4,FALSE))","v":47328.074097142242},{"$f":"IF(Dashboard!$J$5=VLOOKUP(tblSalaries[[#This Row],[Currency]],Sheet3!$A$2:$B$31,2,FALSE),tblSalaries[[#This Row],[clean Salary (in local currency)]],(tblSalaries[[#This Row],[PPP Adjusted  USD]]/VLOOKUP(Dashboard!$J$5,Sheet3!$B$2:$C$31,2,FALSE)))","v":47328.074097142242},"Project manager of IT infrastructure","Manager","France","All the 8 hours baby, all the 8!",7]
[null,"ID0047",32000,"GBP",50437.70470615309,{"$f":"(tblSalaries[[#This Row],[clean Salary (in local currency)]])*(VLOOKUP(tblSalaries[[#This Row],[Currency]],Sheet3!$A$2:$C$31,3,FALSE))*(VLOOKUP(tblSalaries[[#This Row],[Currency]],Sheet1!$N$4:$Q$186,4,FALSE))","v":47167.07855937368},{"$f":"IF(Dashboard!$J$5=VLOOKUP(tblSalaries[[#This Row],[Currency]],Sheet3!$A$2:$B$31,2,FALSE),tblSalaries[[#This Row],[clean Salary (in local currency)]],(tblSalaries[[#This Row],[PPP Adjusted  USD]]/VLOOKUP(Dashboard!$J$5,Sheet3!$B$2:$C$31,2,FALSE)))","v":47167.07855937368},"Senior intelligence analyst","Analyst","UK","4 to 6 hours a day","Data Not Avaliable"]
[null,"ID1175",32000,"GBP",50437.70470615309,{"$f":"(tblSalaries[[#This Row],[clean Salary (in local currency)]])*(VLOOKUP(tblSalaries[[#This Row],[Currency]],Sheet3!$A$2:$C$31,3,FALSE))*(VLOOKUP(tblSalaries[[#This Row],[Currency]],Sheet1!$N$4:$Q$186,4,FALSE))","v":47167.07855937368},{"$f":"IF(Dashboard!$J$5=VLOOKUP(tblSalaries[[#This Row],[Currency]],Sheet3!$A$2:$B$31,2,FALSE),tblSalaries[[#This Row],[clean Salary (in local currency)]],(tblSalaries[[#This Row],[PPP Adjusted  USD]]/VLOOKUP(Dashboard!$J$5,Sheet3!$B$2:$C$31,2,FALSE)))","v":47167.07855937368},"Service Analyst","Analyst","UK","4 to 6 hours a day",4]
[null,"ID1182",32000,"GBP",50437.70470615309,{"$f":"(tblSalaries[[#This Row],[clean Salary (in local currency)]])*(VLOOKUP(tblSalaries[[#This Row],[Currency]],Sheet3!$A$2:$C$31,3,FALSE))*(VLOOKUP(tblSalaries[[#This Row],[Currency]],Sheet1!$N$4:$Q$186,4,FALSE))","v":47167.07855937368},{"$f":"IF(Dashboard!$J$5=VLOOKUP(tblSalaries[[#This Row],[Currency]],Sheet3!$A$2:$B$31,2,FALSE),tblSalaries[[#This Row],[clean Salary (in local currency)]],(tblSalaries[[#This Row],[PPP Adjusted  USD]]/VLOOKUP(Dashboard!$J$5,Sheet3!$B$2:$C$31,2,FALSE)))","v":47167.07855937368},"Performance Analyst","Analyst","Canada","4 to 6 hours a day",9]
[null,"ID1813",32000,"GBP",50437.70470615309,{"$f":"(tblSalaries[[#This Row],[clean Salary (in local currency)]])*(VLOOKUP(tblSalaries[[#This Row],[Currency]],Sheet3!$A$2:$C$31,3,FALSE))*(VLOOKUP(tblSalaries[[#This Row],[Currency]],Sheet1!$N$4:$Q$186,4,FALSE))","v":47167.07855937368},{"$f":"IF(Dashboard!$J$5=VLOOKUP(tblSalaries[[#This Row],[Currency]],Sheet3!$A$2:$B$31,2,FALSE),tblSalaries[[#This Row],[clean Salary (in local currency)]],(tblSalaries[[#This Row],[PPP Adjusted  USD]]/VLOOKUP(Dashboard!$J$5,Sheet3!$B$2:$C$31,2,FALSE)))","v":47167.07855937368},"Business Analyst","Analyst","UK","4 to 6 hours a day",20]
[null,"ID1814",32000,"GBP",50437.70470615309,{"$f":"(tblSalaries[[#This Row],[clean Salary (in local currency)]])*(VLOOKUP(tblSalaries[[#This Row],[Currency]],Sheet3!$A$2:$C$31,3,FALSE))*(VLOOKUP(tblSalaries[[#This Row],[Currency]],Sheet1!$N$4:$Q$186,4,FALSE))","v":47167.07855937368},{"$f":"IF(Dashboard!$J$5=VLOOKUP(tblSalaries[[#This Row],[Currency]],Sheet3!$A$2:$B$31,2,FALSE),tblSalaries[[#This Row],[clean Salary (in local currency)]],(tblSalaries[[#This Row],[PPP Adjusted  USD]]/VLOOKUP(Dashboard!$J$5,Sheet3!$B$2:$C$31,2,FALSE)))","v":47167.07855937368},"Financial Analyst","Analyst","UK","All the 8 hours baby, all the 8!",1]
[null,"ID0326",47000,"USD",47000,{"$f":"(tblSalaries[[#This Row],[clean Salary (in local currency)]])*(VLOOKUP(tblSalaries[[#This Row],[Currency]],Sheet3!$A$2:$C$31,3,FALSE))*(VLOOKUP(tblSalaries[[#This Row],[Currency]],Sheet1!$N$4:$Q$186,4,FALSE))","v":47000},{"$f":"IF(Dashboard!$J$5=VLOOKUP(tblSalaries[[#This Row],[Currency]],Sheet3!$A$2:$B$31,2,FALSE),tblSalaries[[#This Row],[clean Salary (in local currency)]],(tblSalaries[[#This Row],[PPP Adjusted  USD]]/VLOOKUP(Dashboard!$J$5,Sheet3!$B$2:$C$31,2,FALSE)))","v":47000},"Sourcing Specialist","Specialist","USA","4 to 6 hours a day","Data Not Avaliable"]
[null,"ID0388",47000,"USD",47000,{"$f":"(tblSalaries[[#This Row],[clean Salary (in local currency)]])*(VLOOKUP(tblSalaries[[#This Row],[Currency]],Sheet3!$A$2:$C$31,3,FALSE))*(VLOOKUP(tblSalaries[[#This Row],[Currency]],Sheet1!$N$4:$Q$186,4,FALSE))","v":47000},{"$f":"IF(Dashboard!$J$5=VLOOKUP(tblSalaries[[#This Row],[Currency]],Sheet3!$A$2:$B$31,2,FALSE),tblSalaries[[#This Row],[clean Salary (in local currency)]],(tblSalaries[[#This Row],[PPP Adjusted  USD]]/VLOOKUP(Dashboard!$J$5,Sheet3!$B$2:$C$31,2,FALSE)))","v":47000},"Trainer ","Manager","USA","2 to 3 hours per day","Data Not Avaliable"]
[null,"ID0400",47000,"USD",47000,{"$f":"(tblSalaries[[#This Row],[clean Salary (in local currency)]])*(VLOOKUP(tblSalaries[[#This Row],[Currency]],Sheet3!$A$2:$C$31,3,FALSE))*(VLOOKUP(tblSalaries[[#This Row],[Currency]],Sheet1!$N$4:$Q$186,4,FALSE))","v":47000},{"$f":"IF(Dashboard!$J$5=VLOOKUP(tblSalaries[[#This Row],[Currency]],Sheet3!$A$2:$B$31,2,FALSE),tblSalaries[[#This Row],[clean Salary (in local currency)]],(tblSalaries[[#This Row],[PPP Adjusted  USD]]/VLOOKUP(Dashboard!$J$5,Sheet3!$B$2:$C$31,2,FALSE)))","v":47000},"Sr Management Analytst 2","Manager","USA","4 to 6 hours a day","Data Not Avaliable"]
[null,"ID0075",59450,"CAD",58460.842544152933,{"$f":"(tblSalaries[[#This Row],[clean Salary (in local currency)]])*(VLOOKUP(tblSalaries[[#This Row],[Currency]],Sheet3!$A$2:$C$31,3,FALSE))*(VLOOKUP(tblSalaries[[#This Row],[Currency]],Sheet1!$N$4:$Q$186,4,FALSE))","v":46992.02678037939},{"$f":"IF(Dashboard!$J$5=VLOOKUP(tblSalaries[[#This Row],[Currency]],Sheet3!$A$2:$B$31,2,FALSE),tblSalaries[[#This Row],[clean Salary (in local currency)]],(tblSalaries[[#This Row],[PPP Adjusted  USD]]/VLOOKUP(Dashboard!$J$5,Sheet3!$B$2:$C$31,2,FALSE)))","v":46992.02678037939},"Process Improvement Specialist","Specialist","Canada","All the 8 hours baby, all the 8!","Data Not Avaliable"]
[null,"ID1181",31763,"GBP",50064.150455673145,{"$f":"(tblSalaries[[#This Row],[clean Salary (in local currency)]])*(VLOOKUP(tblSalaries[[#This Row],[Currency]],Sheet3!$A$2:$C$31,3,FALSE))*(VLOOKUP(tblSalaries[[#This Row],[Currency]],Sheet1!$N$4:$Q$186,4,FALSE))","v":46817.747383793314},{"$f":"IF(Dashboard!$J$5=VLOOKUP(tblSalaries[[#This Row],[Currency]],Sheet3!$A$2:$B$31,2,FALSE),tblSalaries[[#This Row],[clean Salary (in local currency)]],(tblSalaries[[#This Row],[PPP Adjusted  USD]]/VLOOKUP(Dashboard!$J$5,Sheet3!$B$2:$C$31,2,FALSE)))","v":46817.747383793314},"Network Administrator","Analyst","UK","2 to 3 hours per day",2]
[null,"ID0173",46584,"USD",46584,{"$f":"(tblSalaries[[#This Row],[clean Salary (in local currency)]])*(VLOOKUP(tblSalaries[[#This Row],[Currency]],Sheet3!$A$2:$C$31,3,FALSE))*(VLOOKUP(tblSalaries[[#This Row],[Currency]],Sheet1!$N$4:$Q$186,4,FALSE))","v":46584},{"$f":"IF(Dashboard!$J$5=VLOOKUP(tblSalaries[[#This Row],[Currency]],Sheet3!$A$2:$B$31,2,FALSE),tblSalaries[[#This Row],[clean Salary (in local currency)]],(tblSalaries[[#This Row],[PPP Adjusted  USD]]/VLOOKUP(Dashboard!$J$5,Sheet3!$B$2:$C$31,2,FALSE)))","v":46584},"Budget Analyst","Analyst","USA","4 to 6 hours a day","Data Not Avaliable"]
[null,"ID1498",74000,"AUD",75473.31457379504,{"$f":"(tblSalaries[[#This Row],[clean Salary (in local currency)]])*(VLOOKUP(tblSalaries[[#This Row],[Currency]],Sheet3!$A$2:$C$31,3,FALSE))*(VLOOKUP(tblSalaries[[#This Row],[Currency]],Sheet1!$N$4:$Q$186,4,FALSE))","v":46376.84030669721},{"$f":"IF(Dashboard!$J$5=VLOOKUP(tblSalaries[[#This Row],[Currency]],Sheet3!$A$2:$B$31,2,FALSE),tblSalaries[[#This Row],[clean Salary (in local currency)]],(tblSalaries[[#This Row],[PPP Adjusted  USD]]/VLOOKUP(Dashboard!$J$5,Sheet3!$B$2:$C$31,2,FALSE)))","v":46376.84030669721},"operations Administrator","Analyst","Australia","All the 8 hours baby, all the 8!",20]
[null,"ID1906",74000,"AUD",75473.31457379504,{"$f":"(tblSalaries[[#This Row],[clean Salary (in local currency)]])*(VLOOKUP(tblSalaries[[#This Row],[Currency]],Sheet3!$A$2:$C$31,3,FALSE))*(VLOOKUP(tblSalaries[[#This Row],[Currency]],Sheet1!$N$4:$Q$186,4,FALSE))","v":46376.84030669721},{"$f":"IF(Dashboard!$J$5=VLOOKUP(tblSalaries[[#This Row],[Currency]],Sheet3!$A$2:$B$31,2,FALSE),tblSalaries[[#This Row],[clean Salary (in local currency)]],(tblSalaries[[#This Row],[PPP Adjusted  USD]]/VLOOKUP(Dashboard!$J$5,Sheet3!$B$2:$C$31,2,FALSE)))","v":46376.84030669721},"Systems Analyst","Analyst","Australia","4 to 6 hours a day",8]
[null,"ID1931",46359,"USD",46359,{"$f":"(tblSalaries[[#This Row],[clean Salary (in local currency)]])*(VLOOKUP(tblSalaries[[#This Row],[Currency]],Sheet3!$A$2:$C$31,3,FALSE))*(VLOOKUP(tblSalaries[[#This Row],[Currency]],Sheet1!$N$4:$Q$186,4,FALSE))","v":46359},{"$f":"IF(Dashboard!$J$5=VLOOKUP(tblSalaries[[#This Row],[Currency]],Sheet3!$A$2:$B$31,2,FALSE),tblSalaries[[#This Row],[clean Salary (in local currency)]],(tblSalaries[[#This Row],[PPP Adjusted  USD]]/VLOOKUP(Dashboard!$J$5,Sheet3!$B$2:$C$31,2,FALSE)))","v":46359},"Data Analyst","Analyst","USA","All the 8 hours baby, all the 8!",5]
[null,"ID1569",46325,"USD",46325,{"$f":"(tblSalaries[[#This Row],[clean Salary (in local currency)]])*(VLOOKUP(tblSalaries[[#This Row],[Currency]],Sheet3!$A$2:$C$31,3,FALSE))*(VLOOKUP(tblSalaries[[#This Row],[Currency]],Sheet1!$N$4:$Q$186,4,FALSE))","v":46325},{"$f":"IF(Dashboard!$J$5=VLOOKUP(tblSalaries[[#This Row],[Currency]],Sheet3!$A$2:$B$31,2,FALSE),tblSalaries[[#This Row],[clean Salary (in local currency)]],(tblSalaries[[#This Row],[PPP Adjusted  USD]]/VLOOKUP(Dashboard!$J$5,Sheet3!$B$2:$C$31,2,FALSE)))","v":46325},"Work Force Scheduler for Call Center","Controller","USA","4 to 6 hours a day",1]
[null,"ID0830",42000,"EUR",53356.776437647524,{"$f":"(tblSalaries[[#This Row],[clean Salary (in local currency)]])*(VLOOKUP(tblSalaries[[#This Row],[Currency]],Sheet3!$A$2:$C$31,3,FALSE))*(VLOOKUP(tblSalaries[[#This Row],[Currency]],Sheet1!$N$4:$Q$186,4,FALSE))","v":46227.421211162189},{"$f":"IF(Dashboard!$J$5=VLOOKUP(tblSalaries[[#This Row],[Currency]],Sheet3!$A$2:$B$31,2,FALSE),tblSalaries[[#This Row],[clean Salary (in local currency)]],(tblSalaries[[#This Row],[PPP Adjusted  USD]]/VLOOKUP(Dashboard!$J$5,Sheet3!$B$2:$C$31,2,FALSE)))","v":46227.421211162189},"Project Engineer","Engineer","Netherlands","4 to 6 hours a day",2]
[null,"ID0951",42000,"EUR",53356.776437647524,{"$f":"(tblSalaries[[#This Row],[clean Salary (in local currency)]])*(VLOOKUP(tblSalaries[[#This Row],[Currency]],Sheet3!$A$2:$C$31,3,FALSE))*(VLOOKUP(tblSalaries[[#This Row],[Currency]],Sheet1!$N$4:$Q$186,4,FALSE))","v":46227.421211162189},{"$f":"IF(Dashboard!$J$5=VLOOKUP(tblSalaries[[#This Row],[Currency]],Sheet3!$A$2:$B$31,2,FALSE),tblSalaries[[#This Row],[clean Salary (in local currency)]],(tblSalaries[[#This Row],[PPP Adjusted  USD]]/VLOOKUP(Dashboard!$J$5,Sheet3!$B$2:$C$31,2,FALSE)))","v":46227.421211162189},"Consultant","Consultant","Germany","2 to 3 hours per day",3]
[null,"ID1495",42000,"EUR",53356.776437647524,{"$f":"(tblSalaries[[#This Row],[clean Salary (in local currency)]])*(VLOOKUP(tblSalaries[[#This Row],[Currency]],Sheet3!$A$2:$C$31,3,FALSE))*(VLOOKUP(tblSalaries[[#This Row],[Currency]],Sheet1!$N$4:$Q$186,4,FALSE))","v":46227.421211162189},{"$f":"IF(Dashboard!$J$5=VLOOKUP(tblSalaries[[#This Row],[Currency]],Sheet3!$A$2:$B$31,2,FALSE),tblSalaries[[#This Row],[clean Salary (in local currency)]],(tblSalaries[[#This Row],[PPP Adjusted  USD]]/VLOOKUP(Dashboard!$J$5,Sheet3!$B$2:$C$31,2,FALSE)))","v":46227.421211162189},"Business Intelligence Consultant","Consultant","Germany","All the 8 hours baby, all the 8!",7]
[null,"ID0281",46000,"USD",46000,{"$f":"(tblSalaries[[#This Row],[clean Salary (in local currency)]])*(VLOOKUP(tblSalaries[[#This Row],[Currency]],Sheet3!$A$2:$C$31,3,FALSE))*(VLOOKUP(tblSalaries[[#This Row],[Currency]],Sheet1!$N$4:$Q$186,4,FALSE))","v":46000},{"$f":"IF(Dashboard!$J$5=VLOOKUP(tblSalaries[[#This Row],[Currency]],Sheet3!$A$2:$B$31,2,FALSE),tblSalaries[[#This Row],[clean Salary (in local currency)]],(tblSalaries[[#This Row],[PPP Adjusted  USD]]/VLOOKUP(Dashboard!$J$5,Sheet3!$B$2:$C$31,2,FALSE)))","v":46000},"University Relations Intern","Analyst","USA","All the 8 hours baby, all the 8!","Data Not Avaliable"]
[null,"ID0384",46000,"USD",46000,{"$f":"(tblSalaries[[#This Row],[clean Salary (in local currency)]])*(VLOOKUP(tblSalaries[[#This Row],[Currency]],Sheet3!$A$2:$C$31,3,FALSE))*(VLOOKUP(tblSalaries[[#This Row],[Currency]],Sheet1!$N$4:$Q$186,4,FALSE))","v":46000},{"$f":"IF(Dashboard!$J$5=VLOOKUP(tblSalaries[[#This Row],[Currency]],Sheet3!$A$2:$B$31,2,FALSE),tblSalaries[[#This Row],[clean Salary (in local currency)]],(tblSalaries[[#This Row],[PPP Adjusted  USD]]/VLOOKUP(Dashboard!$J$5,Sheet3!$B$2:$C$31,2,FALSE)))","v":46000},"Financial analyst","Analyst","USA","4 to 6 hours a day","Data Not Avaliable"]
[null,"ID0540",46000,"USD",46000,{"$f":"(tblSalaries[[#This Row],[clean Salary (in local currency)]])*(VLOOKUP(tblSalaries[[#This Row],[Currency]],Sheet3!$A$2:$C$31,3,FALSE))*(VLOOKUP(tblSalaries[[#This Row],[Currency]],Sheet1!$N$4:$Q$186,4,FALSE))","v":46000},{"$f":"IF(Dashboard!$J$5=VLOOKUP(tblSalaries[[#This Row],[Currency]],Sheet3!$A$2:$B$31,2,FALSE),tblSalaries[[#This Row],[clean Salary (in local currency)]],(tblSalaries[[#This Row],[PPP Adjusted  USD]]/VLOOKUP(Dashboard!$J$5,Sheet3!$B$2:$C$31,2,FALSE)))","v":46000},"Research Analyst","Analyst","USA","2 to 3 hours per day","Data Not Avaliable"]
[null,"ID1891",46000,"USD",46000,{"$f":"(tblSalaries[[#This Row],[clean Salary (in local currency)]])*(VLOOKUP(tblSalaries[[#This Row],[Currency]],Sheet3!$A$2:$C$31,3,FALSE))*(VLOOKUP(tblSalaries[[#This Row],[Currency]],Sheet1!$N$4:$Q$186,4,FALSE))","v":46000},{"$f":"IF(Dashboard!$J$5=VLOOKUP(tblSalaries[[#This Row],[Currency]],Sheet3!$A$2:$B$31,2,FALSE),tblSalaries[[#This Row],[clean Salary (in local currency)]],(tblSalaries[[#This Row],[PPP Adjusted  USD]]/VLOOKUP(Dashboard!$J$5,Sheet3!$B$2:$C$31,2,FALSE)))","v":46000},"AML Analyst","Analyst","USA","All the 8 hours baby, all the 8!",1]
[null,"ID1921",46000,"USD",46000,{"$f":"(tblSalaries[[#This Row],[clean Salary (in local currency)]])*(VLOOKUP(tblSalaries[[#This Row],[Currency]],Sheet3!$A$2:$C$31,3,FALSE))*(VLOOKUP(tblSalaries[[#This Row],[Currency]],Sheet1!$N$4:$Q$186,4,FALSE))","v":46000},{"$f":"IF(Dashboard!$J$5=VLOOKUP(tblSalaries[[#This Row],[Currency]],Sheet3!$A$2:$B$31,2,FALSE),tblSalaries[[#This Row],[clean Salary (in local currency)]],(tblSalaries[[#This Row],[PPP Adjusted  USD]]/VLOOKUP(Dashboard!$J$5,Sheet3!$B$2:$C$31,2,FALSE)))","v":46000},"Poultry Analyst","Analyst","USA","4 to 6 hours a day",8]
[null,"ID1784",31185,"GBP",49153.119414418252,{"$f":"(tblSalaries[[#This Row],[clean Salary (in local currency)]])*(VLOOKUP(tblSalaries[[#This Row],[Currency]],Sheet3!$A$2:$C$31,3,FALSE))*(VLOOKUP(tblSalaries[[#This Row],[Currency]],Sheet1!$N$4:$Q$186,4,FALSE))","v":45965.79202731463},{"$f":"IF(Dashboard!$J$5=VLOOKUP(tblSalaries[[#This Row],[Currency]],Sheet3!$A$2:$B$31,2,FALSE),tblSalaries[[#This Row],[clean Salary (in local currency)]],(tblSalaries[[#This Row],[PPP Adjusted  USD]]/VLOOKUP(Dashboard!$J$5,Sheet3!$B$2:$C$31,2,FALSE)))","v":45965.79202731463},"Data Team Leader","Manager","UK","4 to 6 hours a day",7]
[null,"ID0395",45880,"USD",45880,{"$f":"(tblSalaries[[#This Row],[clean Salary (in local currency)]])*(VLOOKUP(tblSalaries[[#This Row],[Currency]],Sheet3!$A$2:$C$31,3,FALSE))*(VLOOKUP(tblSalaries[[#This Row],[Currency]],Sheet1!$N$4:$Q$186,4,FALSE))","v":45880},{"$f":"IF(Dashboard!$J$5=VLOOKUP(tblSalaries[[#This Row],[Currency]],Sheet3!$A$2:$B$31,2,FALSE),tblSalaries[[#This Row],[clean Salary (in local currency)]],(tblSalaries[[#This Row],[PPP Adjusted  USD]]/VLOOKUP(Dashboard!$J$5,Sheet3!$B$2:$C$31,2,FALSE)))","v":45880},"Campus Budget Officer","Manager","USA","All the 8 hours baby, all the 8!","Data Not Avaliable"]
[null,"ID0291",31000,"GBP",48861.526434085805,{"$f":"(tblSalaries[[#This Row],[clean Salary (in local currency)]])*(VLOOKUP(tblSalaries[[#This Row],[Currency]],Sheet3!$A$2:$C$31,3,FALSE))*(VLOOKUP(tblSalaries[[#This Row],[Currency]],Sheet1!$N$4:$Q$186,4,FALSE))","v":45693.107354393251},{"$f":"IF(Dashboard!$J$5=VLOOKUP(tblSalaries[[#This Row],[Currency]],Sheet3!$A$2:$B$31,2,FALSE),tblSalaries[[#This Row],[clean Salary (in local currency)]],(tblSalaries[[#This Row],[PPP Adjusted  USD]]/VLOOKUP(Dashboard!$J$5,Sheet3!$B$2:$C$31,2,FALSE)))","v":45693.107354393251},"Telecoms Engineer","Engineer","UK","2 to 3 hours per day","Data Not Avaliable"]
[null,"ID0972",45616,"USD",45616,{"$f":"(tblSalaries[[#This Row],[clean Salary (in local currency)]])*(VLOOKUP(tblSalaries[[#This Row],[Currency]],Sheet3!$A$2:$C$31,3,FALSE))*(VLOOKUP(tblSalaries[[#This Row],[Currency]],Sheet1!$N$4:$Q$186,4,FALSE))","v":45616},{"$f":"IF(Dashboard!$J$5=VLOOKUP(tblSalaries[[#This Row],[Currency]],Sheet3!$A$2:$B$31,2,FALSE),tblSalaries[[#This Row],[clean Salary (in local currency)]],(tblSalaries[[#This Row],[PPP Adjusted  USD]]/VLOOKUP(Dashboard!$J$5,Sheet3!$B$2:$C$31,2,FALSE)))","v":45616},"Assistant Fleet Analyst","Analyst","Australia","4 to 6 hours a day",1.5]
[null,"ID1279",89500,"MYR",28353.650809742252,{"$f":"(tblSalaries[[#This Row],[clean Salary (in local currency)]])*(VLOOKUP(tblSalaries[[#This Row],[Currency]],Sheet3!$A$2:$C$31,3,FALSE))*(VLOOKUP(tblSalaries[[#This Row],[Currency]],Sheet1!$N$4:$Q$186,4,FALSE))","v":45507.365367197875},{"$f":"IF(Dashboard!$J$5=VLOOKUP(tblSalaries[[#This Row],[Currency]],Sheet3!$A$2:$B$31,2,FALSE),tblSalaries[[#This Row],[clean Salary (in local currency)]],(tblSalaries[[#This Row],[PPP Adjusted  USD]]/VLOOKUP(Dashboard!$J$5,Sheet3!$B$2:$C$31,2,FALSE)))","v":45507.365367197875},"Manager","Manager","malaysia","2 to 3 hours per day",20]
[null,"ID0962",75000,"NZD",59819.107020370408,{"$f":"(tblSalaries[[#This Row],[clean Salary (in local currency)]])*(VLOOKUP(tblSalaries[[#This Row],[Currency]],Sheet3!$A$2:$C$31,3,FALSE))*(VLOOKUP(tblSalaries[[#This Row],[Currency]],Sheet1!$N$4:$Q$186,4,FALSE))","v":45161.760780842385},{"$f":"IF(Dashboard!$J$5=VLOOKUP(tblSalaries[[#This Row],[Currency]],Sheet3!$A$2:$B$31,2,FALSE),tblSalaries[[#This Row],[clean Salary (in local currency)]],(tblSalaries[[#This Row],[PPP Adjusted  USD]]/VLOOKUP(Dashboard!$J$5,Sheet3!$B$2:$C$31,2,FALSE)))","v":45161.760780842385},"Information Analyst","Analyst","New Zealand","4 to 6 hours a day",10]
[null,"ID1639",75000,"NZD",59819.107020370408,{"$f":"(tblSalaries[[#This Row],[clean Salary (in local currency)]])*(VLOOKUP(tblSalaries[[#This Row],[Currency]],Sheet3!$A$2:$C$31,3,FALSE))*(VLOOKUP(tblSalaries[[#This Row],[Currency]],Sheet1!$N$4:$Q$186,4,FALSE))","v":45161.760780842385},{"$f":"IF(Dashboard!$J$5=VLOOKUP(tblSalaries[[#This Row],[Currency]],Sheet3!$A$2:$B$31,2,FALSE),tblSalaries[[#This Row],[clean Salary (in local currency)]],(tblSalaries[[#This Row],[PPP Adjusted  USD]]/VLOOKUP(Dashboard!$J$5,Sheet3!$B$2:$C$31,2,FALSE)))","v":45161.760780842385},"business support analyst","Analyst","New Zealand","2 to 3 hours per day",10]
[null,"ID1885",75000,"NZD",59819.107020370408,{"$f":"(tblSalaries[[#This Row],[clean Salary (in local currency)]])*(VLOOKUP(tblSalaries[[#This Row],[Currency]],Sheet3!$A$2:$C$31,3,FALSE))*(VLOOKUP(tblSalaries[[#This Row],[Currency]],Sheet1!$N$4:$Q$186,4,FALSE))","v":45161.760780842385},{"$f":"IF(Dashboard!$J$5=VLOOKUP(tblSalaries[[#This Row],[Currency]],Sheet3!$A$2:$B$31,2,FALSE),tblSalaries[[#This Row],[clean Salary (in local currency)]],(tblSalaries[[#This Row],[PPP Adjusted  USD]]/VLOOKUP(Dashboard!$J$5,Sheet3!$B$2:$C$31,2,FALSE)))","v":45161.760780842385},"Commercial Accountant","Accountant","New Zealand","4 to 6 hours a day",4]
[null,"ID1333",41000,"EUR",52086.37699865592,{"$f":"(tblSalaries[[#This Row],[clean Salary (in local currency)]])*(VLOOKUP(tblSalaries[[#This Row],[Currency]],Sheet3!$A$2:$C$31,3,FALSE))*(VLOOKUP(tblSalaries[[#This Row],[Currency]],Sheet1!$N$4:$Q$186,4,FALSE))","v":45126.768325182136},{"$f":"IF(Dashboard!$J$5=VLOOKUP(tblSalaries[[#This Row],[Currency]],Sheet3!$A$2:$B$31,2,FALSE),tblSalaries[[#This Row],[clean Salary (in local currency)]],(tblSalaries[[#This Row],[PPP Adjusted  USD]]/VLOOKUP(Dashboard!$J$5,Sheet3!$B$2:$C$31,2,FALSE)))","v":45126.768325182136},"engineer","Engineer","Spain","4 to 6 hours a day",12]
[null,"ID0018",45000,"USD",45000,{"$f":"(tblSalaries[[#This Row],[clean Salary (in local currency)]])*(VLOOKUP(tblSalaries[[#This Row],[Currency]],Sheet3!$A$2:$C$31,3,FALSE))*(VLOOKUP(tblSalaries[[#This Row],[Currency]],Sheet1!$N$4:$Q$186,4,FALSE))","v":45000},{"$f":"IF(Dashboard!$J$5=VLOOKUP(tblSalaries[[#This Row],[Currency]],Sheet3!$A$2:$B$31,2,FALSE),tblSalaries[[#This Row],[clean Salary (in local currency)]],(tblSalaries[[#This Row],[PPP Adjusted  USD]]/VLOOKUP(Dashboard!$J$5,Sheet3!$B$2:$C$31,2,FALSE)))","v":45000},"Excel Report Writer","Reporting","South Africa","All the 8 hours baby, all the 8!","Data Not Avaliable"]
[null,"ID0132",45000,"USD",45000,{"$f":"(tblSalaries[[#This Row],[clean Salary (in local currency)]])*(VLOOKUP(tblSalaries[[#This Row],[Currency]],Sheet3!$A$2:$C$31,3,FALSE))*(VLOOKUP(tblSalaries[[#This Row],[Currency]],Sheet1!$N$4:$Q$186,4,FALSE))","v":45000},{"$f":"IF(Dashboard!$J$5=VLOOKUP(tblSalaries[[#This Row],[Currency]],Sheet3!$A$2:$B$31,2,FALSE),tblSalaries[[#This Row],[clean Salary (in local currency)]],(tblSalaries[[#This Row],[PPP Adjusted  USD]]/VLOOKUP(Dashboard!$J$5,Sheet3!$B$2:$C$31,2,FALSE)))","v":45000},"DBA","Analyst","USA","4 to 6 hours a day","Data Not Avaliable"]
[null,"ID0145",45000,"USD",45000,{"$f":"(tblSalaries[[#This Row],[clean Salary (in local currency)]])*(VLOOKUP(tblSalaries[[#This Row],[Currency]],Sheet3!$A$2:$C$31,3,FALSE))*(VLOOKUP(tblSalaries[[#This Row],[Currency]],Sheet1!$N$4:$Q$186,4,FALSE))","v":45000},{"$f":"IF(Dashboard!$J$5=VLOOKUP(tblSalaries[[#This Row],[Currency]],Sheet3!$A$2:$B$31,2,FALSE),tblSalaries[[#This Row],[clean Salary (in local currency)]],(tblSalaries[[#This Row],[PPP Adjusted  USD]]/VLOOKUP(Dashboard!$J$5,Sheet3!$B$2:$C$31,2,FALSE)))","v":45000},"data analyst","Analyst","USA","2 to 3 hours per day","Data Not Avaliable"]
[null,"ID0219",45000,"USD",45000,{"$f":"(tblSalaries[[#This Row],[clean Salary (in local currency)]])*(VLOOKUP(tblSalaries[[#This Row],[Currency]],Sheet3!$A$2:$C$31,3,FALSE))*(VLOOKUP(tblSalaries[[#This Row],[Currency]],Sheet1!$N$4:$Q$186,4,FALSE))","v":45000},{"$f":"IF(Dashboard!$J$5=VLOOKUP(tblSalaries[[#This Row],[Currency]],Sheet3!$A$2:$B$31,2,FALSE),tblSalaries[[#This Row],[clean Salary (in local currency)]],(tblSalaries[[#This Row],[PPP Adjusted  USD]]/VLOOKUP(Dashboard!$J$5,Sheet3!$B$2:$C$31,2,FALSE)))","v":45000},"Accounting Assistant","Accountant","USA","2 to 3 hours per day","Data Not Avaliable"]
[null,"ID0296",45000,"USD",45000,{"$f":"(tblSalaries[[#This Row],[clean Salary (in local currency)]])*(VLOOKUP(tblSalaries[[#This Row],[Currency]],Sheet3!$A$2:$C$31,3,FALSE))*(VLOOKUP(tblSalaries[[#This Row],[Currency]],Sheet1!$N$4:$Q$186,4,FALSE))","v":45000},{"$f":"IF(Dashboard!$J$5=VLOOKUP(tblSalaries[[#This Row],[Currency]],Sheet3!$A$2:$B$31,2,FALSE),tblSalaries[[#This Row],[clean Salary (in local currency)]],(tblSalaries[[#This Row],[PPP Adjusted  USD]]/VLOOKUP(Dashboard!$J$5,Sheet3!$B$2:$C$31,2,FALSE)))","v":45000},"sales support","Analyst","USA","4 to 6 hours a day","Data Not Avaliable"]
[null,"ID0338",45000,"USD",45000,{"$f":"(tblSalaries[[#This Row],[clean Salary (in local currency)]])*(VLOOKUP(tblSalaries[[#This Row],[Currency]],Sheet3!$A$2:$C$31,3,FALSE))*(VLOOKUP(tblSalaries[[#This Row],[Currency]],Sheet1!$N$4:$Q$186,4,FALSE))","v":45000},{"$f":"IF(Dashboard!$J$5=VLOOKUP(tblSalaries[[#This Row],[Currency]],Sheet3!$A$2:$B$31,2,FALSE),tblSalaries[[#This Row],[clean Salary (in local currency)]],(tblSalaries[[#This Row],[PPP Adjusted  USD]]/VLOOKUP(Dashboard!$J$5,Sheet3!$B$2:$C$31,2,FALSE)))","v":45000},"QC Fabrication Inspector","Specialist","USA","4 to 6 hours a day","Data Not Avaliable"]
[null,"ID0463",45000,"USD",45000,{"$f":"(tblSalaries[[#This Row],[clean Salary (in local currency)]])*(VLOOKUP(tblSalaries[[#This Row],[Currency]],Sheet3!$A$2:$C$31,3,FALSE))*(VLOOKUP(tblSalaries[[#This Row],[Currency]],Sheet1!$N$4:$Q$186,4,FALSE))","v":45000},{"$f":"IF(Dashboard!$J$5=VLOOKUP(tblSalaries[[#This Row],[Currency]],Sheet3!$A$2:$B$31,2,FALSE),tblSalaries[[#This Row],[clean Salary (in local currency)]],(tblSalaries[[#This Row],[PPP Adjusted  USD]]/VLOOKUP(Dashboard!$J$5,Sheet3!$B$2:$C$31,2,FALSE)))","v":45000},"Analyst","Analyst","USA","4 to 6 hours a day","Data Not Avaliable"]
[null,"ID0549",45000,"USD",45000,{"$f":"(tblSalaries[[#This Row],[clean Salary (in local currency)]])*(VLOOKUP(tblSalaries[[#This Row],[Currency]],Sheet3!$A$2:$C$31,3,FALSE))*(VLOOKUP(tblSalaries[[#This Row],[Currency]],Sheet1!$N$4:$Q$186,4,FALSE))","v":45000},{"$f":"IF(Dashboard!$J$5=VLOOKUP(tblSalaries[[#This Row],[Currency]],Sheet3!$A$2:$B$31,2,FALSE),tblSalaries[[#This Row],[clean Salary (in local currency)]],(tblSalaries[[#This Row],[PPP Adjusted  USD]]/VLOOKUP(Dashboard!$J$5,Sheet3!$B$2:$C$31,2,FALSE)))","v":45000},"Reports Coordinator","Reporting","USA","All the 8 hours baby, all the 8!","Data Not Avaliable"]
[null,"ID0567",45000,"USD",45000,{"$f":"(tblSalaries[[#This Row],[clean Salary (in local currency)]])*(VLOOKUP(tblSalaries[[#This Row],[Currency]],Sheet3!$A$2:$C$31,3,FALSE))*(VLOOKUP(tblSalaries[[#This Row],[Currency]],Sheet1!$N$4:$Q$186,4,FALSE))","v":45000},{"$f":"IF(Dashboard!$J$5=VLOOKUP(tblSalaries[[#This Row],[Currency]],Sheet3!$A$2:$B$31,2,FALSE),tblSalaries[[#This Row],[clean Salary (in local currency)]],(tblSalaries[[#This Row],[PPP Adjusted  USD]]/VLOOKUP(Dashboard!$J$5,Sheet3!$B$2:$C$31,2,FALSE)))","v":45000},"Workflow Analyst","Analyst","USA","4 to 6 hours a day",2]
[null,"ID0582",45000,"USD",45000,{"$f":"(tblSalaries[[#This Row],[clean Salary (in local currency)]])*(VLOOKUP(tblSalaries[[#This Row],[Currency]],Sheet3!$A$2:$C$31,3,FALSE))*(VLOOKUP(tblSalaries[[#This Row],[Currency]],Sheet1!$N$4:$Q$186,4,FALSE))","v":45000},{"$f":"IF(Dashboard!$J$5=VLOOKUP(tblSalaries[[#This Row],[Currency]],Sheet3!$A$2:$B$31,2,FALSE),tblSalaries[[#This Row],[clean Salary (in local currency)]],(tblSalaries[[#This Row],[PPP Adjusted  USD]]/VLOOKUP(Dashboard!$J$5,Sheet3!$B$2:$C$31,2,FALSE)))","v":45000},"business analyst","Analyst","USA","4 to 6 hours a day",3]
[null,"ID0600",45000,"USD",45000,{"$f":"(tblSalaries[[#This Row],[clean Salary (in local currency)]])*(VLOOKUP(tblSalaries[[#This Row],[Currency]],Sheet3!$A$2:$C$31,3,FALSE))*(VLOOKUP(tblSalaries[[#This Row],[Currency]],Sheet1!$N$4:$Q$186,4,FALSE))","v":45000},{"$f":"IF(Dashboard!$J$5=VLOOKUP(tblSalaries[[#This Row],[Currency]],Sheet3!$A$2:$B$31,2,FALSE),tblSalaries[[#This Row],[clean Salary (in local currency)]],(tblSalaries[[#This Row],[PPP Adjusted  USD]]/VLOOKUP(Dashboard!$J$5,Sheet3!$B$2:$C$31,2,FALSE)))","v":45000},"Technical Analyst","Analyst","USA","4 to 6 hours a day",15]
[null,"ID0601",45000,"USD",45000,{"$f":"(tblSalaries[[#This Row],[clean Salary (in local currency)]])*(VLOOKUP(tblSalaries[[#This Row],[Currency]],Sheet3!$A$2:$C$31,3,FALSE))*(VLOOKUP(tblSalaries[[#This Row],[Currency]],Sheet1!$N$4:$Q$186,4,FALSE))","v":45000},{"$f":"IF(Dashboard!$J$5=VLOOKUP(tblSalaries[[#This Row],[Currency]],Sheet3!$A$2:$B$31,2,FALSE),tblSalaries[[#This Row],[clean Salary (in local currency)]],(tblSalaries[[#This Row],[PPP Adjusted  USD]]/VLOOKUP(Dashboard!$J$5,Sheet3!$B$2:$C$31,2,FALSE)))","v":45000},"Head Accounts","Accountant","USA","4 to 6 hours a day",7]
[null,"ID0777",45000,"USD",45000,{"$f":"(tblSalaries[[#This Row],[clean Salary (in local currency)]])*(VLOOKUP(tblSalaries[[#This Row],[Currency]],Sheet3!$A$2:$C$31,3,FALSE))*(VLOOKUP(tblSalaries[[#This Row],[Currency]],Sheet1!$N$4:$Q$186,4,FALSE))","v":45000},{"$f":"IF(Dashboard!$J$5=VLOOKUP(tblSalaries[[#This Row],[Currency]],Sheet3!$A$2:$B$31,2,FALSE),tblSalaries[[#This Row],[clean Salary (in local currency)]],(tblSalaries[[#This Row],[PPP Adjusted  USD]]/VLOOKUP(Dashboard!$J$5,Sheet3!$B$2:$C$31,2,FALSE)))","v":45000},"AGM","Manager","India","1 or 2 hours a day",15]
[null,"ID1006",45000,"USD",45000,{"$f":"(tblSalaries[[#This Row],[clean Salary (in local currency)]])*(VLOOKUP(tblSalaries[[#This Row],[Currency]],Sheet3!$A$2:$C$31,3,FALSE))*(VLOOKUP(tblSalaries[[#This Row],[Currency]],Sheet1!$N$4:$Q$186,4,FALSE))","v":45000},{"$f":"IF(Dashboard!$J$5=VLOOKUP(tblSalaries[[#This Row],[Currency]],Sheet3!$A$2:$B$31,2,FALSE),tblSalaries[[#This Row],[clean Salary (in local currency)]],(tblSalaries[[#This Row],[PPP Adjusted  USD]]/VLOOKUP(Dashboard!$J$5,Sheet3!$B$2:$C$31,2,FALSE)))","v":45000},"Staff accountant -- Auditing","Accountant","USA","All the 8 hours baby, all the 8!",3]
[null,"ID1030",45000,"USD",45000,{"$f":"(tblSalaries[[#This Row],[clean Salary (in local currency)]])*(VLOOKUP(tblSalaries[[#This Row],[Currency]],Sheet3!$A$2:$C$31,3,FALSE))*(VLOOKUP(tblSalaries[[#This Row],[Currency]],Sheet1!$N$4:$Q$186,4,FALSE))","v":45000},{"$f":"IF(Dashboard!$J$5=VLOOKUP(tblSalaries[[#This Row],[Currency]],Sheet3!$A$2:$B$31,2,FALSE),tblSalaries[[#This Row],[clean Salary (in local currency)]],(tblSalaries[[#This Row],[PPP Adjusted  USD]]/VLOOKUP(Dashboard!$J$5,Sheet3!$B$2:$C$31,2,FALSE)))","v":45000},"Engineer","Engineer","Singapore","2 to 3 hours per day",4]
[null,"ID1276",45000,"USD",45000,{"$f":"(tblSalaries[[#This Row],[clean Salary (in local currency)]])*(VLOOKUP(tblSalaries[[#This Row],[Currency]],Sheet3!$A$2:$C$31,3,FALSE))*(VLOOKUP(tblSalaries[[#This Row],[Currency]],Sheet1!$N$4:$Q$186,4,FALSE))","v":45000},{"$f":"IF(Dashboard!$J$5=VLOOKUP(tblSalaries[[#This Row],[Currency]],Sheet3!$A$2:$B$31,2,FALSE),tblSalaries[[#This Row],[clean Salary (in local currency)]],(tblSalaries[[#This Row],[PPP Adjusted  USD]]/VLOOKUP(Dashboard!$J$5,Sheet3!$B$2:$C$31,2,FALSE)))","v":45000},"Staff Assistant","Analyst","USA","4 to 6 hours a day",7]
[null,"ID1302",45000,"USD",45000,{"$f":"(tblSalaries[[#This Row],[clean Salary (in local currency)]])*(VLOOKUP(tblSalaries[[#This Row],[Currency]],Sheet3!$A$2:$C$31,3,FALSE))*(VLOOKUP(tblSalaries[[#This Row],[Currency]],Sheet1!$N$4:$Q$186,4,FALSE))","v":45000},{"$f":"IF(Dashboard!$J$5=VLOOKUP(tblSalaries[[#This Row],[Currency]],Sheet3!$A$2:$B$31,2,FALSE),tblSalaries[[#This Row],[clean Salary (in local currency)]],(tblSalaries[[#This Row],[PPP Adjusted  USD]]/VLOOKUP(Dashboard!$J$5,Sheet3!$B$2:$C$31,2,FALSE)))","v":45000},"Financial Analysis","Analyst","Pakistan","All the 8 hours baby, all the 8!",8]
[null,"ID1421",45000,"USD",45000,{"$f":"(tblSalaries[[#This Row],[clean Salary (in local currency)]])*(VLOOKUP(tblSalaries[[#This Row],[Currency]],Sheet3!$A$2:$C$31,3,FALSE))*(VLOOKUP(tblSalaries[[#This Row],[Currency]],Sheet1!$N$4:$Q$186,4,FALSE))","v":45000},{"$f":"IF(Dashboard!$J$5=VLOOKUP(tblSalaries[[#This Row],[Currency]],Sheet3!$A$2:$B$31,2,FALSE),tblSalaries[[#This Row],[clean Salary (in local currency)]],(tblSalaries[[#This Row],[PPP Adjusted  USD]]/VLOOKUP(Dashboard!$J$5,Sheet3!$B$2:$C$31,2,FALSE)))","v":45000},"Technical Support Specialist","Specialist","USA","4 to 6 hours a day",20]
[null,"ID1496",45000,"USD",45000,{"$f":"(tblSalaries[[#This Row],[clean Salary (in local currency)]])*(VLOOKUP(tblSalaries[[#This Row],[Currency]],Sheet3!$A$2:$C$31,3,FALSE))*(VLOOKUP(tblSalaries[[#This Row],[Currency]],Sheet1!$N$4:$Q$186,4,FALSE))","v":45000},{"$f":"IF(Dashboard!$J$5=VLOOKUP(tblSalaries[[#This Row],[Currency]],Sheet3!$A$2:$B$31,2,FALSE),tblSalaries[[#This Row],[clean Salary (in local currency)]],(tblSalaries[[#This Row],[PPP Adjusted  USD]]/VLOOKUP(Dashboard!$J$5,Sheet3!$B$2:$C$31,2,FALSE)))","v":45000},"Data Specialist","Specialist","USA","2 to 3 hours per day",10]
[null,"ID1521",45000,"USD",45000,{"$f":"(tblSalaries[[#This Row],[clean Salary (in local currency)]])*(VLOOKUP(tblSalaries[[#This Row],[Currency]],Sheet3!$A$2:$C$31,3,FALSE))*(VLOOKUP(tblSalaries[[#This Row],[Currency]],Sheet1!$N$4:$Q$186,4,FALSE))","v":45000},{"$f":"IF(Dashboard!$J$5=VLOOKUP(tblSalaries[[#This Row],[Currency]],Sheet3!$A$2:$B$31,2,FALSE),tblSalaries[[#This Row],[clean Salary (in local currency)]],(tblSalaries[[#This Row],[PPP Adjusted  USD]]/VLOOKUP(Dashboard!$J$5,Sheet3!$B$2:$C$31,2,FALSE)))","v":45000},"Excel Business Analyst","Analyst","USA","All the 8 hours baby, all the 8!",5]
[null,"ID1527",45000,"USD",45000,{"$f":"(tblSalaries[[#This Row],[clean Salary (in local currency)]])*(VLOOKUP(tblSalaries[[#This Row],[Currency]],Sheet3!$A$2:$C$31,3,FALSE))*(VLOOKUP(tblSalaries[[#This Row],[Currency]],Sheet1!$N$4:$Q$186,4,FALSE))","v":45000},{"$f":"IF(Dashboard!$J$5=VLOOKUP(tblSalaries[[#This Row],[Currency]],Sheet3!$A$2:$B$31,2,FALSE),tblSalaries[[#This Row],[clean Salary (in local currency)]],(tblSalaries[[#This Row],[PPP Adjusted  USD]]/VLOOKUP(Dashboard!$J$5,Sheet3!$B$2:$C$31,2,FALSE)))","v":45000},"Business Analyst","Analyst","USA","4 to 6 hours a day",8]
[null,"ID1548",45000,"USD",45000,{"$f":"(tblSalaries[[#This Row],[clean Salary (in local currency)]])*(VLOOKUP(tblSalaries[[#This Row],[Currency]],Sheet3!$A$2:$C$31,3,FALSE))*(VLOOKUP(tblSalaries[[#This Row],[Currency]],Sheet1!$N$4:$Q$186,4,FALSE))","v":45000},{"$f":"IF(Dashboard!$J$5=VLOOKUP(tblSalaries[[#This Row],[Currency]],Sheet3!$A$2:$B$31,2,FALSE),tblSalaries[[#This Row],[clean Salary (in local currency)]],(tblSalaries[[#This Row],[PPP Adjusted  USD]]/VLOOKUP(Dashboard!$J$5,Sheet3!$B$2:$C$31,2,FALSE)))","v":45000},"Junior Reporting Manager","Manager","Germany","2 to 3 hours per day",5]
[null,"ID1701",45000,"USD",45000,{"$f":"(tblSalaries[[#This Row],[clean Salary (in local currency)]])*(VLOOKUP(tblSalaries[[#This Row],[Currency]],Sheet3!$A$2:$C$31,3,FALSE))*(VLOOKUP(tblSalaries[[#This Row],[Currency]],Sheet1!$N$4:$Q$186,4,FALSE))","v":45000},{"$f":"IF(Dashboard!$J$5=VLOOKUP(tblSalaries[[#This Row],[Currency]],Sheet3!$A$2:$B$31,2,FALSE),tblSalaries[[#This Row],[clean Salary (in local currency)]],(tblSalaries[[#This Row],[PPP Adjusted  USD]]/VLOOKUP(Dashboard!$J$5,Sheet3!$B$2:$C$31,2,FALSE)))","v":45000},"Bussiness Analyst","Analyst","USA","2 to 3 hours per day",4]
[null,"ID1704",45000,"USD",45000,{"$f":"(tblSalaries[[#This Row],[clean Salary (in local currency)]])*(VLOOKUP(tblSalaries[[#This Row],[Currency]],Sheet3!$A$2:$C$31,3,FALSE))*(VLOOKUP(tblSalaries[[#This Row],[Currency]],Sheet1!$N$4:$Q$186,4,FALSE))","v":45000},{"$f":"IF(Dashboard!$J$5=VLOOKUP(tblSalaries[[#This Row],[Currency]],Sheet3!$A$2:$B$31,2,FALSE),tblSalaries[[#This Row],[clean Salary (in local currency)]],(tblSalaries[[#This Row],[PPP Adjusted  USD]]/VLOOKUP(Dashboard!$J$5,Sheet3!$B$2:$C$31,2,FALSE)))","v":45000},"CFO","CXO or Top Mgmt.","Mexico","4 to 6 hours a day",5]
[null,"ID1740",45000,"USD",45000,{"$f":"(tblSalaries[[#This Row],[clean Salary (in local currency)]])*(VLOOKUP(tblSalaries[[#This Row],[Currency]],Sheet3!$A$2:$C$31,3,FALSE))*(VLOOKUP(tblSalaries[[#This Row],[Currency]],Sheet1!$N$4:$Q$186,4,FALSE))","v":45000},{"$f":"IF(Dashboard!$J$5=VLOOKUP(tblSalaries[[#This Row],[Currency]],Sheet3!$A$2:$B$31,2,FALSE),tblSalaries[[#This Row],[clean Salary (in local currency)]],(tblSalaries[[#This Row],[PPP Adjusted  USD]]/VLOOKUP(Dashboard!$J$5,Sheet3!$B$2:$C$31,2,FALSE)))","v":45000},"Sourcing Analyst","Analyst","USA","All the 8 hours baby, all the 8!",2]
[null,"ID1808",45000,"USD",45000,{"$f":"(tblSalaries[[#This Row],[clean Salary (in local currency)]])*(VLOOKUP(tblSalaries[[#This Row],[Currency]],Sheet3!$A$2:$C$31,3,FALSE))*(VLOOKUP(tblSalaries[[#This Row],[Currency]],Sheet1!$N$4:$Q$186,4,FALSE))","v":45000},{"$f":"IF(Dashboard!$J$5=VLOOKUP(tblSalaries[[#This Row],[Currency]],Sheet3!$A$2:$B$31,2,FALSE),tblSalaries[[#This Row],[clean Salary (in local currency)]],(tblSalaries[[#This Row],[PPP Adjusted  USD]]/VLOOKUP(Dashboard!$J$5,Sheet3!$B$2:$C$31,2,FALSE)))","v":45000},"ba","Analyst","USA","4 to 6 hours a day",4]
[null,"ID1896",45000,"USD",45000,{"$f":"(tblSalaries[[#This Row],[clean Salary (in local currency)]])*(VLOOKUP(tblSalaries[[#This Row],[Currency]],Sheet3!$A$2:$C$31,3,FALSE))*(VLOOKUP(tblSalaries[[#This Row],[Currency]],Sheet1!$N$4:$Q$186,4,FALSE))","v":45000},{"$f":"IF(Dashboard!$J$5=VLOOKUP(tblSalaries[[#This Row],[Currency]],Sheet3!$A$2:$B$31,2,FALSE),tblSalaries[[#This Row],[clean Salary (in local currency)]],(tblSalaries[[#This Row],[PPP Adjusted  USD]]/VLOOKUP(Dashboard!$J$5,Sheet3!$B$2:$C$31,2,FALSE)))","v":45000},"Senior Accountant","Accountant","USA","2 to 3 hours per day",5]
[null,"ID0660",950000,"INR",16917.52085307044,{"$f":"(tblSalaries[[#This Row],[clean Salary (in local currency)]])*(VLOOKUP(tblSalaries[[#This Row],[Currency]],Sheet3!$A$2:$C$31,3,FALSE))*(VLOOKUP(tblSalaries[[#This Row],[Currency]],Sheet1!$N$4:$Q$186,4,FALSE))","v":44992.971231263531},{"$f":"IF(Dashboard!$J$5=VLOOKUP(tblSalaries[[#This Row],[Currency]],Sheet3!$A$2:$B$31,2,FALSE),tblSalaries[[#This Row],[clean Salary (in local currency)]],(tblSalaries[[#This Row],[PPP Adjusted  USD]]/VLOOKUP(Dashboard!$J$5,Sheet3!$B$2:$C$31,2,FALSE)))","v":44992.971231263531},"Investment Banker","Manager","India","4 to 6 hours a day",3]
[null,"ID1752",950000,"INR",16917.52085307044,{"$f":"(tblSalaries[[#This Row],[clean Salary (in local currency)]])*(VLOOKUP(tblSalaries[[#This Row],[Currency]],Sheet3!$A$2:$C$31,3,FALSE))*(VLOOKUP(tblSalaries[[#This Row],[Currency]],Sheet1!$N$4:$Q$186,4,FALSE))","v":44992.971231263531},{"$f":"IF(Dashboard!$J$5=VLOOKUP(tblSalaries[[#This Row],[Currency]],Sheet3!$A$2:$B$31,2,FALSE),tblSalaries[[#This Row],[clean Salary (in local currency)]],(tblSalaries[[#This Row],[PPP Adjusted  USD]]/VLOOKUP(Dashboard!$J$5,Sheet3!$B$2:$C$31,2,FALSE)))","v":44992.971231263531},"Associate Manager, Drug Safety Operations","Manager","India","2 to 3 hours per day",9]
[null,"ID1541",30500,"GBP",48073.437298052166,{"$f":"(tblSalaries[[#This Row],[clean Salary (in local currency)]])*(VLOOKUP(tblSalaries[[#This Row],[Currency]],Sheet3!$A$2:$C$31,3,FALSE))*(VLOOKUP(tblSalaries[[#This Row],[Currency]],Sheet1!$N$4:$Q$186,4,FALSE))","v":44956.12175190304},{"$f":"IF(Dashboard!$J$5=VLOOKUP(tblSalaries[[#This Row],[Currency]],Sheet3!$A$2:$B$31,2,FALSE),tblSalaries[[#This Row],[clean Salary (in local currency)]],(tblSalaries[[#This Row],[PPP Adjusted  USD]]/VLOOKUP(Dashboard!$J$5,Sheet3!$B$2:$C$31,2,FALSE)))","v":44956.12175190304},"Construction Estimator","Consultant","UK","4 to 6 hours a day",14]
[null,"ID0062",56000,"CAD",55068.245289698301,{"$f":"(tblSalaries[[#This Row],[clean Salary (in local currency)]])*(VLOOKUP(tblSalaries[[#This Row],[Currency]],Sheet3!$A$2:$C$31,3,FALSE))*(VLOOKUP(tblSalaries[[#This Row],[Currency]],Sheet1!$N$4:$Q$186,4,FALSE))","v":44264.987379331302},{"$f":"IF(Dashboard!$J$5=VLOOKUP(tblSalaries[[#This Row],[Currency]],Sheet3!$A$2:$B$31,2,FALSE),tblSalaries[[#This Row],[clean Salary (in local currency)]],(tblSalaries[[#This Row],[PPP Adjusted  USD]]/VLOOKUP(Dashboard!$J$5,Sheet3!$B$2:$C$31,2,FALSE)))","v":44264.987379331302},"Sales Analyst","Analyst","Canada","All the 8 hours baby, all the 8!","Data Not Avaliable"]
[null,"ID0349",56000,"CAD",55068.245289698301,{"$f":"(tblSalaries[[#This Row],[clean Salary (in local currency)]])*(VLOOKUP(tblSalaries[[#This Row],[Currency]],Sheet3!$A$2:$C$31,3,FALSE))*(VLOOKUP(tblSalaries[[#This Row],[Currency]],Sheet1!$N$4:$Q$186,4,FALSE))","v":44264.987379331302},{"$f":"IF(Dashboard!$J$5=VLOOKUP(tblSalaries[[#This Row],[Currency]],Sheet3!$A$2:$B$31,2,FALSE),tblSalaries[[#This Row],[clean Salary (in local currency)]],(tblSalaries[[#This Row],[PPP Adjusted  USD]]/VLOOKUP(Dashboard!$J$5,Sheet3!$B$2:$C$31,2,FALSE)))","v":44264.987379331302},"Online Analyst","Analyst","Canada","4 to 6 hours a day","Data Not Avaliable"]
[null,"ID1666",56000,"CAD",55068.245289698301,{"$f":"(tblSalaries[[#This Row],[clean Salary (in local currency)]])*(VLOOKUP(tblSalaries[[#This Row],[Currency]],Sheet3!$A$2:$C$31,3,FALSE))*(VLOOKUP(tblSalaries[[#This Row],[Currency]],Sheet1!$N$4:$Q$186,4,FALSE))","v":44264.987379331302},{"$f":"IF(Dashboard!$J$5=VLOOKUP(tblSalaries[[#This Row],[Currency]],Sheet3!$A$2:$B$31,2,FALSE),tblSalaries[[#This Row],[clean Salary (in local currency)]],(tblSalaries[[#This Row],[PPP Adjusted  USD]]/VLOOKUP(Dashboard!$J$5,Sheet3!$B$2:$C$31,2,FALSE)))","v":44264.987379331302},"consultant","Consultant","Canada","All the 8 hours baby, all the 8!",1]
[null,"ID0082",30000,"GBP",47285.348162018527,{"$f":"(tblSalaries[[#This Row],[clean Salary (in local currency)]])*(VLOOKUP(tblSalaries[[#This Row],[Currency]],Sheet3!$A$2:$C$31,3,FALSE))*(VLOOKUP(tblSalaries[[#This Row],[Currency]],Sheet1!$N$4:$Q$186,4,FALSE))","v":44219.136149412829},{"$f":"IF(Dashboard!$J$5=VLOOKUP(tblSalaries[[#This Row],[Currency]],Sheet3!$A$2:$B$31,2,FALSE),tblSalaries[[#This Row],[clean Salary (in local currency)]],(tblSalaries[[#This Row],[PPP Adjusted  USD]]/VLOOKUP(Dashboard!$J$5,Sheet3!$B$2:$C$31,2,FALSE)))","v":44219.136149412829},"Database Manager","Manager","UK","4 to 6 hours a day","Data Not Avaliable"]
[null,"ID0207",30000,"GBP",47285.348162018527,{"$f":"(tblSalaries[[#This Row],[clean Salary (in local currency)]])*(VLOOKUP(tblSalaries[[#This Row],[Currency]],Sheet3!$A$2:$C$31,3,FALSE))*(VLOOKUP(tblSalaries[[#This Row],[Currency]],Sheet1!$N$4:$Q$186,4,FALSE))","v":44219.136149412829},{"$f":"IF(Dashboard!$J$5=VLOOKUP(tblSalaries[[#This Row],[Currency]],Sheet3!$A$2:$B$31,2,FALSE),tblSalaries[[#This Row],[clean Salary (in local currency)]],(tblSalaries[[#This Row],[PPP Adjusted  USD]]/VLOOKUP(Dashboard!$J$5,Sheet3!$B$2:$C$31,2,FALSE)))","v":44219.136149412829},"Business Intelligence Analyst","Analyst","UK","2 to 3 hours per day","Data Not Avaliable"]
[null,"ID1079",30000,"GBP",47285.348162018527,{"$f":"(tblSalaries[[#This Row],[clean Salary (in local currency)]])*(VLOOKUP(tblSalaries[[#This Row],[Currency]],Sheet3!$A$2:$C$31,3,FALSE))*(VLOOKUP(tblSalaries[[#This Row],[Currency]],Sheet1!$N$4:$Q$186,4,FALSE))","v":44219.136149412829},{"$f":"IF(Dashboard!$J$5=VLOOKUP(tblSalaries[[#This Row],[Currency]],Sheet3!$A$2:$B$31,2,FALSE),tblSalaries[[#This Row],[clean Salary (in local currency)]],(tblSalaries[[#This Row],[PPP Adjusted  USD]]/VLOOKUP(Dashboard!$J$5,Sheet3!$B$2:$C$31,2,FALSE)))","v":44219.136149412829},"Data Analyst","Analyst","UK","All the 8 hours baby, all the 8!",15]
[null,"ID1097",30000,"GBP",47285.348162018527,{"$f":"(tblSalaries[[#This Row],[clean Salary (in local currency)]])*(VLOOKUP(tblSalaries[[#This Row],[Currency]],Sheet3!$A$2:$C$31,3,FALSE))*(VLOOKUP(tblSalaries[[#This Row],[Currency]],Sheet1!$N$4:$Q$186,4,FALSE))","v":44219.136149412829},{"$f":"IF(Dashboard!$J$5=VLOOKUP(tblSalaries[[#This Row],[Currency]],Sheet3!$A$2:$B$31,2,FALSE),tblSalaries[[#This Row],[clean Salary (in local currency)]],(tblSalaries[[#This Row],[PPP Adjusted  USD]]/VLOOKUP(Dashboard!$J$5,Sheet3!$B$2:$C$31,2,FALSE)))","v":44219.136149412829},"Information Analyst","Analyst","UK","4 to 6 hours a day",4]
[null,"ID1101",30000,"GBP",47285.348162018527,{"$f":"(tblSalaries[[#This Row],[clean Salary (in local currency)]])*(VLOOKUP(tblSalaries[[#This Row],[Currency]],Sheet3!$A$2:$C$31,3,FALSE))*(VLOOKUP(tblSalaries[[#This Row],[Currency]],Sheet1!$N$4:$Q$186,4,FALSE))","v":44219.136149412829},{"$f":"IF(Dashboard!$J$5=VLOOKUP(tblSalaries[[#This Row],[Currency]],Sheet3!$A$2:$B$31,2,FALSE),tblSalaries[[#This Row],[clean Salary (in local currency)]],(tblSalaries[[#This Row],[PPP Adjusted  USD]]/VLOOKUP(Dashboard!$J$5,Sheet3!$B$2:$C$31,2,FALSE)))","v":44219.136149412829},"MDM Executive (Business Analyst)","Analyst","UK","All the 8 hours baby, all the 8!",10]
[null,"ID1149",30000,"GBP",47285.348162018527,{"$f":"(tblSalaries[[#This Row],[clean Salary (in local currency)]])*(VLOOKUP(tblSalaries[[#This Row],[Currency]],Sheet3!$A$2:$C$31,3,FALSE))*(VLOOKUP(tblSalaries[[#This Row],[Currency]],Sheet1!$N$4:$Q$186,4,FALSE))","v":44219.136149412829},{"$f":"IF(Dashboard!$J$5=VLOOKUP(tblSalaries[[#This Row],[Currency]],Sheet3!$A$2:$B$31,2,FALSE),tblSalaries[[#This Row],[clean Salary (in local currency)]],(tblSalaries[[#This Row],[PPP Adjusted  USD]]/VLOOKUP(Dashboard!$J$5,Sheet3!$B$2:$C$31,2,FALSE)))","v":44219.136149412829},"Reporting Accountant","Accountant","UK","2 to 3 hours per day",5]
[null,"ID1243",30000,"GBP",47285.348162018527,{"$f":"(tblSalaries[[#This Row],[clean Salary (in local currency)]])*(VLOOKUP(tblSalaries[[#This Row],[Currency]],Sheet3!$A$2:$C$31,3,FALSE))*(VLOOKUP(tblSalaries[[#This Row],[Currency]],Sheet1!$N$4:$Q$186,4,FALSE))","v":44219.136149412829},{"$f":"IF(Dashboard!$J$5=VLOOKUP(tblSalaries[[#This Row],[Currency]],Sheet3!$A$2:$B$31,2,FALSE),tblSalaries[[#This Row],[clean Salary (in local currency)]],(tblSalaries[[#This Row],[PPP Adjusted  USD]]/VLOOKUP(Dashboard!$J$5,Sheet3!$B$2:$C$31,2,FALSE)))","v":44219.136149412829},"Infection Prevention Surveillance Specialist","Specialist","UK","4 to 6 hours a day",14]
[null,"ID1349",30000,"GBP",47285.348162018527,{"$f":"(tblSalaries[[#This Row],[clean Salary (in local currency)]])*(VLOOKUP(tblSalaries[[#This Row],[Currency]],Sheet3!$A$2:$C$31,3,FALSE))*(VLOOKUP(tblSalaries[[#This Row],[Currency]],Sheet1!$N$4:$Q$186,4,FALSE))","v":44219.136149412829},{"$f":"IF(Dashboard!$J$5=VLOOKUP(tblSalaries[[#This Row],[Currency]],Sheet3!$A$2:$B$31,2,FALSE),tblSalaries[[#This Row],[clean Salary (in local currency)]],(tblSalaries[[#This Row],[PPP Adjusted  USD]]/VLOOKUP(Dashboard!$J$5,Sheet3!$B$2:$C$31,2,FALSE)))","v":44219.136149412829},"Market Analyst","Analyst","UK","All the 8 hours baby, all the 8!",6]
[null,"ID1550",30000,"GBP",47285.348162018527,{"$f":"(tblSalaries[[#This Row],[clean Salary (in local currency)]])*(VLOOKUP(tblSalaries[[#This Row],[Currency]],Sheet3!$A$2:$C$31,3,FALSE))*(VLOOKUP(tblSalaries[[#This Row],[Currency]],Sheet1!$N$4:$Q$186,4,FALSE))","v":44219.136149412829},{"$f":"IF(Dashboard!$J$5=VLOOKUP(tblSalaries[[#This Row],[Currency]],Sheet3!$A$2:$B$31,2,FALSE),tblSalaries[[#This Row],[clean Salary (in local currency)]],(tblSalaries[[#This Row],[PPP Adjusted  USD]]/VLOOKUP(Dashboard!$J$5,Sheet3!$B$2:$C$31,2,FALSE)))","v":44219.136149412829},"Cost Analyst","Analyst","UK","4 to 6 hours a day",7]
[null,"ID0354",44200,"USD",44200,{"$f":"(tblSalaries[[#This Row],[clean Salary (in local currency)]])*(VLOOKUP(tblSalaries[[#This Row],[Currency]],Sheet3!$A$2:$C$31,3,FALSE))*(VLOOKUP(tblSalaries[[#This Row],[Currency]],Sheet1!$N$4:$Q$186,4,FALSE))","v":44200},{"$f":"IF(Dashboard!$J$5=VLOOKUP(tblSalaries[[#This Row],[Currency]],Sheet3!$A$2:$B$31,2,FALSE),tblSalaries[[#This Row],[clean Salary (in local currency)]],(tblSalaries[[#This Row],[PPP Adjusted  USD]]/VLOOKUP(Dashboard!$J$5,Sheet3!$B$2:$C$31,2,FALSE)))","v":44200},"Planning and Analysis Supervisor","Analyst","USA","All the 8 hours baby, all the 8!","Data Not Avaliable"]
[null,"ID0882",40000,"EUR",50815.977559664309,{"$f":"(tblSalaries[[#This Row],[clean Salary (in local currency)]])*(VLOOKUP(tblSalaries[[#This Row],[Currency]],Sheet3!$A$2:$C$31,3,FALSE))*(VLOOKUP(tblSalaries[[#This Row],[Currency]],Sheet1!$N$4:$Q$186,4,FALSE))","v":44026.115439202084},{"$f":"IF(Dashboard!$J$5=VLOOKUP(tblSalaries[[#This Row],[Currency]],Sheet3!$A$2:$B$31,2,FALSE),tblSalaries[[#This Row],[clean Salary (in local currency)]],(tblSalaries[[#This Row],[PPP Adjusted  USD]]/VLOOKUP(Dashboard!$J$5,Sheet3!$B$2:$C$31,2,FALSE)))","v":44026.115439202084},"Medical information analist","Analyst","Netherlands","4 to 6 hours a day",4]
[null,"ID1096",40000,"EUR",50815.977559664309,{"$f":"(tblSalaries[[#This Row],[clean Salary (in local currency)]])*(VLOOKUP(tblSalaries[[#This Row],[Currency]],Sheet3!$A$2:$C$31,3,FALSE))*(VLOOKUP(tblSalaries[[#This Row],[Currency]],Sheet1!$N$4:$Q$186,4,FALSE))","v":44026.115439202084},{"$f":"IF(Dashboard!$J$5=VLOOKUP(tblSalaries[[#This Row],[Currency]],Sheet3!$A$2:$B$31,2,FALSE),tblSalaries[[#This Row],[clean Salary (in local currency)]],(tblSalaries[[#This Row],[PPP Adjusted  USD]]/VLOOKUP(Dashboard!$J$5,Sheet3!$B$2:$C$31,2,FALSE)))","v":44026.115439202084},"Accounting analyst","Analyst","Netherlands","4 to 6 hours a day",3]
[null,"ID1109",40000,"EUR",50815.977559664309,{"$f":"(tblSalaries[[#This Row],[clean Salary (in local currency)]])*(VLOOKUP(tblSalaries[[#This Row],[Currency]],Sheet3!$A$2:$C$31,3,FALSE))*(VLOOKUP(tblSalaries[[#This Row],[Currency]],Sheet1!$N$4:$Q$186,4,FALSE))","v":44026.115439202084},{"$f":"IF(Dashboard!$J$5=VLOOKUP(tblSalaries[[#This Row],[Currency]],Sheet3!$A$2:$B$31,2,FALSE),tblSalaries[[#This Row],[clean Salary (in local currency)]],(tblSalaries[[#This Row],[PPP Adjusted  USD]]/VLOOKUP(Dashboard!$J$5,Sheet3!$B$2:$C$31,2,FALSE)))","v":44026.115439202084},"Actuary","Accountant","Portugal","2 to 3 hours per day",10]
[null,"ID1358",40000,"EUR",50815.977559664309,{"$f":"(tblSalaries[[#This Row],[clean Salary (in local currency)]])*(VLOOKUP(tblSalaries[[#This Row],[Currency]],Sheet3!$A$2:$C$31,3,FALSE))*(VLOOKUP(tblSalaries[[#This Row],[Currency]],Sheet1!$N$4:$Q$186,4,FALSE))","v":44026.115439202084},{"$f":"IF(Dashboard!$J$5=VLOOKUP(tblSalaries[[#This Row],[Currency]],Sheet3!$A$2:$B$31,2,FALSE),tblSalaries[[#This Row],[clean Salary (in local currency)]],(tblSalaries[[#This Row],[PPP Adjusted  USD]]/VLOOKUP(Dashboard!$J$5,Sheet3!$B$2:$C$31,2,FALSE)))","v":44026.115439202084},"officer","Manager","Austria","4 to 6 hours a day",20]
[null,"ID1699",40000,"EUR",50815.977559664309,{"$f":"(tblSalaries[[#This Row],[clean Salary (in local currency)]])*(VLOOKUP(tblSalaries[[#This Row],[Currency]],Sheet3!$A$2:$C$31,3,FALSE))*(VLOOKUP(tblSalaries[[#This Row],[Currency]],Sheet1!$N$4:$Q$186,4,FALSE))","v":44026.115439202084},{"$f":"IF(Dashboard!$J$5=VLOOKUP(tblSalaries[[#This Row],[Currency]],Sheet3!$A$2:$B$31,2,FALSE),tblSalaries[[#This Row],[clean Salary (in local currency)]],(tblSalaries[[#This Row],[PPP Adjusted  USD]]/VLOOKUP(Dashboard!$J$5,Sheet3!$B$2:$C$31,2,FALSE)))","v":44026.115439202084},"Financial Analyst","Analyst","Germany","2 to 3 hours per day",3]
[null,"ID0009",44000,"USD",44000,{"$f":"(tblSalaries[[#This Row],[clean Salary (in local currency)]])*(VLOOKUP(tblSalaries[[#This Row],[Currency]],Sheet3!$A$2:$C$31,3,FALSE))*(VLOOKUP(tblSalaries[[#This Row],[Currency]],Sheet1!$N$4:$Q$186,4,FALSE))","v":44000},{"$f":"IF(Dashboard!$J$5=VLOOKUP(tblSalaries[[#This Row],[Currency]],Sheet3!$A$2:$B$31,2,FALSE),tblSalaries[[#This Row],[clean Salary (in local currency)]],(tblSalaries[[#This Row],[PPP Adjusted  USD]]/VLOOKUP(Dashboard!$J$5,Sheet3!$B$2:$C$31,2,FALSE)))","v":44000},"CFO","CXO or Top Mgmt.","Portugal","1 or 2 hours a day","Data Not Avaliable"]
[null,"ID0127",44000,"USD",44000,{"$f":"(tblSalaries[[#This Row],[clean Salary (in local currency)]])*(VLOOKUP(tblSalaries[[#This Row],[Currency]],Sheet3!$A$2:$C$31,3,FALSE))*(VLOOKUP(tblSalaries[[#This Row],[Currency]],Sheet1!$N$4:$Q$186,4,FALSE))","v":44000},{"$f":"IF(Dashboard!$J$5=VLOOKUP(tblSalaries[[#This Row],[Currency]],Sheet3!$A$2:$B$31,2,FALSE),tblSalaries[[#This Row],[clean Salary (in local currency)]],(tblSalaries[[#This Row],[PPP Adjusted  USD]]/VLOOKUP(Dashboard!$J$5,Sheet3!$B$2:$C$31,2,FALSE)))","v":44000},"School Tech Coordinator","Manager","USA","1 or 2 hours a day","Data Not Avaliable"]
[null,"ID0389",44000,"USD",44000,{"$f":"(tblSalaries[[#This Row],[clean Salary (in local currency)]])*(VLOOKUP(tblSalaries[[#This Row],[Currency]],Sheet3!$A$2:$C$31,3,FALSE))*(VLOOKUP(tblSalaries[[#This Row],[Currency]],Sheet1!$N$4:$Q$186,4,FALSE))","v":44000},{"$f":"IF(Dashboard!$J$5=VLOOKUP(tblSalaries[[#This Row],[Currency]],Sheet3!$A$2:$B$31,2,FALSE),tblSalaries[[#This Row],[clean Salary (in local currency)]],(tblSalaries[[#This Row],[PPP Adjusted  USD]]/VLOOKUP(Dashboard!$J$5,Sheet3!$B$2:$C$31,2,FALSE)))","v":44000},"continuous improvement team member","Analyst","USA","2 to 3 hours per day","Data Not Avaliable"]
[null,"ID1392",44000,"USD",44000,{"$f":"(tblSalaries[[#This Row],[clean Salary (in local currency)]])*(VLOOKUP(tblSalaries[[#This Row],[Currency]],Sheet3!$A$2:$C$31,3,FALSE))*(VLOOKUP(tblSalaries[[#This Row],[Currency]],Sheet1!$N$4:$Q$186,4,FALSE))","v":44000},{"$f":"IF(Dashboard!$J$5=VLOOKUP(tblSalaries[[#This Row],[Currency]],Sheet3!$A$2:$B$31,2,FALSE),tblSalaries[[#This Row],[clean Salary (in local currency)]],(tblSalaries[[#This Row],[PPP Adjusted  USD]]/VLOOKUP(Dashboard!$J$5,Sheet3!$B$2:$C$31,2,FALSE)))","v":44000},"Test engineer","Engineer","USA","4 to 6 hours a day",15]
[null,"ID1589",44000,"USD",44000,{"$f":"(tblSalaries[[#This Row],[clean Salary (in local currency)]])*(VLOOKUP(tblSalaries[[#This Row],[Currency]],Sheet3!$A$2:$C$31,3,FALSE))*(VLOOKUP(tblSalaries[[#This Row],[Currency]],Sheet1!$N$4:$Q$186,4,FALSE))","v":44000},{"$f":"IF(Dashboard!$J$5=VLOOKUP(tblSalaries[[#This Row],[Currency]],Sheet3!$A$2:$B$31,2,FALSE),tblSalaries[[#This Row],[clean Salary (in local currency)]],(tblSalaries[[#This Row],[PPP Adjusted  USD]]/VLOOKUP(Dashboard!$J$5,Sheet3!$B$2:$C$31,2,FALSE)))","v":44000},"Quality Assurance Analyst","Analyst","USA","4 to 6 hours a day",3.5]
[null,"ID0398",1440000,"BDT",17598.017290051986,{"$f":"(tblSalaries[[#This Row],[clean Salary (in local currency)]])*(VLOOKUP(tblSalaries[[#This Row],[Currency]],Sheet3!$A$2:$C$31,3,FALSE))*(VLOOKUP(tblSalaries[[#This Row],[Currency]],Sheet1!$N$4:$Q$186,4,FALSE))","v":43940.395832632195},{"$f":"IF(Dashboard!$J$5=VLOOKUP(tblSalaries[[#This Row],[Currency]],Sheet3!$A$2:$B$31,2,FALSE),tblSalaries[[#This Row],[clean Salary (in local currency)]],(tblSalaries[[#This Row],[PPP Adjusted  USD]]/VLOOKUP(Dashboard!$J$5,Sheet3!$B$2:$C$31,2,FALSE)))","v":43940.395832632195},"Computer Operator","Analyst","Bangladesh","2 to 3 hours per day","Data Not Avaliable"]
[null,"ID0041",70000,"AUD",71393.675948184507,{"$f":"(tblSalaries[[#This Row],[clean Salary (in local currency)]])*(VLOOKUP(tblSalaries[[#This Row],[Currency]],Sheet3!$A$2:$C$31,3,FALSE))*(VLOOKUP(tblSalaries[[#This Row],[Currency]],Sheet1!$N$4:$Q$186,4,FALSE))","v":43869.984073902771},{"$f":"IF(Dashboard!$J$5=VLOOKUP(tblSalaries[[#This Row],[Currency]],Sheet3!$A$2:$B$31,2,FALSE),tblSalaries[[#This Row],[clean Salary (in local currency)]],(tblSalaries[[#This Row],[PPP Adjusted  USD]]/VLOOKUP(Dashboard!$J$5,Sheet3!$B$2:$C$31,2,FALSE)))","v":43869.984073902771},"consultant","Consultant","Australia","2 to 3 hours per day","Data Not Avaliable"]
[null,"ID0984",70000,"AUD",71393.675948184507,{"$f":"(tblSalaries[[#This Row],[clean Salary (in local currency)]])*(VLOOKUP(tblSalaries[[#This Row],[Currency]],Sheet3!$A$2:$C$31,3,FALSE))*(VLOOKUP(tblSalaries[[#This Row],[Currency]],Sheet1!$N$4:$Q$186,4,FALSE))","v":43869.984073902771},{"$f":"IF(Dashboard!$J$5=VLOOKUP(tblSalaries[[#This Row],[Currency]],Sheet3!$A$2:$B$31,2,FALSE),tblSalaries[[#This Row],[clean Salary (in local currency)]],(tblSalaries[[#This Row],[PPP Adjusted  USD]]/VLOOKUP(Dashboard!$J$5,Sheet3!$B$2:$C$31,2,FALSE)))","v":43869.984073902771},"Business Development","Manager","Australia","4 to 6 hours a day",7]
[null,"ID1012",70000,"AUD",71393.675948184507,{"$f":"(tblSalaries[[#This Row],[clean Salary (in local currency)]])*(VLOOKUP(tblSalaries[[#This Row],[Currency]],Sheet3!$A$2:$C$31,3,FALSE))*(VLOOKUP(tblSalaries[[#This Row],[Currency]],Sheet1!$N$4:$Q$186,4,FALSE))","v":43869.984073902771},{"$f":"IF(Dashboard!$J$5=VLOOKUP(tblSalaries[[#This Row],[Currency]],Sheet3!$A$2:$B$31,2,FALSE),tblSalaries[[#This Row],[clean Salary (in local currency)]],(tblSalaries[[#This Row],[PPP Adjusted  USD]]/VLOOKUP(Dashboard!$J$5,Sheet3!$B$2:$C$31,2,FALSE)))","v":43869.984073902771},"Director","CXO or Top Mgmt.","Australia","All the 8 hours baby, all the 8!",2]
[null,"ID1442",70000,"AUD",71393.675948184507,{"$f":"(tblSalaries[[#This Row],[clean Salary (in local currency)]])*(VLOOKUP(tblSalaries[[#This Row],[Currency]],Sheet3!$A$2:$C$31,3,FALSE))*(VLOOKUP(tblSalaries[[#This Row],[Currency]],Sheet1!$N$4:$Q$186,4,FALSE))","v":43869.984073902771},{"$f":"IF(Dashboard!$J$5=VLOOKUP(tblSalaries[[#This Row],[Currency]],Sheet3!$A$2:$B$31,2,FALSE),tblSalaries[[#This Row],[clean Salary (in local currency)]],(tblSalaries[[#This Row],[PPP Adjusted  USD]]/VLOOKUP(Dashboard!$J$5,Sheet3!$B$2:$C$31,2,FALSE)))","v":43869.984073902771},"Assistant Accountant","Accountant","Australia","2 to 3 hours per day",5]
[null,"ID1460",264000,"ZAR",32187.34988380854,{"$f":"(tblSalaries[[#This Row],[clean Salary (in local currency)]])*(VLOOKUP(tblSalaries[[#This Row],[Currency]],Sheet3!$A$2:$C$31,3,FALSE))*(VLOOKUP(tblSalaries[[#This Row],[Currency]],Sheet1!$N$4:$Q$186,4,FALSE))","v":43786.892304822584},{"$f":"IF(Dashboard!$J$5=VLOOKUP(tblSalaries[[#This Row],[Currency]],Sheet3!$A$2:$B$31,2,FALSE),tblSalaries[[#This Row],[clean Salary (in local currency)]],(tblSalaries[[#This Row],[PPP Adjusted  USD]]/VLOOKUP(Dashboard!$J$5,Sheet3!$B$2:$C$31,2,FALSE)))","v":43786.892304822584},"Analyst","Analyst","South Africa","All the 8 hours baby, all the 8!",2]
[null,"ID0860",43600,"USD",43600,{"$f":"(tblSalaries[[#This Row],[clean Salary (in local currency)]])*(VLOOKUP(tblSalaries[[#This Row],[Currency]],Sheet3!$A$2:$C$31,3,FALSE))*(VLOOKUP(tblSalaries[[#This Row],[Currency]],Sheet1!$N$4:$Q$186,4,FALSE))","v":43600},{"$f":"IF(Dashboard!$J$5=VLOOKUP(tblSalaries[[#This Row],[Currency]],Sheet3!$A$2:$B$31,2,FALSE),tblSalaries[[#This Row],[clean Salary (in local currency)]],(tblSalaries[[#This Row],[PPP Adjusted  USD]]/VLOOKUP(Dashboard!$J$5,Sheet3!$B$2:$C$31,2,FALSE)))","v":43600},"Data Analyst","Analyst","USA","4 to 6 hours a day",5]
[null,"ID1677",39600,"EUR",50307.817784067665,{"$f":"(tblSalaries[[#This Row],[clean Salary (in local currency)]])*(VLOOKUP(tblSalaries[[#This Row],[Currency]],Sheet3!$A$2:$C$31,3,FALSE))*(VLOOKUP(tblSalaries[[#This Row],[Currency]],Sheet1!$N$4:$Q$186,4,FALSE))","v":43585.854284810062},{"$f":"IF(Dashboard!$J$5=VLOOKUP(tblSalaries[[#This Row],[Currency]],Sheet3!$A$2:$B$31,2,FALSE),tblSalaries[[#This Row],[clean Salary (in local currency)]],(tblSalaries[[#This Row],[PPP Adjusted  USD]]/VLOOKUP(Dashboard!$J$5,Sheet3!$B$2:$C$31,2,FALSE)))","v":43585.854284810062},"Maintenance Manager","Manager","Europe","1 or 2 hours a day",5]
[null,"ID0642",55000,"CAD",54084.883766667976,{"$f":"(tblSalaries[[#This Row],[clean Salary (in local currency)]])*(VLOOKUP(tblSalaries[[#This Row],[Currency]],Sheet3!$A$2:$C$31,3,FALSE))*(VLOOKUP(tblSalaries[[#This Row],[Currency]],Sheet1!$N$4:$Q$186,4,FALSE))","v":43474.541176128958},{"$f":"IF(Dashboard!$J$5=VLOOKUP(tblSalaries[[#This Row],[Currency]],Sheet3!$A$2:$B$31,2,FALSE),tblSalaries[[#This Row],[clean Salary (in local currency)]],(tblSalaries[[#This Row],[PPP Adjusted  USD]]/VLOOKUP(Dashboard!$J$5,Sheet3!$B$2:$C$31,2,FALSE)))","v":43474.541176128958},"Project coordinator","Manager","Canada","4 to 6 hours a day",5]
[null,"ID0293",43200,"USD",43200,{"$f":"(tblSalaries[[#This Row],[clean Salary (in local currency)]])*(VLOOKUP(tblSalaries[[#This Row],[Currency]],Sheet3!$A$2:$C$31,3,FALSE))*(VLOOKUP(tblSalaries[[#This Row],[Currency]],Sheet1!$N$4:$Q$186,4,FALSE))","v":43200},{"$f":"IF(Dashboard!$J$5=VLOOKUP(tblSalaries[[#This Row],[Currency]],Sheet3!$A$2:$B$31,2,FALSE),tblSalaries[[#This Row],[clean Salary (in local currency)]],(tblSalaries[[#This Row],[PPP Adjusted  USD]]/VLOOKUP(Dashboard!$J$5,Sheet3!$B$2:$C$31,2,FALSE)))","v":43200},"Projects Planner","Manager","Saudi Arabia","4 to 6 hours a day","Data Not Avaliable"]
[null,"ID0212",43000,"USD",43000,{"$f":"(tblSalaries[[#This Row],[clean Salary (in local currency)]])*(VLOOKUP(tblSalaries[[#This Row],[Currency]],Sheet3!$A$2:$C$31,3,FALSE))*(VLOOKUP(tblSalaries[[#This Row],[Currency]],Sheet1!$N$4:$Q$186,4,FALSE))","v":43000},{"$f":"IF(Dashboard!$J$5=VLOOKUP(tblSalaries[[#This Row],[Currency]],Sheet3!$A$2:$B$31,2,FALSE),tblSalaries[[#This Row],[clean Salary (in local currency)]],(tblSalaries[[#This Row],[PPP Adjusted  USD]]/VLOOKUP(Dashboard!$J$5,Sheet3!$B$2:$C$31,2,FALSE)))","v":43000},"Reporting Analyst Team Lead","Analyst","USA","All the 8 hours baby, all the 8!","Data Not Avaliable"]
[null,"ID0545",43000,"USD",43000,{"$f":"(tblSalaries[[#This Row],[clean Salary (in local currency)]])*(VLOOKUP(tblSalaries[[#This Row],[Currency]],Sheet3!$A$2:$C$31,3,FALSE))*(VLOOKUP(tblSalaries[[#This Row],[Currency]],Sheet1!$N$4:$Q$186,4,FALSE))","v":43000},{"$f":"IF(Dashboard!$J$5=VLOOKUP(tblSalaries[[#This Row],[Currency]],Sheet3!$A$2:$B$31,2,FALSE),tblSalaries[[#This Row],[clean Salary (in local currency)]],(tblSalaries[[#This Row],[PPP Adjusted  USD]]/VLOOKUP(Dashboard!$J$5,Sheet3!$B$2:$C$31,2,FALSE)))","v":43000},"Accountant","Accountant","USA","All the 8 hours baby, all the 8!","Data Not Avaliable"]
[null,"ID0888",43000,"USD",43000,{"$f":"(tblSalaries[[#This Row],[clean Salary (in local currency)]])*(VLOOKUP(tblSalaries[[#This Row],[Currency]],Sheet3!$A$2:$C$31,3,FALSE))*(VLOOKUP(tblSalaries[[#This Row],[Currency]],Sheet1!$N$4:$Q$186,4,FALSE))","v":43000},{"$f":"IF(Dashboard!$J$5=VLOOKUP(tblSalaries[[#This Row],[Currency]],Sheet3!$A$2:$B$31,2,FALSE),tblSalaries[[#This Row],[clean Salary (in local currency)]],(tblSalaries[[#This Row],[PPP Adjusted  USD]]/VLOOKUP(Dashboard!$J$5,Sheet3!$B$2:$C$31,2,FALSE)))","v":43000},"Financial Analyst","Analyst","USA","4 to 6 hours a day",1]
[null,"ID1270",43000,"USD",43000,{"$f":"(tblSalaries[[#This Row],[clean Salary (in local currency)]])*(VLOOKUP(tblSalaries[[#This Row],[Currency]],Sheet3!$A$2:$C$31,3,FALSE))*(VLOOKUP(tblSalaries[[#This Row],[Currency]],Sheet1!$N$4:$Q$186,4,FALSE))","v":43000},{"$f":"IF(Dashboard!$J$5=VLOOKUP(tblSalaries[[#This Row],[Currency]],Sheet3!$A$2:$B$31,2,FALSE),tblSalaries[[#This Row],[clean Salary (in local currency)]],(tblSalaries[[#This Row],[PPP Adjusted  USD]]/VLOOKUP(Dashboard!$J$5,Sheet3!$B$2:$C$31,2,FALSE)))","v":43000},"Operations Support Officer","Manager","Australia","2 to 3 hours per day",4]
[null,"ID1898",43000,"USD",43000,{"$f":"(tblSalaries[[#This Row],[clean Salary (in local currency)]])*(VLOOKUP(tblSalaries[[#This Row],[Currency]],Sheet3!$A$2:$C$31,3,FALSE))*(VLOOKUP(tblSalaries[[#This Row],[Currency]],Sheet1!$N$4:$Q$186,4,FALSE))","v":43000},{"$f":"IF(Dashboard!$J$5=VLOOKUP(tblSalaries[[#This Row],[Currency]],Sheet3!$A$2:$B$31,2,FALSE),tblSalaries[[#This Row],[clean Salary (in local currency)]],(tblSalaries[[#This Row],[PPP Adjusted  USD]]/VLOOKUP(Dashboard!$J$5,Sheet3!$B$2:$C$31,2,FALSE)))","v":43000},"Performance Improvement Analyst","Analyst","USA","4 to 6 hours a day",5]
[null,"ID1703",38920,"EUR",49443.946165553374,{"$f":"(tblSalaries[[#This Row],[clean Salary (in local currency)]])*(VLOOKUP(tblSalaries[[#This Row],[Currency]],Sheet3!$A$2:$C$31,3,FALSE))*(VLOOKUP(tblSalaries[[#This Row],[Currency]],Sheet1!$N$4:$Q$186,4,FALSE))","v":42837.410322343632},{"$f":"IF(Dashboard!$J$5=VLOOKUP(tblSalaries[[#This Row],[Currency]],Sheet3!$A$2:$B$31,2,FALSE),tblSalaries[[#This Row],[clean Salary (in local currency)]],(tblSalaries[[#This Row],[PPP Adjusted  USD]]/VLOOKUP(Dashboard!$J$5,Sheet3!$B$2:$C$31,2,FALSE)))","v":42837.410322343632},"functional analyst","Analyst","Belgium","4 to 6 hours a day",1.5]
[null,"ID1685",71000,"NZD",56628.754645950656,{"$f":"(tblSalaries[[#This Row],[clean Salary (in local currency)]])*(VLOOKUP(tblSalaries[[#This Row],[Currency]],Sheet3!$A$2:$C$31,3,FALSE))*(VLOOKUP(tblSalaries[[#This Row],[Currency]],Sheet1!$N$4:$Q$186,4,FALSE))","v":42753.133539197464},{"$f":"IF(Dashboard!$J$5=VLOOKUP(tblSalaries[[#This Row],[Currency]],Sheet3!$A$2:$B$31,2,FALSE),tblSalaries[[#This Row],[clean Salary (in local currency)]],(tblSalaries[[#This Row],[PPP Adjusted  USD]]/VLOOKUP(Dashboard!$J$5,Sheet3!$B$2:$C$31,2,FALSE)))","v":42753.133539197464},"Business Analyst","Analyst","New Zealand","All the 8 hours baby, all the 8!",6]
[null,"ID0325",29000,"GBP",45709.169889951241,{"$f":"(tblSalaries[[#This Row],[clean Salary (in local currency)]])*(VLOOKUP(tblSalaries[[#This Row],[Currency]],Sheet3!$A$2:$C$31,3,FALSE))*(VLOOKUP(tblSalaries[[#This Row],[Currency]],Sheet1!$N$4:$Q$186,4,FALSE))","v":42745.164944432399},{"$f":"IF(Dashboard!$J$5=VLOOKUP(tblSalaries[[#This Row],[Currency]],Sheet3!$A$2:$B$31,2,FALSE),tblSalaries[[#This Row],[clean Salary (in local currency)]],(tblSalaries[[#This Row],[PPP Adjusted  USD]]/VLOOKUP(Dashboard!$J$5,Sheet3!$B$2:$C$31,2,FALSE)))","v":42745.164944432399},"ICT Technical Analyst","Analyst","UK","4 to 6 hours a day","Data Not Avaliable"]
[null,"ID0800",29000,"GBP",45709.169889951241,{"$f":"(tblSalaries[[#This Row],[clean Salary (in local currency)]])*(VLOOKUP(tblSalaries[[#This Row],[Currency]],Sheet3!$A$2:$C$31,3,FALSE))*(VLOOKUP(tblSalaries[[#This Row],[Currency]],Sheet1!$N$4:$Q$186,4,FALSE))","v":42745.164944432399},{"$f":"IF(Dashboard!$J$5=VLOOKUP(tblSalaries[[#This Row],[Currency]],Sheet3!$A$2:$B$31,2,FALSE),tblSalaries[[#This Row],[clean Salary (in local currency)]],(tblSalaries[[#This Row],[PPP Adjusted  USD]]/VLOOKUP(Dashboard!$J$5,Sheet3!$B$2:$C$31,2,FALSE)))","v":42745.164944432399},"Reporting Assistant","Reporting","UK","2 to 3 hours per day",15]
[null,"ID1141",29000,"GBP",45709.169889951241,{"$f":"(tblSalaries[[#This Row],[clean Salary (in local currency)]])*(VLOOKUP(tblSalaries[[#This Row],[Currency]],Sheet3!$A$2:$C$31,3,FALSE))*(VLOOKUP(tblSalaries[[#This Row],[Currency]],Sheet1!$N$4:$Q$186,4,FALSE))","v":42745.164944432399},{"$f":"IF(Dashboard!$J$5=VLOOKUP(tblSalaries[[#This Row],[Currency]],Sheet3!$A$2:$B$31,2,FALSE),tblSalaries[[#This Row],[clean Salary (in local currency)]],(tblSalaries[[#This Row],[PPP Adjusted  USD]]/VLOOKUP(Dashboard!$J$5,Sheet3!$B$2:$C$31,2,FALSE)))","v":42745.164944432399},"Financial Analyst","Analyst","UK","4 to 6 hours a day",14]
[null,"ID1233",29000,"GBP",45709.169889951241,{"$f":"(tblSalaries[[#This Row],[clean Salary (in local currency)]])*(VLOOKUP(tblSalaries[[#This Row],[Currency]],Sheet3!$A$2:$C$31,3,FALSE))*(VLOOKUP(tblSalaries[[#This Row],[Currency]],Sheet1!$N$4:$Q$186,4,FALSE))","v":42745.164944432399},{"$f":"IF(Dashboard!$J$5=VLOOKUP(tblSalaries[[#This Row],[Currency]],Sheet3!$A$2:$B$31,2,FALSE),tblSalaries[[#This Row],[clean Salary (in local currency)]],(tblSalaries[[#This Row],[PPP Adjusted  USD]]/VLOOKUP(Dashboard!$J$5,Sheet3!$B$2:$C$31,2,FALSE)))","v":42745.164944432399},"Financial Accountant","Accountant","UK","2 to 3 hours per day",8]
[null,"ID0029",900000,"INR",16027.125018698311,{"$f":"(tblSalaries[[#This Row],[clean Salary (in local currency)]])*(VLOOKUP(tblSalaries[[#This Row],[Currency]],Sheet3!$A$2:$C$31,3,FALSE))*(VLOOKUP(tblSalaries[[#This Row],[Currency]],Sheet1!$N$4:$Q$186,4,FALSE))","v":42624.920113828608},{"$f":"IF(Dashboard!$J$5=VLOOKUP(tblSalaries[[#This Row],[Currency]],Sheet3!$A$2:$B$31,2,FALSE),tblSalaries[[#This Row],[clean Salary (in local currency)]],(tblSalaries[[#This Row],[PPP Adjusted  USD]]/VLOOKUP(Dashboard!$J$5,Sheet3!$B$2:$C$31,2,FALSE)))","v":42624.920113828608},"Applications Engineer","Engineer","India","1 or 2 hours a day","Data Not Avaliable"]
[null,"ID0454",900000,"INR",16027.125018698311,{"$f":"(tblSalaries[[#This Row],[clean Salary (in local currency)]])*(VLOOKUP(tblSalaries[[#This Row],[Currency]],Sheet3!$A$2:$C$31,3,FALSE))*(VLOOKUP(tblSalaries[[#This Row],[Currency]],Sheet1!$N$4:$Q$186,4,FALSE))","v":42624.920113828608},{"$f":"IF(Dashboard!$J$5=VLOOKUP(tblSalaries[[#This Row],[Currency]],Sheet3!$A$2:$B$31,2,FALSE),tblSalaries[[#This Row],[clean Salary (in local currency)]],(tblSalaries[[#This Row],[PPP Adjusted  USD]]/VLOOKUP(Dashboard!$J$5,Sheet3!$B$2:$C$31,2,FALSE)))","v":42624.920113828608},"Regional Manager","Manager","India","1 or 2 hours a day","Data Not Avaliable"]
[null,"ID0839",900000,"INR",16027.125018698311,{"$f":"(tblSalaries[[#This Row],[clean Salary (in local currency)]])*(VLOOKUP(tblSalaries[[#This Row],[Currency]],Sheet3!$A$2:$C$31,3,FALSE))*(VLOOKUP(tblSalaries[[#This Row],[Currency]],Sheet1!$N$4:$Q$186,4,FALSE))","v":42624.920113828608},{"$f":"IF(Dashboard!$J$5=VLOOKUP(tblSalaries[[#This Row],[Currency]],Sheet3!$A$2:$B$31,2,FALSE),tblSalaries[[#This Row],[clean Salary (in local currency)]],(tblSalaries[[#This Row],[PPP Adjusted  USD]]/VLOOKUP(Dashboard!$J$5,Sheet3!$B$2:$C$31,2,FALSE)))","v":42624.920113828608},"Deputy Manager","Manager","India","1 or 2 hours a day",9]
[null,"ID1130",900000,"INR",16027.125018698311,{"$f":"(tblSalaries[[#This Row],[clean Salary (in local currency)]])*(VLOOKUP(tblSalaries[[#This Row],[Currency]],Sheet3!$A$2:$C$31,3,FALSE))*(VLOOKUP(tblSalaries[[#This Row],[Currency]],Sheet1!$N$4:$Q$186,4,FALSE))","v":42624.920113828608},{"$f":"IF(Dashboard!$J$5=VLOOKUP(tblSalaries[[#This Row],[Currency]],Sheet3!$A$2:$B$31,2,FALSE),tblSalaries[[#This Row],[clean Salary (in local currency)]],(tblSalaries[[#This Row],[PPP Adjusted  USD]]/VLOOKUP(Dashboard!$J$5,Sheet3!$B$2:$C$31,2,FALSE)))","v":42624.920113828608},"officer","Manager","India","4 to 6 hours a day",22]
[null,"ID1210",900000,"INR",16027.125018698311,{"$f":"(tblSalaries[[#This Row],[clean Salary (in local currency)]])*(VLOOKUP(tblSalaries[[#This Row],[Currency]],Sheet3!$A$2:$C$31,3,FALSE))*(VLOOKUP(tblSalaries[[#This Row],[Currency]],Sheet1!$N$4:$Q$186,4,FALSE))","v":42624.920113828608},{"$f":"IF(Dashboard!$J$5=VLOOKUP(tblSalaries[[#This Row],[Currency]],Sheet3!$A$2:$B$31,2,FALSE),tblSalaries[[#This Row],[clean Salary (in local currency)]],(tblSalaries[[#This Row],[PPP Adjusted  USD]]/VLOOKUP(Dashboard!$J$5,Sheet3!$B$2:$C$31,2,FALSE)))","v":42624.920113828608},"Manager F & A","Manager","India","1 or 2 hours a day",13]
[null,"ID1285",900000,"INR",16027.125018698311,{"$f":"(tblSalaries[[#This Row],[clean Salary (in local currency)]])*(VLOOKUP(tblSalaries[[#This Row],[Currency]],Sheet3!$A$2:$C$31,3,FALSE))*(VLOOKUP(tblSalaries[[#This Row],[Currency]],Sheet1!$N$4:$Q$186,4,FALSE))","v":42624.920113828608},{"$f":"IF(Dashboard!$J$5=VLOOKUP(tblSalaries[[#This Row],[Currency]],Sheet3!$A$2:$B$31,2,FALSE),tblSalaries[[#This Row],[clean Salary (in local currency)]],(tblSalaries[[#This Row],[PPP Adjusted  USD]]/VLOOKUP(Dashboard!$J$5,Sheet3!$B$2:$C$31,2,FALSE)))","v":42624.920113828608},"RENTAL INVENTORY CONTROLLER","Controller","India","All the 8 hours baby, all the 8!",8]
[null,"ID1451",900000,"INR",16027.125018698311,{"$f":"(tblSalaries[[#This Row],[clean Salary (in local currency)]])*(VLOOKUP(tblSalaries[[#This Row],[Currency]],Sheet3!$A$2:$C$31,3,FALSE))*(VLOOKUP(tblSalaries[[#This Row],[Currency]],Sheet1!$N$4:$Q$186,4,FALSE))","v":42624.920113828608},{"$f":"IF(Dashboard!$J$5=VLOOKUP(tblSalaries[[#This Row],[Currency]],Sheet3!$A$2:$B$31,2,FALSE),tblSalaries[[#This Row],[clean Salary (in local currency)]],(tblSalaries[[#This Row],[PPP Adjusted  USD]]/VLOOKUP(Dashboard!$J$5,Sheet3!$B$2:$C$31,2,FALSE)))","v":42624.920113828608},"Data Analyst","Analyst","India","4 to 6 hours a day",4]
[null,"ID1834",900000,"INR",16027.125018698311,{"$f":"(tblSalaries[[#This Row],[clean Salary (in local currency)]])*(VLOOKUP(tblSalaries[[#This Row],[Currency]],Sheet3!$A$2:$C$31,3,FALSE))*(VLOOKUP(tblSalaries[[#This Row],[Currency]],Sheet1!$N$4:$Q$186,4,FALSE))","v":42624.920113828608},{"$f":"IF(Dashboard!$J$5=VLOOKUP(tblSalaries[[#This Row],[Currency]],Sheet3!$A$2:$B$31,2,FALSE),tblSalaries[[#This Row],[clean Salary (in local currency)]],(tblSalaries[[#This Row],[PPP Adjusted  USD]]/VLOOKUP(Dashboard!$J$5,Sheet3!$B$2:$C$31,2,FALSE)))","v":42624.920113828608},"Lead ","Manager","India","2 to 3 hours per day",6]
[null,"ID1306",68000,"AUD",69353.856635379227,{"$f":"(tblSalaries[[#This Row],[clean Salary (in local currency)]])*(VLOOKUP(tblSalaries[[#This Row],[Currency]],Sheet3!$A$2:$C$31,3,FALSE))*(VLOOKUP(tblSalaries[[#This Row],[Currency]],Sheet1!$N$4:$Q$186,4,FALSE))","v":42616.555957505545},{"$f":"IF(Dashboard!$J$5=VLOOKUP(tblSalaries[[#This Row],[Currency]],Sheet3!$A$2:$B$31,2,FALSE),tblSalaries[[#This Row],[clean Salary (in local currency)]],(tblSalaries[[#This Row],[PPP Adjusted  USD]]/VLOOKUP(Dashboard!$J$5,Sheet3!$B$2:$C$31,2,FALSE)))","v":42616.555957505545},"Project Support Officer","Manager","Australia","4 to 6 hours a day",10]
[null,"ID0574",28800,"GBP",45393.934235537781,{"$f":"(tblSalaries[[#This Row],[clean Salary (in local currency)]])*(VLOOKUP(tblSalaries[[#This Row],[Currency]],Sheet3!$A$2:$C$31,3,FALSE))*(VLOOKUP(tblSalaries[[#This Row],[Currency]],Sheet1!$N$4:$Q$186,4,FALSE))","v":42450.370703436311},{"$f":"IF(Dashboard!$J$5=VLOOKUP(tblSalaries[[#This Row],[Currency]],Sheet3!$A$2:$B$31,2,FALSE),tblSalaries[[#This Row],[clean Salary (in local currency)]],(tblSalaries[[#This Row],[PPP Adjusted  USD]]/VLOOKUP(Dashboard!$J$5,Sheet3!$B$2:$C$31,2,FALSE)))","v":42450.370703436311},"Finance Manager","Manager","UK","4 to 6 hours a day",27]
[null,"ID1827",42307,"USD",42307,{"$f":"(tblSalaries[[#This Row],[clean Salary (in local currency)]])*(VLOOKUP(tblSalaries[[#This Row],[Currency]],Sheet3!$A$2:$C$31,3,FALSE))*(VLOOKUP(tblSalaries[[#This Row],[Currency]],Sheet1!$N$4:$Q$186,4,FALSE))","v":42307},{"$f":"IF(Dashboard!$J$5=VLOOKUP(tblSalaries[[#This Row],[Currency]],Sheet3!$A$2:$B$31,2,FALSE),tblSalaries[[#This Row],[clean Salary (in local currency)]],(tblSalaries[[#This Row],[PPP Adjusted  USD]]/VLOOKUP(Dashboard!$J$5,Sheet3!$B$2:$C$31,2,FALSE)))","v":42307},"purchasing operations administrator","Analyst","USA","2 to 3 hours per day",25]
[null,"ID1189",216000,"AED",58799.349940520107,{"$f":"(tblSalaries[[#This Row],[clean Salary (in local currency)]])*(VLOOKUP(tblSalaries[[#This Row],[Currency]],Sheet3!$A$2:$C$31,3,FALSE))*(VLOOKUP(tblSalaries[[#This Row],[Currency]],Sheet1!$N$4:$Q$186,4,FALSE))","v":42258.318380709279},{"$f":"IF(Dashboard!$J$5=VLOOKUP(tblSalaries[[#This Row],[Currency]],Sheet3!$A$2:$B$31,2,FALSE),tblSalaries[[#This Row],[clean Salary (in local currency)]],(tblSalaries[[#This Row],[PPP Adjusted  USD]]/VLOOKUP(Dashboard!$J$5,Sheet3!$B$2:$C$31,2,FALSE)))","v":42258.318380709279},"Financial analyst","Analyst","Dubai","4 to 6 hours a day",2]
[null,"ID0216",42140,"USD",42140,{"$f":"(tblSalaries[[#This Row],[clean Salary (in local currency)]])*(VLOOKUP(tblSalaries[[#This Row],[Currency]],Sheet3!$A$2:$C$31,3,FALSE))*(VLOOKUP(tblSalaries[[#This Row],[Currency]],Sheet1!$N$4:$Q$186,4,FALSE))","v":42140},{"$f":"IF(Dashboard!$J$5=VLOOKUP(tblSalaries[[#This Row],[Currency]],Sheet3!$A$2:$B$31,2,FALSE),tblSalaries[[#This Row],[clean Salary (in local currency)]],(tblSalaries[[#This Row],[PPP Adjusted  USD]]/VLOOKUP(Dashboard!$J$5,Sheet3!$B$2:$C$31,2,FALSE)))","v":42140},"Information Analyst II","Analyst","USA","4 to 6 hours a day","Data Not Avaliable"]
[null,"ID0473",28500,"GBP",44921.080753917595,{"$f":"(tblSalaries[[#This Row],[clean Salary (in local currency)]])*(VLOOKUP(tblSalaries[[#This Row],[Currency]],Sheet3!$A$2:$C$31,3,FALSE))*(VLOOKUP(tblSalaries[[#This Row],[Currency]],Sheet1!$N$4:$Q$186,4,FALSE))","v":42008.179341942181},{"$f":"IF(Dashboard!$J$5=VLOOKUP(tblSalaries[[#This Row],[Currency]],Sheet3!$A$2:$B$31,2,FALSE),tblSalaries[[#This Row],[clean Salary (in local currency)]],(tblSalaries[[#This Row],[PPP Adjusted  USD]]/VLOOKUP(Dashboard!$J$5,Sheet3!$B$2:$C$31,2,FALSE)))","v":42008.179341942181},"Data Quality & Analysis Manager","Manager","UK","2 to 3 hours per day","Data Not Avaliable"]
[null,"ID1120",28500,"GBP",44921.080753917595,{"$f":"(tblSalaries[[#This Row],[clean Salary (in local currency)]])*(VLOOKUP(tblSalaries[[#This Row],[Currency]],Sheet3!$A$2:$C$31,3,FALSE))*(VLOOKUP(tblSalaries[[#This Row],[Currency]],Sheet1!$N$4:$Q$186,4,FALSE))","v":42008.179341942181},{"$f":"IF(Dashboard!$J$5=VLOOKUP(tblSalaries[[#This Row],[Currency]],Sheet3!$A$2:$B$31,2,FALSE),tblSalaries[[#This Row],[clean Salary (in local currency)]],(tblSalaries[[#This Row],[PPP Adjusted  USD]]/VLOOKUP(Dashboard!$J$5,Sheet3!$B$2:$C$31,2,FALSE)))","v":42008.179341942181},"Development (Project & Planning) Manager","Manager","UK","1 or 2 hours a day",15]
[null,"ID0933",42000,"USD",42000,{"$f":"(tblSalaries[[#This Row],[clean Salary (in local currency)]])*(VLOOKUP(tblSalaries[[#This Row],[Currency]],Sheet3!$A$2:$C$31,3,FALSE))*(VLOOKUP(tblSalaries[[#This Row],[Currency]],Sheet1!$N$4:$Q$186,4,FALSE))","v":42000},{"$f":"IF(Dashboard!$J$5=VLOOKUP(tblSalaries[[#This Row],[Currency]],Sheet3!$A$2:$B$31,2,FALSE),tblSalaries[[#This Row],[clean Salary (in local currency)]],(tblSalaries[[#This Row],[PPP Adjusted  USD]]/VLOOKUP(Dashboard!$J$5,Sheet3!$B$2:$C$31,2,FALSE)))","v":42000},"Credit Controller","Controller","Saudi Arabia","All the 8 hours baby, all the 8!",15]
[null,"ID1037",42000,"USD",42000,{"$f":"(tblSalaries[[#This Row],[clean Salary (in local currency)]])*(VLOOKUP(tblSalaries[[#This Row],[Currency]],Sheet3!$A$2:$C$31,3,FALSE))*(VLOOKUP(tblSalaries[[#This Row],[Currency]],Sheet1!$N$4:$Q$186,4,FALSE))","v":42000},{"$f":"IF(Dashboard!$J$5=VLOOKUP(tblSalaries[[#This Row],[Currency]],Sheet3!$A$2:$B$31,2,FALSE),tblSalaries[[#This Row],[clean Salary (in local currency)]],(tblSalaries[[#This Row],[PPP Adjusted  USD]]/VLOOKUP(Dashboard!$J$5,Sheet3!$B$2:$C$31,2,FALSE)))","v":42000},"Category Operations Supv.","Manager","Kuwait","All the 8 hours baby, all the 8!",5]
[null,"ID1480",42000,"USD",42000,{"$f":"(tblSalaries[[#This Row],[clean Salary (in local currency)]])*(VLOOKUP(tblSalaries[[#This Row],[Currency]],Sheet3!$A$2:$C$31,3,FALSE))*(VLOOKUP(tblSalaries[[#This Row],[Currency]],Sheet1!$N$4:$Q$186,4,FALSE))","v":42000},{"$f":"IF(Dashboard!$J$5=VLOOKUP(tblSalaries[[#This Row],[Currency]],Sheet3!$A$2:$B$31,2,FALSE),tblSalaries[[#This Row],[clean Salary (in local currency)]],(tblSalaries[[#This Row],[PPP Adjusted  USD]]/VLOOKUP(Dashboard!$J$5,Sheet3!$B$2:$C$31,2,FALSE)))","v":42000},"Service Solution Rep","Analyst","USA","All the 8 hours baby, all the 8!",2]
[null,"ID1618",42000,"USD",42000,{"$f":"(tblSalaries[[#This Row],[clean Salary (in local currency)]])*(VLOOKUP(tblSalaries[[#This Row],[Currency]],Sheet3!$A$2:$C$31,3,FALSE))*(VLOOKUP(tblSalaries[[#This Row],[Currency]],Sheet1!$N$4:$Q$186,4,FALSE))","v":42000},{"$f":"IF(Dashboard!$J$5=VLOOKUP(tblSalaries[[#This Row],[Currency]],Sheet3!$A$2:$B$31,2,FALSE),tblSalaries[[#This Row],[clean Salary (in local currency)]],(tblSalaries[[#This Row],[PPP Adjusted  USD]]/VLOOKUP(Dashboard!$J$5,Sheet3!$B$2:$C$31,2,FALSE)))","v":42000},"production clerk","Analyst","USA","4 to 6 hours a day",2]
[null,"ID1712",42000,"USD",42000,{"$f":"(tblSalaries[[#This Row],[clean Salary (in local currency)]])*(VLOOKUP(tblSalaries[[#This Row],[Currency]],Sheet3!$A$2:$C$31,3,FALSE))*(VLOOKUP(tblSalaries[[#This Row],[Currency]],Sheet1!$N$4:$Q$186,4,FALSE))","v":42000},{"$f":"IF(Dashboard!$J$5=VLOOKUP(tblSalaries[[#This Row],[Currency]],Sheet3!$A$2:$B$31,2,FALSE),tblSalaries[[#This Row],[clean Salary (in local currency)]],(tblSalaries[[#This Row],[PPP Adjusted  USD]]/VLOOKUP(Dashboard!$J$5,Sheet3!$B$2:$C$31,2,FALSE)))","v":42000},"Staff Accountant","Accountant","USA","4 to 6 hours a day",1]
[null,"ID0373",41932,"USD",41932,{"$f":"(tblSalaries[[#This Row],[clean Salary (in local currency)]])*(VLOOKUP(tblSalaries[[#This Row],[Currency]],Sheet3!$A$2:$C$31,3,FALSE))*(VLOOKUP(tblSalaries[[#This Row],[Currency]],Sheet1!$N$4:$Q$186,4,FALSE))","v":41932},{"$f":"IF(Dashboard!$J$5=VLOOKUP(tblSalaries[[#This Row],[Currency]],Sheet3!$A$2:$B$31,2,FALSE),tblSalaries[[#This Row],[clean Salary (in local currency)]],(tblSalaries[[#This Row],[PPP Adjusted  USD]]/VLOOKUP(Dashboard!$J$5,Sheet3!$B$2:$C$31,2,FALSE)))","v":41932},"Buyer","Manager","USA","2 to 3 hours per day","Data Not Avaliable"]
[null,"ID1177",53000,"CAD",52118.160720607324,{"$f":"(tblSalaries[[#This Row],[clean Salary (in local currency)]])*(VLOOKUP(tblSalaries[[#This Row],[Currency]],Sheet3!$A$2:$C$31,3,FALSE))*(VLOOKUP(tblSalaries[[#This Row],[Currency]],Sheet1!$N$4:$Q$186,4,FALSE))","v":41893.64876972427},{"$f":"IF(Dashboard!$J$5=VLOOKUP(tblSalaries[[#This Row],[Currency]],Sheet3!$A$2:$B$31,2,FALSE),tblSalaries[[#This Row],[clean Salary (in local currency)]],(tblSalaries[[#This Row],[PPP Adjusted  USD]]/VLOOKUP(Dashboard!$J$5,Sheet3!$B$2:$C$31,2,FALSE)))","v":41893.64876972427},"Data Analyst","Analyst","Canada","4 to 6 hours a day",6]
[null,"ID0066",38000,"EUR",48275.178681681093,{"$f":"(tblSalaries[[#This Row],[clean Salary (in local currency)]])*(VLOOKUP(tblSalaries[[#This Row],[Currency]],Sheet3!$A$2:$C$31,3,FALSE))*(VLOOKUP(tblSalaries[[#This Row],[Currency]],Sheet1!$N$4:$Q$186,4,FALSE))","v":41824.809667241978},{"$f":"IF(Dashboard!$J$5=VLOOKUP(tblSalaries[[#This Row],[Currency]],Sheet3!$A$2:$B$31,2,FALSE),tblSalaries[[#This Row],[clean Salary (in local currency)]],(tblSalaries[[#This Row],[PPP Adjusted  USD]]/VLOOKUP(Dashboard!$J$5,Sheet3!$B$2:$C$31,2,FALSE)))","v":41824.809667241978},"busines analist","Analyst","Netherlands","1 or 2 hours a day","Data Not Avaliable"]
[null,"ID0006",41731,"USD",41731,{"$f":"(tblSalaries[[#This Row],[clean Salary (in local currency)]])*(VLOOKUP(tblSalaries[[#This Row],[Currency]],Sheet3!$A$2:$C$31,3,FALSE))*(VLOOKUP(tblSalaries[[#This Row],[Currency]],Sheet1!$N$4:$Q$186,4,FALSE))","v":41731},{"$f":"IF(Dashboard!$J$5=VLOOKUP(tblSalaries[[#This Row],[Currency]],Sheet3!$A$2:$B$31,2,FALSE),tblSalaries[[#This Row],[clean Salary (in local currency)]],(tblSalaries[[#This Row],[PPP Adjusted  USD]]/VLOOKUP(Dashboard!$J$5,Sheet3!$B$2:$C$31,2,FALSE)))","v":41731},"Analyst","Analyst","Iceland","All the 8 hours baby, all the 8!","Data Not Avaliable"]
[null,"ID0218",41600,"USD",41600,{"$f":"(tblSalaries[[#This Row],[clean Salary (in local currency)]])*(VLOOKUP(tblSalaries[[#This Row],[Currency]],Sheet3!$A$2:$C$31,3,FALSE))*(VLOOKUP(tblSalaries[[#This Row],[Currency]],Sheet1!$N$4:$Q$186,4,FALSE))","v":41600},{"$f":"IF(Dashboard!$J$5=VLOOKUP(tblSalaries[[#This Row],[Currency]],Sheet3!$A$2:$B$31,2,FALSE),tblSalaries[[#This Row],[clean Salary (in local currency)]],(tblSalaries[[#This Row],[PPP Adjusted  USD]]/VLOOKUP(Dashboard!$J$5,Sheet3!$B$2:$C$31,2,FALSE)))","v":41600},"Project Manager","Manager","USA","4 to 6 hours a day","Data Not Avaliable"]
[null,"ID0494",28164,"GBP",44391.484854502989,{"$f":"(tblSalaries[[#This Row],[clean Salary (in local currency)]])*(VLOOKUP(tblSalaries[[#This Row],[Currency]],Sheet3!$A$2:$C$31,3,FALSE))*(VLOOKUP(tblSalaries[[#This Row],[Currency]],Sheet1!$N$4:$Q$186,4,FALSE))","v":41512.925017068759},{"$f":"IF(Dashboard!$J$5=VLOOKUP(tblSalaries[[#This Row],[Currency]],Sheet3!$A$2:$B$31,2,FALSE),tblSalaries[[#This Row],[clean Salary (in local currency)]],(tblSalaries[[#This Row],[PPP Adjusted  USD]]/VLOOKUP(Dashboard!$J$5,Sheet3!$B$2:$C$31,2,FALSE)))","v":41512.925017068759},"Administration Officer","Manager","UK","4 to 6 hours a day","Data Not Avaliable"]
[null,"ID0131",28159,"GBP",44383.603963142654,{"$f":"(tblSalaries[[#This Row],[clean Salary (in local currency)]])*(VLOOKUP(tblSalaries[[#This Row],[Currency]],Sheet3!$A$2:$C$31,3,FALSE))*(VLOOKUP(tblSalaries[[#This Row],[Currency]],Sheet1!$N$4:$Q$186,4,FALSE))","v":41505.555161043856},{"$f":"IF(Dashboard!$J$5=VLOOKUP(tblSalaries[[#This Row],[Currency]],Sheet3!$A$2:$B$31,2,FALSE),tblSalaries[[#This Row],[clean Salary (in local currency)]],(tblSalaries[[#This Row],[PPP Adjusted  USD]]/VLOOKUP(Dashboard!$J$5,Sheet3!$B$2:$C$31,2,FALSE)))","v":41505.555161043856},"Data Analyst","Analyst","UK","All the 8 hours baby, all the 8!","Data Not Avaliable"]
[null,"ID0182",41406,"USD",41406,{"$f":"(tblSalaries[[#This Row],[clean Salary (in local currency)]])*(VLOOKUP(tblSalaries[[#This Row],[Currency]],Sheet3!$A$2:$C$31,3,FALSE))*(VLOOKUP(tblSalaries[[#This Row],[Currency]],Sheet1!$N$4:$Q$186,4,FALSE))","v":41406},{"$f":"IF(Dashboard!$J$5=VLOOKUP(tblSalaries[[#This Row],[Currency]],Sheet3!$A$2:$B$31,2,FALSE),tblSalaries[[#This Row],[clean Salary (in local currency)]],(tblSalaries[[#This Row],[PPP Adjusted  USD]]/VLOOKUP(Dashboard!$J$5,Sheet3!$B$2:$C$31,2,FALSE)))","v":41406},"Executive Assistant","Analyst","Canada","1 or 2 hours a day","Data Not Avaliable"]
[null,"ID0262",28000,"GBP",44132.991617883956,{"$f":"(tblSalaries[[#This Row],[clean Salary (in local currency)]])*(VLOOKUP(tblSalaries[[#This Row],[Currency]],Sheet3!$A$2:$C$31,3,FALSE))*(VLOOKUP(tblSalaries[[#This Row],[Currency]],Sheet1!$N$4:$Q$186,4,FALSE))","v":41271.19373945197},{"$f":"IF(Dashboard!$J$5=VLOOKUP(tblSalaries[[#This Row],[Currency]],Sheet3!$A$2:$B$31,2,FALSE),tblSalaries[[#This Row],[clean Salary (in local currency)]],(tblSalaries[[#This Row],[PPP Adjusted  USD]]/VLOOKUP(Dashboard!$J$5,Sheet3!$B$2:$C$31,2,FALSE)))","v":41271.19373945197},"Ops Adminstrator","Analyst","UK","All the 8 hours baby, all the 8!","Data Not Avaliable"]
[null,"ID0387",28000,"GBP",44132.991617883956,{"$f":"(tblSalaries[[#This Row],[clean Salary (in local currency)]])*(VLOOKUP(tblSalaries[[#This Row],[Currency]],Sheet3!$A$2:$C$31,3,FALSE))*(VLOOKUP(tblSalaries[[#This Row],[Currency]],Sheet1!$N$4:$Q$186,4,FALSE))","v":41271.19373945197},{"$f":"IF(Dashboard!$J$5=VLOOKUP(tblSalaries[[#This Row],[Currency]],Sheet3!$A$2:$B$31,2,FALSE),tblSalaries[[#This Row],[clean Salary (in local currency)]],(tblSalaries[[#This Row],[PPP Adjusted  USD]]/VLOOKUP(Dashboard!$J$5,Sheet3!$B$2:$C$31,2,FALSE)))","v":41271.19373945197},"Central Services Manager","Manager","UK","2 to 3 hours per day","Data Not Avaliable"]
[null,"ID1062",28000,"GBP",44132.991617883956,{"$f":"(tblSalaries[[#This Row],[clean Salary (in local currency)]])*(VLOOKUP(tblSalaries[[#This Row],[Currency]],Sheet3!$A$2:$C$31,3,FALSE))*(VLOOKUP(tblSalaries[[#This Row],[Currency]],Sheet1!$N$4:$Q$186,4,FALSE))","v":41271.19373945197},{"$f":"IF(Dashboard!$J$5=VLOOKUP(tblSalaries[[#This Row],[Currency]],Sheet3!$A$2:$B$31,2,FALSE),tblSalaries[[#This Row],[clean Salary (in local currency)]],(tblSalaries[[#This Row],[PPP Adjusted  USD]]/VLOOKUP(Dashboard!$J$5,Sheet3!$B$2:$C$31,2,FALSE)))","v":41271.19373945197},"Modeller","Analyst","UK","2 to 3 hours per day",16]
[null,"ID0460",52000,"CAD",51134.799197576998,{"$f":"(tblSalaries[[#This Row],[clean Salary (in local currency)]])*(VLOOKUP(tblSalaries[[#This Row],[Currency]],Sheet3!$A$2:$C$31,3,FALSE))*(VLOOKUP(tblSalaries[[#This Row],[Currency]],Sheet1!$N$4:$Q$186,4,FALSE))","v":41103.202566521926},{"$f":"IF(Dashboard!$J$5=VLOOKUP(tblSalaries[[#This Row],[Currency]],Sheet3!$A$2:$B$31,2,FALSE),tblSalaries[[#This Row],[clean Salary (in local currency)]],(tblSalaries[[#This Row],[PPP Adjusted  USD]]/VLOOKUP(Dashboard!$J$5,Sheet3!$B$2:$C$31,2,FALSE)))","v":41103.202566521926},"Office Manager","Manager","Canada","4 to 6 hours a day","Data Not Avaliable"]
[null,"ID0031",41000,"USD",41000,{"$f":"(tblSalaries[[#This Row],[clean Salary (in local currency)]])*(VLOOKUP(tblSalaries[[#This Row],[Currency]],Sheet3!$A$2:$C$31,3,FALSE))*(VLOOKUP(tblSalaries[[#This Row],[Currency]],Sheet1!$N$4:$Q$186,4,FALSE))","v":41000},{"$f":"IF(Dashboard!$J$5=VLOOKUP(tblSalaries[[#This Row],[Currency]],Sheet3!$A$2:$B$31,2,FALSE),tblSalaries[[#This Row],[clean Salary (in local currency)]],(tblSalaries[[#This Row],[PPP Adjusted  USD]]/VLOOKUP(Dashboard!$J$5,Sheet3!$B$2:$C$31,2,FALSE)))","v":41000},"Chief of the department of public budget analisis and forecasting","Manager","Russia","All the 8 hours baby, all the 8!","Data Not Avaliable"]
[null,"ID0060",41000,"USD",41000,{"$f":"(tblSalaries[[#This Row],[clean Salary (in local currency)]])*(VLOOKUP(tblSalaries[[#This Row],[Currency]],Sheet3!$A$2:$C$31,3,FALSE))*(VLOOKUP(tblSalaries[[#This Row],[Currency]],Sheet1!$N$4:$Q$186,4,FALSE))","v":41000},{"$f":"IF(Dashboard!$J$5=VLOOKUP(tblSalaries[[#This Row],[Currency]],Sheet3!$A$2:$B$31,2,FALSE),tblSalaries[[#This Row],[clean Salary (in local currency)]],(tblSalaries[[#This Row],[PPP Adjusted  USD]]/VLOOKUP(Dashboard!$J$5,Sheet3!$B$2:$C$31,2,FALSE)))","v":41000},"Specialist","Specialist","USA","4 to 6 hours a day","Data Not Avaliable"]
[null,"ID0214",41000,"USD",41000,{"$f":"(tblSalaries[[#This Row],[clean Salary (in local currency)]])*(VLOOKUP(tblSalaries[[#This Row],[Currency]],Sheet3!$A$2:$C$31,3,FALSE))*(VLOOKUP(tblSalaries[[#This Row],[Currency]],Sheet1!$N$4:$Q$186,4,FALSE))","v":41000},{"$f":"IF(Dashboard!$J$5=VLOOKUP(tblSalaries[[#This Row],[Currency]],Sheet3!$A$2:$B$31,2,FALSE),tblSalaries[[#This Row],[clean Salary (in local currency)]],(tblSalaries[[#This Row],[PPP Adjusted  USD]]/VLOOKUP(Dashboard!$J$5,Sheet3!$B$2:$C$31,2,FALSE)))","v":41000},"Operations Expert","Manager","USA","All the 8 hours baby, all the 8!","Data Not Avaliable"]
[null,"ID0312",41000,"USD",41000,{"$f":"(tblSalaries[[#This Row],[clean Salary (in local currency)]])*(VLOOKUP(tblSalaries[[#This Row],[Currency]],Sheet3!$A$2:$C$31,3,FALSE))*(VLOOKUP(tblSalaries[[#This Row],[Currency]],Sheet1!$N$4:$Q$186,4,FALSE))","v":41000},{"$f":"IF(Dashboard!$J$5=VLOOKUP(tblSalaries[[#This Row],[Currency]],Sheet3!$A$2:$B$31,2,FALSE),tblSalaries[[#This Row],[clean Salary (in local currency)]],(tblSalaries[[#This Row],[PPP Adjusted  USD]]/VLOOKUP(Dashboard!$J$5,Sheet3!$B$2:$C$31,2,FALSE)))","v":41000},"Operations Analyst","Analyst","USA","4 to 6 hours a day","Data Not Avaliable"]
[null,"ID0768",41000,"USD",41000,{"$f":"(tblSalaries[[#This Row],[clean Salary (in local currency)]])*(VLOOKUP(tblSalaries[[#This Row],[Currency]],Sheet3!$A$2:$C$31,3,FALSE))*(VLOOKUP(tblSalaries[[#This Row],[Currency]],Sheet1!$N$4:$Q$186,4,FALSE))","v":41000},{"$f":"IF(Dashboard!$J$5=VLOOKUP(tblSalaries[[#This Row],[Currency]],Sheet3!$A$2:$B$31,2,FALSE),tblSalaries[[#This Row],[clean Salary (in local currency)]],(tblSalaries[[#This Row],[PPP Adjusted  USD]]/VLOOKUP(Dashboard!$J$5,Sheet3!$B$2:$C$31,2,FALSE)))","v":41000},"Business Analyst","Analyst","USA","All the 8 hours baby, all the 8!",4]
[null,"ID1344",41000,"USD",41000,{"$f":"(tblSalaries[[#This Row],[clean Salary (in local currency)]])*(VLOOKUP(tblSalaries[[#This Row],[Currency]],Sheet3!$A$2:$C$31,3,FALSE))*(VLOOKUP(tblSalaries[[#This Row],[Currency]],Sheet1!$N$4:$Q$186,4,FALSE))","v":41000},{"$f":"IF(Dashboard!$J$5=VLOOKUP(tblSalaries[[#This Row],[Currency]],Sheet3!$A$2:$B$31,2,FALSE),tblSalaries[[#This Row],[clean Salary (in local currency)]],(tblSalaries[[#This Row],[PPP Adjusted  USD]]/VLOOKUP(Dashboard!$J$5,Sheet3!$B$2:$C$31,2,FALSE)))","v":41000},"PO/PMO/Planner/PM","Manager","Israel","2 to 3 hours per day",4]
[null,"ID1458",41000,"USD",41000,{"$f":"(tblSalaries[[#This Row],[clean Salary (in local currency)]])*(VLOOKUP(tblSalaries[[#This Row],[Currency]],Sheet3!$A$2:$C$31,3,FALSE))*(VLOOKUP(tblSalaries[[#This Row],[Currency]],Sheet1!$N$4:$Q$186,4,FALSE))","v":41000},{"$f":"IF(Dashboard!$J$5=VLOOKUP(tblSalaries[[#This Row],[Currency]],Sheet3!$A$2:$B$31,2,FALSE),tblSalaries[[#This Row],[clean Salary (in local currency)]],(tblSalaries[[#This Row],[PPP Adjusted  USD]]/VLOOKUP(Dashboard!$J$5,Sheet3!$B$2:$C$31,2,FALSE)))","v":41000},"Marketing Analyst","Analyst","Japan","2 to 3 hours per day",2]
[null,"ID1575",41000,"USD",41000,{"$f":"(tblSalaries[[#This Row],[clean Salary (in local currency)]])*(VLOOKUP(tblSalaries[[#This Row],[Currency]],Sheet3!$A$2:$C$31,3,FALSE))*(VLOOKUP(tblSalaries[[#This Row],[Currency]],Sheet1!$N$4:$Q$186,4,FALSE))","v":41000},{"$f":"IF(Dashboard!$J$5=VLOOKUP(tblSalaries[[#This Row],[Currency]],Sheet3!$A$2:$B$31,2,FALSE),tblSalaries[[#This Row],[clean Salary (in local currency)]],(tblSalaries[[#This Row],[PPP Adjusted  USD]]/VLOOKUP(Dashboard!$J$5,Sheet3!$B$2:$C$31,2,FALSE)))","v":41000},"Excel Developer","Consultant","USA","4 to 6 hours a day",10]
[null,"ID0798",65000,"AUD",66294.12766617132,{"$f":"(tblSalaries[[#This Row],[clean Salary (in local currency)]])*(VLOOKUP(tblSalaries[[#This Row],[Currency]],Sheet3!$A$2:$C$31,3,FALSE))*(VLOOKUP(tblSalaries[[#This Row],[Currency]],Sheet1!$N$4:$Q$186,4,FALSE))","v":40736.413782909716},{"$f":"IF(Dashboard!$J$5=VLOOKUP(tblSalaries[[#This Row],[Currency]],Sheet3!$A$2:$B$31,2,FALSE),tblSalaries[[#This Row],[clean Salary (in local currency)]],(tblSalaries[[#This Row],[PPP Adjusted  USD]]/VLOOKUP(Dashboard!$J$5,Sheet3!$B$2:$C$31,2,FALSE)))","v":40736.413782909716},"Market analyst","Analyst","Australia","All the 8 hours baby, all the 8!",10]
[null,"ID0968",65000,"AUD",66294.12766617132,{"$f":"(tblSalaries[[#This Row],[clean Salary (in local currency)]])*(VLOOKUP(tblSalaries[[#This Row],[Currency]],Sheet3!$A$2:$C$31,3,FALSE))*(VLOOKUP(tblSalaries[[#This Row],[Currency]],Sheet1!$N$4:$Q$186,4,FALSE))","v":40736.413782909716},{"$f":"IF(Dashboard!$J$5=VLOOKUP(tblSalaries[[#This Row],[Currency]],Sheet3!$A$2:$B$31,2,FALSE),tblSalaries[[#This Row],[clean Salary (in local currency)]],(tblSalaries[[#This Row],[PPP Adjusted  USD]]/VLOOKUP(Dashboard!$J$5,Sheet3!$B$2:$C$31,2,FALSE)))","v":40736.413782909716},"Business Support ","Manager","Australia","2 to 3 hours per day",5]
[null,"ID0979",65000,"AUD",66294.12766617132,{"$f":"(tblSalaries[[#This Row],[clean Salary (in local currency)]])*(VLOOKUP(tblSalaries[[#This Row],[Currency]],Sheet3!$A$2:$C$31,3,FALSE))*(VLOOKUP(tblSalaries[[#This Row],[Currency]],Sheet1!$N$4:$Q$186,4,FALSE))","v":40736.413782909716},{"$f":"IF(Dashboard!$J$5=VLOOKUP(tblSalaries[[#This Row],[Currency]],Sheet3!$A$2:$B$31,2,FALSE),tblSalaries[[#This Row],[clean Salary (in local currency)]],(tblSalaries[[#This Row],[PPP Adjusted  USD]]/VLOOKUP(Dashboard!$J$5,Sheet3!$B$2:$C$31,2,FALSE)))","v":40736.413782909716},"Data Analyst","Analyst","Australia","4 to 6 hours a day",4]
[null,"ID1100",37000,"EUR",47004.779242689488,{"$f":"(tblSalaries[[#This Row],[clean Salary (in local currency)]])*(VLOOKUP(tblSalaries[[#This Row],[Currency]],Sheet3!$A$2:$C$31,3,FALSE))*(VLOOKUP(tblSalaries[[#This Row],[Currency]],Sheet1!$N$4:$Q$186,4,FALSE))","v":40724.156781261932},{"$f":"IF(Dashboard!$J$5=VLOOKUP(tblSalaries[[#This Row],[Currency]],Sheet3!$A$2:$B$31,2,FALSE),tblSalaries[[#This Row],[clean Salary (in local currency)]],(tblSalaries[[#This Row],[PPP Adjusted  USD]]/VLOOKUP(Dashboard!$J$5,Sheet3!$B$2:$C$31,2,FALSE)))","v":40724.156781261932},"Project Control Analyst","Analyst","Spain","4 to 6 hours a day",11]
[null,"ID0184",40700,"USD",40700,{"$f":"(tblSalaries[[#This Row],[clean Salary (in local currency)]])*(VLOOKUP(tblSalaries[[#This Row],[Currency]],Sheet3!$A$2:$C$31,3,FALSE))*(VLOOKUP(tblSalaries[[#This Row],[Currency]],Sheet1!$N$4:$Q$186,4,FALSE))","v":40700},{"$f":"IF(Dashboard!$J$5=VLOOKUP(tblSalaries[[#This Row],[Currency]],Sheet3!$A$2:$B$31,2,FALSE),tblSalaries[[#This Row],[clean Salary (in local currency)]],(tblSalaries[[#This Row],[PPP Adjusted  USD]]/VLOOKUP(Dashboard!$J$5,Sheet3!$B$2:$C$31,2,FALSE)))","v":40700},"Sales Coordinator & Analytical Support","Analyst","USA","1 or 2 hours a day","Data Not Avaliable"]
[null,"ID0590",40414,"USD",40414,{"$f":"(tblSalaries[[#This Row],[clean Salary (in local currency)]])*(VLOOKUP(tblSalaries[[#This Row],[Currency]],Sheet3!$A$2:$C$31,3,FALSE))*(VLOOKUP(tblSalaries[[#This Row],[Currency]],Sheet1!$N$4:$Q$186,4,FALSE))","v":40414},{"$f":"IF(Dashboard!$J$5=VLOOKUP(tblSalaries[[#This Row],[Currency]],Sheet3!$A$2:$B$31,2,FALSE),tblSalaries[[#This Row],[clean Salary (in local currency)]],(tblSalaries[[#This Row],[PPP Adjusted  USD]]/VLOOKUP(Dashboard!$J$5,Sheet3!$B$2:$C$31,2,FALSE)))","v":40414},"Performance Improvement Analyst","Analyst","USA","4 to 6 hours a day",8]
[null,"ID1146",853000,"INR",15190.15293438851,{"$f":"(tblSalaries[[#This Row],[clean Salary (in local currency)]])*(VLOOKUP(tblSalaries[[#This Row],[Currency]],Sheet3!$A$2:$C$31,3,FALSE))*(VLOOKUP(tblSalaries[[#This Row],[Currency]],Sheet1!$N$4:$Q$186,4,FALSE))","v":40398.952063439785},{"$f":"IF(Dashboard!$J$5=VLOOKUP(tblSalaries[[#This Row],[Currency]],Sheet3!$A$2:$B$31,2,FALSE),tblSalaries[[#This Row],[clean Salary (in local currency)]],(tblSalaries[[#This Row],[PPP Adjusted  USD]]/VLOOKUP(Dashboard!$J$5,Sheet3!$B$2:$C$31,2,FALSE)))","v":40398.952063439785},"Lead Research Analyst","Analyst","India","2 to 3 hours per day",6]
[null,"ID0616",850000,"INR",15136.729184326183,{"$f":"(tblSalaries[[#This Row],[clean Salary (in local currency)]])*(VLOOKUP(tblSalaries[[#This Row],[Currency]],Sheet3!$A$2:$C$31,3,FALSE))*(VLOOKUP(tblSalaries[[#This Row],[Currency]],Sheet1!$N$4:$Q$186,4,FALSE))","v":40256.868996393685},{"$f":"IF(Dashboard!$J$5=VLOOKUP(tblSalaries[[#This Row],[Currency]],Sheet3!$A$2:$B$31,2,FALSE),tblSalaries[[#This Row],[clean Salary (in local currency)]],(tblSalaries[[#This Row],[PPP Adjusted  USD]]/VLOOKUP(Dashboard!$J$5,Sheet3!$B$2:$C$31,2,FALSE)))","v":40256.868996393685},"Sales Analyst","Analyst","India","4 to 6 hours a day",6]
[null,"ID0805",850000,"INR",15136.729184326183,{"$f":"(tblSalaries[[#This Row],[clean Salary (in local currency)]])*(VLOOKUP(tblSalaries[[#This Row],[Currency]],Sheet3!$A$2:$C$31,3,FALSE))*(VLOOKUP(tblSalaries[[#This Row],[Currency]],Sheet1!$N$4:$Q$186,4,FALSE))","v":40256.868996393685},{"$f":"IF(Dashboard!$J$5=VLOOKUP(tblSalaries[[#This Row],[Currency]],Sheet3!$A$2:$B$31,2,FALSE),tblSalaries[[#This Row],[clean Salary (in local currency)]],(tblSalaries[[#This Row],[PPP Adjusted  USD]]/VLOOKUP(Dashboard!$J$5,Sheet3!$B$2:$C$31,2,FALSE)))","v":40256.868996393685},"Senior Research Analyst","Analyst","India","4 to 6 hours a day",2]
[null,"ID0900",850000,"INR",15136.729184326183,{"$f":"(tblSalaries[[#This Row],[clean Salary (in local currency)]])*(VLOOKUP(tblSalaries[[#This Row],[Currency]],Sheet3!$A$2:$C$31,3,FALSE))*(VLOOKUP(tblSalaries[[#This Row],[Currency]],Sheet1!$N$4:$Q$186,4,FALSE))","v":40256.868996393685},{"$f":"IF(Dashboard!$J$5=VLOOKUP(tblSalaries[[#This Row],[Currency]],Sheet3!$A$2:$B$31,2,FALSE),tblSalaries[[#This Row],[clean Salary (in local currency)]],(tblSalaries[[#This Row],[PPP Adjusted  USD]]/VLOOKUP(Dashboard!$J$5,Sheet3!$B$2:$C$31,2,FALSE)))","v":40256.868996393685},"Assistant Manager","Manager","India","2 to 3 hours per day",3]
[null,"ID1574",850000,"INR",15136.729184326183,{"$f":"(tblSalaries[[#This Row],[clean Salary (in local currency)]])*(VLOOKUP(tblSalaries[[#This Row],[Currency]],Sheet3!$A$2:$C$31,3,FALSE))*(VLOOKUP(tblSalaries[[#This Row],[Currency]],Sheet1!$N$4:$Q$186,4,FALSE))","v":40256.868996393685},{"$f":"IF(Dashboard!$J$5=VLOOKUP(tblSalaries[[#This Row],[Currency]],Sheet3!$A$2:$B$31,2,FALSE),tblSalaries[[#This Row],[clean Salary (in local currency)]],(tblSalaries[[#This Row],[PPP Adjusted  USD]]/VLOOKUP(Dashboard!$J$5,Sheet3!$B$2:$C$31,2,FALSE)))","v":40256.868996393685},"Sr Business analyst","Analyst","India","4 to 6 hours a day",5]
[null,"ID0025",40000,"USD",40000,{"$f":"(tblSalaries[[#This Row],[clean Salary (in local currency)]])*(VLOOKUP(tblSalaries[[#This Row],[Currency]],Sheet3!$A$2:$C$31,3,FALSE))*(VLOOKUP(tblSalaries[[#This Row],[Currency]],Sheet1!$N$4:$Q$186,4,FALSE))","v":40000},{"$f":"IF(Dashboard!$J$5=VLOOKUP(tblSalaries[[#This Row],[Currency]],Sheet3!$A$2:$B$31,2,FALSE),tblSalaries[[#This Row],[clean Salary (in local currency)]],(tblSalaries[[#This Row],[PPP Adjusted  USD]]/VLOOKUP(Dashboard!$J$5,Sheet3!$B$2:$C$31,2,FALSE)))","v":40000},"sales and marketing","Manager","USA","2 to 3 hours per day","Data Not Avaliable"]
[null,"ID0089",40000,"USD",40000,{"$f":"(tblSalaries[[#This Row],[clean Salary (in local currency)]])*(VLOOKUP(tblSalaries[[#This Row],[Currency]],Sheet3!$A$2:$C$31,3,FALSE))*(VLOOKUP(tblSalaries[[#This Row],[Currency]],Sheet1!$N$4:$Q$186,4,FALSE))","v":40000},{"$f":"IF(Dashboard!$J$5=VLOOKUP(tblSalaries[[#This Row],[Currency]],Sheet3!$A$2:$B$31,2,FALSE),tblSalaries[[#This Row],[clean Salary (in local currency)]],(tblSalaries[[#This Row],[PPP Adjusted  USD]]/VLOOKUP(Dashboard!$J$5,Sheet3!$B$2:$C$31,2,FALSE)))","v":40000},"Admin","Analyst","USA","4 to 6 hours a day","Data Not Avaliable"]
[null,"ID0098",40000,"USD",40000,{"$f":"(tblSalaries[[#This Row],[clean Salary (in local currency)]])*(VLOOKUP(tblSalaries[[#This Row],[Currency]],Sheet3!$A$2:$C$31,3,FALSE))*(VLOOKUP(tblSalaries[[#This Row],[Currency]],Sheet1!$N$4:$Q$186,4,FALSE))","v":40000},{"$f":"IF(Dashboard!$J$5=VLOOKUP(tblSalaries[[#This Row],[Currency]],Sheet3!$A$2:$B$31,2,FALSE),tblSalaries[[#This Row],[clean Salary (in local currency)]],(tblSalaries[[#This Row],[PPP Adjusted  USD]]/VLOOKUP(Dashboard!$J$5,Sheet3!$B$2:$C$31,2,FALSE)))","v":40000},"Sales and Marketing Analyst ","Analyst","USA","4 to 6 hours a day","Data Not Avaliable"]
[null,"ID0139",40000,"USD",40000,{"$f":"(tblSalaries[[#This Row],[clean Salary (in local currency)]])*(VLOOKUP(tblSalaries[[#This Row],[Currency]],Sheet3!$A$2:$C$31,3,FALSE))*(VLOOKUP(tblSalaries[[#This Row],[Currency]],Sheet1!$N$4:$Q$186,4,FALSE))","v":40000},{"$f":"IF(Dashboard!$J$5=VLOOKUP(tblSalaries[[#This Row],[Currency]],Sheet3!$A$2:$B$31,2,FALSE),tblSalaries[[#This Row],[clean Salary (in local currency)]],(tblSalaries[[#This Row],[PPP Adjusted  USD]]/VLOOKUP(Dashboard!$J$5,Sheet3!$B$2:$C$31,2,FALSE)))","v":40000},"Business Analyst","Analyst","USA","4 to 6 hours a day","Data Not Avaliable"]
[null,"ID0180",40000,"USD",40000,{"$f":"(tblSalaries[[#This Row],[clean Salary (in local currency)]])*(VLOOKUP(tblSalaries[[#This Row],[Currency]],Sheet3!$A$2:$C$31,3,FALSE))*(VLOOKUP(tblSalaries[[#This Row],[Currency]],Sheet1!$N$4:$Q$186,4,FALSE))","v":40000},{"$f":"IF(Dashboard!$J$5=VLOOKUP(tblSalaries[[#This Row],[Currency]],Sheet3!$A$2:$B$31,2,FALSE),tblSalaries[[#This Row],[clean Salary (in local currency)]],(tblSalaries[[#This Row],[PPP Adjusted  USD]]/VLOOKUP(Dashboard!$J$5,Sheet3!$B$2:$C$31,2,FALSE)))","v":40000},"Senior analyst","Analyst","USA","All the 8 hours baby, all the 8!","Data Not Avaliable"]
[null,"ID0185",40000,"USD",40000,{"$f":"(tblSalaries[[#This Row],[clean Salary (in local currency)]])*(VLOOKUP(tblSalaries[[#This Row],[Currency]],Sheet3!$A$2:$C$31,3,FALSE))*(VLOOKUP(tblSalaries[[#This Row],[Currency]],Sheet1!$N$4:$Q$186,4,FALSE))","v":40000},{"$f":"IF(Dashboard!$J$5=VLOOKUP(tblSalaries[[#This Row],[Currency]],Sheet3!$A$2:$B$31,2,FALSE),tblSalaries[[#This Row],[clean Salary (in local currency)]],(tblSalaries[[#This Row],[PPP Adjusted  USD]]/VLOOKUP(Dashboard!$J$5,Sheet3!$B$2:$C$31,2,FALSE)))","v":40000},"analyst","Analyst","USA","4 to 6 hours a day","Data Not Avaliable"]
[null,"ID0254",40000,"USD",40000,{"$f":"(tblSalaries[[#This Row],[clean Salary (in local currency)]])*(VLOOKUP(tblSalaries[[#This Row],[Currency]],Sheet3!$A$2:$C$31,3,FALSE))*(VLOOKUP(tblSalaries[[#This Row],[Currency]],Sheet1!$N$4:$Q$186,4,FALSE))","v":40000},{"$f":"IF(Dashboard!$J$5=VLOOKUP(tblSalaries[[#This Row],[Currency]],Sheet3!$A$2:$B$31,2,FALSE),tblSalaries[[#This Row],[clean Salary (in local currency)]],(tblSalaries[[#This Row],[PPP Adjusted  USD]]/VLOOKUP(Dashboard!$J$5,Sheet3!$B$2:$C$31,2,FALSE)))","v":40000},"Business Analyst","Analyst","USA","All the 8 hours baby, all the 8!","Data Not Avaliable"]
[null,"ID0272",40000,"USD",40000,{"$f":"(tblSalaries[[#This Row],[clean Salary (in local currency)]])*(VLOOKUP(tblSalaries[[#This Row],[Currency]],Sheet3!$A$2:$C$31,3,FALSE))*(VLOOKUP(tblSalaries[[#This Row],[Currency]],Sheet1!$N$4:$Q$186,4,FALSE))","v":40000},{"$f":"IF(Dashboard!$J$5=VLOOKUP(tblSalaries[[#This Row],[Currency]],Sheet3!$A$2:$B$31,2,FALSE),tblSalaries[[#This Row],[clean Salary (in local currency)]],(tblSalaries[[#This Row],[PPP Adjusted  USD]]/VLOOKUP(Dashboard!$J$5,Sheet3!$B$2:$C$31,2,FALSE)))","v":40000},"Analyst 2","Analyst","USA","4 to 6 hours a day","Data Not Avaliable"]
[null,"ID0280",40000,"USD",40000,{"$f":"(tblSalaries[[#This Row],[clean Salary (in local currency)]])*(VLOOKUP(tblSalaries[[#This Row],[Currency]],Sheet3!$A$2:$C$31,3,FALSE))*(VLOOKUP(tblSalaries[[#This Row],[Currency]],Sheet1!$N$4:$Q$186,4,FALSE))","v":40000},{"$f":"IF(Dashboard!$J$5=VLOOKUP(tblSalaries[[#This Row],[Currency]],Sheet3!$A$2:$B$31,2,FALSE),tblSalaries[[#This Row],[clean Salary (in local currency)]],(tblSalaries[[#This Row],[PPP Adjusted  USD]]/VLOOKUP(Dashboard!$J$5,Sheet3!$B$2:$C$31,2,FALSE)))","v":40000},"Business Analyst","Analyst","USA","All the 8 hours baby, all the 8!","Data Not Avaliable"]
[null,"ID0310",40000,"USD",40000,{"$f":"(tblSalaries[[#This Row],[clean Salary (in local currency)]])*(VLOOKUP(tblSalaries[[#This Row],[Currency]],Sheet3!$A$2:$C$31,3,FALSE))*(VLOOKUP(tblSalaries[[#This Row],[Currency]],Sheet1!$N$4:$Q$186,4,FALSE))","v":40000},{"$f":"IF(Dashboard!$J$5=VLOOKUP(tblSalaries[[#This Row],[Currency]],Sheet3!$A$2:$B$31,2,FALSE),tblSalaries[[#This Row],[clean Salary (in local currency)]],(tblSalaries[[#This Row],[PPP Adjusted  USD]]/VLOOKUP(Dashboard!$J$5,Sheet3!$B$2:$C$31,2,FALSE)))","v":40000},"Royalties Coordinator","Manager","USA","4 to 6 hours a day","Data Not Avaliable"]
[null,"ID0322",40000,"USD",40000,{"$f":"(tblSalaries[[#This Row],[clean Salary (in local currency)]])*(VLOOKUP(tblSalaries[[#This Row],[Currency]],Sheet3!$A$2:$C$31,3,FALSE))*(VLOOKUP(tblSalaries[[#This Row],[Currency]],Sheet1!$N$4:$Q$186,4,FALSE))","v":40000},{"$f":"IF(Dashboard!$J$5=VLOOKUP(tblSalaries[[#This Row],[Currency]],Sheet3!$A$2:$B$31,2,FALSE),tblSalaries[[#This Row],[clean Salary (in local currency)]],(tblSalaries[[#This Row],[PPP Adjusted  USD]]/VLOOKUP(Dashboard!$J$5,Sheet3!$B$2:$C$31,2,FALSE)))","v":40000},"Dp manager","Manager","Hungary","4 to 6 hours a day","Data Not Avaliable"]
[null,"ID0401",40000,"USD",40000,{"$f":"(tblSalaries[[#This Row],[clean Salary (in local currency)]])*(VLOOKUP(tblSalaries[[#This Row],[Currency]],Sheet3!$A$2:$C$31,3,FALSE))*(VLOOKUP(tblSalaries[[#This Row],[Currency]],Sheet1!$N$4:$Q$186,4,FALSE))","v":40000},{"$f":"IF(Dashboard!$J$5=VLOOKUP(tblSalaries[[#This Row],[Currency]],Sheet3!$A$2:$B$31,2,FALSE),tblSalaries[[#This Row],[clean Salary (in local currency)]],(tblSalaries[[#This Row],[PPP Adjusted  USD]]/VLOOKUP(Dashboard!$J$5,Sheet3!$B$2:$C$31,2,FALSE)))","v":40000},"Accounting Manager","Manager","USA","2 to 3 hours per day","Data Not Avaliable"]
[null,"ID0495",40000,"USD",40000,{"$f":"(tblSalaries[[#This Row],[clean Salary (in local currency)]])*(VLOOKUP(tblSalaries[[#This Row],[Currency]],Sheet3!$A$2:$C$31,3,FALSE))*(VLOOKUP(tblSalaries[[#This Row],[Currency]],Sheet1!$N$4:$Q$186,4,FALSE))","v":40000},{"$f":"IF(Dashboard!$J$5=VLOOKUP(tblSalaries[[#This Row],[Currency]],Sheet3!$A$2:$B$31,2,FALSE),tblSalaries[[#This Row],[clean Salary (in local currency)]],(tblSalaries[[#This Row],[PPP Adjusted  USD]]/VLOOKUP(Dashboard!$J$5,Sheet3!$B$2:$C$31,2,FALSE)))","v":40000},"BAS","Analyst","USA","2 to 3 hours per day","Data Not Avaliable"]
[null,"ID0737",40000,"USD",40000,{"$f":"(tblSalaries[[#This Row],[clean Salary (in local currency)]])*(VLOOKUP(tblSalaries[[#This Row],[Currency]],Sheet3!$A$2:$C$31,3,FALSE))*(VLOOKUP(tblSalaries[[#This Row],[Currency]],Sheet1!$N$4:$Q$186,4,FALSE))","v":40000},{"$f":"IF(Dashboard!$J$5=VLOOKUP(tblSalaries[[#This Row],[Currency]],Sheet3!$A$2:$B$31,2,FALSE),tblSalaries[[#This Row],[clean Salary (in local currency)]],(tblSalaries[[#This Row],[PPP Adjusted  USD]]/VLOOKUP(Dashboard!$J$5,Sheet3!$B$2:$C$31,2,FALSE)))","v":40000},"Revenue Manager","Manager","India","All the 8 hours baby, all the 8!",15]
[null,"ID0831",40000,"USD",40000,{"$f":"(tblSalaries[[#This Row],[clean Salary (in local currency)]])*(VLOOKUP(tblSalaries[[#This Row],[Currency]],Sheet3!$A$2:$C$31,3,FALSE))*(VLOOKUP(tblSalaries[[#This Row],[Currency]],Sheet1!$N$4:$Q$186,4,FALSE))","v":40000},{"$f":"IF(Dashboard!$J$5=VLOOKUP(tblSalaries[[#This Row],[Currency]],Sheet3!$A$2:$B$31,2,FALSE),tblSalaries[[#This Row],[clean Salary (in local currency)]],(tblSalaries[[#This Row],[PPP Adjusted  USD]]/VLOOKUP(Dashboard!$J$5,Sheet3!$B$2:$C$31,2,FALSE)))","v":40000},"High School Teacher","Manager","USA","2 to 3 hours per day",20]
[null,"ID0858",40000,"USD",40000,{"$f":"(tblSalaries[[#This Row],[clean Salary (in local currency)]])*(VLOOKUP(tblSalaries[[#This Row],[Currency]],Sheet3!$A$2:$C$31,3,FALSE))*(VLOOKUP(tblSalaries[[#This Row],[Currency]],Sheet1!$N$4:$Q$186,4,FALSE))","v":40000},{"$f":"IF(Dashboard!$J$5=VLOOKUP(tblSalaries[[#This Row],[Currency]],Sheet3!$A$2:$B$31,2,FALSE),tblSalaries[[#This Row],[clean Salary (in local currency)]],(tblSalaries[[#This Row],[PPP Adjusted  USD]]/VLOOKUP(Dashboard!$J$5,Sheet3!$B$2:$C$31,2,FALSE)))","v":40000},"Data Research Assistant","Analyst","USA","All the 8 hours baby, all the 8!",4]
[null,"ID0867",40000,"USD",40000,{"$f":"(tblSalaries[[#This Row],[clean Salary (in local currency)]])*(VLOOKUP(tblSalaries[[#This Row],[Currency]],Sheet3!$A$2:$C$31,3,FALSE))*(VLOOKUP(tblSalaries[[#This Row],[Currency]],Sheet1!$N$4:$Q$186,4,FALSE))","v":40000},{"$f":"IF(Dashboard!$J$5=VLOOKUP(tblSalaries[[#This Row],[Currency]],Sheet3!$A$2:$B$31,2,FALSE),tblSalaries[[#This Row],[clean Salary (in local currency)]],(tblSalaries[[#This Row],[PPP Adjusted  USD]]/VLOOKUP(Dashboard!$J$5,Sheet3!$B$2:$C$31,2,FALSE)))","v":40000},"IT Capacity Planner","Analyst","USA","All the 8 hours baby, all the 8!",2]
[null,"ID0961",40000,"USD",40000,{"$f":"(tblSalaries[[#This Row],[clean Salary (in local currency)]])*(VLOOKUP(tblSalaries[[#This Row],[Currency]],Sheet3!$A$2:$C$31,3,FALSE))*(VLOOKUP(tblSalaries[[#This Row],[Currency]],Sheet1!$N$4:$Q$186,4,FALSE))","v":40000},{"$f":"IF(Dashboard!$J$5=VLOOKUP(tblSalaries[[#This Row],[Currency]],Sheet3!$A$2:$B$31,2,FALSE),tblSalaries[[#This Row],[clean Salary (in local currency)]],(tblSalaries[[#This Row],[PPP Adjusted  USD]]/VLOOKUP(Dashboard!$J$5,Sheet3!$B$2:$C$31,2,FALSE)))","v":40000},"analyst","Analyst","New Zealand","4 to 6 hours a day",5]
[null,"ID1145",40000,"USD",40000,{"$f":"(tblSalaries[[#This Row],[clean Salary (in local currency)]])*(VLOOKUP(tblSalaries[[#This Row],[Currency]],Sheet3!$A$2:$C$31,3,FALSE))*(VLOOKUP(tblSalaries[[#This Row],[Currency]],Sheet1!$N$4:$Q$186,4,FALSE))","v":40000},{"$f":"IF(Dashboard!$J$5=VLOOKUP(tblSalaries[[#This Row],[Currency]],Sheet3!$A$2:$B$31,2,FALSE),tblSalaries[[#This Row],[clean Salary (in local currency)]],(tblSalaries[[#This Row],[PPP Adjusted  USD]]/VLOOKUP(Dashboard!$J$5,Sheet3!$B$2:$C$31,2,FALSE)))","v":40000},"Engineer","Engineer","India","2 to 3 hours per day",2]
[null,"ID1220",40000,"USD",40000,{"$f":"(tblSalaries[[#This Row],[clean Salary (in local currency)]])*(VLOOKUP(tblSalaries[[#This Row],[Currency]],Sheet3!$A$2:$C$31,3,FALSE))*(VLOOKUP(tblSalaries[[#This Row],[Currency]],Sheet1!$N$4:$Q$186,4,FALSE))","v":40000},{"$f":"IF(Dashboard!$J$5=VLOOKUP(tblSalaries[[#This Row],[Currency]],Sheet3!$A$2:$B$31,2,FALSE),tblSalaries[[#This Row],[clean Salary (in local currency)]],(tblSalaries[[#This Row],[PPP Adjusted  USD]]/VLOOKUP(Dashboard!$J$5,Sheet3!$B$2:$C$31,2,FALSE)))","v":40000},"Staff Accountant","Accountant","USA","2 to 3 hours per day",15]
[null,"ID1231",40000,"USD",40000,{"$f":"(tblSalaries[[#This Row],[clean Salary (in local currency)]])*(VLOOKUP(tblSalaries[[#This Row],[Currency]],Sheet3!$A$2:$C$31,3,FALSE))*(VLOOKUP(tblSalaries[[#This Row],[Currency]],Sheet1!$N$4:$Q$186,4,FALSE))","v":40000},{"$f":"IF(Dashboard!$J$5=VLOOKUP(tblSalaries[[#This Row],[Currency]],Sheet3!$A$2:$B$31,2,FALSE),tblSalaries[[#This Row],[clean Salary (in local currency)]],(tblSalaries[[#This Row],[PPP Adjusted  USD]]/VLOOKUP(Dashboard!$J$5,Sheet3!$B$2:$C$31,2,FALSE)))","v":40000},"SOX,SAP, Insurance Coordinator","Manager","Pakistan","4 to 6 hours a day",15]
[null,"ID1265",40000,"USD",40000,{"$f":"(tblSalaries[[#This Row],[clean Salary (in local currency)]])*(VLOOKUP(tblSalaries[[#This Row],[Currency]],Sheet3!$A$2:$C$31,3,FALSE))*(VLOOKUP(tblSalaries[[#This Row],[Currency]],Sheet1!$N$4:$Q$186,4,FALSE))","v":40000},{"$f":"IF(Dashboard!$J$5=VLOOKUP(tblSalaries[[#This Row],[Currency]],Sheet3!$A$2:$B$31,2,FALSE),tblSalaries[[#This Row],[clean Salary (in local currency)]],(tblSalaries[[#This Row],[PPP Adjusted  USD]]/VLOOKUP(Dashboard!$J$5,Sheet3!$B$2:$C$31,2,FALSE)))","v":40000},"Senior Materials Handler","Manager","USA","2 to 3 hours per day",18]
[null,"ID1405",40000,"USD",40000,{"$f":"(tblSalaries[[#This Row],[clean Salary (in local currency)]])*(VLOOKUP(tblSalaries[[#This Row],[Currency]],Sheet3!$A$2:$C$31,3,FALSE))*(VLOOKUP(tblSalaries[[#This Row],[Currency]],Sheet1!$N$4:$Q$186,4,FALSE))","v":40000},{"$f":"IF(Dashboard!$J$5=VLOOKUP(tblSalaries[[#This Row],[Currency]],Sheet3!$A$2:$B$31,2,FALSE),tblSalaries[[#This Row],[clean Salary (in local currency)]],(tblSalaries[[#This Row],[PPP Adjusted  USD]]/VLOOKUP(Dashboard!$J$5,Sheet3!$B$2:$C$31,2,FALSE)))","v":40000},"Transportation Planner","Manager","USA","1 or 2 hours a day",8]
[null,"ID1409",40000,"USD",40000,{"$f":"(tblSalaries[[#This Row],[clean Salary (in local currency)]])*(VLOOKUP(tblSalaries[[#This Row],[Currency]],Sheet3!$A$2:$C$31,3,FALSE))*(VLOOKUP(tblSalaries[[#This Row],[Currency]],Sheet1!$N$4:$Q$186,4,FALSE))","v":40000},{"$f":"IF(Dashboard!$J$5=VLOOKUP(tblSalaries[[#This Row],[Currency]],Sheet3!$A$2:$B$31,2,FALSE),tblSalaries[[#This Row],[clean Salary (in local currency)]],(tblSalaries[[#This Row],[PPP Adjusted  USD]]/VLOOKUP(Dashboard!$J$5,Sheet3!$B$2:$C$31,2,FALSE)))","v":40000},"Project Coordinator","Manager","USA","4 to 6 hours a day",1]
[null,"ID1419",40000,"USD",40000,{"$f":"(tblSalaries[[#This Row],[clean Salary (in local currency)]])*(VLOOKUP(tblSalaries[[#This Row],[Currency]],Sheet3!$A$2:$C$31,3,FALSE))*(VLOOKUP(tblSalaries[[#This Row],[Currency]],Sheet1!$N$4:$Q$186,4,FALSE))","v":40000},{"$f":"IF(Dashboard!$J$5=VLOOKUP(tblSalaries[[#This Row],[Currency]],Sheet3!$A$2:$B$31,2,FALSE),tblSalaries[[#This Row],[clean Salary (in local currency)]],(tblSalaries[[#This Row],[PPP Adjusted  USD]]/VLOOKUP(Dashboard!$J$5,Sheet3!$B$2:$C$31,2,FALSE)))","v":40000},"Metrics Analyst","Analyst","USA","2 to 3 hours per day",6]
[null,"ID1566",40000,"USD",40000,{"$f":"(tblSalaries[[#This Row],[clean Salary (in local currency)]])*(VLOOKUP(tblSalaries[[#This Row],[Currency]],Sheet3!$A$2:$C$31,3,FALSE))*(VLOOKUP(tblSalaries[[#This Row],[Currency]],Sheet1!$N$4:$Q$186,4,FALSE))","v":40000},{"$f":"IF(Dashboard!$J$5=VLOOKUP(tblSalaries[[#This Row],[Currency]],Sheet3!$A$2:$B$31,2,FALSE),tblSalaries[[#This Row],[clean Salary (in local currency)]],(tblSalaries[[#This Row],[PPP Adjusted  USD]]/VLOOKUP(Dashboard!$J$5,Sheet3!$B$2:$C$31,2,FALSE)))","v":40000},"QA Data Analyst","Analyst","USA","4 to 6 hours a day",8]
[null,"ID1767",40000,"USD",40000,{"$f":"(tblSalaries[[#This Row],[clean Salary (in local currency)]])*(VLOOKUP(tblSalaries[[#This Row],[Currency]],Sheet3!$A$2:$C$31,3,FALSE))*(VLOOKUP(tblSalaries[[#This Row],[Currency]],Sheet1!$N$4:$Q$186,4,FALSE))","v":40000},{"$f":"IF(Dashboard!$J$5=VLOOKUP(tblSalaries[[#This Row],[Currency]],Sheet3!$A$2:$B$31,2,FALSE),tblSalaries[[#This Row],[clean Salary (in local currency)]],(tblSalaries[[#This Row],[PPP Adjusted  USD]]/VLOOKUP(Dashboard!$J$5,Sheet3!$B$2:$C$31,2,FALSE)))","v":40000},"Market Research Analyst","Analyst","USA","4 to 6 hours a day",5]
[null,"ID1794",40000,"USD",40000,{"$f":"(tblSalaries[[#This Row],[clean Salary (in local currency)]])*(VLOOKUP(tblSalaries[[#This Row],[Currency]],Sheet3!$A$2:$C$31,3,FALSE))*(VLOOKUP(tblSalaries[[#This Row],[Currency]],Sheet1!$N$4:$Q$186,4,FALSE))","v":40000},{"$f":"IF(Dashboard!$J$5=VLOOKUP(tblSalaries[[#This Row],[Currency]],Sheet3!$A$2:$B$31,2,FALSE),tblSalaries[[#This Row],[clean Salary (in local currency)]],(tblSalaries[[#This Row],[PPP Adjusted  USD]]/VLOOKUP(Dashboard!$J$5,Sheet3!$B$2:$C$31,2,FALSE)))","v":40000},"Intern","Analyst","USA","2 to 3 hours per day",2]
[null,"ID1841",40000,"USD",40000,{"$f":"(tblSalaries[[#This Row],[clean Salary (in local currency)]])*(VLOOKUP(tblSalaries[[#This Row],[Currency]],Sheet3!$A$2:$C$31,3,FALSE))*(VLOOKUP(tblSalaries[[#This Row],[Currency]],Sheet1!$N$4:$Q$186,4,FALSE))","v":40000},{"$f":"IF(Dashboard!$J$5=VLOOKUP(tblSalaries[[#This Row],[Currency]],Sheet3!$A$2:$B$31,2,FALSE),tblSalaries[[#This Row],[clean Salary (in local currency)]],(tblSalaries[[#This Row],[PPP Adjusted  USD]]/VLOOKUP(Dashboard!$J$5,Sheet3!$B$2:$C$31,2,FALSE)))","v":40000},"Rates Analyst","Analyst","USA","2 to 3 hours per day",0]
[null,"ID1851",40000,"USD",40000,{"$f":"(tblSalaries[[#This Row],[clean Salary (in local currency)]])*(VLOOKUP(tblSalaries[[#This Row],[Currency]],Sheet3!$A$2:$C$31,3,FALSE))*(VLOOKUP(tblSalaries[[#This Row],[Currency]],Sheet1!$N$4:$Q$186,4,FALSE))","v":40000},{"$f":"IF(Dashboard!$J$5=VLOOKUP(tblSalaries[[#This Row],[Currency]],Sheet3!$A$2:$B$31,2,FALSE),tblSalaries[[#This Row],[clean Salary (in local currency)]],(tblSalaries[[#This Row],[PPP Adjusted  USD]]/VLOOKUP(Dashboard!$J$5,Sheet3!$B$2:$C$31,2,FALSE)))","v":40000},"Research Support Specialist","Specialist","USA","4 to 6 hours a day",1]
[null,"ID1878",40000,"USD",40000,{"$f":"(tblSalaries[[#This Row],[clean Salary (in local currency)]])*(VLOOKUP(tblSalaries[[#This Row],[Currency]],Sheet3!$A$2:$C$31,3,FALSE))*(VLOOKUP(tblSalaries[[#This Row],[Currency]],Sheet1!$N$4:$Q$186,4,FALSE))","v":40000},{"$f":"IF(Dashboard!$J$5=VLOOKUP(tblSalaries[[#This Row],[Currency]],Sheet3!$A$2:$B$31,2,FALSE),tblSalaries[[#This Row],[clean Salary (in local currency)]],(tblSalaries[[#This Row],[PPP Adjusted  USD]]/VLOOKUP(Dashboard!$J$5,Sheet3!$B$2:$C$31,2,FALSE)))","v":40000},"Assistant Manager","Manager","India","4 to 6 hours a day",5]
[null,"ID1930",40000,"USD",40000,{"$f":"(tblSalaries[[#This Row],[clean Salary (in local currency)]])*(VLOOKUP(tblSalaries[[#This Row],[Currency]],Sheet3!$A$2:$C$31,3,FALSE))*(VLOOKUP(tblSalaries[[#This Row],[Currency]],Sheet1!$N$4:$Q$186,4,FALSE))","v":40000},{"$f":"IF(Dashboard!$J$5=VLOOKUP(tblSalaries[[#This Row],[Currency]],Sheet3!$A$2:$B$31,2,FALSE),tblSalaries[[#This Row],[clean Salary (in local currency)]],(tblSalaries[[#This Row],[PPP Adjusted  USD]]/VLOOKUP(Dashboard!$J$5,Sheet3!$B$2:$C$31,2,FALSE)))","v":40000},"Corporate Trainer","Analyst","USA","1 or 2 hours a day",3]
[null,"ID1059",240000,"ZAR",29261.227167098674,{"$f":"(tblSalaries[[#This Row],[clean Salary (in local currency)]])*(VLOOKUP(tblSalaries[[#This Row],[Currency]],Sheet3!$A$2:$C$31,3,FALSE))*(VLOOKUP(tblSalaries[[#This Row],[Currency]],Sheet1!$N$4:$Q$186,4,FALSE))","v":39806.265731656895},{"$f":"IF(Dashboard!$J$5=VLOOKUP(tblSalaries[[#This Row],[Currency]],Sheet3!$A$2:$B$31,2,FALSE),tblSalaries[[#This Row],[clean Salary (in local currency)]],(tblSalaries[[#This Row],[PPP Adjusted  USD]]/VLOOKUP(Dashboard!$J$5,Sheet3!$B$2:$C$31,2,FALSE)))","v":39806.265731656895},"Bookkeeper","Accountant","South Africa","2 to 3 hours per day",20]
[null,"ID1362",27000,"GBP",42556.81334581667,{"$f":"(tblSalaries[[#This Row],[clean Salary (in local currency)]])*(VLOOKUP(tblSalaries[[#This Row],[Currency]],Sheet3!$A$2:$C$31,3,FALSE))*(VLOOKUP(tblSalaries[[#This Row],[Currency]],Sheet1!$N$4:$Q$186,4,FALSE))","v":39797.222534471541},{"$f":"IF(Dashboard!$J$5=VLOOKUP(tblSalaries[[#This Row],[Currency]],Sheet3!$A$2:$B$31,2,FALSE),tblSalaries[[#This Row],[clean Salary (in local currency)]],(tblSalaries[[#This Row],[PPP Adjusted  USD]]/VLOOKUP(Dashboard!$J$5,Sheet3!$B$2:$C$31,2,FALSE)))","v":39797.222534471541},"Engineering Tech","Engineer","UK","4 to 6 hours a day",1]
[null,"ID1729",27000,"GBP",42556.81334581667,{"$f":"(tblSalaries[[#This Row],[clean Salary (in local currency)]])*(VLOOKUP(tblSalaries[[#This Row],[Currency]],Sheet3!$A$2:$C$31,3,FALSE))*(VLOOKUP(tblSalaries[[#This Row],[Currency]],Sheet1!$N$4:$Q$186,4,FALSE))","v":39797.222534471541},{"$f":"IF(Dashboard!$J$5=VLOOKUP(tblSalaries[[#This Row],[Currency]],Sheet3!$A$2:$B$31,2,FALSE),tblSalaries[[#This Row],[clean Salary (in local currency)]],(tblSalaries[[#This Row],[PPP Adjusted  USD]]/VLOOKUP(Dashboard!$J$5,Sheet3!$B$2:$C$31,2,FALSE)))","v":39797.222534471541},"Network Designer","Analyst","UK","4 to 6 hours a day",2]
[null,"ID1786",27000,"GBP",42556.81334581667,{"$f":"(tblSalaries[[#This Row],[clean Salary (in local currency)]])*(VLOOKUP(tblSalaries[[#This Row],[Currency]],Sheet3!$A$2:$C$31,3,FALSE))*(VLOOKUP(tblSalaries[[#This Row],[Currency]],Sheet1!$N$4:$Q$186,4,FALSE))","v":39797.222534471541},{"$f":"IF(Dashboard!$J$5=VLOOKUP(tblSalaries[[#This Row],[Currency]],Sheet3!$A$2:$B$31,2,FALSE),tblSalaries[[#This Row],[clean Salary (in local currency)]],(tblSalaries[[#This Row],[PPP Adjusted  USD]]/VLOOKUP(Dashboard!$J$5,Sheet3!$B$2:$C$31,2,FALSE)))","v":39797.222534471541},"assistant account manager","Manager","UK","4 to 6 hours a day",3]
[null,"ID1787",27000,"GBP",42556.81334581667,{"$f":"(tblSalaries[[#This Row],[clean Salary (in local currency)]])*(VLOOKUP(tblSalaries[[#This Row],[Currency]],Sheet3!$A$2:$C$31,3,FALSE))*(VLOOKUP(tblSalaries[[#This Row],[Currency]],Sheet1!$N$4:$Q$186,4,FALSE))","v":39797.222534471541},{"$f":"IF(Dashboard!$J$5=VLOOKUP(tblSalaries[[#This Row],[Currency]],Sheet3!$A$2:$B$31,2,FALSE),tblSalaries[[#This Row],[clean Salary (in local currency)]],(tblSalaries[[#This Row],[PPP Adjusted  USD]]/VLOOKUP(Dashboard!$J$5,Sheet3!$B$2:$C$31,2,FALSE)))","v":39797.222534471541},"assistant account manager","Manager","UK","4 to 6 hours a day",3]
[null,"ID1411",36000,"EUR",45734.379803697877,{"$f":"(tblSalaries[[#This Row],[clean Salary (in local currency)]])*(VLOOKUP(tblSalaries[[#This Row],[Currency]],Sheet3!$A$2:$C$31,3,FALSE))*(VLOOKUP(tblSalaries[[#This Row],[Currency]],Sheet1!$N$4:$Q$186,4,FALSE))","v":39623.503895281872},{"$f":"IF(Dashboard!$J$5=VLOOKUP(tblSalaries[[#This Row],[Currency]],Sheet3!$A$2:$B$31,2,FALSE),tblSalaries[[#This Row],[clean Salary (in local currency)]],(tblSalaries[[#This Row],[PPP Adjusted  USD]]/VLOOKUP(Dashboard!$J$5,Sheet3!$B$2:$C$31,2,FALSE)))","v":39623.503895281872},"Data Analytics Consultant","Analyst","Ireland","2 to 3 hours per day",4]
[null,"ID0138",50000,"CAD",49168.076151516347,{"$f":"(tblSalaries[[#This Row],[clean Salary (in local currency)]])*(VLOOKUP(tblSalaries[[#This Row],[Currency]],Sheet3!$A$2:$C$31,3,FALSE))*(VLOOKUP(tblSalaries[[#This Row],[Currency]],Sheet1!$N$4:$Q$186,4,FALSE))","v":39522.310160117238},{"$f":"IF(Dashboard!$J$5=VLOOKUP(tblSalaries[[#This Row],[Currency]],Sheet3!$A$2:$B$31,2,FALSE),tblSalaries[[#This Row],[clean Salary (in local currency)]],(tblSalaries[[#This Row],[PPP Adjusted  USD]]/VLOOKUP(Dashboard!$J$5,Sheet3!$B$2:$C$31,2,FALSE)))","v":39522.310160117238},"Inventory manger","Manager","Canada","4 to 6 hours a day","Data Not Avaliable"]
[null,"ID1531",50000,"CAD",49168.076151516347,{"$f":"(tblSalaries[[#This Row],[clean Salary (in local currency)]])*(VLOOKUP(tblSalaries[[#This Row],[Currency]],Sheet3!$A$2:$C$31,3,FALSE))*(VLOOKUP(tblSalaries[[#This Row],[Currency]],Sheet1!$N$4:$Q$186,4,FALSE))","v":39522.310160117238},{"$f":"IF(Dashboard!$J$5=VLOOKUP(tblSalaries[[#This Row],[Currency]],Sheet3!$A$2:$B$31,2,FALSE),tblSalaries[[#This Row],[clean Salary (in local currency)]],(tblSalaries[[#This Row],[PPP Adjusted  USD]]/VLOOKUP(Dashboard!$J$5,Sheet3!$B$2:$C$31,2,FALSE)))","v":39522.310160117238},"Business Analyst","Analyst","Canada","4 to 6 hours a day",3]
[null,"ID1644",50000,"CAD",49168.076151516347,{"$f":"(tblSalaries[[#This Row],[clean Salary (in local currency)]])*(VLOOKUP(tblSalaries[[#This Row],[Currency]],Sheet3!$A$2:$C$31,3,FALSE))*(VLOOKUP(tblSalaries[[#This Row],[Currency]],Sheet1!$N$4:$Q$186,4,FALSE))","v":39522.310160117238},{"$f":"IF(Dashboard!$J$5=VLOOKUP(tblSalaries[[#This Row],[Currency]],Sheet3!$A$2:$B$31,2,FALSE),tblSalaries[[#This Row],[clean Salary (in local currency)]],(tblSalaries[[#This Row],[PPP Adjusted  USD]]/VLOOKUP(Dashboard!$J$5,Sheet3!$B$2:$C$31,2,FALSE)))","v":39522.310160117238},"Application Developer","Analyst","Canada","4 to 6 hours a day",5]
[null,"ID1888",63000,"AUD",64254.308353366054,{"$f":"(tblSalaries[[#This Row],[clean Salary (in local currency)]])*(VLOOKUP(tblSalaries[[#This Row],[Currency]],Sheet3!$A$2:$C$31,3,FALSE))*(VLOOKUP(tblSalaries[[#This Row],[Currency]],Sheet1!$N$4:$Q$186,4,FALSE))","v":39482.985666512497},{"$f":"IF(Dashboard!$J$5=VLOOKUP(tblSalaries[[#This Row],[Currency]],Sheet3!$A$2:$B$31,2,FALSE),tblSalaries[[#This Row],[clean Salary (in local currency)]],(tblSalaries[[#This Row],[PPP Adjusted  USD]]/VLOOKUP(Dashboard!$J$5,Sheet3!$B$2:$C$31,2,FALSE)))","v":39482.985666512497},"Financial Modelling adviser","Accountant","Australia","All the 8 hours baby, all the 8!",3]
[null,"ID1789",26500,"GBP",41768.724209783031,{"$f":"(tblSalaries[[#This Row],[clean Salary (in local currency)]])*(VLOOKUP(tblSalaries[[#This Row],[Currency]],Sheet3!$A$2:$C$31,3,FALSE))*(VLOOKUP(tblSalaries[[#This Row],[Currency]],Sheet1!$N$4:$Q$186,4,FALSE))","v":39060.23693198133},{"$f":"IF(Dashboard!$J$5=VLOOKUP(tblSalaries[[#This Row],[Currency]],Sheet3!$A$2:$B$31,2,FALSE),tblSalaries[[#This Row],[clean Salary (in local currency)]],(tblSalaries[[#This Row],[PPP Adjusted  USD]]/VLOOKUP(Dashboard!$J$5,Sheet3!$B$2:$C$31,2,FALSE)))","v":39060.23693198133},"Compliance Manager","Manager","UK","4 to 6 hours a day",16]
[null,"ID0631",39000,"USD",39000,{"$f":"(tblSalaries[[#This Row],[clean Salary (in local currency)]])*(VLOOKUP(tblSalaries[[#This Row],[Currency]],Sheet3!$A$2:$C$31,3,FALSE))*(VLOOKUP(tblSalaries[[#This Row],[Currency]],Sheet1!$N$4:$Q$186,4,FALSE))","v":39000},{"$f":"IF(Dashboard!$J$5=VLOOKUP(tblSalaries[[#This Row],[Currency]],Sheet3!$A$2:$B$31,2,FALSE),tblSalaries[[#This Row],[clean Salary (in local currency)]],(tblSalaries[[#This Row],[PPP Adjusted  USD]]/VLOOKUP(Dashboard!$J$5,Sheet3!$B$2:$C$31,2,FALSE)))","v":39000},"Content Analyst ","Analyst","USA","All the 8 hours baby, all the 8!",3]
[null,"ID1389",39000,"USD",39000,{"$f":"(tblSalaries[[#This Row],[clean Salary (in local currency)]])*(VLOOKUP(tblSalaries[[#This Row],[Currency]],Sheet3!$A$2:$C$31,3,FALSE))*(VLOOKUP(tblSalaries[[#This Row],[Currency]],Sheet1!$N$4:$Q$186,4,FALSE))","v":39000},{"$f":"IF(Dashboard!$J$5=VLOOKUP(tblSalaries[[#This Row],[Currency]],Sheet3!$A$2:$B$31,2,FALSE),tblSalaries[[#This Row],[clean Salary (in local currency)]],(tblSalaries[[#This Row],[PPP Adjusted  USD]]/VLOOKUP(Dashboard!$J$5,Sheet3!$B$2:$C$31,2,FALSE)))","v":39000},"I.T Manager","Manager","South Africa","All the 8 hours baby, all the 8!",6]
[null,"ID0980",62000,"AUD",63234.398696963413,{"$f":"(tblSalaries[[#This Row],[clean Salary (in local currency)]])*(VLOOKUP(tblSalaries[[#This Row],[Currency]],Sheet3!$A$2:$C$31,3,FALSE))*(VLOOKUP(tblSalaries[[#This Row],[Currency]],Sheet1!$N$4:$Q$186,4,FALSE))","v":38856.27160831388},{"$f":"IF(Dashboard!$J$5=VLOOKUP(tblSalaries[[#This Row],[Currency]],Sheet3!$A$2:$B$31,2,FALSE),tblSalaries[[#This Row],[clean Salary (in local currency)]],(tblSalaries[[#This Row],[PPP Adjusted  USD]]/VLOOKUP(Dashboard!$J$5,Sheet3!$B$2:$C$31,2,FALSE)))","v":38856.27160831388},"Business Analyst","Analyst","Australia","4 to 6 hours a day",3]
[null,"ID1873",38666,"USD",38666,{"$f":"(tblSalaries[[#This Row],[clean Salary (in local currency)]])*(VLOOKUP(tblSalaries[[#This Row],[Currency]],Sheet3!$A$2:$C$31,3,FALSE))*(VLOOKUP(tblSalaries[[#This Row],[Currency]],Sheet1!$N$4:$Q$186,4,FALSE))","v":38666},{"$f":"IF(Dashboard!$J$5=VLOOKUP(tblSalaries[[#This Row],[Currency]],Sheet3!$A$2:$B$31,2,FALSE),tblSalaries[[#This Row],[clean Salary (in local currency)]],(tblSalaries[[#This Row],[PPP Adjusted  USD]]/VLOOKUP(Dashboard!$J$5,Sheet3!$B$2:$C$31,2,FALSE)))","v":38666},"Actuarial Specialist","Specialist","South Africa","All the 8 hours baby, all the 8!",10]
[null,"ID0109",35000,"EUR",44463.980364706273,{"$f":"(tblSalaries[[#This Row],[clean Salary (in local currency)]])*(VLOOKUP(tblSalaries[[#This Row],[Currency]],Sheet3!$A$2:$C$31,3,FALSE))*(VLOOKUP(tblSalaries[[#This Row],[Currency]],Sheet1!$N$4:$Q$186,4,FALSE))","v":38522.851009301827},{"$f":"IF(Dashboard!$J$5=VLOOKUP(tblSalaries[[#This Row],[Currency]],Sheet3!$A$2:$B$31,2,FALSE),tblSalaries[[#This Row],[clean Salary (in local currency)]],(tblSalaries[[#This Row],[PPP Adjusted  USD]]/VLOOKUP(Dashboard!$J$5,Sheet3!$B$2:$C$31,2,FALSE)))","v":38522.851009301827},"Project manager","Manager","Greece","4 to 6 hours a day","Data Not Avaliable"]
[null,"ID1238",35000,"EUR",44463.980364706273,{"$f":"(tblSalaries[[#This Row],[clean Salary (in local currency)]])*(VLOOKUP(tblSalaries[[#This Row],[Currency]],Sheet3!$A$2:$C$31,3,FALSE))*(VLOOKUP(tblSalaries[[#This Row],[Currency]],Sheet1!$N$4:$Q$186,4,FALSE))","v":38522.851009301827},{"$f":"IF(Dashboard!$J$5=VLOOKUP(tblSalaries[[#This Row],[Currency]],Sheet3!$A$2:$B$31,2,FALSE),tblSalaries[[#This Row],[clean Salary (in local currency)]],(tblSalaries[[#This Row],[PPP Adjusted  USD]]/VLOOKUP(Dashboard!$J$5,Sheet3!$B$2:$C$31,2,FALSE)))","v":38522.851009301827},"Business Analyst","Analyst","Ireland","All the 8 hours baby, all the 8!",12]
[null,"ID1368",4000000,"JPY",50694.322109187968,{"$f":"(tblSalaries[[#This Row],[clean Salary (in local currency)]])*(VLOOKUP(tblSalaries[[#This Row],[Currency]],Sheet3!$A$2:$C$31,3,FALSE))*(VLOOKUP(tblSalaries[[#This Row],[Currency]],Sheet1!$N$4:$Q$186,4,FALSE))","v":38351.30137450336},{"$f":"IF(Dashboard!$J$5=VLOOKUP(tblSalaries[[#This Row],[Currency]],Sheet3!$A$2:$B$31,2,FALSE),tblSalaries[[#This Row],[clean Salary (in local currency)]],(tblSalaries[[#This Row],[PPP Adjusted  USD]]/VLOOKUP(Dashboard!$J$5,Sheet3!$B$2:$C$31,2,FALSE)))","v":38351.30137450336},"System Analyst (Configuration Mgmt)","Analyst","Japan","4 to 6 hours a day",8]
[null,"ID1055",26000,"GBP",40980.635073749385,{"$f":"(tblSalaries[[#This Row],[clean Salary (in local currency)]])*(VLOOKUP(tblSalaries[[#This Row],[Currency]],Sheet3!$A$2:$C$31,3,FALSE))*(VLOOKUP(tblSalaries[[#This Row],[Currency]],Sheet1!$N$4:$Q$186,4,FALSE))","v":38323.251329491111},{"$f":"IF(Dashboard!$J$5=VLOOKUP(tblSalaries[[#This Row],[Currency]],Sheet3!$A$2:$B$31,2,FALSE),tblSalaries[[#This Row],[clean Salary (in local currency)]],(tblSalaries[[#This Row],[PPP Adjusted  USD]]/VLOOKUP(Dashboard!$J$5,Sheet3!$B$2:$C$31,2,FALSE)))","v":38323.251329491111},"Consultant","Consultant","UK","All the 8 hours baby, all the 8!",8]
[null,"ID1232",26000,"GBP",40980.635073749385,{"$f":"(tblSalaries[[#This Row],[clean Salary (in local currency)]])*(VLOOKUP(tblSalaries[[#This Row],[Currency]],Sheet3!$A$2:$C$31,3,FALSE))*(VLOOKUP(tblSalaries[[#This Row],[Currency]],Sheet1!$N$4:$Q$186,4,FALSE))","v":38323.251329491111},{"$f":"IF(Dashboard!$J$5=VLOOKUP(tblSalaries[[#This Row],[Currency]],Sheet3!$A$2:$B$31,2,FALSE),tblSalaries[[#This Row],[clean Salary (in local currency)]],(tblSalaries[[#This Row],[PPP Adjusted  USD]]/VLOOKUP(Dashboard!$J$5,Sheet3!$B$2:$C$31,2,FALSE)))","v":38323.251329491111},"Business Analyst","Analyst","UK","4 to 6 hours a day",2]
[null,"ID1340",26000,"GBP",40980.635073749385,{"$f":"(tblSalaries[[#This Row],[clean Salary (in local currency)]])*(VLOOKUP(tblSalaries[[#This Row],[Currency]],Sheet3!$A$2:$C$31,3,FALSE))*(VLOOKUP(tblSalaries[[#This Row],[Currency]],Sheet1!$N$4:$Q$186,4,FALSE))","v":38323.251329491111},{"$f":"IF(Dashboard!$J$5=VLOOKUP(tblSalaries[[#This Row],[Currency]],Sheet3!$A$2:$B$31,2,FALSE),tblSalaries[[#This Row],[clean Salary (in local currency)]],(tblSalaries[[#This Row],[PPP Adjusted  USD]]/VLOOKUP(Dashboard!$J$5,Sheet3!$B$2:$C$31,2,FALSE)))","v":38323.251329491111},"Web Analyst","Analyst","UK","4 to 6 hours a day",2]
[null,"ID0059",38000,"USD",38000,{"$f":"(tblSalaries[[#This Row],[clean Salary (in local currency)]])*(VLOOKUP(tblSalaries[[#This Row],[Currency]],Sheet3!$A$2:$C$31,3,FALSE))*(VLOOKUP(tblSalaries[[#This Row],[Currency]],Sheet1!$N$4:$Q$186,4,FALSE))","v":38000},{"$f":"IF(Dashboard!$J$5=VLOOKUP(tblSalaries[[#This Row],[Currency]],Sheet3!$A$2:$B$31,2,FALSE),tblSalaries[[#This Row],[clean Salary (in local currency)]],(tblSalaries[[#This Row],[PPP Adjusted  USD]]/VLOOKUP(Dashboard!$J$5,Sheet3!$B$2:$C$31,2,FALSE)))","v":38000},"Senior Analyst","Analyst","USA","4 to 6 hours a day","Data Not Avaliable"]
[null,"ID0572",38000,"USD",38000,{"$f":"(tblSalaries[[#This Row],[clean Salary (in local currency)]])*(VLOOKUP(tblSalaries[[#This Row],[Currency]],Sheet3!$A$2:$C$31,3,FALSE))*(VLOOKUP(tblSalaries[[#This Row],[Currency]],Sheet1!$N$4:$Q$186,4,FALSE))","v":38000},{"$f":"IF(Dashboard!$J$5=VLOOKUP(tblSalaries[[#This Row],[Currency]],Sheet3!$A$2:$B$31,2,FALSE),tblSalaries[[#This Row],[clean Salary (in local currency)]],(tblSalaries[[#This Row],[PPP Adjusted  USD]]/VLOOKUP(Dashboard!$J$5,Sheet3!$B$2:$C$31,2,FALSE)))","v":38000},"Costing Analysis","Analyst","USA","All the 8 hours baby, all the 8!",11]
[null,"ID1530",38000,"USD",38000,{"$f":"(tblSalaries[[#This Row],[clean Salary (in local currency)]])*(VLOOKUP(tblSalaries[[#This Row],[Currency]],Sheet3!$A$2:$C$31,3,FALSE))*(VLOOKUP(tblSalaries[[#This Row],[Currency]],Sheet1!$N$4:$Q$186,4,FALSE))","v":38000},{"$f":"IF(Dashboard!$J$5=VLOOKUP(tblSalaries[[#This Row],[Currency]],Sheet3!$A$2:$B$31,2,FALSE),tblSalaries[[#This Row],[clean Salary (in local currency)]],(tblSalaries[[#This Row],[PPP Adjusted  USD]]/VLOOKUP(Dashboard!$J$5,Sheet3!$B$2:$C$31,2,FALSE)))","v":38000},"Accountant","Accountant","USA","4 to 6 hours a day",11]
[null,"ID1611",38000,"USD",38000,{"$f":"(tblSalaries[[#This Row],[clean Salary (in local currency)]])*(VLOOKUP(tblSalaries[[#This Row],[Currency]],Sheet3!$A$2:$C$31,3,FALSE))*(VLOOKUP(tblSalaries[[#This Row],[Currency]],Sheet1!$N$4:$Q$186,4,FALSE))","v":38000},{"$f":"IF(Dashboard!$J$5=VLOOKUP(tblSalaries[[#This Row],[Currency]],Sheet3!$A$2:$B$31,2,FALSE),tblSalaries[[#This Row],[clean Salary (in local currency)]],(tblSalaries[[#This Row],[PPP Adjusted  USD]]/VLOOKUP(Dashboard!$J$5,Sheet3!$B$2:$C$31,2,FALSE)))","v":38000},"Business Analyst","Analyst","USA","All the 8 hours baby, all the 8!",1]
[null,"ID1351",34500,"EUR",43828.780645210471,{"$f":"(tblSalaries[[#This Row],[clean Salary (in local currency)]])*(VLOOKUP(tblSalaries[[#This Row],[Currency]],Sheet3!$A$2:$C$31,3,FALSE))*(VLOOKUP(tblSalaries[[#This Row],[Currency]],Sheet1!$N$4:$Q$186,4,FALSE))","v":37972.524566311804},{"$f":"IF(Dashboard!$J$5=VLOOKUP(tblSalaries[[#This Row],[Currency]],Sheet3!$A$2:$B$31,2,FALSE),tblSalaries[[#This Row],[clean Salary (in local currency)]],(tblSalaries[[#This Row],[PPP Adjusted  USD]]/VLOOKUP(Dashboard!$J$5,Sheet3!$B$2:$C$31,2,FALSE)))","v":37972.524566311804},"Analyst","Analyst","Netherlands","4 to 6 hours a day",15]
[null,"ID1252",25750,"GBP",40586.590505732565,{"$f":"(tblSalaries[[#This Row],[clean Salary (in local currency)]])*(VLOOKUP(tblSalaries[[#This Row],[Currency]],Sheet3!$A$2:$C$31,3,FALSE))*(VLOOKUP(tblSalaries[[#This Row],[Currency]],Sheet1!$N$4:$Q$186,4,FALSE))","v":37954.758528246006},{"$f":"IF(Dashboard!$J$5=VLOOKUP(tblSalaries[[#This Row],[Currency]],Sheet3!$A$2:$B$31,2,FALSE),tblSalaries[[#This Row],[clean Salary (in local currency)]],(tblSalaries[[#This Row],[PPP Adjusted  USD]]/VLOOKUP(Dashboard!$J$5,Sheet3!$B$2:$C$31,2,FALSE)))","v":37954.758528246006},"Energy Analyst","Analyst","UK","4 to 6 hours a day",1]
[null,"ID0114",37900,"USD",37900,{"$f":"(tblSalaries[[#This Row],[clean Salary (in local currency)]])*(VLOOKUP(tblSalaries[[#This Row],[Currency]],Sheet3!$A$2:$C$31,3,FALSE))*(VLOOKUP(tblSalaries[[#This Row],[Currency]],Sheet1!$N$4:$Q$186,4,FALSE))","v":37900},{"$f":"IF(Dashboard!$J$5=VLOOKUP(tblSalaries[[#This Row],[Currency]],Sheet3!$A$2:$B$31,2,FALSE),tblSalaries[[#This Row],[clean Salary (in local currency)]],(tblSalaries[[#This Row],[PPP Adjusted  USD]]/VLOOKUP(Dashboard!$J$5,Sheet3!$B$2:$C$31,2,FALSE)))","v":37900},"Accounting Coordinator","Accountant","USA","All the 8 hours baby, all the 8!","Data Not Avaliable"]
[null,"ID0046",800000,"INR",14246.333349954055,{"$f":"(tblSalaries[[#This Row],[clean Salary (in local currency)]])*(VLOOKUP(tblSalaries[[#This Row],[Currency]],Sheet3!$A$2:$C$31,3,FALSE))*(VLOOKUP(tblSalaries[[#This Row],[Currency]],Sheet1!$N$4:$Q$186,4,FALSE))","v":37888.817878958762},{"$f":"IF(Dashboard!$J$5=VLOOKUP(tblSalaries[[#This Row],[Currency]],Sheet3!$A$2:$B$31,2,FALSE),tblSalaries[[#This Row],[clean Salary (in local currency)]],(tblSalaries[[#This Row],[PPP Adjusted  USD]]/VLOOKUP(Dashboard!$J$5,Sheet3!$B$2:$C$31,2,FALSE)))","v":37888.817878958762},"Team Lead","Manager","India","2 to 3 hours per day","Data Not Avaliable"]
[null,"ID0136",800000,"INR",14246.333349954055,{"$f":"(tblSalaries[[#This Row],[clean Salary (in local currency)]])*(VLOOKUP(tblSalaries[[#This Row],[Currency]],Sheet3!$A$2:$C$31,3,FALSE))*(VLOOKUP(tblSalaries[[#This Row],[Currency]],Sheet1!$N$4:$Q$186,4,FALSE))","v":37888.817878958762},{"$f":"IF(Dashboard!$J$5=VLOOKUP(tblSalaries[[#This Row],[Currency]],Sheet3!$A$2:$B$31,2,FALSE),tblSalaries[[#This Row],[clean Salary (in local currency)]],(tblSalaries[[#This Row],[PPP Adjusted  USD]]/VLOOKUP(Dashboard!$J$5,Sheet3!$B$2:$C$31,2,FALSE)))","v":37888.817878958762},"Manager : Accounts","Manager","India","2 to 3 hours per day","Data Not Avaliable"]
[null,"ID0457",800000,"INR",14246.333349954055,{"$f":"(tblSalaries[[#This Row],[clean Salary (in local currency)]])*(VLOOKUP(tblSalaries[[#This Row],[Currency]],Sheet3!$A$2:$C$31,3,FALSE))*(VLOOKUP(tblSalaries[[#This Row],[Currency]],Sheet1!$N$4:$Q$186,4,FALSE))","v":37888.817878958762},{"$f":"IF(Dashboard!$J$5=VLOOKUP(tblSalaries[[#This Row],[Currency]],Sheet3!$A$2:$B$31,2,FALSE),tblSalaries[[#This Row],[clean Salary (in local currency)]],(tblSalaries[[#This Row],[PPP Adjusted  USD]]/VLOOKUP(Dashboard!$J$5,Sheet3!$B$2:$C$31,2,FALSE)))","v":37888.817878958762},"Partner","CXO or Top Mgmt.","India","All the 8 hours baby, all the 8!","Data Not Avaliable"]
[null,"ID0650",800000,"INR",14246.333349954055,{"$f":"(tblSalaries[[#This Row],[clean Salary (in local currency)]])*(VLOOKUP(tblSalaries[[#This Row],[Currency]],Sheet3!$A$2:$C$31,3,FALSE))*(VLOOKUP(tblSalaries[[#This Row],[Currency]],Sheet1!$N$4:$Q$186,4,FALSE))","v":37888.817878958762},{"$f":"IF(Dashboard!$J$5=VLOOKUP(tblSalaries[[#This Row],[Currency]],Sheet3!$A$2:$B$31,2,FALSE),tblSalaries[[#This Row],[clean Salary (in local currency)]],(tblSalaries[[#This Row],[PPP Adjusted  USD]]/VLOOKUP(Dashboard!$J$5,Sheet3!$B$2:$C$31,2,FALSE)))","v":37888.817878958762},"Engineer","Engineer","India","2 to 3 hours per day",3]
[null,"ID0700",800000,"INR",14246.333349954055,{"$f":"(tblSalaries[[#This Row],[clean Salary (in local currency)]])*(VLOOKUP(tblSalaries[[#This Row],[Currency]],Sheet3!$A$2:$C$31,3,FALSE))*(VLOOKUP(tblSalaries[[#This Row],[Currency]],Sheet1!$N$4:$Q$186,4,FALSE))","v":37888.817878958762},{"$f":"IF(Dashboard!$J$5=VLOOKUP(tblSalaries[[#This Row],[Currency]],Sheet3!$A$2:$B$31,2,FALSE),tblSalaries[[#This Row],[clean Salary (in local currency)]],(tblSalaries[[#This Row],[PPP Adjusted  USD]]/VLOOKUP(Dashboard!$J$5,Sheet3!$B$2:$C$31,2,FALSE)))","v":37888.817878958762},"Manager","Manager","India","4 to 6 hours a day",7]
[null,"ID0735",800000,"INR",14246.333349954055,{"$f":"(tblSalaries[[#This Row],[clean Salary (in local currency)]])*(VLOOKUP(tblSalaries[[#This Row],[Currency]],Sheet3!$A$2:$C$31,3,FALSE))*(VLOOKUP(tblSalaries[[#This Row],[Currency]],Sheet1!$N$4:$Q$186,4,FALSE))","v":37888.817878958762},{"$f":"IF(Dashboard!$J$5=VLOOKUP(tblSalaries[[#This Row],[Currency]],Sheet3!$A$2:$B$31,2,FALSE),tblSalaries[[#This Row],[clean Salary (in local currency)]],(tblSalaries[[#This Row],[PPP Adjusted  USD]]/VLOOKUP(Dashboard!$J$5,Sheet3!$B$2:$C$31,2,FALSE)))","v":37888.817878958762},"Manager","Manager","India","2 to 3 hours per day",13]
[null,"ID1756",800000,"INR",14246.333349954055,{"$f":"(tblSalaries[[#This Row],[clean Salary (in local currency)]])*(VLOOKUP(tblSalaries[[#This Row],[Currency]],Sheet3!$A$2:$C$31,3,FALSE))*(VLOOKUP(tblSalaries[[#This Row],[Currency]],Sheet1!$N$4:$Q$186,4,FALSE))","v":37888.817878958762},{"$f":"IF(Dashboard!$J$5=VLOOKUP(tblSalaries[[#This Row],[Currency]],Sheet3!$A$2:$B$31,2,FALSE),tblSalaries[[#This Row],[clean Salary (in local currency)]],(tblSalaries[[#This Row],[PPP Adjusted  USD]]/VLOOKUP(Dashboard!$J$5,Sheet3!$B$2:$C$31,2,FALSE)))","v":37888.817878958762},"MANAGER","Manager","India","2 to 3 hours per day",0]
[null,"ID1757",800000,"INR",14246.333349954055,{"$f":"(tblSalaries[[#This Row],[clean Salary (in local currency)]])*(VLOOKUP(tblSalaries[[#This Row],[Currency]],Sheet3!$A$2:$C$31,3,FALSE))*(VLOOKUP(tblSalaries[[#This Row],[Currency]],Sheet1!$N$4:$Q$186,4,FALSE))","v":37888.817878958762},{"$f":"IF(Dashboard!$J$5=VLOOKUP(tblSalaries[[#This Row],[Currency]],Sheet3!$A$2:$B$31,2,FALSE),tblSalaries[[#This Row],[clean Salary (in local currency)]],(tblSalaries[[#This Row],[PPP Adjusted  USD]]/VLOOKUP(Dashboard!$J$5,Sheet3!$B$2:$C$31,2,FALSE)))","v":37888.817878958762},"MANAGER","Manager","India","2 to 3 hours per day",0]
[null,"ID0534",60000,"AUD",61194.579384158147,{"$f":"(tblSalaries[[#This Row],[clean Salary (in local currency)]])*(VLOOKUP(tblSalaries[[#This Row],[Currency]],Sheet3!$A$2:$C$31,3,FALSE))*(VLOOKUP(tblSalaries[[#This Row],[Currency]],Sheet1!$N$4:$Q$186,4,FALSE))","v":37602.843491916661},{"$f":"IF(Dashboard!$J$5=VLOOKUP(tblSalaries[[#This Row],[Currency]],Sheet3!$A$2:$B$31,2,FALSE),tblSalaries[[#This Row],[clean Salary (in local currency)]],(tblSalaries[[#This Row],[PPP Adjusted  USD]]/VLOOKUP(Dashboard!$J$5,Sheet3!$B$2:$C$31,2,FALSE)))","v":37602.843491916661},"Analyst","Analyst","Australia","2 to 3 hours per day","Data Not Avaliable"]
[null,"ID1738",60000,"AUD",61194.579384158147,{"$f":"(tblSalaries[[#This Row],[clean Salary (in local currency)]])*(VLOOKUP(tblSalaries[[#This Row],[Currency]],Sheet3!$A$2:$C$31,3,FALSE))*(VLOOKUP(tblSalaries[[#This Row],[Currency]],Sheet1!$N$4:$Q$186,4,FALSE))","v":37602.843491916661},{"$f":"IF(Dashboard!$J$5=VLOOKUP(tblSalaries[[#This Row],[Currency]],Sheet3!$A$2:$B$31,2,FALSE),tblSalaries[[#This Row],[clean Salary (in local currency)]],(tblSalaries[[#This Row],[PPP Adjusted  USD]]/VLOOKUP(Dashboard!$J$5,Sheet3!$B$2:$C$31,2,FALSE)))","v":37602.843491916661},"business analyst","Analyst","Australia","2 to 3 hours per day",3]
[null,"ID1850",37500,"USD",37500,{"$f":"(tblSalaries[[#This Row],[clean Salary (in local currency)]])*(VLOOKUP(tblSalaries[[#This Row],[Currency]],Sheet3!$A$2:$C$31,3,FALSE))*(VLOOKUP(tblSalaries[[#This Row],[Currency]],Sheet1!$N$4:$Q$186,4,FALSE))","v":37500},{"$f":"IF(Dashboard!$J$5=VLOOKUP(tblSalaries[[#This Row],[Currency]],Sheet3!$A$2:$B$31,2,FALSE),tblSalaries[[#This Row],[clean Salary (in local currency)]],(tblSalaries[[#This Row],[PPP Adjusted  USD]]/VLOOKUP(Dashboard!$J$5,Sheet3!$B$2:$C$31,2,FALSE)))","v":37500},"consultant","Consultant","India","All the 8 hours baby, all the 8!",0]
[null,"ID0154",37440,"USD",37440,{"$f":"(tblSalaries[[#This Row],[clean Salary (in local currency)]])*(VLOOKUP(tblSalaries[[#This Row],[Currency]],Sheet3!$A$2:$C$31,3,FALSE))*(VLOOKUP(tblSalaries[[#This Row],[Currency]],Sheet1!$N$4:$Q$186,4,FALSE))","v":37440},{"$f":"IF(Dashboard!$J$5=VLOOKUP(tblSalaries[[#This Row],[Currency]],Sheet3!$A$2:$B$31,2,FALSE),tblSalaries[[#This Row],[clean Salary (in local currency)]],(tblSalaries[[#This Row],[PPP Adjusted  USD]]/VLOOKUP(Dashboard!$J$5,Sheet3!$B$2:$C$31,2,FALSE)))","v":37440},"sales analyst","Analyst","USA","All the 8 hours baby, all the 8!","Data Not Avaliable"]
[null,"ID1693",400000,"NOK",67700.452577525488,{"$f":"(tblSalaries[[#This Row],[clean Salary (in local currency)]])*(VLOOKUP(tblSalaries[[#This Row],[Currency]],Sheet3!$A$2:$C$31,3,FALSE))*(VLOOKUP(tblSalaries[[#This Row],[Currency]],Sheet1!$N$4:$Q$186,4,FALSE))","v":37221.741022107679},{"$f":"IF(Dashboard!$J$5=VLOOKUP(tblSalaries[[#This Row],[Currency]],Sheet3!$A$2:$B$31,2,FALSE),tblSalaries[[#This Row],[clean Salary (in local currency)]],(tblSalaries[[#This Row],[PPP Adjusted  USD]]/VLOOKUP(Dashboard!$J$5,Sheet3!$B$2:$C$31,2,FALSE)))","v":37221.741022107679},"Economic analyst","Analyst","Norway","All the 8 hours baby, all the 8!",5]
[null,"ID0663",37000,"USD",37000,{"$f":"(tblSalaries[[#This Row],[clean Salary (in local currency)]])*(VLOOKUP(tblSalaries[[#This Row],[Currency]],Sheet3!$A$2:$C$31,3,FALSE))*(VLOOKUP(tblSalaries[[#This Row],[Currency]],Sheet1!$N$4:$Q$186,4,FALSE))","v":37000},{"$f":"IF(Dashboard!$J$5=VLOOKUP(tblSalaries[[#This Row],[Currency]],Sheet3!$A$2:$B$31,2,FALSE),tblSalaries[[#This Row],[clean Salary (in local currency)]],(tblSalaries[[#This Row],[PPP Adjusted  USD]]/VLOOKUP(Dashboard!$J$5,Sheet3!$B$2:$C$31,2,FALSE)))","v":37000},"Cad Engineer","Engineer","India","4 to 6 hours a day",10]
[null,"ID1404",37000,"USD",37000,{"$f":"(tblSalaries[[#This Row],[clean Salary (in local currency)]])*(VLOOKUP(tblSalaries[[#This Row],[Currency]],Sheet3!$A$2:$C$31,3,FALSE))*(VLOOKUP(tblSalaries[[#This Row],[Currency]],Sheet1!$N$4:$Q$186,4,FALSE))","v":37000},{"$f":"IF(Dashboard!$J$5=VLOOKUP(tblSalaries[[#This Row],[Currency]],Sheet3!$A$2:$B$31,2,FALSE),tblSalaries[[#This Row],[clean Salary (in local currency)]],(tblSalaries[[#This Row],[PPP Adjusted  USD]]/VLOOKUP(Dashboard!$J$5,Sheet3!$B$2:$C$31,2,FALSE)))","v":37000},"Credentialing Coordinator & Productivity Reports \"Guru\"","Reporting","USA","2 to 3 hours per day",30]
[null,"ID1500",33500,"EUR",42558.381206218859,{"$f":"(tblSalaries[[#This Row],[clean Salary (in local currency)]])*(VLOOKUP(tblSalaries[[#This Row],[Currency]],Sheet3!$A$2:$C$31,3,FALSE))*(VLOOKUP(tblSalaries[[#This Row],[Currency]],Sheet1!$N$4:$Q$186,4,FALSE))","v":36871.871680331744},{"$f":"IF(Dashboard!$J$5=VLOOKUP(tblSalaries[[#This Row],[Currency]],Sheet3!$A$2:$B$31,2,FALSE),tblSalaries[[#This Row],[clean Salary (in local currency)]],(tblSalaries[[#This Row],[PPP Adjusted  USD]]/VLOOKUP(Dashboard!$J$5,Sheet3!$B$2:$C$31,2,FALSE)))","v":36871.871680331744},"Controller / VBA Developet","Controller","Germany","All the 8 hours baby, all the 8!",8]
[null,"ID0464",25000,"GBP",39404.456801682099,{"$f":"(tblSalaries[[#This Row],[clean Salary (in local currency)]])*(VLOOKUP(tblSalaries[[#This Row],[Currency]],Sheet3!$A$2:$C$31,3,FALSE))*(VLOOKUP(tblSalaries[[#This Row],[Currency]],Sheet1!$N$4:$Q$186,4,FALSE))","v":36849.280124510682},{"$f":"IF(Dashboard!$J$5=VLOOKUP(tblSalaries[[#This Row],[Currency]],Sheet3!$A$2:$B$31,2,FALSE),tblSalaries[[#This Row],[clean Salary (in local currency)]],(tblSalaries[[#This Row],[PPP Adjusted  USD]]/VLOOKUP(Dashboard!$J$5,Sheet3!$B$2:$C$31,2,FALSE)))","v":36849.280124510682},"Analyst","Analyst","UK","4 to 6 hours a day","Data Not Avaliable"]
[null,"ID1118",25000,"GBP",39404.456801682099,{"$f":"(tblSalaries[[#This Row],[clean Salary (in local currency)]])*(VLOOKUP(tblSalaries[[#This Row],[Currency]],Sheet3!$A$2:$C$31,3,FALSE))*(VLOOKUP(tblSalaries[[#This Row],[Currency]],Sheet1!$N$4:$Q$186,4,FALSE))","v":36849.280124510682},{"$f":"IF(Dashboard!$J$5=VLOOKUP(tblSalaries[[#This Row],[Currency]],Sheet3!$A$2:$B$31,2,FALSE),tblSalaries[[#This Row],[clean Salary (in local currency)]],(tblSalaries[[#This Row],[PPP Adjusted  USD]]/VLOOKUP(Dashboard!$J$5,Sheet3!$B$2:$C$31,2,FALSE)))","v":36849.280124510682},"Developer","Analyst","UK","4 to 6 hours a day",3]
[null,"ID1241",25000,"GBP",39404.456801682099,{"$f":"(tblSalaries[[#This Row],[clean Salary (in local currency)]])*(VLOOKUP(tblSalaries[[#This Row],[Currency]],Sheet3!$A$2:$C$31,3,FALSE))*(VLOOKUP(tblSalaries[[#This Row],[Currency]],Sheet1!$N$4:$Q$186,4,FALSE))","v":36849.280124510682},{"$f":"IF(Dashboard!$J$5=VLOOKUP(tblSalaries[[#This Row],[Currency]],Sheet3!$A$2:$B$31,2,FALSE),tblSalaries[[#This Row],[clean Salary (in local currency)]],(tblSalaries[[#This Row],[PPP Adjusted  USD]]/VLOOKUP(Dashboard!$J$5,Sheet3!$B$2:$C$31,2,FALSE)))","v":36849.280124510682},"Senior Accounts Clerk","Accountant","UK","2 to 3 hours per day",10]
[null,"ID1472",25000,"GBP",39404.456801682099,{"$f":"(tblSalaries[[#This Row],[clean Salary (in local currency)]])*(VLOOKUP(tblSalaries[[#This Row],[Currency]],Sheet3!$A$2:$C$31,3,FALSE))*(VLOOKUP(tblSalaries[[#This Row],[Currency]],Sheet1!$N$4:$Q$186,4,FALSE))","v":36849.280124510682},{"$f":"IF(Dashboard!$J$5=VLOOKUP(tblSalaries[[#This Row],[Currency]],Sheet3!$A$2:$B$31,2,FALSE),tblSalaries[[#This Row],[clean Salary (in local currency)]],(tblSalaries[[#This Row],[PPP Adjusted  USD]]/VLOOKUP(Dashboard!$J$5,Sheet3!$B$2:$C$31,2,FALSE)))","v":36849.280124510682},"Assistant Financial Accountant","Accountant","UK","4 to 6 hours a day",35]
[null,"ID1562",25000,"GBP",39404.456801682099,{"$f":"(tblSalaries[[#This Row],[clean Salary (in local currency)]])*(VLOOKUP(tblSalaries[[#This Row],[Currency]],Sheet3!$A$2:$C$31,3,FALSE))*(VLOOKUP(tblSalaries[[#This Row],[Currency]],Sheet1!$N$4:$Q$186,4,FALSE))","v":36849.280124510682},{"$f":"IF(Dashboard!$J$5=VLOOKUP(tblSalaries[[#This Row],[Currency]],Sheet3!$A$2:$B$31,2,FALSE),tblSalaries[[#This Row],[clean Salary (in local currency)]],(tblSalaries[[#This Row],[PPP Adjusted  USD]]/VLOOKUP(Dashboard!$J$5,Sheet3!$B$2:$C$31,2,FALSE)))","v":36849.280124510682},"Reporting Team Lead","Reporting","UK","4 to 6 hours a day",2]
[null,"ID1905",25000,"GBP",39404.456801682099,{"$f":"(tblSalaries[[#This Row],[clean Salary (in local currency)]])*(VLOOKUP(tblSalaries[[#This Row],[Currency]],Sheet3!$A$2:$C$31,3,FALSE))*(VLOOKUP(tblSalaries[[#This Row],[Currency]],Sheet1!$N$4:$Q$186,4,FALSE))","v":36849.280124510682},{"$f":"IF(Dashboard!$J$5=VLOOKUP(tblSalaries[[#This Row],[Currency]],Sheet3!$A$2:$B$31,2,FALSE),tblSalaries[[#This Row],[clean Salary (in local currency)]],(tblSalaries[[#This Row],[PPP Adjusted  USD]]/VLOOKUP(Dashboard!$J$5,Sheet3!$B$2:$C$31,2,FALSE)))","v":36849.280124510682},"Data Analyst","Analyst","UK","4 to 6 hours a day",3]
[null,"ID0912",775000,"INR",13801.135432767991,{"$f":"(tblSalaries[[#This Row],[clean Salary (in local currency)]])*(VLOOKUP(tblSalaries[[#This Row],[Currency]],Sheet3!$A$2:$C$31,3,FALSE))*(VLOOKUP(tblSalaries[[#This Row],[Currency]],Sheet1!$N$4:$Q$186,4,FALSE))","v":36704.792320241308},{"$f":"IF(Dashboard!$J$5=VLOOKUP(tblSalaries[[#This Row],[Currency]],Sheet3!$A$2:$B$31,2,FALSE),tblSalaries[[#This Row],[clean Salary (in local currency)]],(tblSalaries[[#This Row],[PPP Adjusted  USD]]/VLOOKUP(Dashboard!$J$5,Sheet3!$B$2:$C$31,2,FALSE)))","v":36704.792320241308},"Analyst","Analyst","India","4 to 6 hours a day",2]
[null,"ID0892",36500,"USD",36500,{"$f":"(tblSalaries[[#This Row],[clean Salary (in local currency)]])*(VLOOKUP(tblSalaries[[#This Row],[Currency]],Sheet3!$A$2:$C$31,3,FALSE))*(VLOOKUP(tblSalaries[[#This Row],[Currency]],Sheet1!$N$4:$Q$186,4,FALSE))","v":36500},{"$f":"IF(Dashboard!$J$5=VLOOKUP(tblSalaries[[#This Row],[Currency]],Sheet3!$A$2:$B$31,2,FALSE),tblSalaries[[#This Row],[clean Salary (in local currency)]],(tblSalaries[[#This Row],[PPP Adjusted  USD]]/VLOOKUP(Dashboard!$J$5,Sheet3!$B$2:$C$31,2,FALSE)))","v":36500},"Accountant","Accountant","Saudi Arabia","4 to 6 hours a day",15]
[null,"ID0917",36400,"USD",36400,{"$f":"(tblSalaries[[#This Row],[clean Salary (in local currency)]])*(VLOOKUP(tblSalaries[[#This Row],[Currency]],Sheet3!$A$2:$C$31,3,FALSE))*(VLOOKUP(tblSalaries[[#This Row],[Currency]],Sheet1!$N$4:$Q$186,4,FALSE))","v":36400},{"$f":"IF(Dashboard!$J$5=VLOOKUP(tblSalaries[[#This Row],[Currency]],Sheet3!$A$2:$B$31,2,FALSE),tblSalaries[[#This Row],[clean Salary (in local currency)]],(tblSalaries[[#This Row],[PPP Adjusted  USD]]/VLOOKUP(Dashboard!$J$5,Sheet3!$B$2:$C$31,2,FALSE)))","v":36400},"Analyst","Analyst","Zimbabwe","4 to 6 hours a day",20]
[null,"ID0489",46000,"CAD",45234.630059395036,{"$f":"(tblSalaries[[#This Row],[clean Salary (in local currency)]])*(VLOOKUP(tblSalaries[[#This Row],[Currency]],Sheet3!$A$2:$C$31,3,FALSE))*(VLOOKUP(tblSalaries[[#This Row],[Currency]],Sheet1!$N$4:$Q$186,4,FALSE))","v":36360.525347307856},{"$f":"IF(Dashboard!$J$5=VLOOKUP(tblSalaries[[#This Row],[Currency]],Sheet3!$A$2:$B$31,2,FALSE),tblSalaries[[#This Row],[clean Salary (in local currency)]],(tblSalaries[[#This Row],[PPP Adjusted  USD]]/VLOOKUP(Dashboard!$J$5,Sheet3!$B$2:$C$31,2,FALSE)))","v":36360.525347307856},"Sr. Marketing Solutions Analyst","Analyst","Canada","All the 8 hours baby, all the 8!","Data Not Avaliable"]
[null,"ID1691",33000,"EUR",41923.181486723057,{"$f":"(tblSalaries[[#This Row],[clean Salary (in local currency)]])*(VLOOKUP(tblSalaries[[#This Row],[Currency]],Sheet3!$A$2:$C$31,3,FALSE))*(VLOOKUP(tblSalaries[[#This Row],[Currency]],Sheet1!$N$4:$Q$186,4,FALSE))","v":36321.545237341721},{"$f":"IF(Dashboard!$J$5=VLOOKUP(tblSalaries[[#This Row],[Currency]],Sheet3!$A$2:$B$31,2,FALSE),tblSalaries[[#This Row],[clean Salary (in local currency)]],(tblSalaries[[#This Row],[PPP Adjusted  USD]]/VLOOKUP(Dashboard!$J$5,Sheet3!$B$2:$C$31,2,FALSE)))","v":36321.545237341721},"assistant","Analyst","France","4 to 6 hours a day",6]
[null,"ID0092",36000,"USD",36000,{"$f":"(tblSalaries[[#This Row],[clean Salary (in local currency)]])*(VLOOKUP(tblSalaries[[#This Row],[Currency]],Sheet3!$A$2:$C$31,3,FALSE))*(VLOOKUP(tblSalaries[[#This Row],[Currency]],Sheet1!$N$4:$Q$186,4,FALSE))","v":36000},{"$f":"IF(Dashboard!$J$5=VLOOKUP(tblSalaries[[#This Row],[Currency]],Sheet3!$A$2:$B$31,2,FALSE),tblSalaries[[#This Row],[clean Salary (in local currency)]],(tblSalaries[[#This Row],[PPP Adjusted  USD]]/VLOOKUP(Dashboard!$J$5,Sheet3!$B$2:$C$31,2,FALSE)))","v":36000},"Graphic Design Manager","Manager","USA","2 to 3 hours per day","Data Not Avaliable"]
[null,"ID0106",36000,"USD",36000,{"$f":"(tblSalaries[[#This Row],[clean Salary (in local currency)]])*(VLOOKUP(tblSalaries[[#This Row],[Currency]],Sheet3!$A$2:$C$31,3,FALSE))*(VLOOKUP(tblSalaries[[#This Row],[Currency]],Sheet1!$N$4:$Q$186,4,FALSE))","v":36000},{"$f":"IF(Dashboard!$J$5=VLOOKUP(tblSalaries[[#This Row],[Currency]],Sheet3!$A$2:$B$31,2,FALSE),tblSalaries[[#This Row],[clean Salary (in local currency)]],(tblSalaries[[#This Row],[PPP Adjusted  USD]]/VLOOKUP(Dashboard!$J$5,Sheet3!$B$2:$C$31,2,FALSE)))","v":36000},"Analyst","Analyst","USA","4 to 6 hours a day","Data Not Avaliable"]
[null,"ID0129",36000,"USD",36000,{"$f":"(tblSalaries[[#This Row],[clean Salary (in local currency)]])*(VLOOKUP(tblSalaries[[#This Row],[Currency]],Sheet3!$A$2:$C$31,3,FALSE))*(VLOOKUP(tblSalaries[[#This Row],[Currency]],Sheet1!$N$4:$Q$186,4,FALSE))","v":36000},{"$f":"IF(Dashboard!$J$5=VLOOKUP(tblSalaries[[#This Row],[Currency]],Sheet3!$A$2:$B$31,2,FALSE),tblSalaries[[#This Row],[clean Salary (in local currency)]],(tblSalaries[[#This Row],[PPP Adjusted  USD]]/VLOOKUP(Dashboard!$J$5,Sheet3!$B$2:$C$31,2,FALSE)))","v":36000},"senior accountant","Accountant","Turkey","4 to 6 hours a day","Data Not Avaliable"]
[null,"ID0284",36000,"USD",36000,{"$f":"(tblSalaries[[#This Row],[clean Salary (in local currency)]])*(VLOOKUP(tblSalaries[[#This Row],[Currency]],Sheet3!$A$2:$C$31,3,FALSE))*(VLOOKUP(tblSalaries[[#This Row],[Currency]],Sheet1!$N$4:$Q$186,4,FALSE))","v":36000},{"$f":"IF(Dashboard!$J$5=VLOOKUP(tblSalaries[[#This Row],[Currency]],Sheet3!$A$2:$B$31,2,FALSE),tblSalaries[[#This Row],[clean Salary (in local currency)]],(tblSalaries[[#This Row],[PPP Adjusted  USD]]/VLOOKUP(Dashboard!$J$5,Sheet3!$B$2:$C$31,2,FALSE)))","v":36000},"Senior Specialist","Specialist","Russia","4 to 6 hours a day","Data Not Avaliable"]
[null,"ID0302",36000,"USD",36000,{"$f":"(tblSalaries[[#This Row],[clean Salary (in local currency)]])*(VLOOKUP(tblSalaries[[#This Row],[Currency]],Sheet3!$A$2:$C$31,3,FALSE))*(VLOOKUP(tblSalaries[[#This Row],[Currency]],Sheet1!$N$4:$Q$186,4,FALSE))","v":36000},{"$f":"IF(Dashboard!$J$5=VLOOKUP(tblSalaries[[#This Row],[Currency]],Sheet3!$A$2:$B$31,2,FALSE),tblSalaries[[#This Row],[clean Salary (in local currency)]],(tblSalaries[[#This Row],[PPP Adjusted  USD]]/VLOOKUP(Dashboard!$J$5,Sheet3!$B$2:$C$31,2,FALSE)))","v":36000},"PRODUCTION ASSISTANT","Analyst","USA","All the 8 hours baby, all the 8!","Data Not Avaliable"]
[null,"ID0594",36000,"USD",36000,{"$f":"(tblSalaries[[#This Row],[clean Salary (in local currency)]])*(VLOOKUP(tblSalaries[[#This Row],[Currency]],Sheet3!$A$2:$C$31,3,FALSE))*(VLOOKUP(tblSalaries[[#This Row],[Currency]],Sheet1!$N$4:$Q$186,4,FALSE))","v":36000},{"$f":"IF(Dashboard!$J$5=VLOOKUP(tblSalaries[[#This Row],[Currency]],Sheet3!$A$2:$B$31,2,FALSE),tblSalaries[[#This Row],[clean Salary (in local currency)]],(tblSalaries[[#This Row],[PPP Adjusted  USD]]/VLOOKUP(Dashboard!$J$5,Sheet3!$B$2:$C$31,2,FALSE)))","v":36000},"Consulting","Consultant","Russia","All the 8 hours baby, all the 8!",10]
[null,"ID0752",36000,"USD",36000,{"$f":"(tblSalaries[[#This Row],[clean Salary (in local currency)]])*(VLOOKUP(tblSalaries[[#This Row],[Currency]],Sheet3!$A$2:$C$31,3,FALSE))*(VLOOKUP(tblSalaries[[#This Row],[Currency]],Sheet1!$N$4:$Q$186,4,FALSE))","v":36000},{"$f":"IF(Dashboard!$J$5=VLOOKUP(tblSalaries[[#This Row],[Currency]],Sheet3!$A$2:$B$31,2,FALSE),tblSalaries[[#This Row],[clean Salary (in local currency)]],(tblSalaries[[#This Row],[PPP Adjusted  USD]]/VLOOKUP(Dashboard!$J$5,Sheet3!$B$2:$C$31,2,FALSE)))","v":36000},"ENGINEER","Engineer","UAE","1 or 2 hours a day",7]
[null,"ID0784",36000,"USD",36000,{"$f":"(tblSalaries[[#This Row],[clean Salary (in local currency)]])*(VLOOKUP(tblSalaries[[#This Row],[Currency]],Sheet3!$A$2:$C$31,3,FALSE))*(VLOOKUP(tblSalaries[[#This Row],[Currency]],Sheet1!$N$4:$Q$186,4,FALSE))","v":36000},{"$f":"IF(Dashboard!$J$5=VLOOKUP(tblSalaries[[#This Row],[Currency]],Sheet3!$A$2:$B$31,2,FALSE),tblSalaries[[#This Row],[clean Salary (in local currency)]],(tblSalaries[[#This Row],[PPP Adjusted  USD]]/VLOOKUP(Dashboard!$J$5,Sheet3!$B$2:$C$31,2,FALSE)))","v":36000},"Key Expert User","Manager","Australia","2 to 3 hours per day",12]
[null,"ID0914",36000,"USD",36000,{"$f":"(tblSalaries[[#This Row],[clean Salary (in local currency)]])*(VLOOKUP(tblSalaries[[#This Row],[Currency]],Sheet3!$A$2:$C$31,3,FALSE))*(VLOOKUP(tblSalaries[[#This Row],[Currency]],Sheet1!$N$4:$Q$186,4,FALSE))","v":36000},{"$f":"IF(Dashboard!$J$5=VLOOKUP(tblSalaries[[#This Row],[Currency]],Sheet3!$A$2:$B$31,2,FALSE),tblSalaries[[#This Row],[clean Salary (in local currency)]],(tblSalaries[[#This Row],[PPP Adjusted  USD]]/VLOOKUP(Dashboard!$J$5,Sheet3!$B$2:$C$31,2,FALSE)))","v":36000},"QA Supervisor","Controller","Czech Republic","2 to 3 hours per day",9]
[null,"ID0952",36000,"USD",36000,{"$f":"(tblSalaries[[#This Row],[clean Salary (in local currency)]])*(VLOOKUP(tblSalaries[[#This Row],[Currency]],Sheet3!$A$2:$C$31,3,FALSE))*(VLOOKUP(tblSalaries[[#This Row],[Currency]],Sheet1!$N$4:$Q$186,4,FALSE))","v":36000},{"$f":"IF(Dashboard!$J$5=VLOOKUP(tblSalaries[[#This Row],[Currency]],Sheet3!$A$2:$B$31,2,FALSE),tblSalaries[[#This Row],[clean Salary (in local currency)]],(tblSalaries[[#This Row],[PPP Adjusted  USD]]/VLOOKUP(Dashboard!$J$5,Sheet3!$B$2:$C$31,2,FALSE)))","v":36000},"Accountant","Accountant","UAE","4 to 6 hours a day",4.5]
[null,"ID0988",36000,"USD",36000,{"$f":"(tblSalaries[[#This Row],[clean Salary (in local currency)]])*(VLOOKUP(tblSalaries[[#This Row],[Currency]],Sheet3!$A$2:$C$31,3,FALSE))*(VLOOKUP(tblSalaries[[#This Row],[Currency]],Sheet1!$N$4:$Q$186,4,FALSE))","v":36000},{"$f":"IF(Dashboard!$J$5=VLOOKUP(tblSalaries[[#This Row],[Currency]],Sheet3!$A$2:$B$31,2,FALSE),tblSalaries[[#This Row],[clean Salary (in local currency)]],(tblSalaries[[#This Row],[PPP Adjusted  USD]]/VLOOKUP(Dashboard!$J$5,Sheet3!$B$2:$C$31,2,FALSE)))","v":36000},"Project manager","Manager","malaysia","1 or 2 hours a day",3]
[null,"ID1310",36000,"USD",36000,{"$f":"(tblSalaries[[#This Row],[clean Salary (in local currency)]])*(VLOOKUP(tblSalaries[[#This Row],[Currency]],Sheet3!$A$2:$C$31,3,FALSE))*(VLOOKUP(tblSalaries[[#This Row],[Currency]],Sheet1!$N$4:$Q$186,4,FALSE))","v":36000},{"$f":"IF(Dashboard!$J$5=VLOOKUP(tblSalaries[[#This Row],[Currency]],Sheet3!$A$2:$B$31,2,FALSE),tblSalaries[[#This Row],[clean Salary (in local currency)]],(tblSalaries[[#This Row],[PPP Adjusted  USD]]/VLOOKUP(Dashboard!$J$5,Sheet3!$B$2:$C$31,2,FALSE)))","v":36000},"Administrative Assistant","Analyst","Kuwait","2 to 3 hours per day",10]
[null,"ID1380",36000,"USD",36000,{"$f":"(tblSalaries[[#This Row],[clean Salary (in local currency)]])*(VLOOKUP(tblSalaries[[#This Row],[Currency]],Sheet3!$A$2:$C$31,3,FALSE))*(VLOOKUP(tblSalaries[[#This Row],[Currency]],Sheet1!$N$4:$Q$186,4,FALSE))","v":36000},{"$f":"IF(Dashboard!$J$5=VLOOKUP(tblSalaries[[#This Row],[Currency]],Sheet3!$A$2:$B$31,2,FALSE),tblSalaries[[#This Row],[clean Salary (in local currency)]],(tblSalaries[[#This Row],[PPP Adjusted  USD]]/VLOOKUP(Dashboard!$J$5,Sheet3!$B$2:$C$31,2,FALSE)))","v":36000},"Data Specialist","Specialist","USA","All the 8 hours baby, all the 8!",8]
[null,"ID1635",36000,"USD",36000,{"$f":"(tblSalaries[[#This Row],[clean Salary (in local currency)]])*(VLOOKUP(tblSalaries[[#This Row],[Currency]],Sheet3!$A$2:$C$31,3,FALSE))*(VLOOKUP(tblSalaries[[#This Row],[Currency]],Sheet1!$N$4:$Q$186,4,FALSE))","v":36000},{"$f":"IF(Dashboard!$J$5=VLOOKUP(tblSalaries[[#This Row],[Currency]],Sheet3!$A$2:$B$31,2,FALSE),tblSalaries[[#This Row],[clean Salary (in local currency)]],(tblSalaries[[#This Row],[PPP Adjusted  USD]]/VLOOKUP(Dashboard!$J$5,Sheet3!$B$2:$C$31,2,FALSE)))","v":36000},"Environmental Adviser","Consultant","Azerbaijan","4 to 6 hours a day",5]
[null,"ID1741",36000,"USD",36000,{"$f":"(tblSalaries[[#This Row],[clean Salary (in local currency)]])*(VLOOKUP(tblSalaries[[#This Row],[Currency]],Sheet3!$A$2:$C$31,3,FALSE))*(VLOOKUP(tblSalaries[[#This Row],[Currency]],Sheet1!$N$4:$Q$186,4,FALSE))","v":36000},{"$f":"IF(Dashboard!$J$5=VLOOKUP(tblSalaries[[#This Row],[Currency]],Sheet3!$A$2:$B$31,2,FALSE),tblSalaries[[#This Row],[clean Salary (in local currency)]],(tblSalaries[[#This Row],[PPP Adjusted  USD]]/VLOOKUP(Dashboard!$J$5,Sheet3!$B$2:$C$31,2,FALSE)))","v":36000},"clerk","Analyst","USA","4 to 6 hours a day",4]
[null,"ID0028",32400,"EUR",41160.941823328096,{"$f":"(tblSalaries[[#This Row],[clean Salary (in local currency)]])*(VLOOKUP(tblSalaries[[#This Row],[Currency]],Sheet3!$A$2:$C$31,3,FALSE))*(VLOOKUP(tblSalaries[[#This Row],[Currency]],Sheet1!$N$4:$Q$186,4,FALSE))","v":35661.153505753697},{"$f":"IF(Dashboard!$J$5=VLOOKUP(tblSalaries[[#This Row],[Currency]],Sheet3!$A$2:$B$31,2,FALSE),tblSalaries[[#This Row],[clean Salary (in local currency)]],(tblSalaries[[#This Row],[PPP Adjusted  USD]]/VLOOKUP(Dashboard!$J$5,Sheet3!$B$2:$C$31,2,FALSE)))","v":35661.153505753697},"Project Leader","Manager","Belgium","4 to 6 hours a day","Data Not Avaliable"]
[null,"ID0228",45000,"CAD",44251.268536364711,{"$f":"(tblSalaries[[#This Row],[clean Salary (in local currency)]])*(VLOOKUP(tblSalaries[[#This Row],[Currency]],Sheet3!$A$2:$C$31,3,FALSE))*(VLOOKUP(tblSalaries[[#This Row],[Currency]],Sheet1!$N$4:$Q$186,4,FALSE))","v":35570.079144105512},{"$f":"IF(Dashboard!$J$5=VLOOKUP(tblSalaries[[#This Row],[Currency]],Sheet3!$A$2:$B$31,2,FALSE),tblSalaries[[#This Row],[clean Salary (in local currency)]],(tblSalaries[[#This Row],[PPP Adjusted  USD]]/VLOOKUP(Dashboard!$J$5,Sheet3!$B$2:$C$31,2,FALSE)))","v":35570.079144105512},"Technical support specialist","Specialist","Canada","1 or 2 hours a day","Data Not Avaliable"]
[null,"ID0393",750000,"INR",13355.937515581925,{"$f":"(tblSalaries[[#This Row],[clean Salary (in local currency)]])*(VLOOKUP(tblSalaries[[#This Row],[Currency]],Sheet3!$A$2:$C$31,3,FALSE))*(VLOOKUP(tblSalaries[[#This Row],[Currency]],Sheet1!$N$4:$Q$186,4,FALSE))","v":35520.766761523839},{"$f":"IF(Dashboard!$J$5=VLOOKUP(tblSalaries[[#This Row],[Currency]],Sheet3!$A$2:$B$31,2,FALSE),tblSalaries[[#This Row],[clean Salary (in local currency)]],(tblSalaries[[#This Row],[PPP Adjusted  USD]]/VLOOKUP(Dashboard!$J$5,Sheet3!$B$2:$C$31,2,FALSE)))","v":35520.766761523839},"Business Analyst","Analyst","India","1 or 2 hours a day","Data Not Avaliable"]
[null,"ID1217",750000,"INR",13355.937515581925,{"$f":"(tblSalaries[[#This Row],[clean Salary (in local currency)]])*(VLOOKUP(tblSalaries[[#This Row],[Currency]],Sheet3!$A$2:$C$31,3,FALSE))*(VLOOKUP(tblSalaries[[#This Row],[Currency]],Sheet1!$N$4:$Q$186,4,FALSE))","v":35520.766761523839},{"$f":"IF(Dashboard!$J$5=VLOOKUP(tblSalaries[[#This Row],[Currency]],Sheet3!$A$2:$B$31,2,FALSE),tblSalaries[[#This Row],[clean Salary (in local currency)]],(tblSalaries[[#This Row],[PPP Adjusted  USD]]/VLOOKUP(Dashboard!$J$5,Sheet3!$B$2:$C$31,2,FALSE)))","v":35520.766761523839},"Assistant Manager","Manager","India","2 to 3 hours per day",3]
[null,"ID1423",750000,"INR",13355.937515581925,{"$f":"(tblSalaries[[#This Row],[clean Salary (in local currency)]])*(VLOOKUP(tblSalaries[[#This Row],[Currency]],Sheet3!$A$2:$C$31,3,FALSE))*(VLOOKUP(tblSalaries[[#This Row],[Currency]],Sheet1!$N$4:$Q$186,4,FALSE))","v":35520.766761523839},{"$f":"IF(Dashboard!$J$5=VLOOKUP(tblSalaries[[#This Row],[Currency]],Sheet3!$A$2:$B$31,2,FALSE),tblSalaries[[#This Row],[clean Salary (in local currency)]],(tblSalaries[[#This Row],[PPP Adjusted  USD]]/VLOOKUP(Dashboard!$J$5,Sheet3!$B$2:$C$31,2,FALSE)))","v":35520.766761523839},"Associate - Indirect Tax","CXO or Top Mgmt.","India","1 or 2 hours a day",1]
[null,"ID1907",750000,"INR",13355.937515581925,{"$f":"(tblSalaries[[#This Row],[clean Salary (in local currency)]])*(VLOOKUP(tblSalaries[[#This Row],[Currency]],Sheet3!$A$2:$C$31,3,FALSE))*(VLOOKUP(tblSalaries[[#This Row],[Currency]],Sheet1!$N$4:$Q$186,4,FALSE))","v":35520.766761523839},{"$f":"IF(Dashboard!$J$5=VLOOKUP(tblSalaries[[#This Row],[Currency]],Sheet3!$A$2:$B$31,2,FALSE),tblSalaries[[#This Row],[clean Salary (in local currency)]],(tblSalaries[[#This Row],[PPP Adjusted  USD]]/VLOOKUP(Dashboard!$J$5,Sheet3!$B$2:$C$31,2,FALSE)))","v":35520.766761523839},"Analyst","Analyst","India","4 to 6 hours a day",5]
[null,"ID1613",35500,"USD",35500,{"$f":"(tblSalaries[[#This Row],[clean Salary (in local currency)]])*(VLOOKUP(tblSalaries[[#This Row],[Currency]],Sheet3!$A$2:$C$31,3,FALSE))*(VLOOKUP(tblSalaries[[#This Row],[Currency]],Sheet1!$N$4:$Q$186,4,FALSE))","v":35500},{"$f":"IF(Dashboard!$J$5=VLOOKUP(tblSalaries[[#This Row],[Currency]],Sheet3!$A$2:$B$31,2,FALSE),tblSalaries[[#This Row],[clean Salary (in local currency)]],(tblSalaries[[#This Row],[PPP Adjusted  USD]]/VLOOKUP(Dashboard!$J$5,Sheet3!$B$2:$C$31,2,FALSE)))","v":35500},"SAS Adminstrator","Analyst","USA","4 to 6 hours a day",20]
[null,"ID0013",749000,"INR",13338.129598894484,{"$f":"(tblSalaries[[#This Row],[clean Salary (in local currency)]])*(VLOOKUP(tblSalaries[[#This Row],[Currency]],Sheet3!$A$2:$C$31,3,FALSE))*(VLOOKUP(tblSalaries[[#This Row],[Currency]],Sheet1!$N$4:$Q$186,4,FALSE))","v":35473.405739175141},{"$f":"IF(Dashboard!$J$5=VLOOKUP(tblSalaries[[#This Row],[Currency]],Sheet3!$A$2:$B$31,2,FALSE),tblSalaries[[#This Row],[clean Salary (in local currency)]],(tblSalaries[[#This Row],[PPP Adjusted  USD]]/VLOOKUP(Dashboard!$J$5,Sheet3!$B$2:$C$31,2,FALSE)))","v":35473.405739175141},"Senion Analyst","Analyst","India","All the 8 hours baby, all the 8!","Data Not Avaliable"]
[null,"ID0974",56600,"AUD",57726.886552389187,{"$f":"(tblSalaries[[#This Row],[clean Salary (in local currency)]])*(VLOOKUP(tblSalaries[[#This Row],[Currency]],Sheet3!$A$2:$C$31,3,FALSE))*(VLOOKUP(tblSalaries[[#This Row],[Currency]],Sheet1!$N$4:$Q$186,4,FALSE))","v":35472.015694041387},{"$f":"IF(Dashboard!$J$5=VLOOKUP(tblSalaries[[#This Row],[Currency]],Sheet3!$A$2:$B$31,2,FALSE),tblSalaries[[#This Row],[clean Salary (in local currency)]],(tblSalaries[[#This Row],[PPP Adjusted  USD]]/VLOOKUP(Dashboard!$J$5,Sheet3!$B$2:$C$31,2,FALSE)))","v":35472.015694041387},"Operations Coordinator","Manager","Australia","2 to 3 hours per day",2]
[null,"ID0755",24000,"GBP",37828.278529614821,{"$f":"(tblSalaries[[#This Row],[clean Salary (in local currency)]])*(VLOOKUP(tblSalaries[[#This Row],[Currency]],Sheet3!$A$2:$C$31,3,FALSE))*(VLOOKUP(tblSalaries[[#This Row],[Currency]],Sheet1!$N$4:$Q$186,4,FALSE))","v":35375.30891953026},{"$f":"IF(Dashboard!$J$5=VLOOKUP(tblSalaries[[#This Row],[Currency]],Sheet3!$A$2:$B$31,2,FALSE),tblSalaries[[#This Row],[clean Salary (in local currency)]],(tblSalaries[[#This Row],[PPP Adjusted  USD]]/VLOOKUP(Dashboard!$J$5,Sheet3!$B$2:$C$31,2,FALSE)))","v":35375.30891953026},"Business Support Specialist","Specialist","UK","All the 8 hours baby, all the 8!",8]
[null,"ID0151",35000,"USD",35000,{"$f":"(tblSalaries[[#This Row],[clean Salary (in local currency)]])*(VLOOKUP(tblSalaries[[#This Row],[Currency]],Sheet3!$A$2:$C$31,3,FALSE))*(VLOOKUP(tblSalaries[[#This Row],[Currency]],Sheet1!$N$4:$Q$186,4,FALSE))","v":35000},{"$f":"IF(Dashboard!$J$5=VLOOKUP(tblSalaries[[#This Row],[Currency]],Sheet3!$A$2:$B$31,2,FALSE),tblSalaries[[#This Row],[clean Salary (in local currency)]],(tblSalaries[[#This Row],[PPP Adjusted  USD]]/VLOOKUP(Dashboard!$J$5,Sheet3!$B$2:$C$31,2,FALSE)))","v":35000},"Program Services Coordinator","Manager","USA","2 to 3 hours per day","Data Not Avaliable"]
[null,"ID0368",35000,"USD",35000,{"$f":"(tblSalaries[[#This Row],[clean Salary (in local currency)]])*(VLOOKUP(tblSalaries[[#This Row],[Currency]],Sheet3!$A$2:$C$31,3,FALSE))*(VLOOKUP(tblSalaries[[#This Row],[Currency]],Sheet1!$N$4:$Q$186,4,FALSE))","v":35000},{"$f":"IF(Dashboard!$J$5=VLOOKUP(tblSalaries[[#This Row],[Currency]],Sheet3!$A$2:$B$31,2,FALSE),tblSalaries[[#This Row],[clean Salary (in local currency)]],(tblSalaries[[#This Row],[PPP Adjusted  USD]]/VLOOKUP(Dashboard!$J$5,Sheet3!$B$2:$C$31,2,FALSE)))","v":35000},"Senior Treasury Analyst","Analyst","Brasil","All the 8 hours baby, all the 8!","Data Not Avaliable"]
[null,"ID0416",35000,"USD",35000,{"$f":"(tblSalaries[[#This Row],[clean Salary (in local currency)]])*(VLOOKUP(tblSalaries[[#This Row],[Currency]],Sheet3!$A$2:$C$31,3,FALSE))*(VLOOKUP(tblSalaries[[#This Row],[Currency]],Sheet1!$N$4:$Q$186,4,FALSE))","v":35000},{"$f":"IF(Dashboard!$J$5=VLOOKUP(tblSalaries[[#This Row],[Currency]],Sheet3!$A$2:$B$31,2,FALSE),tblSalaries[[#This Row],[clean Salary (in local currency)]],(tblSalaries[[#This Row],[PPP Adjusted  USD]]/VLOOKUP(Dashboard!$J$5,Sheet3!$B$2:$C$31,2,FALSE)))","v":35000},"Credit Analyst","Analyst","Russia","4 to 6 hours a day","Data Not Avaliable"]
[null,"ID0558",35000,"USD",35000,{"$f":"(tblSalaries[[#This Row],[clean Salary (in local currency)]])*(VLOOKUP(tblSalaries[[#This Row],[Currency]],Sheet3!$A$2:$C$31,3,FALSE))*(VLOOKUP(tblSalaries[[#This Row],[Currency]],Sheet1!$N$4:$Q$186,4,FALSE))","v":35000},{"$f":"IF(Dashboard!$J$5=VLOOKUP(tblSalaries[[#This Row],[Currency]],Sheet3!$A$2:$B$31,2,FALSE),tblSalaries[[#This Row],[clean Salary (in local currency)]],(tblSalaries[[#This Row],[PPP Adjusted  USD]]/VLOOKUP(Dashboard!$J$5,Sheet3!$B$2:$C$31,2,FALSE)))","v":35000},"Analyst","Analyst","USA","2 to 3 hours per day","Data Not Avaliable"]
[null,"ID0562",35000,"USD",35000,{"$f":"(tblSalaries[[#This Row],[clean Salary (in local currency)]])*(VLOOKUP(tblSalaries[[#This Row],[Currency]],Sheet3!$A$2:$C$31,3,FALSE))*(VLOOKUP(tblSalaries[[#This Row],[Currency]],Sheet1!$N$4:$Q$186,4,FALSE))","v":35000},{"$f":"IF(Dashboard!$J$5=VLOOKUP(tblSalaries[[#This Row],[Currency]],Sheet3!$A$2:$B$31,2,FALSE),tblSalaries[[#This Row],[clean Salary (in local currency)]],(tblSalaries[[#This Row],[PPP Adjusted  USD]]/VLOOKUP(Dashboard!$J$5,Sheet3!$B$2:$C$31,2,FALSE)))","v":35000},"Technical Support Technician","Analyst","USA","1 or 2 hours a day",7]
[null,"ID0704",35000,"USD",35000,{"$f":"(tblSalaries[[#This Row],[clean Salary (in local currency)]])*(VLOOKUP(tblSalaries[[#This Row],[Currency]],Sheet3!$A$2:$C$31,3,FALSE))*(VLOOKUP(tblSalaries[[#This Row],[Currency]],Sheet1!$N$4:$Q$186,4,FALSE))","v":35000},{"$f":"IF(Dashboard!$J$5=VLOOKUP(tblSalaries[[#This Row],[Currency]],Sheet3!$A$2:$B$31,2,FALSE),tblSalaries[[#This Row],[clean Salary (in local currency)]],(tblSalaries[[#This Row],[PPP Adjusted  USD]]/VLOOKUP(Dashboard!$J$5,Sheet3!$B$2:$C$31,2,FALSE)))","v":35000},"IT Specialist","Specialist","USA","4 to 6 hours a day",10]
[null,"ID0731",35000,"USD",35000,{"$f":"(tblSalaries[[#This Row],[clean Salary (in local currency)]])*(VLOOKUP(tblSalaries[[#This Row],[Currency]],Sheet3!$A$2:$C$31,3,FALSE))*(VLOOKUP(tblSalaries[[#This Row],[Currency]],Sheet1!$N$4:$Q$186,4,FALSE))","v":35000},{"$f":"IF(Dashboard!$J$5=VLOOKUP(tblSalaries[[#This Row],[Currency]],Sheet3!$A$2:$B$31,2,FALSE),tblSalaries[[#This Row],[clean Salary (in local currency)]],(tblSalaries[[#This Row],[PPP Adjusted  USD]]/VLOOKUP(Dashboard!$J$5,Sheet3!$B$2:$C$31,2,FALSE)))","v":35000},"Associate","Analyst","India","4 to 6 hours a day",10]
[null,"ID0862",35000,"USD",35000,{"$f":"(tblSalaries[[#This Row],[clean Salary (in local currency)]])*(VLOOKUP(tblSalaries[[#This Row],[Currency]],Sheet3!$A$2:$C$31,3,FALSE))*(VLOOKUP(tblSalaries[[#This Row],[Currency]],Sheet1!$N$4:$Q$186,4,FALSE))","v":35000},{"$f":"IF(Dashboard!$J$5=VLOOKUP(tblSalaries[[#This Row],[Currency]],Sheet3!$A$2:$B$31,2,FALSE),tblSalaries[[#This Row],[clean Salary (in local currency)]],(tblSalaries[[#This Row],[PPP Adjusted  USD]]/VLOOKUP(Dashboard!$J$5,Sheet3!$B$2:$C$31,2,FALSE)))","v":35000},"Purchasing Manager","Manager","Uruguay","All the 8 hours baby, all the 8!",10]
[null,"ID1152",35000,"USD",35000,{"$f":"(tblSalaries[[#This Row],[clean Salary (in local currency)]])*(VLOOKUP(tblSalaries[[#This Row],[Currency]],Sheet3!$A$2:$C$31,3,FALSE))*(VLOOKUP(tblSalaries[[#This Row],[Currency]],Sheet1!$N$4:$Q$186,4,FALSE))","v":35000},{"$f":"IF(Dashboard!$J$5=VLOOKUP(tblSalaries[[#This Row],[Currency]],Sheet3!$A$2:$B$31,2,FALSE),tblSalaries[[#This Row],[clean Salary (in local currency)]],(tblSalaries[[#This Row],[PPP Adjusted  USD]]/VLOOKUP(Dashboard!$J$5,Sheet3!$B$2:$C$31,2,FALSE)))","v":35000},"BI Analyst","Analyst","USA","All the 8 hours baby, all the 8!",20]
[null,"ID1277",35000,"USD",35000,{"$f":"(tblSalaries[[#This Row],[clean Salary (in local currency)]])*(VLOOKUP(tblSalaries[[#This Row],[Currency]],Sheet3!$A$2:$C$31,3,FALSE))*(VLOOKUP(tblSalaries[[#This Row],[Currency]],Sheet1!$N$4:$Q$186,4,FALSE))","v":35000},{"$f":"IF(Dashboard!$J$5=VLOOKUP(tblSalaries[[#This Row],[Currency]],Sheet3!$A$2:$B$31,2,FALSE),tblSalaries[[#This Row],[clean Salary (in local currency)]],(tblSalaries[[#This Row],[PPP Adjusted  USD]]/VLOOKUP(Dashboard!$J$5,Sheet3!$B$2:$C$31,2,FALSE)))","v":35000},"AVP Securitisation","CXO or Top Mgmt.","malaysia","All the 8 hours baby, all the 8!",12]
[null,"ID1440",55000,"AUD",56095.031102144967,{"$f":"(tblSalaries[[#This Row],[clean Salary (in local currency)]])*(VLOOKUP(tblSalaries[[#This Row],[Currency]],Sheet3!$A$2:$C$31,3,FALSE))*(VLOOKUP(tblSalaries[[#This Row],[Currency]],Sheet1!$N$4:$Q$186,4,FALSE))","v":34469.273200923606},{"$f":"IF(Dashboard!$J$5=VLOOKUP(tblSalaries[[#This Row],[Currency]],Sheet3!$A$2:$B$31,2,FALSE),tblSalaries[[#This Row],[clean Salary (in local currency)]],(tblSalaries[[#This Row],[PPP Adjusted  USD]]/VLOOKUP(Dashboard!$J$5,Sheet3!$B$2:$C$31,2,FALSE)))","v":34469.273200923606},"PA","Analyst","Australia","2 to 3 hours per day",11]
[null,"ID0500",720000,"INR",12821.700014958649,{"$f":"(tblSalaries[[#This Row],[clean Salary (in local currency)]])*(VLOOKUP(tblSalaries[[#This Row],[Currency]],Sheet3!$A$2:$C$31,3,FALSE))*(VLOOKUP(tblSalaries[[#This Row],[Currency]],Sheet1!$N$4:$Q$186,4,FALSE))","v":34099.936091062889},{"$f":"IF(Dashboard!$J$5=VLOOKUP(tblSalaries[[#This Row],[Currency]],Sheet3!$A$2:$B$31,2,FALSE),tblSalaries[[#This Row],[clean Salary (in local currency)]],(tblSalaries[[#This Row],[PPP Adjusted  USD]]/VLOOKUP(Dashboard!$J$5,Sheet3!$B$2:$C$31,2,FALSE)))","v":34099.936091062889},"Manager Finance","Manager","India","2 to 3 hours per day","Data Not Avaliable"]
[null,"ID0630",720000,"INR",12821.700014958649,{"$f":"(tblSalaries[[#This Row],[clean Salary (in local currency)]])*(VLOOKUP(tblSalaries[[#This Row],[Currency]],Sheet3!$A$2:$C$31,3,FALSE))*(VLOOKUP(tblSalaries[[#This Row],[Currency]],Sheet1!$N$4:$Q$186,4,FALSE))","v":34099.936091062889},{"$f":"IF(Dashboard!$J$5=VLOOKUP(tblSalaries[[#This Row],[Currency]],Sheet3!$A$2:$B$31,2,FALSE),tblSalaries[[#This Row],[clean Salary (in local currency)]],(tblSalaries[[#This Row],[PPP Adjusted  USD]]/VLOOKUP(Dashboard!$J$5,Sheet3!$B$2:$C$31,2,FALSE)))","v":34099.936091062889},"Quantity Surveyor","Manager","India","4 to 6 hours a day",12]
[null,"ID0705",720000,"INR",12821.700014958649,{"$f":"(tblSalaries[[#This Row],[clean Salary (in local currency)]])*(VLOOKUP(tblSalaries[[#This Row],[Currency]],Sheet3!$A$2:$C$31,3,FALSE))*(VLOOKUP(tblSalaries[[#This Row],[Currency]],Sheet1!$N$4:$Q$186,4,FALSE))","v":34099.936091062889},{"$f":"IF(Dashboard!$J$5=VLOOKUP(tblSalaries[[#This Row],[Currency]],Sheet3!$A$2:$B$31,2,FALSE),tblSalaries[[#This Row],[clean Salary (in local currency)]],(tblSalaries[[#This Row],[PPP Adjusted  USD]]/VLOOKUP(Dashboard!$J$5,Sheet3!$B$2:$C$31,2,FALSE)))","v":34099.936091062889},"Cost Accountant","Accountant","India","4 to 6 hours a day",4]
[null,"ID0718",720000,"INR",12821.700014958649,{"$f":"(tblSalaries[[#This Row],[clean Salary (in local currency)]])*(VLOOKUP(tblSalaries[[#This Row],[Currency]],Sheet3!$A$2:$C$31,3,FALSE))*(VLOOKUP(tblSalaries[[#This Row],[Currency]],Sheet1!$N$4:$Q$186,4,FALSE))","v":34099.936091062889},{"$f":"IF(Dashboard!$J$5=VLOOKUP(tblSalaries[[#This Row],[Currency]],Sheet3!$A$2:$B$31,2,FALSE),tblSalaries[[#This Row],[clean Salary (in local currency)]],(tblSalaries[[#This Row],[PPP Adjusted  USD]]/VLOOKUP(Dashboard!$J$5,Sheet3!$B$2:$C$31,2,FALSE)))","v":34099.936091062889},"Asstt manager","Manager","India","All the 8 hours baby, all the 8!",10]
[null,"ID0884",720000,"INR",12821.700014958649,{"$f":"(tblSalaries[[#This Row],[clean Salary (in local currency)]])*(VLOOKUP(tblSalaries[[#This Row],[Currency]],Sheet3!$A$2:$C$31,3,FALSE))*(VLOOKUP(tblSalaries[[#This Row],[Currency]],Sheet1!$N$4:$Q$186,4,FALSE))","v":34099.936091062889},{"$f":"IF(Dashboard!$J$5=VLOOKUP(tblSalaries[[#This Row],[Currency]],Sheet3!$A$2:$B$31,2,FALSE),tblSalaries[[#This Row],[clean Salary (in local currency)]],(tblSalaries[[#This Row],[PPP Adjusted  USD]]/VLOOKUP(Dashboard!$J$5,Sheet3!$B$2:$C$31,2,FALSE)))","v":34099.936091062889},"Article (Internship) - CA","Accountant","India","4 to 6 hours a day",3]
[null,"ID1478",720000,"INR",12821.700014958649,{"$f":"(tblSalaries[[#This Row],[clean Salary (in local currency)]])*(VLOOKUP(tblSalaries[[#This Row],[Currency]],Sheet3!$A$2:$C$31,3,FALSE))*(VLOOKUP(tblSalaries[[#This Row],[Currency]],Sheet1!$N$4:$Q$186,4,FALSE))","v":34099.936091062889},{"$f":"IF(Dashboard!$J$5=VLOOKUP(tblSalaries[[#This Row],[Currency]],Sheet3!$A$2:$B$31,2,FALSE),tblSalaries[[#This Row],[clean Salary (in local currency)]],(tblSalaries[[#This Row],[PPP Adjusted  USD]]/VLOOKUP(Dashboard!$J$5,Sheet3!$B$2:$C$31,2,FALSE)))","v":34099.936091062889},"DEO","Analyst","India","4 to 6 hours a day",3]
[null,"ID0404",34000,"USD",34000,{"$f":"(tblSalaries[[#This Row],[clean Salary (in local currency)]])*(VLOOKUP(tblSalaries[[#This Row],[Currency]],Sheet3!$A$2:$C$31,3,FALSE))*(VLOOKUP(tblSalaries[[#This Row],[Currency]],Sheet1!$N$4:$Q$186,4,FALSE))","v":34000},{"$f":"IF(Dashboard!$J$5=VLOOKUP(tblSalaries[[#This Row],[Currency]],Sheet3!$A$2:$B$31,2,FALSE),tblSalaries[[#This Row],[clean Salary (in local currency)]],(tblSalaries[[#This Row],[PPP Adjusted  USD]]/VLOOKUP(Dashboard!$J$5,Sheet3!$B$2:$C$31,2,FALSE)))","v":34000},"Information Research Technician II","Analyst","USA","4 to 6 hours a day","Data Not Avaliable"]
[null,"ID1546",34000,"USD",34000,{"$f":"(tblSalaries[[#This Row],[clean Salary (in local currency)]])*(VLOOKUP(tblSalaries[[#This Row],[Currency]],Sheet3!$A$2:$C$31,3,FALSE))*(VLOOKUP(tblSalaries[[#This Row],[Currency]],Sheet1!$N$4:$Q$186,4,FALSE))","v":34000},{"$f":"IF(Dashboard!$J$5=VLOOKUP(tblSalaries[[#This Row],[Currency]],Sheet3!$A$2:$B$31,2,FALSE),tblSalaries[[#This Row],[clean Salary (in local currency)]],(tblSalaries[[#This Row],[PPP Adjusted  USD]]/VLOOKUP(Dashboard!$J$5,Sheet3!$B$2:$C$31,2,FALSE)))","v":34000},"Sr Analyst","Analyst","India","All the 8 hours baby, all the 8!",4]
[null,"ID1093",23000,"GBP",36252.100257547536,{"$f":"(tblSalaries[[#This Row],[clean Salary (in local currency)]])*(VLOOKUP(tblSalaries[[#This Row],[Currency]],Sheet3!$A$2:$C$31,3,FALSE))*(VLOOKUP(tblSalaries[[#This Row],[Currency]],Sheet1!$N$4:$Q$186,4,FALSE))","v":33901.337714549831},{"$f":"IF(Dashboard!$J$5=VLOOKUP(tblSalaries[[#This Row],[Currency]],Sheet3!$A$2:$B$31,2,FALSE),tblSalaries[[#This Row],[clean Salary (in local currency)]],(tblSalaries[[#This Row],[PPP Adjusted  USD]]/VLOOKUP(Dashboard!$J$5,Sheet3!$B$2:$C$31,2,FALSE)))","v":33901.337714549831},"Data Analyst","Analyst","UK","All the 8 hours baby, all the 8!",5]
[null,"ID1148",23000,"GBP",36252.100257547536,{"$f":"(tblSalaries[[#This Row],[clean Salary (in local currency)]])*(VLOOKUP(tblSalaries[[#This Row],[Currency]],Sheet3!$A$2:$C$31,3,FALSE))*(VLOOKUP(tblSalaries[[#This Row],[Currency]],Sheet1!$N$4:$Q$186,4,FALSE))","v":33901.337714549831},{"$f":"IF(Dashboard!$J$5=VLOOKUP(tblSalaries[[#This Row],[Currency]],Sheet3!$A$2:$B$31,2,FALSE),tblSalaries[[#This Row],[clean Salary (in local currency)]],(tblSalaries[[#This Row],[PPP Adjusted  USD]]/VLOOKUP(Dashboard!$J$5,Sheet3!$B$2:$C$31,2,FALSE)))","v":33901.337714549831},"Data Management Officer","Manager","UK","4 to 6 hours a day",10]
[null,"ID0803",33900,"USD",33900,{"$f":"(tblSalaries[[#This Row],[clean Salary (in local currency)]])*(VLOOKUP(tblSalaries[[#This Row],[Currency]],Sheet3!$A$2:$C$31,3,FALSE))*(VLOOKUP(tblSalaries[[#This Row],[Currency]],Sheet1!$N$4:$Q$186,4,FALSE))","v":33900},{"$f":"IF(Dashboard!$J$5=VLOOKUP(tblSalaries[[#This Row],[Currency]],Sheet3!$A$2:$B$31,2,FALSE),tblSalaries[[#This Row],[clean Salary (in local currency)]],(tblSalaries[[#This Row],[PPP Adjusted  USD]]/VLOOKUP(Dashboard!$J$5,Sheet3!$B$2:$C$31,2,FALSE)))","v":33900},"Administrative Assistant","Analyst","USA","2 to 3 hours per day",10]
[null,"ID1797",33600,"USD",33600,{"$f":"(tblSalaries[[#This Row],[clean Salary (in local currency)]])*(VLOOKUP(tblSalaries[[#This Row],[Currency]],Sheet3!$A$2:$C$31,3,FALSE))*(VLOOKUP(tblSalaries[[#This Row],[Currency]],Sheet1!$N$4:$Q$186,4,FALSE))","v":33600},{"$f":"IF(Dashboard!$J$5=VLOOKUP(tblSalaries[[#This Row],[Currency]],Sheet3!$A$2:$B$31,2,FALSE),tblSalaries[[#This Row],[clean Salary (in local currency)]],(tblSalaries[[#This Row],[PPP Adjusted  USD]]/VLOOKUP(Dashboard!$J$5,Sheet3!$B$2:$C$31,2,FALSE)))","v":33600},"Executive","Analyst","Singapore","All the 8 hours baby, all the 8!",2]
[null,"ID1798",33600,"USD",33600,{"$f":"(tblSalaries[[#This Row],[clean Salary (in local currency)]])*(VLOOKUP(tblSalaries[[#This Row],[Currency]],Sheet3!$A$2:$C$31,3,FALSE))*(VLOOKUP(tblSalaries[[#This Row],[Currency]],Sheet1!$N$4:$Q$186,4,FALSE))","v":33600},{"$f":"IF(Dashboard!$J$5=VLOOKUP(tblSalaries[[#This Row],[Currency]],Sheet3!$A$2:$B$31,2,FALSE),tblSalaries[[#This Row],[clean Salary (in local currency)]],(tblSalaries[[#This Row],[PPP Adjusted  USD]]/VLOOKUP(Dashboard!$J$5,Sheet3!$B$2:$C$31,2,FALSE)))","v":33600},"Executive","Analyst","Singapore","All the 8 hours baby, all the 8!",2]
[null,"ID1157",708000,"INR",12608.005014709339,{"$f":"(tblSalaries[[#This Row],[clean Salary (in local currency)]])*(VLOOKUP(tblSalaries[[#This Row],[Currency]],Sheet3!$A$2:$C$31,3,FALSE))*(VLOOKUP(tblSalaries[[#This Row],[Currency]],Sheet1!$N$4:$Q$186,4,FALSE))","v":33531.603822878511},{"$f":"IF(Dashboard!$J$5=VLOOKUP(tblSalaries[[#This Row],[Currency]],Sheet3!$A$2:$B$31,2,FALSE),tblSalaries[[#This Row],[clean Salary (in local currency)]],(tblSalaries[[#This Row],[PPP Adjusted  USD]]/VLOOKUP(Dashboard!$J$5,Sheet3!$B$2:$C$31,2,FALSE)))","v":33531.603822878511},"Manager-Operation","Manager","India","4 to 6 hours a day",5]
[null,"ID0689",33500,"USD",33500,{"$f":"(tblSalaries[[#This Row],[clean Salary (in local currency)]])*(VLOOKUP(tblSalaries[[#This Row],[Currency]],Sheet3!$A$2:$C$31,3,FALSE))*(VLOOKUP(tblSalaries[[#This Row],[Currency]],Sheet1!$N$4:$Q$186,4,FALSE))","v":33500},{"$f":"IF(Dashboard!$J$5=VLOOKUP(tblSalaries[[#This Row],[Currency]],Sheet3!$A$2:$B$31,2,FALSE),tblSalaries[[#This Row],[clean Salary (in local currency)]],(tblSalaries[[#This Row],[PPP Adjusted  USD]]/VLOOKUP(Dashboard!$J$5,Sheet3!$B$2:$C$31,2,FALSE)))","v":33500},"Sr. Executive Finance & Accounts","Accountant","Dubai","1 or 2 hours a day",10]
[null,"ID0074",33420,"USD",33420,{"$f":"(tblSalaries[[#This Row],[clean Salary (in local currency)]])*(VLOOKUP(tblSalaries[[#This Row],[Currency]],Sheet3!$A$2:$C$31,3,FALSE))*(VLOOKUP(tblSalaries[[#This Row],[Currency]],Sheet1!$N$4:$Q$186,4,FALSE))","v":33420},{"$f":"IF(Dashboard!$J$5=VLOOKUP(tblSalaries[[#This Row],[Currency]],Sheet3!$A$2:$B$31,2,FALSE),tblSalaries[[#This Row],[clean Salary (in local currency)]],(tblSalaries[[#This Row],[PPP Adjusted  USD]]/VLOOKUP(Dashboard!$J$5,Sheet3!$B$2:$C$31,2,FALSE)))","v":33420},"Process Flow Coordinator","Manager","UAE","All the 8 hours baby, all the 8!","Data Not Avaliable"]
[null,"ID1828",33250,"USD",33250,{"$f":"(tblSalaries[[#This Row],[clean Salary (in local currency)]])*(VLOOKUP(tblSalaries[[#This Row],[Currency]],Sheet3!$A$2:$C$31,3,FALSE))*(VLOOKUP(tblSalaries[[#This Row],[Currency]],Sheet1!$N$4:$Q$186,4,FALSE))","v":33250},{"$f":"IF(Dashboard!$J$5=VLOOKUP(tblSalaries[[#This Row],[Currency]],Sheet3!$A$2:$B$31,2,FALSE),tblSalaries[[#This Row],[clean Salary (in local currency)]],(tblSalaries[[#This Row],[PPP Adjusted  USD]]/VLOOKUP(Dashboard!$J$5,Sheet3!$B$2:$C$31,2,FALSE)))","v":33250},"Planning and Logistics Coordinator","Manager","USA","All the 8 hours baby, all the 8!",20]
[null,"ID0090",42000,"CAD",41301.183967273726,{"$f":"(tblSalaries[[#This Row],[clean Salary (in local currency)]])*(VLOOKUP(tblSalaries[[#This Row],[Currency]],Sheet3!$A$2:$C$31,3,FALSE))*(VLOOKUP(tblSalaries[[#This Row],[Currency]],Sheet1!$N$4:$Q$186,4,FALSE))","v":33198.740534498473},{"$f":"IF(Dashboard!$J$5=VLOOKUP(tblSalaries[[#This Row],[Currency]],Sheet3!$A$2:$B$31,2,FALSE),tblSalaries[[#This Row],[clean Salary (in local currency)]],(tblSalaries[[#This Row],[PPP Adjusted  USD]]/VLOOKUP(Dashboard!$J$5,Sheet3!$B$2:$C$31,2,FALSE)))","v":33198.740534498473},"IT Asset Administrator","Analyst","Canada","4 to 6 hours a day","Data Not Avaliable"]
[null,"ID0303",42000,"CAD",41301.183967273726,{"$f":"(tblSalaries[[#This Row],[clean Salary (in local currency)]])*(VLOOKUP(tblSalaries[[#This Row],[Currency]],Sheet3!$A$2:$C$31,3,FALSE))*(VLOOKUP(tblSalaries[[#This Row],[Currency]],Sheet1!$N$4:$Q$186,4,FALSE))","v":33198.740534498473},{"$f":"IF(Dashboard!$J$5=VLOOKUP(tblSalaries[[#This Row],[Currency]],Sheet3!$A$2:$B$31,2,FALSE),tblSalaries[[#This Row],[clean Salary (in local currency)]],(tblSalaries[[#This Row],[PPP Adjusted  USD]]/VLOOKUP(Dashboard!$J$5,Sheet3!$B$2:$C$31,2,FALSE)))","v":33198.740534498473},"Financial Analyst","Analyst","Canada","All the 8 hours baby, all the 8!","Data Not Avaliable"]
[null,"ID0761",700000,"INR",12465.541681209797,{"$f":"(tblSalaries[[#This Row],[clean Salary (in local currency)]])*(VLOOKUP(tblSalaries[[#This Row],[Currency]],Sheet3!$A$2:$C$31,3,FALSE))*(VLOOKUP(tblSalaries[[#This Row],[Currency]],Sheet1!$N$4:$Q$186,4,FALSE))","v":33152.715644088916},{"$f":"IF(Dashboard!$J$5=VLOOKUP(tblSalaries[[#This Row],[Currency]],Sheet3!$A$2:$B$31,2,FALSE),tblSalaries[[#This Row],[clean Salary (in local currency)]],(tblSalaries[[#This Row],[PPP Adjusted  USD]]/VLOOKUP(Dashboard!$J$5,Sheet3!$B$2:$C$31,2,FALSE)))","v":33152.715644088916},"Sales Management Analyst","Analyst","India","All the 8 hours baby, all the 8!",5]
[null,"ID0928",700000,"INR",12465.541681209797,{"$f":"(tblSalaries[[#This Row],[clean Salary (in local currency)]])*(VLOOKUP(tblSalaries[[#This Row],[Currency]],Sheet3!$A$2:$C$31,3,FALSE))*(VLOOKUP(tblSalaries[[#This Row],[Currency]],Sheet1!$N$4:$Q$186,4,FALSE))","v":33152.715644088916},{"$f":"IF(Dashboard!$J$5=VLOOKUP(tblSalaries[[#This Row],[Currency]],Sheet3!$A$2:$B$31,2,FALSE),tblSalaries[[#This Row],[clean Salary (in local currency)]],(tblSalaries[[#This Row],[PPP Adjusted  USD]]/VLOOKUP(Dashboard!$J$5,Sheet3!$B$2:$C$31,2,FALSE)))","v":33152.715644088916},"Business Support Executive","Manager","India","4 to 6 hours a day",3]
[null,"ID0937",700000,"INR",12465.541681209797,{"$f":"(tblSalaries[[#This Row],[clean Salary (in local currency)]])*(VLOOKUP(tblSalaries[[#This Row],[Currency]],Sheet3!$A$2:$C$31,3,FALSE))*(VLOOKUP(tblSalaries[[#This Row],[Currency]],Sheet1!$N$4:$Q$186,4,FALSE))","v":33152.715644088916},{"$f":"IF(Dashboard!$J$5=VLOOKUP(tblSalaries[[#This Row],[Currency]],Sheet3!$A$2:$B$31,2,FALSE),tblSalaries[[#This Row],[clean Salary (in local currency)]],(tblSalaries[[#This Row],[PPP Adjusted  USD]]/VLOOKUP(Dashboard!$J$5,Sheet3!$B$2:$C$31,2,FALSE)))","v":33152.715644088916},"Business Analyst","Analyst","India","All the 8 hours baby, all the 8!",1]
[null,"ID1007",700000,"INR",12465.541681209797,{"$f":"(tblSalaries[[#This Row],[clean Salary (in local currency)]])*(VLOOKUP(tblSalaries[[#This Row],[Currency]],Sheet3!$A$2:$C$31,3,FALSE))*(VLOOKUP(tblSalaries[[#This Row],[Currency]],Sheet1!$N$4:$Q$186,4,FALSE))","v":33152.715644088916},{"$f":"IF(Dashboard!$J$5=VLOOKUP(tblSalaries[[#This Row],[Currency]],Sheet3!$A$2:$B$31,2,FALSE),tblSalaries[[#This Row],[clean Salary (in local currency)]],(tblSalaries[[#This Row],[PPP Adjusted  USD]]/VLOOKUP(Dashboard!$J$5,Sheet3!$B$2:$C$31,2,FALSE)))","v":33152.715644088916},"Asst Manager - Quality","Manager","India","2 to 3 hours per day",7]
[null,"ID1049",700000,"INR",12465.541681209797,{"$f":"(tblSalaries[[#This Row],[clean Salary (in local currency)]])*(VLOOKUP(tblSalaries[[#This Row],[Currency]],Sheet3!$A$2:$C$31,3,FALSE))*(VLOOKUP(tblSalaries[[#This Row],[Currency]],Sheet1!$N$4:$Q$186,4,FALSE))","v":33152.715644088916},{"$f":"IF(Dashboard!$J$5=VLOOKUP(tblSalaries[[#This Row],[Currency]],Sheet3!$A$2:$B$31,2,FALSE),tblSalaries[[#This Row],[clean Salary (in local currency)]],(tblSalaries[[#This Row],[PPP Adjusted  USD]]/VLOOKUP(Dashboard!$J$5,Sheet3!$B$2:$C$31,2,FALSE)))","v":33152.715644088916},"Credit Analyst","Analyst","India","4 to 6 hours a day",5]
[null,"ID1225",700000,"INR",12465.541681209797,{"$f":"(tblSalaries[[#This Row],[clean Salary (in local currency)]])*(VLOOKUP(tblSalaries[[#This Row],[Currency]],Sheet3!$A$2:$C$31,3,FALSE))*(VLOOKUP(tblSalaries[[#This Row],[Currency]],Sheet1!$N$4:$Q$186,4,FALSE))","v":33152.715644088916},{"$f":"IF(Dashboard!$J$5=VLOOKUP(tblSalaries[[#This Row],[Currency]],Sheet3!$A$2:$B$31,2,FALSE),tblSalaries[[#This Row],[clean Salary (in local currency)]],(tblSalaries[[#This Row],[PPP Adjusted  USD]]/VLOOKUP(Dashboard!$J$5,Sheet3!$B$2:$C$31,2,FALSE)))","v":33152.715644088916},"Lead Executive MIS","Reporting","India","4 to 6 hours a day",6]
[null,"ID1565",700000,"INR",12465.541681209797,{"$f":"(tblSalaries[[#This Row],[clean Salary (in local currency)]])*(VLOOKUP(tblSalaries[[#This Row],[Currency]],Sheet3!$A$2:$C$31,3,FALSE))*(VLOOKUP(tblSalaries[[#This Row],[Currency]],Sheet1!$N$4:$Q$186,4,FALSE))","v":33152.715644088916},{"$f":"IF(Dashboard!$J$5=VLOOKUP(tblSalaries[[#This Row],[Currency]],Sheet3!$A$2:$B$31,2,FALSE),tblSalaries[[#This Row],[clean Salary (in local currency)]],(tblSalaries[[#This Row],[PPP Adjusted  USD]]/VLOOKUP(Dashboard!$J$5,Sheet3!$B$2:$C$31,2,FALSE)))","v":33152.715644088916},"Manager - Business Development","Manager","India","All the 8 hours baby, all the 8!",30]
[null,"ID1862",700000,"INR",12465.541681209797,{"$f":"(tblSalaries[[#This Row],[clean Salary (in local currency)]])*(VLOOKUP(tblSalaries[[#This Row],[Currency]],Sheet3!$A$2:$C$31,3,FALSE))*(VLOOKUP(tblSalaries[[#This Row],[Currency]],Sheet1!$N$4:$Q$186,4,FALSE))","v":33152.715644088916},{"$f":"IF(Dashboard!$J$5=VLOOKUP(tblSalaries[[#This Row],[Currency]],Sheet3!$A$2:$B$31,2,FALSE),tblSalaries[[#This Row],[clean Salary (in local currency)]],(tblSalaries[[#This Row],[PPP Adjusted  USD]]/VLOOKUP(Dashboard!$J$5,Sheet3!$B$2:$C$31,2,FALSE)))","v":33152.715644088916},"Sr. System Analyst","Analyst","India","2 to 3 hours per day",4]
[null,"ID1881",700000,"INR",12465.541681209797,{"$f":"(tblSalaries[[#This Row],[clean Salary (in local currency)]])*(VLOOKUP(tblSalaries[[#This Row],[Currency]],Sheet3!$A$2:$C$31,3,FALSE))*(VLOOKUP(tblSalaries[[#This Row],[Currency]],Sheet1!$N$4:$Q$186,4,FALSE))","v":33152.715644088916},{"$f":"IF(Dashboard!$J$5=VLOOKUP(tblSalaries[[#This Row],[Currency]],Sheet3!$A$2:$B$31,2,FALSE),tblSalaries[[#This Row],[clean Salary (in local currency)]],(tblSalaries[[#This Row],[PPP Adjusted  USD]]/VLOOKUP(Dashboard!$J$5,Sheet3!$B$2:$C$31,2,FALSE)))","v":33152.715644088916},"Revenue Focus Manager","Manager","India","2 to 3 hours per day",9]
[null,"ID1040",55000,"NZD",43867.345148271634,{"$f":"(tblSalaries[[#This Row],[clean Salary (in local currency)]])*(VLOOKUP(tblSalaries[[#This Row],[Currency]],Sheet3!$A$2:$C$31,3,FALSE))*(VLOOKUP(tblSalaries[[#This Row],[Currency]],Sheet1!$N$4:$Q$186,4,FALSE))","v":33118.624572617751},{"$f":"IF(Dashboard!$J$5=VLOOKUP(tblSalaries[[#This Row],[Currency]],Sheet3!$A$2:$B$31,2,FALSE),tblSalaries[[#This Row],[clean Salary (in local currency)]],(tblSalaries[[#This Row],[PPP Adjusted  USD]]/VLOOKUP(Dashboard!$J$5,Sheet3!$B$2:$C$31,2,FALSE)))","v":33118.624572617751},"Financial Analyst","Analyst","New Zealand","All the 8 hours baby, all the 8!",10]
[null,"ID0849",30000,"EUR",38111.983169748237,{"$f":"(tblSalaries[[#This Row],[clean Salary (in local currency)]])*(VLOOKUP(tblSalaries[[#This Row],[Currency]],Sheet3!$A$2:$C$31,3,FALSE))*(VLOOKUP(tblSalaries[[#This Row],[Currency]],Sheet1!$N$4:$Q$186,4,FALSE))","v":33019.58657940157},{"$f":"IF(Dashboard!$J$5=VLOOKUP(tblSalaries[[#This Row],[Currency]],Sheet3!$A$2:$B$31,2,FALSE),tblSalaries[[#This Row],[clean Salary (in local currency)]],(tblSalaries[[#This Row],[PPP Adjusted  USD]]/VLOOKUP(Dashboard!$J$5,Sheet3!$B$2:$C$31,2,FALSE)))","v":33019.58657940157},"financialcotroller","Accountant","Portugal","All the 8 hours baby, all the 8!",8]
[null,"ID1143",30000,"EUR",38111.983169748237,{"$f":"(tblSalaries[[#This Row],[clean Salary (in local currency)]])*(VLOOKUP(tblSalaries[[#This Row],[Currency]],Sheet3!$A$2:$C$31,3,FALSE))*(VLOOKUP(tblSalaries[[#This Row],[Currency]],Sheet1!$N$4:$Q$186,4,FALSE))","v":33019.58657940157},{"$f":"IF(Dashboard!$J$5=VLOOKUP(tblSalaries[[#This Row],[Currency]],Sheet3!$A$2:$B$31,2,FALSE),tblSalaries[[#This Row],[clean Salary (in local currency)]],(tblSalaries[[#This Row],[PPP Adjusted  USD]]/VLOOKUP(Dashboard!$J$5,Sheet3!$B$2:$C$31,2,FALSE)))","v":33019.58657940157},"Translator","Analyst","Belgium","1 or 2 hours a day",15]
[null,"ID1239",30000,"EUR",38111.983169748237,{"$f":"(tblSalaries[[#This Row],[clean Salary (in local currency)]])*(VLOOKUP(tblSalaries[[#This Row],[Currency]],Sheet3!$A$2:$C$31,3,FALSE))*(VLOOKUP(tblSalaries[[#This Row],[Currency]],Sheet1!$N$4:$Q$186,4,FALSE))","v":33019.58657940157},{"$f":"IF(Dashboard!$J$5=VLOOKUP(tblSalaries[[#This Row],[Currency]],Sheet3!$A$2:$B$31,2,FALSE),tblSalaries[[#This Row],[clean Salary (in local currency)]],(tblSalaries[[#This Row],[PPP Adjusted  USD]]/VLOOKUP(Dashboard!$J$5,Sheet3!$B$2:$C$31,2,FALSE)))","v":33019.58657940157},"education advisor","Consultant","Netherlands","1 or 2 hours a day",8]
[null,"ID1298",30000,"EUR",38111.983169748237,{"$f":"(tblSalaries[[#This Row],[clean Salary (in local currency)]])*(VLOOKUP(tblSalaries[[#This Row],[Currency]],Sheet3!$A$2:$C$31,3,FALSE))*(VLOOKUP(tblSalaries[[#This Row],[Currency]],Sheet1!$N$4:$Q$186,4,FALSE))","v":33019.58657940157},{"$f":"IF(Dashboard!$J$5=VLOOKUP(tblSalaries[[#This Row],[Currency]],Sheet3!$A$2:$B$31,2,FALSE),tblSalaries[[#This Row],[clean Salary (in local currency)]],(tblSalaries[[#This Row],[PPP Adjusted  USD]]/VLOOKUP(Dashboard!$J$5,Sheet3!$B$2:$C$31,2,FALSE)))","v":33019.58657940157},"Employee","Analyst","Belgium","2 to 3 hours per day",15]
[null,"ID1671",30000,"EUR",38111.983169748237,{"$f":"(tblSalaries[[#This Row],[clean Salary (in local currency)]])*(VLOOKUP(tblSalaries[[#This Row],[Currency]],Sheet3!$A$2:$C$31,3,FALSE))*(VLOOKUP(tblSalaries[[#This Row],[Currency]],Sheet1!$N$4:$Q$186,4,FALSE))","v":33019.58657940157},{"$f":"IF(Dashboard!$J$5=VLOOKUP(tblSalaries[[#This Row],[Currency]],Sheet3!$A$2:$B$31,2,FALSE),tblSalaries[[#This Row],[clean Salary (in local currency)]],(tblSalaries[[#This Row],[PPP Adjusted  USD]]/VLOOKUP(Dashboard!$J$5,Sheet3!$B$2:$C$31,2,FALSE)))","v":33019.58657940157},"Safety technician","Analyst","Spain","1 or 2 hours a day",12]
[null,"ID1373",33000,"USD",33000,{"$f":"(tblSalaries[[#This Row],[clean Salary (in local currency)]])*(VLOOKUP(tblSalaries[[#This Row],[Currency]],Sheet3!$A$2:$C$31,3,FALSE))*(VLOOKUP(tblSalaries[[#This Row],[Currency]],Sheet1!$N$4:$Q$186,4,FALSE))","v":33000},{"$f":"IF(Dashboard!$J$5=VLOOKUP(tblSalaries[[#This Row],[Currency]],Sheet3!$A$2:$B$31,2,FALSE),tblSalaries[[#This Row],[clean Salary (in local currency)]],(tblSalaries[[#This Row],[PPP Adjusted  USD]]/VLOOKUP(Dashboard!$J$5,Sheet3!$B$2:$C$31,2,FALSE)))","v":33000},"Quality Control Supervisor","Controller","USA","4 to 6 hours a day",3]
[null,"ID1617",32884,"USD",32884,{"$f":"(tblSalaries[[#This Row],[clean Salary (in local currency)]])*(VLOOKUP(tblSalaries[[#This Row],[Currency]],Sheet3!$A$2:$C$31,3,FALSE))*(VLOOKUP(tblSalaries[[#This Row],[Currency]],Sheet1!$N$4:$Q$186,4,FALSE))","v":32884},{"$f":"IF(Dashboard!$J$5=VLOOKUP(tblSalaries[[#This Row],[Currency]],Sheet3!$A$2:$B$31,2,FALSE),tblSalaries[[#This Row],[clean Salary (in local currency)]],(tblSalaries[[#This Row],[PPP Adjusted  USD]]/VLOOKUP(Dashboard!$J$5,Sheet3!$B$2:$C$31,2,FALSE)))","v":32884},"Administrative Assistant","Analyst","USA","All the 8 hours baby, all the 8!",10]
[null,"ID1783",22300,"GBP",35148.775467100437,{"$f":"(tblSalaries[[#This Row],[clean Salary (in local currency)]])*(VLOOKUP(tblSalaries[[#This Row],[Currency]],Sheet3!$A$2:$C$31,3,FALSE))*(VLOOKUP(tblSalaries[[#This Row],[Currency]],Sheet1!$N$4:$Q$186,4,FALSE))","v":32869.557871063531},{"$f":"IF(Dashboard!$J$5=VLOOKUP(tblSalaries[[#This Row],[Currency]],Sheet3!$A$2:$B$31,2,FALSE),tblSalaries[[#This Row],[clean Salary (in local currency)]],(tblSalaries[[#This Row],[PPP Adjusted  USD]]/VLOOKUP(Dashboard!$J$5,Sheet3!$B$2:$C$31,2,FALSE)))","v":32869.557871063531},"Analysis & insight consultant","Analyst","UK","All the 8 hours baby, all the 8!",4]
[null,"ID0990",52000,"AUD",53035.30213293706,{"$f":"(tblSalaries[[#This Row],[clean Salary (in local currency)]])*(VLOOKUP(tblSalaries[[#This Row],[Currency]],Sheet3!$A$2:$C$31,3,FALSE))*(VLOOKUP(tblSalaries[[#This Row],[Currency]],Sheet1!$N$4:$Q$186,4,FALSE))","v":32589.131026327774},{"$f":"IF(Dashboard!$J$5=VLOOKUP(tblSalaries[[#This Row],[Currency]],Sheet3!$A$2:$B$31,2,FALSE),tblSalaries[[#This Row],[clean Salary (in local currency)]],(tblSalaries[[#This Row],[PPP Adjusted  USD]]/VLOOKUP(Dashboard!$J$5,Sheet3!$B$2:$C$31,2,FALSE)))","v":32589.131026327774},"Shipping Administrator","Analyst","Australia","4 to 6 hours a day",4]
[null,"ID1664",22000,"GBP",34675.92198548025,{"$f":"(tblSalaries[[#This Row],[clean Salary (in local currency)]])*(VLOOKUP(tblSalaries[[#This Row],[Currency]],Sheet3!$A$2:$C$31,3,FALSE))*(VLOOKUP(tblSalaries[[#This Row],[Currency]],Sheet1!$N$4:$Q$186,4,FALSE))","v":32427.366509569405},{"$f":"IF(Dashboard!$J$5=VLOOKUP(tblSalaries[[#This Row],[Currency]],Sheet3!$A$2:$B$31,2,FALSE),tblSalaries[[#This Row],[clean Salary (in local currency)]],(tblSalaries[[#This Row],[PPP Adjusted  USD]]/VLOOKUP(Dashboard!$J$5,Sheet3!$B$2:$C$31,2,FALSE)))","v":32427.366509569405},"Supply/Demand Planner","Manager","UK","4 to 6 hours a day",17]
[null,"ID1629",680000,"INR",12109.383347460946,{"$f":"(tblSalaries[[#This Row],[clean Salary (in local currency)]])*(VLOOKUP(tblSalaries[[#This Row],[Currency]],Sheet3!$A$2:$C$31,3,FALSE))*(VLOOKUP(tblSalaries[[#This Row],[Currency]],Sheet1!$N$4:$Q$186,4,FALSE))","v":32205.495197114946},{"$f":"IF(Dashboard!$J$5=VLOOKUP(tblSalaries[[#This Row],[Currency]],Sheet3!$A$2:$B$31,2,FALSE),tblSalaries[[#This Row],[clean Salary (in local currency)]],(tblSalaries[[#This Row],[PPP Adjusted  USD]]/VLOOKUP(Dashboard!$J$5,Sheet3!$B$2:$C$31,2,FALSE)))","v":32205.495197114946},"Deputy Manager","Manager","India","1 or 2 hours a day",2]
[null,"ID0747",21798,"GBP",34357.533974522659,{"$f":"(tblSalaries[[#This Row],[clean Salary (in local currency)]])*(VLOOKUP(tblSalaries[[#This Row],[Currency]],Sheet3!$A$2:$C$31,3,FALSE))*(VLOOKUP(tblSalaries[[#This Row],[Currency]],Sheet1!$N$4:$Q$186,4,FALSE))","v":32129.624326163357},{"$f":"IF(Dashboard!$J$5=VLOOKUP(tblSalaries[[#This Row],[Currency]],Sheet3!$A$2:$B$31,2,FALSE),tblSalaries[[#This Row],[clean Salary (in local currency)]],(tblSalaries[[#This Row],[PPP Adjusted  USD]]/VLOOKUP(Dashboard!$J$5,Sheet3!$B$2:$C$31,2,FALSE)))","v":32129.624326163357},"Data Analyst","Analyst","UK","All the 8 hours baby, all the 8!",1.5]
[null,"ID0856",32000,"USD",32000,{"$f":"(tblSalaries[[#This Row],[clean Salary (in local currency)]])*(VLOOKUP(tblSalaries[[#This Row],[Currency]],Sheet3!$A$2:$C$31,3,FALSE))*(VLOOKUP(tblSalaries[[#This Row],[Currency]],Sheet1!$N$4:$Q$186,4,FALSE))","v":32000},{"$f":"IF(Dashboard!$J$5=VLOOKUP(tblSalaries[[#This Row],[Currency]],Sheet3!$A$2:$B$31,2,FALSE),tblSalaries[[#This Row],[clean Salary (in local currency)]],(tblSalaries[[#This Row],[PPP Adjusted  USD]]/VLOOKUP(Dashboard!$J$5,Sheet3!$B$2:$C$31,2,FALSE)))","v":32000},"Reporting Manager","Manager","USA","4 to 6 hours a day",1]
[null,"ID1505",32000,"USD",32000,{"$f":"(tblSalaries[[#This Row],[clean Salary (in local currency)]])*(VLOOKUP(tblSalaries[[#This Row],[Currency]],Sheet3!$A$2:$C$31,3,FALSE))*(VLOOKUP(tblSalaries[[#This Row],[Currency]],Sheet1!$N$4:$Q$186,4,FALSE))","v":32000},{"$f":"IF(Dashboard!$J$5=VLOOKUP(tblSalaries[[#This Row],[Currency]],Sheet3!$A$2:$B$31,2,FALSE),tblSalaries[[#This Row],[clean Salary (in local currency)]],(tblSalaries[[#This Row],[PPP Adjusted  USD]]/VLOOKUP(Dashboard!$J$5,Sheet3!$B$2:$C$31,2,FALSE)))","v":32000},"Reports Writer","Reporting","USA","4 to 6 hours a day",10]
[null,"ID1615",21500,"GBP",33887.832849446611,{"$f":"(tblSalaries[[#This Row],[clean Salary (in local currency)]])*(VLOOKUP(tblSalaries[[#This Row],[Currency]],Sheet3!$A$2:$C$31,3,FALSE))*(VLOOKUP(tblSalaries[[#This Row],[Currency]],Sheet1!$N$4:$Q$186,4,FALSE))","v":31690.380907079194},{"$f":"IF(Dashboard!$J$5=VLOOKUP(tblSalaries[[#This Row],[Currency]],Sheet3!$A$2:$B$31,2,FALSE),tblSalaries[[#This Row],[clean Salary (in local currency)]],(tblSalaries[[#This Row],[PPP Adjusted  USD]]/VLOOKUP(Dashboard!$J$5,Sheet3!$B$2:$C$31,2,FALSE)))","v":31690.380907079194},"Data Analyst","Analyst","UK","All the 8 hours baby, all the 8!",1]
[null,"ID1800",40000,"CAD",39334.460921213074,{"$f":"(tblSalaries[[#This Row],[clean Salary (in local currency)]])*(VLOOKUP(tblSalaries[[#This Row],[Currency]],Sheet3!$A$2:$C$31,3,FALSE))*(VLOOKUP(tblSalaries[[#This Row],[Currency]],Sheet1!$N$4:$Q$186,4,FALSE))","v":31617.848128093785},{"$f":"IF(Dashboard!$J$5=VLOOKUP(tblSalaries[[#This Row],[Currency]],Sheet3!$A$2:$B$31,2,FALSE),tblSalaries[[#This Row],[clean Salary (in local currency)]],(tblSalaries[[#This Row],[PPP Adjusted  USD]]/VLOOKUP(Dashboard!$J$5,Sheet3!$B$2:$C$31,2,FALSE)))","v":31617.848128093785},"Machine Scheduler","Analyst","Canada","1 or 2 hours a day",1]
[null,"ID1815",1281600,"PKR",13603.016099449767,{"$f":"(tblSalaries[[#This Row],[clean Salary (in local currency)]])*(VLOOKUP(tblSalaries[[#This Row],[Currency]],Sheet3!$A$2:$C$31,3,FALSE))*(VLOOKUP(tblSalaries[[#This Row],[Currency]],Sheet1!$N$4:$Q$186,4,FALSE))","v":31563.317942446392},{"$f":"IF(Dashboard!$J$5=VLOOKUP(tblSalaries[[#This Row],[Currency]],Sheet3!$A$2:$B$31,2,FALSE),tblSalaries[[#This Row],[clean Salary (in local currency)]],(tblSalaries[[#This Row],[PPP Adjusted  USD]]/VLOOKUP(Dashboard!$J$5,Sheet3!$B$2:$C$31,2,FALSE)))","v":31563.317942446392},"Manager MIS & Analytics","Manager","Pakistan","All the 8 hours baby, all the 8!",8]
[null,"ID1315",28500,"EUR",36206.384011260823,{"$f":"(tblSalaries[[#This Row],[clean Salary (in local currency)]])*(VLOOKUP(tblSalaries[[#This Row],[Currency]],Sheet3!$A$2:$C$31,3,FALSE))*(VLOOKUP(tblSalaries[[#This Row],[Currency]],Sheet1!$N$4:$Q$186,4,FALSE))","v":31368.607250431487},{"$f":"IF(Dashboard!$J$5=VLOOKUP(tblSalaries[[#This Row],[Currency]],Sheet3!$A$2:$B$31,2,FALSE),tblSalaries[[#This Row],[clean Salary (in local currency)]],(tblSalaries[[#This Row],[PPP Adjusted  USD]]/VLOOKUP(Dashboard!$J$5,Sheet3!$B$2:$C$31,2,FALSE)))","v":31368.607250431487},"Salary Professsional","Analyst","Netherlands","1 or 2 hours a day",5]
[null,"ID0977",50000,"AUD",50995.482820131787,{"$f":"(tblSalaries[[#This Row],[clean Salary (in local currency)]])*(VLOOKUP(tblSalaries[[#This Row],[Currency]],Sheet3!$A$2:$C$31,3,FALSE))*(VLOOKUP(tblSalaries[[#This Row],[Currency]],Sheet1!$N$4:$Q$186,4,FALSE))","v":31335.702909930551},{"$f":"IF(Dashboard!$J$5=VLOOKUP(tblSalaries[[#This Row],[Currency]],Sheet3!$A$2:$B$31,2,FALSE),tblSalaries[[#This Row],[clean Salary (in local currency)]],(tblSalaries[[#This Row],[PPP Adjusted  USD]]/VLOOKUP(Dashboard!$J$5,Sheet3!$B$2:$C$31,2,FALSE)))","v":31335.702909930551},"Operations","Controller","Australia","1 or 2 hours a day",5]
[null,"ID1056",50000,"AUD",50995.482820131787,{"$f":"(tblSalaries[[#This Row],[clean Salary (in local currency)]])*(VLOOKUP(tblSalaries[[#This Row],[Currency]],Sheet3!$A$2:$C$31,3,FALSE))*(VLOOKUP(tblSalaries[[#This Row],[Currency]],Sheet1!$N$4:$Q$186,4,FALSE))","v":31335.702909930551},{"$f":"IF(Dashboard!$J$5=VLOOKUP(tblSalaries[[#This Row],[Currency]],Sheet3!$A$2:$B$31,2,FALSE),tblSalaries[[#This Row],[clean Salary (in local currency)]],(tblSalaries[[#This Row],[PPP Adjusted  USD]]/VLOOKUP(Dashboard!$J$5,Sheet3!$B$2:$C$31,2,FALSE)))","v":31335.702909930551},"BA","Analyst","Australia","4 to 6 hours a day",4]
[null,"ID0086",31330,"USD",31330,{"$f":"(tblSalaries[[#This Row],[clean Salary (in local currency)]])*(VLOOKUP(tblSalaries[[#This Row],[Currency]],Sheet3!$A$2:$C$31,3,FALSE))*(VLOOKUP(tblSalaries[[#This Row],[Currency]],Sheet1!$N$4:$Q$186,4,FALSE))","v":31330},{"$f":"IF(Dashboard!$J$5=VLOOKUP(tblSalaries[[#This Row],[Currency]],Sheet3!$A$2:$B$31,2,FALSE),tblSalaries[[#This Row],[clean Salary (in local currency)]],(tblSalaries[[#This Row],[PPP Adjusted  USD]]/VLOOKUP(Dashboard!$J$5,Sheet3!$B$2:$C$31,2,FALSE)))","v":31330},"VBA Analyst","Analyst","Brazil","All the 8 hours baby, all the 8!","Data Not Avaliable"]
[null,"ID0680",720000,"PHP",17067.637625607145,{"$f":"(tblSalaries[[#This Row],[clean Salary (in local currency)]])*(VLOOKUP(tblSalaries[[#This Row],[Currency]],Sheet3!$A$2:$C$31,3,FALSE))*(VLOOKUP(tblSalaries[[#This Row],[Currency]],Sheet1!$N$4:$Q$186,4,FALSE))","v":31264.362288276276},{"$f":"IF(Dashboard!$J$5=VLOOKUP(tblSalaries[[#This Row],[Currency]],Sheet3!$A$2:$B$31,2,FALSE),tblSalaries[[#This Row],[clean Salary (in local currency)]],(tblSalaries[[#This Row],[PPP Adjusted  USD]]/VLOOKUP(Dashboard!$J$5,Sheet3!$B$2:$C$31,2,FALSE)))","v":31264.362288276276},"System Manager","Manager","Philippines","4 to 6 hours a day",9]
[null,"ID1329",660000,"INR",11753.225013712095,{"$f":"(tblSalaries[[#This Row],[clean Salary (in local currency)]])*(VLOOKUP(tblSalaries[[#This Row],[Currency]],Sheet3!$A$2:$C$31,3,FALSE))*(VLOOKUP(tblSalaries[[#This Row],[Currency]],Sheet1!$N$4:$Q$186,4,FALSE))","v":31258.274750140983},{"$f":"IF(Dashboard!$J$5=VLOOKUP(tblSalaries[[#This Row],[Currency]],Sheet3!$A$2:$B$31,2,FALSE),tblSalaries[[#This Row],[clean Salary (in local currency)]],(tblSalaries[[#This Row],[PPP Adjusted  USD]]/VLOOKUP(Dashboard!$J$5,Sheet3!$B$2:$C$31,2,FALSE)))","v":31258.274750140983},"AM business Intelligence","Manager","India","All the 8 hours baby, all the 8!",7]
[null,"ID0722",31250,"USD",31250,{"$f":"(tblSalaries[[#This Row],[clean Salary (in local currency)]])*(VLOOKUP(tblSalaries[[#This Row],[Currency]],Sheet3!$A$2:$C$31,3,FALSE))*(VLOOKUP(tblSalaries[[#This Row],[Currency]],Sheet1!$N$4:$Q$186,4,FALSE))","v":31250},{"$f":"IF(Dashboard!$J$5=VLOOKUP(tblSalaries[[#This Row],[Currency]],Sheet3!$A$2:$B$31,2,FALSE),tblSalaries[[#This Row],[clean Salary (in local currency)]],(tblSalaries[[#This Row],[PPP Adjusted  USD]]/VLOOKUP(Dashboard!$J$5,Sheet3!$B$2:$C$31,2,FALSE)))","v":31250},"Program management","Manager","India","2 to 3 hours per day",6]
[null,"ID1571",31200,"USD",31200,{"$f":"(tblSalaries[[#This Row],[clean Salary (in local currency)]])*(VLOOKUP(tblSalaries[[#This Row],[Currency]],Sheet3!$A$2:$C$31,3,FALSE))*(VLOOKUP(tblSalaries[[#This Row],[Currency]],Sheet1!$N$4:$Q$186,4,FALSE))","v":31200},{"$f":"IF(Dashboard!$J$5=VLOOKUP(tblSalaries[[#This Row],[Currency]],Sheet3!$A$2:$B$31,2,FALSE),tblSalaries[[#This Row],[clean Salary (in local currency)]],(tblSalaries[[#This Row],[PPP Adjusted  USD]]/VLOOKUP(Dashboard!$J$5,Sheet3!$B$2:$C$31,2,FALSE)))","v":31200},"Data Analyst","Analyst","USA","4 to 6 hours a day",15]
[null,"ID1665",31200,"USD",31200,{"$f":"(tblSalaries[[#This Row],[clean Salary (in local currency)]])*(VLOOKUP(tblSalaries[[#This Row],[Currency]],Sheet3!$A$2:$C$31,3,FALSE))*(VLOOKUP(tblSalaries[[#This Row],[Currency]],Sheet1!$N$4:$Q$186,4,FALSE))","v":31200},{"$f":"IF(Dashboard!$J$5=VLOOKUP(tblSalaries[[#This Row],[Currency]],Sheet3!$A$2:$B$31,2,FALSE),tblSalaries[[#This Row],[clean Salary (in local currency)]],(tblSalaries[[#This Row],[PPP Adjusted  USD]]/VLOOKUP(Dashboard!$J$5,Sheet3!$B$2:$C$31,2,FALSE)))","v":31200},"Economist","Reporting","Israel","All the 8 hours baby, all the 8!",11]
[null,"ID1750",31200,"USD",31200,{"$f":"(tblSalaries[[#This Row],[clean Salary (in local currency)]])*(VLOOKUP(tblSalaries[[#This Row],[Currency]],Sheet3!$A$2:$C$31,3,FALSE))*(VLOOKUP(tblSalaries[[#This Row],[Currency]],Sheet1!$N$4:$Q$186,4,FALSE))","v":31200},{"$f":"IF(Dashboard!$J$5=VLOOKUP(tblSalaries[[#This Row],[Currency]],Sheet3!$A$2:$B$31,2,FALSE),tblSalaries[[#This Row],[clean Salary (in local currency)]],(tblSalaries[[#This Row],[PPP Adjusted  USD]]/VLOOKUP(Dashboard!$J$5,Sheet3!$B$2:$C$31,2,FALSE)))","v":31200},"Risk analyst","Analyst","Brazil","4 to 6 hours a day",4]
[null,"ID0255",31000,"USD",31000,{"$f":"(tblSalaries[[#This Row],[clean Salary (in local currency)]])*(VLOOKUP(tblSalaries[[#This Row],[Currency]],Sheet3!$A$2:$C$31,3,FALSE))*(VLOOKUP(tblSalaries[[#This Row],[Currency]],Sheet1!$N$4:$Q$186,4,FALSE))","v":31000},{"$f":"IF(Dashboard!$J$5=VLOOKUP(tblSalaries[[#This Row],[Currency]],Sheet3!$A$2:$B$31,2,FALSE),tblSalaries[[#This Row],[clean Salary (in local currency)]],(tblSalaries[[#This Row],[PPP Adjusted  USD]]/VLOOKUP(Dashboard!$J$5,Sheet3!$B$2:$C$31,2,FALSE)))","v":31000},"Site Technician","Analyst","USA","4 to 6 hours a day","Data Not Avaliable"]
[null,"ID0299",31000,"USD",31000,{"$f":"(tblSalaries[[#This Row],[clean Salary (in local currency)]])*(VLOOKUP(tblSalaries[[#This Row],[Currency]],Sheet3!$A$2:$C$31,3,FALSE))*(VLOOKUP(tblSalaries[[#This Row],[Currency]],Sheet1!$N$4:$Q$186,4,FALSE))","v":31000},{"$f":"IF(Dashboard!$J$5=VLOOKUP(tblSalaries[[#This Row],[Currency]],Sheet3!$A$2:$B$31,2,FALSE),tblSalaries[[#This Row],[clean Salary (in local currency)]],(tblSalaries[[#This Row],[PPP Adjusted  USD]]/VLOOKUP(Dashboard!$J$5,Sheet3!$B$2:$C$31,2,FALSE)))","v":31000},"Support Specialist ","Specialist","USA","2 to 3 hours per day","Data Not Avaliable"]
[null,"ID0575",21000,"GBP",33099.743713412965,{"$f":"(tblSalaries[[#This Row],[clean Salary (in local currency)]])*(VLOOKUP(tblSalaries[[#This Row],[Currency]],Sheet3!$A$2:$C$31,3,FALSE))*(VLOOKUP(tblSalaries[[#This Row],[Currency]],Sheet1!$N$4:$Q$186,4,FALSE))","v":30953.395304588976},{"$f":"IF(Dashboard!$J$5=VLOOKUP(tblSalaries[[#This Row],[Currency]],Sheet3!$A$2:$B$31,2,FALSE),tblSalaries[[#This Row],[clean Salary (in local currency)]],(tblSalaries[[#This Row],[PPP Adjusted  USD]]/VLOOKUP(Dashboard!$J$5,Sheet3!$B$2:$C$31,2,FALSE)))","v":30953.395304588976},"Sales Analyst","Analyst","UK","All the 8 hours baby, all the 8!",10]
[null,"ID1899",28000,"EUR",35571.184291765021,{"$f":"(tblSalaries[[#This Row],[clean Salary (in local currency)]])*(VLOOKUP(tblSalaries[[#This Row],[Currency]],Sheet3!$A$2:$C$31,3,FALSE))*(VLOOKUP(tblSalaries[[#This Row],[Currency]],Sheet1!$N$4:$Q$186,4,FALSE))","v":30818.280807441464},{"$f":"IF(Dashboard!$J$5=VLOOKUP(tblSalaries[[#This Row],[Currency]],Sheet3!$A$2:$B$31,2,FALSE),tblSalaries[[#This Row],[clean Salary (in local currency)]],(tblSalaries[[#This Row],[PPP Adjusted  USD]]/VLOOKUP(Dashboard!$J$5,Sheet3!$B$2:$C$31,2,FALSE)))","v":30818.280807441464},"controller","Controller","Spain","4 to 6 hours a day",8]
[null,"ID0814",650000,"INR",11575.14584683767,{"$f":"(tblSalaries[[#This Row],[clean Salary (in local currency)]])*(VLOOKUP(tblSalaries[[#This Row],[Currency]],Sheet3!$A$2:$C$31,3,FALSE))*(VLOOKUP(tblSalaries[[#This Row],[Currency]],Sheet1!$N$4:$Q$186,4,FALSE))","v":30784.664526653996},{"$f":"IF(Dashboard!$J$5=VLOOKUP(tblSalaries[[#This Row],[Currency]],Sheet3!$A$2:$B$31,2,FALSE),tblSalaries[[#This Row],[clean Salary (in local currency)]],(tblSalaries[[#This Row],[PPP Adjusted  USD]]/VLOOKUP(Dashboard!$J$5,Sheet3!$B$2:$C$31,2,FALSE)))","v":30784.664526653996},"Deputy Manager","Manager","India","2 to 3 hours per day",5]
[null,"ID0851",650000,"INR",11575.14584683767,{"$f":"(tblSalaries[[#This Row],[clean Salary (in local currency)]])*(VLOOKUP(tblSalaries[[#This Row],[Currency]],Sheet3!$A$2:$C$31,3,FALSE))*(VLOOKUP(tblSalaries[[#This Row],[Currency]],Sheet1!$N$4:$Q$186,4,FALSE))","v":30784.664526653996},{"$f":"IF(Dashboard!$J$5=VLOOKUP(tblSalaries[[#This Row],[Currency]],Sheet3!$A$2:$B$31,2,FALSE),tblSalaries[[#This Row],[clean Salary (in local currency)]],(tblSalaries[[#This Row],[PPP Adjusted  USD]]/VLOOKUP(Dashboard!$J$5,Sheet3!$B$2:$C$31,2,FALSE)))","v":30784.664526653996},"Financial Analyist","Analyst","India","All the 8 hours baby, all the 8!",3.5]
[null,"ID1010",650000,"INR",11575.14584683767,{"$f":"(tblSalaries[[#This Row],[clean Salary (in local currency)]])*(VLOOKUP(tblSalaries[[#This Row],[Currency]],Sheet3!$A$2:$C$31,3,FALSE))*(VLOOKUP(tblSalaries[[#This Row],[Currency]],Sheet1!$N$4:$Q$186,4,FALSE))","v":30784.664526653996},{"$f":"IF(Dashboard!$J$5=VLOOKUP(tblSalaries[[#This Row],[Currency]],Sheet3!$A$2:$B$31,2,FALSE),tblSalaries[[#This Row],[clean Salary (in local currency)]],(tblSalaries[[#This Row],[PPP Adjusted  USD]]/VLOOKUP(Dashboard!$J$5,Sheet3!$B$2:$C$31,2,FALSE)))","v":30784.664526653996},"Ass Research  Manager","Manager","India","2 to 3 hours per day",1]
[null,"ID1507",650000,"INR",11575.14584683767,{"$f":"(tblSalaries[[#This Row],[clean Salary (in local currency)]])*(VLOOKUP(tblSalaries[[#This Row],[Currency]],Sheet3!$A$2:$C$31,3,FALSE))*(VLOOKUP(tblSalaries[[#This Row],[Currency]],Sheet1!$N$4:$Q$186,4,FALSE))","v":30784.664526653996},{"$f":"IF(Dashboard!$J$5=VLOOKUP(tblSalaries[[#This Row],[Currency]],Sheet3!$A$2:$B$31,2,FALSE),tblSalaries[[#This Row],[clean Salary (in local currency)]],(tblSalaries[[#This Row],[PPP Adjusted  USD]]/VLOOKUP(Dashboard!$J$5,Sheet3!$B$2:$C$31,2,FALSE)))","v":30784.664526653996},"HR/ADMINISTRATION","Analyst","India","4 to 6 hours a day",21]
[null,"ID1597",650000,"INR",11575.14584683767,{"$f":"(tblSalaries[[#This Row],[clean Salary (in local currency)]])*(VLOOKUP(tblSalaries[[#This Row],[Currency]],Sheet3!$A$2:$C$31,3,FALSE))*(VLOOKUP(tblSalaries[[#This Row],[Currency]],Sheet1!$N$4:$Q$186,4,FALSE))","v":30784.664526653996},{"$f":"IF(Dashboard!$J$5=VLOOKUP(tblSalaries[[#This Row],[Currency]],Sheet3!$A$2:$B$31,2,FALSE),tblSalaries[[#This Row],[clean Salary (in local currency)]],(tblSalaries[[#This Row],[PPP Adjusted  USD]]/VLOOKUP(Dashboard!$J$5,Sheet3!$B$2:$C$31,2,FALSE)))","v":30784.664526653996},"Associate","Analyst","India","4 to 6 hours a day",5]
[null,"ID1307",49000,"AUD",49975.573163729154,{"$f":"(tblSalaries[[#This Row],[clean Salary (in local currency)]])*(VLOOKUP(tblSalaries[[#This Row],[Currency]],Sheet3!$A$2:$C$31,3,FALSE))*(VLOOKUP(tblSalaries[[#This Row],[Currency]],Sheet1!$N$4:$Q$186,4,FALSE))","v":30708.988851731941},{"$f":"IF(Dashboard!$J$5=VLOOKUP(tblSalaries[[#This Row],[Currency]],Sheet3!$A$2:$B$31,2,FALSE),tblSalaries[[#This Row],[clean Salary (in local currency)]],(tblSalaries[[#This Row],[PPP Adjusted  USD]]/VLOOKUP(Dashboard!$J$5,Sheet3!$B$2:$C$31,2,FALSE)))","v":30708.988851731941},"Document Control","Controller","Australia","4 to 6 hours a day",30]
[null,"ID0692",648000,"INR",11539.530013462785,{"$f":"(tblSalaries[[#This Row],[clean Salary (in local currency)]])*(VLOOKUP(tblSalaries[[#This Row],[Currency]],Sheet3!$A$2:$C$31,3,FALSE))*(VLOOKUP(tblSalaries[[#This Row],[Currency]],Sheet1!$N$4:$Q$186,4,FALSE))","v":30689.942481956601},{"$f":"IF(Dashboard!$J$5=VLOOKUP(tblSalaries[[#This Row],[Currency]],Sheet3!$A$2:$B$31,2,FALSE),tblSalaries[[#This Row],[clean Salary (in local currency)]],(tblSalaries[[#This Row],[PPP Adjusted  USD]]/VLOOKUP(Dashboard!$J$5,Sheet3!$B$2:$C$31,2,FALSE)))","v":30689.942481956601},"COMPUTER OPERATOR","Analyst","India","All the 8 hours baby, all the 8!",2]
[null,"ID1446",60000,"MYR",19008.034062397041,{"$f":"(tblSalaries[[#This Row],[clean Salary (in local currency)]])*(VLOOKUP(tblSalaries[[#This Row],[Currency]],Sheet3!$A$2:$C$31,3,FALSE))*(VLOOKUP(tblSalaries[[#This Row],[Currency]],Sheet1!$N$4:$Q$186,4,FALSE))","v":30507.73097242316},{"$f":"IF(Dashboard!$J$5=VLOOKUP(tblSalaries[[#This Row],[Currency]],Sheet3!$A$2:$B$31,2,FALSE),tblSalaries[[#This Row],[clean Salary (in local currency)]],(tblSalaries[[#This Row],[PPP Adjusted  USD]]/VLOOKUP(Dashboard!$J$5,Sheet3!$B$2:$C$31,2,FALSE)))","v":30507.73097242316},"Liquidity Management Executive","Manager","malaysia","4 to 6 hours a day",3]
[null,"ID1678",30500,"USD",30500,{"$f":"(tblSalaries[[#This Row],[clean Salary (in local currency)]])*(VLOOKUP(tblSalaries[[#This Row],[Currency]],Sheet3!$A$2:$C$31,3,FALSE))*(VLOOKUP(tblSalaries[[#This Row],[Currency]],Sheet1!$N$4:$Q$186,4,FALSE))","v":30500},{"$f":"IF(Dashboard!$J$5=VLOOKUP(tblSalaries[[#This Row],[Currency]],Sheet3!$A$2:$B$31,2,FALSE),tblSalaries[[#This Row],[clean Salary (in local currency)]],(tblSalaries[[#This Row],[PPP Adjusted  USD]]/VLOOKUP(Dashboard!$J$5,Sheet3!$B$2:$C$31,2,FALSE)))","v":30500},"Financial Analyst","Analyst","Brazil","All the 8 hours baby, all the 8!",8]
[null,"ID1609",27600,"EUR",35063.024516168378,{"$f":"(tblSalaries[[#This Row],[clean Salary (in local currency)]])*(VLOOKUP(tblSalaries[[#This Row],[Currency]],Sheet3!$A$2:$C$31,3,FALSE))*(VLOOKUP(tblSalaries[[#This Row],[Currency]],Sheet1!$N$4:$Q$186,4,FALSE))","v":30378.019653049443},{"$f":"IF(Dashboard!$J$5=VLOOKUP(tblSalaries[[#This Row],[Currency]],Sheet3!$A$2:$B$31,2,FALSE),tblSalaries[[#This Row],[clean Salary (in local currency)]],(tblSalaries[[#This Row],[PPP Adjusted  USD]]/VLOOKUP(Dashboard!$J$5,Sheet3!$B$2:$C$31,2,FALSE)))","v":30378.019653049443},"controller","Controller","Hungary","All the 8 hours baby, all the 8!",15]
[null,"ID1015",640000,"INR",11397.066679963244,{"$f":"(tblSalaries[[#This Row],[clean Salary (in local currency)]])*(VLOOKUP(tblSalaries[[#This Row],[Currency]],Sheet3!$A$2:$C$31,3,FALSE))*(VLOOKUP(tblSalaries[[#This Row],[Currency]],Sheet1!$N$4:$Q$186,4,FALSE))","v":30311.054303167009},{"$f":"IF(Dashboard!$J$5=VLOOKUP(tblSalaries[[#This Row],[Currency]],Sheet3!$A$2:$B$31,2,FALSE),tblSalaries[[#This Row],[clean Salary (in local currency)]],(tblSalaries[[#This Row],[PPP Adjusted  USD]]/VLOOKUP(Dashboard!$J$5,Sheet3!$B$2:$C$31,2,FALSE)))","v":30311.054303167009},"Sr.Analyst - Process Excellence","Analyst","India","All the 8 hours baby, all the 8!",6]
[null,"ID0767",30232,"USD",30232,{"$f":"(tblSalaries[[#This Row],[clean Salary (in local currency)]])*(VLOOKUP(tblSalaries[[#This Row],[Currency]],Sheet3!$A$2:$C$31,3,FALSE))*(VLOOKUP(tblSalaries[[#This Row],[Currency]],Sheet1!$N$4:$Q$186,4,FALSE))","v":30232},{"$f":"IF(Dashboard!$J$5=VLOOKUP(tblSalaries[[#This Row],[Currency]],Sheet3!$A$2:$B$31,2,FALSE),tblSalaries[[#This Row],[clean Salary (in local currency)]],(tblSalaries[[#This Row],[PPP Adjusted  USD]]/VLOOKUP(Dashboard!$J$5,Sheet3!$B$2:$C$31,2,FALSE)))","v":30232},"Accounts Supervisor","Accountant","USA","2 to 3 hours per day",5]
[null,"ID1882",20500,"GBP",32311.654577379326,{"$f":"(tblSalaries[[#This Row],[clean Salary (in local currency)]])*(VLOOKUP(tblSalaries[[#This Row],[Currency]],Sheet3!$A$2:$C$31,3,FALSE))*(VLOOKUP(tblSalaries[[#This Row],[Currency]],Sheet1!$N$4:$Q$186,4,FALSE))","v":30216.409702098765},{"$f":"IF(Dashboard!$J$5=VLOOKUP(tblSalaries[[#This Row],[Currency]],Sheet3!$A$2:$B$31,2,FALSE),tblSalaries[[#This Row],[clean Salary (in local currency)]],(tblSalaries[[#This Row],[PPP Adjusted  USD]]/VLOOKUP(Dashboard!$J$5,Sheet3!$B$2:$C$31,2,FALSE)))","v":30216.409702098765},"analyst","Analyst","UK","4 to 6 hours a day",20]
[null,"ID0713",636000,"INR",11325.835013213473,{"$f":"(tblSalaries[[#This Row],[clean Salary (in local currency)]])*(VLOOKUP(tblSalaries[[#This Row],[Currency]],Sheet3!$A$2:$C$31,3,FALSE))*(VLOOKUP(tblSalaries[[#This Row],[Currency]],Sheet1!$N$4:$Q$186,4,FALSE))","v":30121.610213772216},{"$f":"IF(Dashboard!$J$5=VLOOKUP(tblSalaries[[#This Row],[Currency]],Sheet3!$A$2:$B$31,2,FALSE),tblSalaries[[#This Row],[clean Salary (in local currency)]],(tblSalaries[[#This Row],[PPP Adjusted  USD]]/VLOOKUP(Dashboard!$J$5,Sheet3!$B$2:$C$31,2,FALSE)))","v":30121.610213772216},"Audit Manager","Manager","India","4 to 6 hours a day",2]
[null,"ID0782",636000,"INR",11325.835013213473,{"$f":"(tblSalaries[[#This Row],[clean Salary (in local currency)]])*(VLOOKUP(tblSalaries[[#This Row],[Currency]],Sheet3!$A$2:$C$31,3,FALSE))*(VLOOKUP(tblSalaries[[#This Row],[Currency]],Sheet1!$N$4:$Q$186,4,FALSE))","v":30121.610213772216},{"$f":"IF(Dashboard!$J$5=VLOOKUP(tblSalaries[[#This Row],[Currency]],Sheet3!$A$2:$B$31,2,FALSE),tblSalaries[[#This Row],[clean Salary (in local currency)]],(tblSalaries[[#This Row],[PPP Adjusted  USD]]/VLOOKUP(Dashboard!$J$5,Sheet3!$B$2:$C$31,2,FALSE)))","v":30121.610213772216},"Program Manager","Manager","India","4 to 6 hours a day",7]
[null,"ID1461",50000,"NZD",39879.404680246938,{"$f":"(tblSalaries[[#This Row],[clean Salary (in local currency)]])*(VLOOKUP(tblSalaries[[#This Row],[Currency]],Sheet3!$A$2:$C$31,3,FALSE))*(VLOOKUP(tblSalaries[[#This Row],[Currency]],Sheet1!$N$4:$Q$186,4,FALSE))","v":30107.840520561589},{"$f":"IF(Dashboard!$J$5=VLOOKUP(tblSalaries[[#This Row],[Currency]],Sheet3!$A$2:$B$31,2,FALSE),tblSalaries[[#This Row],[clean Salary (in local currency)]],(tblSalaries[[#This Row],[PPP Adjusted  USD]]/VLOOKUP(Dashboard!$J$5,Sheet3!$B$2:$C$31,2,FALSE)))","v":30107.840520561589},"stress engineer","Engineer","New Zealand","4 to 6 hours a day",5]
[null,"ID1274",48000,"AUD",48955.663507326513,{"$f":"(tblSalaries[[#This Row],[clean Salary (in local currency)]])*(VLOOKUP(tblSalaries[[#This Row],[Currency]],Sheet3!$A$2:$C$31,3,FALSE))*(VLOOKUP(tblSalaries[[#This Row],[Currency]],Sheet1!$N$4:$Q$186,4,FALSE))","v":30082.274793533328},{"$f":"IF(Dashboard!$J$5=VLOOKUP(tblSalaries[[#This Row],[Currency]],Sheet3!$A$2:$B$31,2,FALSE),tblSalaries[[#This Row],[clean Salary (in local currency)]],(tblSalaries[[#This Row],[PPP Adjusted  USD]]/VLOOKUP(Dashboard!$J$5,Sheet3!$B$2:$C$31,2,FALSE)))","v":30082.274793533328},"Research Assistant","Analyst","Australia","1 or 2 hours a day",2]
[null,"ID0039",30000,"USD",30000,{"$f":"(tblSalaries[[#This Row],[clean Salary (in local currency)]])*(VLOOKUP(tblSalaries[[#This Row],[Currency]],Sheet3!$A$2:$C$31,3,FALSE))*(VLOOKUP(tblSalaries[[#This Row],[Currency]],Sheet1!$N$4:$Q$186,4,FALSE))","v":30000},{"$f":"IF(Dashboard!$J$5=VLOOKUP(tblSalaries[[#This Row],[Currency]],Sheet3!$A$2:$B$31,2,FALSE),tblSalaries[[#This Row],[clean Salary (in local currency)]],(tblSalaries[[#This Row],[PPP Adjusted  USD]]/VLOOKUP(Dashboard!$J$5,Sheet3!$B$2:$C$31,2,FALSE)))","v":30000},"Academic Advisor","Consultant","USA","2 to 3 hours per day","Data Not Avaliable"]
[null,"ID0402",30000,"USD",30000,{"$f":"(tblSalaries[[#This Row],[clean Salary (in local currency)]])*(VLOOKUP(tblSalaries[[#This Row],[Currency]],Sheet3!$A$2:$C$31,3,FALSE))*(VLOOKUP(tblSalaries[[#This Row],[Currency]],Sheet1!$N$4:$Q$186,4,FALSE))","v":30000},{"$f":"IF(Dashboard!$J$5=VLOOKUP(tblSalaries[[#This Row],[Currency]],Sheet3!$A$2:$B$31,2,FALSE),tblSalaries[[#This Row],[clean Salary (in local currency)]],(tblSalaries[[#This Row],[PPP Adjusted  USD]]/VLOOKUP(Dashboard!$J$5,Sheet3!$B$2:$C$31,2,FALSE)))","v":30000},"ceo","CXO or Top Mgmt.","India","2 to 3 hours per day","Data Not Avaliable"]
[null,"ID0428",30000,"USD",30000,{"$f":"(tblSalaries[[#This Row],[clean Salary (in local currency)]])*(VLOOKUP(tblSalaries[[#This Row],[Currency]],Sheet3!$A$2:$C$31,3,FALSE))*(VLOOKUP(tblSalaries[[#This Row],[Currency]],Sheet1!$N$4:$Q$186,4,FALSE))","v":30000},{"$f":"IF(Dashboard!$J$5=VLOOKUP(tblSalaries[[#This Row],[Currency]],Sheet3!$A$2:$B$31,2,FALSE),tblSalaries[[#This Row],[clean Salary (in local currency)]],(tblSalaries[[#This Row],[PPP Adjusted  USD]]/VLOOKUP(Dashboard!$J$5,Sheet3!$B$2:$C$31,2,FALSE)))","v":30000},"Supervisor","Manager","USA","2 to 3 hours per day","Data Not Avaliable"]
[null,"ID0429",30000,"USD",30000,{"$f":"(tblSalaries[[#This Row],[clean Salary (in local currency)]])*(VLOOKUP(tblSalaries[[#This Row],[Currency]],Sheet3!$A$2:$C$31,3,FALSE))*(VLOOKUP(tblSalaries[[#This Row],[Currency]],Sheet1!$N$4:$Q$186,4,FALSE))","v":30000},{"$f":"IF(Dashboard!$J$5=VLOOKUP(tblSalaries[[#This Row],[Currency]],Sheet3!$A$2:$B$31,2,FALSE),tblSalaries[[#This Row],[clean Salary (in local currency)]],(tblSalaries[[#This Row],[PPP Adjusted  USD]]/VLOOKUP(Dashboard!$J$5,Sheet3!$B$2:$C$31,2,FALSE)))","v":30000},"BI Developer","Reporting","Romania","1 or 2 hours a day","Data Not Avaliable"]
[null,"ID0478",30000,"USD",30000,{"$f":"(tblSalaries[[#This Row],[clean Salary (in local currency)]])*(VLOOKUP(tblSalaries[[#This Row],[Currency]],Sheet3!$A$2:$C$31,3,FALSE))*(VLOOKUP(tblSalaries[[#This Row],[Currency]],Sheet1!$N$4:$Q$186,4,FALSE))","v":30000},{"$f":"IF(Dashboard!$J$5=VLOOKUP(tblSalaries[[#This Row],[Currency]],Sheet3!$A$2:$B$31,2,FALSE),tblSalaries[[#This Row],[clean Salary (in local currency)]],(tblSalaries[[#This Row],[PPP Adjusted  USD]]/VLOOKUP(Dashboard!$J$5,Sheet3!$B$2:$C$31,2,FALSE)))","v":30000},"video production","Analyst","USA","Excel ?!? What Excel?","Data Not Avaliable"]
[null,"ID0612",30000,"USD",30000,{"$f":"(tblSalaries[[#This Row],[clean Salary (in local currency)]])*(VLOOKUP(tblSalaries[[#This Row],[Currency]],Sheet3!$A$2:$C$31,3,FALSE))*(VLOOKUP(tblSalaries[[#This Row],[Currency]],Sheet1!$N$4:$Q$186,4,FALSE))","v":30000},{"$f":"IF(Dashboard!$J$5=VLOOKUP(tblSalaries[[#This Row],[Currency]],Sheet3!$A$2:$B$31,2,FALSE),tblSalaries[[#This Row],[clean Salary (in local currency)]],(tblSalaries[[#This Row],[PPP Adjusted  USD]]/VLOOKUP(Dashboard!$J$5,Sheet3!$B$2:$C$31,2,FALSE)))","v":30000},"Sales Assistant","Analyst","USA","2 to 3 hours per day",8]
[null,"ID0827",30000,"USD",30000,{"$f":"(tblSalaries[[#This Row],[clean Salary (in local currency)]])*(VLOOKUP(tblSalaries[[#This Row],[Currency]],Sheet3!$A$2:$C$31,3,FALSE))*(VLOOKUP(tblSalaries[[#This Row],[Currency]],Sheet1!$N$4:$Q$186,4,FALSE))","v":30000},{"$f":"IF(Dashboard!$J$5=VLOOKUP(tblSalaries[[#This Row],[Currency]],Sheet3!$A$2:$B$31,2,FALSE),tblSalaries[[#This Row],[clean Salary (in local currency)]],(tblSalaries[[#This Row],[PPP Adjusted  USD]]/VLOOKUP(Dashboard!$J$5,Sheet3!$B$2:$C$31,2,FALSE)))","v":30000},"Financial Control Section Headm","Controller","Indonesia","4 to 6 hours a day",7]
[null,"ID0842",30000,"USD",30000,{"$f":"(tblSalaries[[#This Row],[clean Salary (in local currency)]])*(VLOOKUP(tblSalaries[[#This Row],[Currency]],Sheet3!$A$2:$C$31,3,FALSE))*(VLOOKUP(tblSalaries[[#This Row],[Currency]],Sheet1!$N$4:$Q$186,4,FALSE))","v":30000},{"$f":"IF(Dashboard!$J$5=VLOOKUP(tblSalaries[[#This Row],[Currency]],Sheet3!$A$2:$B$31,2,FALSE),tblSalaries[[#This Row],[clean Salary (in local currency)]],(tblSalaries[[#This Row],[PPP Adjusted  USD]]/VLOOKUP(Dashboard!$J$5,Sheet3!$B$2:$C$31,2,FALSE)))","v":30000},"MIS Executive","Reporting","India","4 to 6 hours a day",2]
[null,"ID0941",30000,"USD",30000,{"$f":"(tblSalaries[[#This Row],[clean Salary (in local currency)]])*(VLOOKUP(tblSalaries[[#This Row],[Currency]],Sheet3!$A$2:$C$31,3,FALSE))*(VLOOKUP(tblSalaries[[#This Row],[Currency]],Sheet1!$N$4:$Q$186,4,FALSE))","v":30000},{"$f":"IF(Dashboard!$J$5=VLOOKUP(tblSalaries[[#This Row],[Currency]],Sheet3!$A$2:$B$31,2,FALSE),tblSalaries[[#This Row],[clean Salary (in local currency)]],(tblSalaries[[#This Row],[PPP Adjusted  USD]]/VLOOKUP(Dashboard!$J$5,Sheet3!$B$2:$C$31,2,FALSE)))","v":30000},"Financial Expert","Accountant","iran","2 to 3 hours per day",30]
[null,"ID1162",30000,"USD",30000,{"$f":"(tblSalaries[[#This Row],[clean Salary (in local currency)]])*(VLOOKUP(tblSalaries[[#This Row],[Currency]],Sheet3!$A$2:$C$31,3,FALSE))*(VLOOKUP(tblSalaries[[#This Row],[Currency]],Sheet1!$N$4:$Q$186,4,FALSE))","v":30000},{"$f":"IF(Dashboard!$J$5=VLOOKUP(tblSalaries[[#This Row],[Currency]],Sheet3!$A$2:$B$31,2,FALSE),tblSalaries[[#This Row],[clean Salary (in local currency)]],(tblSalaries[[#This Row],[PPP Adjusted  USD]]/VLOOKUP(Dashboard!$J$5,Sheet3!$B$2:$C$31,2,FALSE)))","v":30000},"pricing and cost manager","Manager","Mexico","All the 8 hours baby, all the 8!",17]
[null,"ID1273",30000,"USD",30000,{"$f":"(tblSalaries[[#This Row],[clean Salary (in local currency)]])*(VLOOKUP(tblSalaries[[#This Row],[Currency]],Sheet3!$A$2:$C$31,3,FALSE))*(VLOOKUP(tblSalaries[[#This Row],[Currency]],Sheet1!$N$4:$Q$186,4,FALSE))","v":30000},{"$f":"IF(Dashboard!$J$5=VLOOKUP(tblSalaries[[#This Row],[Currency]],Sheet3!$A$2:$B$31,2,FALSE),tblSalaries[[#This Row],[clean Salary (in local currency)]],(tblSalaries[[#This Row],[PPP Adjusted  USD]]/VLOOKUP(Dashboard!$J$5,Sheet3!$B$2:$C$31,2,FALSE)))","v":30000},"Practice Manager - Business Operations","Manager","India","2 to 3 hours per day",3]
[null,"ID1453",30000,"USD",30000,{"$f":"(tblSalaries[[#This Row],[clean Salary (in local currency)]])*(VLOOKUP(tblSalaries[[#This Row],[Currency]],Sheet3!$A$2:$C$31,3,FALSE))*(VLOOKUP(tblSalaries[[#This Row],[Currency]],Sheet1!$N$4:$Q$186,4,FALSE))","v":30000},{"$f":"IF(Dashboard!$J$5=VLOOKUP(tblSalaries[[#This Row],[Currency]],Sheet3!$A$2:$B$31,2,FALSE),tblSalaries[[#This Row],[clean Salary (in local currency)]],(tblSalaries[[#This Row],[PPP Adjusted  USD]]/VLOOKUP(Dashboard!$J$5,Sheet3!$B$2:$C$31,2,FALSE)))","v":30000},"Accounting Specialist","Accountant","UAE","4 to 6 hours a day",8]
[null,"ID1545",30000,"USD",30000,{"$f":"(tblSalaries[[#This Row],[clean Salary (in local currency)]])*(VLOOKUP(tblSalaries[[#This Row],[Currency]],Sheet3!$A$2:$C$31,3,FALSE))*(VLOOKUP(tblSalaries[[#This Row],[Currency]],Sheet1!$N$4:$Q$186,4,FALSE))","v":30000},{"$f":"IF(Dashboard!$J$5=VLOOKUP(tblSalaries[[#This Row],[Currency]],Sheet3!$A$2:$B$31,2,FALSE),tblSalaries[[#This Row],[clean Salary (in local currency)]],(tblSalaries[[#This Row],[PPP Adjusted  USD]]/VLOOKUP(Dashboard!$J$5,Sheet3!$B$2:$C$31,2,FALSE)))","v":30000},"Marketing Services Manager","Manager","Pakistan","4 to 6 hours a day",5]
[null,"ID1567",30000,"USD",30000,{"$f":"(tblSalaries[[#This Row],[clean Salary (in local currency)]])*(VLOOKUP(tblSalaries[[#This Row],[Currency]],Sheet3!$A$2:$C$31,3,FALSE))*(VLOOKUP(tblSalaries[[#This Row],[Currency]],Sheet1!$N$4:$Q$186,4,FALSE))","v":30000},{"$f":"IF(Dashboard!$J$5=VLOOKUP(tblSalaries[[#This Row],[Currency]],Sheet3!$A$2:$B$31,2,FALSE),tblSalaries[[#This Row],[clean Salary (in local currency)]],(tblSalaries[[#This Row],[PPP Adjusted  USD]]/VLOOKUP(Dashboard!$J$5,Sheet3!$B$2:$C$31,2,FALSE)))","v":30000},"SME","Analyst","India","All the 8 hours baby, all the 8!",4]
[null,"ID1747",30000,"USD",30000,{"$f":"(tblSalaries[[#This Row],[clean Salary (in local currency)]])*(VLOOKUP(tblSalaries[[#This Row],[Currency]],Sheet3!$A$2:$C$31,3,FALSE))*(VLOOKUP(tblSalaries[[#This Row],[Currency]],Sheet1!$N$4:$Q$186,4,FALSE))","v":30000},{"$f":"IF(Dashboard!$J$5=VLOOKUP(tblSalaries[[#This Row],[Currency]],Sheet3!$A$2:$B$31,2,FALSE),tblSalaries[[#This Row],[clean Salary (in local currency)]],(tblSalaries[[#This Row],[PPP Adjusted  USD]]/VLOOKUP(Dashboard!$J$5,Sheet3!$B$2:$C$31,2,FALSE)))","v":30000},"Inventory Manager","Manager","USA","4 to 6 hours a day",1]
[null,"ID1763",30000,"USD",30000,{"$f":"(tblSalaries[[#This Row],[clean Salary (in local currency)]])*(VLOOKUP(tblSalaries[[#This Row],[Currency]],Sheet3!$A$2:$C$31,3,FALSE))*(VLOOKUP(tblSalaries[[#This Row],[Currency]],Sheet1!$N$4:$Q$186,4,FALSE))","v":30000},{"$f":"IF(Dashboard!$J$5=VLOOKUP(tblSalaries[[#This Row],[Currency]],Sheet3!$A$2:$B$31,2,FALSE),tblSalaries[[#This Row],[clean Salary (in local currency)]],(tblSalaries[[#This Row],[PPP Adjusted  USD]]/VLOOKUP(Dashboard!$J$5,Sheet3!$B$2:$C$31,2,FALSE)))","v":30000},"Customer Service","Analyst","USA","2 to 3 hours per day",4]
[null,"ID1781",30000,"USD",30000,{"$f":"(tblSalaries[[#This Row],[clean Salary (in local currency)]])*(VLOOKUP(tblSalaries[[#This Row],[Currency]],Sheet3!$A$2:$C$31,3,FALSE))*(VLOOKUP(tblSalaries[[#This Row],[Currency]],Sheet1!$N$4:$Q$186,4,FALSE))","v":30000},{"$f":"IF(Dashboard!$J$5=VLOOKUP(tblSalaries[[#This Row],[Currency]],Sheet3!$A$2:$B$31,2,FALSE),tblSalaries[[#This Row],[clean Salary (in local currency)]],(tblSalaries[[#This Row],[PPP Adjusted  USD]]/VLOOKUP(Dashboard!$J$5,Sheet3!$B$2:$C$31,2,FALSE)))","v":30000},"Teacher","Analyst","malaysia","1 or 2 hours a day",12]
[null,"ID1853",30000,"USD",30000,{"$f":"(tblSalaries[[#This Row],[clean Salary (in local currency)]])*(VLOOKUP(tblSalaries[[#This Row],[Currency]],Sheet3!$A$2:$C$31,3,FALSE))*(VLOOKUP(tblSalaries[[#This Row],[Currency]],Sheet1!$N$4:$Q$186,4,FALSE))","v":30000},{"$f":"IF(Dashboard!$J$5=VLOOKUP(tblSalaries[[#This Row],[Currency]],Sheet3!$A$2:$B$31,2,FALSE),tblSalaries[[#This Row],[clean Salary (in local currency)]],(tblSalaries[[#This Row],[PPP Adjusted  USD]]/VLOOKUP(Dashboard!$J$5,Sheet3!$B$2:$C$31,2,FALSE)))","v":30000},"Trainee","Analyst","Brazil","2 to 3 hours per day",1]
[null,"ID0311",20000,"GBP",31523.565441345683,{"$f":"(tblSalaries[[#This Row],[clean Salary (in local currency)]])*(VLOOKUP(tblSalaries[[#This Row],[Currency]],Sheet3!$A$2:$C$31,3,FALSE))*(VLOOKUP(tblSalaries[[#This Row],[Currency]],Sheet1!$N$4:$Q$186,4,FALSE))","v":29479.42409960855},{"$f":"IF(Dashboard!$J$5=VLOOKUP(tblSalaries[[#This Row],[Currency]],Sheet3!$A$2:$B$31,2,FALSE),tblSalaries[[#This Row],[clean Salary (in local currency)]],(tblSalaries[[#This Row],[PPP Adjusted  USD]]/VLOOKUP(Dashboard!$J$5,Sheet3!$B$2:$C$31,2,FALSE)))","v":29479.42409960855},"Graduate Structural Engineer","Engineer","UK","1 or 2 hours a day","Data Not Avaliable"]
[null,"ID0555",20000,"GBP",31523.565441345683,{"$f":"(tblSalaries[[#This Row],[clean Salary (in local currency)]])*(VLOOKUP(tblSalaries[[#This Row],[Currency]],Sheet3!$A$2:$C$31,3,FALSE))*(VLOOKUP(tblSalaries[[#This Row],[Currency]],Sheet1!$N$4:$Q$186,4,FALSE))","v":29479.42409960855},{"$f":"IF(Dashboard!$J$5=VLOOKUP(tblSalaries[[#This Row],[Currency]],Sheet3!$A$2:$B$31,2,FALSE),tblSalaries[[#This Row],[clean Salary (in local currency)]],(tblSalaries[[#This Row],[PPP Adjusted  USD]]/VLOOKUP(Dashboard!$J$5,Sheet3!$B$2:$C$31,2,FALSE)))","v":29479.42409960855},"IT Consultant","Consultant","UK","4 to 6 hours a day","Data Not Avaliable"]
[null,"ID1083",20000,"GBP",31523.565441345683,{"$f":"(tblSalaries[[#This Row],[clean Salary (in local currency)]])*(VLOOKUP(tblSalaries[[#This Row],[Currency]],Sheet3!$A$2:$C$31,3,FALSE))*(VLOOKUP(tblSalaries[[#This Row],[Currency]],Sheet1!$N$4:$Q$186,4,FALSE))","v":29479.42409960855},{"$f":"IF(Dashboard!$J$5=VLOOKUP(tblSalaries[[#This Row],[Currency]],Sheet3!$A$2:$B$31,2,FALSE),tblSalaries[[#This Row],[clean Salary (in local currency)]],(tblSalaries[[#This Row],[PPP Adjusted  USD]]/VLOOKUP(Dashboard!$J$5,Sheet3!$B$2:$C$31,2,FALSE)))","v":29479.42409960855},"finance assistant","Analyst","UK","4 to 6 hours a day",1]
[null,"ID1257",20000,"GBP",31523.565441345683,{"$f":"(tblSalaries[[#This Row],[clean Salary (in local currency)]])*(VLOOKUP(tblSalaries[[#This Row],[Currency]],Sheet3!$A$2:$C$31,3,FALSE))*(VLOOKUP(tblSalaries[[#This Row],[Currency]],Sheet1!$N$4:$Q$186,4,FALSE))","v":29479.42409960855},{"$f":"IF(Dashboard!$J$5=VLOOKUP(tblSalaries[[#This Row],[Currency]],Sheet3!$A$2:$B$31,2,FALSE),tblSalaries[[#This Row],[clean Salary (in local currency)]],(tblSalaries[[#This Row],[PPP Adjusted  USD]]/VLOOKUP(Dashboard!$J$5,Sheet3!$B$2:$C$31,2,FALSE)))","v":29479.42409960855},"Environmental Information Analyst","Analyst","UK","4 to 6 hours a day",1]
[null,"ID1607",20000,"GBP",31523.565441345683,{"$f":"(tblSalaries[[#This Row],[clean Salary (in local currency)]])*(VLOOKUP(tblSalaries[[#This Row],[Currency]],Sheet3!$A$2:$C$31,3,FALSE))*(VLOOKUP(tblSalaries[[#This Row],[Currency]],Sheet1!$N$4:$Q$186,4,FALSE))","v":29479.42409960855},{"$f":"IF(Dashboard!$J$5=VLOOKUP(tblSalaries[[#This Row],[Currency]],Sheet3!$A$2:$B$31,2,FALSE),tblSalaries[[#This Row],[clean Salary (in local currency)]],(tblSalaries[[#This Row],[PPP Adjusted  USD]]/VLOOKUP(Dashboard!$J$5,Sheet3!$B$2:$C$31,2,FALSE)))","v":29479.42409960855},"Operations Analyst","Analyst","UK","All the 8 hours baby, all the 8!",3]
[null,"ID1863",20000,"GBP",31523.565441345683,{"$f":"(tblSalaries[[#This Row],[clean Salary (in local currency)]])*(VLOOKUP(tblSalaries[[#This Row],[Currency]],Sheet3!$A$2:$C$31,3,FALSE))*(VLOOKUP(tblSalaries[[#This Row],[Currency]],Sheet1!$N$4:$Q$186,4,FALSE))","v":29479.42409960855},{"$f":"IF(Dashboard!$J$5=VLOOKUP(tblSalaries[[#This Row],[Currency]],Sheet3!$A$2:$B$31,2,FALSE),tblSalaries[[#This Row],[clean Salary (in local currency)]],(tblSalaries[[#This Row],[PPP Adjusted  USD]]/VLOOKUP(Dashboard!$J$5,Sheet3!$B$2:$C$31,2,FALSE)))","v":29479.42409960855},"Accountant","Accountant","UK","2 to 3 hours per day",10]
[null,"ID0386",620000,"INR",11040.908346214392,{"$f":"(tblSalaries[[#This Row],[clean Salary (in local currency)]])*(VLOOKUP(tblSalaries[[#This Row],[Currency]],Sheet3!$A$2:$C$31,3,FALSE))*(VLOOKUP(tblSalaries[[#This Row],[Currency]],Sheet1!$N$4:$Q$186,4,FALSE))","v":29363.83385619304},{"$f":"IF(Dashboard!$J$5=VLOOKUP(tblSalaries[[#This Row],[Currency]],Sheet3!$A$2:$B$31,2,FALSE),tblSalaries[[#This Row],[clean Salary (in local currency)]],(tblSalaries[[#This Row],[PPP Adjusted  USD]]/VLOOKUP(Dashboard!$J$5,Sheet3!$B$2:$C$31,2,FALSE)))","v":29363.83385619304},"assistant manager (finance)","Manager","India","1 or 2 hours a day","Data Not Avaliable"]
[null,"ID1467",620000,"INR",11040.908346214392,{"$f":"(tblSalaries[[#This Row],[clean Salary (in local currency)]])*(VLOOKUP(tblSalaries[[#This Row],[Currency]],Sheet3!$A$2:$C$31,3,FALSE))*(VLOOKUP(tblSalaries[[#This Row],[Currency]],Sheet1!$N$4:$Q$186,4,FALSE))","v":29363.83385619304},{"$f":"IF(Dashboard!$J$5=VLOOKUP(tblSalaries[[#This Row],[Currency]],Sheet3!$A$2:$B$31,2,FALSE),tblSalaries[[#This Row],[clean Salary (in local currency)]],(tblSalaries[[#This Row],[PPP Adjusted  USD]]/VLOOKUP(Dashboard!$J$5,Sheet3!$B$2:$C$31,2,FALSE)))","v":29363.83385619304},"Catalog Auditor","Analyst","India","1 or 2 hours a day",5]
[null,"ID0341",29000,"USD",29000,{"$f":"(tblSalaries[[#This Row],[clean Salary (in local currency)]])*(VLOOKUP(tblSalaries[[#This Row],[Currency]],Sheet3!$A$2:$C$31,3,FALSE))*(VLOOKUP(tblSalaries[[#This Row],[Currency]],Sheet1!$N$4:$Q$186,4,FALSE))","v":29000},{"$f":"IF(Dashboard!$J$5=VLOOKUP(tblSalaries[[#This Row],[Currency]],Sheet3!$A$2:$B$31,2,FALSE),tblSalaries[[#This Row],[clean Salary (in local currency)]],(tblSalaries[[#This Row],[PPP Adjusted  USD]]/VLOOKUP(Dashboard!$J$5,Sheet3!$B$2:$C$31,2,FALSE)))","v":29000},"Assistant Outside Plant Project Manager","Manager","USA","4 to 6 hours a day","Data Not Avaliable"]
[null,"ID1855",29000,"USD",29000,{"$f":"(tblSalaries[[#This Row],[clean Salary (in local currency)]])*(VLOOKUP(tblSalaries[[#This Row],[Currency]],Sheet3!$A$2:$C$31,3,FALSE))*(VLOOKUP(tblSalaries[[#This Row],[Currency]],Sheet1!$N$4:$Q$186,4,FALSE))","v":29000},{"$f":"IF(Dashboard!$J$5=VLOOKUP(tblSalaries[[#This Row],[Currency]],Sheet3!$A$2:$B$31,2,FALSE),tblSalaries[[#This Row],[clean Salary (in local currency)]],(tblSalaries[[#This Row],[PPP Adjusted  USD]]/VLOOKUP(Dashboard!$J$5,Sheet3!$B$2:$C$31,2,FALSE)))","v":29000},"Customer Experence Engineer","Engineer","USA","All the 8 hours baby, all the 8!",1]
[null,"ID1758",28995,"USD",28995,{"$f":"(tblSalaries[[#This Row],[clean Salary (in local currency)]])*(VLOOKUP(tblSalaries[[#This Row],[Currency]],Sheet3!$A$2:$C$31,3,FALSE))*(VLOOKUP(tblSalaries[[#This Row],[Currency]],Sheet1!$N$4:$Q$186,4,FALSE))","v":28995},{"$f":"IF(Dashboard!$J$5=VLOOKUP(tblSalaries[[#This Row],[Currency]],Sheet3!$A$2:$B$31,2,FALSE),tblSalaries[[#This Row],[clean Salary (in local currency)]],(tblSalaries[[#This Row],[PPP Adjusted  USD]]/VLOOKUP(Dashboard!$J$5,Sheet3!$B$2:$C$31,2,FALSE)))","v":28995},"Senior Executive","Manager","India","4 to 6 hours a day",6]
[null,"ID1027",612000,"INR",10898.445012714852,{"$f":"(tblSalaries[[#This Row],[clean Salary (in local currency)]])*(VLOOKUP(tblSalaries[[#This Row],[Currency]],Sheet3!$A$2:$C$31,3,FALSE))*(VLOOKUP(tblSalaries[[#This Row],[Currency]],Sheet1!$N$4:$Q$186,4,FALSE))","v":28984.945677403455},{"$f":"IF(Dashboard!$J$5=VLOOKUP(tblSalaries[[#This Row],[Currency]],Sheet3!$A$2:$B$31,2,FALSE),tblSalaries[[#This Row],[clean Salary (in local currency)]],(tblSalaries[[#This Row],[PPP Adjusted  USD]]/VLOOKUP(Dashboard!$J$5,Sheet3!$B$2:$C$31,2,FALSE)))","v":28984.945677403455},"Asst. Manager ","Manager","India","2 to 3 hours per day",13]
[null,"ID1714",36000,"CAD",35401.014829091764,{"$f":"(tblSalaries[[#This Row],[clean Salary (in local currency)]])*(VLOOKUP(tblSalaries[[#This Row],[Currency]],Sheet3!$A$2:$C$31,3,FALSE))*(VLOOKUP(tblSalaries[[#This Row],[Currency]],Sheet1!$N$4:$Q$186,4,FALSE))","v":28456.063315284406},{"$f":"IF(Dashboard!$J$5=VLOOKUP(tblSalaries[[#This Row],[Currency]],Sheet3!$A$2:$B$31,2,FALSE),tblSalaries[[#This Row],[clean Salary (in local currency)]],(tblSalaries[[#This Row],[PPP Adjusted  USD]]/VLOOKUP(Dashboard!$J$5,Sheet3!$B$2:$C$31,2,FALSE)))","v":28456.063315284406},"data organizer","Analyst","Canada","All the 8 hours baby, all the 8!",2]
[null,"ID0030",600000,"INR",10684.750012465542,{"$f":"(tblSalaries[[#This Row],[clean Salary (in local currency)]])*(VLOOKUP(tblSalaries[[#This Row],[Currency]],Sheet3!$A$2:$C$31,3,FALSE))*(VLOOKUP(tblSalaries[[#This Row],[Currency]],Sheet1!$N$4:$Q$186,4,FALSE))","v":28416.613409219077},{"$f":"IF(Dashboard!$J$5=VLOOKUP(tblSalaries[[#This Row],[Currency]],Sheet3!$A$2:$B$31,2,FALSE),tblSalaries[[#This Row],[clean Salary (in local currency)]],(tblSalaries[[#This Row],[PPP Adjusted  USD]]/VLOOKUP(Dashboard!$J$5,Sheet3!$B$2:$C$31,2,FALSE)))","v":28416.613409219077},"strategy manager","Manager","India","4 to 6 hours a day","Data Not Avaliable"]
[null,"ID0508",600000,"INR",10684.750012465542,{"$f":"(tblSalaries[[#This Row],[clean Salary (in local currency)]])*(VLOOKUP(tblSalaries[[#This Row],[Currency]],Sheet3!$A$2:$C$31,3,FALSE))*(VLOOKUP(tblSalaries[[#This Row],[Currency]],Sheet1!$N$4:$Q$186,4,FALSE))","v":28416.613409219077},{"$f":"IF(Dashboard!$J$5=VLOOKUP(tblSalaries[[#This Row],[Currency]],Sheet3!$A$2:$B$31,2,FALSE),tblSalaries[[#This Row],[clean Salary (in local currency)]],(tblSalaries[[#This Row],[PPP Adjusted  USD]]/VLOOKUP(Dashboard!$J$5,Sheet3!$B$2:$C$31,2,FALSE)))","v":28416.613409219077},"Business Co ordinator","Manager","India","4 to 6 hours a day","Data Not Avaliable"]
[null,"ID0526",600000,"INR",10684.750012465542,{"$f":"(tblSalaries[[#This Row],[clean Salary (in local currency)]])*(VLOOKUP(tblSalaries[[#This Row],[Currency]],Sheet3!$A$2:$C$31,3,FALSE))*(VLOOKUP(tblSalaries[[#This Row],[Currency]],Sheet1!$N$4:$Q$186,4,FALSE))","v":28416.613409219077},{"$f":"IF(Dashboard!$J$5=VLOOKUP(tblSalaries[[#This Row],[Currency]],Sheet3!$A$2:$B$31,2,FALSE),tblSalaries[[#This Row],[clean Salary (in local currency)]],(tblSalaries[[#This Row],[PPP Adjusted  USD]]/VLOOKUP(Dashboard!$J$5,Sheet3!$B$2:$C$31,2,FALSE)))","v":28416.613409219077},"Project Manager","Manager","India","4 to 6 hours a day","Data Not Avaliable"]
[null,"ID0638",600000,"INR",10684.750012465542,{"$f":"(tblSalaries[[#This Row],[clean Salary (in local currency)]])*(VLOOKUP(tblSalaries[[#This Row],[Currency]],Sheet3!$A$2:$C$31,3,FALSE))*(VLOOKUP(tblSalaries[[#This Row],[Currency]],Sheet1!$N$4:$Q$186,4,FALSE))","v":28416.613409219077},{"$f":"IF(Dashboard!$J$5=VLOOKUP(tblSalaries[[#This Row],[Currency]],Sheet3!$A$2:$B$31,2,FALSE),tblSalaries[[#This Row],[clean Salary (in local currency)]],(tblSalaries[[#This Row],[PPP Adjusted  USD]]/VLOOKUP(Dashboard!$J$5,Sheet3!$B$2:$C$31,2,FALSE)))","v":28416.613409219077},"Financial Analyst","Analyst","India","2 to 3 hours per day",3]
[null,"ID0646",600000,"INR",10684.750012465542,{"$f":"(tblSalaries[[#This Row],[clean Salary (in local currency)]])*(VLOOKUP(tblSalaries[[#This Row],[Currency]],Sheet3!$A$2:$C$31,3,FALSE))*(VLOOKUP(tblSalaries[[#This Row],[Currency]],Sheet1!$N$4:$Q$186,4,FALSE))","v":28416.613409219077},{"$f":"IF(Dashboard!$J$5=VLOOKUP(tblSalaries[[#This Row],[Currency]],Sheet3!$A$2:$B$31,2,FALSE),tblSalaries[[#This Row],[clean Salary (in local currency)]],(tblSalaries[[#This Row],[PPP Adjusted  USD]]/VLOOKUP(Dashboard!$J$5,Sheet3!$B$2:$C$31,2,FALSE)))","v":28416.613409219077},"Organiser","Manager","India","4 to 6 hours a day",11]
[null,"ID0706",600000,"INR",10684.750012465542,{"$f":"(tblSalaries[[#This Row],[clean Salary (in local currency)]])*(VLOOKUP(tblSalaries[[#This Row],[Currency]],Sheet3!$A$2:$C$31,3,FALSE))*(VLOOKUP(tblSalaries[[#This Row],[Currency]],Sheet1!$N$4:$Q$186,4,FALSE))","v":28416.613409219077},{"$f":"IF(Dashboard!$J$5=VLOOKUP(tblSalaries[[#This Row],[Currency]],Sheet3!$A$2:$B$31,2,FALSE),tblSalaries[[#This Row],[clean Salary (in local currency)]],(tblSalaries[[#This Row],[PPP Adjusted  USD]]/VLOOKUP(Dashboard!$J$5,Sheet3!$B$2:$C$31,2,FALSE)))","v":28416.613409219077},"senior executive","Manager","India","1 or 2 hours a day",2]
[null,"ID0729",600000,"INR",10684.750012465542,{"$f":"(tblSalaries[[#This Row],[clean Salary (in local currency)]])*(VLOOKUP(tblSalaries[[#This Row],[Currency]],Sheet3!$A$2:$C$31,3,FALSE))*(VLOOKUP(tblSalaries[[#This Row],[Currency]],Sheet1!$N$4:$Q$186,4,FALSE))","v":28416.613409219077},{"$f":"IF(Dashboard!$J$5=VLOOKUP(tblSalaries[[#This Row],[Currency]],Sheet3!$A$2:$B$31,2,FALSE),tblSalaries[[#This Row],[clean Salary (in local currency)]],(tblSalaries[[#This Row],[PPP Adjusted  USD]]/VLOOKUP(Dashboard!$J$5,Sheet3!$B$2:$C$31,2,FALSE)))","v":28416.613409219077},"Sr Financial Execative","Accountant","India","All the 8 hours baby, all the 8!",7]
[null,"ID0736",600000,"INR",10684.750012465542,{"$f":"(tblSalaries[[#This Row],[clean Salary (in local currency)]])*(VLOOKUP(tblSalaries[[#This Row],[Currency]],Sheet3!$A$2:$C$31,3,FALSE))*(VLOOKUP(tblSalaries[[#This Row],[Currency]],Sheet1!$N$4:$Q$186,4,FALSE))","v":28416.613409219077},{"$f":"IF(Dashboard!$J$5=VLOOKUP(tblSalaries[[#This Row],[Currency]],Sheet3!$A$2:$B$31,2,FALSE),tblSalaries[[#This Row],[clean Salary (in local currency)]],(tblSalaries[[#This Row],[PPP Adjusted  USD]]/VLOOKUP(Dashboard!$J$5,Sheet3!$B$2:$C$31,2,FALSE)))","v":28416.613409219077},"ERP Co-Ordinator","Manager","India","2 to 3 hours per day",8]
[null,"ID0741",600000,"INR",10684.750012465542,{"$f":"(tblSalaries[[#This Row],[clean Salary (in local currency)]])*(VLOOKUP(tblSalaries[[#This Row],[Currency]],Sheet3!$A$2:$C$31,3,FALSE))*(VLOOKUP(tblSalaries[[#This Row],[Currency]],Sheet1!$N$4:$Q$186,4,FALSE))","v":28416.613409219077},{"$f":"IF(Dashboard!$J$5=VLOOKUP(tblSalaries[[#This Row],[Currency]],Sheet3!$A$2:$B$31,2,FALSE),tblSalaries[[#This Row],[clean Salary (in local currency)]],(tblSalaries[[#This Row],[PPP Adjusted  USD]]/VLOOKUP(Dashboard!$J$5,Sheet3!$B$2:$C$31,2,FALSE)))","v":28416.613409219077},"Finance Manager","Manager","India","4 to 6 hours a day",5]
[null,"ID0802",600000,"INR",10684.750012465542,{"$f":"(tblSalaries[[#This Row],[clean Salary (in local currency)]])*(VLOOKUP(tblSalaries[[#This Row],[Currency]],Sheet3!$A$2:$C$31,3,FALSE))*(VLOOKUP(tblSalaries[[#This Row],[Currency]],Sheet1!$N$4:$Q$186,4,FALSE))","v":28416.613409219077},{"$f":"IF(Dashboard!$J$5=VLOOKUP(tblSalaries[[#This Row],[Currency]],Sheet3!$A$2:$B$31,2,FALSE),tblSalaries[[#This Row],[clean Salary (in local currency)]],(tblSalaries[[#This Row],[PPP Adjusted  USD]]/VLOOKUP(Dashboard!$J$5,Sheet3!$B$2:$C$31,2,FALSE)))","v":28416.613409219077},"MIS Analyst","Analyst","India","All the 8 hours baby, all the 8!",4]
[null,"ID0823",600000,"INR",10684.750012465542,{"$f":"(tblSalaries[[#This Row],[clean Salary (in local currency)]])*(VLOOKUP(tblSalaries[[#This Row],[Currency]],Sheet3!$A$2:$C$31,3,FALSE))*(VLOOKUP(tblSalaries[[#This Row],[Currency]],Sheet1!$N$4:$Q$186,4,FALSE))","v":28416.613409219077},{"$f":"IF(Dashboard!$J$5=VLOOKUP(tblSalaries[[#This Row],[Currency]],Sheet3!$A$2:$B$31,2,FALSE),tblSalaries[[#This Row],[clean Salary (in local currency)]],(tblSalaries[[#This Row],[PPP Adjusted  USD]]/VLOOKUP(Dashboard!$J$5,Sheet3!$B$2:$C$31,2,FALSE)))","v":28416.613409219077},"Reporting Analyst","Analyst","India","All the 8 hours baby, all the 8!",5]
[null,"ID0835",600000,"INR",10684.750012465542,{"$f":"(tblSalaries[[#This Row],[clean Salary (in local currency)]])*(VLOOKUP(tblSalaries[[#This Row],[Currency]],Sheet3!$A$2:$C$31,3,FALSE))*(VLOOKUP(tblSalaries[[#This Row],[Currency]],Sheet1!$N$4:$Q$186,4,FALSE))","v":28416.613409219077},{"$f":"IF(Dashboard!$J$5=VLOOKUP(tblSalaries[[#This Row],[Currency]],Sheet3!$A$2:$B$31,2,FALSE),tblSalaries[[#This Row],[clean Salary (in local currency)]],(tblSalaries[[#This Row],[PPP Adjusted  USD]]/VLOOKUP(Dashboard!$J$5,Sheet3!$B$2:$C$31,2,FALSE)))","v":28416.613409219077},"AO","Manager","India","All the 8 hours baby, all the 8!",20]
[null,"ID0836",600000,"INR",10684.750012465542,{"$f":"(tblSalaries[[#This Row],[clean Salary (in local currency)]])*(VLOOKUP(tblSalaries[[#This Row],[Currency]],Sheet3!$A$2:$C$31,3,FALSE))*(VLOOKUP(tblSalaries[[#This Row],[Currency]],Sheet1!$N$4:$Q$186,4,FALSE))","v":28416.613409219077},{"$f":"IF(Dashboard!$J$5=VLOOKUP(tblSalaries[[#This Row],[Currency]],Sheet3!$A$2:$B$31,2,FALSE),tblSalaries[[#This Row],[clean Salary (in local currency)]],(tblSalaries[[#This Row],[PPP Adjusted  USD]]/VLOOKUP(Dashboard!$J$5,Sheet3!$B$2:$C$31,2,FALSE)))","v":28416.613409219077},"Project Manager","Manager","India","2 to 3 hours per day",18]
[null,"ID0885",600000,"INR",10684.750012465542,{"$f":"(tblSalaries[[#This Row],[clean Salary (in local currency)]])*(VLOOKUP(tblSalaries[[#This Row],[Currency]],Sheet3!$A$2:$C$31,3,FALSE))*(VLOOKUP(tblSalaries[[#This Row],[Currency]],Sheet1!$N$4:$Q$186,4,FALSE))","v":28416.613409219077},{"$f":"IF(Dashboard!$J$5=VLOOKUP(tblSalaries[[#This Row],[Currency]],Sheet3!$A$2:$B$31,2,FALSE),tblSalaries[[#This Row],[clean Salary (in local currency)]],(tblSalaries[[#This Row],[PPP Adjusted  USD]]/VLOOKUP(Dashboard!$J$5,Sheet3!$B$2:$C$31,2,FALSE)))","v":28416.613409219077},"Asst Manager","Manager","India","All the 8 hours baby, all the 8!",5]
[null,"ID0907",600000,"INR",10684.750012465542,{"$f":"(tblSalaries[[#This Row],[clean Salary (in local currency)]])*(VLOOKUP(tblSalaries[[#This Row],[Currency]],Sheet3!$A$2:$C$31,3,FALSE))*(VLOOKUP(tblSalaries[[#This Row],[Currency]],Sheet1!$N$4:$Q$186,4,FALSE))","v":28416.613409219077},{"$f":"IF(Dashboard!$J$5=VLOOKUP(tblSalaries[[#This Row],[Currency]],Sheet3!$A$2:$B$31,2,FALSE),tblSalaries[[#This Row],[clean Salary (in local currency)]],(tblSalaries[[#This Row],[PPP Adjusted  USD]]/VLOOKUP(Dashboard!$J$5,Sheet3!$B$2:$C$31,2,FALSE)))","v":28416.613409219077},"Manager","Manager","India","All the 8 hours baby, all the 8!",9]
[null,"ID0925",600000,"INR",10684.750012465542,{"$f":"(tblSalaries[[#This Row],[clean Salary (in local currency)]])*(VLOOKUP(tblSalaries[[#This Row],[Currency]],Sheet3!$A$2:$C$31,3,FALSE))*(VLOOKUP(tblSalaries[[#This Row],[Currency]],Sheet1!$N$4:$Q$186,4,FALSE))","v":28416.613409219077},{"$f":"IF(Dashboard!$J$5=VLOOKUP(tblSalaries[[#This Row],[Currency]],Sheet3!$A$2:$B$31,2,FALSE),tblSalaries[[#This Row],[clean Salary (in local currency)]],(tblSalaries[[#This Row],[PPP Adjusted  USD]]/VLOOKUP(Dashboard!$J$5,Sheet3!$B$2:$C$31,2,FALSE)))","v":28416.613409219077},"Sales Analyst","Analyst","India","All the 8 hours baby, all the 8!",8]
[null,"ID0948",600000,"INR",10684.750012465542,{"$f":"(tblSalaries[[#This Row],[clean Salary (in local currency)]])*(VLOOKUP(tblSalaries[[#This Row],[Currency]],Sheet3!$A$2:$C$31,3,FALSE))*(VLOOKUP(tblSalaries[[#This Row],[Currency]],Sheet1!$N$4:$Q$186,4,FALSE))","v":28416.613409219077},{"$f":"IF(Dashboard!$J$5=VLOOKUP(tblSalaries[[#This Row],[Currency]],Sheet3!$A$2:$B$31,2,FALSE),tblSalaries[[#This Row],[clean Salary (in local currency)]],(tblSalaries[[#This Row],[PPP Adjusted  USD]]/VLOOKUP(Dashboard!$J$5,Sheet3!$B$2:$C$31,2,FALSE)))","v":28416.613409219077},"Asst. Mgr. Finance","Analyst","India","4 to 6 hours a day",11]
[null,"ID0949",600000,"INR",10684.750012465542,{"$f":"(tblSalaries[[#This Row],[clean Salary (in local currency)]])*(VLOOKUP(tblSalaries[[#This Row],[Currency]],Sheet3!$A$2:$C$31,3,FALSE))*(VLOOKUP(tblSalaries[[#This Row],[Currency]],Sheet1!$N$4:$Q$186,4,FALSE))","v":28416.613409219077},{"$f":"IF(Dashboard!$J$5=VLOOKUP(tblSalaries[[#This Row],[Currency]],Sheet3!$A$2:$B$31,2,FALSE),tblSalaries[[#This Row],[clean Salary (in local currency)]],(tblSalaries[[#This Row],[PPP Adjusted  USD]]/VLOOKUP(Dashboard!$J$5,Sheet3!$B$2:$C$31,2,FALSE)))","v":28416.613409219077},"Executive","Analyst","India","2 to 3 hours per day",4]
[null,"ID1042",600000,"INR",10684.750012465542,{"$f":"(tblSalaries[[#This Row],[clean Salary (in local currency)]])*(VLOOKUP(tblSalaries[[#This Row],[Currency]],Sheet3!$A$2:$C$31,3,FALSE))*(VLOOKUP(tblSalaries[[#This Row],[Currency]],Sheet1!$N$4:$Q$186,4,FALSE))","v":28416.613409219077},{"$f":"IF(Dashboard!$J$5=VLOOKUP(tblSalaries[[#This Row],[Currency]],Sheet3!$A$2:$B$31,2,FALSE),tblSalaries[[#This Row],[clean Salary (in local currency)]],(tblSalaries[[#This Row],[PPP Adjusted  USD]]/VLOOKUP(Dashboard!$J$5,Sheet3!$B$2:$C$31,2,FALSE)))","v":28416.613409219077},"Business Analyst","Analyst","India","All the 8 hours baby, all the 8!",12]
[null,"ID1091",600000,"INR",10684.750012465542,{"$f":"(tblSalaries[[#This Row],[clean Salary (in local currency)]])*(VLOOKUP(tblSalaries[[#This Row],[Currency]],Sheet3!$A$2:$C$31,3,FALSE))*(VLOOKUP(tblSalaries[[#This Row],[Currency]],Sheet1!$N$4:$Q$186,4,FALSE))","v":28416.613409219077},{"$f":"IF(Dashboard!$J$5=VLOOKUP(tblSalaries[[#This Row],[Currency]],Sheet3!$A$2:$B$31,2,FALSE),tblSalaries[[#This Row],[clean Salary (in local currency)]],(tblSalaries[[#This Row],[PPP Adjusted  USD]]/VLOOKUP(Dashboard!$J$5,Sheet3!$B$2:$C$31,2,FALSE)))","v":28416.613409219077},"Sr.Supervisor","Analyst","India","4 to 6 hours a day",10]
[null,"ID1113",600000,"INR",10684.750012465542,{"$f":"(tblSalaries[[#This Row],[clean Salary (in local currency)]])*(VLOOKUP(tblSalaries[[#This Row],[Currency]],Sheet3!$A$2:$C$31,3,FALSE))*(VLOOKUP(tblSalaries[[#This Row],[Currency]],Sheet1!$N$4:$Q$186,4,FALSE))","v":28416.613409219077},{"$f":"IF(Dashboard!$J$5=VLOOKUP(tblSalaries[[#This Row],[Currency]],Sheet3!$A$2:$B$31,2,FALSE),tblSalaries[[#This Row],[clean Salary (in local currency)]],(tblSalaries[[#This Row],[PPP Adjusted  USD]]/VLOOKUP(Dashboard!$J$5,Sheet3!$B$2:$C$31,2,FALSE)))","v":28416.613409219077},"Company Secretary","Accountant","India","2 to 3 hours per day",8]
[null,"ID1299",600000,"INR",10684.750012465542,{"$f":"(tblSalaries[[#This Row],[clean Salary (in local currency)]])*(VLOOKUP(tblSalaries[[#This Row],[Currency]],Sheet3!$A$2:$C$31,3,FALSE))*(VLOOKUP(tblSalaries[[#This Row],[Currency]],Sheet1!$N$4:$Q$186,4,FALSE))","v":28416.613409219077},{"$f":"IF(Dashboard!$J$5=VLOOKUP(tblSalaries[[#This Row],[Currency]],Sheet3!$A$2:$B$31,2,FALSE),tblSalaries[[#This Row],[clean Salary (in local currency)]],(tblSalaries[[#This Row],[PPP Adjusted  USD]]/VLOOKUP(Dashboard!$J$5,Sheet3!$B$2:$C$31,2,FALSE)))","v":28416.613409219077},"Senior Business Executive","Manager","India","2 to 3 hours per day",2]
[null,"ID1319",600000,"INR",10684.750012465542,{"$f":"(tblSalaries[[#This Row],[clean Salary (in local currency)]])*(VLOOKUP(tblSalaries[[#This Row],[Currency]],Sheet3!$A$2:$C$31,3,FALSE))*(VLOOKUP(tblSalaries[[#This Row],[Currency]],Sheet1!$N$4:$Q$186,4,FALSE))","v":28416.613409219077},{"$f":"IF(Dashboard!$J$5=VLOOKUP(tblSalaries[[#This Row],[Currency]],Sheet3!$A$2:$B$31,2,FALSE),tblSalaries[[#This Row],[clean Salary (in local currency)]],(tblSalaries[[#This Row],[PPP Adjusted  USD]]/VLOOKUP(Dashboard!$J$5,Sheet3!$B$2:$C$31,2,FALSE)))","v":28416.613409219077},"General Manager","Manager","India","2 to 3 hours per day",28]
[null,"ID1341",600000,"INR",10684.750012465542,{"$f":"(tblSalaries[[#This Row],[clean Salary (in local currency)]])*(VLOOKUP(tblSalaries[[#This Row],[Currency]],Sheet3!$A$2:$C$31,3,FALSE))*(VLOOKUP(tblSalaries[[#This Row],[Currency]],Sheet1!$N$4:$Q$186,4,FALSE))","v":28416.613409219077},{"$f":"IF(Dashboard!$J$5=VLOOKUP(tblSalaries[[#This Row],[Currency]],Sheet3!$A$2:$B$31,2,FALSE),tblSalaries[[#This Row],[clean Salary (in local currency)]],(tblSalaries[[#This Row],[PPP Adjusted  USD]]/VLOOKUP(Dashboard!$J$5,Sheet3!$B$2:$C$31,2,FALSE)))","v":28416.613409219077},"Assistant Manager","Manager","India","1 or 2 hours a day",7]
[null,"ID1452",600000,"INR",10684.750012465542,{"$f":"(tblSalaries[[#This Row],[clean Salary (in local currency)]])*(VLOOKUP(tblSalaries[[#This Row],[Currency]],Sheet3!$A$2:$C$31,3,FALSE))*(VLOOKUP(tblSalaries[[#This Row],[Currency]],Sheet1!$N$4:$Q$186,4,FALSE))","v":28416.613409219077},{"$f":"IF(Dashboard!$J$5=VLOOKUP(tblSalaries[[#This Row],[Currency]],Sheet3!$A$2:$B$31,2,FALSE),tblSalaries[[#This Row],[clean Salary (in local currency)]],(tblSalaries[[#This Row],[PPP Adjusted  USD]]/VLOOKUP(Dashboard!$J$5,Sheet3!$B$2:$C$31,2,FALSE)))","v":28416.613409219077},"consultant","Consultant","India","2 to 3 hours per day",36]
[null,"ID1717",600000,"INR",10684.750012465542,{"$f":"(tblSalaries[[#This Row],[clean Salary (in local currency)]])*(VLOOKUP(tblSalaries[[#This Row],[Currency]],Sheet3!$A$2:$C$31,3,FALSE))*(VLOOKUP(tblSalaries[[#This Row],[Currency]],Sheet1!$N$4:$Q$186,4,FALSE))","v":28416.613409219077},{"$f":"IF(Dashboard!$J$5=VLOOKUP(tblSalaries[[#This Row],[Currency]],Sheet3!$A$2:$B$31,2,FALSE),tblSalaries[[#This Row],[clean Salary (in local currency)]],(tblSalaries[[#This Row],[PPP Adjusted  USD]]/VLOOKUP(Dashboard!$J$5,Sheet3!$B$2:$C$31,2,FALSE)))","v":28416.613409219077},"admin","Analyst","India","All the 8 hours baby, all the 8!",5]
[null,"ID1877",600000,"INR",10684.750012465542,{"$f":"(tblSalaries[[#This Row],[clean Salary (in local currency)]])*(VLOOKUP(tblSalaries[[#This Row],[Currency]],Sheet3!$A$2:$C$31,3,FALSE))*(VLOOKUP(tblSalaries[[#This Row],[Currency]],Sheet1!$N$4:$Q$186,4,FALSE))","v":28416.613409219077},{"$f":"IF(Dashboard!$J$5=VLOOKUP(tblSalaries[[#This Row],[Currency]],Sheet3!$A$2:$B$31,2,FALSE),tblSalaries[[#This Row],[clean Salary (in local currency)]],(tblSalaries[[#This Row],[PPP Adjusted  USD]]/VLOOKUP(Dashboard!$J$5,Sheet3!$B$2:$C$31,2,FALSE)))","v":28416.613409219077},"Manager- Customer Support","Manager","India","4 to 6 hours a day",12]
[null,"ID0010",1152000,"PKR",12227.430201752599,{"$f":"(tblSalaries[[#This Row],[clean Salary (in local currency)]])*(VLOOKUP(tblSalaries[[#This Row],[Currency]],Sheet3!$A$2:$C$31,3,FALSE))*(VLOOKUP(tblSalaries[[#This Row],[Currency]],Sheet1!$N$4:$Q$186,4,FALSE))","v":28371.521746019225},{"$f":"IF(Dashboard!$J$5=VLOOKUP(tblSalaries[[#This Row],[Currency]],Sheet3!$A$2:$B$31,2,FALSE),tblSalaries[[#This Row],[clean Salary (in local currency)]],(tblSalaries[[#This Row],[PPP Adjusted  USD]]/VLOOKUP(Dashboard!$J$5,Sheet3!$B$2:$C$31,2,FALSE)))","v":28371.521746019225},"Audit Trainee ","Accountant","Pakistan","All the 8 hours baby, all the 8!","Data Not Avaliable"]
[null,"ID0192",28000,"USD",28000,{"$f":"(tblSalaries[[#This Row],[clean Salary (in local currency)]])*(VLOOKUP(tblSalaries[[#This Row],[Currency]],Sheet3!$A$2:$C$31,3,FALSE))*(VLOOKUP(tblSalaries[[#This Row],[Currency]],Sheet1!$N$4:$Q$186,4,FALSE))","v":28000},{"$f":"IF(Dashboard!$J$5=VLOOKUP(tblSalaries[[#This Row],[Currency]],Sheet3!$A$2:$B$31,2,FALSE),tblSalaries[[#This Row],[clean Salary (in local currency)]],(tblSalaries[[#This Row],[PPP Adjusted  USD]]/VLOOKUP(Dashboard!$J$5,Sheet3!$B$2:$C$31,2,FALSE)))","v":28000},"Administrative Assistant","Analyst","USA","4 to 6 hours a day","Data Not Avaliable"]
[null,"ID1038",28000,"USD",28000,{"$f":"(tblSalaries[[#This Row],[clean Salary (in local currency)]])*(VLOOKUP(tblSalaries[[#This Row],[Currency]],Sheet3!$A$2:$C$31,3,FALSE))*(VLOOKUP(tblSalaries[[#This Row],[Currency]],Sheet1!$N$4:$Q$186,4,FALSE))","v":28000},{"$f":"IF(Dashboard!$J$5=VLOOKUP(tblSalaries[[#This Row],[Currency]],Sheet3!$A$2:$B$31,2,FALSE),tblSalaries[[#This Row],[clean Salary (in local currency)]],(tblSalaries[[#This Row],[PPP Adjusted  USD]]/VLOOKUP(Dashboard!$J$5,Sheet3!$B$2:$C$31,2,FALSE)))","v":28000},"BI","Reporting","India","2 to 3 hours per day",3]
[null,"ID1180",28000,"USD",28000,{"$f":"(tblSalaries[[#This Row],[clean Salary (in local currency)]])*(VLOOKUP(tblSalaries[[#This Row],[Currency]],Sheet3!$A$2:$C$31,3,FALSE))*(VLOOKUP(tblSalaries[[#This Row],[Currency]],Sheet1!$N$4:$Q$186,4,FALSE))","v":28000},{"$f":"IF(Dashboard!$J$5=VLOOKUP(tblSalaries[[#This Row],[Currency]],Sheet3!$A$2:$B$31,2,FALSE),tblSalaries[[#This Row],[clean Salary (in local currency)]],(tblSalaries[[#This Row],[PPP Adjusted  USD]]/VLOOKUP(Dashboard!$J$5,Sheet3!$B$2:$C$31,2,FALSE)))","v":28000},"Business Intelligence Manager","Manager","Poland","4 to 6 hours a day",5]
[null,"ID1183",27840,"USD",27840,{"$f":"(tblSalaries[[#This Row],[clean Salary (in local currency)]])*(VLOOKUP(tblSalaries[[#This Row],[Currency]],Sheet3!$A$2:$C$31,3,FALSE))*(VLOOKUP(tblSalaries[[#This Row],[Currency]],Sheet1!$N$4:$Q$186,4,FALSE))","v":27840},{"$f":"IF(Dashboard!$J$5=VLOOKUP(tblSalaries[[#This Row],[Currency]],Sheet3!$A$2:$B$31,2,FALSE),tblSalaries[[#This Row],[clean Salary (in local currency)]],(tblSalaries[[#This Row],[PPP Adjusted  USD]]/VLOOKUP(Dashboard!$J$5,Sheet3!$B$2:$C$31,2,FALSE)))","v":27840},"Data Entry Clerk III","Analyst","USA","2 to 3 hours per day",1]
[null,"ID0996",35000,"CAD",34417.653306061438,{"$f":"(tblSalaries[[#This Row],[clean Salary (in local currency)]])*(VLOOKUP(tblSalaries[[#This Row],[Currency]],Sheet3!$A$2:$C$31,3,FALSE))*(VLOOKUP(tblSalaries[[#This Row],[Currency]],Sheet1!$N$4:$Q$186,4,FALSE))","v":27665.617112082062},{"$f":"IF(Dashboard!$J$5=VLOOKUP(tblSalaries[[#This Row],[Currency]],Sheet3!$A$2:$B$31,2,FALSE),tblSalaries[[#This Row],[clean Salary (in local currency)]],(tblSalaries[[#This Row],[PPP Adjusted  USD]]/VLOOKUP(Dashboard!$J$5,Sheet3!$B$2:$C$31,2,FALSE)))","v":27665.617112082062},"Reporting Analyst","Analyst","Canada","All the 8 hours baby, all the 8!",4]
[null,"ID0265",27600,"USD",27600,{"$f":"(tblSalaries[[#This Row],[clean Salary (in local currency)]])*(VLOOKUP(tblSalaries[[#This Row],[Currency]],Sheet3!$A$2:$C$31,3,FALSE))*(VLOOKUP(tblSalaries[[#This Row],[Currency]],Sheet1!$N$4:$Q$186,4,FALSE))","v":27600},{"$f":"IF(Dashboard!$J$5=VLOOKUP(tblSalaries[[#This Row],[Currency]],Sheet3!$A$2:$B$31,2,FALSE),tblSalaries[[#This Row],[clean Salary (in local currency)]],(tblSalaries[[#This Row],[PPP Adjusted  USD]]/VLOOKUP(Dashboard!$J$5,Sheet3!$B$2:$C$31,2,FALSE)))","v":27600},"Software Consultant","Consultant","Singapore","All the 8 hours baby, all the 8!","Data Not Avaliable"]
[null,"ID0564",27500,"USD",27500,{"$f":"(tblSalaries[[#This Row],[clean Salary (in local currency)]])*(VLOOKUP(tblSalaries[[#This Row],[Currency]],Sheet3!$A$2:$C$31,3,FALSE))*(VLOOKUP(tblSalaries[[#This Row],[Currency]],Sheet1!$N$4:$Q$186,4,FALSE))","v":27500},{"$f":"IF(Dashboard!$J$5=VLOOKUP(tblSalaries[[#This Row],[Currency]],Sheet3!$A$2:$B$31,2,FALSE),tblSalaries[[#This Row],[clean Salary (in local currency)]],(tblSalaries[[#This Row],[PPP Adjusted  USD]]/VLOOKUP(Dashboard!$J$5,Sheet3!$B$2:$C$31,2,FALSE)))","v":27500},"Associate","Analyst","USA","All the 8 hours baby, all the 8!",1]
[null,"ID0179",18500,"GBP",29159.298033244755,{"$f":"(tblSalaries[[#This Row],[clean Salary (in local currency)]])*(VLOOKUP(tblSalaries[[#This Row],[Currency]],Sheet3!$A$2:$C$31,3,FALSE))*(VLOOKUP(tblSalaries[[#This Row],[Currency]],Sheet1!$N$4:$Q$186,4,FALSE))","v":27268.467292137906},{"$f":"IF(Dashboard!$J$5=VLOOKUP(tblSalaries[[#This Row],[Currency]],Sheet3!$A$2:$B$31,2,FALSE),tblSalaries[[#This Row],[clean Salary (in local currency)]],(tblSalaries[[#This Row],[PPP Adjusted  USD]]/VLOOKUP(Dashboard!$J$5,Sheet3!$B$2:$C$31,2,FALSE)))","v":27268.467292137906},"Trainee Management Accountant","Manager","UK","All the 8 hours baby, all the 8!","Data Not Avaliable"]
[null,"ID1308",575000,"INR",10239.552095279476,{"$f":"(tblSalaries[[#This Row],[clean Salary (in local currency)]])*(VLOOKUP(tblSalaries[[#This Row],[Currency]],Sheet3!$A$2:$C$31,3,FALSE))*(VLOOKUP(tblSalaries[[#This Row],[Currency]],Sheet1!$N$4:$Q$186,4,FALSE))","v":27232.587850501608},{"$f":"IF(Dashboard!$J$5=VLOOKUP(tblSalaries[[#This Row],[Currency]],Sheet3!$A$2:$B$31,2,FALSE),tblSalaries[[#This Row],[clean Salary (in local currency)]],(tblSalaries[[#This Row],[PPP Adjusted  USD]]/VLOOKUP(Dashboard!$J$5,Sheet3!$B$2:$C$31,2,FALSE)))","v":27232.587850501608},"Asst Manager HR","Manager","India","2 to 3 hours per day",5]
[null,"ID1192",60000,"PLN",18018.883790212141,{"$f":"(tblSalaries[[#This Row],[clean Salary (in local currency)]])*(VLOOKUP(tblSalaries[[#This Row],[Currency]],Sheet3!$A$2:$C$31,3,FALSE))*(VLOOKUP(tblSalaries[[#This Row],[Currency]],Sheet1!$N$4:$Q$186,4,FALSE))","v":27060.816564109915},{"$f":"IF(Dashboard!$J$5=VLOOKUP(tblSalaries[[#This Row],[Currency]],Sheet3!$A$2:$B$31,2,FALSE),tblSalaries[[#This Row],[clean Salary (in local currency)]],(tblSalaries[[#This Row],[PPP Adjusted  USD]]/VLOOKUP(Dashboard!$J$5,Sheet3!$B$2:$C$31,2,FALSE)))","v":27060.816564109915},"Sales Analyst","Analyst","Poland","All the 8 hours baby, all the 8!",10]
[null,"ID0213",27000,"USD",27000,{"$f":"(tblSalaries[[#This Row],[clean Salary (in local currency)]])*(VLOOKUP(tblSalaries[[#This Row],[Currency]],Sheet3!$A$2:$C$31,3,FALSE))*(VLOOKUP(tblSalaries[[#This Row],[Currency]],Sheet1!$N$4:$Q$186,4,FALSE))","v":27000},{"$f":"IF(Dashboard!$J$5=VLOOKUP(tblSalaries[[#This Row],[Currency]],Sheet3!$A$2:$B$31,2,FALSE),tblSalaries[[#This Row],[clean Salary (in local currency)]],(tblSalaries[[#This Row],[PPP Adjusted  USD]]/VLOOKUP(Dashboard!$J$5,Sheet3!$B$2:$C$31,2,FALSE)))","v":27000},"Innovation Analyst","Analyst","Singapore","All the 8 hours baby, all the 8!","Data Not Avaliable"]
[null,"ID0781",570000,"INR",10150.512511842264,{"$f":"(tblSalaries[[#This Row],[clean Salary (in local currency)]])*(VLOOKUP(tblSalaries[[#This Row],[Currency]],Sheet3!$A$2:$C$31,3,FALSE))*(VLOOKUP(tblSalaries[[#This Row],[Currency]],Sheet1!$N$4:$Q$186,4,FALSE))","v":26995.78273875812},{"$f":"IF(Dashboard!$J$5=VLOOKUP(tblSalaries[[#This Row],[Currency]],Sheet3!$A$2:$B$31,2,FALSE),tblSalaries[[#This Row],[clean Salary (in local currency)]],(tblSalaries[[#This Row],[PPP Adjusted  USD]]/VLOOKUP(Dashboard!$J$5,Sheet3!$B$2:$C$31,2,FALSE)))","v":26995.78273875812},"Analyst","Analyst","India","All the 8 hours baby, all the 8!",2.4]
[null,"ID1024",570000,"INR",10150.512511842264,{"$f":"(tblSalaries[[#This Row],[clean Salary (in local currency)]])*(VLOOKUP(tblSalaries[[#This Row],[Currency]],Sheet3!$A$2:$C$31,3,FALSE))*(VLOOKUP(tblSalaries[[#This Row],[Currency]],Sheet1!$N$4:$Q$186,4,FALSE))","v":26995.78273875812},{"$f":"IF(Dashboard!$J$5=VLOOKUP(tblSalaries[[#This Row],[Currency]],Sheet3!$A$2:$B$31,2,FALSE),tblSalaries[[#This Row],[clean Salary (in local currency)]],(tblSalaries[[#This Row],[PPP Adjusted  USD]]/VLOOKUP(Dashboard!$J$5,Sheet3!$B$2:$C$31,2,FALSE)))","v":26995.78273875812},"MIS & Analysis","Analyst","India","4 to 6 hours a day",5]
[null,"ID0971",43000,"AUD",43856.11522531334,{"$f":"(tblSalaries[[#This Row],[clean Salary (in local currency)]])*(VLOOKUP(tblSalaries[[#This Row],[Currency]],Sheet3!$A$2:$C$31,3,FALSE))*(VLOOKUP(tblSalaries[[#This Row],[Currency]],Sheet1!$N$4:$Q$186,4,FALSE))","v":26948.704502540277},{"$f":"IF(Dashboard!$J$5=VLOOKUP(tblSalaries[[#This Row],[Currency]],Sheet3!$A$2:$B$31,2,FALSE),tblSalaries[[#This Row],[clean Salary (in local currency)]],(tblSalaries[[#This Row],[PPP Adjusted  USD]]/VLOOKUP(Dashboard!$J$5,Sheet3!$B$2:$C$31,2,FALSE)))","v":26948.704502540277},"Finance Officer","Manager","Australia","All the 8 hours baby, all the 8!",1]
[null,"ID0057",18000,"GBP",28371.208897211112,{"$f":"(tblSalaries[[#This Row],[clean Salary (in local currency)]])*(VLOOKUP(tblSalaries[[#This Row],[Currency]],Sheet3!$A$2:$C$31,3,FALSE))*(VLOOKUP(tblSalaries[[#This Row],[Currency]],Sheet1!$N$4:$Q$186,4,FALSE))","v":26531.481689647691},{"$f":"IF(Dashboard!$J$5=VLOOKUP(tblSalaries[[#This Row],[Currency]],Sheet3!$A$2:$B$31,2,FALSE),tblSalaries[[#This Row],[clean Salary (in local currency)]],(tblSalaries[[#This Row],[PPP Adjusted  USD]]/VLOOKUP(Dashboard!$J$5,Sheet3!$B$2:$C$31,2,FALSE)))","v":26531.481689647691},"Building Design and Performance Researcher","Manager","UK","1 or 2 hours a day","Data Not Avaliable"]
[null,"ID1811",560000,"INR",9972.4333449678379,{"$f":"(tblSalaries[[#This Row],[clean Salary (in local currency)]])*(VLOOKUP(tblSalaries[[#This Row],[Currency]],Sheet3!$A$2:$C$31,3,FALSE))*(VLOOKUP(tblSalaries[[#This Row],[Currency]],Sheet1!$N$4:$Q$186,4,FALSE))","v":26522.172515271133},{"$f":"IF(Dashboard!$J$5=VLOOKUP(tblSalaries[[#This Row],[Currency]],Sheet3!$A$2:$B$31,2,FALSE),tblSalaries[[#This Row],[clean Salary (in local currency)]],(tblSalaries[[#This Row],[PPP Adjusted  USD]]/VLOOKUP(Dashboard!$J$5,Sheet3!$B$2:$C$31,2,FALSE)))","v":26522.172515271133},"Associate Manager","Manager","India","2 to 3 hours per day",4]
[null,"ID0053",24000,"EUR",30489.586535798586,{"$f":"(tblSalaries[[#This Row],[clean Salary (in local currency)]])*(VLOOKUP(tblSalaries[[#This Row],[Currency]],Sheet3!$A$2:$C$31,3,FALSE))*(VLOOKUP(tblSalaries[[#This Row],[Currency]],Sheet1!$N$4:$Q$186,4,FALSE))","v":26415.669263521253},{"$f":"IF(Dashboard!$J$5=VLOOKUP(tblSalaries[[#This Row],[Currency]],Sheet3!$A$2:$B$31,2,FALSE),tblSalaries[[#This Row],[clean Salary (in local currency)]],(tblSalaries[[#This Row],[PPP Adjusted  USD]]/VLOOKUP(Dashboard!$J$5,Sheet3!$B$2:$C$31,2,FALSE)))","v":26415.669263521253},"PPC Manager","Manager","Germany","All the 8 hours baby, all the 8!","Data Not Avaliable"]
[null,"ID1323",24000,"EUR",30489.586535798586,{"$f":"(tblSalaries[[#This Row],[clean Salary (in local currency)]])*(VLOOKUP(tblSalaries[[#This Row],[Currency]],Sheet3!$A$2:$C$31,3,FALSE))*(VLOOKUP(tblSalaries[[#This Row],[Currency]],Sheet1!$N$4:$Q$186,4,FALSE))","v":26415.669263521253},{"$f":"IF(Dashboard!$J$5=VLOOKUP(tblSalaries[[#This Row],[Currency]],Sheet3!$A$2:$B$31,2,FALSE),tblSalaries[[#This Row],[clean Salary (in local currency)]],(tblSalaries[[#This Row],[PPP Adjusted  USD]]/VLOOKUP(Dashboard!$J$5,Sheet3!$B$2:$C$31,2,FALSE)))","v":26415.669263521253},"Controller","Controller","italy","4 to 6 hours a day",10]
[null,"ID0877",26400,"USD",26400,{"$f":"(tblSalaries[[#This Row],[clean Salary (in local currency)]])*(VLOOKUP(tblSalaries[[#This Row],[Currency]],Sheet3!$A$2:$C$31,3,FALSE))*(VLOOKUP(tblSalaries[[#This Row],[Currency]],Sheet1!$N$4:$Q$186,4,FALSE))","v":26400},{"$f":"IF(Dashboard!$J$5=VLOOKUP(tblSalaries[[#This Row],[Currency]],Sheet3!$A$2:$B$31,2,FALSE),tblSalaries[[#This Row],[clean Salary (in local currency)]],(tblSalaries[[#This Row],[PPP Adjusted  USD]]/VLOOKUP(Dashboard!$J$5,Sheet3!$B$2:$C$31,2,FALSE)))","v":26400},"Supply Chain Administrator","Analyst","UAE","All the 8 hours baby, all the 8!",6]
[null,"ID0019",550000,"INR",9794.354178093412,{"$f":"(tblSalaries[[#This Row],[clean Salary (in local currency)]])*(VLOOKUP(tblSalaries[[#This Row],[Currency]],Sheet3!$A$2:$C$31,3,FALSE))*(VLOOKUP(tblSalaries[[#This Row],[Currency]],Sheet1!$N$4:$Q$186,4,FALSE))","v":26048.56229178415},{"$f":"IF(Dashboard!$J$5=VLOOKUP(tblSalaries[[#This Row],[Currency]],Sheet3!$A$2:$B$31,2,FALSE),tblSalaries[[#This Row],[clean Salary (in local currency)]],(tblSalaries[[#This Row],[PPP Adjusted  USD]]/VLOOKUP(Dashboard!$J$5,Sheet3!$B$2:$C$31,2,FALSE)))","v":26048.56229178415},"AGM","Manager","India","2 to 3 hours per day","Data Not Avaliable"]
[null,"ID0832",550000,"INR",9794.354178093412,{"$f":"(tblSalaries[[#This Row],[clean Salary (in local currency)]])*(VLOOKUP(tblSalaries[[#This Row],[Currency]],Sheet3!$A$2:$C$31,3,FALSE))*(VLOOKUP(tblSalaries[[#This Row],[Currency]],Sheet1!$N$4:$Q$186,4,FALSE))","v":26048.56229178415},{"$f":"IF(Dashboard!$J$5=VLOOKUP(tblSalaries[[#This Row],[Currency]],Sheet3!$A$2:$B$31,2,FALSE),tblSalaries[[#This Row],[clean Salary (in local currency)]],(tblSalaries[[#This Row],[PPP Adjusted  USD]]/VLOOKUP(Dashboard!$J$5,Sheet3!$B$2:$C$31,2,FALSE)))","v":26048.56229178415},"web analyst","Analyst","India","4 to 6 hours a day",1]
[null,"ID0855",550000,"INR",9794.354178093412,{"$f":"(tblSalaries[[#This Row],[clean Salary (in local currency)]])*(VLOOKUP(tblSalaries[[#This Row],[Currency]],Sheet3!$A$2:$C$31,3,FALSE))*(VLOOKUP(tblSalaries[[#This Row],[Currency]],Sheet1!$N$4:$Q$186,4,FALSE))","v":26048.56229178415},{"$f":"IF(Dashboard!$J$5=VLOOKUP(tblSalaries[[#This Row],[Currency]],Sheet3!$A$2:$B$31,2,FALSE),tblSalaries[[#This Row],[clean Salary (in local currency)]],(tblSalaries[[#This Row],[PPP Adjusted  USD]]/VLOOKUP(Dashboard!$J$5,Sheet3!$B$2:$C$31,2,FALSE)))","v":26048.56229178415},"Analyst","Analyst","India","4 to 6 hours a day",1]
[null,"ID1719",550000,"INR",9794.354178093412,{"$f":"(tblSalaries[[#This Row],[clean Salary (in local currency)]])*(VLOOKUP(tblSalaries[[#This Row],[Currency]],Sheet3!$A$2:$C$31,3,FALSE))*(VLOOKUP(tblSalaries[[#This Row],[Currency]],Sheet1!$N$4:$Q$186,4,FALSE))","v":26048.56229178415},{"$f":"IF(Dashboard!$J$5=VLOOKUP(tblSalaries[[#This Row],[Currency]],Sheet3!$A$2:$B$31,2,FALSE),tblSalaries[[#This Row],[clean Salary (in local currency)]],(tblSalaries[[#This Row],[PPP Adjusted  USD]]/VLOOKUP(Dashboard!$J$5,Sheet3!$B$2:$C$31,2,FALSE)))","v":26048.56229178415},"Accounts manager","Manager","India","4 to 6 hours a day",13]
[null,"ID0833",65000,"RON",18499.860539512854,{"$f":"(tblSalaries[[#This Row],[clean Salary (in local currency)]])*(VLOOKUP(tblSalaries[[#This Row],[Currency]],Sheet3!$A$2:$C$31,3,FALSE))*(VLOOKUP(tblSalaries[[#This Row],[Currency]],Sheet1!$N$4:$Q$186,4,FALSE))","v":26042.577791667012},{"$f":"IF(Dashboard!$J$5=VLOOKUP(tblSalaries[[#This Row],[Currency]],Sheet3!$A$2:$B$31,2,FALSE),tblSalaries[[#This Row],[clean Salary (in local currency)]],(tblSalaries[[#This Row],[PPP Adjusted  USD]]/VLOOKUP(Dashboard!$J$5,Sheet3!$B$2:$C$31,2,FALSE)))","v":26042.577791667012},"HR Planning Specialist","Specialist","Romania","4 to 6 hours a day",6]
[null,"ID0081",26000,"USD",26000,{"$f":"(tblSalaries[[#This Row],[clean Salary (in local currency)]])*(VLOOKUP(tblSalaries[[#This Row],[Currency]],Sheet3!$A$2:$C$31,3,FALSE))*(VLOOKUP(tblSalaries[[#This Row],[Currency]],Sheet1!$N$4:$Q$186,4,FALSE))","v":26000},{"$f":"IF(Dashboard!$J$5=VLOOKUP(tblSalaries[[#This Row],[Currency]],Sheet3!$A$2:$B$31,2,FALSE),tblSalaries[[#This Row],[clean Salary (in local currency)]],(tblSalaries[[#This Row],[PPP Adjusted  USD]]/VLOOKUP(Dashboard!$J$5,Sheet3!$B$2:$C$31,2,FALSE)))","v":26000},"Marketing Analyst","Analyst","Panama","All the 8 hours baby, all the 8!","Data Not Avaliable"]
[null,"ID1003",545000,"INR",9705.3145946561999,{"$f":"(tblSalaries[[#This Row],[clean Salary (in local currency)]])*(VLOOKUP(tblSalaries[[#This Row],[Currency]],Sheet3!$A$2:$C$31,3,FALSE))*(VLOOKUP(tblSalaries[[#This Row],[Currency]],Sheet1!$N$4:$Q$186,4,FALSE))","v":25811.757180040659},{"$f":"IF(Dashboard!$J$5=VLOOKUP(tblSalaries[[#This Row],[Currency]],Sheet3!$A$2:$B$31,2,FALSE),tblSalaries[[#This Row],[clean Salary (in local currency)]],(tblSalaries[[#This Row],[PPP Adjusted  USD]]/VLOOKUP(Dashboard!$J$5,Sheet3!$B$2:$C$31,2,FALSE)))","v":25811.757180040659},"Assistant Manager","Manager","India","2 to 3 hours per day",6]
[null,"ID0382",540000,"INR",9616.275011218986,{"$f":"(tblSalaries[[#This Row],[clean Salary (in local currency)]])*(VLOOKUP(tblSalaries[[#This Row],[Currency]],Sheet3!$A$2:$C$31,3,FALSE))*(VLOOKUP(tblSalaries[[#This Row],[Currency]],Sheet1!$N$4:$Q$186,4,FALSE))","v":25574.952068297163},{"$f":"IF(Dashboard!$J$5=VLOOKUP(tblSalaries[[#This Row],[Currency]],Sheet3!$A$2:$B$31,2,FALSE),tblSalaries[[#This Row],[clean Salary (in local currency)]],(tblSalaries[[#This Row],[PPP Adjusted  USD]]/VLOOKUP(Dashboard!$J$5,Sheet3!$B$2:$C$31,2,FALSE)))","v":25574.952068297163},"Senior Billing Engineer","Engineer","India","4 to 6 hours a day","Data Not Avaliable"]
[null,"ID0861",540000,"INR",9616.275011218986,{"$f":"(tblSalaries[[#This Row],[clean Salary (in local currency)]])*(VLOOKUP(tblSalaries[[#This Row],[Currency]],Sheet3!$A$2:$C$31,3,FALSE))*(VLOOKUP(tblSalaries[[#This Row],[Currency]],Sheet1!$N$4:$Q$186,4,FALSE))","v":25574.952068297163},{"$f":"IF(Dashboard!$J$5=VLOOKUP(tblSalaries[[#This Row],[Currency]],Sheet3!$A$2:$B$31,2,FALSE),tblSalaries[[#This Row],[clean Salary (in local currency)]],(tblSalaries[[#This Row],[PPP Adjusted  USD]]/VLOOKUP(Dashboard!$J$5,Sheet3!$B$2:$C$31,2,FALSE)))","v":25574.952068297163},"Senior analyst","Analyst","India","All the 8 hours baby, all the 8!",8]
[null,"ID1195",540000,"INR",9616.275011218986,{"$f":"(tblSalaries[[#This Row],[clean Salary (in local currency)]])*(VLOOKUP(tblSalaries[[#This Row],[Currency]],Sheet3!$A$2:$C$31,3,FALSE))*(VLOOKUP(tblSalaries[[#This Row],[Currency]],Sheet1!$N$4:$Q$186,4,FALSE))","v":25574.952068297163},{"$f":"IF(Dashboard!$J$5=VLOOKUP(tblSalaries[[#This Row],[Currency]],Sheet3!$A$2:$B$31,2,FALSE),tblSalaries[[#This Row],[clean Salary (in local currency)]],(tblSalaries[[#This Row],[PPP Adjusted  USD]]/VLOOKUP(Dashboard!$J$5,Sheet3!$B$2:$C$31,2,FALSE)))","v":25574.952068297163},"Business Analyst - Solutions","Analyst","India","4 to 6 hours a day",7.9]
[null,"ID0883",25560,"USD",25560,{"$f":"(tblSalaries[[#This Row],[clean Salary (in local currency)]])*(VLOOKUP(tblSalaries[[#This Row],[Currency]],Sheet3!$A$2:$C$31,3,FALSE))*(VLOOKUP(tblSalaries[[#This Row],[Currency]],Sheet1!$N$4:$Q$186,4,FALSE))","v":25560},{"$f":"IF(Dashboard!$J$5=VLOOKUP(tblSalaries[[#This Row],[Currency]],Sheet3!$A$2:$B$31,2,FALSE),tblSalaries[[#This Row],[clean Salary (in local currency)]],(tblSalaries[[#This Row],[PPP Adjusted  USD]]/VLOOKUP(Dashboard!$J$5,Sheet3!$B$2:$C$31,2,FALSE)))","v":25560},"Training Coordinator","Manager","Saudi Arabia","4 to 6 hours a day",3]
[null,"ID1513",536000,"INR",9545.0433444692171,{"$f":"(tblSalaries[[#This Row],[clean Salary (in local currency)]])*(VLOOKUP(tblSalaries[[#This Row],[Currency]],Sheet3!$A$2:$C$31,3,FALSE))*(VLOOKUP(tblSalaries[[#This Row],[Currency]],Sheet1!$N$4:$Q$186,4,FALSE))","v":25385.507978902373},{"$f":"IF(Dashboard!$J$5=VLOOKUP(tblSalaries[[#This Row],[Currency]],Sheet3!$A$2:$B$31,2,FALSE),tblSalaries[[#This Row],[clean Salary (in local currency)]],(tblSalaries[[#This Row],[PPP Adjusted  USD]]/VLOOKUP(Dashboard!$J$5,Sheet3!$B$2:$C$31,2,FALSE)))","v":25385.507978902373},"Team Lead","Manager","India","4 to 6 hours a day",4]
[null,"ID1165",600000,"DOP",15404.364569961488,{"$f":"(tblSalaries[[#This Row],[clean Salary (in local currency)]])*(VLOOKUP(tblSalaries[[#This Row],[Currency]],Sheet3!$A$2:$C$31,3,FALSE))*(VLOOKUP(tblSalaries[[#This Row],[Currency]],Sheet1!$N$4:$Q$186,4,FALSE))","v":25370.472251088424},{"$f":"IF(Dashboard!$J$5=VLOOKUP(tblSalaries[[#This Row],[Currency]],Sheet3!$A$2:$B$31,2,FALSE),tblSalaries[[#This Row],[clean Salary (in local currency)]],(tblSalaries[[#This Row],[PPP Adjusted  USD]]/VLOOKUP(Dashboard!$J$5,Sheet3!$B$2:$C$31,2,FALSE)))","v":25370.472251088424},"Analista de Produccion","Analyst","Republica Dominicana","All the 8 hours baby, all the 8!",3]
[null,"ID1063",530000,"INR",9438.1958443445619,{"$f":"(tblSalaries[[#This Row],[clean Salary (in local currency)]])*(VLOOKUP(tblSalaries[[#This Row],[Currency]],Sheet3!$A$2:$C$31,3,FALSE))*(VLOOKUP(tblSalaries[[#This Row],[Currency]],Sheet1!$N$4:$Q$186,4,FALSE))","v":25101.341844810184},{"$f":"IF(Dashboard!$J$5=VLOOKUP(tblSalaries[[#This Row],[Currency]],Sheet3!$A$2:$B$31,2,FALSE),tblSalaries[[#This Row],[clean Salary (in local currency)]],(tblSalaries[[#This Row],[PPP Adjusted  USD]]/VLOOKUP(Dashboard!$J$5,Sheet3!$B$2:$C$31,2,FALSE)))","v":25101.341844810184},"Project Administrator","Analyst","India","2 to 3 hours per day",7]
[null,"ID1470",17000,"GBP",26795.030625143831,{"$f":"(tblSalaries[[#This Row],[clean Salary (in local currency)]])*(VLOOKUP(tblSalaries[[#This Row],[Currency]],Sheet3!$A$2:$C$31,3,FALSE))*(VLOOKUP(tblSalaries[[#This Row],[Currency]],Sheet1!$N$4:$Q$186,4,FALSE))","v":25057.510484667266},{"$f":"IF(Dashboard!$J$5=VLOOKUP(tblSalaries[[#This Row],[Currency]],Sheet3!$A$2:$B$31,2,FALSE),tblSalaries[[#This Row],[clean Salary (in local currency)]],(tblSalaries[[#This Row],[PPP Adjusted  USD]]/VLOOKUP(Dashboard!$J$5,Sheet3!$B$2:$C$31,2,FALSE)))","v":25057.510484667266},"Verification Agent","Analyst","UK","2 to 3 hours per day",5]
[null,"ID0252",25000,"USD",25000,{"$f":"(tblSalaries[[#This Row],[clean Salary (in local currency)]])*(VLOOKUP(tblSalaries[[#This Row],[Currency]],Sheet3!$A$2:$C$31,3,FALSE))*(VLOOKUP(tblSalaries[[#This Row],[Currency]],Sheet1!$N$4:$Q$186,4,FALSE))","v":25000},{"$f":"IF(Dashboard!$J$5=VLOOKUP(tblSalaries[[#This Row],[Currency]],Sheet3!$A$2:$B$31,2,FALSE),tblSalaries[[#This Row],[clean Salary (in local currency)]],(tblSalaries[[#This Row],[PPP Adjusted  USD]]/VLOOKUP(Dashboard!$J$5,Sheet3!$B$2:$C$31,2,FALSE)))","v":25000},"Team Lead","Manager","India","1 or 2 hours a day","Data Not Avaliable"]
[null,"ID0362",25000,"USD",25000,{"$f":"(tblSalaries[[#This Row],[clean Salary (in local currency)]])*(VLOOKUP(tblSalaries[[#This Row],[Currency]],Sheet3!$A$2:$C$31,3,FALSE))*(VLOOKUP(tblSalaries[[#This Row],[Currency]],Sheet1!$N$4:$Q$186,4,FALSE))","v":25000},{"$f":"IF(Dashboard!$J$5=VLOOKUP(tblSalaries[[#This Row],[Currency]],Sheet3!$A$2:$B$31,2,FALSE),tblSalaries[[#This Row],[clean Salary (in local currency)]],(tblSalaries[[#This Row],[PPP Adjusted  USD]]/VLOOKUP(Dashboard!$J$5,Sheet3!$B$2:$C$31,2,FALSE)))","v":25000},"Manager","Manager","India","4 to 6 hours a day","Data Not Avaliable"]
[null,"ID1437",25000,"USD",25000,{"$f":"(tblSalaries[[#This Row],[clean Salary (in local currency)]])*(VLOOKUP(tblSalaries[[#This Row],[Currency]],Sheet3!$A$2:$C$31,3,FALSE))*(VLOOKUP(tblSalaries[[#This Row],[Currency]],Sheet1!$N$4:$Q$186,4,FALSE))","v":25000},{"$f":"IF(Dashboard!$J$5=VLOOKUP(tblSalaries[[#This Row],[Currency]],Sheet3!$A$2:$B$31,2,FALSE),tblSalaries[[#This Row],[clean Salary (in local currency)]],(tblSalaries[[#This Row],[PPP Adjusted  USD]]/VLOOKUP(Dashboard!$J$5,Sheet3!$B$2:$C$31,2,FALSE)))","v":25000},"Accountant","Accountant","India","2 to 3 hours per day",8]
[null,"ID1487",25000,"USD",25000,{"$f":"(tblSalaries[[#This Row],[clean Salary (in local currency)]])*(VLOOKUP(tblSalaries[[#This Row],[Currency]],Sheet3!$A$2:$C$31,3,FALSE))*(VLOOKUP(tblSalaries[[#This Row],[Currency]],Sheet1!$N$4:$Q$186,4,FALSE))","v":25000},{"$f":"IF(Dashboard!$J$5=VLOOKUP(tblSalaries[[#This Row],[Currency]],Sheet3!$A$2:$B$31,2,FALSE),tblSalaries[[#This Row],[clean Salary (in local currency)]],(tblSalaries[[#This Row],[PPP Adjusted  USD]]/VLOOKUP(Dashboard!$J$5,Sheet3!$B$2:$C$31,2,FALSE)))","v":25000},"data analyst","Analyst","India","All the 8 hours baby, all the 8!",4]
[null,"ID1726",25000,"USD",25000,{"$f":"(tblSalaries[[#This Row],[clean Salary (in local currency)]])*(VLOOKUP(tblSalaries[[#This Row],[Currency]],Sheet3!$A$2:$C$31,3,FALSE))*(VLOOKUP(tblSalaries[[#This Row],[Currency]],Sheet1!$N$4:$Q$186,4,FALSE))","v":25000},{"$f":"IF(Dashboard!$J$5=VLOOKUP(tblSalaries[[#This Row],[Currency]],Sheet3!$A$2:$B$31,2,FALSE),tblSalaries[[#This Row],[clean Salary (in local currency)]],(tblSalaries[[#This Row],[PPP Adjusted  USD]]/VLOOKUP(Dashboard!$J$5,Sheet3!$B$2:$C$31,2,FALSE)))","v":25000},"exe","Analyst","India","All the 8 hours baby, all the 8!",8]
[null,"ID1886",25000,"USD",25000,{"$f":"(tblSalaries[[#This Row],[clean Salary (in local currency)]])*(VLOOKUP(tblSalaries[[#This Row],[Currency]],Sheet3!$A$2:$C$31,3,FALSE))*(VLOOKUP(tblSalaries[[#This Row],[Currency]],Sheet1!$N$4:$Q$186,4,FALSE))","v":25000},{"$f":"IF(Dashboard!$J$5=VLOOKUP(tblSalaries[[#This Row],[Currency]],Sheet3!$A$2:$B$31,2,FALSE),tblSalaries[[#This Row],[clean Salary (in local currency)]],(tblSalaries[[#This Row],[PPP Adjusted  USD]]/VLOOKUP(Dashboard!$J$5,Sheet3!$B$2:$C$31,2,FALSE)))","v":25000},"Data Analyst","Analyst","India","All the 8 hours baby, all the 8!",1.5]
[null,"ID1908",25000,"USD",25000,{"$f":"(tblSalaries[[#This Row],[clean Salary (in local currency)]])*(VLOOKUP(tblSalaries[[#This Row],[Currency]],Sheet3!$A$2:$C$31,3,FALSE))*(VLOOKUP(tblSalaries[[#This Row],[Currency]],Sheet1!$N$4:$Q$186,4,FALSE))","v":25000},{"$f":"IF(Dashboard!$J$5=VLOOKUP(tblSalaries[[#This Row],[Currency]],Sheet3!$A$2:$B$31,2,FALSE),tblSalaries[[#This Row],[clean Salary (in local currency)]],(tblSalaries[[#This Row],[PPP Adjusted  USD]]/VLOOKUP(Dashboard!$J$5,Sheet3!$B$2:$C$31,2,FALSE)))","v":25000},"Team Lead","Manager","India","4 to 6 hours a day",10]
[null,"ID1549",24864,"USD",24864,{"$f":"(tblSalaries[[#This Row],[clean Salary (in local currency)]])*(VLOOKUP(tblSalaries[[#This Row],[Currency]],Sheet3!$A$2:$C$31,3,FALSE))*(VLOOKUP(tblSalaries[[#This Row],[Currency]],Sheet1!$N$4:$Q$186,4,FALSE))","v":24864},{"$f":"IF(Dashboard!$J$5=VLOOKUP(tblSalaries[[#This Row],[Currency]],Sheet3!$A$2:$B$31,2,FALSE),tblSalaries[[#This Row],[clean Salary (in local currency)]],(tblSalaries[[#This Row],[PPP Adjusted  USD]]/VLOOKUP(Dashboard!$J$5,Sheet3!$B$2:$C$31,2,FALSE)))","v":24864},"Brand manager","Manager","Libya","All the 8 hours baby, all the 8!",8]
[null,"ID1171",54000,"BRL",26691.183012544854,{"$f":"(tblSalaries[[#This Row],[clean Salary (in local currency)]])*(VLOOKUP(tblSalaries[[#This Row],[Currency]],Sheet3!$A$2:$C$31,3,FALSE))*(VLOOKUP(tblSalaries[[#This Row],[Currency]],Sheet1!$N$4:$Q$186,4,FALSE))","v":24561.013096495866},{"$f":"IF(Dashboard!$J$5=VLOOKUP(tblSalaries[[#This Row],[Currency]],Sheet3!$A$2:$B$31,2,FALSE),tblSalaries[[#This Row],[clean Salary (in local currency)]],(tblSalaries[[#This Row],[PPP Adjusted  USD]]/VLOOKUP(Dashboard!$J$5,Sheet3!$B$2:$C$31,2,FALSE)))","v":24561.013096495866},"Logistics Coordinator","Manager","Brazil","1 or 2 hours a day",7]
[null,"ID0816",516000,"INR",9188.8850107203652,{"$f":"(tblSalaries[[#This Row],[clean Salary (in local currency)]])*(VLOOKUP(tblSalaries[[#This Row],[Currency]],Sheet3!$A$2:$C$31,3,FALSE))*(VLOOKUP(tblSalaries[[#This Row],[Currency]],Sheet1!$N$4:$Q$186,4,FALSE))","v":24438.287531928403},{"$f":"IF(Dashboard!$J$5=VLOOKUP(tblSalaries[[#This Row],[Currency]],Sheet3!$A$2:$B$31,2,FALSE),tblSalaries[[#This Row],[clean Salary (in local currency)]],(tblSalaries[[#This Row],[PPP Adjusted  USD]]/VLOOKUP(Dashboard!$J$5,Sheet3!$B$2:$C$31,2,FALSE)))","v":24438.287531928403},"Management Trainee","Manager","India","4 to 6 hours a day",0]
[null,"ID1001",48000,"MYR",15206.427249917633,{"$f":"(tblSalaries[[#This Row],[clean Salary (in local currency)]])*(VLOOKUP(tblSalaries[[#This Row],[Currency]],Sheet3!$A$2:$C$31,3,FALSE))*(VLOOKUP(tblSalaries[[#This Row],[Currency]],Sheet1!$N$4:$Q$186,4,FALSE))","v":24406.184777938528},{"$f":"IF(Dashboard!$J$5=VLOOKUP(tblSalaries[[#This Row],[Currency]],Sheet3!$A$2:$B$31,2,FALSE),tblSalaries[[#This Row],[clean Salary (in local currency)]],(tblSalaries[[#This Row],[PPP Adjusted  USD]]/VLOOKUP(Dashboard!$J$5,Sheet3!$B$2:$C$31,2,FALSE)))","v":24406.184777938528},"Credit Risk Manager","Manager","malaysia","4 to 6 hours a day",2]
[null,"ID0513",16400,"GBP",25849.323661903458,{"$f":"(tblSalaries[[#This Row],[clean Salary (in local currency)]])*(VLOOKUP(tblSalaries[[#This Row],[Currency]],Sheet3!$A$2:$C$31,3,FALSE))*(VLOOKUP(tblSalaries[[#This Row],[Currency]],Sheet1!$N$4:$Q$186,4,FALSE))","v":24173.127761679007},{"$f":"IF(Dashboard!$J$5=VLOOKUP(tblSalaries[[#This Row],[Currency]],Sheet3!$A$2:$B$31,2,FALSE),tblSalaries[[#This Row],[clean Salary (in local currency)]],(tblSalaries[[#This Row],[PPP Adjusted  USD]]/VLOOKUP(Dashboard!$J$5,Sheet3!$B$2:$C$31,2,FALSE)))","v":24173.127761679007},"Job Build analyst","Analyst","UK","4 to 6 hours a day","Data Not Avaliable"]
[null,"ID0096",24000,"USD",24000,{"$f":"(tblSalaries[[#This Row],[clean Salary (in local currency)]])*(VLOOKUP(tblSalaries[[#This Row],[Currency]],Sheet3!$A$2:$C$31,3,FALSE))*(VLOOKUP(tblSalaries[[#This Row],[Currency]],Sheet1!$N$4:$Q$186,4,FALSE))","v":24000},{"$f":"IF(Dashboard!$J$5=VLOOKUP(tblSalaries[[#This Row],[Currency]],Sheet3!$A$2:$B$31,2,FALSE),tblSalaries[[#This Row],[clean Salary (in local currency)]],(tblSalaries[[#This Row],[PPP Adjusted  USD]]/VLOOKUP(Dashboard!$J$5,Sheet3!$B$2:$C$31,2,FALSE)))","v":24000},"Paraeducator","Manager","USA","2 to 3 hours per day","Data Not Avaliable"]
[null,"ID0119",24000,"USD",24000,{"$f":"(tblSalaries[[#This Row],[clean Salary (in local currency)]])*(VLOOKUP(tblSalaries[[#This Row],[Currency]],Sheet3!$A$2:$C$31,3,FALSE))*(VLOOKUP(tblSalaries[[#This Row],[Currency]],Sheet1!$N$4:$Q$186,4,FALSE))","v":24000},{"$f":"IF(Dashboard!$J$5=VLOOKUP(tblSalaries[[#This Row],[Currency]],Sheet3!$A$2:$B$31,2,FALSE),tblSalaries[[#This Row],[clean Salary (in local currency)]],(tblSalaries[[#This Row],[PPP Adjusted  USD]]/VLOOKUP(Dashboard!$J$5,Sheet3!$B$2:$C$31,2,FALSE)))","v":24000},"Researcher","Manager","Colombia","All the 8 hours baby, all the 8!","Data Not Avaliable"]
[null,"ID0430",24000,"USD",24000,{"$f":"(tblSalaries[[#This Row],[clean Salary (in local currency)]])*(VLOOKUP(tblSalaries[[#This Row],[Currency]],Sheet3!$A$2:$C$31,3,FALSE))*(VLOOKUP(tblSalaries[[#This Row],[Currency]],Sheet1!$N$4:$Q$186,4,FALSE))","v":24000},{"$f":"IF(Dashboard!$J$5=VLOOKUP(tblSalaries[[#This Row],[Currency]],Sheet3!$A$2:$B$31,2,FALSE),tblSalaries[[#This Row],[clean Salary (in local currency)]],(tblSalaries[[#This Row],[PPP Adjusted  USD]]/VLOOKUP(Dashboard!$J$5,Sheet3!$B$2:$C$31,2,FALSE)))","v":24000},"engineer","Engineer","USA","1 or 2 hours a day","Data Not Avaliable"]
[null,"ID0479",24000,"USD",24000,{"$f":"(tblSalaries[[#This Row],[clean Salary (in local currency)]])*(VLOOKUP(tblSalaries[[#This Row],[Currency]],Sheet3!$A$2:$C$31,3,FALSE))*(VLOOKUP(tblSalaries[[#This Row],[Currency]],Sheet1!$N$4:$Q$186,4,FALSE))","v":24000},{"$f":"IF(Dashboard!$J$5=VLOOKUP(tblSalaries[[#This Row],[Currency]],Sheet3!$A$2:$B$31,2,FALSE),tblSalaries[[#This Row],[clean Salary (in local currency)]],(tblSalaries[[#This Row],[PPP Adjusted  USD]]/VLOOKUP(Dashboard!$J$5,Sheet3!$B$2:$C$31,2,FALSE)))","v":24000},"engineer","Engineer","mozambique","2 to 3 hours per day","Data Not Avaliable"]
[null,"ID0670",24000,"USD",24000,{"$f":"(tblSalaries[[#This Row],[clean Salary (in local currency)]])*(VLOOKUP(tblSalaries[[#This Row],[Currency]],Sheet3!$A$2:$C$31,3,FALSE))*(VLOOKUP(tblSalaries[[#This Row],[Currency]],Sheet1!$N$4:$Q$186,4,FALSE))","v":24000},{"$f":"IF(Dashboard!$J$5=VLOOKUP(tblSalaries[[#This Row],[Currency]],Sheet3!$A$2:$B$31,2,FALSE),tblSalaries[[#This Row],[clean Salary (in local currency)]],(tblSalaries[[#This Row],[PPP Adjusted  USD]]/VLOOKUP(Dashboard!$J$5,Sheet3!$B$2:$C$31,2,FALSE)))","v":24000},"Management Accountant","Manager","Saudi Arabia","4 to 6 hours a day",12]
[null,"ID0671",24000,"USD",24000,{"$f":"(tblSalaries[[#This Row],[clean Salary (in local currency)]])*(VLOOKUP(tblSalaries[[#This Row],[Currency]],Sheet3!$A$2:$C$31,3,FALSE))*(VLOOKUP(tblSalaries[[#This Row],[Currency]],Sheet1!$N$4:$Q$186,4,FALSE))","v":24000},{"$f":"IF(Dashboard!$J$5=VLOOKUP(tblSalaries[[#This Row],[Currency]],Sheet3!$A$2:$B$31,2,FALSE),tblSalaries[[#This Row],[clean Salary (in local currency)]],(tblSalaries[[#This Row],[PPP Adjusted  USD]]/VLOOKUP(Dashboard!$J$5,Sheet3!$B$2:$C$31,2,FALSE)))","v":24000},"Accountant","Accountant","UAE","2 to 3 hours per day",15]
[null,"ID0762",24000,"USD",24000,{"$f":"(tblSalaries[[#This Row],[clean Salary (in local currency)]])*(VLOOKUP(tblSalaries[[#This Row],[Currency]],Sheet3!$A$2:$C$31,3,FALSE))*(VLOOKUP(tblSalaries[[#This Row],[Currency]],Sheet1!$N$4:$Q$186,4,FALSE))","v":24000},{"$f":"IF(Dashboard!$J$5=VLOOKUP(tblSalaries[[#This Row],[Currency]],Sheet3!$A$2:$B$31,2,FALSE),tblSalaries[[#This Row],[clean Salary (in local currency)]],(tblSalaries[[#This Row],[PPP Adjusted  USD]]/VLOOKUP(Dashboard!$J$5,Sheet3!$B$2:$C$31,2,FALSE)))","v":24000},"Asst Production Planner","Analyst","India","2 to 3 hours per day",1]
[null,"ID0812",24000,"USD",24000,{"$f":"(tblSalaries[[#This Row],[clean Salary (in local currency)]])*(VLOOKUP(tblSalaries[[#This Row],[Currency]],Sheet3!$A$2:$C$31,3,FALSE))*(VLOOKUP(tblSalaries[[#This Row],[Currency]],Sheet1!$N$4:$Q$186,4,FALSE))","v":24000},{"$f":"IF(Dashboard!$J$5=VLOOKUP(tblSalaries[[#This Row],[Currency]],Sheet3!$A$2:$B$31,2,FALSE),tblSalaries[[#This Row],[clean Salary (in local currency)]],(tblSalaries[[#This Row],[PPP Adjusted  USD]]/VLOOKUP(Dashboard!$J$5,Sheet3!$B$2:$C$31,2,FALSE)))","v":24000},"Logistic KA Manager","Manager","Croatia","2 to 3 hours per day",5]
[null,"ID0931",24000,"USD",24000,{"$f":"(tblSalaries[[#This Row],[clean Salary (in local currency)]])*(VLOOKUP(tblSalaries[[#This Row],[Currency]],Sheet3!$A$2:$C$31,3,FALSE))*(VLOOKUP(tblSalaries[[#This Row],[Currency]],Sheet1!$N$4:$Q$186,4,FALSE))","v":24000},{"$f":"IF(Dashboard!$J$5=VLOOKUP(tblSalaries[[#This Row],[Currency]],Sheet3!$A$2:$B$31,2,FALSE),tblSalaries[[#This Row],[clean Salary (in local currency)]],(tblSalaries[[#This Row],[PPP Adjusted  USD]]/VLOOKUP(Dashboard!$J$5,Sheet3!$B$2:$C$31,2,FALSE)))","v":24000},"business analyst","Analyst","India","4 to 6 hours a day",3]
[null,"ID0943",24000,"USD",24000,{"$f":"(tblSalaries[[#This Row],[clean Salary (in local currency)]])*(VLOOKUP(tblSalaries[[#This Row],[Currency]],Sheet3!$A$2:$C$31,3,FALSE))*(VLOOKUP(tblSalaries[[#This Row],[Currency]],Sheet1!$N$4:$Q$186,4,FALSE))","v":24000},{"$f":"IF(Dashboard!$J$5=VLOOKUP(tblSalaries[[#This Row],[Currency]],Sheet3!$A$2:$B$31,2,FALSE),tblSalaries[[#This Row],[clean Salary (in local currency)]],(tblSalaries[[#This Row],[PPP Adjusted  USD]]/VLOOKUP(Dashboard!$J$5,Sheet3!$B$2:$C$31,2,FALSE)))","v":24000},"sr manager","Manager","India","4 to 6 hours a day",10]
[null,"ID1187",24000,"USD",24000,{"$f":"(tblSalaries[[#This Row],[clean Salary (in local currency)]])*(VLOOKUP(tblSalaries[[#This Row],[Currency]],Sheet3!$A$2:$C$31,3,FALSE))*(VLOOKUP(tblSalaries[[#This Row],[Currency]],Sheet1!$N$4:$Q$186,4,FALSE))","v":24000},{"$f":"IF(Dashboard!$J$5=VLOOKUP(tblSalaries[[#This Row],[Currency]],Sheet3!$A$2:$B$31,2,FALSE),tblSalaries[[#This Row],[clean Salary (in local currency)]],(tblSalaries[[#This Row],[PPP Adjusted  USD]]/VLOOKUP(Dashboard!$J$5,Sheet3!$B$2:$C$31,2,FALSE)))","v":24000},"Administration Manager","Manager","Argentina","4 to 6 hours a day",21]
[null,"ID1336",24000,"USD",24000,{"$f":"(tblSalaries[[#This Row],[clean Salary (in local currency)]])*(VLOOKUP(tblSalaries[[#This Row],[Currency]],Sheet3!$A$2:$C$31,3,FALSE))*(VLOOKUP(tblSalaries[[#This Row],[Currency]],Sheet1!$N$4:$Q$186,4,FALSE))","v":24000},{"$f":"IF(Dashboard!$J$5=VLOOKUP(tblSalaries[[#This Row],[Currency]],Sheet3!$A$2:$B$31,2,FALSE),tblSalaries[[#This Row],[clean Salary (in local currency)]],(tblSalaries[[#This Row],[PPP Adjusted  USD]]/VLOOKUP(Dashboard!$J$5,Sheet3!$B$2:$C$31,2,FALSE)))","v":24000},"Dir. Revenue Mgt","Manager","Saudi Arabia","4 to 6 hours a day",5]
[null,"ID1377",24000,"USD",24000,{"$f":"(tblSalaries[[#This Row],[clean Salary (in local currency)]])*(VLOOKUP(tblSalaries[[#This Row],[Currency]],Sheet3!$A$2:$C$31,3,FALSE))*(VLOOKUP(tblSalaries[[#This Row],[Currency]],Sheet1!$N$4:$Q$186,4,FALSE))","v":24000},{"$f":"IF(Dashboard!$J$5=VLOOKUP(tblSalaries[[#This Row],[Currency]],Sheet3!$A$2:$B$31,2,FALSE),tblSalaries[[#This Row],[clean Salary (in local currency)]],(tblSalaries[[#This Row],[PPP Adjusted  USD]]/VLOOKUP(Dashboard!$J$5,Sheet3!$B$2:$C$31,2,FALSE)))","v":24000},"clerk 24 hrs per week","Analyst","USA","1 or 2 hours a day",33]
[null,"ID1438",24000,"USD",24000,{"$f":"(tblSalaries[[#This Row],[clean Salary (in local currency)]])*(VLOOKUP(tblSalaries[[#This Row],[Currency]],Sheet3!$A$2:$C$31,3,FALSE))*(VLOOKUP(tblSalaries[[#This Row],[Currency]],Sheet1!$N$4:$Q$186,4,FALSE))","v":24000},{"$f":"IF(Dashboard!$J$5=VLOOKUP(tblSalaries[[#This Row],[Currency]],Sheet3!$A$2:$B$31,2,FALSE),tblSalaries[[#This Row],[clean Salary (in local currency)]],(tblSalaries[[#This Row],[PPP Adjusted  USD]]/VLOOKUP(Dashboard!$J$5,Sheet3!$B$2:$C$31,2,FALSE)))","v":24000},"inventory controller","Controller","USA","1 or 2 hours a day",2]
[null,"ID1848",24000,"USD",24000,{"$f":"(tblSalaries[[#This Row],[clean Salary (in local currency)]])*(VLOOKUP(tblSalaries[[#This Row],[Currency]],Sheet3!$A$2:$C$31,3,FALSE))*(VLOOKUP(tblSalaries[[#This Row],[Currency]],Sheet1!$N$4:$Q$186,4,FALSE))","v":24000},{"$f":"IF(Dashboard!$J$5=VLOOKUP(tblSalaries[[#This Row],[Currency]],Sheet3!$A$2:$B$31,2,FALSE),tblSalaries[[#This Row],[clean Salary (in local currency)]],(tblSalaries[[#This Row],[PPP Adjusted  USD]]/VLOOKUP(Dashboard!$J$5,Sheet3!$B$2:$C$31,2,FALSE)))","v":24000},"Plant Controller","Controller","Russia","All the 8 hours baby, all the 8!",23]
[null,"ID0817",504000,"INR",8975.1900104710548,{"$f":"(tblSalaries[[#This Row],[clean Salary (in local currency)]])*(VLOOKUP(tblSalaries[[#This Row],[Currency]],Sheet3!$A$2:$C$31,3,FALSE))*(VLOOKUP(tblSalaries[[#This Row],[Currency]],Sheet1!$N$4:$Q$186,4,FALSE))","v":23869.955263744021},{"$f":"IF(Dashboard!$J$5=VLOOKUP(tblSalaries[[#This Row],[Currency]],Sheet3!$A$2:$B$31,2,FALSE),tblSalaries[[#This Row],[clean Salary (in local currency)]],(tblSalaries[[#This Row],[PPP Adjusted  USD]]/VLOOKUP(Dashboard!$J$5,Sheet3!$B$2:$C$31,2,FALSE)))","v":23869.955263744021},"MNR","Manager","India","All the 8 hours baby, all the 8!",3]
[null,"ID0036",500000,"INR",8903.9583437212841,{"$f":"(tblSalaries[[#This Row],[clean Salary (in local currency)]])*(VLOOKUP(tblSalaries[[#This Row],[Currency]],Sheet3!$A$2:$C$31,3,FALSE))*(VLOOKUP(tblSalaries[[#This Row],[Currency]],Sheet1!$N$4:$Q$186,4,FALSE))","v":23680.511174349227},{"$f":"IF(Dashboard!$J$5=VLOOKUP(tblSalaries[[#This Row],[Currency]],Sheet3!$A$2:$B$31,2,FALSE),tblSalaries[[#This Row],[clean Salary (in local currency)]],(tblSalaries[[#This Row],[PPP Adjusted  USD]]/VLOOKUP(Dashboard!$J$5,Sheet3!$B$2:$C$31,2,FALSE)))","v":23680.511174349227},"Senior Consultant","Consultant","India","All the 8 hours baby, all the 8!","Data Not Avaliable"]
[null,"ID0085",500000,"INR",8903.9583437212841,{"$f":"(tblSalaries[[#This Row],[clean Salary (in local currency)]])*(VLOOKUP(tblSalaries[[#This Row],[Currency]],Sheet3!$A$2:$C$31,3,FALSE))*(VLOOKUP(tblSalaries[[#This Row],[Currency]],Sheet1!$N$4:$Q$186,4,FALSE))","v":23680.511174349227},{"$f":"IF(Dashboard!$J$5=VLOOKUP(tblSalaries[[#This Row],[Currency]],Sheet3!$A$2:$B$31,2,FALSE),tblSalaries[[#This Row],[clean Salary (in local currency)]],(tblSalaries[[#This Row],[PPP Adjusted  USD]]/VLOOKUP(Dashboard!$J$5,Sheet3!$B$2:$C$31,2,FALSE)))","v":23680.511174349227},"Senior Consultant","Consultant","India","All the 8 hours baby, all the 8!","Data Not Avaliable"]
[null,"ID0170",500000,"INR",8903.9583437212841,{"$f":"(tblSalaries[[#This Row],[clean Salary (in local currency)]])*(VLOOKUP(tblSalaries[[#This Row],[Currency]],Sheet3!$A$2:$C$31,3,FALSE))*(VLOOKUP(tblSalaries[[#This Row],[Currency]],Sheet1!$N$4:$Q$186,4,FALSE))","v":23680.511174349227},{"$f":"IF(Dashboard!$J$5=VLOOKUP(tblSalaries[[#This Row],[Currency]],Sheet3!$A$2:$B$31,2,FALSE),tblSalaries[[#This Row],[clean Salary (in local currency)]],(tblSalaries[[#This Row],[PPP Adjusted  USD]]/VLOOKUP(Dashboard!$J$5,Sheet3!$B$2:$C$31,2,FALSE)))","v":23680.511174349227},"QA Executive","Analyst","India","2 to 3 hours per day","Data Not Avaliable"]
[null,"ID0221",500000,"INR",8903.9583437212841,{"$f":"(tblSalaries[[#This Row],[clean Salary (in local currency)]])*(VLOOKUP(tblSalaries[[#This Row],[Currency]],Sheet3!$A$2:$C$31,3,FALSE))*(VLOOKUP(tblSalaries[[#This Row],[Currency]],Sheet1!$N$4:$Q$186,4,FALSE))","v":23680.511174349227},{"$f":"IF(Dashboard!$J$5=VLOOKUP(tblSalaries[[#This Row],[Currency]],Sheet3!$A$2:$B$31,2,FALSE),tblSalaries[[#This Row],[clean Salary (in local currency)]],(tblSalaries[[#This Row],[PPP Adjusted  USD]]/VLOOKUP(Dashboard!$J$5,Sheet3!$B$2:$C$31,2,FALSE)))","v":23680.511174349227},"Project Manager","Manager","India","4 to 6 hours a day","Data Not Avaliable"]
[null,"ID0377",500000,"INR",8903.9583437212841,{"$f":"(tblSalaries[[#This Row],[clean Salary (in local currency)]])*(VLOOKUP(tblSalaries[[#This Row],[Currency]],Sheet3!$A$2:$C$31,3,FALSE))*(VLOOKUP(tblSalaries[[#This Row],[Currency]],Sheet1!$N$4:$Q$186,4,FALSE))","v":23680.511174349227},{"$f":"IF(Dashboard!$J$5=VLOOKUP(tblSalaries[[#This Row],[Currency]],Sheet3!$A$2:$B$31,2,FALSE),tblSalaries[[#This Row],[clean Salary (in local currency)]],(tblSalaries[[#This Row],[PPP Adjusted  USD]]/VLOOKUP(Dashboard!$J$5,Sheet3!$B$2:$C$31,2,FALSE)))","v":23680.511174349227},"Owner","Manager","India","2 to 3 hours per day","Data Not Avaliable"]
[null,"ID0452",500000,"INR",8903.9583437212841,{"$f":"(tblSalaries[[#This Row],[clean Salary (in local currency)]])*(VLOOKUP(tblSalaries[[#This Row],[Currency]],Sheet3!$A$2:$C$31,3,FALSE))*(VLOOKUP(tblSalaries[[#This Row],[Currency]],Sheet1!$N$4:$Q$186,4,FALSE))","v":23680.511174349227},{"$f":"IF(Dashboard!$J$5=VLOOKUP(tblSalaries[[#This Row],[Currency]],Sheet3!$A$2:$B$31,2,FALSE),tblSalaries[[#This Row],[clean Salary (in local currency)]],(tblSalaries[[#This Row],[PPP Adjusted  USD]]/VLOOKUP(Dashboard!$J$5,Sheet3!$B$2:$C$31,2,FALSE)))","v":23680.511174349227},"Business Analyst","Analyst","India","4 to 6 hours a day","Data Not Avaliable"]
[null,"ID0510",500000,"INR",8903.9583437212841,{"$f":"(tblSalaries[[#This Row],[clean Salary (in local currency)]])*(VLOOKUP(tblSalaries[[#This Row],[Currency]],Sheet3!$A$2:$C$31,3,FALSE))*(VLOOKUP(tblSalaries[[#This Row],[Currency]],Sheet1!$N$4:$Q$186,4,FALSE))","v":23680.511174349227},{"$f":"IF(Dashboard!$J$5=VLOOKUP(tblSalaries[[#This Row],[Currency]],Sheet3!$A$2:$B$31,2,FALSE),tblSalaries[[#This Row],[clean Salary (in local currency)]],(tblSalaries[[#This Row],[PPP Adjusted  USD]]/VLOOKUP(Dashboard!$J$5,Sheet3!$B$2:$C$31,2,FALSE)))","v":23680.511174349227},"duty manager","Manager","India","2 to 3 hours per day","Data Not Avaliable"]
[null,"ID0548",500000,"INR",8903.9583437212841,{"$f":"(tblSalaries[[#This Row],[clean Salary (in local currency)]])*(VLOOKUP(tblSalaries[[#This Row],[Currency]],Sheet3!$A$2:$C$31,3,FALSE))*(VLOOKUP(tblSalaries[[#This Row],[Currency]],Sheet1!$N$4:$Q$186,4,FALSE))","v":23680.511174349227},{"$f":"IF(Dashboard!$J$5=VLOOKUP(tblSalaries[[#This Row],[Currency]],Sheet3!$A$2:$B$31,2,FALSE),tblSalaries[[#This Row],[clean Salary (in local currency)]],(tblSalaries[[#This Row],[PPP Adjusted  USD]]/VLOOKUP(Dashboard!$J$5,Sheet3!$B$2:$C$31,2,FALSE)))","v":23680.511174349227},"Research Associate","Analyst","India","All the 8 hours baby, all the 8!","Data Not Avaliable"]
[null,"ID0716",500000,"INR",8903.9583437212841,{"$f":"(tblSalaries[[#This Row],[clean Salary (in local currency)]])*(VLOOKUP(tblSalaries[[#This Row],[Currency]],Sheet3!$A$2:$C$31,3,FALSE))*(VLOOKUP(tblSalaries[[#This Row],[Currency]],Sheet1!$N$4:$Q$186,4,FALSE))","v":23680.511174349227},{"$f":"IF(Dashboard!$J$5=VLOOKUP(tblSalaries[[#This Row],[Currency]],Sheet3!$A$2:$B$31,2,FALSE),tblSalaries[[#This Row],[clean Salary (in local currency)]],(tblSalaries[[#This Row],[PPP Adjusted  USD]]/VLOOKUP(Dashboard!$J$5,Sheet3!$B$2:$C$31,2,FALSE)))","v":23680.511174349227},"mis ","Reporting","India","2 to 3 hours per day",1]
[null,"ID0717",500000,"INR",8903.9583437212841,{"$f":"(tblSalaries[[#This Row],[clean Salary (in local currency)]])*(VLOOKUP(tblSalaries[[#This Row],[Currency]],Sheet3!$A$2:$C$31,3,FALSE))*(VLOOKUP(tblSalaries[[#This Row],[Currency]],Sheet1!$N$4:$Q$186,4,FALSE))","v":23680.511174349227},{"$f":"IF(Dashboard!$J$5=VLOOKUP(tblSalaries[[#This Row],[Currency]],Sheet3!$A$2:$B$31,2,FALSE),tblSalaries[[#This Row],[clean Salary (in local currency)]],(tblSalaries[[#This Row],[PPP Adjusted  USD]]/VLOOKUP(Dashboard!$J$5,Sheet3!$B$2:$C$31,2,FALSE)))","v":23680.511174349227},"Engineer","Engineer","India","All the 8 hours baby, all the 8!",2]
[null,"ID0891",500000,"INR",8903.9583437212841,{"$f":"(tblSalaries[[#This Row],[clean Salary (in local currency)]])*(VLOOKUP(tblSalaries[[#This Row],[Currency]],Sheet3!$A$2:$C$31,3,FALSE))*(VLOOKUP(tblSalaries[[#This Row],[Currency]],Sheet1!$N$4:$Q$186,4,FALSE))","v":23680.511174349227},{"$f":"IF(Dashboard!$J$5=VLOOKUP(tblSalaries[[#This Row],[Currency]],Sheet3!$A$2:$B$31,2,FALSE),tblSalaries[[#This Row],[clean Salary (in local currency)]],(tblSalaries[[#This Row],[PPP Adjusted  USD]]/VLOOKUP(Dashboard!$J$5,Sheet3!$B$2:$C$31,2,FALSE)))","v":23680.511174349227},"team coach","Manager","India","1 or 2 hours a day",5]
[null,"ID0898",500000,"INR",8903.9583437212841,{"$f":"(tblSalaries[[#This Row],[clean Salary (in local currency)]])*(VLOOKUP(tblSalaries[[#This Row],[Currency]],Sheet3!$A$2:$C$31,3,FALSE))*(VLOOKUP(tblSalaries[[#This Row],[Currency]],Sheet1!$N$4:$Q$186,4,FALSE))","v":23680.511174349227},{"$f":"IF(Dashboard!$J$5=VLOOKUP(tblSalaries[[#This Row],[Currency]],Sheet3!$A$2:$B$31,2,FALSE),tblSalaries[[#This Row],[clean Salary (in local currency)]],(tblSalaries[[#This Row],[PPP Adjusted  USD]]/VLOOKUP(Dashboard!$J$5,Sheet3!$B$2:$C$31,2,FALSE)))","v":23680.511174349227},"Planning Engineer","Engineer","India","2 to 3 hours per day",3]
[null,"ID1000",500000,"INR",8903.9583437212841,{"$f":"(tblSalaries[[#This Row],[clean Salary (in local currency)]])*(VLOOKUP(tblSalaries[[#This Row],[Currency]],Sheet3!$A$2:$C$31,3,FALSE))*(VLOOKUP(tblSalaries[[#This Row],[Currency]],Sheet1!$N$4:$Q$186,4,FALSE))","v":23680.511174349227},{"$f":"IF(Dashboard!$J$5=VLOOKUP(tblSalaries[[#This Row],[Currency]],Sheet3!$A$2:$B$31,2,FALSE),tblSalaries[[#This Row],[clean Salary (in local currency)]],(tblSalaries[[#This Row],[PPP Adjusted  USD]]/VLOOKUP(Dashboard!$J$5,Sheet3!$B$2:$C$31,2,FALSE)))","v":23680.511174349227},"Business Analyst","Analyst","India","4 to 6 hours a day",7]
[null,"ID1095",500000,"INR",8903.9583437212841,{"$f":"(tblSalaries[[#This Row],[clean Salary (in local currency)]])*(VLOOKUP(tblSalaries[[#This Row],[Currency]],Sheet3!$A$2:$C$31,3,FALSE))*(VLOOKUP(tblSalaries[[#This Row],[Currency]],Sheet1!$N$4:$Q$186,4,FALSE))","v":23680.511174349227},{"$f":"IF(Dashboard!$J$5=VLOOKUP(tblSalaries[[#This Row],[Currency]],Sheet3!$A$2:$B$31,2,FALSE),tblSalaries[[#This Row],[clean Salary (in local currency)]],(tblSalaries[[#This Row],[PPP Adjusted  USD]]/VLOOKUP(Dashboard!$J$5,Sheet3!$B$2:$C$31,2,FALSE)))","v":23680.511174349227},"Executive","Analyst","India","2 to 3 hours per day",23]
[null,"ID1161",500000,"INR",8903.9583437212841,{"$f":"(tblSalaries[[#This Row],[clean Salary (in local currency)]])*(VLOOKUP(tblSalaries[[#This Row],[Currency]],Sheet3!$A$2:$C$31,3,FALSE))*(VLOOKUP(tblSalaries[[#This Row],[Currency]],Sheet1!$N$4:$Q$186,4,FALSE))","v":23680.511174349227},{"$f":"IF(Dashboard!$J$5=VLOOKUP(tblSalaries[[#This Row],[Currency]],Sheet3!$A$2:$B$31,2,FALSE),tblSalaries[[#This Row],[clean Salary (in local currency)]],(tblSalaries[[#This Row],[PPP Adjusted  USD]]/VLOOKUP(Dashboard!$J$5,Sheet3!$B$2:$C$31,2,FALSE)))","v":23680.511174349227},"Deputy Manager","Manager","India","1 or 2 hours a day",25]
[null,"ID1172",500000,"INR",8903.9583437212841,{"$f":"(tblSalaries[[#This Row],[clean Salary (in local currency)]])*(VLOOKUP(tblSalaries[[#This Row],[Currency]],Sheet3!$A$2:$C$31,3,FALSE))*(VLOOKUP(tblSalaries[[#This Row],[Currency]],Sheet1!$N$4:$Q$186,4,FALSE))","v":23680.511174349227},{"$f":"IF(Dashboard!$J$5=VLOOKUP(tblSalaries[[#This Row],[Currency]],Sheet3!$A$2:$B$31,2,FALSE),tblSalaries[[#This Row],[clean Salary (in local currency)]],(tblSalaries[[#This Row],[PPP Adjusted  USD]]/VLOOKUP(Dashboard!$J$5,Sheet3!$B$2:$C$31,2,FALSE)))","v":23680.511174349227},"Business Analyst","Analyst","India","4 to 6 hours a day",0.8]
[null,"ID1214",500000,"INR",8903.9583437212841,{"$f":"(tblSalaries[[#This Row],[clean Salary (in local currency)]])*(VLOOKUP(tblSalaries[[#This Row],[Currency]],Sheet3!$A$2:$C$31,3,FALSE))*(VLOOKUP(tblSalaries[[#This Row],[Currency]],Sheet1!$N$4:$Q$186,4,FALSE))","v":23680.511174349227},{"$f":"IF(Dashboard!$J$5=VLOOKUP(tblSalaries[[#This Row],[Currency]],Sheet3!$A$2:$B$31,2,FALSE),tblSalaries[[#This Row],[clean Salary (in local currency)]],(tblSalaries[[#This Row],[PPP Adjusted  USD]]/VLOOKUP(Dashboard!$J$5,Sheet3!$B$2:$C$31,2,FALSE)))","v":23680.511174349227},"Consultant","Consultant","India","2 to 3 hours per day",3]
[null,"ID1278",500000,"INR",8903.9583437212841,{"$f":"(tblSalaries[[#This Row],[clean Salary (in local currency)]])*(VLOOKUP(tblSalaries[[#This Row],[Currency]],Sheet3!$A$2:$C$31,3,FALSE))*(VLOOKUP(tblSalaries[[#This Row],[Currency]],Sheet1!$N$4:$Q$186,4,FALSE))","v":23680.511174349227},{"$f":"IF(Dashboard!$J$5=VLOOKUP(tblSalaries[[#This Row],[Currency]],Sheet3!$A$2:$B$31,2,FALSE),tblSalaries[[#This Row],[clean Salary (in local currency)]],(tblSalaries[[#This Row],[PPP Adjusted  USD]]/VLOOKUP(Dashboard!$J$5,Sheet3!$B$2:$C$31,2,FALSE)))","v":23680.511174349227},"Asstt. Manager","Manager","India","2 to 3 hours per day",29]
[null,"ID1309",500000,"INR",8903.9583437212841,{"$f":"(tblSalaries[[#This Row],[clean Salary (in local currency)]])*(VLOOKUP(tblSalaries[[#This Row],[Currency]],Sheet3!$A$2:$C$31,3,FALSE))*(VLOOKUP(tblSalaries[[#This Row],[Currency]],Sheet1!$N$4:$Q$186,4,FALSE))","v":23680.511174349227},{"$f":"IF(Dashboard!$J$5=VLOOKUP(tblSalaries[[#This Row],[Currency]],Sheet3!$A$2:$B$31,2,FALSE),tblSalaries[[#This Row],[clean Salary (in local currency)]],(tblSalaries[[#This Row],[PPP Adjusted  USD]]/VLOOKUP(Dashboard!$J$5,Sheet3!$B$2:$C$31,2,FALSE)))","v":23680.511174349227},"Senior software engineer","Engineer","India","4 to 6 hours a day",2]
[null,"ID1339",500000,"INR",8903.9583437212841,{"$f":"(tblSalaries[[#This Row],[clean Salary (in local currency)]])*(VLOOKUP(tblSalaries[[#This Row],[Currency]],Sheet3!$A$2:$C$31,3,FALSE))*(VLOOKUP(tblSalaries[[#This Row],[Currency]],Sheet1!$N$4:$Q$186,4,FALSE))","v":23680.511174349227},{"$f":"IF(Dashboard!$J$5=VLOOKUP(tblSalaries[[#This Row],[Currency]],Sheet3!$A$2:$B$31,2,FALSE),tblSalaries[[#This Row],[clean Salary (in local currency)]],(tblSalaries[[#This Row],[PPP Adjusted  USD]]/VLOOKUP(Dashboard!$J$5,Sheet3!$B$2:$C$31,2,FALSE)))","v":23680.511174349227},"support manager","Manager","India","2 to 3 hours per day",5]
[null,"ID1454",500000,"INR",8903.9583437212841,{"$f":"(tblSalaries[[#This Row],[clean Salary (in local currency)]])*(VLOOKUP(tblSalaries[[#This Row],[Currency]],Sheet3!$A$2:$C$31,3,FALSE))*(VLOOKUP(tblSalaries[[#This Row],[Currency]],Sheet1!$N$4:$Q$186,4,FALSE))","v":23680.511174349227},{"$f":"IF(Dashboard!$J$5=VLOOKUP(tblSalaries[[#This Row],[Currency]],Sheet3!$A$2:$B$31,2,FALSE),tblSalaries[[#This Row],[clean Salary (in local currency)]],(tblSalaries[[#This Row],[PPP Adjusted  USD]]/VLOOKUP(Dashboard!$J$5,Sheet3!$B$2:$C$31,2,FALSE)))","v":23680.511174349227},"Project Management","Manager","India","2 to 3 hours per day",0]
[null,"ID1532",500000,"INR",8903.9583437212841,{"$f":"(tblSalaries[[#This Row],[clean Salary (in local currency)]])*(VLOOKUP(tblSalaries[[#This Row],[Currency]],Sheet3!$A$2:$C$31,3,FALSE))*(VLOOKUP(tblSalaries[[#This Row],[Currency]],Sheet1!$N$4:$Q$186,4,FALSE))","v":23680.511174349227},{"$f":"IF(Dashboard!$J$5=VLOOKUP(tblSalaries[[#This Row],[Currency]],Sheet3!$A$2:$B$31,2,FALSE),tblSalaries[[#This Row],[clean Salary (in local currency)]],(tblSalaries[[#This Row],[PPP Adjusted  USD]]/VLOOKUP(Dashboard!$J$5,Sheet3!$B$2:$C$31,2,FALSE)))","v":23680.511174349227},"Developer","Analyst","India","4 to 6 hours a day",8]
[null,"ID1572",500000,"INR",8903.9583437212841,{"$f":"(tblSalaries[[#This Row],[clean Salary (in local currency)]])*(VLOOKUP(tblSalaries[[#This Row],[Currency]],Sheet3!$A$2:$C$31,3,FALSE))*(VLOOKUP(tblSalaries[[#This Row],[Currency]],Sheet1!$N$4:$Q$186,4,FALSE))","v":23680.511174349227},{"$f":"IF(Dashboard!$J$5=VLOOKUP(tblSalaries[[#This Row],[Currency]],Sheet3!$A$2:$B$31,2,FALSE),tblSalaries[[#This Row],[clean Salary (in local currency)]],(tblSalaries[[#This Row],[PPP Adjusted  USD]]/VLOOKUP(Dashboard!$J$5,Sheet3!$B$2:$C$31,2,FALSE)))","v":23680.511174349227},"Sr. Associate","Analyst","India","4 to 6 hours a day",9]
[null,"ID1661",500000,"INR",8903.9583437212841,{"$f":"(tblSalaries[[#This Row],[clean Salary (in local currency)]])*(VLOOKUP(tblSalaries[[#This Row],[Currency]],Sheet3!$A$2:$C$31,3,FALSE))*(VLOOKUP(tblSalaries[[#This Row],[Currency]],Sheet1!$N$4:$Q$186,4,FALSE))","v":23680.511174349227},{"$f":"IF(Dashboard!$J$5=VLOOKUP(tblSalaries[[#This Row],[Currency]],Sheet3!$A$2:$B$31,2,FALSE),tblSalaries[[#This Row],[clean Salary (in local currency)]],(tblSalaries[[#This Row],[PPP Adjusted  USD]]/VLOOKUP(Dashboard!$J$5,Sheet3!$B$2:$C$31,2,FALSE)))","v":23680.511174349227},"Team Leader","Manager","India","All the 8 hours baby, all the 8!",20]
[null,"ID1716",500000,"INR",8903.9583437212841,{"$f":"(tblSalaries[[#This Row],[clean Salary (in local currency)]])*(VLOOKUP(tblSalaries[[#This Row],[Currency]],Sheet3!$A$2:$C$31,3,FALSE))*(VLOOKUP(tblSalaries[[#This Row],[Currency]],Sheet1!$N$4:$Q$186,4,FALSE))","v":23680.511174349227},{"$f":"IF(Dashboard!$J$5=VLOOKUP(tblSalaries[[#This Row],[Currency]],Sheet3!$A$2:$B$31,2,FALSE),tblSalaries[[#This Row],[clean Salary (in local currency)]],(tblSalaries[[#This Row],[PPP Adjusted  USD]]/VLOOKUP(Dashboard!$J$5,Sheet3!$B$2:$C$31,2,FALSE)))","v":23680.511174349227},"Sr. Associate","Analyst","India","4 to 6 hours a day",4]
[null,"ID1727",500000,"INR",8903.9583437212841,{"$f":"(tblSalaries[[#This Row],[clean Salary (in local currency)]])*(VLOOKUP(tblSalaries[[#This Row],[Currency]],Sheet3!$A$2:$C$31,3,FALSE))*(VLOOKUP(tblSalaries[[#This Row],[Currency]],Sheet1!$N$4:$Q$186,4,FALSE))","v":23680.511174349227},{"$f":"IF(Dashboard!$J$5=VLOOKUP(tblSalaries[[#This Row],[Currency]],Sheet3!$A$2:$B$31,2,FALSE),tblSalaries[[#This Row],[clean Salary (in local currency)]],(tblSalaries[[#This Row],[PPP Adjusted  USD]]/VLOOKUP(Dashboard!$J$5,Sheet3!$B$2:$C$31,2,FALSE)))","v":23680.511174349227},"Business Analyst","Analyst","India","4 to 6 hours a day",2]
[null,"ID1777",500000,"INR",8903.9583437212841,{"$f":"(tblSalaries[[#This Row],[clean Salary (in local currency)]])*(VLOOKUP(tblSalaries[[#This Row],[Currency]],Sheet3!$A$2:$C$31,3,FALSE))*(VLOOKUP(tblSalaries[[#This Row],[Currency]],Sheet1!$N$4:$Q$186,4,FALSE))","v":23680.511174349227},{"$f":"IF(Dashboard!$J$5=VLOOKUP(tblSalaries[[#This Row],[Currency]],Sheet3!$A$2:$B$31,2,FALSE),tblSalaries[[#This Row],[clean Salary (in local currency)]],(tblSalaries[[#This Row],[PPP Adjusted  USD]]/VLOOKUP(Dashboard!$J$5,Sheet3!$B$2:$C$31,2,FALSE)))","v":23680.511174349227},"equity research trainee","Analyst","India","All the 8 hours baby, all the 8!",0]
[null,"ID1127",120000,"AED",32666.305522511171,{"$f":"(tblSalaries[[#This Row],[clean Salary (in local currency)]])*(VLOOKUP(tblSalaries[[#This Row],[Currency]],Sheet3!$A$2:$C$31,3,FALSE))*(VLOOKUP(tblSalaries[[#This Row],[Currency]],Sheet1!$N$4:$Q$186,4,FALSE))","v":23476.843544838488},{"$f":"IF(Dashboard!$J$5=VLOOKUP(tblSalaries[[#This Row],[Currency]],Sheet3!$A$2:$B$31,2,FALSE),tblSalaries[[#This Row],[clean Salary (in local currency)]],(tblSalaries[[#This Row],[PPP Adjusted  USD]]/VLOOKUP(Dashboard!$J$5,Sheet3!$B$2:$C$31,2,FALSE)))","v":23476.843544838488},"Finance Manager","Manager","UAE","2 to 3 hours per day",12]
[null,"ID1598",21000,"EUR",26678.388218823762,{"$f":"(tblSalaries[[#This Row],[clean Salary (in local currency)]])*(VLOOKUP(tblSalaries[[#This Row],[Currency]],Sheet3!$A$2:$C$31,3,FALSE))*(VLOOKUP(tblSalaries[[#This Row],[Currency]],Sheet1!$N$4:$Q$186,4,FALSE))","v":23113.710605581095},{"$f":"IF(Dashboard!$J$5=VLOOKUP(tblSalaries[[#This Row],[Currency]],Sheet3!$A$2:$B$31,2,FALSE),tblSalaries[[#This Row],[clean Salary (in local currency)]],(tblSalaries[[#This Row],[PPP Adjusted  USD]]/VLOOKUP(Dashboard!$J$5,Sheet3!$B$2:$C$31,2,FALSE)))","v":23113.710605581095},"Coordenador PeÃ§as Grupo","Manager","Portugal","4 to 6 hours a day",10]
[null,"ID1689",21000,"EUR",26678.388218823762,{"$f":"(tblSalaries[[#This Row],[clean Salary (in local currency)]])*(VLOOKUP(tblSalaries[[#This Row],[Currency]],Sheet3!$A$2:$C$31,3,FALSE))*(VLOOKUP(tblSalaries[[#This Row],[Currency]],Sheet1!$N$4:$Q$186,4,FALSE))","v":23113.710605581095},{"$f":"IF(Dashboard!$J$5=VLOOKUP(tblSalaries[[#This Row],[Currency]],Sheet3!$A$2:$B$31,2,FALSE),tblSalaries[[#This Row],[clean Salary (in local currency)]],(tblSalaries[[#This Row],[PPP Adjusted  USD]]/VLOOKUP(Dashboard!$J$5,Sheet3!$B$2:$C$31,2,FALSE)))","v":23113.710605581095},"Sales Planning","Analyst","Portugal","4 to 6 hours a day",5]
[null,"ID0915",486000,"INR",8654.6475100970874,{"$f":"(tblSalaries[[#This Row],[clean Salary (in local currency)]])*(VLOOKUP(tblSalaries[[#This Row],[Currency]],Sheet3!$A$2:$C$31,3,FALSE))*(VLOOKUP(tblSalaries[[#This Row],[Currency]],Sheet1!$N$4:$Q$186,4,FALSE))","v":23017.456861467446},{"$f":"IF(Dashboard!$J$5=VLOOKUP(tblSalaries[[#This Row],[Currency]],Sheet3!$A$2:$B$31,2,FALSE),tblSalaries[[#This Row],[clean Salary (in local currency)]],(tblSalaries[[#This Row],[PPP Adjusted  USD]]/VLOOKUP(Dashboard!$J$5,Sheet3!$B$2:$C$31,2,FALSE)))","v":23017.456861467446},"Assistant manager","Manager","India","All the 8 hours baby, all the 8!",6]
[null,"ID0502",23000,"USD",23000,{"$f":"(tblSalaries[[#This Row],[clean Salary (in local currency)]])*(VLOOKUP(tblSalaries[[#This Row],[Currency]],Sheet3!$A$2:$C$31,3,FALSE))*(VLOOKUP(tblSalaries[[#This Row],[Currency]],Sheet1!$N$4:$Q$186,4,FALSE))","v":23000},{"$f":"IF(Dashboard!$J$5=VLOOKUP(tblSalaries[[#This Row],[Currency]],Sheet3!$A$2:$B$31,2,FALSE),tblSalaries[[#This Row],[clean Salary (in local currency)]],(tblSalaries[[#This Row],[PPP Adjusted  USD]]/VLOOKUP(Dashboard!$J$5,Sheet3!$B$2:$C$31,2,FALSE)))","v":23000},"IT solutions coordinator","Manager","Hungary","4 to 6 hours a day","Data Not Avaliable"]
[null,"ID1209",23000,"USD",23000,{"$f":"(tblSalaries[[#This Row],[clean Salary (in local currency)]])*(VLOOKUP(tblSalaries[[#This Row],[Currency]],Sheet3!$A$2:$C$31,3,FALSE))*(VLOOKUP(tblSalaries[[#This Row],[Currency]],Sheet1!$N$4:$Q$186,4,FALSE))","v":23000},{"$f":"IF(Dashboard!$J$5=VLOOKUP(tblSalaries[[#This Row],[Currency]],Sheet3!$A$2:$B$31,2,FALSE),tblSalaries[[#This Row],[clean Salary (in local currency)]],(tblSalaries[[#This Row],[PPP Adjusted  USD]]/VLOOKUP(Dashboard!$J$5,Sheet3!$B$2:$C$31,2,FALSE)))","v":23000},"Chief Accountant","Accountant","Saudi Arabia","All the 8 hours baby, all the 8!",14]
[null,"ID1072",15600,"GBP",24588.381044249632,{"$f":"(tblSalaries[[#This Row],[clean Salary (in local currency)]])*(VLOOKUP(tblSalaries[[#This Row],[Currency]],Sheet3!$A$2:$C$31,3,FALSE))*(VLOOKUP(tblSalaries[[#This Row],[Currency]],Sheet1!$N$4:$Q$186,4,FALSE))","v":22993.95079769467},{"$f":"IF(Dashboard!$J$5=VLOOKUP(tblSalaries[[#This Row],[Currency]],Sheet3!$A$2:$B$31,2,FALSE),tblSalaries[[#This Row],[clean Salary (in local currency)]],(tblSalaries[[#This Row],[PPP Adjusted  USD]]/VLOOKUP(Dashboard!$J$5,Sheet3!$B$2:$C$31,2,FALSE)))","v":22993.95079769467},"business data analyst","Analyst","UK","All the 8 hours baby, all the 8!",0]
[null,"ID0168",22880,"USD",22880,{"$f":"(tblSalaries[[#This Row],[clean Salary (in local currency)]])*(VLOOKUP(tblSalaries[[#This Row],[Currency]],Sheet3!$A$2:$C$31,3,FALSE))*(VLOOKUP(tblSalaries[[#This Row],[Currency]],Sheet1!$N$4:$Q$186,4,FALSE))","v":22880},{"$f":"IF(Dashboard!$J$5=VLOOKUP(tblSalaries[[#This Row],[Currency]],Sheet3!$A$2:$B$31,2,FALSE),tblSalaries[[#This Row],[clean Salary (in local currency)]],(tblSalaries[[#This Row],[PPP Adjusted  USD]]/VLOOKUP(Dashboard!$J$5,Sheet3!$B$2:$C$31,2,FALSE)))","v":22880},"Accounting ","Accountant","USA","4 to 6 hours a day","Data Not Avaliable"]
[null,"ID0225",480000,"INR",8547.8000099724322,{"$f":"(tblSalaries[[#This Row],[clean Salary (in local currency)]])*(VLOOKUP(tblSalaries[[#This Row],[Currency]],Sheet3!$A$2:$C$31,3,FALSE))*(VLOOKUP(tblSalaries[[#This Row],[Currency]],Sheet1!$N$4:$Q$186,4,FALSE))","v":22733.290727375257},{"$f":"IF(Dashboard!$J$5=VLOOKUP(tblSalaries[[#This Row],[Currency]],Sheet3!$A$2:$B$31,2,FALSE),tblSalaries[[#This Row],[clean Salary (in local currency)]],(tblSalaries[[#This Row],[PPP Adjusted  USD]]/VLOOKUP(Dashboard!$J$5,Sheet3!$B$2:$C$31,2,FALSE)))","v":22733.290727375257},"Cash Officer","Manager","India","4 to 6 hours a day","Data Not Avaliable"]
[null,"ID0372",480000,"INR",8547.8000099724322,{"$f":"(tblSalaries[[#This Row],[clean Salary (in local currency)]])*(VLOOKUP(tblSalaries[[#This Row],[Currency]],Sheet3!$A$2:$C$31,3,FALSE))*(VLOOKUP(tblSalaries[[#This Row],[Currency]],Sheet1!$N$4:$Q$186,4,FALSE))","v":22733.290727375257},{"$f":"IF(Dashboard!$J$5=VLOOKUP(tblSalaries[[#This Row],[Currency]],Sheet3!$A$2:$B$31,2,FALSE),tblSalaries[[#This Row],[clean Salary (in local currency)]],(tblSalaries[[#This Row],[PPP Adjusted  USD]]/VLOOKUP(Dashboard!$J$5,Sheet3!$B$2:$C$31,2,FALSE)))","v":22733.290727375257},"System Manager","Manager","India","1 or 2 hours a day","Data Not Avaliable"]
[null,"ID0651",480000,"INR",8547.8000099724322,{"$f":"(tblSalaries[[#This Row],[clean Salary (in local currency)]])*(VLOOKUP(tblSalaries[[#This Row],[Currency]],Sheet3!$A$2:$C$31,3,FALSE))*(VLOOKUP(tblSalaries[[#This Row],[Currency]],Sheet1!$N$4:$Q$186,4,FALSE))","v":22733.290727375257},{"$f":"IF(Dashboard!$J$5=VLOOKUP(tblSalaries[[#This Row],[Currency]],Sheet3!$A$2:$B$31,2,FALSE),tblSalaries[[#This Row],[clean Salary (in local currency)]],(tblSalaries[[#This Row],[PPP Adjusted  USD]]/VLOOKUP(Dashboard!$J$5,Sheet3!$B$2:$C$31,2,FALSE)))","v":22733.290727375257},"BI Consultant","Reporting","India","1 or 2 hours a day",3]
[null,"ID0666",480000,"INR",8547.8000099724322,{"$f":"(tblSalaries[[#This Row],[clean Salary (in local currency)]])*(VLOOKUP(tblSalaries[[#This Row],[Currency]],Sheet3!$A$2:$C$31,3,FALSE))*(VLOOKUP(tblSalaries[[#This Row],[Currency]],Sheet1!$N$4:$Q$186,4,FALSE))","v":22733.290727375257},{"$f":"IF(Dashboard!$J$5=VLOOKUP(tblSalaries[[#This Row],[Currency]],Sheet3!$A$2:$B$31,2,FALSE),tblSalaries[[#This Row],[clean Salary (in local currency)]],(tblSalaries[[#This Row],[PPP Adjusted  USD]]/VLOOKUP(Dashboard!$J$5,Sheet3!$B$2:$C$31,2,FALSE)))","v":22733.290727375257},"PMO","Manager","India","2 to 3 hours per day",8]
[null,"ID0709",480000,"INR",8547.8000099724322,{"$f":"(tblSalaries[[#This Row],[clean Salary (in local currency)]])*(VLOOKUP(tblSalaries[[#This Row],[Currency]],Sheet3!$A$2:$C$31,3,FALSE))*(VLOOKUP(tblSalaries[[#This Row],[Currency]],Sheet1!$N$4:$Q$186,4,FALSE))","v":22733.290727375257},{"$f":"IF(Dashboard!$J$5=VLOOKUP(tblSalaries[[#This Row],[Currency]],Sheet3!$A$2:$B$31,2,FALSE),tblSalaries[[#This Row],[clean Salary (in local currency)]],(tblSalaries[[#This Row],[PPP Adjusted  USD]]/VLOOKUP(Dashboard!$J$5,Sheet3!$B$2:$C$31,2,FALSE)))","v":22733.290727375257},"Business Analyst","Analyst","India","4 to 6 hours a day",4]
[null,"ID0730",480000,"INR",8547.8000099724322,{"$f":"(tblSalaries[[#This Row],[clean Salary (in local currency)]])*(VLOOKUP(tblSalaries[[#This Row],[Currency]],Sheet3!$A$2:$C$31,3,FALSE))*(VLOOKUP(tblSalaries[[#This Row],[Currency]],Sheet1!$N$4:$Q$186,4,FALSE))","v":22733.290727375257},{"$f":"IF(Dashboard!$J$5=VLOOKUP(tblSalaries[[#This Row],[Currency]],Sheet3!$A$2:$B$31,2,FALSE),tblSalaries[[#This Row],[clean Salary (in local currency)]],(tblSalaries[[#This Row],[PPP Adjusted  USD]]/VLOOKUP(Dashboard!$J$5,Sheet3!$B$2:$C$31,2,FALSE)))","v":22733.290727375257},"Asst Mngr","Analyst","India","2 to 3 hours per day",3.5]
[null,"ID0779",480000,"INR",8547.8000099724322,{"$f":"(tblSalaries[[#This Row],[clean Salary (in local currency)]])*(VLOOKUP(tblSalaries[[#This Row],[Currency]],Sheet3!$A$2:$C$31,3,FALSE))*(VLOOKUP(tblSalaries[[#This Row],[Currency]],Sheet1!$N$4:$Q$186,4,FALSE))","v":22733.290727375257},{"$f":"IF(Dashboard!$J$5=VLOOKUP(tblSalaries[[#This Row],[Currency]],Sheet3!$A$2:$B$31,2,FALSE),tblSalaries[[#This Row],[clean Salary (in local currency)]],(tblSalaries[[#This Row],[PPP Adjusted  USD]]/VLOOKUP(Dashboard!$J$5,Sheet3!$B$2:$C$31,2,FALSE)))","v":22733.290727375257},"Banker","Manager","India","4 to 6 hours a day",11]
[null,"ID0946",480000,"INR",8547.8000099724322,{"$f":"(tblSalaries[[#This Row],[clean Salary (in local currency)]])*(VLOOKUP(tblSalaries[[#This Row],[Currency]],Sheet3!$A$2:$C$31,3,FALSE))*(VLOOKUP(tblSalaries[[#This Row],[Currency]],Sheet1!$N$4:$Q$186,4,FALSE))","v":22733.290727375257},{"$f":"IF(Dashboard!$J$5=VLOOKUP(tblSalaries[[#This Row],[Currency]],Sheet3!$A$2:$B$31,2,FALSE),tblSalaries[[#This Row],[clean Salary (in local currency)]],(tblSalaries[[#This Row],[PPP Adjusted  USD]]/VLOOKUP(Dashboard!$J$5,Sheet3!$B$2:$C$31,2,FALSE)))","v":22733.290727375257},"Manager","Manager","India","2 to 3 hours per day",2]
[null,"ID1202",480000,"INR",8547.8000099724322,{"$f":"(tblSalaries[[#This Row],[clean Salary (in local currency)]])*(VLOOKUP(tblSalaries[[#This Row],[Currency]],Sheet3!$A$2:$C$31,3,FALSE))*(VLOOKUP(tblSalaries[[#This Row],[Currency]],Sheet1!$N$4:$Q$186,4,FALSE))","v":22733.290727375257},{"$f":"IF(Dashboard!$J$5=VLOOKUP(tblSalaries[[#This Row],[Currency]],Sheet3!$A$2:$B$31,2,FALSE),tblSalaries[[#This Row],[clean Salary (in local currency)]],(tblSalaries[[#This Row],[PPP Adjusted  USD]]/VLOOKUP(Dashboard!$J$5,Sheet3!$B$2:$C$31,2,FALSE)))","v":22733.290727375257},"Documentation Consultant","Consultant","India","All the 8 hours baby, all the 8!",15]
[null,"ID1450",480000,"INR",8547.8000099724322,{"$f":"(tblSalaries[[#This Row],[clean Salary (in local currency)]])*(VLOOKUP(tblSalaries[[#This Row],[Currency]],Sheet3!$A$2:$C$31,3,FALSE))*(VLOOKUP(tblSalaries[[#This Row],[Currency]],Sheet1!$N$4:$Q$186,4,FALSE))","v":22733.290727375257},{"$f":"IF(Dashboard!$J$5=VLOOKUP(tblSalaries[[#This Row],[Currency]],Sheet3!$A$2:$B$31,2,FALSE),tblSalaries[[#This Row],[clean Salary (in local currency)]],(tblSalaries[[#This Row],[PPP Adjusted  USD]]/VLOOKUP(Dashboard!$J$5,Sheet3!$B$2:$C$31,2,FALSE)))","v":22733.290727375257},"Performance Analyst","Analyst","India","4 to 6 hours a day",7]
[null,"ID1790",480000,"INR",8547.8000099724322,{"$f":"(tblSalaries[[#This Row],[clean Salary (in local currency)]])*(VLOOKUP(tblSalaries[[#This Row],[Currency]],Sheet3!$A$2:$C$31,3,FALSE))*(VLOOKUP(tblSalaries[[#This Row],[Currency]],Sheet1!$N$4:$Q$186,4,FALSE))","v":22733.290727375257},{"$f":"IF(Dashboard!$J$5=VLOOKUP(tblSalaries[[#This Row],[Currency]],Sheet3!$A$2:$B$31,2,FALSE),tblSalaries[[#This Row],[clean Salary (in local currency)]],(tblSalaries[[#This Row],[PPP Adjusted  USD]]/VLOOKUP(Dashboard!$J$5,Sheet3!$B$2:$C$31,2,FALSE)))","v":22733.290727375257},"Development Analyst","Analyst","India","4 to 6 hours a day",1]
[null,"ID0921",20500,"EUR",26043.18849932796,{"$f":"(tblSalaries[[#This Row],[clean Salary (in local currency)]])*(VLOOKUP(tblSalaries[[#This Row],[Currency]],Sheet3!$A$2:$C$31,3,FALSE))*(VLOOKUP(tblSalaries[[#This Row],[Currency]],Sheet1!$N$4:$Q$186,4,FALSE))","v":22563.384162591068},{"$f":"IF(Dashboard!$J$5=VLOOKUP(tblSalaries[[#This Row],[Currency]],Sheet3!$A$2:$B$31,2,FALSE),tblSalaries[[#This Row],[clean Salary (in local currency)]],(tblSalaries[[#This Row],[PPP Adjusted  USD]]/VLOOKUP(Dashboard!$J$5,Sheet3!$B$2:$C$31,2,FALSE)))","v":22563.384162591068},"C&B Manager","Manager","Poland","4 to 6 hours a day",8]
[null,"ID1044",476000,"INR",8476.5683432226633,{"$f":"(tblSalaries[[#This Row],[clean Salary (in local currency)]])*(VLOOKUP(tblSalaries[[#This Row],[Currency]],Sheet3!$A$2:$C$31,3,FALSE))*(VLOOKUP(tblSalaries[[#This Row],[Currency]],Sheet1!$N$4:$Q$186,4,FALSE))","v":22543.846637980467},{"$f":"IF(Dashboard!$J$5=VLOOKUP(tblSalaries[[#This Row],[Currency]],Sheet3!$A$2:$B$31,2,FALSE),tblSalaries[[#This Row],[clean Salary (in local currency)]],(tblSalaries[[#This Row],[PPP Adjusted  USD]]/VLOOKUP(Dashboard!$J$5,Sheet3!$B$2:$C$31,2,FALSE)))","v":22543.846637980467},"Report Specialist","Reporting","India","4 to 6 hours a day",8]
[null,"ID1580",120000,"MAD",13745.704467353951,{"$f":"(tblSalaries[[#This Row],[clean Salary (in local currency)]])*(VLOOKUP(tblSalaries[[#This Row],[Currency]],Sheet3!$A$2:$C$31,3,FALSE))*(VLOOKUP(tblSalaries[[#This Row],[Currency]],Sheet1!$N$4:$Q$186,4,FALSE))","v":22523.807935910536},{"$f":"IF(Dashboard!$J$5=VLOOKUP(tblSalaries[[#This Row],[Currency]],Sheet3!$A$2:$B$31,2,FALSE),tblSalaries[[#This Row],[clean Salary (in local currency)]],(tblSalaries[[#This Row],[PPP Adjusted  USD]]/VLOOKUP(Dashboard!$J$5,Sheet3!$B$2:$C$31,2,FALSE)))","v":22523.807935910536},"Supply chain Controller","Controller","Morocco","All the 8 hours baby, all the 8!",8]
[null,"ID0258",470000,"INR",8369.7208430980063,{"$f":"(tblSalaries[[#This Row],[clean Salary (in local currency)]])*(VLOOKUP(tblSalaries[[#This Row],[Currency]],Sheet3!$A$2:$C$31,3,FALSE))*(VLOOKUP(tblSalaries[[#This Row],[Currency]],Sheet1!$N$4:$Q$186,4,FALSE))","v":22259.68050388827},{"$f":"IF(Dashboard!$J$5=VLOOKUP(tblSalaries[[#This Row],[Currency]],Sheet3!$A$2:$B$31,2,FALSE),tblSalaries[[#This Row],[clean Salary (in local currency)]],(tblSalaries[[#This Row],[PPP Adjusted  USD]]/VLOOKUP(Dashboard!$J$5,Sheet3!$B$2:$C$31,2,FALSE)))","v":22259.68050388827},"Web Statistics Analyst","Analyst","India","All the 8 hours baby, all the 8!","Data Not Avaliable"]
[null,"ID0679",470000,"INR",8369.7208430980063,{"$f":"(tblSalaries[[#This Row],[clean Salary (in local currency)]])*(VLOOKUP(tblSalaries[[#This Row],[Currency]],Sheet3!$A$2:$C$31,3,FALSE))*(VLOOKUP(tblSalaries[[#This Row],[Currency]],Sheet1!$N$4:$Q$186,4,FALSE))","v":22259.68050388827},{"$f":"IF(Dashboard!$J$5=VLOOKUP(tblSalaries[[#This Row],[Currency]],Sheet3!$A$2:$B$31,2,FALSE),tblSalaries[[#This Row],[clean Salary (in local currency)]],(tblSalaries[[#This Row],[PPP Adjusted  USD]]/VLOOKUP(Dashboard!$J$5,Sheet3!$B$2:$C$31,2,FALSE)))","v":22259.68050388827},"Consultant","Consultant","India","All the 8 hours baby, all the 8!",4]
[null,"ID0865",134000,"ZAR",16337.518501630093,{"$f":"(tblSalaries[[#This Row],[clean Salary (in local currency)]])*(VLOOKUP(tblSalaries[[#This Row],[Currency]],Sheet3!$A$2:$C$31,3,FALSE))*(VLOOKUP(tblSalaries[[#This Row],[Currency]],Sheet1!$N$4:$Q$186,4,FALSE))","v":22225.165033508434},{"$f":"IF(Dashboard!$J$5=VLOOKUP(tblSalaries[[#This Row],[Currency]],Sheet3!$A$2:$B$31,2,FALSE),tblSalaries[[#This Row],[clean Salary (in local currency)]],(tblSalaries[[#This Row],[PPP Adjusted  USD]]/VLOOKUP(Dashboard!$J$5,Sheet3!$B$2:$C$31,2,FALSE)))","v":22225.165033508434},"Data Analyst","Analyst","South Africa","4 to 6 hours a day",2]
[null,"ID1133",15000,"GBP",23642.674081009263,{"$f":"(tblSalaries[[#This Row],[clean Salary (in local currency)]])*(VLOOKUP(tblSalaries[[#This Row],[Currency]],Sheet3!$A$2:$C$31,3,FALSE))*(VLOOKUP(tblSalaries[[#This Row],[Currency]],Sheet1!$N$4:$Q$186,4,FALSE))","v":22109.568074706414},{"$f":"IF(Dashboard!$J$5=VLOOKUP(tblSalaries[[#This Row],[Currency]],Sheet3!$A$2:$B$31,2,FALSE),tblSalaries[[#This Row],[clean Salary (in local currency)]],(tblSalaries[[#This Row],[PPP Adjusted  USD]]/VLOOKUP(Dashboard!$J$5,Sheet3!$B$2:$C$31,2,FALSE)))","v":22109.568074706414},"MI Specialist","Reporting","UK","All the 8 hours baby, all the 8!",2]
[null,"ID1208",20000,"EUR",25407.988779832154,{"$f":"(tblSalaries[[#This Row],[clean Salary (in local currency)]])*(VLOOKUP(tblSalaries[[#This Row],[Currency]],Sheet3!$A$2:$C$31,3,FALSE))*(VLOOKUP(tblSalaries[[#This Row],[Currency]],Sheet1!$N$4:$Q$186,4,FALSE))","v":22013.057719601042},{"$f":"IF(Dashboard!$J$5=VLOOKUP(tblSalaries[[#This Row],[Currency]],Sheet3!$A$2:$B$31,2,FALSE),tblSalaries[[#This Row],[clean Salary (in local currency)]],(tblSalaries[[#This Row],[PPP Adjusted  USD]]/VLOOKUP(Dashboard!$J$5,Sheet3!$B$2:$C$31,2,FALSE)))","v":22013.057719601042},"warehouse management","Manager","Greece","1 or 2 hours a day",12]
[null,"ID0288",22000,"USD",22000,{"$f":"(tblSalaries[[#This Row],[clean Salary (in local currency)]])*(VLOOKUP(tblSalaries[[#This Row],[Currency]],Sheet3!$A$2:$C$31,3,FALSE))*(VLOOKUP(tblSalaries[[#This Row],[Currency]],Sheet1!$N$4:$Q$186,4,FALSE))","v":22000},{"$f":"IF(Dashboard!$J$5=VLOOKUP(tblSalaries[[#This Row],[Currency]],Sheet3!$A$2:$B$31,2,FALSE),tblSalaries[[#This Row],[clean Salary (in local currency)]],(tblSalaries[[#This Row],[PPP Adjusted  USD]]/VLOOKUP(Dashboard!$J$5,Sheet3!$B$2:$C$31,2,FALSE)))","v":22000},"MIS","Reporting","India","All the 8 hours baby, all the 8!","Data Not Avaliable"]
[null,"ID0330",22000,"USD",22000,{"$f":"(tblSalaries[[#This Row],[clean Salary (in local currency)]])*(VLOOKUP(tblSalaries[[#This Row],[Currency]],Sheet3!$A$2:$C$31,3,FALSE))*(VLOOKUP(tblSalaries[[#This Row],[Currency]],Sheet1!$N$4:$Q$186,4,FALSE))","v":22000},{"$f":"IF(Dashboard!$J$5=VLOOKUP(tblSalaries[[#This Row],[Currency]],Sheet3!$A$2:$B$31,2,FALSE),tblSalaries[[#This Row],[clean Salary (in local currency)]],(tblSalaries[[#This Row],[PPP Adjusted  USD]]/VLOOKUP(Dashboard!$J$5,Sheet3!$B$2:$C$31,2,FALSE)))","v":22000},"Product Manager Sr","Manager","Mexico","4 to 6 hours a day","Data Not Avaliable"]
[null,"ID1526",22000,"USD",22000,{"$f":"(tblSalaries[[#This Row],[clean Salary (in local currency)]])*(VLOOKUP(tblSalaries[[#This Row],[Currency]],Sheet3!$A$2:$C$31,3,FALSE))*(VLOOKUP(tblSalaries[[#This Row],[Currency]],Sheet1!$N$4:$Q$186,4,FALSE))","v":22000},{"$f":"IF(Dashboard!$J$5=VLOOKUP(tblSalaries[[#This Row],[Currency]],Sheet3!$A$2:$B$31,2,FALSE),tblSalaries[[#This Row],[clean Salary (in local currency)]],(tblSalaries[[#This Row],[PPP Adjusted  USD]]/VLOOKUP(Dashboard!$J$5,Sheet3!$B$2:$C$31,2,FALSE)))","v":22000},"Data Manager","Manager","USA","4 to 6 hours a day",3]
[null,"ID1722",22000,"USD",22000,{"$f":"(tblSalaries[[#This Row],[clean Salary (in local currency)]])*(VLOOKUP(tblSalaries[[#This Row],[Currency]],Sheet3!$A$2:$C$31,3,FALSE))*(VLOOKUP(tblSalaries[[#This Row],[Currency]],Sheet1!$N$4:$Q$186,4,FALSE))","v":22000},{"$f":"IF(Dashboard!$J$5=VLOOKUP(tblSalaries[[#This Row],[Currency]],Sheet3!$A$2:$B$31,2,FALSE),tblSalaries[[#This Row],[clean Salary (in local currency)]],(tblSalaries[[#This Row],[PPP Adjusted  USD]]/VLOOKUP(Dashboard!$J$5,Sheet3!$B$2:$C$31,2,FALSE)))","v":22000},"Manager (MIS)","Manager","India","All the 8 hours baby, all the 8!",6]
[null,"ID0657",21500,"USD",21500,{"$f":"(tblSalaries[[#This Row],[clean Salary (in local currency)]])*(VLOOKUP(tblSalaries[[#This Row],[Currency]],Sheet3!$A$2:$C$31,3,FALSE))*(VLOOKUP(tblSalaries[[#This Row],[Currency]],Sheet1!$N$4:$Q$186,4,FALSE))","v":21500},{"$f":"IF(Dashboard!$J$5=VLOOKUP(tblSalaries[[#This Row],[Currency]],Sheet3!$A$2:$B$31,2,FALSE),tblSalaries[[#This Row],[clean Salary (in local currency)]],(tblSalaries[[#This Row],[PPP Adjusted  USD]]/VLOOKUP(Dashboard!$J$5,Sheet3!$B$2:$C$31,2,FALSE)))","v":21500},"Asst Mgr","Analyst","India","4 to 6 hours a day",9]
[null,"ID0294",450000,"INR",8013.5625093491553,{"$f":"(tblSalaries[[#This Row],[clean Salary (in local currency)]])*(VLOOKUP(tblSalaries[[#This Row],[Currency]],Sheet3!$A$2:$C$31,3,FALSE))*(VLOOKUP(tblSalaries[[#This Row],[Currency]],Sheet1!$N$4:$Q$186,4,FALSE))","v":21312.460056914304},{"$f":"IF(Dashboard!$J$5=VLOOKUP(tblSalaries[[#This Row],[Currency]],Sheet3!$A$2:$B$31,2,FALSE),tblSalaries[[#This Row],[clean Salary (in local currency)]],(tblSalaries[[#This Row],[PPP Adjusted  USD]]/VLOOKUP(Dashboard!$J$5,Sheet3!$B$2:$C$31,2,FALSE)))","v":21312.460056914304},"Business Analyst","Analyst","India","4 to 6 hours a day","Data Not Avaliable"]
[null,"ID0544",450000,"INR",8013.5625093491553,{"$f":"(tblSalaries[[#This Row],[clean Salary (in local currency)]])*(VLOOKUP(tblSalaries[[#This Row],[Currency]],Sheet3!$A$2:$C$31,3,FALSE))*(VLOOKUP(tblSalaries[[#This Row],[Currency]],Sheet1!$N$4:$Q$186,4,FALSE))","v":21312.460056914304},{"$f":"IF(Dashboard!$J$5=VLOOKUP(tblSalaries[[#This Row],[Currency]],Sheet3!$A$2:$B$31,2,FALSE),tblSalaries[[#This Row],[clean Salary (in local currency)]],(tblSalaries[[#This Row],[PPP Adjusted  USD]]/VLOOKUP(Dashboard!$J$5,Sheet3!$B$2:$C$31,2,FALSE)))","v":21312.460056914304},"deputy manager","Manager","India","All the 8 hours baby, all the 8!","Data Not Avaliable"]
[null,"ID0710",450000,"INR",8013.5625093491553,{"$f":"(tblSalaries[[#This Row],[clean Salary (in local currency)]])*(VLOOKUP(tblSalaries[[#This Row],[Currency]],Sheet3!$A$2:$C$31,3,FALSE))*(VLOOKUP(tblSalaries[[#This Row],[Currency]],Sheet1!$N$4:$Q$186,4,FALSE))","v":21312.460056914304},{"$f":"IF(Dashboard!$J$5=VLOOKUP(tblSalaries[[#This Row],[Currency]],Sheet3!$A$2:$B$31,2,FALSE),tblSalaries[[#This Row],[clean Salary (in local currency)]],(tblSalaries[[#This Row],[PPP Adjusted  USD]]/VLOOKUP(Dashboard!$J$5,Sheet3!$B$2:$C$31,2,FALSE)))","v":21312.460056914304},"Data Analyst","Analyst","India","All the 8 hours baby, all the 8!",8]
[null,"ID0792",450000,"INR",8013.5625093491553,{"$f":"(tblSalaries[[#This Row],[clean Salary (in local currency)]])*(VLOOKUP(tblSalaries[[#This Row],[Currency]],Sheet3!$A$2:$C$31,3,FALSE))*(VLOOKUP(tblSalaries[[#This Row],[Currency]],Sheet1!$N$4:$Q$186,4,FALSE))","v":21312.460056914304},{"$f":"IF(Dashboard!$J$5=VLOOKUP(tblSalaries[[#This Row],[Currency]],Sheet3!$A$2:$B$31,2,FALSE),tblSalaries[[#This Row],[clean Salary (in local currency)]],(tblSalaries[[#This Row],[PPP Adjusted  USD]]/VLOOKUP(Dashboard!$J$5,Sheet3!$B$2:$C$31,2,FALSE)))","v":21312.460056914304},"Material Planner","Manager","India","All the 8 hours baby, all the 8!",1.5]
[null,"ID0807",450000,"INR",8013.5625093491553,{"$f":"(tblSalaries[[#This Row],[clean Salary (in local currency)]])*(VLOOKUP(tblSalaries[[#This Row],[Currency]],Sheet3!$A$2:$C$31,3,FALSE))*(VLOOKUP(tblSalaries[[#This Row],[Currency]],Sheet1!$N$4:$Q$186,4,FALSE))","v":21312.460056914304},{"$f":"IF(Dashboard!$J$5=VLOOKUP(tblSalaries[[#This Row],[Currency]],Sheet3!$A$2:$B$31,2,FALSE),tblSalaries[[#This Row],[clean Salary (in local currency)]],(tblSalaries[[#This Row],[PPP Adjusted  USD]]/VLOOKUP(Dashboard!$J$5,Sheet3!$B$2:$C$31,2,FALSE)))","v":21312.460056914304},"Sr. Executive","Manager","India","4 to 6 hours a day",6]
[null,"ID1023",450000,"INR",8013.5625093491553,{"$f":"(tblSalaries[[#This Row],[clean Salary (in local currency)]])*(VLOOKUP(tblSalaries[[#This Row],[Currency]],Sheet3!$A$2:$C$31,3,FALSE))*(VLOOKUP(tblSalaries[[#This Row],[Currency]],Sheet1!$N$4:$Q$186,4,FALSE))","v":21312.460056914304},{"$f":"IF(Dashboard!$J$5=VLOOKUP(tblSalaries[[#This Row],[Currency]],Sheet3!$A$2:$B$31,2,FALSE),tblSalaries[[#This Row],[clean Salary (in local currency)]],(tblSalaries[[#This Row],[PPP Adjusted  USD]]/VLOOKUP(Dashboard!$J$5,Sheet3!$B$2:$C$31,2,FALSE)))","v":21312.460056914304},"Asst. Manager","Manager","India","All the 8 hours baby, all the 8!",15]
[null,"ID1179",450000,"INR",8013.5625093491553,{"$f":"(tblSalaries[[#This Row],[clean Salary (in local currency)]])*(VLOOKUP(tblSalaries[[#This Row],[Currency]],Sheet3!$A$2:$C$31,3,FALSE))*(VLOOKUP(tblSalaries[[#This Row],[Currency]],Sheet1!$N$4:$Q$186,4,FALSE))","v":21312.460056914304},{"$f":"IF(Dashboard!$J$5=VLOOKUP(tblSalaries[[#This Row],[Currency]],Sheet3!$A$2:$B$31,2,FALSE),tblSalaries[[#This Row],[clean Salary (in local currency)]],(tblSalaries[[#This Row],[PPP Adjusted  USD]]/VLOOKUP(Dashboard!$J$5,Sheet3!$B$2:$C$31,2,FALSE)))","v":21312.460056914304},"Production Manager","Manager","India","4 to 6 hours a day",21]
[null,"ID1223",450000,"INR",8013.5625093491553,{"$f":"(tblSalaries[[#This Row],[clean Salary (in local currency)]])*(VLOOKUP(tblSalaries[[#This Row],[Currency]],Sheet3!$A$2:$C$31,3,FALSE))*(VLOOKUP(tblSalaries[[#This Row],[Currency]],Sheet1!$N$4:$Q$186,4,FALSE))","v":21312.460056914304},{"$f":"IF(Dashboard!$J$5=VLOOKUP(tblSalaries[[#This Row],[Currency]],Sheet3!$A$2:$B$31,2,FALSE),tblSalaries[[#This Row],[clean Salary (in local currency)]],(tblSalaries[[#This Row],[PPP Adjusted  USD]]/VLOOKUP(Dashboard!$J$5,Sheet3!$B$2:$C$31,2,FALSE)))","v":21312.460056914304},"ASSISTANT MANAGER","Manager","India","All the 8 hours baby, all the 8!",2]
[null,"ID1363",450000,"INR",8013.5625093491553,{"$f":"(tblSalaries[[#This Row],[clean Salary (in local currency)]])*(VLOOKUP(tblSalaries[[#This Row],[Currency]],Sheet3!$A$2:$C$31,3,FALSE))*(VLOOKUP(tblSalaries[[#This Row],[Currency]],Sheet1!$N$4:$Q$186,4,FALSE))","v":21312.460056914304},{"$f":"IF(Dashboard!$J$5=VLOOKUP(tblSalaries[[#This Row],[Currency]],Sheet3!$A$2:$B$31,2,FALSE),tblSalaries[[#This Row],[clean Salary (in local currency)]],(tblSalaries[[#This Row],[PPP Adjusted  USD]]/VLOOKUP(Dashboard!$J$5,Sheet3!$B$2:$C$31,2,FALSE)))","v":21312.460056914304},"Mechanical Design engineer","Engineer","India","1 or 2 hours a day",7]
[null,"ID1686",450000,"INR",8013.5625093491553,{"$f":"(tblSalaries[[#This Row],[clean Salary (in local currency)]])*(VLOOKUP(tblSalaries[[#This Row],[Currency]],Sheet3!$A$2:$C$31,3,FALSE))*(VLOOKUP(tblSalaries[[#This Row],[Currency]],Sheet1!$N$4:$Q$186,4,FALSE))","v":21312.460056914304},{"$f":"IF(Dashboard!$J$5=VLOOKUP(tblSalaries[[#This Row],[Currency]],Sheet3!$A$2:$B$31,2,FALSE),tblSalaries[[#This Row],[clean Salary (in local currency)]],(tblSalaries[[#This Row],[PPP Adjusted  USD]]/VLOOKUP(Dashboard!$J$5,Sheet3!$B$2:$C$31,2,FALSE)))","v":21312.460056914304},"Sr Executive - MIS","Reporting","India","All the 8 hours baby, all the 8!",4]
[null,"ID1820",450000,"INR",8013.5625093491553,{"$f":"(tblSalaries[[#This Row],[clean Salary (in local currency)]])*(VLOOKUP(tblSalaries[[#This Row],[Currency]],Sheet3!$A$2:$C$31,3,FALSE))*(VLOOKUP(tblSalaries[[#This Row],[Currency]],Sheet1!$N$4:$Q$186,4,FALSE))","v":21312.460056914304},{"$f":"IF(Dashboard!$J$5=VLOOKUP(tblSalaries[[#This Row],[Currency]],Sheet3!$A$2:$B$31,2,FALSE),tblSalaries[[#This Row],[clean Salary (in local currency)]],(tblSalaries[[#This Row],[PPP Adjusted  USD]]/VLOOKUP(Dashboard!$J$5,Sheet3!$B$2:$C$31,2,FALSE)))","v":21312.460056914304},"MIS Executive","Reporting","India","4 to 6 hours a day",4]
[null,"ID1829",19200,"EUR",24391.669228638868,{"$f":"(tblSalaries[[#This Row],[clean Salary (in local currency)]])*(VLOOKUP(tblSalaries[[#This Row],[Currency]],Sheet3!$A$2:$C$31,3,FALSE))*(VLOOKUP(tblSalaries[[#This Row],[Currency]],Sheet1!$N$4:$Q$186,4,FALSE))","v":21132.535410817},{"$f":"IF(Dashboard!$J$5=VLOOKUP(tblSalaries[[#This Row],[Currency]],Sheet3!$A$2:$B$31,2,FALSE),tblSalaries[[#This Row],[clean Salary (in local currency)]],(tblSalaries[[#This Row],[PPP Adjusted  USD]]/VLOOKUP(Dashboard!$J$5,Sheet3!$B$2:$C$31,2,FALSE)))","v":21132.535410817},"bank clerk","Analyst","italy","4 to 6 hours a day",10]
[null,"ID0103",21000,"USD",21000,{"$f":"(tblSalaries[[#This Row],[clean Salary (in local currency)]])*(VLOOKUP(tblSalaries[[#This Row],[Currency]],Sheet3!$A$2:$C$31,3,FALSE))*(VLOOKUP(tblSalaries[[#This Row],[Currency]],Sheet1!$N$4:$Q$186,4,FALSE))","v":21000},{"$f":"IF(Dashboard!$J$5=VLOOKUP(tblSalaries[[#This Row],[Currency]],Sheet3!$A$2:$B$31,2,FALSE),tblSalaries[[#This Row],[clean Salary (in local currency)]],(tblSalaries[[#This Row],[PPP Adjusted  USD]]/VLOOKUP(Dashboard!$J$5,Sheet3!$B$2:$C$31,2,FALSE)))","v":21000},"IT support","Analyst","arabian Gulf","1 or 2 hours a day","Data Not Avaliable"]
[null,"ID0619",21000,"USD",21000,{"$f":"(tblSalaries[[#This Row],[clean Salary (in local currency)]])*(VLOOKUP(tblSalaries[[#This Row],[Currency]],Sheet3!$A$2:$C$31,3,FALSE))*(VLOOKUP(tblSalaries[[#This Row],[Currency]],Sheet1!$N$4:$Q$186,4,FALSE))","v":21000},{"$f":"IF(Dashboard!$J$5=VLOOKUP(tblSalaries[[#This Row],[Currency]],Sheet3!$A$2:$B$31,2,FALSE),tblSalaries[[#This Row],[clean Salary (in local currency)]],(tblSalaries[[#This Row],[PPP Adjusted  USD]]/VLOOKUP(Dashboard!$J$5,Sheet3!$B$2:$C$31,2,FALSE)))","v":21000},"Manager","Manager","India","All the 8 hours baby, all the 8!",23]
[null,"ID1929",21000,"USD",21000,{"$f":"(tblSalaries[[#This Row],[clean Salary (in local currency)]])*(VLOOKUP(tblSalaries[[#This Row],[Currency]],Sheet3!$A$2:$C$31,3,FALSE))*(VLOOKUP(tblSalaries[[#This Row],[Currency]],Sheet1!$N$4:$Q$186,4,FALSE))","v":21000},{"$f":"IF(Dashboard!$J$5=VLOOKUP(tblSalaries[[#This Row],[Currency]],Sheet3!$A$2:$B$31,2,FALSE),tblSalaries[[#This Row],[clean Salary (in local currency)]],(tblSalaries[[#This Row],[PPP Adjusted  USD]]/VLOOKUP(Dashboard!$J$5,Sheet3!$B$2:$C$31,2,FALSE)))","v":21000},"eorl","Misc.","India","All the 8 hours baby, all the 8!",5]
[null,"ID1075",438000,"INR",7799.8675090998449,{"$f":"(tblSalaries[[#This Row],[clean Salary (in local currency)]])*(VLOOKUP(tblSalaries[[#This Row],[Currency]],Sheet3!$A$2:$C$31,3,FALSE))*(VLOOKUP(tblSalaries[[#This Row],[Currency]],Sheet1!$N$4:$Q$186,4,FALSE))","v":20744.127788729922},{"$f":"IF(Dashboard!$J$5=VLOOKUP(tblSalaries[[#This Row],[Currency]],Sheet3!$A$2:$B$31,2,FALSE),tblSalaries[[#This Row],[clean Salary (in local currency)]],(tblSalaries[[#This Row],[PPP Adjusted  USD]]/VLOOKUP(Dashboard!$J$5,Sheet3!$B$2:$C$31,2,FALSE)))","v":20744.127788729922},"Assistant Professor","Analyst","India","1 or 2 hours a day",10]
[null,"ID1846",20640,"USD",20640,{"$f":"(tblSalaries[[#This Row],[clean Salary (in local currency)]])*(VLOOKUP(tblSalaries[[#This Row],[Currency]],Sheet3!$A$2:$C$31,3,FALSE))*(VLOOKUP(tblSalaries[[#This Row],[Currency]],Sheet1!$N$4:$Q$186,4,FALSE))","v":20640},{"$f":"IF(Dashboard!$J$5=VLOOKUP(tblSalaries[[#This Row],[Currency]],Sheet3!$A$2:$B$31,2,FALSE),tblSalaries[[#This Row],[clean Salary (in local currency)]],(tblSalaries[[#This Row],[PPP Adjusted  USD]]/VLOOKUP(Dashboard!$J$5,Sheet3!$B$2:$C$31,2,FALSE)))","v":20640},"Programme Officer","Manager","Singapore","4 to 6 hours a day",3]
[null,"ID0938",20571,"USD",20571,{"$f":"(tblSalaries[[#This Row],[clean Salary (in local currency)]])*(VLOOKUP(tblSalaries[[#This Row],[Currency]],Sheet3!$A$2:$C$31,3,FALSE))*(VLOOKUP(tblSalaries[[#This Row],[Currency]],Sheet1!$N$4:$Q$186,4,FALSE))","v":20571},{"$f":"IF(Dashboard!$J$5=VLOOKUP(tblSalaries[[#This Row],[Currency]],Sheet3!$A$2:$B$31,2,FALSE),tblSalaries[[#This Row],[clean Salary (in local currency)]],(tblSalaries[[#This Row],[PPP Adjusted  USD]]/VLOOKUP(Dashboard!$J$5,Sheet3!$B$2:$C$31,2,FALSE)))","v":20571},"CFO","CXO or Top Mgmt.","Albania","4 to 6 hours a day",8]
[null,"ID0652",432000,"INR",7693.0200089751897,{"$f":"(tblSalaries[[#This Row],[clean Salary (in local currency)]])*(VLOOKUP(tblSalaries[[#This Row],[Currency]],Sheet3!$A$2:$C$31,3,FALSE))*(VLOOKUP(tblSalaries[[#This Row],[Currency]],Sheet1!$N$4:$Q$186,4,FALSE))","v":20459.961654637733},{"$f":"IF(Dashboard!$J$5=VLOOKUP(tblSalaries[[#This Row],[Currency]],Sheet3!$A$2:$B$31,2,FALSE),tblSalaries[[#This Row],[clean Salary (in local currency)]],(tblSalaries[[#This Row],[PPP Adjusted  USD]]/VLOOKUP(Dashboard!$J$5,Sheet3!$B$2:$C$31,2,FALSE)))","v":20459.961654637733},"Assistant Manager - IT","Manager","India","2 to 3 hours per day",5]
[null,"ID1471",20400,"USD",20400,{"$f":"(tblSalaries[[#This Row],[clean Salary (in local currency)]])*(VLOOKUP(tblSalaries[[#This Row],[Currency]],Sheet3!$A$2:$C$31,3,FALSE))*(VLOOKUP(tblSalaries[[#This Row],[Currency]],Sheet1!$N$4:$Q$186,4,FALSE))","v":20400},{"$f":"IF(Dashboard!$J$5=VLOOKUP(tblSalaries[[#This Row],[Currency]],Sheet3!$A$2:$B$31,2,FALSE),tblSalaries[[#This Row],[clean Salary (in local currency)]],(tblSalaries[[#This Row],[PPP Adjusted  USD]]/VLOOKUP(Dashboard!$J$5,Sheet3!$B$2:$C$31,2,FALSE)))","v":20400},"M & E Officer","Manager","Myanmar","1 or 2 hours a day",10]
[null,"ID0920",104000,"AED",28310.79811950968,{"$f":"(tblSalaries[[#This Row],[clean Salary (in local currency)]])*(VLOOKUP(tblSalaries[[#This Row],[Currency]],Sheet3!$A$2:$C$31,3,FALSE))*(VLOOKUP(tblSalaries[[#This Row],[Currency]],Sheet1!$N$4:$Q$186,4,FALSE))","v":20346.597738860022},{"$f":"IF(Dashboard!$J$5=VLOOKUP(tblSalaries[[#This Row],[Currency]],Sheet3!$A$2:$B$31,2,FALSE),tblSalaries[[#This Row],[clean Salary (in local currency)]],(tblSalaries[[#This Row],[PPP Adjusted  USD]]/VLOOKUP(Dashboard!$J$5,Sheet3!$B$2:$C$31,2,FALSE)))","v":20346.597738860022},"Financial Analyst","Analyst","UAE","4 to 6 hours a day",11]
[null,"ID1837",425000,"INR",7568.3645921630914,{"$f":"(tblSalaries[[#This Row],[clean Salary (in local currency)]])*(VLOOKUP(tblSalaries[[#This Row],[Currency]],Sheet3!$A$2:$C$31,3,FALSE))*(VLOOKUP(tblSalaries[[#This Row],[Currency]],Sheet1!$N$4:$Q$186,4,FALSE))","v":20128.434498196842},{"$f":"IF(Dashboard!$J$5=VLOOKUP(tblSalaries[[#This Row],[Currency]],Sheet3!$A$2:$B$31,2,FALSE),tblSalaries[[#This Row],[clean Salary (in local currency)]],(tblSalaries[[#This Row],[PPP Adjusted  USD]]/VLOOKUP(Dashboard!$J$5,Sheet3!$B$2:$C$31,2,FALSE)))","v":20128.434498196842},"accountant","Accountant","India","2 to 3 hours per day",6]
[null,"ID0250",20000,"USD",20000,{"$f":"(tblSalaries[[#This Row],[clean Salary (in local currency)]])*(VLOOKUP(tblSalaries[[#This Row],[Currency]],Sheet3!$A$2:$C$31,3,FALSE))*(VLOOKUP(tblSalaries[[#This Row],[Currency]],Sheet1!$N$4:$Q$186,4,FALSE))","v":20000},{"$f":"IF(Dashboard!$J$5=VLOOKUP(tblSalaries[[#This Row],[Currency]],Sheet3!$A$2:$B$31,2,FALSE),tblSalaries[[#This Row],[clean Salary (in local currency)]],(tblSalaries[[#This Row],[PPP Adjusted  USD]]/VLOOKUP(Dashboard!$J$5,Sheet3!$B$2:$C$31,2,FALSE)))","v":20000},"category manager","Manager","India","4 to 6 hours a day","Data Not Avaliable"]
[null,"ID0279",20000,"USD",20000,{"$f":"(tblSalaries[[#This Row],[clean Salary (in local currency)]])*(VLOOKUP(tblSalaries[[#This Row],[Currency]],Sheet3!$A$2:$C$31,3,FALSE))*(VLOOKUP(tblSalaries[[#This Row],[Currency]],Sheet1!$N$4:$Q$186,4,FALSE))","v":20000},{"$f":"IF(Dashboard!$J$5=VLOOKUP(tblSalaries[[#This Row],[Currency]],Sheet3!$A$2:$B$31,2,FALSE),tblSalaries[[#This Row],[clean Salary (in local currency)]],(tblSalaries[[#This Row],[PPP Adjusted  USD]]/VLOOKUP(Dashboard!$J$5,Sheet3!$B$2:$C$31,2,FALSE)))","v":20000},"Analyst","Analyst","India","All the 8 hours baby, all the 8!","Data Not Avaliable"]
[null,"ID0474",20000,"USD",20000,{"$f":"(tblSalaries[[#This Row],[clean Salary (in local currency)]])*(VLOOKUP(tblSalaries[[#This Row],[Currency]],Sheet3!$A$2:$C$31,3,FALSE))*(VLOOKUP(tblSalaries[[#This Row],[Currency]],Sheet1!$N$4:$Q$186,4,FALSE))","v":20000},{"$f":"IF(Dashboard!$J$5=VLOOKUP(tblSalaries[[#This Row],[Currency]],Sheet3!$A$2:$B$31,2,FALSE),tblSalaries[[#This Row],[clean Salary (in local currency)]],(tblSalaries[[#This Row],[PPP Adjusted  USD]]/VLOOKUP(Dashboard!$J$5,Sheet3!$B$2:$C$31,2,FALSE)))","v":20000},"Specialist","Specialist","India","4 to 6 hours a day","Data Not Avaliable"]
[null,"ID0491",20000,"USD",20000,{"$f":"(tblSalaries[[#This Row],[clean Salary (in local currency)]])*(VLOOKUP(tblSalaries[[#This Row],[Currency]],Sheet3!$A$2:$C$31,3,FALSE))*(VLOOKUP(tblSalaries[[#This Row],[Currency]],Sheet1!$N$4:$Q$186,4,FALSE))","v":20000},{"$f":"IF(Dashboard!$J$5=VLOOKUP(tblSalaries[[#This Row],[Currency]],Sheet3!$A$2:$B$31,2,FALSE),tblSalaries[[#This Row],[clean Salary (in local currency)]],(tblSalaries[[#This Row],[PPP Adjusted  USD]]/VLOOKUP(Dashboard!$J$5,Sheet3!$B$2:$C$31,2,FALSE)))","v":20000},"Consultant","Consultant","India","2 to 3 hours per day","Data Not Avaliable"]
[null,"ID0753",20000,"USD",20000,{"$f":"(tblSalaries[[#This Row],[clean Salary (in local currency)]])*(VLOOKUP(tblSalaries[[#This Row],[Currency]],Sheet3!$A$2:$C$31,3,FALSE))*(VLOOKUP(tblSalaries[[#This Row],[Currency]],Sheet1!$N$4:$Q$186,4,FALSE))","v":20000},{"$f":"IF(Dashboard!$J$5=VLOOKUP(tblSalaries[[#This Row],[Currency]],Sheet3!$A$2:$B$31,2,FALSE),tblSalaries[[#This Row],[clean Salary (in local currency)]],(tblSalaries[[#This Row],[PPP Adjusted  USD]]/VLOOKUP(Dashboard!$J$5,Sheet3!$B$2:$C$31,2,FALSE)))","v":20000},"engineer","Engineer","India","1 or 2 hours a day",7]
[null,"ID0763",20000,"USD",20000,{"$f":"(tblSalaries[[#This Row],[clean Salary (in local currency)]])*(VLOOKUP(tblSalaries[[#This Row],[Currency]],Sheet3!$A$2:$C$31,3,FALSE))*(VLOOKUP(tblSalaries[[#This Row],[Currency]],Sheet1!$N$4:$Q$186,4,FALSE))","v":20000},{"$f":"IF(Dashboard!$J$5=VLOOKUP(tblSalaries[[#This Row],[Currency]],Sheet3!$A$2:$B$31,2,FALSE),tblSalaries[[#This Row],[clean Salary (in local currency)]],(tblSalaries[[#This Row],[PPP Adjusted  USD]]/VLOOKUP(Dashboard!$J$5,Sheet3!$B$2:$C$31,2,FALSE)))","v":20000},"Consultat","Consultant","Denmark","2 to 3 hours per day",15]
[null,"ID0950",20000,"USD",20000,{"$f":"(tblSalaries[[#This Row],[clean Salary (in local currency)]])*(VLOOKUP(tblSalaries[[#This Row],[Currency]],Sheet3!$A$2:$C$31,3,FALSE))*(VLOOKUP(tblSalaries[[#This Row],[Currency]],Sheet1!$N$4:$Q$186,4,FALSE))","v":20000},{"$f":"IF(Dashboard!$J$5=VLOOKUP(tblSalaries[[#This Row],[Currency]],Sheet3!$A$2:$B$31,2,FALSE),tblSalaries[[#This Row],[clean Salary (in local currency)]],(tblSalaries[[#This Row],[PPP Adjusted  USD]]/VLOOKUP(Dashboard!$J$5,Sheet3!$B$2:$C$31,2,FALSE)))","v":20000},"Financial Modeller","Accountant","Zambia","All the 8 hours baby, all the 8!",2]
[null,"ID0975",20000,"USD",20000,{"$f":"(tblSalaries[[#This Row],[clean Salary (in local currency)]])*(VLOOKUP(tblSalaries[[#This Row],[Currency]],Sheet3!$A$2:$C$31,3,FALSE))*(VLOOKUP(tblSalaries[[#This Row],[Currency]],Sheet1!$N$4:$Q$186,4,FALSE))","v":20000},{"$f":"IF(Dashboard!$J$5=VLOOKUP(tblSalaries[[#This Row],[Currency]],Sheet3!$A$2:$B$31,2,FALSE),tblSalaries[[#This Row],[clean Salary (in local currency)]],(tblSalaries[[#This Row],[PPP Adjusted  USD]]/VLOOKUP(Dashboard!$J$5,Sheet3!$B$2:$C$31,2,FALSE)))","v":20000},"data analyst","Analyst","Australia","2 to 3 hours per day",2]
[null,"ID1019",20000,"USD",20000,{"$f":"(tblSalaries[[#This Row],[clean Salary (in local currency)]])*(VLOOKUP(tblSalaries[[#This Row],[Currency]],Sheet3!$A$2:$C$31,3,FALSE))*(VLOOKUP(tblSalaries[[#This Row],[Currency]],Sheet1!$N$4:$Q$186,4,FALSE))","v":20000},{"$f":"IF(Dashboard!$J$5=VLOOKUP(tblSalaries[[#This Row],[Currency]],Sheet3!$A$2:$B$31,2,FALSE),tblSalaries[[#This Row],[clean Salary (in local currency)]],(tblSalaries[[#This Row],[PPP Adjusted  USD]]/VLOOKUP(Dashboard!$J$5,Sheet3!$B$2:$C$31,2,FALSE)))","v":20000},"Head of Financial Reporting","Reporting","Paraguay","All the 8 hours baby, all the 8!",6]
[null,"ID1399",20000,"USD",20000,{"$f":"(tblSalaries[[#This Row],[clean Salary (in local currency)]])*(VLOOKUP(tblSalaries[[#This Row],[Currency]],Sheet3!$A$2:$C$31,3,FALSE))*(VLOOKUP(tblSalaries[[#This Row],[Currency]],Sheet1!$N$4:$Q$186,4,FALSE))","v":20000},{"$f":"IF(Dashboard!$J$5=VLOOKUP(tblSalaries[[#This Row],[Currency]],Sheet3!$A$2:$B$31,2,FALSE),tblSalaries[[#This Row],[clean Salary (in local currency)]],(tblSalaries[[#This Row],[PPP Adjusted  USD]]/VLOOKUP(Dashboard!$J$5,Sheet3!$B$2:$C$31,2,FALSE)))","v":20000},"Business Operation Specialist","Specialist","India","4 to 6 hours a day",6]
[null,"ID1455",20000,"USD",20000,{"$f":"(tblSalaries[[#This Row],[clean Salary (in local currency)]])*(VLOOKUP(tblSalaries[[#This Row],[Currency]],Sheet3!$A$2:$C$31,3,FALSE))*(VLOOKUP(tblSalaries[[#This Row],[Currency]],Sheet1!$N$4:$Q$186,4,FALSE))","v":20000},{"$f":"IF(Dashboard!$J$5=VLOOKUP(tblSalaries[[#This Row],[Currency]],Sheet3!$A$2:$B$31,2,FALSE),tblSalaries[[#This Row],[clean Salary (in local currency)]],(tblSalaries[[#This Row],[PPP Adjusted  USD]]/VLOOKUP(Dashboard!$J$5,Sheet3!$B$2:$C$31,2,FALSE)))","v":20000},"manager","Manager","India","Excel ?!? What Excel?",10]
[null,"ID1606",20000,"USD",20000,{"$f":"(tblSalaries[[#This Row],[clean Salary (in local currency)]])*(VLOOKUP(tblSalaries[[#This Row],[Currency]],Sheet3!$A$2:$C$31,3,FALSE))*(VLOOKUP(tblSalaries[[#This Row],[Currency]],Sheet1!$N$4:$Q$186,4,FALSE))","v":20000},{"$f":"IF(Dashboard!$J$5=VLOOKUP(tblSalaries[[#This Row],[Currency]],Sheet3!$A$2:$B$31,2,FALSE),tblSalaries[[#This Row],[clean Salary (in local currency)]],(tblSalaries[[#This Row],[PPP Adjusted  USD]]/VLOOKUP(Dashboard!$J$5,Sheet3!$B$2:$C$31,2,FALSE)))","v":20000},"Manager","Manager","India","4 to 6 hours a day",1]
[null,"ID1823",20000,"USD",20000,{"$f":"(tblSalaries[[#This Row],[clean Salary (in local currency)]])*(VLOOKUP(tblSalaries[[#This Row],[Currency]],Sheet3!$A$2:$C$31,3,FALSE))*(VLOOKUP(tblSalaries[[#This Row],[Currency]],Sheet1!$N$4:$Q$186,4,FALSE))","v":20000},{"$f":"IF(Dashboard!$J$5=VLOOKUP(tblSalaries[[#This Row],[Currency]],Sheet3!$A$2:$B$31,2,FALSE),tblSalaries[[#This Row],[clean Salary (in local currency)]],(tblSalaries[[#This Row],[PPP Adjusted  USD]]/VLOOKUP(Dashboard!$J$5,Sheet3!$B$2:$C$31,2,FALSE)))","v":20000},"administrator","Analyst","Canada","2 to 3 hours per day",2]
[null,"ID1831",20000,"USD",20000,{"$f":"(tblSalaries[[#This Row],[clean Salary (in local currency)]])*(VLOOKUP(tblSalaries[[#This Row],[Currency]],Sheet3!$A$2:$C$31,3,FALSE))*(VLOOKUP(tblSalaries[[#This Row],[Currency]],Sheet1!$N$4:$Q$186,4,FALSE))","v":20000},{"$f":"IF(Dashboard!$J$5=VLOOKUP(tblSalaries[[#This Row],[Currency]],Sheet3!$A$2:$B$31,2,FALSE),tblSalaries[[#This Row],[clean Salary (in local currency)]],(tblSalaries[[#This Row],[PPP Adjusted  USD]]/VLOOKUP(Dashboard!$J$5,Sheet3!$B$2:$C$31,2,FALSE)))","v":20000},"Personal Assistant","Analyst","Hong Kong","1 or 2 hours a day",1]
[null,"ID1918",20000,"USD",20000,{"$f":"(tblSalaries[[#This Row],[clean Salary (in local currency)]])*(VLOOKUP(tblSalaries[[#This Row],[Currency]],Sheet3!$A$2:$C$31,3,FALSE))*(VLOOKUP(tblSalaries[[#This Row],[Currency]],Sheet1!$N$4:$Q$186,4,FALSE))","v":20000},{"$f":"IF(Dashboard!$J$5=VLOOKUP(tblSalaries[[#This Row],[Currency]],Sheet3!$A$2:$B$31,2,FALSE),tblSalaries[[#This Row],[clean Salary (in local currency)]],(tblSalaries[[#This Row],[PPP Adjusted  USD]]/VLOOKUP(Dashboard!$J$5,Sheet3!$B$2:$C$31,2,FALSE)))","v":20000},"Monitoring and Evaluation Officer","Manager","India","2 to 3 hours per day",5]
[null,"ID1734",421000,"INR",7497.1329254133216,{"$f":"(tblSalaries[[#This Row],[clean Salary (in local currency)]])*(VLOOKUP(tblSalaries[[#This Row],[Currency]],Sheet3!$A$2:$C$31,3,FALSE))*(VLOOKUP(tblSalaries[[#This Row],[Currency]],Sheet1!$N$4:$Q$186,4,FALSE))","v":19938.990408802052},{"$f":"IF(Dashboard!$J$5=VLOOKUP(tblSalaries[[#This Row],[Currency]],Sheet3!$A$2:$B$31,2,FALSE),tblSalaries[[#This Row],[clean Salary (in local currency)]],(tblSalaries[[#This Row],[PPP Adjusted  USD]]/VLOOKUP(Dashboard!$J$5,Sheet3!$B$2:$C$31,2,FALSE)))","v":19938.990408802052},"PMO Analyst","Analyst","India","4 to 6 hours a day",4]
[null,"ID1060",120000,"ZAR",14630.613583549337,{"$f":"(tblSalaries[[#This Row],[clean Salary (in local currency)]])*(VLOOKUP(tblSalaries[[#This Row],[Currency]],Sheet3!$A$2:$C$31,3,FALSE))*(VLOOKUP(tblSalaries[[#This Row],[Currency]],Sheet1!$N$4:$Q$186,4,FALSE))","v":19903.132865828447},{"$f":"IF(Dashboard!$J$5=VLOOKUP(tblSalaries[[#This Row],[Currency]],Sheet3!$A$2:$B$31,2,FALSE),tblSalaries[[#This Row],[clean Salary (in local currency)]],(tblSalaries[[#This Row],[PPP Adjusted  USD]]/VLOOKUP(Dashboard!$J$5,Sheet3!$B$2:$C$31,2,FALSE)))","v":19903.132865828447},"VP","CXO or Top Mgmt.","South Africa","4 to 6 hours a day",10]
[null,"ID0160",420000,"INR",7479.3250087258784,{"$f":"(tblSalaries[[#This Row],[clean Salary (in local currency)]])*(VLOOKUP(tblSalaries[[#This Row],[Currency]],Sheet3!$A$2:$C$31,3,FALSE))*(VLOOKUP(tblSalaries[[#This Row],[Currency]],Sheet1!$N$4:$Q$186,4,FALSE))","v":19891.629386453351},{"$f":"IF(Dashboard!$J$5=VLOOKUP(tblSalaries[[#This Row],[Currency]],Sheet3!$A$2:$B$31,2,FALSE),tblSalaries[[#This Row],[clean Salary (in local currency)]],(tblSalaries[[#This Row],[PPP Adjusted  USD]]/VLOOKUP(Dashboard!$J$5,Sheet3!$B$2:$C$31,2,FALSE)))","v":19891.629386453351},"managerial","Manager","India","1 or 2 hours a day","Data Not Avaliable"]
[null,"ID0613",420000,"INR",7479.3250087258784,{"$f":"(tblSalaries[[#This Row],[clean Salary (in local currency)]])*(VLOOKUP(tblSalaries[[#This Row],[Currency]],Sheet3!$A$2:$C$31,3,FALSE))*(VLOOKUP(tblSalaries[[#This Row],[Currency]],Sheet1!$N$4:$Q$186,4,FALSE))","v":19891.629386453351},{"$f":"IF(Dashboard!$J$5=VLOOKUP(tblSalaries[[#This Row],[Currency]],Sheet3!$A$2:$B$31,2,FALSE),tblSalaries[[#This Row],[clean Salary (in local currency)]],(tblSalaries[[#This Row],[PPP Adjusted  USD]]/VLOOKUP(Dashboard!$J$5,Sheet3!$B$2:$C$31,2,FALSE)))","v":19891.629386453351},"Assistant EDP","Analyst","India","4 to 6 hours a day",3]
[null,"ID1035",420000,"INR",7479.3250087258784,{"$f":"(tblSalaries[[#This Row],[clean Salary (in local currency)]])*(VLOOKUP(tblSalaries[[#This Row],[Currency]],Sheet3!$A$2:$C$31,3,FALSE))*(VLOOKUP(tblSalaries[[#This Row],[Currency]],Sheet1!$N$4:$Q$186,4,FALSE))","v":19891.629386453351},{"$f":"IF(Dashboard!$J$5=VLOOKUP(tblSalaries[[#This Row],[Currency]],Sheet3!$A$2:$B$31,2,FALSE),tblSalaries[[#This Row],[clean Salary (in local currency)]],(tblSalaries[[#This Row],[PPP Adjusted  USD]]/VLOOKUP(Dashboard!$J$5,Sheet3!$B$2:$C$31,2,FALSE)))","v":19891.629386453351},"Analyst","Analyst","India","2 to 3 hours per day",10]
[null,"ID1909",420000,"INR",7479.3250087258784,{"$f":"(tblSalaries[[#This Row],[clean Salary (in local currency)]])*(VLOOKUP(tblSalaries[[#This Row],[Currency]],Sheet3!$A$2:$C$31,3,FALSE))*(VLOOKUP(tblSalaries[[#This Row],[Currency]],Sheet1!$N$4:$Q$186,4,FALSE))","v":19891.629386453351},{"$f":"IF(Dashboard!$J$5=VLOOKUP(tblSalaries[[#This Row],[Currency]],Sheet3!$A$2:$B$31,2,FALSE),tblSalaries[[#This Row],[clean Salary (in local currency)]],(tblSalaries[[#This Row],[PPP Adjusted  USD]]/VLOOKUP(Dashboard!$J$5,Sheet3!$B$2:$C$31,2,FALSE)))","v":19891.629386453351},"Analyst","Analyst","India","4 to 6 hours a day",2]
[null,"ID0379",18000,"EUR",22867.189901848938,{"$f":"(tblSalaries[[#This Row],[clean Salary (in local currency)]])*(VLOOKUP(tblSalaries[[#This Row],[Currency]],Sheet3!$A$2:$C$31,3,FALSE))*(VLOOKUP(tblSalaries[[#This Row],[Currency]],Sheet1!$N$4:$Q$186,4,FALSE))","v":19811.751947640936},{"$f":"IF(Dashboard!$J$5=VLOOKUP(tblSalaries[[#This Row],[Currency]],Sheet3!$A$2:$B$31,2,FALSE),tblSalaries[[#This Row],[clean Salary (in local currency)]],(tblSalaries[[#This Row],[PPP Adjusted  USD]]/VLOOKUP(Dashboard!$J$5,Sheet3!$B$2:$C$31,2,FALSE)))","v":19811.751947640936},"marketing and sales ","Manager","Portugal","2 to 3 hours per day","Data Not Avaliable"]
[null,"ID0328",456000,"PHP",10809.503829551191,{"$f":"(tblSalaries[[#This Row],[clean Salary (in local currency)]])*(VLOOKUP(tblSalaries[[#This Row],[Currency]],Sheet3!$A$2:$C$31,3,FALSE))*(VLOOKUP(tblSalaries[[#This Row],[Currency]],Sheet1!$N$4:$Q$186,4,FALSE))","v":19800.762782574973},{"$f":"IF(Dashboard!$J$5=VLOOKUP(tblSalaries[[#This Row],[Currency]],Sheet3!$A$2:$B$31,2,FALSE),tblSalaries[[#This Row],[clean Salary (in local currency)]],(tblSalaries[[#This Row],[PPP Adjusted  USD]]/VLOOKUP(Dashboard!$J$5,Sheet3!$B$2:$C$31,2,FALSE)))","v":19800.762782574973},"Reporting Shared Services Oferring Lead","Reporting","Philippines","4 to 6 hours a day","Data Not Avaliable"]
[null,"ID0287",100000,"AED",27221.92126875931,{"$f":"(tblSalaries[[#This Row],[clean Salary (in local currency)]])*(VLOOKUP(tblSalaries[[#This Row],[Currency]],Sheet3!$A$2:$C$31,3,FALSE))*(VLOOKUP(tblSalaries[[#This Row],[Currency]],Sheet1!$N$4:$Q$186,4,FALSE))","v":19564.036287365405},{"$f":"IF(Dashboard!$J$5=VLOOKUP(tblSalaries[[#This Row],[Currency]],Sheet3!$A$2:$B$31,2,FALSE),tblSalaries[[#This Row],[clean Salary (in local currency)]],(tblSalaries[[#This Row],[PPP Adjusted  USD]]/VLOOKUP(Dashboard!$J$5,Sheet3!$B$2:$C$31,2,FALSE)))","v":19564.036287365405},"Accountant","Accountant","Dubai","4 to 6 hours a day","Data Not Avaliable"]
[null,"ID0739",410000,"INR",7301.2458418514525,{"$f":"(tblSalaries[[#This Row],[clean Salary (in local currency)]])*(VLOOKUP(tblSalaries[[#This Row],[Currency]],Sheet3!$A$2:$C$31,3,FALSE))*(VLOOKUP(tblSalaries[[#This Row],[Currency]],Sheet1!$N$4:$Q$186,4,FALSE))","v":19418.019162966364},{"$f":"IF(Dashboard!$J$5=VLOOKUP(tblSalaries[[#This Row],[Currency]],Sheet3!$A$2:$B$31,2,FALSE),tblSalaries[[#This Row],[clean Salary (in local currency)]],(tblSalaries[[#This Row],[PPP Adjusted  USD]]/VLOOKUP(Dashboard!$J$5,Sheet3!$B$2:$C$31,2,FALSE)))","v":19418.019162966364},"MIS Analyst","Analyst","India","All the 8 hours baby, all the 8!",5]
[null,"ID1061",408000,"INR",7265.630008476568,{"$f":"(tblSalaries[[#This Row],[clean Salary (in local currency)]])*(VLOOKUP(tblSalaries[[#This Row],[Currency]],Sheet3!$A$2:$C$31,3,FALSE))*(VLOOKUP(tblSalaries[[#This Row],[Currency]],Sheet1!$N$4:$Q$186,4,FALSE))","v":19323.297118268969},{"$f":"IF(Dashboard!$J$5=VLOOKUP(tblSalaries[[#This Row],[Currency]],Sheet3!$A$2:$B$31,2,FALSE),tblSalaries[[#This Row],[clean Salary (in local currency)]],(tblSalaries[[#This Row],[PPP Adjusted  USD]]/VLOOKUP(Dashboard!$J$5,Sheet3!$B$2:$C$31,2,FALSE)))","v":19323.297118268969},"Sr Exec - Finance","Accountant","India","All the 8 hours baby, all the 8!",5]
[null,"ID0035",19200,"USD",19200,{"$f":"(tblSalaries[[#This Row],[clean Salary (in local currency)]])*(VLOOKUP(tblSalaries[[#This Row],[Currency]],Sheet3!$A$2:$C$31,3,FALSE))*(VLOOKUP(tblSalaries[[#This Row],[Currency]],Sheet1!$N$4:$Q$186,4,FALSE))","v":19200},{"$f":"IF(Dashboard!$J$5=VLOOKUP(tblSalaries[[#This Row],[Currency]],Sheet3!$A$2:$B$31,2,FALSE),tblSalaries[[#This Row],[clean Salary (in local currency)]],(tblSalaries[[#This Row],[PPP Adjusted  USD]]/VLOOKUP(Dashboard!$J$5,Sheet3!$B$2:$C$31,2,FALSE)))","v":19200},"Analyst","Analyst","Poland","2 to 3 hours per day","Data Not Avaliable"]
[null,"ID0105",19200,"USD",19200,{"$f":"(tblSalaries[[#This Row],[clean Salary (in local currency)]])*(VLOOKUP(tblSalaries[[#This Row],[Currency]],Sheet3!$A$2:$C$31,3,FALSE))*(VLOOKUP(tblSalaries[[#This Row],[Currency]],Sheet1!$N$4:$Q$186,4,FALSE))","v":19200},{"$f":"IF(Dashboard!$J$5=VLOOKUP(tblSalaries[[#This Row],[Currency]],Sheet3!$A$2:$B$31,2,FALSE),tblSalaries[[#This Row],[clean Salary (in local currency)]],(tblSalaries[[#This Row],[PPP Adjusted  USD]]/VLOOKUP(Dashboard!$J$5,Sheet3!$B$2:$C$31,2,FALSE)))","v":19200},"Sr Administrative Assistant","Analyst","Mexico","4 to 6 hours a day","Data Not Avaliable"]
[null,"ID0411",19200,"USD",19200,{"$f":"(tblSalaries[[#This Row],[clean Salary (in local currency)]])*(VLOOKUP(tblSalaries[[#This Row],[Currency]],Sheet3!$A$2:$C$31,3,FALSE))*(VLOOKUP(tblSalaries[[#This Row],[Currency]],Sheet1!$N$4:$Q$186,4,FALSE))","v":19200},{"$f":"IF(Dashboard!$J$5=VLOOKUP(tblSalaries[[#This Row],[Currency]],Sheet3!$A$2:$B$31,2,FALSE),tblSalaries[[#This Row],[clean Salary (in local currency)]],(tblSalaries[[#This Row],[PPP Adjusted  USD]]/VLOOKUP(Dashboard!$J$5,Sheet3!$B$2:$C$31,2,FALSE)))","v":19200},"Department Manager","Manager","Romania","All the 8 hours baby, all the 8!","Data Not Avaliable"]
[null,"ID0772",19068,"USD",19068,{"$f":"(tblSalaries[[#This Row],[clean Salary (in local currency)]])*(VLOOKUP(tblSalaries[[#This Row],[Currency]],Sheet3!$A$2:$C$31,3,FALSE))*(VLOOKUP(tblSalaries[[#This Row],[Currency]],Sheet1!$N$4:$Q$186,4,FALSE))","v":19068},{"$f":"IF(Dashboard!$J$5=VLOOKUP(tblSalaries[[#This Row],[Currency]],Sheet3!$A$2:$B$31,2,FALSE),tblSalaries[[#This Row],[clean Salary (in local currency)]],(tblSalaries[[#This Row],[PPP Adjusted  USD]]/VLOOKUP(Dashboard!$J$5,Sheet3!$B$2:$C$31,2,FALSE)))","v":19068},"Accounting Head","Accountant","Philippines","All the 8 hours baby, all the 8!",20]
[null,"ID0992",19000,"USD",19000,{"$f":"(tblSalaries[[#This Row],[clean Salary (in local currency)]])*(VLOOKUP(tblSalaries[[#This Row],[Currency]],Sheet3!$A$2:$C$31,3,FALSE))*(VLOOKUP(tblSalaries[[#This Row],[Currency]],Sheet1!$N$4:$Q$186,4,FALSE))","v":19000},{"$f":"IF(Dashboard!$J$5=VLOOKUP(tblSalaries[[#This Row],[Currency]],Sheet3!$A$2:$B$31,2,FALSE),tblSalaries[[#This Row],[clean Salary (in local currency)]],(tblSalaries[[#This Row],[PPP Adjusted  USD]]/VLOOKUP(Dashboard!$J$5,Sheet3!$B$2:$C$31,2,FALSE)))","v":19000},"Finance analyst","Analyst","china","4 to 6 hours a day",6]
[null,"ID1128",19000,"USD",19000,{"$f":"(tblSalaries[[#This Row],[clean Salary (in local currency)]])*(VLOOKUP(tblSalaries[[#This Row],[Currency]],Sheet3!$A$2:$C$31,3,FALSE))*(VLOOKUP(tblSalaries[[#This Row],[Currency]],Sheet1!$N$4:$Q$186,4,FALSE))","v":19000},{"$f":"IF(Dashboard!$J$5=VLOOKUP(tblSalaries[[#This Row],[Currency]],Sheet3!$A$2:$B$31,2,FALSE),tblSalaries[[#This Row],[clean Salary (in local currency)]],(tblSalaries[[#This Row],[PPP Adjusted  USD]]/VLOOKUP(Dashboard!$J$5,Sheet3!$B$2:$C$31,2,FALSE)))","v":19000},"MI Specialist","Reporting","UK","All the 8 hours baby, all the 8!",8]
[null,"ID1200",19000,"USD",19000,{"$f":"(tblSalaries[[#This Row],[clean Salary (in local currency)]])*(VLOOKUP(tblSalaries[[#This Row],[Currency]],Sheet3!$A$2:$C$31,3,FALSE))*(VLOOKUP(tblSalaries[[#This Row],[Currency]],Sheet1!$N$4:$Q$186,4,FALSE))","v":19000},{"$f":"IF(Dashboard!$J$5=VLOOKUP(tblSalaries[[#This Row],[Currency]],Sheet3!$A$2:$B$31,2,FALSE),tblSalaries[[#This Row],[clean Salary (in local currency)]],(tblSalaries[[#This Row],[PPP Adjusted  USD]]/VLOOKUP(Dashboard!$J$5,Sheet3!$B$2:$C$31,2,FALSE)))","v":19000},"Accountant","Accountant","UK","4 to 6 hours a day",20]
[null,"ID1119",18987,"USD",18987,{"$f":"(tblSalaries[[#This Row],[clean Salary (in local currency)]])*(VLOOKUP(tblSalaries[[#This Row],[Currency]],Sheet3!$A$2:$C$31,3,FALSE))*(VLOOKUP(tblSalaries[[#This Row],[Currency]],Sheet1!$N$4:$Q$186,4,FALSE))","v":18987},{"$f":"IF(Dashboard!$J$5=VLOOKUP(tblSalaries[[#This Row],[Currency]],Sheet3!$A$2:$B$31,2,FALSE),tblSalaries[[#This Row],[clean Salary (in local currency)]],(tblSalaries[[#This Row],[PPP Adjusted  USD]]/VLOOKUP(Dashboard!$J$5,Sheet3!$B$2:$C$31,2,FALSE)))","v":18987},"Business Analyst","Analyst","Nigeria","All the 8 hours baby, all the 8!",7]
[null,"ID0040",400000,"INR",7123.1666749770275,{"$f":"(tblSalaries[[#This Row],[clean Salary (in local currency)]])*(VLOOKUP(tblSalaries[[#This Row],[Currency]],Sheet3!$A$2:$C$31,3,FALSE))*(VLOOKUP(tblSalaries[[#This Row],[Currency]],Sheet1!$N$4:$Q$186,4,FALSE))","v":18944.408939479381},{"$f":"IF(Dashboard!$J$5=VLOOKUP(tblSalaries[[#This Row],[Currency]],Sheet3!$A$2:$B$31,2,FALSE),tblSalaries[[#This Row],[clean Salary (in local currency)]],(tblSalaries[[#This Row],[PPP Adjusted  USD]]/VLOOKUP(Dashboard!$J$5,Sheet3!$B$2:$C$31,2,FALSE)))","v":18944.408939479381},"Coordination","Manager","India","4 to 6 hours a day","Data Not Avaliable"]
[null,"ID0336",400000,"INR",7123.1666749770275,{"$f":"(tblSalaries[[#This Row],[clean Salary (in local currency)]])*(VLOOKUP(tblSalaries[[#This Row],[Currency]],Sheet3!$A$2:$C$31,3,FALSE))*(VLOOKUP(tblSalaries[[#This Row],[Currency]],Sheet1!$N$4:$Q$186,4,FALSE))","v":18944.408939479381},{"$f":"IF(Dashboard!$J$5=VLOOKUP(tblSalaries[[#This Row],[Currency]],Sheet3!$A$2:$B$31,2,FALSE),tblSalaries[[#This Row],[clean Salary (in local currency)]],(tblSalaries[[#This Row],[PPP Adjusted  USD]]/VLOOKUP(Dashboard!$J$5,Sheet3!$B$2:$C$31,2,FALSE)))","v":18944.408939479381},"Test Analyst","Analyst","India","4 to 6 hours a day","Data Not Avaliable"]
[null,"ID0407",400000,"INR",7123.1666749770275,{"$f":"(tblSalaries[[#This Row],[clean Salary (in local currency)]])*(VLOOKUP(tblSalaries[[#This Row],[Currency]],Sheet3!$A$2:$C$31,3,FALSE))*(VLOOKUP(tblSalaries[[#This Row],[Currency]],Sheet1!$N$4:$Q$186,4,FALSE))","v":18944.408939479381},{"$f":"IF(Dashboard!$J$5=VLOOKUP(tblSalaries[[#This Row],[Currency]],Sheet3!$A$2:$B$31,2,FALSE),tblSalaries[[#This Row],[clean Salary (in local currency)]],(tblSalaries[[#This Row],[PPP Adjusted  USD]]/VLOOKUP(Dashboard!$J$5,Sheet3!$B$2:$C$31,2,FALSE)))","v":18944.408939479381},"Analyst","Analyst","India","4 to 6 hours a day","Data Not Avaliable"]
[null,"ID0598",400000,"INR",7123.1666749770275,{"$f":"(tblSalaries[[#This Row],[clean Salary (in local currency)]])*(VLOOKUP(tblSalaries[[#This Row],[Currency]],Sheet3!$A$2:$C$31,3,FALSE))*(VLOOKUP(tblSalaries[[#This Row],[Currency]],Sheet1!$N$4:$Q$186,4,FALSE))","v":18944.408939479381},{"$f":"IF(Dashboard!$J$5=VLOOKUP(tblSalaries[[#This Row],[Currency]],Sheet3!$A$2:$B$31,2,FALSE),tblSalaries[[#This Row],[clean Salary (in local currency)]],(tblSalaries[[#This Row],[PPP Adjusted  USD]]/VLOOKUP(Dashboard!$J$5,Sheet3!$B$2:$C$31,2,FALSE)))","v":18944.408939479381},"BPO","Manager","India","1 or 2 hours a day",3]
[null,"ID0645",400000,"INR",7123.1666749770275,{"$f":"(tblSalaries[[#This Row],[clean Salary (in local currency)]])*(VLOOKUP(tblSalaries[[#This Row],[Currency]],Sheet3!$A$2:$C$31,3,FALSE))*(VLOOKUP(tblSalaries[[#This Row],[Currency]],Sheet1!$N$4:$Q$186,4,FALSE))","v":18944.408939479381},{"$f":"IF(Dashboard!$J$5=VLOOKUP(tblSalaries[[#This Row],[Currency]],Sheet3!$A$2:$B$31,2,FALSE),tblSalaries[[#This Row],[clean Salary (in local currency)]],(tblSalaries[[#This Row],[PPP Adjusted  USD]]/VLOOKUP(Dashboard!$J$5,Sheet3!$B$2:$C$31,2,FALSE)))","v":18944.408939479381},"Sr Processor","Manager","India","1 or 2 hours a day",5]
[null,"ID0711",400000,"INR",7123.1666749770275,{"$f":"(tblSalaries[[#This Row],[clean Salary (in local currency)]])*(VLOOKUP(tblSalaries[[#This Row],[Currency]],Sheet3!$A$2:$C$31,3,FALSE))*(VLOOKUP(tblSalaries[[#This Row],[Currency]],Sheet1!$N$4:$Q$186,4,FALSE))","v":18944.408939479381},{"$f":"IF(Dashboard!$J$5=VLOOKUP(tblSalaries[[#This Row],[Currency]],Sheet3!$A$2:$B$31,2,FALSE),tblSalaries[[#This Row],[clean Salary (in local currency)]],(tblSalaries[[#This Row],[PPP Adjusted  USD]]/VLOOKUP(Dashboard!$J$5,Sheet3!$B$2:$C$31,2,FALSE)))","v":18944.408939479381},"Consultant","Consultant","India","4 to 6 hours a day",0]
[null,"ID0724",400000,"INR",7123.1666749770275,{"$f":"(tblSalaries[[#This Row],[clean Salary (in local currency)]])*(VLOOKUP(tblSalaries[[#This Row],[Currency]],Sheet3!$A$2:$C$31,3,FALSE))*(VLOOKUP(tblSalaries[[#This Row],[Currency]],Sheet1!$N$4:$Q$186,4,FALSE))","v":18944.408939479381},{"$f":"IF(Dashboard!$J$5=VLOOKUP(tblSalaries[[#This Row],[Currency]],Sheet3!$A$2:$B$31,2,FALSE),tblSalaries[[#This Row],[clean Salary (in local currency)]],(tblSalaries[[#This Row],[PPP Adjusted  USD]]/VLOOKUP(Dashboard!$J$5,Sheet3!$B$2:$C$31,2,FALSE)))","v":18944.408939479381},"sr. mis executive","Reporting","India","All the 8 hours baby, all the 8!",4]
[null,"ID0788",400000,"INR",7123.1666749770275,{"$f":"(tblSalaries[[#This Row],[clean Salary (in local currency)]])*(VLOOKUP(tblSalaries[[#This Row],[Currency]],Sheet3!$A$2:$C$31,3,FALSE))*(VLOOKUP(tblSalaries[[#This Row],[Currency]],Sheet1!$N$4:$Q$186,4,FALSE))","v":18944.408939479381},{"$f":"IF(Dashboard!$J$5=VLOOKUP(tblSalaries[[#This Row],[Currency]],Sheet3!$A$2:$B$31,2,FALSE),tblSalaries[[#This Row],[clean Salary (in local currency)]],(tblSalaries[[#This Row],[PPP Adjusted  USD]]/VLOOKUP(Dashboard!$J$5,Sheet3!$B$2:$C$31,2,FALSE)))","v":18944.408939479381},"Asst.Manager","Manager","India","4 to 6 hours a day",7]
[null,"ID0889",400000,"INR",7123.1666749770275,{"$f":"(tblSalaries[[#This Row],[clean Salary (in local currency)]])*(VLOOKUP(tblSalaries[[#This Row],[Currency]],Sheet3!$A$2:$C$31,3,FALSE))*(VLOOKUP(tblSalaries[[#This Row],[Currency]],Sheet1!$N$4:$Q$186,4,FALSE))","v":18944.408939479381},{"$f":"IF(Dashboard!$J$5=VLOOKUP(tblSalaries[[#This Row],[Currency]],Sheet3!$A$2:$B$31,2,FALSE),tblSalaries[[#This Row],[clean Salary (in local currency)]],(tblSalaries[[#This Row],[PPP Adjusted  USD]]/VLOOKUP(Dashboard!$J$5,Sheet3!$B$2:$C$31,2,FALSE)))","v":18944.408939479381},"engineer","Engineer","India","2 to 3 hours per day",6]
[null,"ID0894",400000,"INR",7123.1666749770275,{"$f":"(tblSalaries[[#This Row],[clean Salary (in local currency)]])*(VLOOKUP(tblSalaries[[#This Row],[Currency]],Sheet3!$A$2:$C$31,3,FALSE))*(VLOOKUP(tblSalaries[[#This Row],[Currency]],Sheet1!$N$4:$Q$186,4,FALSE))","v":18944.408939479381},{"$f":"IF(Dashboard!$J$5=VLOOKUP(tblSalaries[[#This Row],[Currency]],Sheet3!$A$2:$B$31,2,FALSE),tblSalaries[[#This Row],[clean Salary (in local currency)]],(tblSalaries[[#This Row],[PPP Adjusted  USD]]/VLOOKUP(Dashboard!$J$5,Sheet3!$B$2:$C$31,2,FALSE)))","v":18944.408939479381},"Accountancy","Accountant","India","2 to 3 hours per day",8]
[null,"ID1031",400000,"INR",7123.1666749770275,{"$f":"(tblSalaries[[#This Row],[clean Salary (in local currency)]])*(VLOOKUP(tblSalaries[[#This Row],[Currency]],Sheet3!$A$2:$C$31,3,FALSE))*(VLOOKUP(tblSalaries[[#This Row],[Currency]],Sheet1!$N$4:$Q$186,4,FALSE))","v":18944.408939479381},{"$f":"IF(Dashboard!$J$5=VLOOKUP(tblSalaries[[#This Row],[Currency]],Sheet3!$A$2:$B$31,2,FALSE),tblSalaries[[#This Row],[clean Salary (in local currency)]],(tblSalaries[[#This Row],[PPP Adjusted  USD]]/VLOOKUP(Dashboard!$J$5,Sheet3!$B$2:$C$31,2,FALSE)))","v":18944.408939479381},"Sr. Executive","Manager","India","2 to 3 hours per day",5]
[null,"ID1131",400000,"INR",7123.1666749770275,{"$f":"(tblSalaries[[#This Row],[clean Salary (in local currency)]])*(VLOOKUP(tblSalaries[[#This Row],[Currency]],Sheet3!$A$2:$C$31,3,FALSE))*(VLOOKUP(tblSalaries[[#This Row],[Currency]],Sheet1!$N$4:$Q$186,4,FALSE))","v":18944.408939479381},{"$f":"IF(Dashboard!$J$5=VLOOKUP(tblSalaries[[#This Row],[Currency]],Sheet3!$A$2:$B$31,2,FALSE),tblSalaries[[#This Row],[clean Salary (in local currency)]],(tblSalaries[[#This Row],[PPP Adjusted  USD]]/VLOOKUP(Dashboard!$J$5,Sheet3!$B$2:$C$31,2,FALSE)))","v":18944.408939479381},"Sr. Team Lead - MIS","Reporting","India","4 to 6 hours a day",9]
[null,"ID1139",400000,"INR",7123.1666749770275,{"$f":"(tblSalaries[[#This Row],[clean Salary (in local currency)]])*(VLOOKUP(tblSalaries[[#This Row],[Currency]],Sheet3!$A$2:$C$31,3,FALSE))*(VLOOKUP(tblSalaries[[#This Row],[Currency]],Sheet1!$N$4:$Q$186,4,FALSE))","v":18944.408939479381},{"$f":"IF(Dashboard!$J$5=VLOOKUP(tblSalaries[[#This Row],[Currency]],Sheet3!$A$2:$B$31,2,FALSE),tblSalaries[[#This Row],[clean Salary (in local currency)]],(tblSalaries[[#This Row],[PPP Adjusted  USD]]/VLOOKUP(Dashboard!$J$5,Sheet3!$B$2:$C$31,2,FALSE)))","v":18944.408939479381},"software engineer","Engineer","India","1 or 2 hours a day",2]
[null,"ID1234",400000,"INR",7123.1666749770275,{"$f":"(tblSalaries[[#This Row],[clean Salary (in local currency)]])*(VLOOKUP(tblSalaries[[#This Row],[Currency]],Sheet3!$A$2:$C$31,3,FALSE))*(VLOOKUP(tblSalaries[[#This Row],[Currency]],Sheet1!$N$4:$Q$186,4,FALSE))","v":18944.408939479381},{"$f":"IF(Dashboard!$J$5=VLOOKUP(tblSalaries[[#This Row],[Currency]],Sheet3!$A$2:$B$31,2,FALSE),tblSalaries[[#This Row],[clean Salary (in local currency)]],(tblSalaries[[#This Row],[PPP Adjusted  USD]]/VLOOKUP(Dashboard!$J$5,Sheet3!$B$2:$C$31,2,FALSE)))","v":18944.408939479381},"Pmo","Manager","India","4 to 6 hours a day",1]
[null,"ID1290",400000,"INR",7123.1666749770275,{"$f":"(tblSalaries[[#This Row],[clean Salary (in local currency)]])*(VLOOKUP(tblSalaries[[#This Row],[Currency]],Sheet3!$A$2:$C$31,3,FALSE))*(VLOOKUP(tblSalaries[[#This Row],[Currency]],Sheet1!$N$4:$Q$186,4,FALSE))","v":18944.408939479381},{"$f":"IF(Dashboard!$J$5=VLOOKUP(tblSalaries[[#This Row],[Currency]],Sheet3!$A$2:$B$31,2,FALSE),tblSalaries[[#This Row],[clean Salary (in local currency)]],(tblSalaries[[#This Row],[PPP Adjusted  USD]]/VLOOKUP(Dashboard!$J$5,Sheet3!$B$2:$C$31,2,FALSE)))","v":18944.408939479381},"PMO","Manager","India","All the 8 hours baby, all the 8!",3]
[null,"ID1463",400000,"INR",7123.1666749770275,{"$f":"(tblSalaries[[#This Row],[clean Salary (in local currency)]])*(VLOOKUP(tblSalaries[[#This Row],[Currency]],Sheet3!$A$2:$C$31,3,FALSE))*(VLOOKUP(tblSalaries[[#This Row],[Currency]],Sheet1!$N$4:$Q$186,4,FALSE))","v":18944.408939479381},{"$f":"IF(Dashboard!$J$5=VLOOKUP(tblSalaries[[#This Row],[Currency]],Sheet3!$A$2:$B$31,2,FALSE),tblSalaries[[#This Row],[clean Salary (in local currency)]],(tblSalaries[[#This Row],[PPP Adjusted  USD]]/VLOOKUP(Dashboard!$J$5,Sheet3!$B$2:$C$31,2,FALSE)))","v":18944.408939479381},"Reporting Manager","Manager","India","4 to 6 hours a day",6]
[null,"ID1627",400000,"INR",7123.1666749770275,{"$f":"(tblSalaries[[#This Row],[clean Salary (in local currency)]])*(VLOOKUP(tblSalaries[[#This Row],[Currency]],Sheet3!$A$2:$C$31,3,FALSE))*(VLOOKUP(tblSalaries[[#This Row],[Currency]],Sheet1!$N$4:$Q$186,4,FALSE))","v":18944.408939479381},{"$f":"IF(Dashboard!$J$5=VLOOKUP(tblSalaries[[#This Row],[Currency]],Sheet3!$A$2:$B$31,2,FALSE),tblSalaries[[#This Row],[clean Salary (in local currency)]],(tblSalaries[[#This Row],[PPP Adjusted  USD]]/VLOOKUP(Dashboard!$J$5,Sheet3!$B$2:$C$31,2,FALSE)))","v":18944.408939479381},"application dev","Analyst","India","1 or 2 hours a day",2.5]
[null,"ID1702",400000,"INR",7123.1666749770275,{"$f":"(tblSalaries[[#This Row],[clean Salary (in local currency)]])*(VLOOKUP(tblSalaries[[#This Row],[Currency]],Sheet3!$A$2:$C$31,3,FALSE))*(VLOOKUP(tblSalaries[[#This Row],[Currency]],Sheet1!$N$4:$Q$186,4,FALSE))","v":18944.408939479381},{"$f":"IF(Dashboard!$J$5=VLOOKUP(tblSalaries[[#This Row],[Currency]],Sheet3!$A$2:$B$31,2,FALSE),tblSalaries[[#This Row],[clean Salary (in local currency)]],(tblSalaries[[#This Row],[PPP Adjusted  USD]]/VLOOKUP(Dashboard!$J$5,Sheet3!$B$2:$C$31,2,FALSE)))","v":18944.408939479381},"Analyst","Analyst","India","4 to 6 hours a day",4]
[null,"ID1801",400000,"INR",7123.1666749770275,{"$f":"(tblSalaries[[#This Row],[clean Salary (in local currency)]])*(VLOOKUP(tblSalaries[[#This Row],[Currency]],Sheet3!$A$2:$C$31,3,FALSE))*(VLOOKUP(tblSalaries[[#This Row],[Currency]],Sheet1!$N$4:$Q$186,4,FALSE))","v":18944.408939479381},{"$f":"IF(Dashboard!$J$5=VLOOKUP(tblSalaries[[#This Row],[Currency]],Sheet3!$A$2:$B$31,2,FALSE),tblSalaries[[#This Row],[clean Salary (in local currency)]],(tblSalaries[[#This Row],[PPP Adjusted  USD]]/VLOOKUP(Dashboard!$J$5,Sheet3!$B$2:$C$31,2,FALSE)))","v":18944.408939479381},"business analyst","Analyst","India","2 to 3 hours per day",3]
[null,"ID1883",400000,"INR",7123.1666749770275,{"$f":"(tblSalaries[[#This Row],[clean Salary (in local currency)]])*(VLOOKUP(tblSalaries[[#This Row],[Currency]],Sheet3!$A$2:$C$31,3,FALSE))*(VLOOKUP(tblSalaries[[#This Row],[Currency]],Sheet1!$N$4:$Q$186,4,FALSE))","v":18944.408939479381},{"$f":"IF(Dashboard!$J$5=VLOOKUP(tblSalaries[[#This Row],[Currency]],Sheet3!$A$2:$B$31,2,FALSE),tblSalaries[[#This Row],[clean Salary (in local currency)]],(tblSalaries[[#This Row],[PPP Adjusted  USD]]/VLOOKUP(Dashboard!$J$5,Sheet3!$B$2:$C$31,2,FALSE)))","v":18944.408939479381},"technical analyst","Analyst","India","1 or 2 hours a day",2]
[null,"ID1774",16800,"EUR",21342.710575059013,{"$f":"(tblSalaries[[#This Row],[clean Salary (in local currency)]])*(VLOOKUP(tblSalaries[[#This Row],[Currency]],Sheet3!$A$2:$C$31,3,FALSE))*(VLOOKUP(tblSalaries[[#This Row],[Currency]],Sheet1!$N$4:$Q$186,4,FALSE))","v":18490.968484464876},{"$f":"IF(Dashboard!$J$5=VLOOKUP(tblSalaries[[#This Row],[Currency]],Sheet3!$A$2:$B$31,2,FALSE),tblSalaries[[#This Row],[clean Salary (in local currency)]],(tblSalaries[[#This Row],[PPP Adjusted  USD]]/VLOOKUP(Dashboard!$J$5,Sheet3!$B$2:$C$31,2,FALSE)))","v":18490.968484464876},"account","Accountant","Portugal","4 to 6 hours a day",15]
[null,"ID0728",390000,"INR",6945.0875081026015,{"$f":"(tblSalaries[[#This Row],[clean Salary (in local currency)]])*(VLOOKUP(tblSalaries[[#This Row],[Currency]],Sheet3!$A$2:$C$31,3,FALSE))*(VLOOKUP(tblSalaries[[#This Row],[Currency]],Sheet1!$N$4:$Q$186,4,FALSE))","v":18470.798715992398},{"$f":"IF(Dashboard!$J$5=VLOOKUP(tblSalaries[[#This Row],[Currency]],Sheet3!$A$2:$B$31,2,FALSE),tblSalaries[[#This Row],[clean Salary (in local currency)]],(tblSalaries[[#This Row],[PPP Adjusted  USD]]/VLOOKUP(Dashboard!$J$5,Sheet3!$B$2:$C$31,2,FALSE)))","v":18470.798715992398},"Business Analyst","Analyst","India","4 to 6 hours a day",1]
[null,"ID1261",36000,"MYR",11404.820437438224,{"$f":"(tblSalaries[[#This Row],[clean Salary (in local currency)]])*(VLOOKUP(tblSalaries[[#This Row],[Currency]],Sheet3!$A$2:$C$31,3,FALSE))*(VLOOKUP(tblSalaries[[#This Row],[Currency]],Sheet1!$N$4:$Q$186,4,FALSE))","v":18304.638583453896},{"$f":"IF(Dashboard!$J$5=VLOOKUP(tblSalaries[[#This Row],[Currency]],Sheet3!$A$2:$B$31,2,FALSE),tblSalaries[[#This Row],[clean Salary (in local currency)]],(tblSalaries[[#This Row],[PPP Adjusted  USD]]/VLOOKUP(Dashboard!$J$5,Sheet3!$B$2:$C$31,2,FALSE)))","v":18304.638583453896},"Process Engineering","Engineer","malaysia","4 to 6 hours a day",2]
[null,"ID0276",420000,"PHP",9956.1219482708348,{"$f":"(tblSalaries[[#This Row],[clean Salary (in local currency)]])*(VLOOKUP(tblSalaries[[#This Row],[Currency]],Sheet3!$A$2:$C$31,3,FALSE))*(VLOOKUP(tblSalaries[[#This Row],[Currency]],Sheet1!$N$4:$Q$186,4,FALSE))","v":18237.544668161161},{"$f":"IF(Dashboard!$J$5=VLOOKUP(tblSalaries[[#This Row],[Currency]],Sheet3!$A$2:$B$31,2,FALSE),tblSalaries[[#This Row],[clean Salary (in local currency)]],(tblSalaries[[#This Row],[PPP Adjusted  USD]]/VLOOKUP(Dashboard!$J$5,Sheet3!$B$2:$C$31,2,FALSE)))","v":18237.544668161161},"Global Problem Management - IT","Manager","Philippines","4 to 6 hours a day","Data Not Avaliable"]
[null,"ID0940",18060,"USD",18060,{"$f":"(tblSalaries[[#This Row],[clean Salary (in local currency)]])*(VLOOKUP(tblSalaries[[#This Row],[Currency]],Sheet3!$A$2:$C$31,3,FALSE))*(VLOOKUP(tblSalaries[[#This Row],[Currency]],Sheet1!$N$4:$Q$186,4,FALSE))","v":18060},{"$f":"IF(Dashboard!$J$5=VLOOKUP(tblSalaries[[#This Row],[Currency]],Sheet3!$A$2:$B$31,2,FALSE),tblSalaries[[#This Row],[clean Salary (in local currency)]],(tblSalaries[[#This Row],[PPP Adjusted  USD]]/VLOOKUP(Dashboard!$J$5,Sheet3!$B$2:$C$31,2,FALSE)))","v":18060},"Reporting Supervisor","Reporting","Philippines","4 to 6 hours a day",12]
[null,"ID0079",18000,"USD",18000,{"$f":"(tblSalaries[[#This Row],[clean Salary (in local currency)]])*(VLOOKUP(tblSalaries[[#This Row],[Currency]],Sheet3!$A$2:$C$31,3,FALSE))*(VLOOKUP(tblSalaries[[#This Row],[Currency]],Sheet1!$N$4:$Q$186,4,FALSE))","v":18000},{"$f":"IF(Dashboard!$J$5=VLOOKUP(tblSalaries[[#This Row],[Currency]],Sheet3!$A$2:$B$31,2,FALSE),tblSalaries[[#This Row],[clean Salary (in local currency)]],(tblSalaries[[#This Row],[PPP Adjusted  USD]]/VLOOKUP(Dashboard!$J$5,Sheet3!$B$2:$C$31,2,FALSE)))","v":18000},"Operational Analyst","Analyst","Saudi Arabia","All the 8 hours baby, all the 8!","Data Not Avaliable"]
[null,"ID0371",18000,"USD",18000,{"$f":"(tblSalaries[[#This Row],[clean Salary (in local currency)]])*(VLOOKUP(tblSalaries[[#This Row],[Currency]],Sheet3!$A$2:$C$31,3,FALSE))*(VLOOKUP(tblSalaries[[#This Row],[Currency]],Sheet1!$N$4:$Q$186,4,FALSE))","v":18000},{"$f":"IF(Dashboard!$J$5=VLOOKUP(tblSalaries[[#This Row],[Currency]],Sheet3!$A$2:$B$31,2,FALSE),tblSalaries[[#This Row],[clean Salary (in local currency)]],(tblSalaries[[#This Row],[PPP Adjusted  USD]]/VLOOKUP(Dashboard!$J$5,Sheet3!$B$2:$C$31,2,FALSE)))","v":18000},"ceo","CXO or Top Mgmt.","India","2 to 3 hours per day","Data Not Avaliable"]
[null,"ID0546",18000,"USD",18000,{"$f":"(tblSalaries[[#This Row],[clean Salary (in local currency)]])*(VLOOKUP(tblSalaries[[#This Row],[Currency]],Sheet3!$A$2:$C$31,3,FALSE))*(VLOOKUP(tblSalaries[[#This Row],[Currency]],Sheet1!$N$4:$Q$186,4,FALSE))","v":18000},{"$f":"IF(Dashboard!$J$5=VLOOKUP(tblSalaries[[#This Row],[Currency]],Sheet3!$A$2:$B$31,2,FALSE),tblSalaries[[#This Row],[clean Salary (in local currency)]],(tblSalaries[[#This Row],[PPP Adjusted  USD]]/VLOOKUP(Dashboard!$J$5,Sheet3!$B$2:$C$31,2,FALSE)))","v":18000},"Engineer","Engineer","Brazil","4 to 6 hours a day","Data Not Avaliable"]
[null,"ID1011",18000,"USD",18000,{"$f":"(tblSalaries[[#This Row],[clean Salary (in local currency)]])*(VLOOKUP(tblSalaries[[#This Row],[Currency]],Sheet3!$A$2:$C$31,3,FALSE))*(VLOOKUP(tblSalaries[[#This Row],[Currency]],Sheet1!$N$4:$Q$186,4,FALSE))","v":18000},{"$f":"IF(Dashboard!$J$5=VLOOKUP(tblSalaries[[#This Row],[Currency]],Sheet3!$A$2:$B$31,2,FALSE),tblSalaries[[#This Row],[clean Salary (in local currency)]],(tblSalaries[[#This Row],[PPP Adjusted  USD]]/VLOOKUP(Dashboard!$J$5,Sheet3!$B$2:$C$31,2,FALSE)))","v":18000},"Data Specialist","Specialist","India","All the 8 hours baby, all the 8!",8]
[null,"ID1033",18000,"USD",18000,{"$f":"(tblSalaries[[#This Row],[clean Salary (in local currency)]])*(VLOOKUP(tblSalaries[[#This Row],[Currency]],Sheet3!$A$2:$C$31,3,FALSE))*(VLOOKUP(tblSalaries[[#This Row],[Currency]],Sheet1!$N$4:$Q$186,4,FALSE))","v":18000},{"$f":"IF(Dashboard!$J$5=VLOOKUP(tblSalaries[[#This Row],[Currency]],Sheet3!$A$2:$B$31,2,FALSE),tblSalaries[[#This Row],[clean Salary (in local currency)]],(tblSalaries[[#This Row],[PPP Adjusted  USD]]/VLOOKUP(Dashboard!$J$5,Sheet3!$B$2:$C$31,2,FALSE)))","v":18000},"Area Sales Manager","Manager","India","2 to 3 hours per day",4.5999999999999996]
[null,"ID1064",18000,"USD",18000,{"$f":"(tblSalaries[[#This Row],[clean Salary (in local currency)]])*(VLOOKUP(tblSalaries[[#This Row],[Currency]],Sheet3!$A$2:$C$31,3,FALSE))*(VLOOKUP(tblSalaries[[#This Row],[Currency]],Sheet1!$N$4:$Q$186,4,FALSE))","v":18000},{"$f":"IF(Dashboard!$J$5=VLOOKUP(tblSalaries[[#This Row],[Currency]],Sheet3!$A$2:$B$31,2,FALSE),tblSalaries[[#This Row],[clean Salary (in local currency)]],(tblSalaries[[#This Row],[PPP Adjusted  USD]]/VLOOKUP(Dashboard!$J$5,Sheet3!$B$2:$C$31,2,FALSE)))","v":18000},"Analyst","Analyst","Poland","4 to 6 hours a day",7]
[null,"ID1288",18000,"USD",18000,{"$f":"(tblSalaries[[#This Row],[clean Salary (in local currency)]])*(VLOOKUP(tblSalaries[[#This Row],[Currency]],Sheet3!$A$2:$C$31,3,FALSE))*(VLOOKUP(tblSalaries[[#This Row],[Currency]],Sheet1!$N$4:$Q$186,4,FALSE))","v":18000},{"$f":"IF(Dashboard!$J$5=VLOOKUP(tblSalaries[[#This Row],[Currency]],Sheet3!$A$2:$B$31,2,FALSE),tblSalaries[[#This Row],[clean Salary (in local currency)]],(tblSalaries[[#This Row],[PPP Adjusted  USD]]/VLOOKUP(Dashboard!$J$5,Sheet3!$B$2:$C$31,2,FALSE)))","v":18000},"Manager","Manager","India","4 to 6 hours a day",12]
[null,"ID1343",18000,"USD",18000,{"$f":"(tblSalaries[[#This Row],[clean Salary (in local currency)]])*(VLOOKUP(tblSalaries[[#This Row],[Currency]],Sheet3!$A$2:$C$31,3,FALSE))*(VLOOKUP(tblSalaries[[#This Row],[Currency]],Sheet1!$N$4:$Q$186,4,FALSE))","v":18000},{"$f":"IF(Dashboard!$J$5=VLOOKUP(tblSalaries[[#This Row],[Currency]],Sheet3!$A$2:$B$31,2,FALSE),tblSalaries[[#This Row],[clean Salary (in local currency)]],(tblSalaries[[#This Row],[PPP Adjusted  USD]]/VLOOKUP(Dashboard!$J$5,Sheet3!$B$2:$C$31,2,FALSE)))","v":18000},"liquidity manager","Manager","Ghana","4 to 6 hours a day",12]
[null,"ID1506",18000,"USD",18000,{"$f":"(tblSalaries[[#This Row],[clean Salary (in local currency)]])*(VLOOKUP(tblSalaries[[#This Row],[Currency]],Sheet3!$A$2:$C$31,3,FALSE))*(VLOOKUP(tblSalaries[[#This Row],[Currency]],Sheet1!$N$4:$Q$186,4,FALSE))","v":18000},{"$f":"IF(Dashboard!$J$5=VLOOKUP(tblSalaries[[#This Row],[Currency]],Sheet3!$A$2:$B$31,2,FALSE),tblSalaries[[#This Row],[clean Salary (in local currency)]],(tblSalaries[[#This Row],[PPP Adjusted  USD]]/VLOOKUP(Dashboard!$J$5,Sheet3!$B$2:$C$31,2,FALSE)))","v":18000},"Process Associate","Analyst","India","All the 8 hours baby, all the 8!",6]
[null,"ID1772",18000,"USD",18000,{"$f":"(tblSalaries[[#This Row],[clean Salary (in local currency)]])*(VLOOKUP(tblSalaries[[#This Row],[Currency]],Sheet3!$A$2:$C$31,3,FALSE))*(VLOOKUP(tblSalaries[[#This Row],[Currency]],Sheet1!$N$4:$Q$186,4,FALSE))","v":18000},{"$f":"IF(Dashboard!$J$5=VLOOKUP(tblSalaries[[#This Row],[Currency]],Sheet3!$A$2:$B$31,2,FALSE),tblSalaries[[#This Row],[clean Salary (in local currency)]],(tblSalaries[[#This Row],[PPP Adjusted  USD]]/VLOOKUP(Dashboard!$J$5,Sheet3!$B$2:$C$31,2,FALSE)))","v":18000},"accountant","Accountant","UAE","All the 8 hours baby, all the 8!",3]
[null,"ID0611",380000,"INR",6767.0083412281756,{"$f":"(tblSalaries[[#This Row],[clean Salary (in local currency)]])*(VLOOKUP(tblSalaries[[#This Row],[Currency]],Sheet3!$A$2:$C$31,3,FALSE))*(VLOOKUP(tblSalaries[[#This Row],[Currency]],Sheet1!$N$4:$Q$186,4,FALSE))","v":17997.188492505411},{"$f":"IF(Dashboard!$J$5=VLOOKUP(tblSalaries[[#This Row],[Currency]],Sheet3!$A$2:$B$31,2,FALSE),tblSalaries[[#This Row],[clean Salary (in local currency)]],(tblSalaries[[#This Row],[PPP Adjusted  USD]]/VLOOKUP(Dashboard!$J$5,Sheet3!$B$2:$C$31,2,FALSE)))","v":17997.188492505411},"Incharge","Manager","India","4 to 6 hours a day",10]
[null,"ID0694",380000,"INR",6767.0083412281756,{"$f":"(tblSalaries[[#This Row],[clean Salary (in local currency)]])*(VLOOKUP(tblSalaries[[#This Row],[Currency]],Sheet3!$A$2:$C$31,3,FALSE))*(VLOOKUP(tblSalaries[[#This Row],[Currency]],Sheet1!$N$4:$Q$186,4,FALSE))","v":17997.188492505411},{"$f":"IF(Dashboard!$J$5=VLOOKUP(tblSalaries[[#This Row],[Currency]],Sheet3!$A$2:$B$31,2,FALSE),tblSalaries[[#This Row],[clean Salary (in local currency)]],(tblSalaries[[#This Row],[PPP Adjusted  USD]]/VLOOKUP(Dashboard!$J$5,Sheet3!$B$2:$C$31,2,FALSE)))","v":17997.188492505411},"Team Lead Mis","Reporting","India","2 to 3 hours per day",6]
[null,"ID1540",380000,"INR",6767.0083412281756,{"$f":"(tblSalaries[[#This Row],[clean Salary (in local currency)]])*(VLOOKUP(tblSalaries[[#This Row],[Currency]],Sheet3!$A$2:$C$31,3,FALSE))*(VLOOKUP(tblSalaries[[#This Row],[Currency]],Sheet1!$N$4:$Q$186,4,FALSE))","v":17997.188492505411},{"$f":"IF(Dashboard!$J$5=VLOOKUP(tblSalaries[[#This Row],[Currency]],Sheet3!$A$2:$B$31,2,FALSE),tblSalaries[[#This Row],[clean Salary (in local currency)]],(tblSalaries[[#This Row],[PPP Adjusted  USD]]/VLOOKUP(Dashboard!$J$5,Sheet3!$B$2:$C$31,2,FALSE)))","v":17997.188492505411},"reporting analyst","Analyst","India","2 to 3 hours per day",6]
[null,"ID0799",377000,"INR",6713.584591165848,{"$f":"(tblSalaries[[#This Row],[clean Salary (in local currency)]])*(VLOOKUP(tblSalaries[[#This Row],[Currency]],Sheet3!$A$2:$C$31,3,FALSE))*(VLOOKUP(tblSalaries[[#This Row],[Currency]],Sheet1!$N$4:$Q$186,4,FALSE))","v":17855.105425459318},{"$f":"IF(Dashboard!$J$5=VLOOKUP(tblSalaries[[#This Row],[Currency]],Sheet3!$A$2:$B$31,2,FALSE),tblSalaries[[#This Row],[clean Salary (in local currency)]],(tblSalaries[[#This Row],[PPP Adjusted  USD]]/VLOOKUP(Dashboard!$J$5,Sheet3!$B$2:$C$31,2,FALSE)))","v":17855.105425459318},"Team Developer","Analyst","India","1 or 2 hours a day",7]
[null,"ID0720",375000,"INR",6677.9687577909626,{"$f":"(tblSalaries[[#This Row],[clean Salary (in local currency)]])*(VLOOKUP(tblSalaries[[#This Row],[Currency]],Sheet3!$A$2:$C$31,3,FALSE))*(VLOOKUP(tblSalaries[[#This Row],[Currency]],Sheet1!$N$4:$Q$186,4,FALSE))","v":17760.383380761919},{"$f":"IF(Dashboard!$J$5=VLOOKUP(tblSalaries[[#This Row],[Currency]],Sheet3!$A$2:$B$31,2,FALSE),tblSalaries[[#This Row],[clean Salary (in local currency)]],(tblSalaries[[#This Row],[PPP Adjusted  USD]]/VLOOKUP(Dashboard!$J$5,Sheet3!$B$2:$C$31,2,FALSE)))","v":17760.383380761919},"Team Lead","Manager","India","2 to 3 hours per day",6]
[null,"ID1579",17728,"USD",17728,{"$f":"(tblSalaries[[#This Row],[clean Salary (in local currency)]])*(VLOOKUP(tblSalaries[[#This Row],[Currency]],Sheet3!$A$2:$C$31,3,FALSE))*(VLOOKUP(tblSalaries[[#This Row],[Currency]],Sheet1!$N$4:$Q$186,4,FALSE))","v":17728},{"$f":"IF(Dashboard!$J$5=VLOOKUP(tblSalaries[[#This Row],[Currency]],Sheet3!$A$2:$B$31,2,FALSE),tblSalaries[[#This Row],[clean Salary (in local currency)]],(tblSalaries[[#This Row],[PPP Adjusted  USD]]/VLOOKUP(Dashboard!$J$5,Sheet3!$B$2:$C$31,2,FALSE)))","v":17728},"Financial analyst","Analyst","Mexico","4 to 6 hours a day",3]
[null,"ID1057",16000,"EUR",20326.391023865726,{"$f":"(tblSalaries[[#This Row],[clean Salary (in local currency)]])*(VLOOKUP(tblSalaries[[#This Row],[Currency]],Sheet3!$A$2:$C$31,3,FALSE))*(VLOOKUP(tblSalaries[[#This Row],[Currency]],Sheet1!$N$4:$Q$186,4,FALSE))","v":17610.446175680838},{"$f":"IF(Dashboard!$J$5=VLOOKUP(tblSalaries[[#This Row],[Currency]],Sheet3!$A$2:$B$31,2,FALSE),tblSalaries[[#This Row],[clean Salary (in local currency)]],(tblSalaries[[#This Row],[PPP Adjusted  USD]]/VLOOKUP(Dashboard!$J$5,Sheet3!$B$2:$C$31,2,FALSE)))","v":17610.446175680838},"Management Information Systems","Manager","Greece","All the 8 hours baby, all the 8!",16]
[null,"ID0352",370000,"INR",6588.9291743537506,{"$f":"(tblSalaries[[#This Row],[clean Salary (in local currency)]])*(VLOOKUP(tblSalaries[[#This Row],[Currency]],Sheet3!$A$2:$C$31,3,FALSE))*(VLOOKUP(tblSalaries[[#This Row],[Currency]],Sheet1!$N$4:$Q$186,4,FALSE))","v":17523.578269018428},{"$f":"IF(Dashboard!$J$5=VLOOKUP(tblSalaries[[#This Row],[Currency]],Sheet3!$A$2:$B$31,2,FALSE),tblSalaries[[#This Row],[clean Salary (in local currency)]],(tblSalaries[[#This Row],[PPP Adjusted  USD]]/VLOOKUP(Dashboard!$J$5,Sheet3!$B$2:$C$31,2,FALSE)))","v":17523.578269018428},"Senior Design Associate","Analyst","India","All the 8 hours baby, all the 8!","Data Not Avaliable"]
[null,"ID0702",370000,"INR",6588.9291743537506,{"$f":"(tblSalaries[[#This Row],[clean Salary (in local currency)]])*(VLOOKUP(tblSalaries[[#This Row],[Currency]],Sheet3!$A$2:$C$31,3,FALSE))*(VLOOKUP(tblSalaries[[#This Row],[Currency]],Sheet1!$N$4:$Q$186,4,FALSE))","v":17523.578269018428},{"$f":"IF(Dashboard!$J$5=VLOOKUP(tblSalaries[[#This Row],[Currency]],Sheet3!$A$2:$B$31,2,FALSE),tblSalaries[[#This Row],[clean Salary (in local currency)]],(tblSalaries[[#This Row],[PPP Adjusted  USD]]/VLOOKUP(Dashboard!$J$5,Sheet3!$B$2:$C$31,2,FALSE)))","v":17523.578269018428},"Operations Analyst","Analyst","India","All the 8 hours baby, all the 8!",2]
[null,"ID0703",370000,"INR",6588.9291743537506,{"$f":"(tblSalaries[[#This Row],[clean Salary (in local currency)]])*(VLOOKUP(tblSalaries[[#This Row],[Currency]],Sheet3!$A$2:$C$31,3,FALSE))*(VLOOKUP(tblSalaries[[#This Row],[Currency]],Sheet1!$N$4:$Q$186,4,FALSE))","v":17523.578269018428},{"$f":"IF(Dashboard!$J$5=VLOOKUP(tblSalaries[[#This Row],[Currency]],Sheet3!$A$2:$B$31,2,FALSE),tblSalaries[[#This Row],[clean Salary (in local currency)]],(tblSalaries[[#This Row],[PPP Adjusted  USD]]/VLOOKUP(Dashboard!$J$5,Sheet3!$B$2:$C$31,2,FALSE)))","v":17523.578269018428},"Operations Analyst","Analyst","India","All the 8 hours baby, all the 8!",2]
[null,"ID1018",365000,"INR",6499.8895909165376,{"$f":"(tblSalaries[[#This Row],[clean Salary (in local currency)]])*(VLOOKUP(tblSalaries[[#This Row],[Currency]],Sheet3!$A$2:$C$31,3,FALSE))*(VLOOKUP(tblSalaries[[#This Row],[Currency]],Sheet1!$N$4:$Q$186,4,FALSE))","v":17286.773157274936},{"$f":"IF(Dashboard!$J$5=VLOOKUP(tblSalaries[[#This Row],[Currency]],Sheet3!$A$2:$B$31,2,FALSE),tblSalaries[[#This Row],[clean Salary (in local currency)]],(tblSalaries[[#This Row],[PPP Adjusted  USD]]/VLOOKUP(Dashboard!$J$5,Sheet3!$B$2:$C$31,2,FALSE)))","v":17286.773157274936},"associate analyst","Analyst","India","4 to 6 hours a day",3]
[null,"ID0834",15600,"EUR",19818.231248269083,{"$f":"(tblSalaries[[#This Row],[clean Salary (in local currency)]])*(VLOOKUP(tblSalaries[[#This Row],[Currency]],Sheet3!$A$2:$C$31,3,FALSE))*(VLOOKUP(tblSalaries[[#This Row],[Currency]],Sheet1!$N$4:$Q$186,4,FALSE))","v":17170.185021288817},{"$f":"IF(Dashboard!$J$5=VLOOKUP(tblSalaries[[#This Row],[Currency]],Sheet3!$A$2:$B$31,2,FALSE),tblSalaries[[#This Row],[clean Salary (in local currency)]],(tblSalaries[[#This Row],[PPP Adjusted  USD]]/VLOOKUP(Dashboard!$J$5,Sheet3!$B$2:$C$31,2,FALSE)))","v":17170.185021288817},"Managment controller","Controller","Portugal","4 to 6 hours a day",5]
[null,"ID0032",360000,"INR",6410.8500074793246,{"$f":"(tblSalaries[[#This Row],[clean Salary (in local currency)]])*(VLOOKUP(tblSalaries[[#This Row],[Currency]],Sheet3!$A$2:$C$31,3,FALSE))*(VLOOKUP(tblSalaries[[#This Row],[Currency]],Sheet1!$N$4:$Q$186,4,FALSE))","v":17049.968045531445},{"$f":"IF(Dashboard!$J$5=VLOOKUP(tblSalaries[[#This Row],[Currency]],Sheet3!$A$2:$B$31,2,FALSE),tblSalaries[[#This Row],[clean Salary (in local currency)]],(tblSalaries[[#This Row],[PPP Adjusted  USD]]/VLOOKUP(Dashboard!$J$5,Sheet3!$B$2:$C$31,2,FALSE)))","v":17049.968045531445},"Specialist","Specialist","India","4 to 6 hours a day","Data Not Avaliable"]
[null,"ID0340",360000,"INR",6410.8500074793246,{"$f":"(tblSalaries[[#This Row],[clean Salary (in local currency)]])*(VLOOKUP(tblSalaries[[#This Row],[Currency]],Sheet3!$A$2:$C$31,3,FALSE))*(VLOOKUP(tblSalaries[[#This Row],[Currency]],Sheet1!$N$4:$Q$186,4,FALSE))","v":17049.968045531445},{"$f":"IF(Dashboard!$J$5=VLOOKUP(tblSalaries[[#This Row],[Currency]],Sheet3!$A$2:$B$31,2,FALSE),tblSalaries[[#This Row],[clean Salary (in local currency)]],(tblSalaries[[#This Row],[PPP Adjusted  USD]]/VLOOKUP(Dashboard!$J$5,Sheet3!$B$2:$C$31,2,FALSE)))","v":17049.968045531445},"Business Analysit","Analyst","India","2 to 3 hours per day","Data Not Avaliable"]
[null,"ID0751",360000,"INR",6410.8500074793246,{"$f":"(tblSalaries[[#This Row],[clean Salary (in local currency)]])*(VLOOKUP(tblSalaries[[#This Row],[Currency]],Sheet3!$A$2:$C$31,3,FALSE))*(VLOOKUP(tblSalaries[[#This Row],[Currency]],Sheet1!$N$4:$Q$186,4,FALSE))","v":17049.968045531445},{"$f":"IF(Dashboard!$J$5=VLOOKUP(tblSalaries[[#This Row],[Currency]],Sheet3!$A$2:$B$31,2,FALSE),tblSalaries[[#This Row],[clean Salary (in local currency)]],(tblSalaries[[#This Row],[PPP Adjusted  USD]]/VLOOKUP(Dashboard!$J$5,Sheet3!$B$2:$C$31,2,FALSE)))","v":17049.968045531445},"Project Lead","Manager","India","All the 8 hours baby, all the 8!",6]
[null,"ID0828",360000,"INR",6410.8500074793246,{"$f":"(tblSalaries[[#This Row],[clean Salary (in local currency)]])*(VLOOKUP(tblSalaries[[#This Row],[Currency]],Sheet3!$A$2:$C$31,3,FALSE))*(VLOOKUP(tblSalaries[[#This Row],[Currency]],Sheet1!$N$4:$Q$186,4,FALSE))","v":17049.968045531445},{"$f":"IF(Dashboard!$J$5=VLOOKUP(tblSalaries[[#This Row],[Currency]],Sheet3!$A$2:$B$31,2,FALSE),tblSalaries[[#This Row],[clean Salary (in local currency)]],(tblSalaries[[#This Row],[PPP Adjusted  USD]]/VLOOKUP(Dashboard!$J$5,Sheet3!$B$2:$C$31,2,FALSE)))","v":17049.968045531445},"Application Developer","Analyst","India","All the 8 hours baby, all the 8!",4]
[null,"ID1281",360000,"INR",6410.8500074793246,{"$f":"(tblSalaries[[#This Row],[clean Salary (in local currency)]])*(VLOOKUP(tblSalaries[[#This Row],[Currency]],Sheet3!$A$2:$C$31,3,FALSE))*(VLOOKUP(tblSalaries[[#This Row],[Currency]],Sheet1!$N$4:$Q$186,4,FALSE))","v":17049.968045531445},{"$f":"IF(Dashboard!$J$5=VLOOKUP(tblSalaries[[#This Row],[Currency]],Sheet3!$A$2:$B$31,2,FALSE),tblSalaries[[#This Row],[clean Salary (in local currency)]],(tblSalaries[[#This Row],[PPP Adjusted  USD]]/VLOOKUP(Dashboard!$J$5,Sheet3!$B$2:$C$31,2,FALSE)))","v":17049.968045531445},"Team Leader WFM","Manager","India","All the 8 hours baby, all the 8!",6]
[null,"ID1314",360000,"INR",6410.8500074793246,{"$f":"(tblSalaries[[#This Row],[clean Salary (in local currency)]])*(VLOOKUP(tblSalaries[[#This Row],[Currency]],Sheet3!$A$2:$C$31,3,FALSE))*(VLOOKUP(tblSalaries[[#This Row],[Currency]],Sheet1!$N$4:$Q$186,4,FALSE))","v":17049.968045531445},{"$f":"IF(Dashboard!$J$5=VLOOKUP(tblSalaries[[#This Row],[Currency]],Sheet3!$A$2:$B$31,2,FALSE),tblSalaries[[#This Row],[clean Salary (in local currency)]],(tblSalaries[[#This Row],[PPP Adjusted  USD]]/VLOOKUP(Dashboard!$J$5,Sheet3!$B$2:$C$31,2,FALSE)))","v":17049.968045531445},"Sr. Executive -HR","Analyst","India","All the 8 hours baby, all the 8!",6]
[null,"ID1465",360000,"INR",6410.8500074793246,{"$f":"(tblSalaries[[#This Row],[clean Salary (in local currency)]])*(VLOOKUP(tblSalaries[[#This Row],[Currency]],Sheet3!$A$2:$C$31,3,FALSE))*(VLOOKUP(tblSalaries[[#This Row],[Currency]],Sheet1!$N$4:$Q$186,4,FALSE))","v":17049.968045531445},{"$f":"IF(Dashboard!$J$5=VLOOKUP(tblSalaries[[#This Row],[Currency]],Sheet3!$A$2:$B$31,2,FALSE),tblSalaries[[#This Row],[clean Salary (in local currency)]],(tblSalaries[[#This Row],[PPP Adjusted  USD]]/VLOOKUP(Dashboard!$J$5,Sheet3!$B$2:$C$31,2,FALSE)))","v":17049.968045531445},"analyst","Analyst","India","2 to 3 hours per day",6]
[null,"ID1588",360000,"INR",6410.8500074793246,{"$f":"(tblSalaries[[#This Row],[clean Salary (in local currency)]])*(VLOOKUP(tblSalaries[[#This Row],[Currency]],Sheet3!$A$2:$C$31,3,FALSE))*(VLOOKUP(tblSalaries[[#This Row],[Currency]],Sheet1!$N$4:$Q$186,4,FALSE))","v":17049.968045531445},{"$f":"IF(Dashboard!$J$5=VLOOKUP(tblSalaries[[#This Row],[Currency]],Sheet3!$A$2:$B$31,2,FALSE),tblSalaries[[#This Row],[clean Salary (in local currency)]],(tblSalaries[[#This Row],[PPP Adjusted  USD]]/VLOOKUP(Dashboard!$J$5,Sheet3!$B$2:$C$31,2,FALSE)))","v":17049.968045531445},"team leader ","Manager","India","2 to 3 hours per day",8]
[null,"ID1736",360000,"INR",6410.8500074793246,{"$f":"(tblSalaries[[#This Row],[clean Salary (in local currency)]])*(VLOOKUP(tblSalaries[[#This Row],[Currency]],Sheet3!$A$2:$C$31,3,FALSE))*(VLOOKUP(tblSalaries[[#This Row],[Currency]],Sheet1!$N$4:$Q$186,4,FALSE))","v":17049.968045531445},{"$f":"IF(Dashboard!$J$5=VLOOKUP(tblSalaries[[#This Row],[Currency]],Sheet3!$A$2:$B$31,2,FALSE),tblSalaries[[#This Row],[clean Salary (in local currency)]],(tblSalaries[[#This Row],[PPP Adjusted  USD]]/VLOOKUP(Dashboard!$J$5,Sheet3!$B$2:$C$31,2,FALSE)))","v":17049.968045531445},"Baan ERP Functional Consultant","Consultant","India","1 or 2 hours a day",2]
[null,"ID1876",360000,"INR",6410.8500074793246,{"$f":"(tblSalaries[[#This Row],[clean Salary (in local currency)]])*(VLOOKUP(tblSalaries[[#This Row],[Currency]],Sheet3!$A$2:$C$31,3,FALSE))*(VLOOKUP(tblSalaries[[#This Row],[Currency]],Sheet1!$N$4:$Q$186,4,FALSE))","v":17049.968045531445},{"$f":"IF(Dashboard!$J$5=VLOOKUP(tblSalaries[[#This Row],[Currency]],Sheet3!$A$2:$B$31,2,FALSE),tblSalaries[[#This Row],[clean Salary (in local currency)]],(tblSalaries[[#This Row],[PPP Adjusted  USD]]/VLOOKUP(Dashboard!$J$5,Sheet3!$B$2:$C$31,2,FALSE)))","v":17049.968045531445},"Analyst","Analyst","India","All the 8 hours baby, all the 8!",2]
[null,"ID0662",16800,"USD",16800,{"$f":"(tblSalaries[[#This Row],[clean Salary (in local currency)]])*(VLOOKUP(tblSalaries[[#This Row],[Currency]],Sheet3!$A$2:$C$31,3,FALSE))*(VLOOKUP(tblSalaries[[#This Row],[Currency]],Sheet1!$N$4:$Q$186,4,FALSE))","v":16800},{"$f":"IF(Dashboard!$J$5=VLOOKUP(tblSalaries[[#This Row],[Currency]],Sheet3!$A$2:$B$31,2,FALSE),tblSalaries[[#This Row],[clean Salary (in local currency)]],(tblSalaries[[#This Row],[PPP Adjusted  USD]]/VLOOKUP(Dashboard!$J$5,Sheet3!$B$2:$C$31,2,FALSE)))","v":16800},"Assistant","Analyst","Pakistan","4 to 6 hours a day",12]
[null,"ID1116",100000,"ZAR",12192.177986291113,{"$f":"(tblSalaries[[#This Row],[clean Salary (in local currency)]])*(VLOOKUP(tblSalaries[[#This Row],[Currency]],Sheet3!$A$2:$C$31,3,FALSE))*(VLOOKUP(tblSalaries[[#This Row],[Currency]],Sheet1!$N$4:$Q$186,4,FALSE))","v":16585.944054857038},{"$f":"IF(Dashboard!$J$5=VLOOKUP(tblSalaries[[#This Row],[Currency]],Sheet3!$A$2:$B$31,2,FALSE),tblSalaries[[#This Row],[clean Salary (in local currency)]],(tblSalaries[[#This Row],[PPP Adjusted  USD]]/VLOOKUP(Dashboard!$J$5,Sheet3!$B$2:$C$31,2,FALSE)))","v":16585.944054857038},"Q.A.Officer","Manager","South Africa","All the 8 hours baby, all the 8!",15]
[null,"ID0222",350000,"INR",6232.7708406048987,{"$f":"(tblSalaries[[#This Row],[clean Salary (in local currency)]])*(VLOOKUP(tblSalaries[[#This Row],[Currency]],Sheet3!$A$2:$C$31,3,FALSE))*(VLOOKUP(tblSalaries[[#This Row],[Currency]],Sheet1!$N$4:$Q$186,4,FALSE))","v":16576.357822044458},{"$f":"IF(Dashboard!$J$5=VLOOKUP(tblSalaries[[#This Row],[Currency]],Sheet3!$A$2:$B$31,2,FALSE),tblSalaries[[#This Row],[clean Salary (in local currency)]],(tblSalaries[[#This Row],[PPP Adjusted  USD]]/VLOOKUP(Dashboard!$J$5,Sheet3!$B$2:$C$31,2,FALSE)))","v":16576.357822044458},"Jr. Executive Finance","Accountant","India","4 to 6 hours a day","Data Not Avaliable"]
[null,"ID1013",350000,"INR",6232.7708406048987,{"$f":"(tblSalaries[[#This Row],[clean Salary (in local currency)]])*(VLOOKUP(tblSalaries[[#This Row],[Currency]],Sheet3!$A$2:$C$31,3,FALSE))*(VLOOKUP(tblSalaries[[#This Row],[Currency]],Sheet1!$N$4:$Q$186,4,FALSE))","v":16576.357822044458},{"$f":"IF(Dashboard!$J$5=VLOOKUP(tblSalaries[[#This Row],[Currency]],Sheet3!$A$2:$B$31,2,FALSE),tblSalaries[[#This Row],[clean Salary (in local currency)]],(tblSalaries[[#This Row],[PPP Adjusted  USD]]/VLOOKUP(Dashboard!$J$5,Sheet3!$B$2:$C$31,2,FALSE)))","v":16576.357822044458},"Data Analyst","Analyst","India","4 to 6 hours a day",2.5]
[null,"ID1184",350000,"INR",6232.7708406048987,{"$f":"(tblSalaries[[#This Row],[clean Salary (in local currency)]])*(VLOOKUP(tblSalaries[[#This Row],[Currency]],Sheet3!$A$2:$C$31,3,FALSE))*(VLOOKUP(tblSalaries[[#This Row],[Currency]],Sheet1!$N$4:$Q$186,4,FALSE))","v":16576.357822044458},{"$f":"IF(Dashboard!$J$5=VLOOKUP(tblSalaries[[#This Row],[Currency]],Sheet3!$A$2:$B$31,2,FALSE),tblSalaries[[#This Row],[clean Salary (in local currency)]],(tblSalaries[[#This Row],[PPP Adjusted  USD]]/VLOOKUP(Dashboard!$J$5,Sheet3!$B$2:$C$31,2,FALSE)))","v":16576.357822044458},"officer accounts","Accountant","India","2 to 3 hours per day",1.5]
[null,"ID1301",350000,"INR",6232.7708406048987,{"$f":"(tblSalaries[[#This Row],[clean Salary (in local currency)]])*(VLOOKUP(tblSalaries[[#This Row],[Currency]],Sheet3!$A$2:$C$31,3,FALSE))*(VLOOKUP(tblSalaries[[#This Row],[Currency]],Sheet1!$N$4:$Q$186,4,FALSE))","v":16576.357822044458},{"$f":"IF(Dashboard!$J$5=VLOOKUP(tblSalaries[[#This Row],[Currency]],Sheet3!$A$2:$B$31,2,FALSE),tblSalaries[[#This Row],[clean Salary (in local currency)]],(tblSalaries[[#This Row],[PPP Adjusted  USD]]/VLOOKUP(Dashboard!$J$5,Sheet3!$B$2:$C$31,2,FALSE)))","v":16576.357822044458},"I dont know","Analyst","India","4 to 6 hours a day",1.5]
[null,"ID1879",350000,"INR",6232.7708406048987,{"$f":"(tblSalaries[[#This Row],[clean Salary (in local currency)]])*(VLOOKUP(tblSalaries[[#This Row],[Currency]],Sheet3!$A$2:$C$31,3,FALSE))*(VLOOKUP(tblSalaries[[#This Row],[Currency]],Sheet1!$N$4:$Q$186,4,FALSE))","v":16576.357822044458},{"$f":"IF(Dashboard!$J$5=VLOOKUP(tblSalaries[[#This Row],[Currency]],Sheet3!$A$2:$B$31,2,FALSE),tblSalaries[[#This Row],[clean Salary (in local currency)]],(tblSalaries[[#This Row],[PPP Adjusted  USD]]/VLOOKUP(Dashboard!$J$5,Sheet3!$B$2:$C$31,2,FALSE)))","v":16576.357822044458},"Analyst","Analyst","India","4 to 6 hours a day",6]
[null,"ID1894",350000,"INR",6232.7708406048987,{"$f":"(tblSalaries[[#This Row],[clean Salary (in local currency)]])*(VLOOKUP(tblSalaries[[#This Row],[Currency]],Sheet3!$A$2:$C$31,3,FALSE))*(VLOOKUP(tblSalaries[[#This Row],[Currency]],Sheet1!$N$4:$Q$186,4,FALSE))","v":16576.357822044458},{"$f":"IF(Dashboard!$J$5=VLOOKUP(tblSalaries[[#This Row],[Currency]],Sheet3!$A$2:$B$31,2,FALSE),tblSalaries[[#This Row],[clean Salary (in local currency)]],(tblSalaries[[#This Row],[PPP Adjusted  USD]]/VLOOKUP(Dashboard!$J$5,Sheet3!$B$2:$C$31,2,FALSE)))","v":16576.357822044458},"manager purchase","Manager","India","2 to 3 hours per day",27]
[null,"ID0507",15000,"EUR",19055.991584874118,{"$f":"(tblSalaries[[#This Row],[clean Salary (in local currency)]])*(VLOOKUP(tblSalaries[[#This Row],[Currency]],Sheet3!$A$2:$C$31,3,FALSE))*(VLOOKUP(tblSalaries[[#This Row],[Currency]],Sheet1!$N$4:$Q$186,4,FALSE))","v":16509.793289700785},{"$f":"IF(Dashboard!$J$5=VLOOKUP(tblSalaries[[#This Row],[Currency]],Sheet3!$A$2:$B$31,2,FALSE),tblSalaries[[#This Row],[clean Salary (in local currency)]],(tblSalaries[[#This Row],[PPP Adjusted  USD]]/VLOOKUP(Dashboard!$J$5,Sheet3!$B$2:$C$31,2,FALSE)))","v":16509.793289700785},"Report Analyst","Analyst","Spain","All the 8 hours baby, all the 8!","Data Not Avaliable"]
[null,"ID0797",15000,"EUR",19055.991584874118,{"$f":"(tblSalaries[[#This Row],[clean Salary (in local currency)]])*(VLOOKUP(tblSalaries[[#This Row],[Currency]],Sheet3!$A$2:$C$31,3,FALSE))*(VLOOKUP(tblSalaries[[#This Row],[Currency]],Sheet1!$N$4:$Q$186,4,FALSE))","v":16509.793289700785},{"$f":"IF(Dashboard!$J$5=VLOOKUP(tblSalaries[[#This Row],[Currency]],Sheet3!$A$2:$B$31,2,FALSE),tblSalaries[[#This Row],[clean Salary (in local currency)]],(tblSalaries[[#This Row],[PPP Adjusted  USD]]/VLOOKUP(Dashboard!$J$5,Sheet3!$B$2:$C$31,2,FALSE)))","v":16509.793289700785},"Technician","Analyst","Spain","2 to 3 hours per day",10]
[null,"ID0929",15000,"EUR",19055.991584874118,{"$f":"(tblSalaries[[#This Row],[clean Salary (in local currency)]])*(VLOOKUP(tblSalaries[[#This Row],[Currency]],Sheet3!$A$2:$C$31,3,FALSE))*(VLOOKUP(tblSalaries[[#This Row],[Currency]],Sheet1!$N$4:$Q$186,4,FALSE))","v":16509.793289700785},{"$f":"IF(Dashboard!$J$5=VLOOKUP(tblSalaries[[#This Row],[Currency]],Sheet3!$A$2:$B$31,2,FALSE),tblSalaries[[#This Row],[clean Salary (in local currency)]],(tblSalaries[[#This Row],[PPP Adjusted  USD]]/VLOOKUP(Dashboard!$J$5,Sheet3!$B$2:$C$31,2,FALSE)))","v":16509.793289700785},"analytic","Analyst","Slovenia","4 to 6 hours a day",4]
[null,"ID1201",15000,"EUR",19055.991584874118,{"$f":"(tblSalaries[[#This Row],[clean Salary (in local currency)]])*(VLOOKUP(tblSalaries[[#This Row],[Currency]],Sheet3!$A$2:$C$31,3,FALSE))*(VLOOKUP(tblSalaries[[#This Row],[Currency]],Sheet1!$N$4:$Q$186,4,FALSE))","v":16509.793289700785},{"$f":"IF(Dashboard!$J$5=VLOOKUP(tblSalaries[[#This Row],[Currency]],Sheet3!$A$2:$B$31,2,FALSE),tblSalaries[[#This Row],[clean Salary (in local currency)]],(tblSalaries[[#This Row],[PPP Adjusted  USD]]/VLOOKUP(Dashboard!$J$5,Sheet3!$B$2:$C$31,2,FALSE)))","v":16509.793289700785},"business consultant","Consultant","italy","4 to 6 hours a day",3]
[null,"ID0908",16350,"USD",16350,{"$f":"(tblSalaries[[#This Row],[clean Salary (in local currency)]])*(VLOOKUP(tblSalaries[[#This Row],[Currency]],Sheet3!$A$2:$C$31,3,FALSE))*(VLOOKUP(tblSalaries[[#This Row],[Currency]],Sheet1!$N$4:$Q$186,4,FALSE))","v":16350},{"$f":"IF(Dashboard!$J$5=VLOOKUP(tblSalaries[[#This Row],[Currency]],Sheet3!$A$2:$B$31,2,FALSE),tblSalaries[[#This Row],[clean Salary (in local currency)]],(tblSalaries[[#This Row],[PPP Adjusted  USD]]/VLOOKUP(Dashboard!$J$5,Sheet3!$B$2:$C$31,2,FALSE)))","v":16350},"Estimator","Manager","India","4 to 6 hours a day",5]
[null,"ID1868",16110,"USD",16110,{"$f":"(tblSalaries[[#This Row],[clean Salary (in local currency)]])*(VLOOKUP(tblSalaries[[#This Row],[Currency]],Sheet3!$A$2:$C$31,3,FALSE))*(VLOOKUP(tblSalaries[[#This Row],[Currency]],Sheet1!$N$4:$Q$186,4,FALSE))","v":16110},{"$f":"IF(Dashboard!$J$5=VLOOKUP(tblSalaries[[#This Row],[Currency]],Sheet3!$A$2:$B$31,2,FALSE),tblSalaries[[#This Row],[clean Salary (in local currency)]],(tblSalaries[[#This Row],[PPP Adjusted  USD]]/VLOOKUP(Dashboard!$J$5,Sheet3!$B$2:$C$31,2,FALSE)))","v":16110},"INFORMATION ANALIST","Analyst","Colombia","All the 8 hours baby, all the 8!",10]
[null,"ID1651",340000,"INR",6054.6916737304728,{"$f":"(tblSalaries[[#This Row],[clean Salary (in local currency)]])*(VLOOKUP(tblSalaries[[#This Row],[Currency]],Sheet3!$A$2:$C$31,3,FALSE))*(VLOOKUP(tblSalaries[[#This Row],[Currency]],Sheet1!$N$4:$Q$186,4,FALSE))","v":16102.747598557473},{"$f":"IF(Dashboard!$J$5=VLOOKUP(tblSalaries[[#This Row],[Currency]],Sheet3!$A$2:$B$31,2,FALSE),tblSalaries[[#This Row],[clean Salary (in local currency)]],(tblSalaries[[#This Row],[PPP Adjusted  USD]]/VLOOKUP(Dashboard!$J$5,Sheet3!$B$2:$C$31,2,FALSE)))","v":16102.747598557473},"Assistant Manager","Manager","India","4 to 6 hours a day",5]
[null,"ID0301",16000,"USD",16000,{"$f":"(tblSalaries[[#This Row],[clean Salary (in local currency)]])*(VLOOKUP(tblSalaries[[#This Row],[Currency]],Sheet3!$A$2:$C$31,3,FALSE))*(VLOOKUP(tblSalaries[[#This Row],[Currency]],Sheet1!$N$4:$Q$186,4,FALSE))","v":16000},{"$f":"IF(Dashboard!$J$5=VLOOKUP(tblSalaries[[#This Row],[Currency]],Sheet3!$A$2:$B$31,2,FALSE),tblSalaries[[#This Row],[clean Salary (in local currency)]],(tblSalaries[[#This Row],[PPP Adjusted  USD]]/VLOOKUP(Dashboard!$J$5,Sheet3!$B$2:$C$31,2,FALSE)))","v":16000},"VP of Finance","CXO or Top Mgmt.","USA","1 or 2 hours a day","Data Not Avaliable"]
[null,"ID0749",16000,"USD",16000,{"$f":"(tblSalaries[[#This Row],[clean Salary (in local currency)]])*(VLOOKUP(tblSalaries[[#This Row],[Currency]],Sheet3!$A$2:$C$31,3,FALSE))*(VLOOKUP(tblSalaries[[#This Row],[Currency]],Sheet1!$N$4:$Q$186,4,FALSE))","v":16000},{"$f":"IF(Dashboard!$J$5=VLOOKUP(tblSalaries[[#This Row],[Currency]],Sheet3!$A$2:$B$31,2,FALSE),tblSalaries[[#This Row],[clean Salary (in local currency)]],(tblSalaries[[#This Row],[PPP Adjusted  USD]]/VLOOKUP(Dashboard!$J$5,Sheet3!$B$2:$C$31,2,FALSE)))","v":16000},"Engineer","Engineer","India","2 to 3 hours per day",5]
[null,"ID0786",16000,"USD",16000,{"$f":"(tblSalaries[[#This Row],[clean Salary (in local currency)]])*(VLOOKUP(tblSalaries[[#This Row],[Currency]],Sheet3!$A$2:$C$31,3,FALSE))*(VLOOKUP(tblSalaries[[#This Row],[Currency]],Sheet1!$N$4:$Q$186,4,FALSE))","v":16000},{"$f":"IF(Dashboard!$J$5=VLOOKUP(tblSalaries[[#This Row],[Currency]],Sheet3!$A$2:$B$31,2,FALSE),tblSalaries[[#This Row],[clean Salary (in local currency)]],(tblSalaries[[#This Row],[PPP Adjusted  USD]]/VLOOKUP(Dashboard!$J$5,Sheet3!$B$2:$C$31,2,FALSE)))","v":16000},"Mis executiv","Reporting","India","All the 8 hours baby, all the 8!",1]
[null,"ID1633",288000,"MUR",9376.2513877177607,{"$f":"(tblSalaries[[#This Row],[clean Salary (in local currency)]])*(VLOOKUP(tblSalaries[[#This Row],[Currency]],Sheet3!$A$2:$C$31,3,FALSE))*(VLOOKUP(tblSalaries[[#This Row],[Currency]],Sheet1!$N$4:$Q$186,4,FALSE))","v":15976.011822650717},{"$f":"IF(Dashboard!$J$5=VLOOKUP(tblSalaries[[#This Row],[Currency]],Sheet3!$A$2:$B$31,2,FALSE),tblSalaries[[#This Row],[clean Salary (in local currency)]],(tblSalaries[[#This Row],[PPP Adjusted  USD]]/VLOOKUP(Dashboard!$J$5,Sheet3!$B$2:$C$31,2,FALSE)))","v":15976.011822650717},"IT Support Engineer","Engineer","Mauritius","4 to 6 hours a day",7]
[null,"ID0141",336000,"INR",5983.4600069807029,{"$f":"(tblSalaries[[#This Row],[clean Salary (in local currency)]])*(VLOOKUP(tblSalaries[[#This Row],[Currency]],Sheet3!$A$2:$C$31,3,FALSE))*(VLOOKUP(tblSalaries[[#This Row],[Currency]],Sheet1!$N$4:$Q$186,4,FALSE))","v":15913.303509162681},{"$f":"IF(Dashboard!$J$5=VLOOKUP(tblSalaries[[#This Row],[Currency]],Sheet3!$A$2:$B$31,2,FALSE),tblSalaries[[#This Row],[clean Salary (in local currency)]],(tblSalaries[[#This Row],[PPP Adjusted  USD]]/VLOOKUP(Dashboard!$J$5,Sheet3!$B$2:$C$31,2,FALSE)))","v":15913.303509162681},"MIS Team Leader","Reporting","India","4 to 6 hours a day","Data Not Avaliable"]
[null,"ID1573",15840,"USD",15840,{"$f":"(tblSalaries[[#This Row],[clean Salary (in local currency)]])*(VLOOKUP(tblSalaries[[#This Row],[Currency]],Sheet3!$A$2:$C$31,3,FALSE))*(VLOOKUP(tblSalaries[[#This Row],[Currency]],Sheet1!$N$4:$Q$186,4,FALSE))","v":15840},{"$f":"IF(Dashboard!$J$5=VLOOKUP(tblSalaries[[#This Row],[Currency]],Sheet3!$A$2:$B$31,2,FALSE),tblSalaries[[#This Row],[clean Salary (in local currency)]],(tblSalaries[[#This Row],[PPP Adjusted  USD]]/VLOOKUP(Dashboard!$J$5,Sheet3!$B$2:$C$31,2,FALSE)))","v":15840},"Asistente","Analyst","Peru","All the 8 hours baby, all the 8!",8]
[null,"ID0316",150000,"MXN",10956.982885192734,{"$f":"(tblSalaries[[#This Row],[clean Salary (in local currency)]])*(VLOOKUP(tblSalaries[[#This Row],[Currency]],Sheet3!$A$2:$C$31,3,FALSE))*(VLOOKUP(tblSalaries[[#This Row],[Currency]],Sheet1!$N$4:$Q$186,4,FALSE))","v":15766.204797911692},{"$f":"IF(Dashboard!$J$5=VLOOKUP(tblSalaries[[#This Row],[Currency]],Sheet3!$A$2:$B$31,2,FALSE),tblSalaries[[#This Row],[clean Salary (in local currency)]],(tblSalaries[[#This Row],[PPP Adjusted  USD]]/VLOOKUP(Dashboard!$J$5,Sheet3!$B$2:$C$31,2,FALSE)))","v":15766.204797911692},"Information Analyst","Analyst","Mexico","All the 8 hours baby, all the 8!","Data Not Avaliable"]
[null,"ID0561",15600,"USD",15600,{"$f":"(tblSalaries[[#This Row],[clean Salary (in local currency)]])*(VLOOKUP(tblSalaries[[#This Row],[Currency]],Sheet3!$A$2:$C$31,3,FALSE))*(VLOOKUP(tblSalaries[[#This Row],[Currency]],Sheet1!$N$4:$Q$186,4,FALSE))","v":15600},{"$f":"IF(Dashboard!$J$5=VLOOKUP(tblSalaries[[#This Row],[Currency]],Sheet3!$A$2:$B$31,2,FALSE),tblSalaries[[#This Row],[clean Salary (in local currency)]],(tblSalaries[[#This Row],[PPP Adjusted  USD]]/VLOOKUP(Dashboard!$J$5,Sheet3!$B$2:$C$31,2,FALSE)))","v":15600},"CONTROLLER","Controller","Brazil","4 to 6 hours a day",20]
[null,"ID0903",15600,"USD",15600,{"$f":"(tblSalaries[[#This Row],[clean Salary (in local currency)]])*(VLOOKUP(tblSalaries[[#This Row],[Currency]],Sheet3!$A$2:$C$31,3,FALSE))*(VLOOKUP(tblSalaries[[#This Row],[Currency]],Sheet1!$N$4:$Q$186,4,FALSE))","v":15600},{"$f":"IF(Dashboard!$J$5=VLOOKUP(tblSalaries[[#This Row],[Currency]],Sheet3!$A$2:$B$31,2,FALSE),tblSalaries[[#This Row],[clean Salary (in local currency)]],(tblSalaries[[#This Row],[PPP Adjusted  USD]]/VLOOKUP(Dashboard!$J$5,Sheet3!$B$2:$C$31,2,FALSE)))","v":15600},"Document controller ","Controller","Kuwait ","4 to 6 hours a day",13]
[null,"ID0155",15500,"USD",15500,{"$f":"(tblSalaries[[#This Row],[clean Salary (in local currency)]])*(VLOOKUP(tblSalaries[[#This Row],[Currency]],Sheet3!$A$2:$C$31,3,FALSE))*(VLOOKUP(tblSalaries[[#This Row],[Currency]],Sheet1!$N$4:$Q$186,4,FALSE))","v":15500},{"$f":"IF(Dashboard!$J$5=VLOOKUP(tblSalaries[[#This Row],[Currency]],Sheet3!$A$2:$B$31,2,FALSE),tblSalaries[[#This Row],[clean Salary (in local currency)]],(tblSalaries[[#This Row],[PPP Adjusted  USD]]/VLOOKUP(Dashboard!$J$5,Sheet3!$B$2:$C$31,2,FALSE)))","v":15500},"Proces auditor","Accountant","Mexico","All the 8 hours baby, all the 8!","Data Not Avaliable"]
[null,"ID0821",15500,"USD",15500,{"$f":"(tblSalaries[[#This Row],[clean Salary (in local currency)]])*(VLOOKUP(tblSalaries[[#This Row],[Currency]],Sheet3!$A$2:$C$31,3,FALSE))*(VLOOKUP(tblSalaries[[#This Row],[Currency]],Sheet1!$N$4:$Q$186,4,FALSE))","v":15500},{"$f":"IF(Dashboard!$J$5=VLOOKUP(tblSalaries[[#This Row],[Currency]],Sheet3!$A$2:$B$31,2,FALSE),tblSalaries[[#This Row],[clean Salary (in local currency)]],(tblSalaries[[#This Row],[PPP Adjusted  USD]]/VLOOKUP(Dashboard!$J$5,Sheet3!$B$2:$C$31,2,FALSE)))","v":15500},"Engineer","Engineer","India","1 or 2 hours a day",3]
[null,"ID0676",325000,"INR",5787.5729234188348,{"$f":"(tblSalaries[[#This Row],[clean Salary (in local currency)]])*(VLOOKUP(tblSalaries[[#This Row],[Currency]],Sheet3!$A$2:$C$31,3,FALSE))*(VLOOKUP(tblSalaries[[#This Row],[Currency]],Sheet1!$N$4:$Q$186,4,FALSE))","v":15392.332263326998},{"$f":"IF(Dashboard!$J$5=VLOOKUP(tblSalaries[[#This Row],[Currency]],Sheet3!$A$2:$B$31,2,FALSE),tblSalaries[[#This Row],[clean Salary (in local currency)]],(tblSalaries[[#This Row],[PPP Adjusted  USD]]/VLOOKUP(Dashboard!$J$5,Sheet3!$B$2:$C$31,2,FALSE)))","v":15392.332263326998},"MIS Executive","Reporting","India","All the 8 hours baby, all the 8!",4.5]
[null,"ID1462",320000,"INR",5698.5333399816218,{"$f":"(tblSalaries[[#This Row],[clean Salary (in local currency)]])*(VLOOKUP(tblSalaries[[#This Row],[Currency]],Sheet3!$A$2:$C$31,3,FALSE))*(VLOOKUP(tblSalaries[[#This Row],[Currency]],Sheet1!$N$4:$Q$186,4,FALSE))","v":15155.527151583505},{"$f":"IF(Dashboard!$J$5=VLOOKUP(tblSalaries[[#This Row],[Currency]],Sheet3!$A$2:$B$31,2,FALSE),tblSalaries[[#This Row],[clean Salary (in local currency)]],(tblSalaries[[#This Row],[PPP Adjusted  USD]]/VLOOKUP(Dashboard!$J$5,Sheet3!$B$2:$C$31,2,FALSE)))","v":15155.527151583505},"Analyst","Analyst","India","2 to 3 hours per day",2]
[null,"ID1632",320000,"INR",5698.5333399816218,{"$f":"(tblSalaries[[#This Row],[clean Salary (in local currency)]])*(VLOOKUP(tblSalaries[[#This Row],[Currency]],Sheet3!$A$2:$C$31,3,FALSE))*(VLOOKUP(tblSalaries[[#This Row],[Currency]],Sheet1!$N$4:$Q$186,4,FALSE))","v":15155.527151583505},{"$f":"IF(Dashboard!$J$5=VLOOKUP(tblSalaries[[#This Row],[Currency]],Sheet3!$A$2:$B$31,2,FALSE),tblSalaries[[#This Row],[clean Salary (in local currency)]],(tblSalaries[[#This Row],[PPP Adjusted  USD]]/VLOOKUP(Dashboard!$J$5,Sheet3!$B$2:$C$31,2,FALSE)))","v":15155.527151583505},"senior executive","Manager","India","4 to 6 hours a day",5]
[null,"ID1663",320000,"INR",5698.5333399816218,{"$f":"(tblSalaries[[#This Row],[clean Salary (in local currency)]])*(VLOOKUP(tblSalaries[[#This Row],[Currency]],Sheet3!$A$2:$C$31,3,FALSE))*(VLOOKUP(tblSalaries[[#This Row],[Currency]],Sheet1!$N$4:$Q$186,4,FALSE))","v":15155.527151583505},{"$f":"IF(Dashboard!$J$5=VLOOKUP(tblSalaries[[#This Row],[Currency]],Sheet3!$A$2:$B$31,2,FALSE),tblSalaries[[#This Row],[clean Salary (in local currency)]],(tblSalaries[[#This Row],[PPP Adjusted  USD]]/VLOOKUP(Dashboard!$J$5,Sheet3!$B$2:$C$31,2,FALSE)))","v":15155.527151583505},"Research Associate","Analyst","India","4 to 6 hours a day",2.5]
[null,"ID0002",15000,"USD",15000,{"$f":"(tblSalaries[[#This Row],[clean Salary (in local currency)]])*(VLOOKUP(tblSalaries[[#This Row],[Currency]],Sheet3!$A$2:$C$31,3,FALSE))*(VLOOKUP(tblSalaries[[#This Row],[Currency]],Sheet1!$N$4:$Q$186,4,FALSE))","v":15000},{"$f":"IF(Dashboard!$J$5=VLOOKUP(tblSalaries[[#This Row],[Currency]],Sheet3!$A$2:$B$31,2,FALSE),tblSalaries[[#This Row],[clean Salary (in local currency)]],(tblSalaries[[#This Row],[PPP Adjusted  USD]]/VLOOKUP(Dashboard!$J$5,Sheet3!$B$2:$C$31,2,FALSE)))","v":15000},"cost control","Controller","Croatia","All the 8 hours baby, all the 8!","Data Not Avaliable"]
[null,"ID0076",15000,"USD",15000,{"$f":"(tblSalaries[[#This Row],[clean Salary (in local currency)]])*(VLOOKUP(tblSalaries[[#This Row],[Currency]],Sheet3!$A$2:$C$31,3,FALSE))*(VLOOKUP(tblSalaries[[#This Row],[Currency]],Sheet1!$N$4:$Q$186,4,FALSE))","v":15000},{"$f":"IF(Dashboard!$J$5=VLOOKUP(tblSalaries[[#This Row],[Currency]],Sheet3!$A$2:$B$31,2,FALSE),tblSalaries[[#This Row],[clean Salary (in local currency)]],(tblSalaries[[#This Row],[PPP Adjusted  USD]]/VLOOKUP(Dashboard!$J$5,Sheet3!$B$2:$C$31,2,FALSE)))","v":15000},"Excel Programmer Consultant","Consultant","USA","All the 8 hours baby, all the 8!","Data Not Avaliable"]
[null,"ID0285",15000,"USD",15000,{"$f":"(tblSalaries[[#This Row],[clean Salary (in local currency)]])*(VLOOKUP(tblSalaries[[#This Row],[Currency]],Sheet3!$A$2:$C$31,3,FALSE))*(VLOOKUP(tblSalaries[[#This Row],[Currency]],Sheet1!$N$4:$Q$186,4,FALSE))","v":15000},{"$f":"IF(Dashboard!$J$5=VLOOKUP(tblSalaries[[#This Row],[Currency]],Sheet3!$A$2:$B$31,2,FALSE),tblSalaries[[#This Row],[clean Salary (in local currency)]],(tblSalaries[[#This Row],[PPP Adjusted  USD]]/VLOOKUP(Dashboard!$J$5,Sheet3!$B$2:$C$31,2,FALSE)))","v":15000},"moneymaker","Manager","USA","2 to 3 hours per day","Data Not Avaliable"]
[null,"ID0385",15000,"USD",15000,{"$f":"(tblSalaries[[#This Row],[clean Salary (in local currency)]])*(VLOOKUP(tblSalaries[[#This Row],[Currency]],Sheet3!$A$2:$C$31,3,FALSE))*(VLOOKUP(tblSalaries[[#This Row],[Currency]],Sheet1!$N$4:$Q$186,4,FALSE))","v":15000},{"$f":"IF(Dashboard!$J$5=VLOOKUP(tblSalaries[[#This Row],[Currency]],Sheet3!$A$2:$B$31,2,FALSE),tblSalaries[[#This Row],[clean Salary (in local currency)]],(tblSalaries[[#This Row],[PPP Adjusted  USD]]/VLOOKUP(Dashboard!$J$5,Sheet3!$B$2:$C$31,2,FALSE)))","v":15000},"Economist","Reporting","Ukraine","2 to 3 hours per day","Data Not Avaliable"]
[null,"ID0521",15000,"USD",15000,{"$f":"(tblSalaries[[#This Row],[clean Salary (in local currency)]])*(VLOOKUP(tblSalaries[[#This Row],[Currency]],Sheet3!$A$2:$C$31,3,FALSE))*(VLOOKUP(tblSalaries[[#This Row],[Currency]],Sheet1!$N$4:$Q$186,4,FALSE))","v":15000},{"$f":"IF(Dashboard!$J$5=VLOOKUP(tblSalaries[[#This Row],[Currency]],Sheet3!$A$2:$B$31,2,FALSE),tblSalaries[[#This Row],[clean Salary (in local currency)]],(tblSalaries[[#This Row],[PPP Adjusted  USD]]/VLOOKUP(Dashboard!$J$5,Sheet3!$B$2:$C$31,2,FALSE)))","v":15000},"Asst.Manager","Manager","India","4 to 6 hours a day","Data Not Avaliable"]
[null,"ID0658",15000,"USD",15000,{"$f":"(tblSalaries[[#This Row],[clean Salary (in local currency)]])*(VLOOKUP(tblSalaries[[#This Row],[Currency]],Sheet3!$A$2:$C$31,3,FALSE))*(VLOOKUP(tblSalaries[[#This Row],[Currency]],Sheet1!$N$4:$Q$186,4,FALSE))","v":15000},{"$f":"IF(Dashboard!$J$5=VLOOKUP(tblSalaries[[#This Row],[Currency]],Sheet3!$A$2:$B$31,2,FALSE),tblSalaries[[#This Row],[clean Salary (in local currency)]],(tblSalaries[[#This Row],[PPP Adjusted  USD]]/VLOOKUP(Dashboard!$J$5,Sheet3!$B$2:$C$31,2,FALSE)))","v":15000},"MIS Executive","Reporting","India","All the 8 hours baby, all the 8!",2]
[null,"ID0673",15000,"USD",15000,{"$f":"(tblSalaries[[#This Row],[clean Salary (in local currency)]])*(VLOOKUP(tblSalaries[[#This Row],[Currency]],Sheet3!$A$2:$C$31,3,FALSE))*(VLOOKUP(tblSalaries[[#This Row],[Currency]],Sheet1!$N$4:$Q$186,4,FALSE))","v":15000},{"$f":"IF(Dashboard!$J$5=VLOOKUP(tblSalaries[[#This Row],[Currency]],Sheet3!$A$2:$B$31,2,FALSE),tblSalaries[[#This Row],[clean Salary (in local currency)]],(tblSalaries[[#This Row],[PPP Adjusted  USD]]/VLOOKUP(Dashboard!$J$5,Sheet3!$B$2:$C$31,2,FALSE)))","v":15000},"TA","Analyst","Indonesia","4 to 6 hours a day",1]
[null,"ID0714",15000,"USD",15000,{"$f":"(tblSalaries[[#This Row],[clean Salary (in local currency)]])*(VLOOKUP(tblSalaries[[#This Row],[Currency]],Sheet3!$A$2:$C$31,3,FALSE))*(VLOOKUP(tblSalaries[[#This Row],[Currency]],Sheet1!$N$4:$Q$186,4,FALSE))","v":15000},{"$f":"IF(Dashboard!$J$5=VLOOKUP(tblSalaries[[#This Row],[Currency]],Sheet3!$A$2:$B$31,2,FALSE),tblSalaries[[#This Row],[clean Salary (in local currency)]],(tblSalaries[[#This Row],[PPP Adjusted  USD]]/VLOOKUP(Dashboard!$J$5,Sheet3!$B$2:$C$31,2,FALSE)))","v":15000},"Audit - senior assistant","Accountant","Lithuania","4 to 6 hours a day",2]
[null,"ID0744",15000,"USD",15000,{"$f":"(tblSalaries[[#This Row],[clean Salary (in local currency)]])*(VLOOKUP(tblSalaries[[#This Row],[Currency]],Sheet3!$A$2:$C$31,3,FALSE))*(VLOOKUP(tblSalaries[[#This Row],[Currency]],Sheet1!$N$4:$Q$186,4,FALSE))","v":15000},{"$f":"IF(Dashboard!$J$5=VLOOKUP(tblSalaries[[#This Row],[Currency]],Sheet3!$A$2:$B$31,2,FALSE),tblSalaries[[#This Row],[clean Salary (in local currency)]],(tblSalaries[[#This Row],[PPP Adjusted  USD]]/VLOOKUP(Dashboard!$J$5,Sheet3!$B$2:$C$31,2,FALSE)))","v":15000},"PROCSS ASOCIATE","Controller","India","2 to 3 hours per day",2]
[null,"ID0967",15000,"USD",15000,{"$f":"(tblSalaries[[#This Row],[clean Salary (in local currency)]])*(VLOOKUP(tblSalaries[[#This Row],[Currency]],Sheet3!$A$2:$C$31,3,FALSE))*(VLOOKUP(tblSalaries[[#This Row],[Currency]],Sheet1!$N$4:$Q$186,4,FALSE))","v":15000},{"$f":"IF(Dashboard!$J$5=VLOOKUP(tblSalaries[[#This Row],[Currency]],Sheet3!$A$2:$B$31,2,FALSE),tblSalaries[[#This Row],[clean Salary (in local currency)]],(tblSalaries[[#This Row],[PPP Adjusted  USD]]/VLOOKUP(Dashboard!$J$5,Sheet3!$B$2:$C$31,2,FALSE)))","v":15000},"Quality Executive","Analyst","India","2 to 3 hours per day",2]
[null,"ID1016",15000,"USD",15000,{"$f":"(tblSalaries[[#This Row],[clean Salary (in local currency)]])*(VLOOKUP(tblSalaries[[#This Row],[Currency]],Sheet3!$A$2:$C$31,3,FALSE))*(VLOOKUP(tblSalaries[[#This Row],[Currency]],Sheet1!$N$4:$Q$186,4,FALSE))","v":15000},{"$f":"IF(Dashboard!$J$5=VLOOKUP(tblSalaries[[#This Row],[Currency]],Sheet3!$A$2:$B$31,2,FALSE),tblSalaries[[#This Row],[clean Salary (in local currency)]],(tblSalaries[[#This Row],[PPP Adjusted  USD]]/VLOOKUP(Dashboard!$J$5,Sheet3!$B$2:$C$31,2,FALSE)))","v":15000},"Operations Management","Manager","India","4 to 6 hours a day",4]
[null,"ID1291",15000,"USD",15000,{"$f":"(tblSalaries[[#This Row],[clean Salary (in local currency)]])*(VLOOKUP(tblSalaries[[#This Row],[Currency]],Sheet3!$A$2:$C$31,3,FALSE))*(VLOOKUP(tblSalaries[[#This Row],[Currency]],Sheet1!$N$4:$Q$186,4,FALSE))","v":15000},{"$f":"IF(Dashboard!$J$5=VLOOKUP(tblSalaries[[#This Row],[Currency]],Sheet3!$A$2:$B$31,2,FALSE),tblSalaries[[#This Row],[clean Salary (in local currency)]],(tblSalaries[[#This Row],[PPP Adjusted  USD]]/VLOOKUP(Dashboard!$J$5,Sheet3!$B$2:$C$31,2,FALSE)))","v":15000},"Monitoring & Evaluation officer","Manager","Myanmar","4 to 6 hours a day",10]
[null,"ID1499",15000,"USD",15000,{"$f":"(tblSalaries[[#This Row],[clean Salary (in local currency)]])*(VLOOKUP(tblSalaries[[#This Row],[Currency]],Sheet3!$A$2:$C$31,3,FALSE))*(VLOOKUP(tblSalaries[[#This Row],[Currency]],Sheet1!$N$4:$Q$186,4,FALSE))","v":15000},{"$f":"IF(Dashboard!$J$5=VLOOKUP(tblSalaries[[#This Row],[Currency]],Sheet3!$A$2:$B$31,2,FALSE),tblSalaries[[#This Row],[clean Salary (in local currency)]],(tblSalaries[[#This Row],[PPP Adjusted  USD]]/VLOOKUP(Dashboard!$J$5,Sheet3!$B$2:$C$31,2,FALSE)))","v":15000},"Manager","Manager","Romania","2 to 3 hours per day",5]
[null,"ID1570",15000,"USD",15000,{"$f":"(tblSalaries[[#This Row],[clean Salary (in local currency)]])*(VLOOKUP(tblSalaries[[#This Row],[Currency]],Sheet3!$A$2:$C$31,3,FALSE))*(VLOOKUP(tblSalaries[[#This Row],[Currency]],Sheet1!$N$4:$Q$186,4,FALSE))","v":15000},{"$f":"IF(Dashboard!$J$5=VLOOKUP(tblSalaries[[#This Row],[Currency]],Sheet3!$A$2:$B$31,2,FALSE),tblSalaries[[#This Row],[clean Salary (in local currency)]],(tblSalaries[[#This Row],[PPP Adjusted  USD]]/VLOOKUP(Dashboard!$J$5,Sheet3!$B$2:$C$31,2,FALSE)))","v":15000},"Application Developer","Analyst","USA","All the 8 hours baby, all the 8!",8]
[null,"ID1623",15000,"USD",15000,{"$f":"(tblSalaries[[#This Row],[clean Salary (in local currency)]])*(VLOOKUP(tblSalaries[[#This Row],[Currency]],Sheet3!$A$2:$C$31,3,FALSE))*(VLOOKUP(tblSalaries[[#This Row],[Currency]],Sheet1!$N$4:$Q$186,4,FALSE))","v":15000},{"$f":"IF(Dashboard!$J$5=VLOOKUP(tblSalaries[[#This Row],[Currency]],Sheet3!$A$2:$B$31,2,FALSE),tblSalaries[[#This Row],[clean Salary (in local currency)]],(tblSalaries[[#This Row],[PPP Adjusted  USD]]/VLOOKUP(Dashboard!$J$5,Sheet3!$B$2:$C$31,2,FALSE)))","v":15000},"Business Analysis & MIS ","Analyst","India","4 to 6 hours a day",5]
[null,"ID1646",15000,"USD",15000,{"$f":"(tblSalaries[[#This Row],[clean Salary (in local currency)]])*(VLOOKUP(tblSalaries[[#This Row],[Currency]],Sheet3!$A$2:$C$31,3,FALSE))*(VLOOKUP(tblSalaries[[#This Row],[Currency]],Sheet1!$N$4:$Q$186,4,FALSE))","v":15000},{"$f":"IF(Dashboard!$J$5=VLOOKUP(tblSalaries[[#This Row],[Currency]],Sheet3!$A$2:$B$31,2,FALSE),tblSalaries[[#This Row],[clean Salary (in local currency)]],(tblSalaries[[#This Row],[PPP Adjusted  USD]]/VLOOKUP(Dashboard!$J$5,Sheet3!$B$2:$C$31,2,FALSE)))","v":15000},"Marketing services","Analyst","Pakistan","4 to 6 hours a day",5]
[null,"ID1832",15000,"USD",15000,{"$f":"(tblSalaries[[#This Row],[clean Salary (in local currency)]])*(VLOOKUP(tblSalaries[[#This Row],[Currency]],Sheet3!$A$2:$C$31,3,FALSE))*(VLOOKUP(tblSalaries[[#This Row],[Currency]],Sheet1!$N$4:$Q$186,4,FALSE))","v":15000},{"$f":"IF(Dashboard!$J$5=VLOOKUP(tblSalaries[[#This Row],[Currency]],Sheet3!$A$2:$B$31,2,FALSE),tblSalaries[[#This Row],[clean Salary (in local currency)]],(tblSalaries[[#This Row],[PPP Adjusted  USD]]/VLOOKUP(Dashboard!$J$5,Sheet3!$B$2:$C$31,2,FALSE)))","v":15000},"senior associate","Analyst","India","2 to 3 hours per day",0.3]
[null,"ID0765",14960,"USD",14960,{"$f":"(tblSalaries[[#This Row],[clean Salary (in local currency)]])*(VLOOKUP(tblSalaries[[#This Row],[Currency]],Sheet3!$A$2:$C$31,3,FALSE))*(VLOOKUP(tblSalaries[[#This Row],[Currency]],Sheet1!$N$4:$Q$186,4,FALSE))","v":14960},{"$f":"IF(Dashboard!$J$5=VLOOKUP(tblSalaries[[#This Row],[Currency]],Sheet3!$A$2:$B$31,2,FALSE),tblSalaries[[#This Row],[clean Salary (in local currency)]],(tblSalaries[[#This Row],[PPP Adjusted  USD]]/VLOOKUP(Dashboard!$J$5,Sheet3!$B$2:$C$31,2,FALSE)))","v":14960},"Stock Controller","Controller","Saudi Arabia","All the 8 hours baby, all the 8!",2]
[null,"ID1324",314000,"INR",5591.6858398569666,{"$f":"(tblSalaries[[#This Row],[clean Salary (in local currency)]])*(VLOOKUP(tblSalaries[[#This Row],[Currency]],Sheet3!$A$2:$C$31,3,FALSE))*(VLOOKUP(tblSalaries[[#This Row],[Currency]],Sheet1!$N$4:$Q$186,4,FALSE))","v":14871.361017491316},{"$f":"IF(Dashboard!$J$5=VLOOKUP(tblSalaries[[#This Row],[Currency]],Sheet3!$A$2:$B$31,2,FALSE),tblSalaries[[#This Row],[clean Salary (in local currency)]],(tblSalaries[[#This Row],[PPP Adjusted  USD]]/VLOOKUP(Dashboard!$J$5,Sheet3!$B$2:$C$31,2,FALSE)))","v":14871.361017491316},"relationship manager","Manager","India","1 or 2 hours a day",0.1]
[null,"ID0541",600000,"PKR",6368.453230079479,{"$f":"(tblSalaries[[#This Row],[clean Salary (in local currency)]])*(VLOOKUP(tblSalaries[[#This Row],[Currency]],Sheet3!$A$2:$C$31,3,FALSE))*(VLOOKUP(tblSalaries[[#This Row],[Currency]],Sheet1!$N$4:$Q$186,4,FALSE))","v":14776.834242718347},{"$f":"IF(Dashboard!$J$5=VLOOKUP(tblSalaries[[#This Row],[Currency]],Sheet3!$A$2:$B$31,2,FALSE),tblSalaries[[#This Row],[clean Salary (in local currency)]],(tblSalaries[[#This Row],[PPP Adjusted  USD]]/VLOOKUP(Dashboard!$J$5,Sheet3!$B$2:$C$31,2,FALSE)))","v":14776.834242718347},"Trainer","Consultant","Pakistan","4 to 6 hours a day","Data Not Avaliable"]
[null,"ID1491",10000,"GBP",15761.782720672842,{"$f":"(tblSalaries[[#This Row],[clean Salary (in local currency)]])*(VLOOKUP(tblSalaries[[#This Row],[Currency]],Sheet3!$A$2:$C$31,3,FALSE))*(VLOOKUP(tblSalaries[[#This Row],[Currency]],Sheet1!$N$4:$Q$186,4,FALSE))","v":14739.712049804275},{"$f":"IF(Dashboard!$J$5=VLOOKUP(tblSalaries[[#This Row],[Currency]],Sheet3!$A$2:$B$31,2,FALSE),tblSalaries[[#This Row],[clean Salary (in local currency)]],(tblSalaries[[#This Row],[PPP Adjusted  USD]]/VLOOKUP(Dashboard!$J$5,Sheet3!$B$2:$C$31,2,FALSE)))","v":14739.712049804275},"Analyst","Analyst","UK","2 to 3 hours per day",8]
[null,"ID0042",14500,"USD",14500,{"$f":"(tblSalaries[[#This Row],[clean Salary (in local currency)]])*(VLOOKUP(tblSalaries[[#This Row],[Currency]],Sheet3!$A$2:$C$31,3,FALSE))*(VLOOKUP(tblSalaries[[#This Row],[Currency]],Sheet1!$N$4:$Q$186,4,FALSE))","v":14500},{"$f":"IF(Dashboard!$J$5=VLOOKUP(tblSalaries[[#This Row],[Currency]],Sheet3!$A$2:$B$31,2,FALSE),tblSalaries[[#This Row],[clean Salary (in local currency)]],(tblSalaries[[#This Row],[PPP Adjusted  USD]]/VLOOKUP(Dashboard!$J$5,Sheet3!$B$2:$C$31,2,FALSE)))","v":14500},"Business Analsyt","Analyst","India","4 to 6 hours a day","Data Not Avaliable"]
[null,"ID1557",14400,"USD",14400,{"$f":"(tblSalaries[[#This Row],[clean Salary (in local currency)]])*(VLOOKUP(tblSalaries[[#This Row],[Currency]],Sheet3!$A$2:$C$31,3,FALSE))*(VLOOKUP(tblSalaries[[#This Row],[Currency]],Sheet1!$N$4:$Q$186,4,FALSE))","v":14400},{"$f":"IF(Dashboard!$J$5=VLOOKUP(tblSalaries[[#This Row],[Currency]],Sheet3!$A$2:$B$31,2,FALSE),tblSalaries[[#This Row],[clean Salary (in local currency)]],(tblSalaries[[#This Row],[PPP Adjusted  USD]]/VLOOKUP(Dashboard!$J$5,Sheet3!$B$2:$C$31,2,FALSE)))","v":14400},"FA /financial Analyst","Analyst","Bulgaria","All the 8 hours baby, all the 8!",15]
[null,"ID1720",14400,"USD",14400,{"$f":"(tblSalaries[[#This Row],[clean Salary (in local currency)]])*(VLOOKUP(tblSalaries[[#This Row],[Currency]],Sheet3!$A$2:$C$31,3,FALSE))*(VLOOKUP(tblSalaries[[#This Row],[Currency]],Sheet1!$N$4:$Q$186,4,FALSE))","v":14400},{"$f":"IF(Dashboard!$J$5=VLOOKUP(tblSalaries[[#This Row],[Currency]],Sheet3!$A$2:$B$31,2,FALSE),tblSalaries[[#This Row],[clean Salary (in local currency)]],(tblSalaries[[#This Row],[PPP Adjusted  USD]]/VLOOKUP(Dashboard!$J$5,Sheet3!$B$2:$C$31,2,FALSE)))","v":14400},"Engineer","Engineer","India","1 or 2 hours a day",8]
[null,"ID0406",300000,"INR",5342.3750062327708,{"$f":"(tblSalaries[[#This Row],[clean Salary (in local currency)]])*(VLOOKUP(tblSalaries[[#This Row],[Currency]],Sheet3!$A$2:$C$31,3,FALSE))*(VLOOKUP(tblSalaries[[#This Row],[Currency]],Sheet1!$N$4:$Q$186,4,FALSE))","v":14208.306704609538},{"$f":"IF(Dashboard!$J$5=VLOOKUP(tblSalaries[[#This Row],[Currency]],Sheet3!$A$2:$B$31,2,FALSE),tblSalaries[[#This Row],[clean Salary (in local currency)]],(tblSalaries[[#This Row],[PPP Adjusted  USD]]/VLOOKUP(Dashboard!$J$5,Sheet3!$B$2:$C$31,2,FALSE)))","v":14208.306704609538},"Sr. Systems Engineer","Engineer","India","1 or 2 hours a day","Data Not Avaliable"]
[null,"ID0442",300000,"INR",5342.3750062327708,{"$f":"(tblSalaries[[#This Row],[clean Salary (in local currency)]])*(VLOOKUP(tblSalaries[[#This Row],[Currency]],Sheet3!$A$2:$C$31,3,FALSE))*(VLOOKUP(tblSalaries[[#This Row],[Currency]],Sheet1!$N$4:$Q$186,4,FALSE))","v":14208.306704609538},{"$f":"IF(Dashboard!$J$5=VLOOKUP(tblSalaries[[#This Row],[Currency]],Sheet3!$A$2:$B$31,2,FALSE),tblSalaries[[#This Row],[clean Salary (in local currency)]],(tblSalaries[[#This Row],[PPP Adjusted  USD]]/VLOOKUP(Dashboard!$J$5,Sheet3!$B$2:$C$31,2,FALSE)))","v":14208.306704609538},"Web Portal Manager","Manager","India","4 to 6 hours a day","Data Not Avaliable"]
[null,"ID0639",300000,"INR",5342.3750062327708,{"$f":"(tblSalaries[[#This Row],[clean Salary (in local currency)]])*(VLOOKUP(tblSalaries[[#This Row],[Currency]],Sheet3!$A$2:$C$31,3,FALSE))*(VLOOKUP(tblSalaries[[#This Row],[Currency]],Sheet1!$N$4:$Q$186,4,FALSE))","v":14208.306704609538},{"$f":"IF(Dashboard!$J$5=VLOOKUP(tblSalaries[[#This Row],[Currency]],Sheet3!$A$2:$B$31,2,FALSE),tblSalaries[[#This Row],[clean Salary (in local currency)]],(tblSalaries[[#This Row],[PPP Adjusted  USD]]/VLOOKUP(Dashboard!$J$5,Sheet3!$B$2:$C$31,2,FALSE)))","v":14208.306704609538},"Planning Engineer","Engineer","India","All the 8 hours baby, all the 8!",2]
[null,"ID0644",300000,"INR",5342.3750062327708,{"$f":"(tblSalaries[[#This Row],[clean Salary (in local currency)]])*(VLOOKUP(tblSalaries[[#This Row],[Currency]],Sheet3!$A$2:$C$31,3,FALSE))*(VLOOKUP(tblSalaries[[#This Row],[Currency]],Sheet1!$N$4:$Q$186,4,FALSE))","v":14208.306704609538},{"$f":"IF(Dashboard!$J$5=VLOOKUP(tblSalaries[[#This Row],[Currency]],Sheet3!$A$2:$B$31,2,FALSE),tblSalaries[[#This Row],[clean Salary (in local currency)]],(tblSalaries[[#This Row],[PPP Adjusted  USD]]/VLOOKUP(Dashboard!$J$5,Sheet3!$B$2:$C$31,2,FALSE)))","v":14208.306704609538},"MIS","Reporting","India","4 to 6 hours a day",1]
[null,"ID0664",300000,"INR",5342.3750062327708,{"$f":"(tblSalaries[[#This Row],[clean Salary (in local currency)]])*(VLOOKUP(tblSalaries[[#This Row],[Currency]],Sheet3!$A$2:$C$31,3,FALSE))*(VLOOKUP(tblSalaries[[#This Row],[Currency]],Sheet1!$N$4:$Q$186,4,FALSE))","v":14208.306704609538},{"$f":"IF(Dashboard!$J$5=VLOOKUP(tblSalaries[[#This Row],[Currency]],Sheet3!$A$2:$B$31,2,FALSE),tblSalaries[[#This Row],[clean Salary (in local currency)]],(tblSalaries[[#This Row],[PPP Adjusted  USD]]/VLOOKUP(Dashboard!$J$5,Sheet3!$B$2:$C$31,2,FALSE)))","v":14208.306704609538},"Mis Analyst","Analyst","India","4 to 6 hours a day",4.5]
[null,"ID0691",300000,"INR",5342.3750062327708,{"$f":"(tblSalaries[[#This Row],[clean Salary (in local currency)]])*(VLOOKUP(tblSalaries[[#This Row],[Currency]],Sheet3!$A$2:$C$31,3,FALSE))*(VLOOKUP(tblSalaries[[#This Row],[Currency]],Sheet1!$N$4:$Q$186,4,FALSE))","v":14208.306704609538},{"$f":"IF(Dashboard!$J$5=VLOOKUP(tblSalaries[[#This Row],[Currency]],Sheet3!$A$2:$B$31,2,FALSE),tblSalaries[[#This Row],[clean Salary (in local currency)]],(tblSalaries[[#This Row],[PPP Adjusted  USD]]/VLOOKUP(Dashboard!$J$5,Sheet3!$B$2:$C$31,2,FALSE)))","v":14208.306704609538},"govt","Manager","India","2 to 3 hours per day",3]
[null,"ID0701",300000,"INR",5342.3750062327708,{"$f":"(tblSalaries[[#This Row],[clean Salary (in local currency)]])*(VLOOKUP(tblSalaries[[#This Row],[Currency]],Sheet3!$A$2:$C$31,3,FALSE))*(VLOOKUP(tblSalaries[[#This Row],[Currency]],Sheet1!$N$4:$Q$186,4,FALSE))","v":14208.306704609538},{"$f":"IF(Dashboard!$J$5=VLOOKUP(tblSalaries[[#This Row],[Currency]],Sheet3!$A$2:$B$31,2,FALSE),tblSalaries[[#This Row],[clean Salary (in local currency)]],(tblSalaries[[#This Row],[PPP Adjusted  USD]]/VLOOKUP(Dashboard!$J$5,Sheet3!$B$2:$C$31,2,FALSE)))","v":14208.306704609538},"Analyst","Analyst","India","All the 8 hours baby, all the 8!",7]
[null,"ID0773",300000,"INR",5342.3750062327708,{"$f":"(tblSalaries[[#This Row],[clean Salary (in local currency)]])*(VLOOKUP(tblSalaries[[#This Row],[Currency]],Sheet3!$A$2:$C$31,3,FALSE))*(VLOOKUP(tblSalaries[[#This Row],[Currency]],Sheet1!$N$4:$Q$186,4,FALSE))","v":14208.306704609538},{"$f":"IF(Dashboard!$J$5=VLOOKUP(tblSalaries[[#This Row],[Currency]],Sheet3!$A$2:$B$31,2,FALSE),tblSalaries[[#This Row],[clean Salary (in local currency)]],(tblSalaries[[#This Row],[PPP Adjusted  USD]]/VLOOKUP(Dashboard!$J$5,Sheet3!$B$2:$C$31,2,FALSE)))","v":14208.306704609538},"OPEX CONTROL","Controller","India","All the 8 hours baby, all the 8!",4]
[null,"ID0881",300000,"INR",5342.3750062327708,{"$f":"(tblSalaries[[#This Row],[clean Salary (in local currency)]])*(VLOOKUP(tblSalaries[[#This Row],[Currency]],Sheet3!$A$2:$C$31,3,FALSE))*(VLOOKUP(tblSalaries[[#This Row],[Currency]],Sheet1!$N$4:$Q$186,4,FALSE))","v":14208.306704609538},{"$f":"IF(Dashboard!$J$5=VLOOKUP(tblSalaries[[#This Row],[Currency]],Sheet3!$A$2:$B$31,2,FALSE),tblSalaries[[#This Row],[clean Salary (in local currency)]],(tblSalaries[[#This Row],[PPP Adjusted  USD]]/VLOOKUP(Dashboard!$J$5,Sheet3!$B$2:$C$31,2,FALSE)))","v":14208.306704609538},"Sales","Analyst","India","1 or 2 hours a day",10]
[null,"ID0919",300000,"INR",5342.3750062327708,{"$f":"(tblSalaries[[#This Row],[clean Salary (in local currency)]])*(VLOOKUP(tblSalaries[[#This Row],[Currency]],Sheet3!$A$2:$C$31,3,FALSE))*(VLOOKUP(tblSalaries[[#This Row],[Currency]],Sheet1!$N$4:$Q$186,4,FALSE))","v":14208.306704609538},{"$f":"IF(Dashboard!$J$5=VLOOKUP(tblSalaries[[#This Row],[Currency]],Sheet3!$A$2:$B$31,2,FALSE),tblSalaries[[#This Row],[clean Salary (in local currency)]],(tblSalaries[[#This Row],[PPP Adjusted  USD]]/VLOOKUP(Dashboard!$J$5,Sheet3!$B$2:$C$31,2,FALSE)))","v":14208.306704609538},"ANALYST","Analyst","India","4 to 6 hours a day",0.5]
[null,"ID1032",300000,"INR",5342.3750062327708,{"$f":"(tblSalaries[[#This Row],[clean Salary (in local currency)]])*(VLOOKUP(tblSalaries[[#This Row],[Currency]],Sheet3!$A$2:$C$31,3,FALSE))*(VLOOKUP(tblSalaries[[#This Row],[Currency]],Sheet1!$N$4:$Q$186,4,FALSE))","v":14208.306704609538},{"$f":"IF(Dashboard!$J$5=VLOOKUP(tblSalaries[[#This Row],[Currency]],Sheet3!$A$2:$B$31,2,FALSE),tblSalaries[[#This Row],[clean Salary (in local currency)]],(tblSalaries[[#This Row],[PPP Adjusted  USD]]/VLOOKUP(Dashboard!$J$5,Sheet3!$B$2:$C$31,2,FALSE)))","v":14208.306704609538},"ACCOUNTS","Accountant","India","2 to 3 hours per day",5]
[null,"ID1069",300000,"INR",5342.3750062327708,{"$f":"(tblSalaries[[#This Row],[clean Salary (in local currency)]])*(VLOOKUP(tblSalaries[[#This Row],[Currency]],Sheet3!$A$2:$C$31,3,FALSE))*(VLOOKUP(tblSalaries[[#This Row],[Currency]],Sheet1!$N$4:$Q$186,4,FALSE))","v":14208.306704609538},{"$f":"IF(Dashboard!$J$5=VLOOKUP(tblSalaries[[#This Row],[Currency]],Sheet3!$A$2:$B$31,2,FALSE),tblSalaries[[#This Row],[clean Salary (in local currency)]],(tblSalaries[[#This Row],[PPP Adjusted  USD]]/VLOOKUP(Dashboard!$J$5,Sheet3!$B$2:$C$31,2,FALSE)))","v":14208.306704609538},"Professional consultant-Finance","Consultant","India","2 to 3 hours per day",1]
[null,"ID1114",300000,"INR",5342.3750062327708,{"$f":"(tblSalaries[[#This Row],[clean Salary (in local currency)]])*(VLOOKUP(tblSalaries[[#This Row],[Currency]],Sheet3!$A$2:$C$31,3,FALSE))*(VLOOKUP(tblSalaries[[#This Row],[Currency]],Sheet1!$N$4:$Q$186,4,FALSE))","v":14208.306704609538},{"$f":"IF(Dashboard!$J$5=VLOOKUP(tblSalaries[[#This Row],[Currency]],Sheet3!$A$2:$B$31,2,FALSE),tblSalaries[[#This Row],[clean Salary (in local currency)]],(tblSalaries[[#This Row],[PPP Adjusted  USD]]/VLOOKUP(Dashboard!$J$5,Sheet3!$B$2:$C$31,2,FALSE)))","v":14208.306704609538},"Analyst","Analyst","India","4 to 6 hours a day",5]
[null,"ID1230",300000,"INR",5342.3750062327708,{"$f":"(tblSalaries[[#This Row],[clean Salary (in local currency)]])*(VLOOKUP(tblSalaries[[#This Row],[Currency]],Sheet3!$A$2:$C$31,3,FALSE))*(VLOOKUP(tblSalaries[[#This Row],[Currency]],Sheet1!$N$4:$Q$186,4,FALSE))","v":14208.306704609538},{"$f":"IF(Dashboard!$J$5=VLOOKUP(tblSalaries[[#This Row],[Currency]],Sheet3!$A$2:$B$31,2,FALSE),tblSalaries[[#This Row],[clean Salary (in local currency)]],(tblSalaries[[#This Row],[PPP Adjusted  USD]]/VLOOKUP(Dashboard!$J$5,Sheet3!$B$2:$C$31,2,FALSE)))","v":14208.306704609538},"Finance Analyst","Analyst","India","4 to 6 hours a day",6]
[null,"ID1289",300000,"INR",5342.3750062327708,{"$f":"(tblSalaries[[#This Row],[clean Salary (in local currency)]])*(VLOOKUP(tblSalaries[[#This Row],[Currency]],Sheet3!$A$2:$C$31,3,FALSE))*(VLOOKUP(tblSalaries[[#This Row],[Currency]],Sheet1!$N$4:$Q$186,4,FALSE))","v":14208.306704609538},{"$f":"IF(Dashboard!$J$5=VLOOKUP(tblSalaries[[#This Row],[Currency]],Sheet3!$A$2:$B$31,2,FALSE),tblSalaries[[#This Row],[clean Salary (in local currency)]],(tblSalaries[[#This Row],[PPP Adjusted  USD]]/VLOOKUP(Dashboard!$J$5,Sheet3!$B$2:$C$31,2,FALSE)))","v":14208.306704609538},"MIS OFFICER","Reporting","India","2 to 3 hours per day",5]
[null,"ID1338",300000,"INR",5342.3750062327708,{"$f":"(tblSalaries[[#This Row],[clean Salary (in local currency)]])*(VLOOKUP(tblSalaries[[#This Row],[Currency]],Sheet3!$A$2:$C$31,3,FALSE))*(VLOOKUP(tblSalaries[[#This Row],[Currency]],Sheet1!$N$4:$Q$186,4,FALSE))","v":14208.306704609538},{"$f":"IF(Dashboard!$J$5=VLOOKUP(tblSalaries[[#This Row],[Currency]],Sheet3!$A$2:$B$31,2,FALSE),tblSalaries[[#This Row],[clean Salary (in local currency)]],(tblSalaries[[#This Row],[PPP Adjusted  USD]]/VLOOKUP(Dashboard!$J$5,Sheet3!$B$2:$C$31,2,FALSE)))","v":14208.306704609538},"Financial Modelling Analyst","Analyst","India","All the 8 hours baby, all the 8!",3]
[null,"ID1448",300000,"INR",5342.3750062327708,{"$f":"(tblSalaries[[#This Row],[clean Salary (in local currency)]])*(VLOOKUP(tblSalaries[[#This Row],[Currency]],Sheet3!$A$2:$C$31,3,FALSE))*(VLOOKUP(tblSalaries[[#This Row],[Currency]],Sheet1!$N$4:$Q$186,4,FALSE))","v":14208.306704609538},{"$f":"IF(Dashboard!$J$5=VLOOKUP(tblSalaries[[#This Row],[Currency]],Sheet3!$A$2:$B$31,2,FALSE),tblSalaries[[#This Row],[clean Salary (in local currency)]],(tblSalaries[[#This Row],[PPP Adjusted  USD]]/VLOOKUP(Dashboard!$J$5,Sheet3!$B$2:$C$31,2,FALSE)))","v":14208.306704609538},"accountant","Accountant","India","4 to 6 hours a day",4]
[null,"ID1658",300000,"INR",5342.3750062327708,{"$f":"(tblSalaries[[#This Row],[clean Salary (in local currency)]])*(VLOOKUP(tblSalaries[[#This Row],[Currency]],Sheet3!$A$2:$C$31,3,FALSE))*(VLOOKUP(tblSalaries[[#This Row],[Currency]],Sheet1!$N$4:$Q$186,4,FALSE))","v":14208.306704609538},{"$f":"IF(Dashboard!$J$5=VLOOKUP(tblSalaries[[#This Row],[Currency]],Sheet3!$A$2:$B$31,2,FALSE),tblSalaries[[#This Row],[clean Salary (in local currency)]],(tblSalaries[[#This Row],[PPP Adjusted  USD]]/VLOOKUP(Dashboard!$J$5,Sheet3!$B$2:$C$31,2,FALSE)))","v":14208.306704609538},"Store Inventory","Analyst","India","4 to 6 hours a day",8]
[null,"ID0012",14000,"USD",14000,{"$f":"(tblSalaries[[#This Row],[clean Salary (in local currency)]])*(VLOOKUP(tblSalaries[[#This Row],[Currency]],Sheet3!$A$2:$C$31,3,FALSE))*(VLOOKUP(tblSalaries[[#This Row],[Currency]],Sheet1!$N$4:$Q$186,4,FALSE))","v":14000},{"$f":"IF(Dashboard!$J$5=VLOOKUP(tblSalaries[[#This Row],[Currency]],Sheet3!$A$2:$B$31,2,FALSE),tblSalaries[[#This Row],[clean Salary (in local currency)]],(tblSalaries[[#This Row],[PPP Adjusted  USD]]/VLOOKUP(Dashboard!$J$5,Sheet3!$B$2:$C$31,2,FALSE)))","v":14000},"quality engineer","Engineer","Hungary","4 to 6 hours a day","Data Not Avaliable"]
[null,"ID0282",14000,"USD",14000,{"$f":"(tblSalaries[[#This Row],[clean Salary (in local currency)]])*(VLOOKUP(tblSalaries[[#This Row],[Currency]],Sheet3!$A$2:$C$31,3,FALSE))*(VLOOKUP(tblSalaries[[#This Row],[Currency]],Sheet1!$N$4:$Q$186,4,FALSE))","v":14000},{"$f":"IF(Dashboard!$J$5=VLOOKUP(tblSalaries[[#This Row],[Currency]],Sheet3!$A$2:$B$31,2,FALSE),tblSalaries[[#This Row],[clean Salary (in local currency)]],(tblSalaries[[#This Row],[PPP Adjusted  USD]]/VLOOKUP(Dashboard!$J$5,Sheet3!$B$2:$C$31,2,FALSE)))","v":14000},"Auxiliar Administrativo","Analyst","Brazil","1 or 2 hours a day","Data Not Avaliable"]
[null,"ID1292",14000,"USD",14000,{"$f":"(tblSalaries[[#This Row],[clean Salary (in local currency)]])*(VLOOKUP(tblSalaries[[#This Row],[Currency]],Sheet3!$A$2:$C$31,3,FALSE))*(VLOOKUP(tblSalaries[[#This Row],[Currency]],Sheet1!$N$4:$Q$186,4,FALSE))","v":14000},{"$f":"IF(Dashboard!$J$5=VLOOKUP(tblSalaries[[#This Row],[Currency]],Sheet3!$A$2:$B$31,2,FALSE),tblSalaries[[#This Row],[clean Salary (in local currency)]],(tblSalaries[[#This Row],[PPP Adjusted  USD]]/VLOOKUP(Dashboard!$J$5,Sheet3!$B$2:$C$31,2,FALSE)))","v":14000},"Pricing Analyst","Analyst","India","4 to 6 hours a day",12]
[null,"ID1433",14000,"USD",14000,{"$f":"(tblSalaries[[#This Row],[clean Salary (in local currency)]])*(VLOOKUP(tblSalaries[[#This Row],[Currency]],Sheet3!$A$2:$C$31,3,FALSE))*(VLOOKUP(tblSalaries[[#This Row],[Currency]],Sheet1!$N$4:$Q$186,4,FALSE))","v":14000},{"$f":"IF(Dashboard!$J$5=VLOOKUP(tblSalaries[[#This Row],[Currency]],Sheet3!$A$2:$B$31,2,FALSE),tblSalaries[[#This Row],[clean Salary (in local currency)]],(tblSalaries[[#This Row],[PPP Adjusted  USD]]/VLOOKUP(Dashboard!$J$5,Sheet3!$B$2:$C$31,2,FALSE)))","v":14000},"Consultant","Consultant","India","4 to 6 hours a day",3]
[null,"ID1812",14000,"USD",14000,{"$f":"(tblSalaries[[#This Row],[clean Salary (in local currency)]])*(VLOOKUP(tblSalaries[[#This Row],[Currency]],Sheet3!$A$2:$C$31,3,FALSE))*(VLOOKUP(tblSalaries[[#This Row],[Currency]],Sheet1!$N$4:$Q$186,4,FALSE))","v":14000},{"$f":"IF(Dashboard!$J$5=VLOOKUP(tblSalaries[[#This Row],[Currency]],Sheet3!$A$2:$B$31,2,FALSE),tblSalaries[[#This Row],[clean Salary (in local currency)]],(tblSalaries[[#This Row],[PPP Adjusted  USD]]/VLOOKUP(Dashboard!$J$5,Sheet3!$B$2:$C$31,2,FALSE)))","v":14000},"Manager","Manager","India","4 to 6 hours a day",5]
[null,"ID0615",13800,"USD",13800,{"$f":"(tblSalaries[[#This Row],[clean Salary (in local currency)]])*(VLOOKUP(tblSalaries[[#This Row],[Currency]],Sheet3!$A$2:$C$31,3,FALSE))*(VLOOKUP(tblSalaries[[#This Row],[Currency]],Sheet1!$N$4:$Q$186,4,FALSE))","v":13800},{"$f":"IF(Dashboard!$J$5=VLOOKUP(tblSalaries[[#This Row],[Currency]],Sheet3!$A$2:$B$31,2,FALSE),tblSalaries[[#This Row],[clean Salary (in local currency)]],(tblSalaries[[#This Row],[PPP Adjusted  USD]]/VLOOKUP(Dashboard!$J$5,Sheet3!$B$2:$C$31,2,FALSE)))","v":13800},"QS","Controller","Sri Lanka","4 to 6 hours a day",20]
[null,"ID0578",22000,"AUD",22438.012440857987,{"$f":"(tblSalaries[[#This Row],[clean Salary (in local currency)]])*(VLOOKUP(tblSalaries[[#This Row],[Currency]],Sheet3!$A$2:$C$31,3,FALSE))*(VLOOKUP(tblSalaries[[#This Row],[Currency]],Sheet1!$N$4:$Q$186,4,FALSE))","v":13787.709280369443},{"$f":"IF(Dashboard!$J$5=VLOOKUP(tblSalaries[[#This Row],[Currency]],Sheet3!$A$2:$B$31,2,FALSE),tblSalaries[[#This Row],[clean Salary (in local currency)]],(tblSalaries[[#This Row],[PPP Adjusted  USD]]/VLOOKUP(Dashboard!$J$5,Sheet3!$B$2:$C$31,2,FALSE)))","v":13787.709280369443},"Sales Analyst","Analyst","Australia","4 to 6 hours a day",8]
[null,"ID0188",13636,"USD",13636,{"$f":"(tblSalaries[[#This Row],[clean Salary (in local currency)]])*(VLOOKUP(tblSalaries[[#This Row],[Currency]],Sheet3!$A$2:$C$31,3,FALSE))*(VLOOKUP(tblSalaries[[#This Row],[Currency]],Sheet1!$N$4:$Q$186,4,FALSE))","v":13636},{"$f":"IF(Dashboard!$J$5=VLOOKUP(tblSalaries[[#This Row],[Currency]],Sheet3!$A$2:$B$31,2,FALSE),tblSalaries[[#This Row],[clean Salary (in local currency)]],(tblSalaries[[#This Row],[PPP Adjusted  USD]]/VLOOKUP(Dashboard!$J$5,Sheet3!$B$2:$C$31,2,FALSE)))","v":13636},"Process Manager","Manager","India","All the 8 hours baby, all the 8!","Data Not Avaliable"]
[null,"ID0021",13500,"USD",13500,{"$f":"(tblSalaries[[#This Row],[clean Salary (in local currency)]])*(VLOOKUP(tblSalaries[[#This Row],[Currency]],Sheet3!$A$2:$C$31,3,FALSE))*(VLOOKUP(tblSalaries[[#This Row],[Currency]],Sheet1!$N$4:$Q$186,4,FALSE))","v":13500},{"$f":"IF(Dashboard!$J$5=VLOOKUP(tblSalaries[[#This Row],[Currency]],Sheet3!$A$2:$B$31,2,FALSE),tblSalaries[[#This Row],[clean Salary (in local currency)]],(tblSalaries[[#This Row],[PPP Adjusted  USD]]/VLOOKUP(Dashboard!$J$5,Sheet3!$B$2:$C$31,2,FALSE)))","v":13500},"DSE Co-ordinator","Manager","India","4 to 6 hours a day","Data Not Avaliable"]
[null,"ID0776",13500,"USD",13500,{"$f":"(tblSalaries[[#This Row],[clean Salary (in local currency)]])*(VLOOKUP(tblSalaries[[#This Row],[Currency]],Sheet3!$A$2:$C$31,3,FALSE))*(VLOOKUP(tblSalaries[[#This Row],[Currency]],Sheet1!$N$4:$Q$186,4,FALSE))","v":13500},{"$f":"IF(Dashboard!$J$5=VLOOKUP(tblSalaries[[#This Row],[Currency]],Sheet3!$A$2:$B$31,2,FALSE),tblSalaries[[#This Row],[clean Salary (in local currency)]],(tblSalaries[[#This Row],[PPP Adjusted  USD]]/VLOOKUP(Dashboard!$J$5,Sheet3!$B$2:$C$31,2,FALSE)))","v":13500},"MIS","Reporting","India","All the 8 hours baby, all the 8!",2.5]
[null,"ID1155",13500,"USD",13500,{"$f":"(tblSalaries[[#This Row],[clean Salary (in local currency)]])*(VLOOKUP(tblSalaries[[#This Row],[Currency]],Sheet3!$A$2:$C$31,3,FALSE))*(VLOOKUP(tblSalaries[[#This Row],[Currency]],Sheet1!$N$4:$Q$186,4,FALSE))","v":13500},{"$f":"IF(Dashboard!$J$5=VLOOKUP(tblSalaries[[#This Row],[Currency]],Sheet3!$A$2:$B$31,2,FALSE),tblSalaries[[#This Row],[clean Salary (in local currency)]],(tblSalaries[[#This Row],[PPP Adjusted  USD]]/VLOOKUP(Dashboard!$J$5,Sheet3!$B$2:$C$31,2,FALSE)))","v":13500},"Project manager","Manager","Montenegro","4 to 6 hours a day",13]
[null,"ID1316",13500,"USD",13500,{"$f":"(tblSalaries[[#This Row],[clean Salary (in local currency)]])*(VLOOKUP(tblSalaries[[#This Row],[Currency]],Sheet3!$A$2:$C$31,3,FALSE))*(VLOOKUP(tblSalaries[[#This Row],[Currency]],Sheet1!$N$4:$Q$186,4,FALSE))","v":13500},{"$f":"IF(Dashboard!$J$5=VLOOKUP(tblSalaries[[#This Row],[Currency]],Sheet3!$A$2:$B$31,2,FALSE),tblSalaries[[#This Row],[clean Salary (in local currency)]],(tblSalaries[[#This Row],[PPP Adjusted  USD]]/VLOOKUP(Dashboard!$J$5,Sheet3!$B$2:$C$31,2,FALSE)))","v":13500},"Asst. Manager","Manager","India","2 to 3 hours per day",20]
[null,"ID1818",280000,"INR",4986.216672483919,{"$f":"(tblSalaries[[#This Row],[clean Salary (in local currency)]])*(VLOOKUP(tblSalaries[[#This Row],[Currency]],Sheet3!$A$2:$C$31,3,FALSE))*(VLOOKUP(tblSalaries[[#This Row],[Currency]],Sheet1!$N$4:$Q$186,4,FALSE))","v":13261.086257635567},{"$f":"IF(Dashboard!$J$5=VLOOKUP(tblSalaries[[#This Row],[Currency]],Sheet3!$A$2:$B$31,2,FALSE),tblSalaries[[#This Row],[clean Salary (in local currency)]],(tblSalaries[[#This Row],[PPP Adjusted  USD]]/VLOOKUP(Dashboard!$J$5,Sheet3!$B$2:$C$31,2,FALSE)))","v":13261.086257635567},"Sales Cordinator","Analyst","India","All the 8 hours baby, all the 8!",8]
[null,"ID0240",12000,"EUR",15244.793267899293,{"$f":"(tblSalaries[[#This Row],[clean Salary (in local currency)]])*(VLOOKUP(tblSalaries[[#This Row],[Currency]],Sheet3!$A$2:$C$31,3,FALSE))*(VLOOKUP(tblSalaries[[#This Row],[Currency]],Sheet1!$N$4:$Q$186,4,FALSE))","v":13207.834631760627},{"$f":"IF(Dashboard!$J$5=VLOOKUP(tblSalaries[[#This Row],[Currency]],Sheet3!$A$2:$B$31,2,FALSE),tblSalaries[[#This Row],[clean Salary (in local currency)]],(tblSalaries[[#This Row],[PPP Adjusted  USD]]/VLOOKUP(Dashboard!$J$5,Sheet3!$B$2:$C$31,2,FALSE)))","v":13207.834631760627},"HR Specialist","Specialist","Portugal","All the 8 hours baby, all the 8!","Data Not Avaliable"]
[null,"ID0698",278400,"INR",4957.7240057840108,{"$f":"(tblSalaries[[#This Row],[clean Salary (in local currency)]])*(VLOOKUP(tblSalaries[[#This Row],[Currency]],Sheet3!$A$2:$C$31,3,FALSE))*(VLOOKUP(tblSalaries[[#This Row],[Currency]],Sheet1!$N$4:$Q$186,4,FALSE))","v":13185.30862187765},{"$f":"IF(Dashboard!$J$5=VLOOKUP(tblSalaries[[#This Row],[Currency]],Sheet3!$A$2:$B$31,2,FALSE),tblSalaries[[#This Row],[clean Salary (in local currency)]],(tblSalaries[[#This Row],[PPP Adjusted  USD]]/VLOOKUP(Dashboard!$J$5,Sheet3!$B$2:$C$31,2,FALSE)))","v":13185.30862187765},"Asst. Manager","Manager","India","4 to 6 hours a day",5]
[null,"ID1503",278000,"INR",4950.6008391090336,{"$f":"(tblSalaries[[#This Row],[clean Salary (in local currency)]])*(VLOOKUP(tblSalaries[[#This Row],[Currency]],Sheet3!$A$2:$C$31,3,FALSE))*(VLOOKUP(tblSalaries[[#This Row],[Currency]],Sheet1!$N$4:$Q$186,4,FALSE))","v":13166.36421293817},{"$f":"IF(Dashboard!$J$5=VLOOKUP(tblSalaries[[#This Row],[Currency]],Sheet3!$A$2:$B$31,2,FALSE),tblSalaries[[#This Row],[clean Salary (in local currency)]],(tblSalaries[[#This Row],[PPP Adjusted  USD]]/VLOOKUP(Dashboard!$J$5,Sheet3!$B$2:$C$31,2,FALSE)))","v":13166.36421293817},"MIS Executive","Reporting","India","All the 8 hours baby, all the 8!",8]
[null,"ID0810",13100,"USD",13100,{"$f":"(tblSalaries[[#This Row],[clean Salary (in local currency)]])*(VLOOKUP(tblSalaries[[#This Row],[Currency]],Sheet3!$A$2:$C$31,3,FALSE))*(VLOOKUP(tblSalaries[[#This Row],[Currency]],Sheet1!$N$4:$Q$186,4,FALSE))","v":13100},{"$f":"IF(Dashboard!$J$5=VLOOKUP(tblSalaries[[#This Row],[Currency]],Sheet3!$A$2:$B$31,2,FALSE),tblSalaries[[#This Row],[clean Salary (in local currency)]],(tblSalaries[[#This Row],[PPP Adjusted  USD]]/VLOOKUP(Dashboard!$J$5,Sheet3!$B$2:$C$31,2,FALSE)))","v":13100},"accountant","Accountant","India","2 to 3 hours per day",5]
[null,"ID0267",276000,"INR",4914.9850057341491,{"$f":"(tblSalaries[[#This Row],[clean Salary (in local currency)]])*(VLOOKUP(tblSalaries[[#This Row],[Currency]],Sheet3!$A$2:$C$31,3,FALSE))*(VLOOKUP(tblSalaries[[#This Row],[Currency]],Sheet1!$N$4:$Q$186,4,FALSE))","v":13071.642168240774},{"$f":"IF(Dashboard!$J$5=VLOOKUP(tblSalaries[[#This Row],[Currency]],Sheet3!$A$2:$B$31,2,FALSE),tblSalaries[[#This Row],[clean Salary (in local currency)]],(tblSalaries[[#This Row],[PPP Adjusted  USD]]/VLOOKUP(Dashboard!$J$5,Sheet3!$B$2:$C$31,2,FALSE)))","v":13071.642168240774},"analyst","Analyst","India","All the 8 hours baby, all the 8!","Data Not Avaliable"]
[null,"ID0669",276000,"INR",4914.9850057341491,{"$f":"(tblSalaries[[#This Row],[clean Salary (in local currency)]])*(VLOOKUP(tblSalaries[[#This Row],[Currency]],Sheet3!$A$2:$C$31,3,FALSE))*(VLOOKUP(tblSalaries[[#This Row],[Currency]],Sheet1!$N$4:$Q$186,4,FALSE))","v":13071.642168240774},{"$f":"IF(Dashboard!$J$5=VLOOKUP(tblSalaries[[#This Row],[Currency]],Sheet3!$A$2:$B$31,2,FALSE),tblSalaries[[#This Row],[clean Salary (in local currency)]],(tblSalaries[[#This Row],[PPP Adjusted  USD]]/VLOOKUP(Dashboard!$J$5,Sheet3!$B$2:$C$31,2,FALSE)))","v":13071.642168240774},"Education Officer","Manager","Pakistan","1 or 2 hours a day",3]
[null,"ID1914",276000,"INR",4914.9850057341491,{"$f":"(tblSalaries[[#This Row],[clean Salary (in local currency)]])*(VLOOKUP(tblSalaries[[#This Row],[Currency]],Sheet3!$A$2:$C$31,3,FALSE))*(VLOOKUP(tblSalaries[[#This Row],[Currency]],Sheet1!$N$4:$Q$186,4,FALSE))","v":13071.642168240774},{"$f":"IF(Dashboard!$J$5=VLOOKUP(tblSalaries[[#This Row],[Currency]],Sheet3!$A$2:$B$31,2,FALSE),tblSalaries[[#This Row],[clean Salary (in local currency)]],(tblSalaries[[#This Row],[PPP Adjusted  USD]]/VLOOKUP(Dashboard!$J$5,Sheet3!$B$2:$C$31,2,FALSE)))","v":13071.642168240774},"MIS specialist","Reporting","India","All the 8 hours baby, all the 8!",6]
[null,"ID0201",275000,"INR",4897.177089046706,{"$f":"(tblSalaries[[#This Row],[clean Salary (in local currency)]])*(VLOOKUP(tblSalaries[[#This Row],[Currency]],Sheet3!$A$2:$C$31,3,FALSE))*(VLOOKUP(tblSalaries[[#This Row],[Currency]],Sheet1!$N$4:$Q$186,4,FALSE))","v":13024.281145892075},{"$f":"IF(Dashboard!$J$5=VLOOKUP(tblSalaries[[#This Row],[Currency]],Sheet3!$A$2:$B$31,2,FALSE),tblSalaries[[#This Row],[clean Salary (in local currency)]],(tblSalaries[[#This Row],[PPP Adjusted  USD]]/VLOOKUP(Dashboard!$J$5,Sheet3!$B$2:$C$31,2,FALSE)))","v":13024.281145892075},"low level monitoring","Analyst","India","2 to 3 hours per day","Data Not Avaliable"]
[null,"ID1334",275000,"INR",4897.177089046706,{"$f":"(tblSalaries[[#This Row],[clean Salary (in local currency)]])*(VLOOKUP(tblSalaries[[#This Row],[Currency]],Sheet3!$A$2:$C$31,3,FALSE))*(VLOOKUP(tblSalaries[[#This Row],[Currency]],Sheet1!$N$4:$Q$186,4,FALSE))","v":13024.281145892075},{"$f":"IF(Dashboard!$J$5=VLOOKUP(tblSalaries[[#This Row],[Currency]],Sheet3!$A$2:$B$31,2,FALSE),tblSalaries[[#This Row],[clean Salary (in local currency)]],(tblSalaries[[#This Row],[PPP Adjusted  USD]]/VLOOKUP(Dashboard!$J$5,Sheet3!$B$2:$C$31,2,FALSE)))","v":13024.281145892075},"TL WFM","Manager","India","All the 8 hours baby, all the 8!",4]
[null,"ID0342",13000,"USD",13000,{"$f":"(tblSalaries[[#This Row],[clean Salary (in local currency)]])*(VLOOKUP(tblSalaries[[#This Row],[Currency]],Sheet3!$A$2:$C$31,3,FALSE))*(VLOOKUP(tblSalaries[[#This Row],[Currency]],Sheet1!$N$4:$Q$186,4,FALSE))","v":13000},{"$f":"IF(Dashboard!$J$5=VLOOKUP(tblSalaries[[#This Row],[Currency]],Sheet3!$A$2:$B$31,2,FALSE),tblSalaries[[#This Row],[clean Salary (in local currency)]],(tblSalaries[[#This Row],[PPP Adjusted  USD]]/VLOOKUP(Dashboard!$J$5,Sheet3!$B$2:$C$31,2,FALSE)))","v":13000},"operation-manager","Manager","India","All the 8 hours baby, all the 8!","Data Not Avaliable"]
[null,"ID0686",13000,"USD",13000,{"$f":"(tblSalaries[[#This Row],[clean Salary (in local currency)]])*(VLOOKUP(tblSalaries[[#This Row],[Currency]],Sheet3!$A$2:$C$31,3,FALSE))*(VLOOKUP(tblSalaries[[#This Row],[Currency]],Sheet1!$N$4:$Q$186,4,FALSE))","v":13000},{"$f":"IF(Dashboard!$J$5=VLOOKUP(tblSalaries[[#This Row],[Currency]],Sheet3!$A$2:$B$31,2,FALSE),tblSalaries[[#This Row],[clean Salary (in local currency)]],(tblSalaries[[#This Row],[PPP Adjusted  USD]]/VLOOKUP(Dashboard!$J$5,Sheet3!$B$2:$C$31,2,FALSE)))","v":13000},"Analyst","Analyst","India","1 or 2 hours a day",4]
[null,"ID0838",13000,"USD",13000,{"$f":"(tblSalaries[[#This Row],[clean Salary (in local currency)]])*(VLOOKUP(tblSalaries[[#This Row],[Currency]],Sheet3!$A$2:$C$31,3,FALSE))*(VLOOKUP(tblSalaries[[#This Row],[Currency]],Sheet1!$N$4:$Q$186,4,FALSE))","v":13000},{"$f":"IF(Dashboard!$J$5=VLOOKUP(tblSalaries[[#This Row],[Currency]],Sheet3!$A$2:$B$31,2,FALSE),tblSalaries[[#This Row],[clean Salary (in local currency)]],(tblSalaries[[#This Row],[PPP Adjusted  USD]]/VLOOKUP(Dashboard!$J$5,Sheet3!$B$2:$C$31,2,FALSE)))","v":13000},"Business Analyst","Analyst","India","All the 8 hours baby, all the 8!",6]
[null,"ID1621",13000,"USD",13000,{"$f":"(tblSalaries[[#This Row],[clean Salary (in local currency)]])*(VLOOKUP(tblSalaries[[#This Row],[Currency]],Sheet3!$A$2:$C$31,3,FALSE))*(VLOOKUP(tblSalaries[[#This Row],[Currency]],Sheet1!$N$4:$Q$186,4,FALSE))","v":13000},{"$f":"IF(Dashboard!$J$5=VLOOKUP(tblSalaries[[#This Row],[Currency]],Sheet3!$A$2:$B$31,2,FALSE),tblSalaries[[#This Row],[clean Salary (in local currency)]],(tblSalaries[[#This Row],[PPP Adjusted  USD]]/VLOOKUP(Dashboard!$J$5,Sheet3!$B$2:$C$31,2,FALSE)))","v":13000},"Dss Analyst","Analyst","Brazil","All the 8 hours baby, all the 8!",4]
[null,"ID1667",13000,"USD",13000,{"$f":"(tblSalaries[[#This Row],[clean Salary (in local currency)]])*(VLOOKUP(tblSalaries[[#This Row],[Currency]],Sheet3!$A$2:$C$31,3,FALSE))*(VLOOKUP(tblSalaries[[#This Row],[Currency]],Sheet1!$N$4:$Q$186,4,FALSE))","v":13000},{"$f":"IF(Dashboard!$J$5=VLOOKUP(tblSalaries[[#This Row],[Currency]],Sheet3!$A$2:$B$31,2,FALSE),tblSalaries[[#This Row],[clean Salary (in local currency)]],(tblSalaries[[#This Row],[PPP Adjusted  USD]]/VLOOKUP(Dashboard!$J$5,Sheet3!$B$2:$C$31,2,FALSE)))","v":13000},"logistics analyst","Analyst","Slovakia","All the 8 hours baby, all the 8!",6]
[null,"ID1477",78000,"ZAR",9509.8988293070688,{"$f":"(tblSalaries[[#This Row],[clean Salary (in local currency)]])*(VLOOKUP(tblSalaries[[#This Row],[Currency]],Sheet3!$A$2:$C$31,3,FALSE))*(VLOOKUP(tblSalaries[[#This Row],[Currency]],Sheet1!$N$4:$Q$186,4,FALSE))","v":12937.036362788491},{"$f":"IF(Dashboard!$J$5=VLOOKUP(tblSalaries[[#This Row],[Currency]],Sheet3!$A$2:$B$31,2,FALSE),tblSalaries[[#This Row],[clean Salary (in local currency)]],(tblSalaries[[#This Row],[PPP Adjusted  USD]]/VLOOKUP(Dashboard!$J$5,Sheet3!$B$2:$C$31,2,FALSE)))","v":12937.036362788491},"Online Stats Controller","Controller","South Africa","4 to 6 hours a day",2]
[null,"ID1860",270000,"INR",4808.137505609493,{"$f":"(tblSalaries[[#This Row],[clean Salary (in local currency)]])*(VLOOKUP(tblSalaries[[#This Row],[Currency]],Sheet3!$A$2:$C$31,3,FALSE))*(VLOOKUP(tblSalaries[[#This Row],[Currency]],Sheet1!$N$4:$Q$186,4,FALSE))","v":12787.476034148582},{"$f":"IF(Dashboard!$J$5=VLOOKUP(tblSalaries[[#This Row],[Currency]],Sheet3!$A$2:$B$31,2,FALSE),tblSalaries[[#This Row],[clean Salary (in local currency)]],(tblSalaries[[#This Row],[PPP Adjusted  USD]]/VLOOKUP(Dashboard!$J$5,Sheet3!$B$2:$C$31,2,FALSE)))","v":12787.476034148582},"Team Lead","Manager","India","2 to 3 hours per day",5]
[null,"ID1295",12500,"USD",12500,{"$f":"(tblSalaries[[#This Row],[clean Salary (in local currency)]])*(VLOOKUP(tblSalaries[[#This Row],[Currency]],Sheet3!$A$2:$C$31,3,FALSE))*(VLOOKUP(tblSalaries[[#This Row],[Currency]],Sheet1!$N$4:$Q$186,4,FALSE))","v":12500},{"$f":"IF(Dashboard!$J$5=VLOOKUP(tblSalaries[[#This Row],[Currency]],Sheet3!$A$2:$B$31,2,FALSE),tblSalaries[[#This Row],[clean Salary (in local currency)]],(tblSalaries[[#This Row],[PPP Adjusted  USD]]/VLOOKUP(Dashboard!$J$5,Sheet3!$B$2:$C$31,2,FALSE)))","v":12500},"Specialist","Specialist","Philippines","2 to 3 hours per day",7]
[null,"ID0684",260000,"INR",4630.058338735068,{"$f":"(tblSalaries[[#This Row],[clean Salary (in local currency)]])*(VLOOKUP(tblSalaries[[#This Row],[Currency]],Sheet3!$A$2:$C$31,3,FALSE))*(VLOOKUP(tblSalaries[[#This Row],[Currency]],Sheet1!$N$4:$Q$186,4,FALSE))","v":12313.865810661599},{"$f":"IF(Dashboard!$J$5=VLOOKUP(tblSalaries[[#This Row],[Currency]],Sheet3!$A$2:$B$31,2,FALSE),tblSalaries[[#This Row],[clean Salary (in local currency)]],(tblSalaries[[#This Row],[PPP Adjusted  USD]]/VLOOKUP(Dashboard!$J$5,Sheet3!$B$2:$C$31,2,FALSE)))","v":12313.865810661599},"Analyst","Analyst","India","4 to 6 hours a day",2]
[null,"ID1745",258000,"INR",4594.4425053601826,{"$f":"(tblSalaries[[#This Row],[clean Salary (in local currency)]])*(VLOOKUP(tblSalaries[[#This Row],[Currency]],Sheet3!$A$2:$C$31,3,FALSE))*(VLOOKUP(tblSalaries[[#This Row],[Currency]],Sheet1!$N$4:$Q$186,4,FALSE))","v":12219.143765964202},{"$f":"IF(Dashboard!$J$5=VLOOKUP(tblSalaries[[#This Row],[Currency]],Sheet3!$A$2:$B$31,2,FALSE),tblSalaries[[#This Row],[clean Salary (in local currency)]],(tblSalaries[[#This Row],[PPP Adjusted  USD]]/VLOOKUP(Dashboard!$J$5,Sheet3!$B$2:$C$31,2,FALSE)))","v":12219.143765964202},"Senior Data Associate","Analyst","India","4 to 6 hours a day",4]
[null,"ID0008",12000,"USD",12000,{"$f":"(tblSalaries[[#This Row],[clean Salary (in local currency)]])*(VLOOKUP(tblSalaries[[#This Row],[Currency]],Sheet3!$A$2:$C$31,3,FALSE))*(VLOOKUP(tblSalaries[[#This Row],[Currency]],Sheet1!$N$4:$Q$186,4,FALSE))","v":12000},{"$f":"IF(Dashboard!$J$5=VLOOKUP(tblSalaries[[#This Row],[Currency]],Sheet3!$A$2:$B$31,2,FALSE),tblSalaries[[#This Row],[clean Salary (in local currency)]],(tblSalaries[[#This Row],[PPP Adjusted  USD]]/VLOOKUP(Dashboard!$J$5,Sheet3!$B$2:$C$31,2,FALSE)))","v":12000},"Assistant SP&A","Analyst","Ukraine","All the 8 hours baby, all the 8!","Data Not Avaliable"]
[null,"ID0048",12000,"USD",12000,{"$f":"(tblSalaries[[#This Row],[clean Salary (in local currency)]])*(VLOOKUP(tblSalaries[[#This Row],[Currency]],Sheet3!$A$2:$C$31,3,FALSE))*(VLOOKUP(tblSalaries[[#This Row],[Currency]],Sheet1!$N$4:$Q$186,4,FALSE))","v":12000},{"$f":"IF(Dashboard!$J$5=VLOOKUP(tblSalaries[[#This Row],[Currency]],Sheet3!$A$2:$B$31,2,FALSE),tblSalaries[[#This Row],[clean Salary (in local currency)]],(tblSalaries[[#This Row],[PPP Adjusted  USD]]/VLOOKUP(Dashboard!$J$5,Sheet3!$B$2:$C$31,2,FALSE)))","v":12000},"Freelance consultant","Consultant","USA","1 or 2 hours a day","Data Not Avaliable"]
[null,"ID0130",12000,"USD",12000,{"$f":"(tblSalaries[[#This Row],[clean Salary (in local currency)]])*(VLOOKUP(tblSalaries[[#This Row],[Currency]],Sheet3!$A$2:$C$31,3,FALSE))*(VLOOKUP(tblSalaries[[#This Row],[Currency]],Sheet1!$N$4:$Q$186,4,FALSE))","v":12000},{"$f":"IF(Dashboard!$J$5=VLOOKUP(tblSalaries[[#This Row],[Currency]],Sheet3!$A$2:$B$31,2,FALSE),tblSalaries[[#This Row],[clean Salary (in local currency)]],(tblSalaries[[#This Row],[PPP Adjusted  USD]]/VLOOKUP(Dashboard!$J$5,Sheet3!$B$2:$C$31,2,FALSE)))","v":12000},"Freelance","Consultant","Pakistan","1 or 2 hours a day","Data Not Avaliable"]
[null,"ID0307",12000,"USD",12000,{"$f":"(tblSalaries[[#This Row],[clean Salary (in local currency)]])*(VLOOKUP(tblSalaries[[#This Row],[Currency]],Sheet3!$A$2:$C$31,3,FALSE))*(VLOOKUP(tblSalaries[[#This Row],[Currency]],Sheet1!$N$4:$Q$186,4,FALSE))","v":12000},{"$f":"IF(Dashboard!$J$5=VLOOKUP(tblSalaries[[#This Row],[Currency]],Sheet3!$A$2:$B$31,2,FALSE),tblSalaries[[#This Row],[clean Salary (in local currency)]],(tblSalaries[[#This Row],[PPP Adjusted  USD]]/VLOOKUP(Dashboard!$J$5,Sheet3!$B$2:$C$31,2,FALSE)))","v":12000},"Analyst","Analyst","India","All the 8 hours baby, all the 8!","Data Not Avaliable"]
[null,"ID0391",12000,"USD",12000,{"$f":"(tblSalaries[[#This Row],[clean Salary (in local currency)]])*(VLOOKUP(tblSalaries[[#This Row],[Currency]],Sheet3!$A$2:$C$31,3,FALSE))*(VLOOKUP(tblSalaries[[#This Row],[Currency]],Sheet1!$N$4:$Q$186,4,FALSE))","v":12000},{"$f":"IF(Dashboard!$J$5=VLOOKUP(tblSalaries[[#This Row],[Currency]],Sheet3!$A$2:$B$31,2,FALSE),tblSalaries[[#This Row],[clean Salary (in local currency)]],(tblSalaries[[#This Row],[PPP Adjusted  USD]]/VLOOKUP(Dashboard!$J$5,Sheet3!$B$2:$C$31,2,FALSE)))","v":12000},"MIS Officer","Reporting","South Africa","4 to 6 hours a day","Data Not Avaliable"]
[null,"ID0424",12000,"USD",12000,{"$f":"(tblSalaries[[#This Row],[clean Salary (in local currency)]])*(VLOOKUP(tblSalaries[[#This Row],[Currency]],Sheet3!$A$2:$C$31,3,FALSE))*(VLOOKUP(tblSalaries[[#This Row],[Currency]],Sheet1!$N$4:$Q$186,4,FALSE))","v":12000},{"$f":"IF(Dashboard!$J$5=VLOOKUP(tblSalaries[[#This Row],[Currency]],Sheet3!$A$2:$B$31,2,FALSE),tblSalaries[[#This Row],[clean Salary (in local currency)]],(tblSalaries[[#This Row],[PPP Adjusted  USD]]/VLOOKUP(Dashboard!$J$5,Sheet3!$B$2:$C$31,2,FALSE)))","v":12000},"teacher","Analyst","iran","2 to 3 hours per day","Data Not Avaliable"]
[null,"ID0476",12000,"USD",12000,{"$f":"(tblSalaries[[#This Row],[clean Salary (in local currency)]])*(VLOOKUP(tblSalaries[[#This Row],[Currency]],Sheet3!$A$2:$C$31,3,FALSE))*(VLOOKUP(tblSalaries[[#This Row],[Currency]],Sheet1!$N$4:$Q$186,4,FALSE))","v":12000},{"$f":"IF(Dashboard!$J$5=VLOOKUP(tblSalaries[[#This Row],[Currency]],Sheet3!$A$2:$B$31,2,FALSE),tblSalaries[[#This Row],[clean Salary (in local currency)]],(tblSalaries[[#This Row],[PPP Adjusted  USD]]/VLOOKUP(Dashboard!$J$5,Sheet3!$B$2:$C$31,2,FALSE)))","v":12000},"Resource managment Analyst","Analyst","Estonia","All the 8 hours baby, all the 8!","Data Not Avaliable"]
[null,"ID0511",12000,"USD",12000,{"$f":"(tblSalaries[[#This Row],[clean Salary (in local currency)]])*(VLOOKUP(tblSalaries[[#This Row],[Currency]],Sheet3!$A$2:$C$31,3,FALSE))*(VLOOKUP(tblSalaries[[#This Row],[Currency]],Sheet1!$N$4:$Q$186,4,FALSE))","v":12000},{"$f":"IF(Dashboard!$J$5=VLOOKUP(tblSalaries[[#This Row],[Currency]],Sheet3!$A$2:$B$31,2,FALSE),tblSalaries[[#This Row],[clean Salary (in local currency)]],(tblSalaries[[#This Row],[PPP Adjusted  USD]]/VLOOKUP(Dashboard!$J$5,Sheet3!$B$2:$C$31,2,FALSE)))","v":12000},"Report Analyst","Analyst","Brazil","All the 8 hours baby, all the 8!","Data Not Avaliable"]
[null,"ID0715",12000,"USD",12000,{"$f":"(tblSalaries[[#This Row],[clean Salary (in local currency)]])*(VLOOKUP(tblSalaries[[#This Row],[Currency]],Sheet3!$A$2:$C$31,3,FALSE))*(VLOOKUP(tblSalaries[[#This Row],[Currency]],Sheet1!$N$4:$Q$186,4,FALSE))","v":12000},{"$f":"IF(Dashboard!$J$5=VLOOKUP(tblSalaries[[#This Row],[Currency]],Sheet3!$A$2:$B$31,2,FALSE),tblSalaries[[#This Row],[clean Salary (in local currency)]],(tblSalaries[[#This Row],[PPP Adjusted  USD]]/VLOOKUP(Dashboard!$J$5,Sheet3!$B$2:$C$31,2,FALSE)))","v":12000},"tech operator (oil)","Analyst","UAE","4 to 6 hours a day",12]
[null,"ID0825",12000,"USD",12000,{"$f":"(tblSalaries[[#This Row],[clean Salary (in local currency)]])*(VLOOKUP(tblSalaries[[#This Row],[Currency]],Sheet3!$A$2:$C$31,3,FALSE))*(VLOOKUP(tblSalaries[[#This Row],[Currency]],Sheet1!$N$4:$Q$186,4,FALSE))","v":12000},{"$f":"IF(Dashboard!$J$5=VLOOKUP(tblSalaries[[#This Row],[Currency]],Sheet3!$A$2:$B$31,2,FALSE),tblSalaries[[#This Row],[clean Salary (in local currency)]],(tblSalaries[[#This Row],[PPP Adjusted  USD]]/VLOOKUP(Dashboard!$J$5,Sheet3!$B$2:$C$31,2,FALSE)))","v":12000},"Investment manager","Manager","Ukraine","4 to 6 hours a day",5]
[null,"ID0863",12000,"USD",12000,{"$f":"(tblSalaries[[#This Row],[clean Salary (in local currency)]])*(VLOOKUP(tblSalaries[[#This Row],[Currency]],Sheet3!$A$2:$C$31,3,FALSE))*(VLOOKUP(tblSalaries[[#This Row],[Currency]],Sheet1!$N$4:$Q$186,4,FALSE))","v":12000},{"$f":"IF(Dashboard!$J$5=VLOOKUP(tblSalaries[[#This Row],[Currency]],Sheet3!$A$2:$B$31,2,FALSE),tblSalaries[[#This Row],[clean Salary (in local currency)]],(tblSalaries[[#This Row],[PPP Adjusted  USD]]/VLOOKUP(Dashboard!$J$5,Sheet3!$B$2:$C$31,2,FALSE)))","v":12000},"Guide for About.com","Consultant","Spain","2 to 3 hours per day",15]
[null,"ID0878",12000,"USD",12000,{"$f":"(tblSalaries[[#This Row],[clean Salary (in local currency)]])*(VLOOKUP(tblSalaries[[#This Row],[Currency]],Sheet3!$A$2:$C$31,3,FALSE))*(VLOOKUP(tblSalaries[[#This Row],[Currency]],Sheet1!$N$4:$Q$186,4,FALSE))","v":12000},{"$f":"IF(Dashboard!$J$5=VLOOKUP(tblSalaries[[#This Row],[Currency]],Sheet3!$A$2:$B$31,2,FALSE),tblSalaries[[#This Row],[clean Salary (in local currency)]],(tblSalaries[[#This Row],[PPP Adjusted  USD]]/VLOOKUP(Dashboard!$J$5,Sheet3!$B$2:$C$31,2,FALSE)))","v":12000},"sup","Manager","UAE","All the 8 hours baby, all the 8!",18]
[null,"ID0997",12000,"USD",12000,{"$f":"(tblSalaries[[#This Row],[clean Salary (in local currency)]])*(VLOOKUP(tblSalaries[[#This Row],[Currency]],Sheet3!$A$2:$C$31,3,FALSE))*(VLOOKUP(tblSalaries[[#This Row],[Currency]],Sheet1!$N$4:$Q$186,4,FALSE))","v":12000},{"$f":"IF(Dashboard!$J$5=VLOOKUP(tblSalaries[[#This Row],[Currency]],Sheet3!$A$2:$B$31,2,FALSE),tblSalaries[[#This Row],[clean Salary (in local currency)]],(tblSalaries[[#This Row],[PPP Adjusted  USD]]/VLOOKUP(Dashboard!$J$5,Sheet3!$B$2:$C$31,2,FALSE)))","v":12000},"Manager","Manager","Asia","All the 8 hours baby, all the 8!",3]
[null,"ID1052",12000,"USD",12000,{"$f":"(tblSalaries[[#This Row],[clean Salary (in local currency)]])*(VLOOKUP(tblSalaries[[#This Row],[Currency]],Sheet3!$A$2:$C$31,3,FALSE))*(VLOOKUP(tblSalaries[[#This Row],[Currency]],Sheet1!$N$4:$Q$186,4,FALSE))","v":12000},{"$f":"IF(Dashboard!$J$5=VLOOKUP(tblSalaries[[#This Row],[Currency]],Sheet3!$A$2:$B$31,2,FALSE),tblSalaries[[#This Row],[clean Salary (in local currency)]],(tblSalaries[[#This Row],[PPP Adjusted  USD]]/VLOOKUP(Dashboard!$J$5,Sheet3!$B$2:$C$31,2,FALSE)))","v":12000},"planning & Sales Control emploee","Controller","iran","4 to 6 hours a day",3]
[null,"ID1058",12000,"USD",12000,{"$f":"(tblSalaries[[#This Row],[clean Salary (in local currency)]])*(VLOOKUP(tblSalaries[[#This Row],[Currency]],Sheet3!$A$2:$C$31,3,FALSE))*(VLOOKUP(tblSalaries[[#This Row],[Currency]],Sheet1!$N$4:$Q$186,4,FALSE))","v":12000},{"$f":"IF(Dashboard!$J$5=VLOOKUP(tblSalaries[[#This Row],[Currency]],Sheet3!$A$2:$B$31,2,FALSE),tblSalaries[[#This Row],[clean Salary (in local currency)]],(tblSalaries[[#This Row],[PPP Adjusted  USD]]/VLOOKUP(Dashboard!$J$5,Sheet3!$B$2:$C$31,2,FALSE)))","v":12000},"consultant","Consultant","India","2 to 3 hours per day",8]
[null,"ID1297",12000,"USD",12000,{"$f":"(tblSalaries[[#This Row],[clean Salary (in local currency)]])*(VLOOKUP(tblSalaries[[#This Row],[Currency]],Sheet3!$A$2:$C$31,3,FALSE))*(VLOOKUP(tblSalaries[[#This Row],[Currency]],Sheet1!$N$4:$Q$186,4,FALSE))","v":12000},{"$f":"IF(Dashboard!$J$5=VLOOKUP(tblSalaries[[#This Row],[Currency]],Sheet3!$A$2:$B$31,2,FALSE),tblSalaries[[#This Row],[clean Salary (in local currency)]],(tblSalaries[[#This Row],[PPP Adjusted  USD]]/VLOOKUP(Dashboard!$J$5,Sheet3!$B$2:$C$31,2,FALSE)))","v":12000},"excel prof","Consultant","Pakistan","4 to 6 hours a day",1]
[null,"ID1535",12000,"USD",12000,{"$f":"(tblSalaries[[#This Row],[clean Salary (in local currency)]])*(VLOOKUP(tblSalaries[[#This Row],[Currency]],Sheet3!$A$2:$C$31,3,FALSE))*(VLOOKUP(tblSalaries[[#This Row],[Currency]],Sheet1!$N$4:$Q$186,4,FALSE))","v":12000},{"$f":"IF(Dashboard!$J$5=VLOOKUP(tblSalaries[[#This Row],[Currency]],Sheet3!$A$2:$B$31,2,FALSE),tblSalaries[[#This Row],[clean Salary (in local currency)]],(tblSalaries[[#This Row],[PPP Adjusted  USD]]/VLOOKUP(Dashboard!$J$5,Sheet3!$B$2:$C$31,2,FALSE)))","v":12000},"Associate Analyst","Analyst","MYS","2 to 3 hours per day",0]
[null,"ID1648",12000,"USD",12000,{"$f":"(tblSalaries[[#This Row],[clean Salary (in local currency)]])*(VLOOKUP(tblSalaries[[#This Row],[Currency]],Sheet3!$A$2:$C$31,3,FALSE))*(VLOOKUP(tblSalaries[[#This Row],[Currency]],Sheet1!$N$4:$Q$186,4,FALSE))","v":12000},{"$f":"IF(Dashboard!$J$5=VLOOKUP(tblSalaries[[#This Row],[Currency]],Sheet3!$A$2:$B$31,2,FALSE),tblSalaries[[#This Row],[clean Salary (in local currency)]],(tblSalaries[[#This Row],[PPP Adjusted  USD]]/VLOOKUP(Dashboard!$J$5,Sheet3!$B$2:$C$31,2,FALSE)))","v":12000},"MIS ","Reporting","India","All the 8 hours baby, all the 8!",3]
[null,"ID1680",12000,"USD",12000,{"$f":"(tblSalaries[[#This Row],[clean Salary (in local currency)]])*(VLOOKUP(tblSalaries[[#This Row],[Currency]],Sheet3!$A$2:$C$31,3,FALSE))*(VLOOKUP(tblSalaries[[#This Row],[Currency]],Sheet1!$N$4:$Q$186,4,FALSE))","v":12000},{"$f":"IF(Dashboard!$J$5=VLOOKUP(tblSalaries[[#This Row],[Currency]],Sheet3!$A$2:$B$31,2,FALSE),tblSalaries[[#This Row],[clean Salary (in local currency)]],(tblSalaries[[#This Row],[PPP Adjusted  USD]]/VLOOKUP(Dashboard!$J$5,Sheet3!$B$2:$C$31,2,FALSE)))","v":12000},"Waiter","Analyst","USA","2 to 3 hours per day",1]
[null,"ID1780",12000,"USD",12000,{"$f":"(tblSalaries[[#This Row],[clean Salary (in local currency)]])*(VLOOKUP(tblSalaries[[#This Row],[Currency]],Sheet3!$A$2:$C$31,3,FALSE))*(VLOOKUP(tblSalaries[[#This Row],[Currency]],Sheet1!$N$4:$Q$186,4,FALSE))","v":12000},{"$f":"IF(Dashboard!$J$5=VLOOKUP(tblSalaries[[#This Row],[Currency]],Sheet3!$A$2:$B$31,2,FALSE),tblSalaries[[#This Row],[clean Salary (in local currency)]],(tblSalaries[[#This Row],[PPP Adjusted  USD]]/VLOOKUP(Dashboard!$J$5,Sheet3!$B$2:$C$31,2,FALSE)))","v":12000},"project engineer ","Engineer","India","2 to 3 hours per day",7]
[null,"ID1048",252000,"INR",4487.5950052355274,{"$f":"(tblSalaries[[#This Row],[clean Salary (in local currency)]])*(VLOOKUP(tblSalaries[[#This Row],[Currency]],Sheet3!$A$2:$C$31,3,FALSE))*(VLOOKUP(tblSalaries[[#This Row],[Currency]],Sheet1!$N$4:$Q$186,4,FALSE))","v":11934.977631872011},{"$f":"IF(Dashboard!$J$5=VLOOKUP(tblSalaries[[#This Row],[Currency]],Sheet3!$A$2:$B$31,2,FALSE),tblSalaries[[#This Row],[clean Salary (in local currency)]],(tblSalaries[[#This Row],[PPP Adjusted  USD]]/VLOOKUP(Dashboard!$J$5,Sheet3!$B$2:$C$31,2,FALSE)))","v":11934.977631872011},"Accounts Exec","Accountant","India","1 or 2 hours a day",5]
[null,"ID1123",252000,"INR",4487.5950052355274,{"$f":"(tblSalaries[[#This Row],[clean Salary (in local currency)]])*(VLOOKUP(tblSalaries[[#This Row],[Currency]],Sheet3!$A$2:$C$31,3,FALSE))*(VLOOKUP(tblSalaries[[#This Row],[Currency]],Sheet1!$N$4:$Q$186,4,FALSE))","v":11934.977631872011},{"$f":"IF(Dashboard!$J$5=VLOOKUP(tblSalaries[[#This Row],[Currency]],Sheet3!$A$2:$B$31,2,FALSE),tblSalaries[[#This Row],[clean Salary (in local currency)]],(tblSalaries[[#This Row],[PPP Adjusted  USD]]/VLOOKUP(Dashboard!$J$5,Sheet3!$B$2:$C$31,2,FALSE)))","v":11934.977631872011},"Inventory Manager","Manager","India","1 or 2 hours a day",16]
[null,"ID0678",250000,"INR",4451.9791718606421,{"$f":"(tblSalaries[[#This Row],[clean Salary (in local currency)]])*(VLOOKUP(tblSalaries[[#This Row],[Currency]],Sheet3!$A$2:$C$31,3,FALSE))*(VLOOKUP(tblSalaries[[#This Row],[Currency]],Sheet1!$N$4:$Q$186,4,FALSE))","v":11840.255587174614},{"$f":"IF(Dashboard!$J$5=VLOOKUP(tblSalaries[[#This Row],[Currency]],Sheet3!$A$2:$B$31,2,FALSE),tblSalaries[[#This Row],[clean Salary (in local currency)]],(tblSalaries[[#This Row],[PPP Adjusted  USD]]/VLOOKUP(Dashboard!$J$5,Sheet3!$B$2:$C$31,2,FALSE)))","v":11840.255587174614},"ASM","Manager","India","2 to 3 hours per day",5]
[null,"ID0696",250000,"INR",4451.9791718606421,{"$f":"(tblSalaries[[#This Row],[clean Salary (in local currency)]])*(VLOOKUP(tblSalaries[[#This Row],[Currency]],Sheet3!$A$2:$C$31,3,FALSE))*(VLOOKUP(tblSalaries[[#This Row],[Currency]],Sheet1!$N$4:$Q$186,4,FALSE))","v":11840.255587174614},{"$f":"IF(Dashboard!$J$5=VLOOKUP(tblSalaries[[#This Row],[Currency]],Sheet3!$A$2:$B$31,2,FALSE),tblSalaries[[#This Row],[clean Salary (in local currency)]],(tblSalaries[[#This Row],[PPP Adjusted  USD]]/VLOOKUP(Dashboard!$J$5,Sheet3!$B$2:$C$31,2,FALSE)))","v":11840.255587174614},"MIS executive","Reporting","India","All the 8 hours baby, all the 8!",4]
[null,"ID0726",250000,"INR",4451.9791718606421,{"$f":"(tblSalaries[[#This Row],[clean Salary (in local currency)]])*(VLOOKUP(tblSalaries[[#This Row],[Currency]],Sheet3!$A$2:$C$31,3,FALSE))*(VLOOKUP(tblSalaries[[#This Row],[Currency]],Sheet1!$N$4:$Q$186,4,FALSE))","v":11840.255587174614},{"$f":"IF(Dashboard!$J$5=VLOOKUP(tblSalaries[[#This Row],[Currency]],Sheet3!$A$2:$B$31,2,FALSE),tblSalaries[[#This Row],[clean Salary (in local currency)]],(tblSalaries[[#This Row],[PPP Adjusted  USD]]/VLOOKUP(Dashboard!$J$5,Sheet3!$B$2:$C$31,2,FALSE)))","v":11840.255587174614},"Asst. Manager","Manager","India","4 to 6 hours a day",6]
[null,"ID1078",250000,"INR",4451.9791718606421,{"$f":"(tblSalaries[[#This Row],[clean Salary (in local currency)]])*(VLOOKUP(tblSalaries[[#This Row],[Currency]],Sheet3!$A$2:$C$31,3,FALSE))*(VLOOKUP(tblSalaries[[#This Row],[Currency]],Sheet1!$N$4:$Q$186,4,FALSE))","v":11840.255587174614},{"$f":"IF(Dashboard!$J$5=VLOOKUP(tblSalaries[[#This Row],[Currency]],Sheet3!$A$2:$B$31,2,FALSE),tblSalaries[[#This Row],[clean Salary (in local currency)]],(tblSalaries[[#This Row],[PPP Adjusted  USD]]/VLOOKUP(Dashboard!$J$5,Sheet3!$B$2:$C$31,2,FALSE)))","v":11840.255587174614},"SR. MIS ","Reporting","India","All the 8 hours baby, all the 8!",3.5]
[null,"ID1090",250000,"INR",4451.9791718606421,{"$f":"(tblSalaries[[#This Row],[clean Salary (in local currency)]])*(VLOOKUP(tblSalaries[[#This Row],[Currency]],Sheet3!$A$2:$C$31,3,FALSE))*(VLOOKUP(tblSalaries[[#This Row],[Currency]],Sheet1!$N$4:$Q$186,4,FALSE))","v":11840.255587174614},{"$f":"IF(Dashboard!$J$5=VLOOKUP(tblSalaries[[#This Row],[Currency]],Sheet3!$A$2:$B$31,2,FALSE),tblSalaries[[#This Row],[clean Salary (in local currency)]],(tblSalaries[[#This Row],[PPP Adjusted  USD]]/VLOOKUP(Dashboard!$J$5,Sheet3!$B$2:$C$31,2,FALSE)))","v":11840.255587174614},"MIS Executive","Reporting","India","2 to 3 hours per day",3]
[null,"ID1207",250000,"INR",4451.9791718606421,{"$f":"(tblSalaries[[#This Row],[clean Salary (in local currency)]])*(VLOOKUP(tblSalaries[[#This Row],[Currency]],Sheet3!$A$2:$C$31,3,FALSE))*(VLOOKUP(tblSalaries[[#This Row],[Currency]],Sheet1!$N$4:$Q$186,4,FALSE))","v":11840.255587174614},{"$f":"IF(Dashboard!$J$5=VLOOKUP(tblSalaries[[#This Row],[Currency]],Sheet3!$A$2:$B$31,2,FALSE),tblSalaries[[#This Row],[clean Salary (in local currency)]],(tblSalaries[[#This Row],[PPP Adjusted  USD]]/VLOOKUP(Dashboard!$J$5,Sheet3!$B$2:$C$31,2,FALSE)))","v":11840.255587174614},"Officer Production","Manager","India","4 to 6 hours a day",1]
[null,"ID1360",250000,"INR",4451.9791718606421,{"$f":"(tblSalaries[[#This Row],[clean Salary (in local currency)]])*(VLOOKUP(tblSalaries[[#This Row],[Currency]],Sheet3!$A$2:$C$31,3,FALSE))*(VLOOKUP(tblSalaries[[#This Row],[Currency]],Sheet1!$N$4:$Q$186,4,FALSE))","v":11840.255587174614},{"$f":"IF(Dashboard!$J$5=VLOOKUP(tblSalaries[[#This Row],[Currency]],Sheet3!$A$2:$B$31,2,FALSE),tblSalaries[[#This Row],[clean Salary (in local currency)]],(tblSalaries[[#This Row],[PPP Adjusted  USD]]/VLOOKUP(Dashboard!$J$5,Sheet3!$B$2:$C$31,2,FALSE)))","v":11840.255587174614},"Credit Executive","Analyst","India","All the 8 hours baby, all the 8!",8]
[null,"ID1390",250000,"INR",4451.9791718606421,{"$f":"(tblSalaries[[#This Row],[clean Salary (in local currency)]])*(VLOOKUP(tblSalaries[[#This Row],[Currency]],Sheet3!$A$2:$C$31,3,FALSE))*(VLOOKUP(tblSalaries[[#This Row],[Currency]],Sheet1!$N$4:$Q$186,4,FALSE))","v":11840.255587174614},{"$f":"IF(Dashboard!$J$5=VLOOKUP(tblSalaries[[#This Row],[Currency]],Sheet3!$A$2:$B$31,2,FALSE),tblSalaries[[#This Row],[clean Salary (in local currency)]],(tblSalaries[[#This Row],[PPP Adjusted  USD]]/VLOOKUP(Dashboard!$J$5,Sheet3!$B$2:$C$31,2,FALSE)))","v":11840.255587174614},"Manager","Manager","India","1 or 2 hours a day",15]
[null,"ID1464",250000,"INR",4451.9791718606421,{"$f":"(tblSalaries[[#This Row],[clean Salary (in local currency)]])*(VLOOKUP(tblSalaries[[#This Row],[Currency]],Sheet3!$A$2:$C$31,3,FALSE))*(VLOOKUP(tblSalaries[[#This Row],[Currency]],Sheet1!$N$4:$Q$186,4,FALSE))","v":11840.255587174614},{"$f":"IF(Dashboard!$J$5=VLOOKUP(tblSalaries[[#This Row],[Currency]],Sheet3!$A$2:$B$31,2,FALSE),tblSalaries[[#This Row],[clean Salary (in local currency)]],(tblSalaries[[#This Row],[PPP Adjusted  USD]]/VLOOKUP(Dashboard!$J$5,Sheet3!$B$2:$C$31,2,FALSE)))","v":11840.255587174614},"Manager Commercial","Manager","India","2 to 3 hours per day",15]
[null,"ID1590",250000,"INR",4451.9791718606421,{"$f":"(tblSalaries[[#This Row],[clean Salary (in local currency)]])*(VLOOKUP(tblSalaries[[#This Row],[Currency]],Sheet3!$A$2:$C$31,3,FALSE))*(VLOOKUP(tblSalaries[[#This Row],[Currency]],Sheet1!$N$4:$Q$186,4,FALSE))","v":11840.255587174614},{"$f":"IF(Dashboard!$J$5=VLOOKUP(tblSalaries[[#This Row],[Currency]],Sheet3!$A$2:$B$31,2,FALSE),tblSalaries[[#This Row],[clean Salary (in local currency)]],(tblSalaries[[#This Row],[PPP Adjusted  USD]]/VLOOKUP(Dashboard!$J$5,Sheet3!$B$2:$C$31,2,FALSE)))","v":11840.255587174614},"Analytics engineer","Engineer","India","4 to 6 hours a day",2.5]
[null,"ID1903",250000,"INR",4451.9791718606421,{"$f":"(tblSalaries[[#This Row],[clean Salary (in local currency)]])*(VLOOKUP(tblSalaries[[#This Row],[Currency]],Sheet3!$A$2:$C$31,3,FALSE))*(VLOOKUP(tblSalaries[[#This Row],[Currency]],Sheet1!$N$4:$Q$186,4,FALSE))","v":11840.255587174614},{"$f":"IF(Dashboard!$J$5=VLOOKUP(tblSalaries[[#This Row],[Currency]],Sheet3!$A$2:$B$31,2,FALSE),tblSalaries[[#This Row],[clean Salary (in local currency)]],(tblSalaries[[#This Row],[PPP Adjusted  USD]]/VLOOKUP(Dashboard!$J$5,Sheet3!$B$2:$C$31,2,FALSE)))","v":11840.255587174614},"MIS EXECUTIVE","Reporting","India","4 to 6 hours a day",3]
[null,"ID1916",250000,"INR",4451.9791718606421,{"$f":"(tblSalaries[[#This Row],[clean Salary (in local currency)]])*(VLOOKUP(tblSalaries[[#This Row],[Currency]],Sheet3!$A$2:$C$31,3,FALSE))*(VLOOKUP(tblSalaries[[#This Row],[Currency]],Sheet1!$N$4:$Q$186,4,FALSE))","v":11840.255587174614},{"$f":"IF(Dashboard!$J$5=VLOOKUP(tblSalaries[[#This Row],[Currency]],Sheet3!$A$2:$B$31,2,FALSE),tblSalaries[[#This Row],[clean Salary (in local currency)]],(tblSalaries[[#This Row],[PPP Adjusted  USD]]/VLOOKUP(Dashboard!$J$5,Sheet3!$B$2:$C$31,2,FALSE)))","v":11840.255587174614},"research associate","Analyst","India","Excel ?!? What Excel?",1.6]
[null,"ID1280",11800,"USD",11800,{"$f":"(tblSalaries[[#This Row],[clean Salary (in local currency)]])*(VLOOKUP(tblSalaries[[#This Row],[Currency]],Sheet3!$A$2:$C$31,3,FALSE))*(VLOOKUP(tblSalaries[[#This Row],[Currency]],Sheet1!$N$4:$Q$186,4,FALSE))","v":11800},{"$f":"IF(Dashboard!$J$5=VLOOKUP(tblSalaries[[#This Row],[Currency]],Sheet3!$A$2:$B$31,2,FALSE),tblSalaries[[#This Row],[clean Salary (in local currency)]],(tblSalaries[[#This Row],[PPP Adjusted  USD]]/VLOOKUP(Dashboard!$J$5,Sheet3!$B$2:$C$31,2,FALSE)))","v":11800},"Assistant Data Analyst","Analyst","India","4 to 6 hours a day",10]
[null,"ID1124",242304,"INR",4314.929445034084,{"$f":"(tblSalaries[[#This Row],[clean Salary (in local currency)]])*(VLOOKUP(tblSalaries[[#This Row],[Currency]],Sheet3!$A$2:$C$31,3,FALSE))*(VLOOKUP(tblSalaries[[#This Row],[Currency]],Sheet1!$N$4:$Q$186,4,FALSE))","v":11475.765159179031},{"$f":"IF(Dashboard!$J$5=VLOOKUP(tblSalaries[[#This Row],[Currency]],Sheet3!$A$2:$B$31,2,FALSE),tblSalaries[[#This Row],[clean Salary (in local currency)]],(tblSalaries[[#This Row],[PPP Adjusted  USD]]/VLOOKUP(Dashboard!$J$5,Sheet3!$B$2:$C$31,2,FALSE)))","v":11475.765159179031},"accountant","Accountant","India","4 to 6 hours a day",7]
[null,"ID0348",11400,"USD",11400,{"$f":"(tblSalaries[[#This Row],[clean Salary (in local currency)]])*(VLOOKUP(tblSalaries[[#This Row],[Currency]],Sheet3!$A$2:$C$31,3,FALSE))*(VLOOKUP(tblSalaries[[#This Row],[Currency]],Sheet1!$N$4:$Q$186,4,FALSE))","v":11400},{"$f":"IF(Dashboard!$J$5=VLOOKUP(tblSalaries[[#This Row],[Currency]],Sheet3!$A$2:$B$31,2,FALSE),tblSalaries[[#This Row],[clean Salary (in local currency)]],(tblSalaries[[#This Row],[PPP Adjusted  USD]]/VLOOKUP(Dashboard!$J$5,Sheet3!$B$2:$C$31,2,FALSE)))","v":11400},"Advisor","Consultant","Brazil","4 to 6 hours a day","Data Not Avaliable"]
[null,"ID0427",240000,"INR",4273.9000049862161,{"$f":"(tblSalaries[[#This Row],[clean Salary (in local currency)]])*(VLOOKUP(tblSalaries[[#This Row],[Currency]],Sheet3!$A$2:$C$31,3,FALSE))*(VLOOKUP(tblSalaries[[#This Row],[Currency]],Sheet1!$N$4:$Q$186,4,FALSE))","v":11366.645363687629},{"$f":"IF(Dashboard!$J$5=VLOOKUP(tblSalaries[[#This Row],[Currency]],Sheet3!$A$2:$B$31,2,FALSE),tblSalaries[[#This Row],[clean Salary (in local currency)]],(tblSalaries[[#This Row],[PPP Adjusted  USD]]/VLOOKUP(Dashboard!$J$5,Sheet3!$B$2:$C$31,2,FALSE)))","v":11366.645363687629},"WFM Team Lead","Manager","India","All the 8 hours baby, all the 8!","Data Not Avaliable"]
[null,"ID0603",240000,"INR",4273.9000049862161,{"$f":"(tblSalaries[[#This Row],[clean Salary (in local currency)]])*(VLOOKUP(tblSalaries[[#This Row],[Currency]],Sheet3!$A$2:$C$31,3,FALSE))*(VLOOKUP(tblSalaries[[#This Row],[Currency]],Sheet1!$N$4:$Q$186,4,FALSE))","v":11366.645363687629},{"$f":"IF(Dashboard!$J$5=VLOOKUP(tblSalaries[[#This Row],[Currency]],Sheet3!$A$2:$B$31,2,FALSE),tblSalaries[[#This Row],[clean Salary (in local currency)]],(tblSalaries[[#This Row],[PPP Adjusted  USD]]/VLOOKUP(Dashboard!$J$5,Sheet3!$B$2:$C$31,2,FALSE)))","v":11366.645363687629},"Talati","Analyst","India","2 to 3 hours per day",5]
[null,"ID0754",240000,"INR",4273.9000049862161,{"$f":"(tblSalaries[[#This Row],[clean Salary (in local currency)]])*(VLOOKUP(tblSalaries[[#This Row],[Currency]],Sheet3!$A$2:$C$31,3,FALSE))*(VLOOKUP(tblSalaries[[#This Row],[Currency]],Sheet1!$N$4:$Q$186,4,FALSE))","v":11366.645363687629},{"$f":"IF(Dashboard!$J$5=VLOOKUP(tblSalaries[[#This Row],[Currency]],Sheet3!$A$2:$B$31,2,FALSE),tblSalaries[[#This Row],[clean Salary (in local currency)]],(tblSalaries[[#This Row],[PPP Adjusted  USD]]/VLOOKUP(Dashboard!$J$5,Sheet3!$B$2:$C$31,2,FALSE)))","v":11366.645363687629},"SR. ACCOUNTS EXECUTIVE","Accountant","India","4 to 6 hours a day",8]
[null,"ID0760",240000,"INR",4273.9000049862161,{"$f":"(tblSalaries[[#This Row],[clean Salary (in local currency)]])*(VLOOKUP(tblSalaries[[#This Row],[Currency]],Sheet3!$A$2:$C$31,3,FALSE))*(VLOOKUP(tblSalaries[[#This Row],[Currency]],Sheet1!$N$4:$Q$186,4,FALSE))","v":11366.645363687629},{"$f":"IF(Dashboard!$J$5=VLOOKUP(tblSalaries[[#This Row],[Currency]],Sheet3!$A$2:$B$31,2,FALSE),tblSalaries[[#This Row],[clean Salary (in local currency)]],(tblSalaries[[#This Row],[PPP Adjusted  USD]]/VLOOKUP(Dashboard!$J$5,Sheet3!$B$2:$C$31,2,FALSE)))","v":11366.645363687629},"EXECUTIVE","Analyst","India","2 to 3 hours per day",20]
[null,"ID0787",240000,"INR",4273.9000049862161,{"$f":"(tblSalaries[[#This Row],[clean Salary (in local currency)]])*(VLOOKUP(tblSalaries[[#This Row],[Currency]],Sheet3!$A$2:$C$31,3,FALSE))*(VLOOKUP(tblSalaries[[#This Row],[Currency]],Sheet1!$N$4:$Q$186,4,FALSE))","v":11366.645363687629},{"$f":"IF(Dashboard!$J$5=VLOOKUP(tblSalaries[[#This Row],[Currency]],Sheet3!$A$2:$B$31,2,FALSE),tblSalaries[[#This Row],[clean Salary (in local currency)]],(tblSalaries[[#This Row],[PPP Adjusted  USD]]/VLOOKUP(Dashboard!$J$5,Sheet3!$B$2:$C$31,2,FALSE)))","v":11366.645363687629},"Analyst","Analyst","India","All the 8 hours baby, all the 8!",4]
[null,"ID0813",240000,"INR",4273.9000049862161,{"$f":"(tblSalaries[[#This Row],[clean Salary (in local currency)]])*(VLOOKUP(tblSalaries[[#This Row],[Currency]],Sheet3!$A$2:$C$31,3,FALSE))*(VLOOKUP(tblSalaries[[#This Row],[Currency]],Sheet1!$N$4:$Q$186,4,FALSE))","v":11366.645363687629},{"$f":"IF(Dashboard!$J$5=VLOOKUP(tblSalaries[[#This Row],[Currency]],Sheet3!$A$2:$B$31,2,FALSE),tblSalaries[[#This Row],[clean Salary (in local currency)]],(tblSalaries[[#This Row],[PPP Adjusted  USD]]/VLOOKUP(Dashboard!$J$5,Sheet3!$B$2:$C$31,2,FALSE)))","v":11366.645363687629},"MANAGER","Manager","India","2 to 3 hours per day",3]
[null,"ID1089",240000,"INR",4273.9000049862161,{"$f":"(tblSalaries[[#This Row],[clean Salary (in local currency)]])*(VLOOKUP(tblSalaries[[#This Row],[Currency]],Sheet3!$A$2:$C$31,3,FALSE))*(VLOOKUP(tblSalaries[[#This Row],[Currency]],Sheet1!$N$4:$Q$186,4,FALSE))","v":11366.645363687629},{"$f":"IF(Dashboard!$J$5=VLOOKUP(tblSalaries[[#This Row],[Currency]],Sheet3!$A$2:$B$31,2,FALSE),tblSalaries[[#This Row],[clean Salary (in local currency)]],(tblSalaries[[#This Row],[PPP Adjusted  USD]]/VLOOKUP(Dashboard!$J$5,Sheet3!$B$2:$C$31,2,FALSE)))","v":11366.645363687629},"Executive","Analyst","India","2 to 3 hours per day",3]
[null,"ID1099",240000,"INR",4273.9000049862161,{"$f":"(tblSalaries[[#This Row],[clean Salary (in local currency)]])*(VLOOKUP(tblSalaries[[#This Row],[Currency]],Sheet3!$A$2:$C$31,3,FALSE))*(VLOOKUP(tblSalaries[[#This Row],[Currency]],Sheet1!$N$4:$Q$186,4,FALSE))","v":11366.645363687629},{"$f":"IF(Dashboard!$J$5=VLOOKUP(tblSalaries[[#This Row],[Currency]],Sheet3!$A$2:$B$31,2,FALSE),tblSalaries[[#This Row],[clean Salary (in local currency)]],(tblSalaries[[#This Row],[PPP Adjusted  USD]]/VLOOKUP(Dashboard!$J$5,Sheet3!$B$2:$C$31,2,FALSE)))","v":11366.645363687629},"Accountant","Accountant","India","All the 8 hours baby, all the 8!",20]
[null,"ID1660",240000,"INR",4273.9000049862161,{"$f":"(tblSalaries[[#This Row],[clean Salary (in local currency)]])*(VLOOKUP(tblSalaries[[#This Row],[Currency]],Sheet3!$A$2:$C$31,3,FALSE))*(VLOOKUP(tblSalaries[[#This Row],[Currency]],Sheet1!$N$4:$Q$186,4,FALSE))","v":11366.645363687629},{"$f":"IF(Dashboard!$J$5=VLOOKUP(tblSalaries[[#This Row],[Currency]],Sheet3!$A$2:$B$31,2,FALSE),tblSalaries[[#This Row],[clean Salary (in local currency)]],(tblSalaries[[#This Row],[PPP Adjusted  USD]]/VLOOKUP(Dashboard!$J$5,Sheet3!$B$2:$C$31,2,FALSE)))","v":11366.645363687629},"Exicutive TQM","Controller","India","2 to 3 hours per day",15]
[null,"ID1034",456000,"PKR",4840.0244548604041,{"$f":"(tblSalaries[[#This Row],[clean Salary (in local currency)]])*(VLOOKUP(tblSalaries[[#This Row],[Currency]],Sheet3!$A$2:$C$31,3,FALSE))*(VLOOKUP(tblSalaries[[#This Row],[Currency]],Sheet1!$N$4:$Q$186,4,FALSE))","v":11230.394024465944},{"$f":"IF(Dashboard!$J$5=VLOOKUP(tblSalaries[[#This Row],[Currency]],Sheet3!$A$2:$B$31,2,FALSE),tblSalaries[[#This Row],[clean Salary (in local currency)]],(tblSalaries[[#This Row],[PPP Adjusted  USD]]/VLOOKUP(Dashboard!$J$5,Sheet3!$B$2:$C$31,2,FALSE)))","v":11230.394024465944},"Strategic Planning Executive","Manager","Pakistan","4 to 6 hours a day",2]
[null,"ID0197",233000,"INR",4149.2445881741187,{"$f":"(tblSalaries[[#This Row],[clean Salary (in local currency)]])*(VLOOKUP(tblSalaries[[#This Row],[Currency]],Sheet3!$A$2:$C$31,3,FALSE))*(VLOOKUP(tblSalaries[[#This Row],[Currency]],Sheet1!$N$4:$Q$186,4,FALSE))","v":11035.11820724674},{"$f":"IF(Dashboard!$J$5=VLOOKUP(tblSalaries[[#This Row],[Currency]],Sheet3!$A$2:$B$31,2,FALSE),tblSalaries[[#This Row],[clean Salary (in local currency)]],(tblSalaries[[#This Row],[PPP Adjusted  USD]]/VLOOKUP(Dashboard!$J$5,Sheet3!$B$2:$C$31,2,FALSE)))","v":11035.11820724674},"Asst. Manager (MIS)","Manager","India","All the 8 hours baby, all the 8!","Data Not Avaliable"]
[null,"ID0756",11000,"USD",11000,{"$f":"(tblSalaries[[#This Row],[clean Salary (in local currency)]])*(VLOOKUP(tblSalaries[[#This Row],[Currency]],Sheet3!$A$2:$C$31,3,FALSE))*(VLOOKUP(tblSalaries[[#This Row],[Currency]],Sheet1!$N$4:$Q$186,4,FALSE))","v":11000},{"$f":"IF(Dashboard!$J$5=VLOOKUP(tblSalaries[[#This Row],[Currency]],Sheet3!$A$2:$B$31,2,FALSE),tblSalaries[[#This Row],[clean Salary (in local currency)]],(tblSalaries[[#This Row],[PPP Adjusted  USD]]/VLOOKUP(Dashboard!$J$5,Sheet3!$B$2:$C$31,2,FALSE)))","v":11000},"Assistant Manager - Group MIS","Manager","Sri Lanka","All the 8 hours baby, all the 8!",4.5]
[null,"ID1576",11000,"USD",11000,{"$f":"(tblSalaries[[#This Row],[clean Salary (in local currency)]])*(VLOOKUP(tblSalaries[[#This Row],[Currency]],Sheet3!$A$2:$C$31,3,FALSE))*(VLOOKUP(tblSalaries[[#This Row],[Currency]],Sheet1!$N$4:$Q$186,4,FALSE))","v":11000},{"$f":"IF(Dashboard!$J$5=VLOOKUP(tblSalaries[[#This Row],[Currency]],Sheet3!$A$2:$B$31,2,FALSE),tblSalaries[[#This Row],[clean Salary (in local currency)]],(tblSalaries[[#This Row],[PPP Adjusted  USD]]/VLOOKUP(Dashboard!$J$5,Sheet3!$B$2:$C$31,2,FALSE)))","v":11000},"Coordinator","Manager","Mexico","4 to 6 hours a day",2]
[null,"ID1670",11000,"USD",11000,{"$f":"(tblSalaries[[#This Row],[clean Salary (in local currency)]])*(VLOOKUP(tblSalaries[[#This Row],[Currency]],Sheet3!$A$2:$C$31,3,FALSE))*(VLOOKUP(tblSalaries[[#This Row],[Currency]],Sheet1!$N$4:$Q$186,4,FALSE))","v":11000},{"$f":"IF(Dashboard!$J$5=VLOOKUP(tblSalaries[[#This Row],[Currency]],Sheet3!$A$2:$B$31,2,FALSE),tblSalaries[[#This Row],[clean Salary (in local currency)]],(tblSalaries[[#This Row],[PPP Adjusted  USD]]/VLOOKUP(Dashboard!$J$5,Sheet3!$B$2:$C$31,2,FALSE)))","v":11000},"Dataminer","Analyst","Tunisia","4 to 6 hours a day",8]
[null,"ID1793",11000,"USD",11000,{"$f":"(tblSalaries[[#This Row],[clean Salary (in local currency)]])*(VLOOKUP(tblSalaries[[#This Row],[Currency]],Sheet3!$A$2:$C$31,3,FALSE))*(VLOOKUP(tblSalaries[[#This Row],[Currency]],Sheet1!$N$4:$Q$186,4,FALSE))","v":11000},{"$f":"IF(Dashboard!$J$5=VLOOKUP(tblSalaries[[#This Row],[Currency]],Sheet3!$A$2:$B$31,2,FALSE),tblSalaries[[#This Row],[clean Salary (in local currency)]],(tblSalaries[[#This Row],[PPP Adjusted  USD]]/VLOOKUP(Dashboard!$J$5,Sheet3!$B$2:$C$31,2,FALSE)))","v":11000},"Web Analyst","Analyst","India","4 to 6 hours a day",2]
[null,"ID1866",11000,"USD",11000,{"$f":"(tblSalaries[[#This Row],[clean Salary (in local currency)]])*(VLOOKUP(tblSalaries[[#This Row],[Currency]],Sheet3!$A$2:$C$31,3,FALSE))*(VLOOKUP(tblSalaries[[#This Row],[Currency]],Sheet1!$N$4:$Q$186,4,FALSE))","v":11000},{"$f":"IF(Dashboard!$J$5=VLOOKUP(tblSalaries[[#This Row],[Currency]],Sheet3!$A$2:$B$31,2,FALSE),tblSalaries[[#This Row],[clean Salary (in local currency)]],(tblSalaries[[#This Row],[PPP Adjusted  USD]]/VLOOKUP(Dashboard!$J$5,Sheet3!$B$2:$C$31,2,FALSE)))","v":11000},"AM","Manager","India","All the 8 hours baby, all the 8!",8]
[null,"ID0668",230000,"INR",4095.8208381117906,{"$f":"(tblSalaries[[#This Row],[clean Salary (in local currency)]])*(VLOOKUP(tblSalaries[[#This Row],[Currency]],Sheet3!$A$2:$C$31,3,FALSE))*(VLOOKUP(tblSalaries[[#This Row],[Currency]],Sheet1!$N$4:$Q$186,4,FALSE))","v":10893.035140200645},{"$f":"IF(Dashboard!$J$5=VLOOKUP(tblSalaries[[#This Row],[Currency]],Sheet3!$A$2:$B$31,2,FALSE),tblSalaries[[#This Row],[clean Salary (in local currency)]],(tblSalaries[[#This Row],[PPP Adjusted  USD]]/VLOOKUP(Dashboard!$J$5,Sheet3!$B$2:$C$31,2,FALSE)))","v":10893.035140200645},"MIS Executive","Reporting","India","All the 8 hours baby, all the 8!",3]
[null,"ID1474",230000,"INR",4095.8208381117906,{"$f":"(tblSalaries[[#This Row],[clean Salary (in local currency)]])*(VLOOKUP(tblSalaries[[#This Row],[Currency]],Sheet3!$A$2:$C$31,3,FALSE))*(VLOOKUP(tblSalaries[[#This Row],[Currency]],Sheet1!$N$4:$Q$186,4,FALSE))","v":10893.035140200645},{"$f":"IF(Dashboard!$J$5=VLOOKUP(tblSalaries[[#This Row],[Currency]],Sheet3!$A$2:$B$31,2,FALSE),tblSalaries[[#This Row],[clean Salary (in local currency)]],(tblSalaries[[#This Row],[PPP Adjusted  USD]]/VLOOKUP(Dashboard!$J$5,Sheet3!$B$2:$C$31,2,FALSE)))","v":10893.035140200645},"Process Assocaite","Analyst","India","4 to 6 hours a day",1.6]
[null,"ID1028",10800,"USD",10800,{"$f":"(tblSalaries[[#This Row],[clean Salary (in local currency)]])*(VLOOKUP(tblSalaries[[#This Row],[Currency]],Sheet3!$A$2:$C$31,3,FALSE))*(VLOOKUP(tblSalaries[[#This Row],[Currency]],Sheet1!$N$4:$Q$186,4,FALSE))","v":10800},{"$f":"IF(Dashboard!$J$5=VLOOKUP(tblSalaries[[#This Row],[Currency]],Sheet3!$A$2:$B$31,2,FALSE),tblSalaries[[#This Row],[clean Salary (in local currency)]],(tblSalaries[[#This Row],[PPP Adjusted  USD]]/VLOOKUP(Dashboard!$J$5,Sheet3!$B$2:$C$31,2,FALSE)))","v":10800},"Project Managment Office","Manager","Pakistan","All the 8 hours baby, all the 8!",5]
[null,"ID0758",225000,"INR",4006.7812546745777,{"$f":"(tblSalaries[[#This Row],[clean Salary (in local currency)]])*(VLOOKUP(tblSalaries[[#This Row],[Currency]],Sheet3!$A$2:$C$31,3,FALSE))*(VLOOKUP(tblSalaries[[#This Row],[Currency]],Sheet1!$N$4:$Q$186,4,FALSE))","v":10656.230028457152},{"$f":"IF(Dashboard!$J$5=VLOOKUP(tblSalaries[[#This Row],[Currency]],Sheet3!$A$2:$B$31,2,FALSE),tblSalaries[[#This Row],[clean Salary (in local currency)]],(tblSalaries[[#This Row],[PPP Adjusted  USD]]/VLOOKUP(Dashboard!$J$5,Sheet3!$B$2:$C$31,2,FALSE)))","v":10656.230028457152},"MIS Executive","Reporting","India","All the 8 hours baby, all the 8!",5.5]
[null,"ID1578",240000,"PHP",5689.2125418690484,{"$f":"(tblSalaries[[#This Row],[clean Salary (in local currency)]])*(VLOOKUP(tblSalaries[[#This Row],[Currency]],Sheet3!$A$2:$C$31,3,FALSE))*(VLOOKUP(tblSalaries[[#This Row],[Currency]],Sheet1!$N$4:$Q$186,4,FALSE))","v":10421.454096092093},{"$f":"IF(Dashboard!$J$5=VLOOKUP(tblSalaries[[#This Row],[Currency]],Sheet3!$A$2:$B$31,2,FALSE),tblSalaries[[#This Row],[clean Salary (in local currency)]],(tblSalaries[[#This Row],[PPP Adjusted  USD]]/VLOOKUP(Dashboard!$J$5,Sheet3!$B$2:$C$31,2,FALSE)))","v":10421.454096092093},"IT Coordinator","Manager","Philippines","4 to 6 hours a day",15]
[null,"ID0682",220000,"INR",3917.7416712373652,{"$f":"(tblSalaries[[#This Row],[clean Salary (in local currency)]])*(VLOOKUP(tblSalaries[[#This Row],[Currency]],Sheet3!$A$2:$C$31,3,FALSE))*(VLOOKUP(tblSalaries[[#This Row],[Currency]],Sheet1!$N$4:$Q$186,4,FALSE))","v":10419.42491671366},{"$f":"IF(Dashboard!$J$5=VLOOKUP(tblSalaries[[#This Row],[Currency]],Sheet3!$A$2:$B$31,2,FALSE),tblSalaries[[#This Row],[clean Salary (in local currency)]],(tblSalaries[[#This Row],[PPP Adjusted  USD]]/VLOOKUP(Dashboard!$J$5,Sheet3!$B$2:$C$31,2,FALSE)))","v":10419.42491671366},"Accounts Payable Analyst","Analyst","India","2 to 3 hours per day",3]
[null,"ID0775",220000,"INR",3917.7416712373652,{"$f":"(tblSalaries[[#This Row],[clean Salary (in local currency)]])*(VLOOKUP(tblSalaries[[#This Row],[Currency]],Sheet3!$A$2:$C$31,3,FALSE))*(VLOOKUP(tblSalaries[[#This Row],[Currency]],Sheet1!$N$4:$Q$186,4,FALSE))","v":10419.42491671366},{"$f":"IF(Dashboard!$J$5=VLOOKUP(tblSalaries[[#This Row],[Currency]],Sheet3!$A$2:$B$31,2,FALSE),tblSalaries[[#This Row],[clean Salary (in local currency)]],(tblSalaries[[#This Row],[PPP Adjusted  USD]]/VLOOKUP(Dashboard!$J$5,Sheet3!$B$2:$C$31,2,FALSE)))","v":10419.42491671366},"Associate Software Engineer","Engineer","India","4 to 6 hours a day",2]
[null,"ID0886",420000,"PKR",4457.9172610556352,{"$f":"(tblSalaries[[#This Row],[clean Salary (in local currency)]])*(VLOOKUP(tblSalaries[[#This Row],[Currency]],Sheet3!$A$2:$C$31,3,FALSE))*(VLOOKUP(tblSalaries[[#This Row],[Currency]],Sheet1!$N$4:$Q$186,4,FALSE))","v":10343.783969902843},{"$f":"IF(Dashboard!$J$5=VLOOKUP(tblSalaries[[#This Row],[Currency]],Sheet3!$A$2:$B$31,2,FALSE),tblSalaries[[#This Row],[clean Salary (in local currency)]],(tblSalaries[[#This Row],[PPP Adjusted  USD]]/VLOOKUP(Dashboard!$J$5,Sheet3!$B$2:$C$31,2,FALSE)))","v":10343.783969902843},"Assistant Manager","Manager","Pakistan","All the 8 hours baby, all the 8!",4]
[null,"ID0675",10200,"USD",10200,{"$f":"(tblSalaries[[#This Row],[clean Salary (in local currency)]])*(VLOOKUP(tblSalaries[[#This Row],[Currency]],Sheet3!$A$2:$C$31,3,FALSE))*(VLOOKUP(tblSalaries[[#This Row],[Currency]],Sheet1!$N$4:$Q$186,4,FALSE))","v":10200},{"$f":"IF(Dashboard!$J$5=VLOOKUP(tblSalaries[[#This Row],[Currency]],Sheet3!$A$2:$B$31,2,FALSE),tblSalaries[[#This Row],[clean Salary (in local currency)]],(tblSalaries[[#This Row],[PPP Adjusted  USD]]/VLOOKUP(Dashboard!$J$5,Sheet3!$B$2:$C$31,2,FALSE)))","v":10200},"business analyst","Analyst","India","4 to 6 hours a day",4.5]
[null,"ID0628",10000,"USD",10000,{"$f":"(tblSalaries[[#This Row],[clean Salary (in local currency)]])*(VLOOKUP(tblSalaries[[#This Row],[Currency]],Sheet3!$A$2:$C$31,3,FALSE))*(VLOOKUP(tblSalaries[[#This Row],[Currency]],Sheet1!$N$4:$Q$186,4,FALSE))","v":10000},{"$f":"IF(Dashboard!$J$5=VLOOKUP(tblSalaries[[#This Row],[Currency]],Sheet3!$A$2:$B$31,2,FALSE),tblSalaries[[#This Row],[clean Salary (in local currency)]],(tblSalaries[[#This Row],[PPP Adjusted  USD]]/VLOOKUP(Dashboard!$J$5,Sheet3!$B$2:$C$31,2,FALSE)))","v":10000},"executive","Manager","Indonesia","2 to 3 hours per day",5]
[null,"ID0707",10000,"USD",10000,{"$f":"(tblSalaries[[#This Row],[clean Salary (in local currency)]])*(VLOOKUP(tblSalaries[[#This Row],[Currency]],Sheet3!$A$2:$C$31,3,FALSE))*(VLOOKUP(tblSalaries[[#This Row],[Currency]],Sheet1!$N$4:$Q$186,4,FALSE))","v":10000},{"$f":"IF(Dashboard!$J$5=VLOOKUP(tblSalaries[[#This Row],[Currency]],Sheet3!$A$2:$B$31,2,FALSE),tblSalaries[[#This Row],[clean Salary (in local currency)]],(tblSalaries[[#This Row],[PPP Adjusted  USD]]/VLOOKUP(Dashboard!$J$5,Sheet3!$B$2:$C$31,2,FALSE)))","v":10000},"Executive","Manager","India","4 to 6 hours a day",2]
[null,"ID0745",10000,"USD",10000,{"$f":"(tblSalaries[[#This Row],[clean Salary (in local currency)]])*(VLOOKUP(tblSalaries[[#This Row],[Currency]],Sheet3!$A$2:$C$31,3,FALSE))*(VLOOKUP(tblSalaries[[#This Row],[Currency]],Sheet1!$N$4:$Q$186,4,FALSE))","v":10000},{"$f":"IF(Dashboard!$J$5=VLOOKUP(tblSalaries[[#This Row],[Currency]],Sheet3!$A$2:$B$31,2,FALSE),tblSalaries[[#This Row],[clean Salary (in local currency)]],(tblSalaries[[#This Row],[PPP Adjusted  USD]]/VLOOKUP(Dashboard!$J$5,Sheet3!$B$2:$C$31,2,FALSE)))","v":10000},"Reporting Analyst","Analyst","India","4 to 6 hours a day",12]
[null,"ID0789",10000,"USD",10000,{"$f":"(tblSalaries[[#This Row],[clean Salary (in local currency)]])*(VLOOKUP(tblSalaries[[#This Row],[Currency]],Sheet3!$A$2:$C$31,3,FALSE))*(VLOOKUP(tblSalaries[[#This Row],[Currency]],Sheet1!$N$4:$Q$186,4,FALSE))","v":10000},{"$f":"IF(Dashboard!$J$5=VLOOKUP(tblSalaries[[#This Row],[Currency]],Sheet3!$A$2:$B$31,2,FALSE),tblSalaries[[#This Row],[clean Salary (in local currency)]],(tblSalaries[[#This Row],[PPP Adjusted  USD]]/VLOOKUP(Dashboard!$J$5,Sheet3!$B$2:$C$31,2,FALSE)))","v":10000},"BDM","Manager","India","1 or 2 hours a day",12]
[null,"ID0890",10000,"USD",10000,{"$f":"(tblSalaries[[#This Row],[clean Salary (in local currency)]])*(VLOOKUP(tblSalaries[[#This Row],[Currency]],Sheet3!$A$2:$C$31,3,FALSE))*(VLOOKUP(tblSalaries[[#This Row],[Currency]],Sheet1!$N$4:$Q$186,4,FALSE))","v":10000},{"$f":"IF(Dashboard!$J$5=VLOOKUP(tblSalaries[[#This Row],[Currency]],Sheet3!$A$2:$B$31,2,FALSE),tblSalaries[[#This Row],[clean Salary (in local currency)]],(tblSalaries[[#This Row],[PPP Adjusted  USD]]/VLOOKUP(Dashboard!$J$5,Sheet3!$B$2:$C$31,2,FALSE)))","v":10000},"Finance Staff","Accountant","Viet Nam","4 to 6 hours a day",4]
[null,"ID0905",10000,"USD",10000,{"$f":"(tblSalaries[[#This Row],[clean Salary (in local currency)]])*(VLOOKUP(tblSalaries[[#This Row],[Currency]],Sheet3!$A$2:$C$31,3,FALSE))*(VLOOKUP(tblSalaries[[#This Row],[Currency]],Sheet1!$N$4:$Q$186,4,FALSE))","v":10000},{"$f":"IF(Dashboard!$J$5=VLOOKUP(tblSalaries[[#This Row],[Currency]],Sheet3!$A$2:$B$31,2,FALSE),tblSalaries[[#This Row],[clean Salary (in local currency)]],(tblSalaries[[#This Row],[PPP Adjusted  USD]]/VLOOKUP(Dashboard!$J$5,Sheet3!$B$2:$C$31,2,FALSE)))","v":10000},"Planner","Manager","India","4 to 6 hours a day",6]
[null,"ID1140",10000,"USD",10000,{"$f":"(tblSalaries[[#This Row],[clean Salary (in local currency)]])*(VLOOKUP(tblSalaries[[#This Row],[Currency]],Sheet3!$A$2:$C$31,3,FALSE))*(VLOOKUP(tblSalaries[[#This Row],[Currency]],Sheet1!$N$4:$Q$186,4,FALSE))","v":10000},{"$f":"IF(Dashboard!$J$5=VLOOKUP(tblSalaries[[#This Row],[Currency]],Sheet3!$A$2:$B$31,2,FALSE),tblSalaries[[#This Row],[clean Salary (in local currency)]],(tblSalaries[[#This Row],[PPP Adjusted  USD]]/VLOOKUP(Dashboard!$J$5,Sheet3!$B$2:$C$31,2,FALSE)))","v":10000},"Business analyst","Analyst","India","2 to 3 hours per day",5]
[null,"ID1326",10000,"USD",10000,{"$f":"(tblSalaries[[#This Row],[clean Salary (in local currency)]])*(VLOOKUP(tblSalaries[[#This Row],[Currency]],Sheet3!$A$2:$C$31,3,FALSE))*(VLOOKUP(tblSalaries[[#This Row],[Currency]],Sheet1!$N$4:$Q$186,4,FALSE))","v":10000},{"$f":"IF(Dashboard!$J$5=VLOOKUP(tblSalaries[[#This Row],[Currency]],Sheet3!$A$2:$B$31,2,FALSE),tblSalaries[[#This Row],[clean Salary (in local currency)]],(tblSalaries[[#This Row],[PPP Adjusted  USD]]/VLOOKUP(Dashboard!$J$5,Sheet3!$B$2:$C$31,2,FALSE)))","v":10000},"MIS","Reporting","India","1 or 2 hours a day",0.5]
[null,"ID1510",10000,"USD",10000,{"$f":"(tblSalaries[[#This Row],[clean Salary (in local currency)]])*(VLOOKUP(tblSalaries[[#This Row],[Currency]],Sheet3!$A$2:$C$31,3,FALSE))*(VLOOKUP(tblSalaries[[#This Row],[Currency]],Sheet1!$N$4:$Q$186,4,FALSE))","v":10000},{"$f":"IF(Dashboard!$J$5=VLOOKUP(tblSalaries[[#This Row],[Currency]],Sheet3!$A$2:$B$31,2,FALSE),tblSalaries[[#This Row],[clean Salary (in local currency)]],(tblSalaries[[#This Row],[PPP Adjusted  USD]]/VLOOKUP(Dashboard!$J$5,Sheet3!$B$2:$C$31,2,FALSE)))","v":10000},"Trainee","Analyst","Brazil","4 to 6 hours a day",1]
[null,"ID1533",10000,"USD",10000,{"$f":"(tblSalaries[[#This Row],[clean Salary (in local currency)]])*(VLOOKUP(tblSalaries[[#This Row],[Currency]],Sheet3!$A$2:$C$31,3,FALSE))*(VLOOKUP(tblSalaries[[#This Row],[Currency]],Sheet1!$N$4:$Q$186,4,FALSE))","v":10000},{"$f":"IF(Dashboard!$J$5=VLOOKUP(tblSalaries[[#This Row],[Currency]],Sheet3!$A$2:$B$31,2,FALSE),tblSalaries[[#This Row],[clean Salary (in local currency)]],(tblSalaries[[#This Row],[PPP Adjusted  USD]]/VLOOKUP(Dashboard!$J$5,Sheet3!$B$2:$C$31,2,FALSE)))","v":10000},"Project management","Manager","Vietnam","2 to 3 hours per day",8]
[null,"ID1602",10000,"USD",10000,{"$f":"(tblSalaries[[#This Row],[clean Salary (in local currency)]])*(VLOOKUP(tblSalaries[[#This Row],[Currency]],Sheet3!$A$2:$C$31,3,FALSE))*(VLOOKUP(tblSalaries[[#This Row],[Currency]],Sheet1!$N$4:$Q$186,4,FALSE))","v":10000},{"$f":"IF(Dashboard!$J$5=VLOOKUP(tblSalaries[[#This Row],[Currency]],Sheet3!$A$2:$B$31,2,FALSE),tblSalaries[[#This Row],[clean Salary (in local currency)]],(tblSalaries[[#This Row],[PPP Adjusted  USD]]/VLOOKUP(Dashboard!$J$5,Sheet3!$B$2:$C$31,2,FALSE)))","v":10000},"MIS","Reporting","India","All the 8 hours baby, all the 8!",6]
[null,"ID1604",10000,"USD",10000,{"$f":"(tblSalaries[[#This Row],[clean Salary (in local currency)]])*(VLOOKUP(tblSalaries[[#This Row],[Currency]],Sheet3!$A$2:$C$31,3,FALSE))*(VLOOKUP(tblSalaries[[#This Row],[Currency]],Sheet1!$N$4:$Q$186,4,FALSE))","v":10000},{"$f":"IF(Dashboard!$J$5=VLOOKUP(tblSalaries[[#This Row],[Currency]],Sheet3!$A$2:$B$31,2,FALSE),tblSalaries[[#This Row],[clean Salary (in local currency)]],(tblSalaries[[#This Row],[PPP Adjusted  USD]]/VLOOKUP(Dashboard!$J$5,Sheet3!$B$2:$C$31,2,FALSE)))","v":10000},"dgm","Manager","India","All the 8 hours baby, all the 8!",12]
[null,"ID1653",10000,"USD",10000,{"$f":"(tblSalaries[[#This Row],[clean Salary (in local currency)]])*(VLOOKUP(tblSalaries[[#This Row],[Currency]],Sheet3!$A$2:$C$31,3,FALSE))*(VLOOKUP(tblSalaries[[#This Row],[Currency]],Sheet1!$N$4:$Q$186,4,FALSE))","v":10000},{"$f":"IF(Dashboard!$J$5=VLOOKUP(tblSalaries[[#This Row],[Currency]],Sheet3!$A$2:$B$31,2,FALSE),tblSalaries[[#This Row],[clean Salary (in local currency)]],(tblSalaries[[#This Row],[PPP Adjusted  USD]]/VLOOKUP(Dashboard!$J$5,Sheet3!$B$2:$C$31,2,FALSE)))","v":10000},"ceo","CXO or Top Mgmt.","India","All the 8 hours baby, all the 8!",1]
[null,"ID1657",10000,"USD",10000,{"$f":"(tblSalaries[[#This Row],[clean Salary (in local currency)]])*(VLOOKUP(tblSalaries[[#This Row],[Currency]],Sheet3!$A$2:$C$31,3,FALSE))*(VLOOKUP(tblSalaries[[#This Row],[Currency]],Sheet1!$N$4:$Q$186,4,FALSE))","v":10000},{"$f":"IF(Dashboard!$J$5=VLOOKUP(tblSalaries[[#This Row],[Currency]],Sheet3!$A$2:$B$31,2,FALSE),tblSalaries[[#This Row],[clean Salary (in local currency)]],(tblSalaries[[#This Row],[PPP Adjusted  USD]]/VLOOKUP(Dashboard!$J$5,Sheet3!$B$2:$C$31,2,FALSE)))","v":10000},"MIS Executive","Reporting","India","All the 8 hours baby, all the 8!",2]
[null,"ID1711",10000,"USD",10000,{"$f":"(tblSalaries[[#This Row],[clean Salary (in local currency)]])*(VLOOKUP(tblSalaries[[#This Row],[Currency]],Sheet3!$A$2:$C$31,3,FALSE))*(VLOOKUP(tblSalaries[[#This Row],[Currency]],Sheet1!$N$4:$Q$186,4,FALSE))","v":10000},{"$f":"IF(Dashboard!$J$5=VLOOKUP(tblSalaries[[#This Row],[Currency]],Sheet3!$A$2:$B$31,2,FALSE),tblSalaries[[#This Row],[clean Salary (in local currency)]],(tblSalaries[[#This Row],[PPP Adjusted  USD]]/VLOOKUP(Dashboard!$J$5,Sheet3!$B$2:$C$31,2,FALSE)))","v":10000},"Student assistant","Analyst","USA","4 to 6 hours a day",2]
[null,"ID1735",10000,"USD",10000,{"$f":"(tblSalaries[[#This Row],[clean Salary (in local currency)]])*(VLOOKUP(tblSalaries[[#This Row],[Currency]],Sheet3!$A$2:$C$31,3,FALSE))*(VLOOKUP(tblSalaries[[#This Row],[Currency]],Sheet1!$N$4:$Q$186,4,FALSE))","v":10000},{"$f":"IF(Dashboard!$J$5=VLOOKUP(tblSalaries[[#This Row],[Currency]],Sheet3!$A$2:$B$31,2,FALSE),tblSalaries[[#This Row],[clean Salary (in local currency)]],(tblSalaries[[#This Row],[PPP Adjusted  USD]]/VLOOKUP(Dashboard!$J$5,Sheet3!$B$2:$C$31,2,FALSE)))","v":10000},"AGM - Operations & Customer Support","Manager","India","4 to 6 hours a day",11]
[null,"ID1353",9067,"EUR",11518.711713336908,{"$f":"(tblSalaries[[#This Row],[clean Salary (in local currency)]])*(VLOOKUP(tblSalaries[[#This Row],[Currency]],Sheet3!$A$2:$C$31,3,FALSE))*(VLOOKUP(tblSalaries[[#This Row],[Currency]],Sheet1!$N$4:$Q$186,4,FALSE))","v":9979.6197171811327},{"$f":"IF(Dashboard!$J$5=VLOOKUP(tblSalaries[[#This Row],[Currency]],Sheet3!$A$2:$B$31,2,FALSE),tblSalaries[[#This Row],[clean Salary (in local currency)]],(tblSalaries[[#This Row],[PPP Adjusted  USD]]/VLOOKUP(Dashboard!$J$5,Sheet3!$B$2:$C$31,2,FALSE)))","v":9979.6197171811327},"assistant","Analyst","Hungary","2 to 3 hours per day",3]
[null,"ID1036",210000,"INR",3739.6625043629392,{"$f":"(tblSalaries[[#This Row],[clean Salary (in local currency)]])*(VLOOKUP(tblSalaries[[#This Row],[Currency]],Sheet3!$A$2:$C$31,3,FALSE))*(VLOOKUP(tblSalaries[[#This Row],[Currency]],Sheet1!$N$4:$Q$186,4,FALSE))","v":9945.8146932266754},{"$f":"IF(Dashboard!$J$5=VLOOKUP(tblSalaries[[#This Row],[Currency]],Sheet3!$A$2:$B$31,2,FALSE),tblSalaries[[#This Row],[clean Salary (in local currency)]],(tblSalaries[[#This Row],[PPP Adjusted  USD]]/VLOOKUP(Dashboard!$J$5,Sheet3!$B$2:$C$31,2,FALSE)))","v":9945.8146932266754},"MIS executive","Reporting","India","All the 8 hours baby, all the 8!",3.5]
[null,"ID1125",210000,"INR",3739.6625043629392,{"$f":"(tblSalaries[[#This Row],[clean Salary (in local currency)]])*(VLOOKUP(tblSalaries[[#This Row],[Currency]],Sheet3!$A$2:$C$31,3,FALSE))*(VLOOKUP(tblSalaries[[#This Row],[Currency]],Sheet1!$N$4:$Q$186,4,FALSE))","v":9945.8146932266754},{"$f":"IF(Dashboard!$J$5=VLOOKUP(tblSalaries[[#This Row],[Currency]],Sheet3!$A$2:$B$31,2,FALSE),tblSalaries[[#This Row],[clean Salary (in local currency)]],(tblSalaries[[#This Row],[PPP Adjusted  USD]]/VLOOKUP(Dashboard!$J$5,Sheet3!$B$2:$C$31,2,FALSE)))","v":9945.8146932266754},"information Analyst","Analyst","India","All the 8 hours baby, all the 8!",1]
[null,"ID1311",210000,"INR",3739.6625043629392,{"$f":"(tblSalaries[[#This Row],[clean Salary (in local currency)]])*(VLOOKUP(tblSalaries[[#This Row],[Currency]],Sheet3!$A$2:$C$31,3,FALSE))*(VLOOKUP(tblSalaries[[#This Row],[Currency]],Sheet1!$N$4:$Q$186,4,FALSE))","v":9945.8146932266754},{"$f":"IF(Dashboard!$J$5=VLOOKUP(tblSalaries[[#This Row],[Currency]],Sheet3!$A$2:$B$31,2,FALSE),tblSalaries[[#This Row],[clean Salary (in local currency)]],(tblSalaries[[#This Row],[PPP Adjusted  USD]]/VLOOKUP(Dashboard!$J$5,Sheet3!$B$2:$C$31,2,FALSE)))","v":9945.8146932266754},"MIS cum Purchase Executive","Reporting","India","1 or 2 hours a day",4.5]
[null,"ID0771",205000,"INR",3650.6229209257262,{"$f":"(tblSalaries[[#This Row],[clean Salary (in local currency)]])*(VLOOKUP(tblSalaries[[#This Row],[Currency]],Sheet3!$A$2:$C$31,3,FALSE))*(VLOOKUP(tblSalaries[[#This Row],[Currency]],Sheet1!$N$4:$Q$186,4,FALSE))","v":9709.009581483182},{"$f":"IF(Dashboard!$J$5=VLOOKUP(tblSalaries[[#This Row],[Currency]],Sheet3!$A$2:$B$31,2,FALSE),tblSalaries[[#This Row],[clean Salary (in local currency)]],(tblSalaries[[#This Row],[PPP Adjusted  USD]]/VLOOKUP(Dashboard!$J$5,Sheet3!$B$2:$C$31,2,FALSE)))","v":9709.009581483182},"BRANCH ACCOUNTANT","Accountant","India","All the 8 hours baby, all the 8!",10]
[null,"ID0998",204000,"INR",3632.815004238284,{"$f":"(tblSalaries[[#This Row],[clean Salary (in local currency)]])*(VLOOKUP(tblSalaries[[#This Row],[Currency]],Sheet3!$A$2:$C$31,3,FALSE))*(VLOOKUP(tblSalaries[[#This Row],[Currency]],Sheet1!$N$4:$Q$186,4,FALSE))","v":9661.6485591344845},{"$f":"IF(Dashboard!$J$5=VLOOKUP(tblSalaries[[#This Row],[Currency]],Sheet3!$A$2:$B$31,2,FALSE),tblSalaries[[#This Row],[clean Salary (in local currency)]],(tblSalaries[[#This Row],[PPP Adjusted  USD]]/VLOOKUP(Dashboard!$J$5,Sheet3!$B$2:$C$31,2,FALSE)))","v":9661.6485591344845},"Retired Government Officer, having knowledge in excel.","Manager","India","4 to 6 hours a day",0]
[null,"ID1330",204000,"INR",3632.815004238284,{"$f":"(tblSalaries[[#This Row],[clean Salary (in local currency)]])*(VLOOKUP(tblSalaries[[#This Row],[Currency]],Sheet3!$A$2:$C$31,3,FALSE))*(VLOOKUP(tblSalaries[[#This Row],[Currency]],Sheet1!$N$4:$Q$186,4,FALSE))","v":9661.6485591344845},{"$f":"IF(Dashboard!$J$5=VLOOKUP(tblSalaries[[#This Row],[Currency]],Sheet3!$A$2:$B$31,2,FALSE),tblSalaries[[#This Row],[clean Salary (in local currency)]],(tblSalaries[[#This Row],[PPP Adjusted  USD]]/VLOOKUP(Dashboard!$J$5,Sheet3!$B$2:$C$31,2,FALSE)))","v":9661.6485591344845},"MIS Associate","Reporting","India","All the 8 hours baby, all the 8!",2]
[null,"ID0727",9600,"USD",9600,{"$f":"(tblSalaries[[#This Row],[clean Salary (in local currency)]])*(VLOOKUP(tblSalaries[[#This Row],[Currency]],Sheet3!$A$2:$C$31,3,FALSE))*(VLOOKUP(tblSalaries[[#This Row],[Currency]],Sheet1!$N$4:$Q$186,4,FALSE))","v":9600},{"$f":"IF(Dashboard!$J$5=VLOOKUP(tblSalaries[[#This Row],[Currency]],Sheet3!$A$2:$B$31,2,FALSE),tblSalaries[[#This Row],[clean Salary (in local currency)]],(tblSalaries[[#This Row],[PPP Adjusted  USD]]/VLOOKUP(Dashboard!$J$5,Sheet3!$B$2:$C$31,2,FALSE)))","v":9600},"Admin","Analyst","South Africa","4 to 6 hours a day",2]
[null,"ID1524",9600,"USD",9600,{"$f":"(tblSalaries[[#This Row],[clean Salary (in local currency)]])*(VLOOKUP(tblSalaries[[#This Row],[Currency]],Sheet3!$A$2:$C$31,3,FALSE))*(VLOOKUP(tblSalaries[[#This Row],[Currency]],Sheet1!$N$4:$Q$186,4,FALSE))","v":9600},{"$f":"IF(Dashboard!$J$5=VLOOKUP(tblSalaries[[#This Row],[Currency]],Sheet3!$A$2:$B$31,2,FALSE),tblSalaries[[#This Row],[clean Salary (in local currency)]],(tblSalaries[[#This Row],[PPP Adjusted  USD]]/VLOOKUP(Dashboard!$J$5,Sheet3!$B$2:$C$31,2,FALSE)))","v":9600},"Reporting Analyst","Analyst","Bolivia","All the 8 hours baby, all the 8!",2]
[null,"ID0230",200000,"INR",3561.5833374885137,{"$f":"(tblSalaries[[#This Row],[clean Salary (in local currency)]])*(VLOOKUP(tblSalaries[[#This Row],[Currency]],Sheet3!$A$2:$C$31,3,FALSE))*(VLOOKUP(tblSalaries[[#This Row],[Currency]],Sheet1!$N$4:$Q$186,4,FALSE))","v":9472.2044697396905},{"$f":"IF(Dashboard!$J$5=VLOOKUP(tblSalaries[[#This Row],[Currency]],Sheet3!$A$2:$B$31,2,FALSE),tblSalaries[[#This Row],[clean Salary (in local currency)]],(tblSalaries[[#This Row],[PPP Adjusted  USD]]/VLOOKUP(Dashboard!$J$5,Sheet3!$B$2:$C$31,2,FALSE)))","v":9472.2044697396905},"medical biller","Analyst","India","1 or 2 hours a day","Data Not Avaliable"]
[null,"ID0420",200000,"INR",3561.5833374885137,{"$f":"(tblSalaries[[#This Row],[clean Salary (in local currency)]])*(VLOOKUP(tblSalaries[[#This Row],[Currency]],Sheet3!$A$2:$C$31,3,FALSE))*(VLOOKUP(tblSalaries[[#This Row],[Currency]],Sheet1!$N$4:$Q$186,4,FALSE))","v":9472.2044697396905},{"$f":"IF(Dashboard!$J$5=VLOOKUP(tblSalaries[[#This Row],[Currency]],Sheet3!$A$2:$B$31,2,FALSE),tblSalaries[[#This Row],[clean Salary (in local currency)]],(tblSalaries[[#This Row],[PPP Adjusted  USD]]/VLOOKUP(Dashboard!$J$5,Sheet3!$B$2:$C$31,2,FALSE)))","v":9472.2044697396905},"Consultant","Consultant","India","1 or 2 hours a day","Data Not Avaliable"]
[null,"ID0497",200000,"INR",3561.5833374885137,{"$f":"(tblSalaries[[#This Row],[clean Salary (in local currency)]])*(VLOOKUP(tblSalaries[[#This Row],[Currency]],Sheet3!$A$2:$C$31,3,FALSE))*(VLOOKUP(tblSalaries[[#This Row],[Currency]],Sheet1!$N$4:$Q$186,4,FALSE))","v":9472.2044697396905},{"$f":"IF(Dashboard!$J$5=VLOOKUP(tblSalaries[[#This Row],[Currency]],Sheet3!$A$2:$B$31,2,FALSE),tblSalaries[[#This Row],[clean Salary (in local currency)]],(tblSalaries[[#This Row],[PPP Adjusted  USD]]/VLOOKUP(Dashboard!$J$5,Sheet3!$B$2:$C$31,2,FALSE)))","v":9472.2044697396905},"chemist","Analyst","India","2 to 3 hours per day","Data Not Avaliable"]
[null,"ID0636",200000,"INR",3561.5833374885137,{"$f":"(tblSalaries[[#This Row],[clean Salary (in local currency)]])*(VLOOKUP(tblSalaries[[#This Row],[Currency]],Sheet3!$A$2:$C$31,3,FALSE))*(VLOOKUP(tblSalaries[[#This Row],[Currency]],Sheet1!$N$4:$Q$186,4,FALSE))","v":9472.2044697396905},{"$f":"IF(Dashboard!$J$5=VLOOKUP(tblSalaries[[#This Row],[Currency]],Sheet3!$A$2:$B$31,2,FALSE),tblSalaries[[#This Row],[clean Salary (in local currency)]],(tblSalaries[[#This Row],[PPP Adjusted  USD]]/VLOOKUP(Dashboard!$J$5,Sheet3!$B$2:$C$31,2,FALSE)))","v":9472.2044697396905},"Auditor","Accountant","India","4 to 6 hours a day",3]
[null,"ID0665",200000,"INR",3561.5833374885137,{"$f":"(tblSalaries[[#This Row],[clean Salary (in local currency)]])*(VLOOKUP(tblSalaries[[#This Row],[Currency]],Sheet3!$A$2:$C$31,3,FALSE))*(VLOOKUP(tblSalaries[[#This Row],[Currency]],Sheet1!$N$4:$Q$186,4,FALSE))","v":9472.2044697396905},{"$f":"IF(Dashboard!$J$5=VLOOKUP(tblSalaries[[#This Row],[Currency]],Sheet3!$A$2:$B$31,2,FALSE),tblSalaries[[#This Row],[clean Salary (in local currency)]],(tblSalaries[[#This Row],[PPP Adjusted  USD]]/VLOOKUP(Dashboard!$J$5,Sheet3!$B$2:$C$31,2,FALSE)))","v":9472.2044697396905},"MIS EXECUTIVE","Reporting","India","All the 8 hours baby, all the 8!",3]
[null,"ID0846",200000,"INR",3561.5833374885137,{"$f":"(tblSalaries[[#This Row],[clean Salary (in local currency)]])*(VLOOKUP(tblSalaries[[#This Row],[Currency]],Sheet3!$A$2:$C$31,3,FALSE))*(VLOOKUP(tblSalaries[[#This Row],[Currency]],Sheet1!$N$4:$Q$186,4,FALSE))","v":9472.2044697396905},{"$f":"IF(Dashboard!$J$5=VLOOKUP(tblSalaries[[#This Row],[Currency]],Sheet3!$A$2:$B$31,2,FALSE),tblSalaries[[#This Row],[clean Salary (in local currency)]],(tblSalaries[[#This Row],[PPP Adjusted  USD]]/VLOOKUP(Dashboard!$J$5,Sheet3!$B$2:$C$31,2,FALSE)))","v":9472.2044697396905},"Bio-Statiscian","Reporting","India","4 to 6 hours a day",1]
[null,"ID0848",200000,"INR",3561.5833374885137,{"$f":"(tblSalaries[[#This Row],[clean Salary (in local currency)]])*(VLOOKUP(tblSalaries[[#This Row],[Currency]],Sheet3!$A$2:$C$31,3,FALSE))*(VLOOKUP(tblSalaries[[#This Row],[Currency]],Sheet1!$N$4:$Q$186,4,FALSE))","v":9472.2044697396905},{"$f":"IF(Dashboard!$J$5=VLOOKUP(tblSalaries[[#This Row],[Currency]],Sheet3!$A$2:$B$31,2,FALSE),tblSalaries[[#This Row],[clean Salary (in local currency)]],(tblSalaries[[#This Row],[PPP Adjusted  USD]]/VLOOKUP(Dashboard!$J$5,Sheet3!$B$2:$C$31,2,FALSE)))","v":9472.2044697396905},"Sales Analyst","Analyst","India","4 to 6 hours a day",2]
[null,"ID1046",200000,"INR",3561.5833374885137,{"$f":"(tblSalaries[[#This Row],[clean Salary (in local currency)]])*(VLOOKUP(tblSalaries[[#This Row],[Currency]],Sheet3!$A$2:$C$31,3,FALSE))*(VLOOKUP(tblSalaries[[#This Row],[Currency]],Sheet1!$N$4:$Q$186,4,FALSE))","v":9472.2044697396905},{"$f":"IF(Dashboard!$J$5=VLOOKUP(tblSalaries[[#This Row],[Currency]],Sheet3!$A$2:$B$31,2,FALSE),tblSalaries[[#This Row],[clean Salary (in local currency)]],(tblSalaries[[#This Row],[PPP Adjusted  USD]]/VLOOKUP(Dashboard!$J$5,Sheet3!$B$2:$C$31,2,FALSE)))","v":9472.2044697396905},"Monitoring & evaluation officer","Manager","India","All the 8 hours baby, all the 8!",8]
[null,"ID1065",200000,"INR",3561.5833374885137,{"$f":"(tblSalaries[[#This Row],[clean Salary (in local currency)]])*(VLOOKUP(tblSalaries[[#This Row],[Currency]],Sheet3!$A$2:$C$31,3,FALSE))*(VLOOKUP(tblSalaries[[#This Row],[Currency]],Sheet1!$N$4:$Q$186,4,FALSE))","v":9472.2044697396905},{"$f":"IF(Dashboard!$J$5=VLOOKUP(tblSalaries[[#This Row],[Currency]],Sheet3!$A$2:$B$31,2,FALSE),tblSalaries[[#This Row],[clean Salary (in local currency)]],(tblSalaries[[#This Row],[PPP Adjusted  USD]]/VLOOKUP(Dashboard!$J$5,Sheet3!$B$2:$C$31,2,FALSE)))","v":9472.2044697396905},"Business Development Executive","Manager","India","2 to 3 hours per day",5]
[null,"ID1066",200000,"INR",3561.5833374885137,{"$f":"(tblSalaries[[#This Row],[clean Salary (in local currency)]])*(VLOOKUP(tblSalaries[[#This Row],[Currency]],Sheet3!$A$2:$C$31,3,FALSE))*(VLOOKUP(tblSalaries[[#This Row],[Currency]],Sheet1!$N$4:$Q$186,4,FALSE))","v":9472.2044697396905},{"$f":"IF(Dashboard!$J$5=VLOOKUP(tblSalaries[[#This Row],[Currency]],Sheet3!$A$2:$B$31,2,FALSE),tblSalaries[[#This Row],[clean Salary (in local currency)]],(tblSalaries[[#This Row],[PPP Adjusted  USD]]/VLOOKUP(Dashboard!$J$5,Sheet3!$B$2:$C$31,2,FALSE)))","v":9472.2044697396905},"MIS Executive","Reporting","India","4 to 6 hours a day",3]
[null,"ID1142",200000,"INR",3561.5833374885137,{"$f":"(tblSalaries[[#This Row],[clean Salary (in local currency)]])*(VLOOKUP(tblSalaries[[#This Row],[Currency]],Sheet3!$A$2:$C$31,3,FALSE))*(VLOOKUP(tblSalaries[[#This Row],[Currency]],Sheet1!$N$4:$Q$186,4,FALSE))","v":9472.2044697396905},{"$f":"IF(Dashboard!$J$5=VLOOKUP(tblSalaries[[#This Row],[Currency]],Sheet3!$A$2:$B$31,2,FALSE),tblSalaries[[#This Row],[clean Salary (in local currency)]],(tblSalaries[[#This Row],[PPP Adjusted  USD]]/VLOOKUP(Dashboard!$J$5,Sheet3!$B$2:$C$31,2,FALSE)))","v":9472.2044697396905},"MIS Sr. Executive","Reporting","India","All the 8 hours baby, all the 8!",5]
[null,"ID1178",200000,"INR",3561.5833374885137,{"$f":"(tblSalaries[[#This Row],[clean Salary (in local currency)]])*(VLOOKUP(tblSalaries[[#This Row],[Currency]],Sheet3!$A$2:$C$31,3,FALSE))*(VLOOKUP(tblSalaries[[#This Row],[Currency]],Sheet1!$N$4:$Q$186,4,FALSE))","v":9472.2044697396905},{"$f":"IF(Dashboard!$J$5=VLOOKUP(tblSalaries[[#This Row],[Currency]],Sheet3!$A$2:$B$31,2,FALSE),tblSalaries[[#This Row],[clean Salary (in local currency)]],(tblSalaries[[#This Row],[PPP Adjusted  USD]]/VLOOKUP(Dashboard!$J$5,Sheet3!$B$2:$C$31,2,FALSE)))","v":9472.2044697396905},"Associate","Analyst","India","1 or 2 hours a day",6]
[null,"ID1313",200000,"INR",3561.5833374885137,{"$f":"(tblSalaries[[#This Row],[clean Salary (in local currency)]])*(VLOOKUP(tblSalaries[[#This Row],[Currency]],Sheet3!$A$2:$C$31,3,FALSE))*(VLOOKUP(tblSalaries[[#This Row],[Currency]],Sheet1!$N$4:$Q$186,4,FALSE))","v":9472.2044697396905},{"$f":"IF(Dashboard!$J$5=VLOOKUP(tblSalaries[[#This Row],[Currency]],Sheet3!$A$2:$B$31,2,FALSE),tblSalaries[[#This Row],[clean Salary (in local currency)]],(tblSalaries[[#This Row],[PPP Adjusted  USD]]/VLOOKUP(Dashboard!$J$5,Sheet3!$B$2:$C$31,2,FALSE)))","v":9472.2044697396905},"MIS","Reporting","India","2 to 3 hours per day",3]
[null,"ID1469",200000,"INR",3561.5833374885137,{"$f":"(tblSalaries[[#This Row],[clean Salary (in local currency)]])*(VLOOKUP(tblSalaries[[#This Row],[Currency]],Sheet3!$A$2:$C$31,3,FALSE))*(VLOOKUP(tblSalaries[[#This Row],[Currency]],Sheet1!$N$4:$Q$186,4,FALSE))","v":9472.2044697396905},{"$f":"IF(Dashboard!$J$5=VLOOKUP(tblSalaries[[#This Row],[Currency]],Sheet3!$A$2:$B$31,2,FALSE),tblSalaries[[#This Row],[clean Salary (in local currency)]],(tblSalaries[[#This Row],[PPP Adjusted  USD]]/VLOOKUP(Dashboard!$J$5,Sheet3!$B$2:$C$31,2,FALSE)))","v":9472.2044697396905},"Executive","Analyst","India","4 to 6 hours a day",11]
[null,"ID1536",200000,"INR",3561.5833374885137,{"$f":"(tblSalaries[[#This Row],[clean Salary (in local currency)]])*(VLOOKUP(tblSalaries[[#This Row],[Currency]],Sheet3!$A$2:$C$31,3,FALSE))*(VLOOKUP(tblSalaries[[#This Row],[Currency]],Sheet1!$N$4:$Q$186,4,FALSE))","v":9472.2044697396905},{"$f":"IF(Dashboard!$J$5=VLOOKUP(tblSalaries[[#This Row],[Currency]],Sheet3!$A$2:$B$31,2,FALSE),tblSalaries[[#This Row],[clean Salary (in local currency)]],(tblSalaries[[#This Row],[PPP Adjusted  USD]]/VLOOKUP(Dashboard!$J$5,Sheet3!$B$2:$C$31,2,FALSE)))","v":9472.2044697396905},"Accounts Executive","Accountant","India","All the 8 hours baby, all the 8!",3]
[null,"ID1687",200000,"INR",3561.5833374885137,{"$f":"(tblSalaries[[#This Row],[clean Salary (in local currency)]])*(VLOOKUP(tblSalaries[[#This Row],[Currency]],Sheet3!$A$2:$C$31,3,FALSE))*(VLOOKUP(tblSalaries[[#This Row],[Currency]],Sheet1!$N$4:$Q$186,4,FALSE))","v":9472.2044697396905},{"$f":"IF(Dashboard!$J$5=VLOOKUP(tblSalaries[[#This Row],[Currency]],Sheet3!$A$2:$B$31,2,FALSE),tblSalaries[[#This Row],[clean Salary (in local currency)]],(tblSalaries[[#This Row],[PPP Adjusted  USD]]/VLOOKUP(Dashboard!$J$5,Sheet3!$B$2:$C$31,2,FALSE)))","v":9472.2044697396905},"Executive","Analyst","India","1 or 2 hours a day",16]
[null,"ID1136",216000,"PHP",5120.2912876821438,{"$f":"(tblSalaries[[#This Row],[clean Salary (in local currency)]])*(VLOOKUP(tblSalaries[[#This Row],[Currency]],Sheet3!$A$2:$C$31,3,FALSE))*(VLOOKUP(tblSalaries[[#This Row],[Currency]],Sheet1!$N$4:$Q$186,4,FALSE))","v":9379.3086864828838},{"$f":"IF(Dashboard!$J$5=VLOOKUP(tblSalaries[[#This Row],[Currency]],Sheet3!$A$2:$B$31,2,FALSE),tblSalaries[[#This Row],[clean Salary (in local currency)]],(tblSalaries[[#This Row],[PPP Adjusted  USD]]/VLOOKUP(Dashboard!$J$5,Sheet3!$B$2:$C$31,2,FALSE)))","v":9379.3086864828838},"Planner","Manager","Philippines","4 to 6 hours a day",2]
[null,"ID0202",192000,"INR",3419.1200039889732,{"$f":"(tblSalaries[[#This Row],[clean Salary (in local currency)]])*(VLOOKUP(tblSalaries[[#This Row],[Currency]],Sheet3!$A$2:$C$31,3,FALSE))*(VLOOKUP(tblSalaries[[#This Row],[Currency]],Sheet1!$N$4:$Q$186,4,FALSE))","v":9093.3162909501043},{"$f":"IF(Dashboard!$J$5=VLOOKUP(tblSalaries[[#This Row],[Currency]],Sheet3!$A$2:$B$31,2,FALSE),tblSalaries[[#This Row],[clean Salary (in local currency)]],(tblSalaries[[#This Row],[PPP Adjusted  USD]]/VLOOKUP(Dashboard!$J$5,Sheet3!$B$2:$C$31,2,FALSE)))","v":9093.3162909501043},"Administrative","Analyst","India","All the 8 hours baby, all the 8!","Data Not Avaliable"]
[null,"ID1683",192000,"INR",3419.1200039889732,{"$f":"(tblSalaries[[#This Row],[clean Salary (in local currency)]])*(VLOOKUP(tblSalaries[[#This Row],[Currency]],Sheet3!$A$2:$C$31,3,FALSE))*(VLOOKUP(tblSalaries[[#This Row],[Currency]],Sheet1!$N$4:$Q$186,4,FALSE))","v":9093.3162909501043},{"$f":"IF(Dashboard!$J$5=VLOOKUP(tblSalaries[[#This Row],[Currency]],Sheet3!$A$2:$B$31,2,FALSE),tblSalaries[[#This Row],[clean Salary (in local currency)]],(tblSalaries[[#This Row],[PPP Adjusted  USD]]/VLOOKUP(Dashboard!$J$5,Sheet3!$B$2:$C$31,2,FALSE)))","v":9093.3162909501043},"Sr Associate","Analyst","India","4 to 6 hours a day",5]
[null,"ID1229",9000,"USD",9000,{"$f":"(tblSalaries[[#This Row],[clean Salary (in local currency)]])*(VLOOKUP(tblSalaries[[#This Row],[Currency]],Sheet3!$A$2:$C$31,3,FALSE))*(VLOOKUP(tblSalaries[[#This Row],[Currency]],Sheet1!$N$4:$Q$186,4,FALSE))","v":9000},{"$f":"IF(Dashboard!$J$5=VLOOKUP(tblSalaries[[#This Row],[Currency]],Sheet3!$A$2:$B$31,2,FALSE),tblSalaries[[#This Row],[clean Salary (in local currency)]],(tblSalaries[[#This Row],[PPP Adjusted  USD]]/VLOOKUP(Dashboard!$J$5,Sheet3!$B$2:$C$31,2,FALSE)))","v":9000},"assurance manager","Manager","India","4 to 6 hours a day",1]
[null,"ID1327",9000,"USD",9000,{"$f":"(tblSalaries[[#This Row],[clean Salary (in local currency)]])*(VLOOKUP(tblSalaries[[#This Row],[Currency]],Sheet3!$A$2:$C$31,3,FALSE))*(VLOOKUP(tblSalaries[[#This Row],[Currency]],Sheet1!$N$4:$Q$186,4,FALSE))","v":9000},{"$f":"IF(Dashboard!$J$5=VLOOKUP(tblSalaries[[#This Row],[Currency]],Sheet3!$A$2:$B$31,2,FALSE),tblSalaries[[#This Row],[clean Salary (in local currency)]],(tblSalaries[[#This Row],[PPP Adjusted  USD]]/VLOOKUP(Dashboard!$J$5,Sheet3!$B$2:$C$31,2,FALSE)))","v":9000},"Data Analyst","Analyst","India","All the 8 hours baby, all the 8!",0.6]
[null,"ID1328",9000,"USD",9000,{"$f":"(tblSalaries[[#This Row],[clean Salary (in local currency)]])*(VLOOKUP(tblSalaries[[#This Row],[Currency]],Sheet3!$A$2:$C$31,3,FALSE))*(VLOOKUP(tblSalaries[[#This Row],[Currency]],Sheet1!$N$4:$Q$186,4,FALSE))","v":9000},{"$f":"IF(Dashboard!$J$5=VLOOKUP(tblSalaries[[#This Row],[Currency]],Sheet3!$A$2:$B$31,2,FALSE),tblSalaries[[#This Row],[clean Salary (in local currency)]],(tblSalaries[[#This Row],[PPP Adjusted  USD]]/VLOOKUP(Dashboard!$J$5,Sheet3!$B$2:$C$31,2,FALSE)))","v":9000},"Data Analyst","Analyst","India","4 to 6 hours a day",1]
[null,"ID1904",52224,"ETB",2953.8461538461538,{"$f":"(tblSalaries[[#This Row],[clean Salary (in local currency)]])*(VLOOKUP(tblSalaries[[#This Row],[Currency]],Sheet3!$A$2:$C$31,3,FALSE))*(VLOOKUP(tblSalaries[[#This Row],[Currency]],Sheet1!$N$4:$Q$186,4,FALSE))","v":8966.4389360319747},{"$f":"IF(Dashboard!$J$5=VLOOKUP(tblSalaries[[#This Row],[Currency]],Sheet3!$A$2:$B$31,2,FALSE),tblSalaries[[#This Row],[clean Salary (in local currency)]],(tblSalaries[[#This Row],[PPP Adjusted  USD]]/VLOOKUP(Dashboard!$J$5,Sheet3!$B$2:$C$31,2,FALSE)))","v":8966.4389360319747},"Project Costing &Dashboard reporting","Reporting","Ethiopia","4 to 6 hours a day",3]
[null,"ID0672",8738,"USD",8738,{"$f":"(tblSalaries[[#This Row],[clean Salary (in local currency)]])*(VLOOKUP(tblSalaries[[#This Row],[Currency]],Sheet3!$A$2:$C$31,3,FALSE))*(VLOOKUP(tblSalaries[[#This Row],[Currency]],Sheet1!$N$4:$Q$186,4,FALSE))","v":8738},{"$f":"IF(Dashboard!$J$5=VLOOKUP(tblSalaries[[#This Row],[Currency]],Sheet3!$A$2:$B$31,2,FALSE),tblSalaries[[#This Row],[clean Salary (in local currency)]],(tblSalaries[[#This Row],[PPP Adjusted  USD]]/VLOOKUP(Dashboard!$J$5,Sheet3!$B$2:$C$31,2,FALSE)))","v":8738},"Sales Coordinator","Manager","India","All the 8 hours baby, all the 8!",7.3]
[null,"ID0934",19200,"BRL",9490.1984044603923,{"$f":"(tblSalaries[[#This Row],[clean Salary (in local currency)]])*(VLOOKUP(tblSalaries[[#This Row],[Currency]],Sheet3!$A$2:$C$31,3,FALSE))*(VLOOKUP(tblSalaries[[#This Row],[Currency]],Sheet1!$N$4:$Q$186,4,FALSE))","v":8732.8046565318637},{"$f":"IF(Dashboard!$J$5=VLOOKUP(tblSalaries[[#This Row],[Currency]],Sheet3!$A$2:$B$31,2,FALSE),tblSalaries[[#This Row],[clean Salary (in local currency)]],(tblSalaries[[#This Row],[PPP Adjusted  USD]]/VLOOKUP(Dashboard!$J$5,Sheet3!$B$2:$C$31,2,FALSE)))","v":8732.8046565318637},"Programmer","Analyst","Brazil","All the 8 hours baby, all the 8!",8]
[null,"ID1173",8725,"USD",8725,{"$f":"(tblSalaries[[#This Row],[clean Salary (in local currency)]])*(VLOOKUP(tblSalaries[[#This Row],[Currency]],Sheet3!$A$2:$C$31,3,FALSE))*(VLOOKUP(tblSalaries[[#This Row],[Currency]],Sheet1!$N$4:$Q$186,4,FALSE))","v":8725},{"$f":"IF(Dashboard!$J$5=VLOOKUP(tblSalaries[[#This Row],[Currency]],Sheet3!$A$2:$B$31,2,FALSE),tblSalaries[[#This Row],[clean Salary (in local currency)]],(tblSalaries[[#This Row],[PPP Adjusted  USD]]/VLOOKUP(Dashboard!$J$5,Sheet3!$B$2:$C$31,2,FALSE)))","v":8725},"Administration Officer","Manager","Pakistan","2 to 3 hours per day",18]
[null,"ID1045",8700,"USD",8700,{"$f":"(tblSalaries[[#This Row],[clean Salary (in local currency)]])*(VLOOKUP(tblSalaries[[#This Row],[Currency]],Sheet3!$A$2:$C$31,3,FALSE))*(VLOOKUP(tblSalaries[[#This Row],[Currency]],Sheet1!$N$4:$Q$186,4,FALSE))","v":8700},{"$f":"IF(Dashboard!$J$5=VLOOKUP(tblSalaries[[#This Row],[Currency]],Sheet3!$A$2:$B$31,2,FALSE),tblSalaries[[#This Row],[clean Salary (in local currency)]],(tblSalaries[[#This Row],[PPP Adjusted  USD]]/VLOOKUP(Dashboard!$J$5,Sheet3!$B$2:$C$31,2,FALSE)))","v":8700},"Project Controlling (MIS Reports)","Controller","India","2 to 3 hours per day",7]
[null,"ID1163",8600,"USD",8600,{"$f":"(tblSalaries[[#This Row],[clean Salary (in local currency)]])*(VLOOKUP(tblSalaries[[#This Row],[Currency]],Sheet3!$A$2:$C$31,3,FALSE))*(VLOOKUP(tblSalaries[[#This Row],[Currency]],Sheet1!$N$4:$Q$186,4,FALSE))","v":8600},{"$f":"IF(Dashboard!$J$5=VLOOKUP(tblSalaries[[#This Row],[Currency]],Sheet3!$A$2:$B$31,2,FALSE),tblSalaries[[#This Row],[clean Salary (in local currency)]],(tblSalaries[[#This Row],[PPP Adjusted  USD]]/VLOOKUP(Dashboard!$J$5,Sheet3!$B$2:$C$31,2,FALSE)))","v":8600},"Catlog associates","Analyst","India","4 to 6 hours a day",2]
[null,"ID0172",180000,"INR",3205.4250037396623,{"$f":"(tblSalaries[[#This Row],[clean Salary (in local currency)]])*(VLOOKUP(tblSalaries[[#This Row],[Currency]],Sheet3!$A$2:$C$31,3,FALSE))*(VLOOKUP(tblSalaries[[#This Row],[Currency]],Sheet1!$N$4:$Q$186,4,FALSE))","v":8524.9840227657223},{"$f":"IF(Dashboard!$J$5=VLOOKUP(tblSalaries[[#This Row],[Currency]],Sheet3!$A$2:$B$31,2,FALSE),tblSalaries[[#This Row],[clean Salary (in local currency)]],(tblSalaries[[#This Row],[PPP Adjusted  USD]]/VLOOKUP(Dashboard!$J$5,Sheet3!$B$2:$C$31,2,FALSE)))","v":8524.9840227657223},"Sr. Associate","Analyst","India","4 to 6 hours a day","Data Not Avaliable"]
[null,"ID0178",180000,"INR",3205.4250037396623,{"$f":"(tblSalaries[[#This Row],[clean Salary (in local currency)]])*(VLOOKUP(tblSalaries[[#This Row],[Currency]],Sheet3!$A$2:$C$31,3,FALSE))*(VLOOKUP(tblSalaries[[#This Row],[Currency]],Sheet1!$N$4:$Q$186,4,FALSE))","v":8524.9840227657223},{"$f":"IF(Dashboard!$J$5=VLOOKUP(tblSalaries[[#This Row],[Currency]],Sheet3!$A$2:$B$31,2,FALSE),tblSalaries[[#This Row],[clean Salary (in local currency)]],(tblSalaries[[#This Row],[PPP Adjusted  USD]]/VLOOKUP(Dashboard!$J$5,Sheet3!$B$2:$C$31,2,FALSE)))","v":8524.9840227657223},"Sr. Associate","Analyst","India","4 to 6 hours a day","Data Not Avaliable"]
[null,"ID0297",180000,"INR",3205.4250037396623,{"$f":"(tblSalaries[[#This Row],[clean Salary (in local currency)]])*(VLOOKUP(tblSalaries[[#This Row],[Currency]],Sheet3!$A$2:$C$31,3,FALSE))*(VLOOKUP(tblSalaries[[#This Row],[Currency]],Sheet1!$N$4:$Q$186,4,FALSE))","v":8524.9840227657223},{"$f":"IF(Dashboard!$J$5=VLOOKUP(tblSalaries[[#This Row],[Currency]],Sheet3!$A$2:$B$31,2,FALSE),tblSalaries[[#This Row],[clean Salary (in local currency)]],(tblSalaries[[#This Row],[PPP Adjusted  USD]]/VLOOKUP(Dashboard!$J$5,Sheet3!$B$2:$C$31,2,FALSE)))","v":8524.9840227657223},"Administrative Officer","Manager","India","4 to 6 hours a day","Data Not Avaliable"]
[null,"ID0699",180000,"INR",3205.4250037396623,{"$f":"(tblSalaries[[#This Row],[clean Salary (in local currency)]])*(VLOOKUP(tblSalaries[[#This Row],[Currency]],Sheet3!$A$2:$C$31,3,FALSE))*(VLOOKUP(tblSalaries[[#This Row],[Currency]],Sheet1!$N$4:$Q$186,4,FALSE))","v":8524.9840227657223},{"$f":"IF(Dashboard!$J$5=VLOOKUP(tblSalaries[[#This Row],[Currency]],Sheet3!$A$2:$B$31,2,FALSE),tblSalaries[[#This Row],[clean Salary (in local currency)]],(tblSalaries[[#This Row],[PPP Adjusted  USD]]/VLOOKUP(Dashboard!$J$5,Sheet3!$B$2:$C$31,2,FALSE)))","v":8524.9840227657223},"accounts","Accountant","India","2 to 3 hours per day",14]
[null,"ID0719",180000,"INR",3205.4250037396623,{"$f":"(tblSalaries[[#This Row],[clean Salary (in local currency)]])*(VLOOKUP(tblSalaries[[#This Row],[Currency]],Sheet3!$A$2:$C$31,3,FALSE))*(VLOOKUP(tblSalaries[[#This Row],[Currency]],Sheet1!$N$4:$Q$186,4,FALSE))","v":8524.9840227657223},{"$f":"IF(Dashboard!$J$5=VLOOKUP(tblSalaries[[#This Row],[Currency]],Sheet3!$A$2:$B$31,2,FALSE),tblSalaries[[#This Row],[clean Salary (in local currency)]],(tblSalaries[[#This Row],[PPP Adjusted  USD]]/VLOOKUP(Dashboard!$J$5,Sheet3!$B$2:$C$31,2,FALSE)))","v":8524.9840227657223},"Import & Export Documentation Executive","Manager","India","All the 8 hours baby, all the 8!",7]
[null,"ID0733",180000,"INR",3205.4250037396623,{"$f":"(tblSalaries[[#This Row],[clean Salary (in local currency)]])*(VLOOKUP(tblSalaries[[#This Row],[Currency]],Sheet3!$A$2:$C$31,3,FALSE))*(VLOOKUP(tblSalaries[[#This Row],[Currency]],Sheet1!$N$4:$Q$186,4,FALSE))","v":8524.9840227657223},{"$f":"IF(Dashboard!$J$5=VLOOKUP(tblSalaries[[#This Row],[Currency]],Sheet3!$A$2:$B$31,2,FALSE),tblSalaries[[#This Row],[clean Salary (in local currency)]],(tblSalaries[[#This Row],[PPP Adjusted  USD]]/VLOOKUP(Dashboard!$J$5,Sheet3!$B$2:$C$31,2,FALSE)))","v":8524.9840227657223},"Accountant","Accountant","India","All the 8 hours baby, all the 8!",4]
[null,"ID0904",180000,"INR",3205.4250037396623,{"$f":"(tblSalaries[[#This Row],[clean Salary (in local currency)]])*(VLOOKUP(tblSalaries[[#This Row],[Currency]],Sheet3!$A$2:$C$31,3,FALSE))*(VLOOKUP(tblSalaries[[#This Row],[Currency]],Sheet1!$N$4:$Q$186,4,FALSE))","v":8524.9840227657223},{"$f":"IF(Dashboard!$J$5=VLOOKUP(tblSalaries[[#This Row],[Currency]],Sheet3!$A$2:$B$31,2,FALSE),tblSalaries[[#This Row],[clean Salary (in local currency)]],(tblSalaries[[#This Row],[PPP Adjusted  USD]]/VLOOKUP(Dashboard!$J$5,Sheet3!$B$2:$C$31,2,FALSE)))","v":8524.9840227657223},"Executive","Analyst","India","2 to 3 hours per day",3.5]
[null,"ID0924",180000,"INR",3205.4250037396623,{"$f":"(tblSalaries[[#This Row],[clean Salary (in local currency)]])*(VLOOKUP(tblSalaries[[#This Row],[Currency]],Sheet3!$A$2:$C$31,3,FALSE))*(VLOOKUP(tblSalaries[[#This Row],[Currency]],Sheet1!$N$4:$Q$186,4,FALSE))","v":8524.9840227657223},{"$f":"IF(Dashboard!$J$5=VLOOKUP(tblSalaries[[#This Row],[Currency]],Sheet3!$A$2:$B$31,2,FALSE),tblSalaries[[#This Row],[clean Salary (in local currency)]],(tblSalaries[[#This Row],[PPP Adjusted  USD]]/VLOOKUP(Dashboard!$J$5,Sheet3!$B$2:$C$31,2,FALSE)))","v":8524.9840227657223},"MIS TEAM MEMBER","Reporting","India","All the 8 hours baby, all the 8!",8]
[null,"ID1005",180000,"INR",3205.4250037396623,{"$f":"(tblSalaries[[#This Row],[clean Salary (in local currency)]])*(VLOOKUP(tblSalaries[[#This Row],[Currency]],Sheet3!$A$2:$C$31,3,FALSE))*(VLOOKUP(tblSalaries[[#This Row],[Currency]],Sheet1!$N$4:$Q$186,4,FALSE))","v":8524.9840227657223},{"$f":"IF(Dashboard!$J$5=VLOOKUP(tblSalaries[[#This Row],[Currency]],Sheet3!$A$2:$B$31,2,FALSE),tblSalaries[[#This Row],[clean Salary (in local currency)]],(tblSalaries[[#This Row],[PPP Adjusted  USD]]/VLOOKUP(Dashboard!$J$5,Sheet3!$B$2:$C$31,2,FALSE)))","v":8524.9840227657223},"Audit executive","Analyst","India","4 to 6 hours a day",10]
[null,"ID1047",180000,"INR",3205.4250037396623,{"$f":"(tblSalaries[[#This Row],[clean Salary (in local currency)]])*(VLOOKUP(tblSalaries[[#This Row],[Currency]],Sheet3!$A$2:$C$31,3,FALSE))*(VLOOKUP(tblSalaries[[#This Row],[Currency]],Sheet1!$N$4:$Q$186,4,FALSE))","v":8524.9840227657223},{"$f":"IF(Dashboard!$J$5=VLOOKUP(tblSalaries[[#This Row],[Currency]],Sheet3!$A$2:$B$31,2,FALSE),tblSalaries[[#This Row],[clean Salary (in local currency)]],(tblSalaries[[#This Row],[PPP Adjusted  USD]]/VLOOKUP(Dashboard!$J$5,Sheet3!$B$2:$C$31,2,FALSE)))","v":8524.9840227657223},"MIS EXCUTIVE","Reporting","India","All the 8 hours baby, all the 8!",4]
[null,"ID1112",180000,"INR",3205.4250037396623,{"$f":"(tblSalaries[[#This Row],[clean Salary (in local currency)]])*(VLOOKUP(tblSalaries[[#This Row],[Currency]],Sheet3!$A$2:$C$31,3,FALSE))*(VLOOKUP(tblSalaries[[#This Row],[Currency]],Sheet1!$N$4:$Q$186,4,FALSE))","v":8524.9840227657223},{"$f":"IF(Dashboard!$J$5=VLOOKUP(tblSalaries[[#This Row],[Currency]],Sheet3!$A$2:$B$31,2,FALSE),tblSalaries[[#This Row],[clean Salary (in local currency)]],(tblSalaries[[#This Row],[PPP Adjusted  USD]]/VLOOKUP(Dashboard!$J$5,Sheet3!$B$2:$C$31,2,FALSE)))","v":8524.9840227657223},"Logistics Operation Analyst","Analyst","India","All the 8 hours baby, all the 8!",3]
[null,"ID1547",180000,"INR",3205.4250037396623,{"$f":"(tblSalaries[[#This Row],[clean Salary (in local currency)]])*(VLOOKUP(tblSalaries[[#This Row],[Currency]],Sheet3!$A$2:$C$31,3,FALSE))*(VLOOKUP(tblSalaries[[#This Row],[Currency]],Sheet1!$N$4:$Q$186,4,FALSE))","v":8524.9840227657223},{"$f":"IF(Dashboard!$J$5=VLOOKUP(tblSalaries[[#This Row],[Currency]],Sheet3!$A$2:$B$31,2,FALSE),tblSalaries[[#This Row],[clean Salary (in local currency)]],(tblSalaries[[#This Row],[PPP Adjusted  USD]]/VLOOKUP(Dashboard!$J$5,Sheet3!$B$2:$C$31,2,FALSE)))","v":8524.9840227657223},"Asst Store Manager","Manager","India","4 to 6 hours a day",5]
[null,"ID1753",180000,"INR",3205.4250037396623,{"$f":"(tblSalaries[[#This Row],[clean Salary (in local currency)]])*(VLOOKUP(tblSalaries[[#This Row],[Currency]],Sheet3!$A$2:$C$31,3,FALSE))*(VLOOKUP(tblSalaries[[#This Row],[Currency]],Sheet1!$N$4:$Q$186,4,FALSE))","v":8524.9840227657223},{"$f":"IF(Dashboard!$J$5=VLOOKUP(tblSalaries[[#This Row],[Currency]],Sheet3!$A$2:$B$31,2,FALSE),tblSalaries[[#This Row],[clean Salary (in local currency)]],(tblSalaries[[#This Row],[PPP Adjusted  USD]]/VLOOKUP(Dashboard!$J$5,Sheet3!$B$2:$C$31,2,FALSE)))","v":8524.9840227657223},"mis","Reporting","India","4 to 6 hours a day",2]
[null,"ID1924",180000,"INR",3205.4250037396623,{"$f":"(tblSalaries[[#This Row],[clean Salary (in local currency)]])*(VLOOKUP(tblSalaries[[#This Row],[Currency]],Sheet3!$A$2:$C$31,3,FALSE))*(VLOOKUP(tblSalaries[[#This Row],[Currency]],Sheet1!$N$4:$Q$186,4,FALSE))","v":8524.9840227657223},{"$f":"IF(Dashboard!$J$5=VLOOKUP(tblSalaries[[#This Row],[Currency]],Sheet3!$A$2:$B$31,2,FALSE),tblSalaries[[#This Row],[clean Salary (in local currency)]],(tblSalaries[[#This Row],[PPP Adjusted  USD]]/VLOOKUP(Dashboard!$J$5,Sheet3!$B$2:$C$31,2,FALSE)))","v":8524.9840227657223},"Customer Resolution","Analyst","India","4 to 6 hours a day",3]
[null,"ID0423",8500,"USD",8500,{"$f":"(tblSalaries[[#This Row],[clean Salary (in local currency)]])*(VLOOKUP(tblSalaries[[#This Row],[Currency]],Sheet3!$A$2:$C$31,3,FALSE))*(VLOOKUP(tblSalaries[[#This Row],[Currency]],Sheet1!$N$4:$Q$186,4,FALSE))","v":8500},{"$f":"IF(Dashboard!$J$5=VLOOKUP(tblSalaries[[#This Row],[Currency]],Sheet3!$A$2:$B$31,2,FALSE),tblSalaries[[#This Row],[clean Salary (in local currency)]],(tblSalaries[[#This Row],[PPP Adjusted  USD]]/VLOOKUP(Dashboard!$J$5,Sheet3!$B$2:$C$31,2,FALSE)))","v":8500},"Accounting Coordinator","Accountant","Romania","2 to 3 hours per day","Data Not Avaliable"]
[null,"ID0436",8500,"USD",8500,{"$f":"(tblSalaries[[#This Row],[clean Salary (in local currency)]])*(VLOOKUP(tblSalaries[[#This Row],[Currency]],Sheet3!$A$2:$C$31,3,FALSE))*(VLOOKUP(tblSalaries[[#This Row],[Currency]],Sheet1!$N$4:$Q$186,4,FALSE))","v":8500},{"$f":"IF(Dashboard!$J$5=VLOOKUP(tblSalaries[[#This Row],[Currency]],Sheet3!$A$2:$B$31,2,FALSE),tblSalaries[[#This Row],[clean Salary (in local currency)]],(tblSalaries[[#This Row],[PPP Adjusted  USD]]/VLOOKUP(Dashboard!$J$5,Sheet3!$B$2:$C$31,2,FALSE)))","v":8500},"Assesor","Analyst","Colombia","1 or 2 hours a day","Data Not Avaliable"]
[null,"ID0509",8400,"USD",8400,{"$f":"(tblSalaries[[#This Row],[clean Salary (in local currency)]])*(VLOOKUP(tblSalaries[[#This Row],[Currency]],Sheet3!$A$2:$C$31,3,FALSE))*(VLOOKUP(tblSalaries[[#This Row],[Currency]],Sheet1!$N$4:$Q$186,4,FALSE))","v":8400},{"$f":"IF(Dashboard!$J$5=VLOOKUP(tblSalaries[[#This Row],[Currency]],Sheet3!$A$2:$B$31,2,FALSE),tblSalaries[[#This Row],[clean Salary (in local currency)]],(tblSalaries[[#This Row],[PPP Adjusted  USD]]/VLOOKUP(Dashboard!$J$5,Sheet3!$B$2:$C$31,2,FALSE)))","v":8400},"Manager","Manager","India","4 to 6 hours a day","Data Not Avaliable"]
[null,"ID0622",8400,"USD",8400,{"$f":"(tblSalaries[[#This Row],[clean Salary (in local currency)]])*(VLOOKUP(tblSalaries[[#This Row],[Currency]],Sheet3!$A$2:$C$31,3,FALSE))*(VLOOKUP(tblSalaries[[#This Row],[Currency]],Sheet1!$N$4:$Q$186,4,FALSE))","v":8400},{"$f":"IF(Dashboard!$J$5=VLOOKUP(tblSalaries[[#This Row],[Currency]],Sheet3!$A$2:$B$31,2,FALSE),tblSalaries[[#This Row],[clean Salary (in local currency)]],(tblSalaries[[#This Row],[PPP Adjusted  USD]]/VLOOKUP(Dashboard!$J$5,Sheet3!$B$2:$C$31,2,FALSE)))","v":8400},"SYSTEM MANAGER","Manager","India","All the 8 hours baby, all the 8!",26]
[null,"ID1718",8400,"USD",8400,{"$f":"(tblSalaries[[#This Row],[clean Salary (in local currency)]])*(VLOOKUP(tblSalaries[[#This Row],[Currency]],Sheet3!$A$2:$C$31,3,FALSE))*(VLOOKUP(tblSalaries[[#This Row],[Currency]],Sheet1!$N$4:$Q$186,4,FALSE))","v":8400},{"$f":"IF(Dashboard!$J$5=VLOOKUP(tblSalaries[[#This Row],[Currency]],Sheet3!$A$2:$B$31,2,FALSE),tblSalaries[[#This Row],[clean Salary (in local currency)]],(tblSalaries[[#This Row],[PPP Adjusted  USD]]/VLOOKUP(Dashboard!$J$5,Sheet3!$B$2:$C$31,2,FALSE)))","v":8400},"gov employee","Analyst","Indonesia","4 to 6 hours a day",14]
[null,"ID1859",8400,"USD",8400,{"$f":"(tblSalaries[[#This Row],[clean Salary (in local currency)]])*(VLOOKUP(tblSalaries[[#This Row],[Currency]],Sheet3!$A$2:$C$31,3,FALSE))*(VLOOKUP(tblSalaries[[#This Row],[Currency]],Sheet1!$N$4:$Q$186,4,FALSE))","v":8400},{"$f":"IF(Dashboard!$J$5=VLOOKUP(tblSalaries[[#This Row],[Currency]],Sheet3!$A$2:$B$31,2,FALSE),tblSalaries[[#This Row],[clean Salary (in local currency)]],(tblSalaries[[#This Row],[PPP Adjusted  USD]]/VLOOKUP(Dashboard!$J$5,Sheet3!$B$2:$C$31,2,FALSE)))","v":8400},"Analyst","Analyst","Baltic","All the 8 hours baby, all the 8!",0.3]
[null,"ID1917",8400,"USD",8400,{"$f":"(tblSalaries[[#This Row],[clean Salary (in local currency)]])*(VLOOKUP(tblSalaries[[#This Row],[Currency]],Sheet3!$A$2:$C$31,3,FALSE))*(VLOOKUP(tblSalaries[[#This Row],[Currency]],Sheet1!$N$4:$Q$186,4,FALSE))","v":8400},{"$f":"IF(Dashboard!$J$5=VLOOKUP(tblSalaries[[#This Row],[Currency]],Sheet3!$A$2:$B$31,2,FALSE),tblSalaries[[#This Row],[clean Salary (in local currency)]],(tblSalaries[[#This Row],[PPP Adjusted  USD]]/VLOOKUP(Dashboard!$J$5,Sheet3!$B$2:$C$31,2,FALSE)))","v":8400},"Sr. Executive MIS","Reporting","India","All the 8 hours baby, all the 8!",6]
[null,"ID0809",170000,"INR",3027.3458368652364,{"$f":"(tblSalaries[[#This Row],[clean Salary (in local currency)]])*(VLOOKUP(tblSalaries[[#This Row],[Currency]],Sheet3!$A$2:$C$31,3,FALSE))*(VLOOKUP(tblSalaries[[#This Row],[Currency]],Sheet1!$N$4:$Q$186,4,FALSE))","v":8051.3737992787364},{"$f":"IF(Dashboard!$J$5=VLOOKUP(tblSalaries[[#This Row],[Currency]],Sheet3!$A$2:$B$31,2,FALSE),tblSalaries[[#This Row],[clean Salary (in local currency)]],(tblSalaries[[#This Row],[PPP Adjusted  USD]]/VLOOKUP(Dashboard!$J$5,Sheet3!$B$2:$C$31,2,FALSE)))","v":8051.3737992787364},"Sr. Executive MIS","Reporting","India","4 to 6 hours a day",2]
[null,"ID0648",8000,"USD",8000,{"$f":"(tblSalaries[[#This Row],[clean Salary (in local currency)]])*(VLOOKUP(tblSalaries[[#This Row],[Currency]],Sheet3!$A$2:$C$31,3,FALSE))*(VLOOKUP(tblSalaries[[#This Row],[Currency]],Sheet1!$N$4:$Q$186,4,FALSE))","v":8000},{"$f":"IF(Dashboard!$J$5=VLOOKUP(tblSalaries[[#This Row],[Currency]],Sheet3!$A$2:$B$31,2,FALSE),tblSalaries[[#This Row],[clean Salary (in local currency)]],(tblSalaries[[#This Row],[PPP Adjusted  USD]]/VLOOKUP(Dashboard!$J$5,Sheet3!$B$2:$C$31,2,FALSE)))","v":8000},"Quality officer","Manager","Thailand","All the 8 hours baby, all the 8!",1]
[null,"ID0757",8000,"USD",8000,{"$f":"(tblSalaries[[#This Row],[clean Salary (in local currency)]])*(VLOOKUP(tblSalaries[[#This Row],[Currency]],Sheet3!$A$2:$C$31,3,FALSE))*(VLOOKUP(tblSalaries[[#This Row],[Currency]],Sheet1!$N$4:$Q$186,4,FALSE))","v":8000},{"$f":"IF(Dashboard!$J$5=VLOOKUP(tblSalaries[[#This Row],[Currency]],Sheet3!$A$2:$B$31,2,FALSE),tblSalaries[[#This Row],[clean Salary (in local currency)]],(tblSalaries[[#This Row],[PPP Adjusted  USD]]/VLOOKUP(Dashboard!$J$5,Sheet3!$B$2:$C$31,2,FALSE)))","v":8000},"Business Analyst","Analyst","India","2 to 3 hours per day",6]
[null,"ID0959",8000,"USD",8000,{"$f":"(tblSalaries[[#This Row],[clean Salary (in local currency)]])*(VLOOKUP(tblSalaries[[#This Row],[Currency]],Sheet3!$A$2:$C$31,3,FALSE))*(VLOOKUP(tblSalaries[[#This Row],[Currency]],Sheet1!$N$4:$Q$186,4,FALSE))","v":8000},{"$f":"IF(Dashboard!$J$5=VLOOKUP(tblSalaries[[#This Row],[Currency]],Sheet3!$A$2:$B$31,2,FALSE),tblSalaries[[#This Row],[clean Salary (in local currency)]],(tblSalaries[[#This Row],[PPP Adjusted  USD]]/VLOOKUP(Dashboard!$J$5,Sheet3!$B$2:$C$31,2,FALSE)))","v":8000},"IT Analyst","Analyst","India","1 or 2 hours a day",5]
[null,"ID1294",8000,"USD",8000,{"$f":"(tblSalaries[[#This Row],[clean Salary (in local currency)]])*(VLOOKUP(tblSalaries[[#This Row],[Currency]],Sheet3!$A$2:$C$31,3,FALSE))*(VLOOKUP(tblSalaries[[#This Row],[Currency]],Sheet1!$N$4:$Q$186,4,FALSE))","v":8000},{"$f":"IF(Dashboard!$J$5=VLOOKUP(tblSalaries[[#This Row],[Currency]],Sheet3!$A$2:$B$31,2,FALSE),tblSalaries[[#This Row],[clean Salary (in local currency)]],(tblSalaries[[#This Row],[PPP Adjusted  USD]]/VLOOKUP(Dashboard!$J$5,Sheet3!$B$2:$C$31,2,FALSE)))","v":8000},"Data Analyst","Analyst","India","All the 8 hours baby, all the 8!",4]
[null,"ID1539",8000,"USD",8000,{"$f":"(tblSalaries[[#This Row],[clean Salary (in local currency)]])*(VLOOKUP(tblSalaries[[#This Row],[Currency]],Sheet3!$A$2:$C$31,3,FALSE))*(VLOOKUP(tblSalaries[[#This Row],[Currency]],Sheet1!$N$4:$Q$186,4,FALSE))","v":8000},{"$f":"IF(Dashboard!$J$5=VLOOKUP(tblSalaries[[#This Row],[Currency]],Sheet3!$A$2:$B$31,2,FALSE),tblSalaries[[#This Row],[clean Salary (in local currency)]],(tblSalaries[[#This Row],[PPP Adjusted  USD]]/VLOOKUP(Dashboard!$J$5,Sheet3!$B$2:$C$31,2,FALSE)))","v":8000},"Owner","CXO or Top Mgmt.","India","4 to 6 hours a day",18]
[null,"ID1094",7960,"USD",7960,{"$f":"(tblSalaries[[#This Row],[clean Salary (in local currency)]])*(VLOOKUP(tblSalaries[[#This Row],[Currency]],Sheet3!$A$2:$C$31,3,FALSE))*(VLOOKUP(tblSalaries[[#This Row],[Currency]],Sheet1!$N$4:$Q$186,4,FALSE))","v":7960},{"$f":"IF(Dashboard!$J$5=VLOOKUP(tblSalaries[[#This Row],[Currency]],Sheet3!$A$2:$B$31,2,FALSE),tblSalaries[[#This Row],[clean Salary (in local currency)]],(tblSalaries[[#This Row],[PPP Adjusted  USD]]/VLOOKUP(Dashboard!$J$5,Sheet3!$B$2:$C$31,2,FALSE)))","v":7960},"Team Leader","Manager","India","4 to 6 hours a day",7]
[null,"ID0661",165000,"INR",2938.3062534280239,{"$f":"(tblSalaries[[#This Row],[clean Salary (in local currency)]])*(VLOOKUP(tblSalaries[[#This Row],[Currency]],Sheet3!$A$2:$C$31,3,FALSE))*(VLOOKUP(tblSalaries[[#This Row],[Currency]],Sheet1!$N$4:$Q$186,4,FALSE))","v":7814.5686875352458},{"$f":"IF(Dashboard!$J$5=VLOOKUP(tblSalaries[[#This Row],[Currency]],Sheet3!$A$2:$B$31,2,FALSE),tblSalaries[[#This Row],[clean Salary (in local currency)]],(tblSalaries[[#This Row],[PPP Adjusted  USD]]/VLOOKUP(Dashboard!$J$5,Sheet3!$B$2:$C$31,2,FALSE)))","v":7814.5686875352458},"Co-operative bank","Manager","India","All the 8 hours baby, all the 8!",11]
[null,"ID0271",7600,"USD",7600,{"$f":"(tblSalaries[[#This Row],[clean Salary (in local currency)]])*(VLOOKUP(tblSalaries[[#This Row],[Currency]],Sheet3!$A$2:$C$31,3,FALSE))*(VLOOKUP(tblSalaries[[#This Row],[Currency]],Sheet1!$N$4:$Q$186,4,FALSE))","v":7600},{"$f":"IF(Dashboard!$J$5=VLOOKUP(tblSalaries[[#This Row],[Currency]],Sheet3!$A$2:$B$31,2,FALSE),tblSalaries[[#This Row],[clean Salary (in local currency)]],(tblSalaries[[#This Row],[PPP Adjusted  USD]]/VLOOKUP(Dashboard!$J$5,Sheet3!$B$2:$C$31,2,FALSE)))","v":7600},"DP specialist","Specialist","Ukraine","1 or 2 hours a day","Data Not Avaliable"]
[null,"ID0621",160000,"INR",2849.2666699908109,{"$f":"(tblSalaries[[#This Row],[clean Salary (in local currency)]])*(VLOOKUP(tblSalaries[[#This Row],[Currency]],Sheet3!$A$2:$C$31,3,FALSE))*(VLOOKUP(tblSalaries[[#This Row],[Currency]],Sheet1!$N$4:$Q$186,4,FALSE))","v":7577.7635757917524},{"$f":"IF(Dashboard!$J$5=VLOOKUP(tblSalaries[[#This Row],[Currency]],Sheet3!$A$2:$B$31,2,FALSE),tblSalaries[[#This Row],[clean Salary (in local currency)]],(tblSalaries[[#This Row],[PPP Adjusted  USD]]/VLOOKUP(Dashboard!$J$5,Sheet3!$B$2:$C$31,2,FALSE)))","v":7577.7635757917524},"MIS Executive","Reporting","India","All the 8 hours baby, all the 8!",3]
[null,"ID0056",7500,"USD",7500,{"$f":"(tblSalaries[[#This Row],[clean Salary (in local currency)]])*(VLOOKUP(tblSalaries[[#This Row],[Currency]],Sheet3!$A$2:$C$31,3,FALSE))*(VLOOKUP(tblSalaries[[#This Row],[Currency]],Sheet1!$N$4:$Q$186,4,FALSE))","v":7500},{"$f":"IF(Dashboard!$J$5=VLOOKUP(tblSalaries[[#This Row],[Currency]],Sheet3!$A$2:$B$31,2,FALSE),tblSalaries[[#This Row],[clean Salary (in local currency)]],(tblSalaries[[#This Row],[PPP Adjusted  USD]]/VLOOKUP(Dashboard!$J$5,Sheet3!$B$2:$C$31,2,FALSE)))","v":7500},"Analyst","Analyst","India","4 to 6 hours a day","Data Not Avaliable"]
[null,"ID0455",7500,"USD",7500,{"$f":"(tblSalaries[[#This Row],[clean Salary (in local currency)]])*(VLOOKUP(tblSalaries[[#This Row],[Currency]],Sheet3!$A$2:$C$31,3,FALSE))*(VLOOKUP(tblSalaries[[#This Row],[Currency]],Sheet1!$N$4:$Q$186,4,FALSE))","v":7500},{"$f":"IF(Dashboard!$J$5=VLOOKUP(tblSalaries[[#This Row],[Currency]],Sheet3!$A$2:$B$31,2,FALSE),tblSalaries[[#This Row],[clean Salary (in local currency)]],(tblSalaries[[#This Row],[PPP Adjusted  USD]]/VLOOKUP(Dashboard!$J$5,Sheet3!$B$2:$C$31,2,FALSE)))","v":7500},"HR reporting analyst","Analyst","Romania","All the 8 hours baby, all the 8!","Data Not Avaliable"]
[null,"ID1026",300000,"PKR",3184.2266150397395,{"$f":"(tblSalaries[[#This Row],[clean Salary (in local currency)]])*(VLOOKUP(tblSalaries[[#This Row],[Currency]],Sheet3!$A$2:$C$31,3,FALSE))*(VLOOKUP(tblSalaries[[#This Row],[Currency]],Sheet1!$N$4:$Q$186,4,FALSE))","v":7388.4171213591735},{"$f":"IF(Dashboard!$J$5=VLOOKUP(tblSalaries[[#This Row],[Currency]],Sheet3!$A$2:$B$31,2,FALSE),tblSalaries[[#This Row],[clean Salary (in local currency)]],(tblSalaries[[#This Row],[PPP Adjusted  USD]]/VLOOKUP(Dashboard!$J$5,Sheet3!$B$2:$C$31,2,FALSE)))","v":7388.4171213591735},"Banker","Manager","Pakistan","4 to 6 hours a day",4]
[null,"ID0901",168000,"PHP",3982.448779308334,{"$f":"(tblSalaries[[#This Row],[clean Salary (in local currency)]])*(VLOOKUP(tblSalaries[[#This Row],[Currency]],Sheet3!$A$2:$C$31,3,FALSE))*(VLOOKUP(tblSalaries[[#This Row],[Currency]],Sheet1!$N$4:$Q$186,4,FALSE))","v":7295.0178672644652},{"$f":"IF(Dashboard!$J$5=VLOOKUP(tblSalaries[[#This Row],[Currency]],Sheet3!$A$2:$B$31,2,FALSE),tblSalaries[[#This Row],[clean Salary (in local currency)]],(tblSalaries[[#This Row],[PPP Adjusted  USD]]/VLOOKUP(Dashboard!$J$5,Sheet3!$B$2:$C$31,2,FALSE)))","v":7295.0178672644652},"Clerk","Analyst","Philippines","4 to 6 hours a day",10]
[null,"ID1020",7265,"USD",7265,{"$f":"(tblSalaries[[#This Row],[clean Salary (in local currency)]])*(VLOOKUP(tblSalaries[[#This Row],[Currency]],Sheet3!$A$2:$C$31,3,FALSE))*(VLOOKUP(tblSalaries[[#This Row],[Currency]],Sheet1!$N$4:$Q$186,4,FALSE))","v":7265},{"$f":"IF(Dashboard!$J$5=VLOOKUP(tblSalaries[[#This Row],[Currency]],Sheet3!$A$2:$B$31,2,FALSE),tblSalaries[[#This Row],[clean Salary (in local currency)]],(tblSalaries[[#This Row],[PPP Adjusted  USD]]/VLOOKUP(Dashboard!$J$5,Sheet3!$B$2:$C$31,2,FALSE)))","v":7265},"Softwar Engineer","Engineer","India","4 to 6 hours a day",6]
[null,"ID1080",7200,"USD",7200,{"$f":"(tblSalaries[[#This Row],[clean Salary (in local currency)]])*(VLOOKUP(tblSalaries[[#This Row],[Currency]],Sheet3!$A$2:$C$31,3,FALSE))*(VLOOKUP(tblSalaries[[#This Row],[Currency]],Sheet1!$N$4:$Q$186,4,FALSE))","v":7200},{"$f":"IF(Dashboard!$J$5=VLOOKUP(tblSalaries[[#This Row],[Currency]],Sheet3!$A$2:$B$31,2,FALSE),tblSalaries[[#This Row],[clean Salary (in local currency)]],(tblSalaries[[#This Row],[PPP Adjusted  USD]]/VLOOKUP(Dashboard!$J$5,Sheet3!$B$2:$C$31,2,FALSE)))","v":7200},"Data Entry Operator","Analyst","India","All the 8 hours baby, all the 8!",10]
[null,"ID1193",7200,"USD",7200,{"$f":"(tblSalaries[[#This Row],[clean Salary (in local currency)]])*(VLOOKUP(tblSalaries[[#This Row],[Currency]],Sheet3!$A$2:$C$31,3,FALSE))*(VLOOKUP(tblSalaries[[#This Row],[Currency]],Sheet1!$N$4:$Q$186,4,FALSE))","v":7200},{"$f":"IF(Dashboard!$J$5=VLOOKUP(tblSalaries[[#This Row],[Currency]],Sheet3!$A$2:$B$31,2,FALSE),tblSalaries[[#This Row],[clean Salary (in local currency)]],(tblSalaries[[#This Row],[PPP Adjusted  USD]]/VLOOKUP(Dashboard!$J$5,Sheet3!$B$2:$C$31,2,FALSE)))","v":7200},"Supervisor MIS","Reporting","India","4 to 6 hours a day",7]
[null,"ID1494",7200,"USD",7200,{"$f":"(tblSalaries[[#This Row],[clean Salary (in local currency)]])*(VLOOKUP(tblSalaries[[#This Row],[Currency]],Sheet3!$A$2:$C$31,3,FALSE))*(VLOOKUP(tblSalaries[[#This Row],[Currency]],Sheet1!$N$4:$Q$186,4,FALSE))","v":7200},{"$f":"IF(Dashboard!$J$5=VLOOKUP(tblSalaries[[#This Row],[Currency]],Sheet3!$A$2:$B$31,2,FALSE),tblSalaries[[#This Row],[clean Salary (in local currency)]],(tblSalaries[[#This Row],[PPP Adjusted  USD]]/VLOOKUP(Dashboard!$J$5,Sheet3!$B$2:$C$31,2,FALSE)))","v":7200},"control process auxiliary","Controller","Colombia","4 to 6 hours a day",8]
[null,"ID1132",150252,"INR",2675.675098121621,{"$f":"(tblSalaries[[#This Row],[clean Salary (in local currency)]])*(VLOOKUP(tblSalaries[[#This Row],[Currency]],Sheet3!$A$2:$C$31,3,FALSE))*(VLOOKUP(tblSalaries[[#This Row],[Currency]],Sheet1!$N$4:$Q$186,4,FALSE))","v":7116.0883299366405},{"$f":"IF(Dashboard!$J$5=VLOOKUP(tblSalaries[[#This Row],[Currency]],Sheet3!$A$2:$B$31,2,FALSE),tblSalaries[[#This Row],[clean Salary (in local currency)]],(tblSalaries[[#This Row],[PPP Adjusted  USD]]/VLOOKUP(Dashboard!$J$5,Sheet3!$B$2:$C$31,2,FALSE)))","v":7116.0883299366405},"KEY","Manager","India","2 to 3 hours per day",5]
[null,"ID0649",150000,"INR",2671.1875031163854,{"$f":"(tblSalaries[[#This Row],[clean Salary (in local currency)]])*(VLOOKUP(tblSalaries[[#This Row],[Currency]],Sheet3!$A$2:$C$31,3,FALSE))*(VLOOKUP(tblSalaries[[#This Row],[Currency]],Sheet1!$N$4:$Q$186,4,FALSE))","v":7104.1533523047692},{"$f":"IF(Dashboard!$J$5=VLOOKUP(tblSalaries[[#This Row],[Currency]],Sheet3!$A$2:$B$31,2,FALSE),tblSalaries[[#This Row],[clean Salary (in local currency)]],(tblSalaries[[#This Row],[PPP Adjusted  USD]]/VLOOKUP(Dashboard!$J$5,Sheet3!$B$2:$C$31,2,FALSE)))","v":7104.1533523047692},"Executive","Manager","India","2 to 3 hours per day",5]
[null,"ID0697",150000,"INR",2671.1875031163854,{"$f":"(tblSalaries[[#This Row],[clean Salary (in local currency)]])*(VLOOKUP(tblSalaries[[#This Row],[Currency]],Sheet3!$A$2:$C$31,3,FALSE))*(VLOOKUP(tblSalaries[[#This Row],[Currency]],Sheet1!$N$4:$Q$186,4,FALSE))","v":7104.1533523047692},{"$f":"IF(Dashboard!$J$5=VLOOKUP(tblSalaries[[#This Row],[Currency]],Sheet3!$A$2:$B$31,2,FALSE),tblSalaries[[#This Row],[clean Salary (in local currency)]],(tblSalaries[[#This Row],[PPP Adjusted  USD]]/VLOOKUP(Dashboard!$J$5,Sheet3!$B$2:$C$31,2,FALSE)))","v":7104.1533523047692},"Oprations head","CXO or Top Mgmt.","India","4 to 6 hours a day",4.5]
[null,"ID0794",150000,"INR",2671.1875031163854,{"$f":"(tblSalaries[[#This Row],[clean Salary (in local currency)]])*(VLOOKUP(tblSalaries[[#This Row],[Currency]],Sheet3!$A$2:$C$31,3,FALSE))*(VLOOKUP(tblSalaries[[#This Row],[Currency]],Sheet1!$N$4:$Q$186,4,FALSE))","v":7104.1533523047692},{"$f":"IF(Dashboard!$J$5=VLOOKUP(tblSalaries[[#This Row],[Currency]],Sheet3!$A$2:$B$31,2,FALSE),tblSalaries[[#This Row],[clean Salary (in local currency)]],(tblSalaries[[#This Row],[PPP Adjusted  USD]]/VLOOKUP(Dashboard!$J$5,Sheet3!$B$2:$C$31,2,FALSE)))","v":7104.1533523047692},"WORKING WITH PRODUCT TEAM OF MAKEMYTRIP.COM","Analyst","India","4 to 6 hours a day",2]
[null,"ID1721",150000,"INR",2671.1875031163854,{"$f":"(tblSalaries[[#This Row],[clean Salary (in local currency)]])*(VLOOKUP(tblSalaries[[#This Row],[Currency]],Sheet3!$A$2:$C$31,3,FALSE))*(VLOOKUP(tblSalaries[[#This Row],[Currency]],Sheet1!$N$4:$Q$186,4,FALSE))","v":7104.1533523047692},{"$f":"IF(Dashboard!$J$5=VLOOKUP(tblSalaries[[#This Row],[Currency]],Sheet3!$A$2:$B$31,2,FALSE),tblSalaries[[#This Row],[clean Salary (in local currency)]],(tblSalaries[[#This Row],[PPP Adjusted  USD]]/VLOOKUP(Dashboard!$J$5,Sheet3!$B$2:$C$31,2,FALSE)))","v":7104.1533523047692},"MIS Executive","Reporting","India","All the 8 hours baby, all the 8!",3]
[null,"ID1785",150000,"INR",2671.1875031163854,{"$f":"(tblSalaries[[#This Row],[clean Salary (in local currency)]])*(VLOOKUP(tblSalaries[[#This Row],[Currency]],Sheet3!$A$2:$C$31,3,FALSE))*(VLOOKUP(tblSalaries[[#This Row],[Currency]],Sheet1!$N$4:$Q$186,4,FALSE))","v":7104.1533523047692},{"$f":"IF(Dashboard!$J$5=VLOOKUP(tblSalaries[[#This Row],[Currency]],Sheet3!$A$2:$B$31,2,FALSE),tblSalaries[[#This Row],[clean Salary (in local currency)]],(tblSalaries[[#This Row],[PPP Adjusted  USD]]/VLOOKUP(Dashboard!$J$5,Sheet3!$B$2:$C$31,2,FALSE)))","v":7104.1533523047692},"ENGINEER","Engineer","India","2 to 3 hours per day",1]
[null,"ID0693",7000,"USD",7000,{"$f":"(tblSalaries[[#This Row],[clean Salary (in local currency)]])*(VLOOKUP(tblSalaries[[#This Row],[Currency]],Sheet3!$A$2:$C$31,3,FALSE))*(VLOOKUP(tblSalaries[[#This Row],[Currency]],Sheet1!$N$4:$Q$186,4,FALSE))","v":7000},{"$f":"IF(Dashboard!$J$5=VLOOKUP(tblSalaries[[#This Row],[Currency]],Sheet3!$A$2:$B$31,2,FALSE),tblSalaries[[#This Row],[clean Salary (in local currency)]],(tblSalaries[[#This Row],[PPP Adjusted  USD]]/VLOOKUP(Dashboard!$J$5,Sheet3!$B$2:$C$31,2,FALSE)))","v":7000},"Business Executive","Manager","India","4 to 6 hours a day",23]
[null,"ID1074",7000,"USD",7000,{"$f":"(tblSalaries[[#This Row],[clean Salary (in local currency)]])*(VLOOKUP(tblSalaries[[#This Row],[Currency]],Sheet3!$A$2:$C$31,3,FALSE))*(VLOOKUP(tblSalaries[[#This Row],[Currency]],Sheet1!$N$4:$Q$186,4,FALSE))","v":7000},{"$f":"IF(Dashboard!$J$5=VLOOKUP(tblSalaries[[#This Row],[Currency]],Sheet3!$A$2:$B$31,2,FALSE),tblSalaries[[#This Row],[clean Salary (in local currency)]],(tblSalaries[[#This Row],[PPP Adjusted  USD]]/VLOOKUP(Dashboard!$J$5,Sheet3!$B$2:$C$31,2,FALSE)))","v":7000},"MIS Executive","Reporting","India","All the 8 hours baby, all the 8!",5]
[null,"ID1625",7000,"USD",7000,{"$f":"(tblSalaries[[#This Row],[clean Salary (in local currency)]])*(VLOOKUP(tblSalaries[[#This Row],[Currency]],Sheet3!$A$2:$C$31,3,FALSE))*(VLOOKUP(tblSalaries[[#This Row],[Currency]],Sheet1!$N$4:$Q$186,4,FALSE))","v":7000},{"$f":"IF(Dashboard!$J$5=VLOOKUP(tblSalaries[[#This Row],[Currency]],Sheet3!$A$2:$B$31,2,FALSE),tblSalaries[[#This Row],[clean Salary (in local currency)]],(tblSalaries[[#This Row],[PPP Adjusted  USD]]/VLOOKUP(Dashboard!$J$5,Sheet3!$B$2:$C$31,2,FALSE)))","v":7000},"M.I.S","Reporting","India","4 to 6 hours a day",1]
[null,"ID0093",144000,"INR",2564.3400029917298,{"$f":"(tblSalaries[[#This Row],[clean Salary (in local currency)]])*(VLOOKUP(tblSalaries[[#This Row],[Currency]],Sheet3!$A$2:$C$31,3,FALSE))*(VLOOKUP(tblSalaries[[#This Row],[Currency]],Sheet1!$N$4:$Q$186,4,FALSE))","v":6819.9872182125773},{"$f":"IF(Dashboard!$J$5=VLOOKUP(tblSalaries[[#This Row],[Currency]],Sheet3!$A$2:$B$31,2,FALSE),tblSalaries[[#This Row],[clean Salary (in local currency)]],(tblSalaries[[#This Row],[PPP Adjusted  USD]]/VLOOKUP(Dashboard!$J$5,Sheet3!$B$2:$C$31,2,FALSE)))","v":6819.9872182125773},"Financial Consultant","Consultant","India","1 or 2 hours a day","Data Not Avaliable"]
[null,"ID0687",144000,"INR",2564.3400029917298,{"$f":"(tblSalaries[[#This Row],[clean Salary (in local currency)]])*(VLOOKUP(tblSalaries[[#This Row],[Currency]],Sheet3!$A$2:$C$31,3,FALSE))*(VLOOKUP(tblSalaries[[#This Row],[Currency]],Sheet1!$N$4:$Q$186,4,FALSE))","v":6819.9872182125773},{"$f":"IF(Dashboard!$J$5=VLOOKUP(tblSalaries[[#This Row],[Currency]],Sheet3!$A$2:$B$31,2,FALSE),tblSalaries[[#This Row],[clean Salary (in local currency)]],(tblSalaries[[#This Row],[PPP Adjusted  USD]]/VLOOKUP(Dashboard!$J$5,Sheet3!$B$2:$C$31,2,FALSE)))","v":6819.9872182125773},"Team Leader","Manager","India","2 to 3 hours per day",7]
[null,"ID0818",144000,"INR",2564.3400029917298,{"$f":"(tblSalaries[[#This Row],[clean Salary (in local currency)]])*(VLOOKUP(tblSalaries[[#This Row],[Currency]],Sheet3!$A$2:$C$31,3,FALSE))*(VLOOKUP(tblSalaries[[#This Row],[Currency]],Sheet1!$N$4:$Q$186,4,FALSE))","v":6819.9872182125773},{"$f":"IF(Dashboard!$J$5=VLOOKUP(tblSalaries[[#This Row],[Currency]],Sheet3!$A$2:$B$31,2,FALSE),tblSalaries[[#This Row],[clean Salary (in local currency)]],(tblSalaries[[#This Row],[PPP Adjusted  USD]]/VLOOKUP(Dashboard!$J$5,Sheet3!$B$2:$C$31,2,FALSE)))","v":6819.9872182125773},"BPO information process enabler","Analyst","India","All the 8 hours baby, all the 8!",1]
[null,"ID0879",144000,"INR",2564.3400029917298,{"$f":"(tblSalaries[[#This Row],[clean Salary (in local currency)]])*(VLOOKUP(tblSalaries[[#This Row],[Currency]],Sheet3!$A$2:$C$31,3,FALSE))*(VLOOKUP(tblSalaries[[#This Row],[Currency]],Sheet1!$N$4:$Q$186,4,FALSE))","v":6819.9872182125773},{"$f":"IF(Dashboard!$J$5=VLOOKUP(tblSalaries[[#This Row],[Currency]],Sheet3!$A$2:$B$31,2,FALSE),tblSalaries[[#This Row],[clean Salary (in local currency)]],(tblSalaries[[#This Row],[PPP Adjusted  USD]]/VLOOKUP(Dashboard!$J$5,Sheet3!$B$2:$C$31,2,FALSE)))","v":6819.9872182125773},"Cost Trainee","Analyst","India","4 to 6 hours a day",1]
[null,"ID0923",144000,"INR",2564.3400029917298,{"$f":"(tblSalaries[[#This Row],[clean Salary (in local currency)]])*(VLOOKUP(tblSalaries[[#This Row],[Currency]],Sheet3!$A$2:$C$31,3,FALSE))*(VLOOKUP(tblSalaries[[#This Row],[Currency]],Sheet1!$N$4:$Q$186,4,FALSE))","v":6819.9872182125773},{"$f":"IF(Dashboard!$J$5=VLOOKUP(tblSalaries[[#This Row],[Currency]],Sheet3!$A$2:$B$31,2,FALSE),tblSalaries[[#This Row],[clean Salary (in local currency)]],(tblSalaries[[#This Row],[PPP Adjusted  USD]]/VLOOKUP(Dashboard!$J$5,Sheet3!$B$2:$C$31,2,FALSE)))","v":6819.9872182125773},"operation supervisor","Controller","India","4 to 6 hours a day",4]
[null,"ID1245",48000000,"IDR",5082.6943786459069,{"$f":"(tblSalaries[[#This Row],[clean Salary (in local currency)]])*(VLOOKUP(tblSalaries[[#This Row],[Currency]],Sheet3!$A$2:$C$31,3,FALSE))*(VLOOKUP(tblSalaries[[#This Row],[Currency]],Sheet1!$N$4:$Q$186,4,FALSE))","v":6759.3500499594884},{"$f":"IF(Dashboard!$J$5=VLOOKUP(tblSalaries[[#This Row],[Currency]],Sheet3!$A$2:$B$31,2,FALSE),tblSalaries[[#This Row],[clean Salary (in local currency)]],(tblSalaries[[#This Row],[PPP Adjusted  USD]]/VLOOKUP(Dashboard!$J$5,Sheet3!$B$2:$C$31,2,FALSE)))","v":6759.3500499594884},"Office Instructor","Analyst","Indonesia","1 or 2 hours a day",2]
[null,"ID1077",6720,"USD",6720,{"$f":"(tblSalaries[[#This Row],[clean Salary (in local currency)]])*(VLOOKUP(tblSalaries[[#This Row],[Currency]],Sheet3!$A$2:$C$31,3,FALSE))*(VLOOKUP(tblSalaries[[#This Row],[Currency]],Sheet1!$N$4:$Q$186,4,FALSE))","v":6720},{"$f":"IF(Dashboard!$J$5=VLOOKUP(tblSalaries[[#This Row],[Currency]],Sheet3!$A$2:$B$31,2,FALSE),tblSalaries[[#This Row],[clean Salary (in local currency)]],(tblSalaries[[#This Row],[PPP Adjusted  USD]]/VLOOKUP(Dashboard!$J$5,Sheet3!$B$2:$C$31,2,FALSE)))","v":6720},"MIS Executive","Reporting","India","4 to 6 hours a day",6]
[null,"ID1845",6720,"USD",6720,{"$f":"(tblSalaries[[#This Row],[clean Salary (in local currency)]])*(VLOOKUP(tblSalaries[[#This Row],[Currency]],Sheet3!$A$2:$C$31,3,FALSE))*(VLOOKUP(tblSalaries[[#This Row],[Currency]],Sheet1!$N$4:$Q$186,4,FALSE))","v":6720},{"$f":"IF(Dashboard!$J$5=VLOOKUP(tblSalaries[[#This Row],[Currency]],Sheet3!$A$2:$B$31,2,FALSE),tblSalaries[[#This Row],[clean Salary (in local currency)]],(tblSalaries[[#This Row],[PPP Adjusted  USD]]/VLOOKUP(Dashboard!$J$5,Sheet3!$B$2:$C$31,2,FALSE)))","v":6720},"accoutant","Accountant","India","4 to 6 hours a day",5]
[null,"ID1082",140000,"INR",2493.1083362419595,{"$f":"(tblSalaries[[#This Row],[clean Salary (in local currency)]])*(VLOOKUP(tblSalaries[[#This Row],[Currency]],Sheet3!$A$2:$C$31,3,FALSE))*(VLOOKUP(tblSalaries[[#This Row],[Currency]],Sheet1!$N$4:$Q$186,4,FALSE))","v":6630.5431288177833},{"$f":"IF(Dashboard!$J$5=VLOOKUP(tblSalaries[[#This Row],[Currency]],Sheet3!$A$2:$B$31,2,FALSE),tblSalaries[[#This Row],[clean Salary (in local currency)]],(tblSalaries[[#This Row],[PPP Adjusted  USD]]/VLOOKUP(Dashboard!$J$5,Sheet3!$B$2:$C$31,2,FALSE)))","v":6630.5431288177833},"Accountant","Accountant","India","4 to 6 hours a day",4]
[null,"ID1773",140000,"INR",2493.1083362419595,{"$f":"(tblSalaries[[#This Row],[clean Salary (in local currency)]])*(VLOOKUP(tblSalaries[[#This Row],[Currency]],Sheet3!$A$2:$C$31,3,FALSE))*(VLOOKUP(tblSalaries[[#This Row],[Currency]],Sheet1!$N$4:$Q$186,4,FALSE))","v":6630.5431288177833},{"$f":"IF(Dashboard!$J$5=VLOOKUP(tblSalaries[[#This Row],[Currency]],Sheet3!$A$2:$B$31,2,FALSE),tblSalaries[[#This Row],[clean Salary (in local currency)]],(tblSalaries[[#This Row],[PPP Adjusted  USD]]/VLOOKUP(Dashboard!$J$5,Sheet3!$B$2:$C$31,2,FALSE)))","v":6630.5431288177833},"magic","Misc.","India","4 to 6 hours a day",5]
[null,"ID0434",6629,"USD",6629,{"$f":"(tblSalaries[[#This Row],[clean Salary (in local currency)]])*(VLOOKUP(tblSalaries[[#This Row],[Currency]],Sheet3!$A$2:$C$31,3,FALSE))*(VLOOKUP(tblSalaries[[#This Row],[Currency]],Sheet1!$N$4:$Q$186,4,FALSE))","v":6629},{"$f":"IF(Dashboard!$J$5=VLOOKUP(tblSalaries[[#This Row],[Currency]],Sheet3!$A$2:$B$31,2,FALSE),tblSalaries[[#This Row],[clean Salary (in local currency)]],(tblSalaries[[#This Row],[PPP Adjusted  USD]]/VLOOKUP(Dashboard!$J$5,Sheet3!$B$2:$C$31,2,FALSE)))","v":6629},"Engineer","Engineer","Dominican Republic","All the 8 hours baby, all the 8!","Data Not Avaliable"]
[null,"ID1347",6600,"USD",6600,{"$f":"(tblSalaries[[#This Row],[clean Salary (in local currency)]])*(VLOOKUP(tblSalaries[[#This Row],[Currency]],Sheet3!$A$2:$C$31,3,FALSE))*(VLOOKUP(tblSalaries[[#This Row],[Currency]],Sheet1!$N$4:$Q$186,4,FALSE))","v":6600},{"$f":"IF(Dashboard!$J$5=VLOOKUP(tblSalaries[[#This Row],[Currency]],Sheet3!$A$2:$B$31,2,FALSE),tblSalaries[[#This Row],[clean Salary (in local currency)]],(tblSalaries[[#This Row],[PPP Adjusted  USD]]/VLOOKUP(Dashboard!$J$5,Sheet3!$B$2:$C$31,2,FALSE)))","v":6600},"MIS HR,HRIS","Reporting","India","2 to 3 hours per day",6.4]
[null,"ID0780",33600,"AED",9146.5655463031271,{"$f":"(tblSalaries[[#This Row],[clean Salary (in local currency)]])*(VLOOKUP(tblSalaries[[#This Row],[Currency]],Sheet3!$A$2:$C$31,3,FALSE))*(VLOOKUP(tblSalaries[[#This Row],[Currency]],Sheet1!$N$4:$Q$186,4,FALSE))","v":6573.5161925547754},{"$f":"IF(Dashboard!$J$5=VLOOKUP(tblSalaries[[#This Row],[Currency]],Sheet3!$A$2:$B$31,2,FALSE),tblSalaries[[#This Row],[clean Salary (in local currency)]],(tblSalaries[[#This Row],[PPP Adjusted  USD]]/VLOOKUP(Dashboard!$J$5,Sheet3!$B$2:$C$31,2,FALSE)))","v":6573.5161925547754},"Accountant","Accountant","Dubai","1 or 2 hours a day",7]
[null,"ID1640",6545,"USD",6545,{"$f":"(tblSalaries[[#This Row],[clean Salary (in local currency)]])*(VLOOKUP(tblSalaries[[#This Row],[Currency]],Sheet3!$A$2:$C$31,3,FALSE))*(VLOOKUP(tblSalaries[[#This Row],[Currency]],Sheet1!$N$4:$Q$186,4,FALSE))","v":6545},{"$f":"IF(Dashboard!$J$5=VLOOKUP(tblSalaries[[#This Row],[Currency]],Sheet3!$A$2:$B$31,2,FALSE),tblSalaries[[#This Row],[clean Salary (in local currency)]],(tblSalaries[[#This Row],[PPP Adjusted  USD]]/VLOOKUP(Dashboard!$J$5,Sheet3!$B$2:$C$31,2,FALSE)))","v":6545},"Operations","Manager","India","All the 8 hours baby, all the 8!",9]
[null,"ID0492",6000,"USD",6000,{"$f":"(tblSalaries[[#This Row],[clean Salary (in local currency)]])*(VLOOKUP(tblSalaries[[#This Row],[Currency]],Sheet3!$A$2:$C$31,3,FALSE))*(VLOOKUP(tblSalaries[[#This Row],[Currency]],Sheet1!$N$4:$Q$186,4,FALSE))","v":6000},{"$f":"IF(Dashboard!$J$5=VLOOKUP(tblSalaries[[#This Row],[Currency]],Sheet3!$A$2:$B$31,2,FALSE),tblSalaries[[#This Row],[clean Salary (in local currency)]],(tblSalaries[[#This Row],[PPP Adjusted  USD]]/VLOOKUP(Dashboard!$J$5,Sheet3!$B$2:$C$31,2,FALSE)))","v":6000},"MIS","Reporting","India","All the 8 hours baby, all the 8!","Data Not Avaliable"]
[null,"ID0577",6000,"USD",6000,{"$f":"(tblSalaries[[#This Row],[clean Salary (in local currency)]])*(VLOOKUP(tblSalaries[[#This Row],[Currency]],Sheet3!$A$2:$C$31,3,FALSE))*(VLOOKUP(tblSalaries[[#This Row],[Currency]],Sheet1!$N$4:$Q$186,4,FALSE))","v":6000},{"$f":"IF(Dashboard!$J$5=VLOOKUP(tblSalaries[[#This Row],[Currency]],Sheet3!$A$2:$B$31,2,FALSE),tblSalaries[[#This Row],[clean Salary (in local currency)]],(tblSalaries[[#This Row],[PPP Adjusted  USD]]/VLOOKUP(Dashboard!$J$5,Sheet3!$B$2:$C$31,2,FALSE)))","v":6000},"In Charge","Manager","Guyana","1 or 2 hours a day",20]
[null,"ID0750",6000,"USD",6000,{"$f":"(tblSalaries[[#This Row],[clean Salary (in local currency)]])*(VLOOKUP(tblSalaries[[#This Row],[Currency]],Sheet3!$A$2:$C$31,3,FALSE))*(VLOOKUP(tblSalaries[[#This Row],[Currency]],Sheet1!$N$4:$Q$186,4,FALSE))","v":6000},{"$f":"IF(Dashboard!$J$5=VLOOKUP(tblSalaries[[#This Row],[Currency]],Sheet3!$A$2:$B$31,2,FALSE),tblSalaries[[#This Row],[clean Salary (in local currency)]],(tblSalaries[[#This Row],[PPP Adjusted  USD]]/VLOOKUP(Dashboard!$J$5,Sheet3!$B$2:$C$31,2,FALSE)))","v":6000},"Merchandiser","Manager","India","2 to 3 hours per day",6]
[null,"ID0841",6000,"USD",6000,{"$f":"(tblSalaries[[#This Row],[clean Salary (in local currency)]])*(VLOOKUP(tblSalaries[[#This Row],[Currency]],Sheet3!$A$2:$C$31,3,FALSE))*(VLOOKUP(tblSalaries[[#This Row],[Currency]],Sheet1!$N$4:$Q$186,4,FALSE))","v":6000},{"$f":"IF(Dashboard!$J$5=VLOOKUP(tblSalaries[[#This Row],[Currency]],Sheet3!$A$2:$B$31,2,FALSE),tblSalaries[[#This Row],[clean Salary (in local currency)]],(tblSalaries[[#This Row],[PPP Adjusted  USD]]/VLOOKUP(Dashboard!$J$5,Sheet3!$B$2:$C$31,2,FALSE)))","v":6000},"Analysis Quality","Analyst","Colombia","1 or 2 hours a day",10]
[null,"ID1039",6000,"USD",6000,{"$f":"(tblSalaries[[#This Row],[clean Salary (in local currency)]])*(VLOOKUP(tblSalaries[[#This Row],[Currency]],Sheet3!$A$2:$C$31,3,FALSE))*(VLOOKUP(tblSalaries[[#This Row],[Currency]],Sheet1!$N$4:$Q$186,4,FALSE))","v":6000},{"$f":"IF(Dashboard!$J$5=VLOOKUP(tblSalaries[[#This Row],[Currency]],Sheet3!$A$2:$B$31,2,FALSE),tblSalaries[[#This Row],[clean Salary (in local currency)]],(tblSalaries[[#This Row],[PPP Adjusted  USD]]/VLOOKUP(Dashboard!$J$5,Sheet3!$B$2:$C$31,2,FALSE)))","v":6000},"Manager","Manager","India","4 to 6 hours a day",5]
[null,"ID1151",6000,"USD",6000,{"$f":"(tblSalaries[[#This Row],[clean Salary (in local currency)]])*(VLOOKUP(tblSalaries[[#This Row],[Currency]],Sheet3!$A$2:$C$31,3,FALSE))*(VLOOKUP(tblSalaries[[#This Row],[Currency]],Sheet1!$N$4:$Q$186,4,FALSE))","v":6000},{"$f":"IF(Dashboard!$J$5=VLOOKUP(tblSalaries[[#This Row],[Currency]],Sheet3!$A$2:$B$31,2,FALSE),tblSalaries[[#This Row],[clean Salary (in local currency)]],(tblSalaries[[#This Row],[PPP Adjusted  USD]]/VLOOKUP(Dashboard!$J$5,Sheet3!$B$2:$C$31,2,FALSE)))","v":6000},"Assistant Accountant","Accountant","Zambia","All the 8 hours baby, all the 8!",5]
[null,"ID1160",6000,"USD",6000,{"$f":"(tblSalaries[[#This Row],[clean Salary (in local currency)]])*(VLOOKUP(tblSalaries[[#This Row],[Currency]],Sheet3!$A$2:$C$31,3,FALSE))*(VLOOKUP(tblSalaries[[#This Row],[Currency]],Sheet1!$N$4:$Q$186,4,FALSE))","v":6000},{"$f":"IF(Dashboard!$J$5=VLOOKUP(tblSalaries[[#This Row],[Currency]],Sheet3!$A$2:$B$31,2,FALSE),tblSalaries[[#This Row],[clean Salary (in local currency)]],(tblSalaries[[#This Row],[PPP Adjusted  USD]]/VLOOKUP(Dashboard!$J$5,Sheet3!$B$2:$C$31,2,FALSE)))","v":6000},"AM Ops","Manager","India","4 to 6 hours a day",6]
[null,"ID1601",6000,"USD",6000,{"$f":"(tblSalaries[[#This Row],[clean Salary (in local currency)]])*(VLOOKUP(tblSalaries[[#This Row],[Currency]],Sheet3!$A$2:$C$31,3,FALSE))*(VLOOKUP(tblSalaries[[#This Row],[Currency]],Sheet1!$N$4:$Q$186,4,FALSE))","v":6000},{"$f":"IF(Dashboard!$J$5=VLOOKUP(tblSalaries[[#This Row],[Currency]],Sheet3!$A$2:$B$31,2,FALSE),tblSalaries[[#This Row],[clean Salary (in local currency)]],(tblSalaries[[#This Row],[PPP Adjusted  USD]]/VLOOKUP(Dashboard!$J$5,Sheet3!$B$2:$C$31,2,FALSE)))","v":6000},"Business Analyst","Analyst","India","4 to 6 hours a day",2]
[null,"ID1732",6000,"USD",6000,{"$f":"(tblSalaries[[#This Row],[clean Salary (in local currency)]])*(VLOOKUP(tblSalaries[[#This Row],[Currency]],Sheet3!$A$2:$C$31,3,FALSE))*(VLOOKUP(tblSalaries[[#This Row],[Currency]],Sheet1!$N$4:$Q$186,4,FALSE))","v":6000},{"$f":"IF(Dashboard!$J$5=VLOOKUP(tblSalaries[[#This Row],[Currency]],Sheet3!$A$2:$B$31,2,FALSE),tblSalaries[[#This Row],[clean Salary (in local currency)]],(tblSalaries[[#This Row],[PPP Adjusted  USD]]/VLOOKUP(Dashboard!$J$5,Sheet3!$B$2:$C$31,2,FALSE)))","v":6000},"Reporting Coordinator","Reporting","Armenia","All the 8 hours baby, all the 8!",5]
[null,"ID0469",125000,"INR",2225.989585930321,{"$f":"(tblSalaries[[#This Row],[clean Salary (in local currency)]])*(VLOOKUP(tblSalaries[[#This Row],[Currency]],Sheet3!$A$2:$C$31,3,FALSE))*(VLOOKUP(tblSalaries[[#This Row],[Currency]],Sheet1!$N$4:$Q$186,4,FALSE))","v":5920.1277935873068},{"$f":"IF(Dashboard!$J$5=VLOOKUP(tblSalaries[[#This Row],[Currency]],Sheet3!$A$2:$B$31,2,FALSE),tblSalaries[[#This Row],[clean Salary (in local currency)]],(tblSalaries[[#This Row],[PPP Adjusted  USD]]/VLOOKUP(Dashboard!$J$5,Sheet3!$B$2:$C$31,2,FALSE)))","v":5920.1277935873068},"clerk","Analyst","India","4 to 6 hours a day","Data Not Avaliable"]
[null,"ID1649",125000,"INR",2225.989585930321,{"$f":"(tblSalaries[[#This Row],[clean Salary (in local currency)]])*(VLOOKUP(tblSalaries[[#This Row],[Currency]],Sheet3!$A$2:$C$31,3,FALSE))*(VLOOKUP(tblSalaries[[#This Row],[Currency]],Sheet1!$N$4:$Q$186,4,FALSE))","v":5920.1277935873068},{"$f":"IF(Dashboard!$J$5=VLOOKUP(tblSalaries[[#This Row],[Currency]],Sheet3!$A$2:$B$31,2,FALSE),tblSalaries[[#This Row],[clean Salary (in local currency)]],(tblSalaries[[#This Row],[PPP Adjusted  USD]]/VLOOKUP(Dashboard!$J$5,Sheet3!$B$2:$C$31,2,FALSE)))","v":5920.1277935873068},"No","Analyst","India","2 to 3 hours per day",4]
[null,"ID0001",5846,"USD",5846,{"$f":"(tblSalaries[[#This Row],[clean Salary (in local currency)]])*(VLOOKUP(tblSalaries[[#This Row],[Currency]],Sheet3!$A$2:$C$31,3,FALSE))*(VLOOKUP(tblSalaries[[#This Row],[Currency]],Sheet1!$N$4:$Q$186,4,FALSE))","v":5846},{"$f":"IF(Dashboard!$J$5=VLOOKUP(tblSalaries[[#This Row],[Currency]],Sheet3!$A$2:$B$31,2,FALSE),tblSalaries[[#This Row],[clean Salary (in local currency)]],(tblSalaries[[#This Row],[PPP Adjusted  USD]]/VLOOKUP(Dashboard!$J$5,Sheet3!$B$2:$C$31,2,FALSE)))","v":5846},"MIS Analyst","Analyst","India","4 to 6 hours a day","Data Not Avaliable"]
[null,"ID0667",5800,"USD",5800,{"$f":"(tblSalaries[[#This Row],[clean Salary (in local currency)]])*(VLOOKUP(tblSalaries[[#This Row],[Currency]],Sheet3!$A$2:$C$31,3,FALSE))*(VLOOKUP(tblSalaries[[#This Row],[Currency]],Sheet1!$N$4:$Q$186,4,FALSE))","v":5800},{"$f":"IF(Dashboard!$J$5=VLOOKUP(tblSalaries[[#This Row],[Currency]],Sheet3!$A$2:$B$31,2,FALSE),tblSalaries[[#This Row],[clean Salary (in local currency)]],(tblSalaries[[#This Row],[PPP Adjusted  USD]]/VLOOKUP(Dashboard!$J$5,Sheet3!$B$2:$C$31,2,FALSE)))","v":5800},"Asst. Manager(Commercial)","Manager","India","All the 8 hours baby, all the 8!",8]
[null,"ID0685",120000,"INR",2136.9500024931081,{"$f":"(tblSalaries[[#This Row],[clean Salary (in local currency)]])*(VLOOKUP(tblSalaries[[#This Row],[Currency]],Sheet3!$A$2:$C$31,3,FALSE))*(VLOOKUP(tblSalaries[[#This Row],[Currency]],Sheet1!$N$4:$Q$186,4,FALSE))","v":5683.3226818438143},{"$f":"IF(Dashboard!$J$5=VLOOKUP(tblSalaries[[#This Row],[Currency]],Sheet3!$A$2:$B$31,2,FALSE),tblSalaries[[#This Row],[clean Salary (in local currency)]],(tblSalaries[[#This Row],[PPP Adjusted  USD]]/VLOOKUP(Dashboard!$J$5,Sheet3!$B$2:$C$31,2,FALSE)))","v":5683.3226818438143},"Data Analyst","Analyst","India","2 to 3 hours per day",3]
[null,"ID0708",120000,"INR",2136.9500024931081,{"$f":"(tblSalaries[[#This Row],[clean Salary (in local currency)]])*(VLOOKUP(tblSalaries[[#This Row],[Currency]],Sheet3!$A$2:$C$31,3,FALSE))*(VLOOKUP(tblSalaries[[#This Row],[Currency]],Sheet1!$N$4:$Q$186,4,FALSE))","v":5683.3226818438143},{"$f":"IF(Dashboard!$J$5=VLOOKUP(tblSalaries[[#This Row],[Currency]],Sheet3!$A$2:$B$31,2,FALSE),tblSalaries[[#This Row],[clean Salary (in local currency)]],(tblSalaries[[#This Row],[PPP Adjusted  USD]]/VLOOKUP(Dashboard!$J$5,Sheet3!$B$2:$C$31,2,FALSE)))","v":5683.3226818438143},"Intern","Analyst","India","1 or 2 hours a day",0]
[null,"ID0766",120000,"INR",2136.9500024931081,{"$f":"(tblSalaries[[#This Row],[clean Salary (in local currency)]])*(VLOOKUP(tblSalaries[[#This Row],[Currency]],Sheet3!$A$2:$C$31,3,FALSE))*(VLOOKUP(tblSalaries[[#This Row],[Currency]],Sheet1!$N$4:$Q$186,4,FALSE))","v":5683.3226818438143},{"$f":"IF(Dashboard!$J$5=VLOOKUP(tblSalaries[[#This Row],[Currency]],Sheet3!$A$2:$B$31,2,FALSE),tblSalaries[[#This Row],[clean Salary (in local currency)]],(tblSalaries[[#This Row],[PPP Adjusted  USD]]/VLOOKUP(Dashboard!$J$5,Sheet3!$B$2:$C$31,2,FALSE)))","v":5683.3226818438143},"ACCOUNTANT","Accountant","India","2 to 3 hours per day",2]
[null,"ID0897",120000,"INR",2136.9500024931081,{"$f":"(tblSalaries[[#This Row],[clean Salary (in local currency)]])*(VLOOKUP(tblSalaries[[#This Row],[Currency]],Sheet3!$A$2:$C$31,3,FALSE))*(VLOOKUP(tblSalaries[[#This Row],[Currency]],Sheet1!$N$4:$Q$186,4,FALSE))","v":5683.3226818438143},{"$f":"IF(Dashboard!$J$5=VLOOKUP(tblSalaries[[#This Row],[Currency]],Sheet3!$A$2:$B$31,2,FALSE),tblSalaries[[#This Row],[clean Salary (in local currency)]],(tblSalaries[[#This Row],[PPP Adjusted  USD]]/VLOOKUP(Dashboard!$J$5,Sheet3!$B$2:$C$31,2,FALSE)))","v":5683.3226818438143},"co ordinator","Manager","India","4 to 6 hours a day",5]
[null,"ID1029",120000,"INR",2136.9500024931081,{"$f":"(tblSalaries[[#This Row],[clean Salary (in local currency)]])*(VLOOKUP(tblSalaries[[#This Row],[Currency]],Sheet3!$A$2:$C$31,3,FALSE))*(VLOOKUP(tblSalaries[[#This Row],[Currency]],Sheet1!$N$4:$Q$186,4,FALSE))","v":5683.3226818438143},{"$f":"IF(Dashboard!$J$5=VLOOKUP(tblSalaries[[#This Row],[Currency]],Sheet3!$A$2:$B$31,2,FALSE),tblSalaries[[#This Row],[clean Salary (in local currency)]],(tblSalaries[[#This Row],[PPP Adjusted  USD]]/VLOOKUP(Dashboard!$J$5,Sheet3!$B$2:$C$31,2,FALSE)))","v":5683.3226818438143},"Audit Assistant","Analyst","India","2 to 3 hours per day",3.5]
[null,"ID0654",5400,"USD",5400,{"$f":"(tblSalaries[[#This Row],[clean Salary (in local currency)]])*(VLOOKUP(tblSalaries[[#This Row],[Currency]],Sheet3!$A$2:$C$31,3,FALSE))*(VLOOKUP(tblSalaries[[#This Row],[Currency]],Sheet1!$N$4:$Q$186,4,FALSE))","v":5400},{"$f":"IF(Dashboard!$J$5=VLOOKUP(tblSalaries[[#This Row],[Currency]],Sheet3!$A$2:$B$31,2,FALSE),tblSalaries[[#This Row],[clean Salary (in local currency)]],(tblSalaries[[#This Row],[PPP Adjusted  USD]]/VLOOKUP(Dashboard!$J$5,Sheet3!$B$2:$C$31,2,FALSE)))","v":5400},"manager","Manager","India","All the 8 hours baby, all the 8!",3]
[null,"ID1771",5320,"USD",5320,{"$f":"(tblSalaries[[#This Row],[clean Salary (in local currency)]])*(VLOOKUP(tblSalaries[[#This Row],[Currency]],Sheet3!$A$2:$C$31,3,FALSE))*(VLOOKUP(tblSalaries[[#This Row],[Currency]],Sheet1!$N$4:$Q$186,4,FALSE))","v":5320},{"$f":"IF(Dashboard!$J$5=VLOOKUP(tblSalaries[[#This Row],[Currency]],Sheet3!$A$2:$B$31,2,FALSE),tblSalaries[[#This Row],[clean Salary (in local currency)]],(tblSalaries[[#This Row],[PPP Adjusted  USD]]/VLOOKUP(Dashboard!$J$5,Sheet3!$B$2:$C$31,2,FALSE)))","v":5320},"Officer","Manager","India","2 to 3 hours per day",5]
[null,"ID1350",5300,"USD",5300,{"$f":"(tblSalaries[[#This Row],[clean Salary (in local currency)]])*(VLOOKUP(tblSalaries[[#This Row],[Currency]],Sheet3!$A$2:$C$31,3,FALSE))*(VLOOKUP(tblSalaries[[#This Row],[Currency]],Sheet1!$N$4:$Q$186,4,FALSE))","v":5300},{"$f":"IF(Dashboard!$J$5=VLOOKUP(tblSalaries[[#This Row],[Currency]],Sheet3!$A$2:$B$31,2,FALSE),tblSalaries[[#This Row],[clean Salary (in local currency)]],(tblSalaries[[#This Row],[PPP Adjusted  USD]]/VLOOKUP(Dashboard!$J$5,Sheet3!$B$2:$C$31,2,FALSE)))","v":5300},"Asst. Production Manager","Manager","Pakistan","4 to 6 hours a day",5]
[null,"ID0467",5250,"USD",5250,{"$f":"(tblSalaries[[#This Row],[clean Salary (in local currency)]])*(VLOOKUP(tblSalaries[[#This Row],[Currency]],Sheet3!$A$2:$C$31,3,FALSE))*(VLOOKUP(tblSalaries[[#This Row],[Currency]],Sheet1!$N$4:$Q$186,4,FALSE))","v":5250},{"$f":"IF(Dashboard!$J$5=VLOOKUP(tblSalaries[[#This Row],[Currency]],Sheet3!$A$2:$B$31,2,FALSE),tblSalaries[[#This Row],[clean Salary (in local currency)]],(tblSalaries[[#This Row],[PPP Adjusted  USD]]/VLOOKUP(Dashboard!$J$5,Sheet3!$B$2:$C$31,2,FALSE)))","v":5250},"Treasure Specialist","Specialist","Republic of Georgia","4 to 6 hours a day","Data Not Avaliable"]
[null,"ID1067",5100,"USD",5100,{"$f":"(tblSalaries[[#This Row],[clean Salary (in local currency)]])*(VLOOKUP(tblSalaries[[#This Row],[Currency]],Sheet3!$A$2:$C$31,3,FALSE))*(VLOOKUP(tblSalaries[[#This Row],[Currency]],Sheet1!$N$4:$Q$186,4,FALSE))","v":5100},{"$f":"IF(Dashboard!$J$5=VLOOKUP(tblSalaries[[#This Row],[Currency]],Sheet3!$A$2:$B$31,2,FALSE),tblSalaries[[#This Row],[clean Salary (in local currency)]],(tblSalaries[[#This Row],[PPP Adjusted  USD]]/VLOOKUP(Dashboard!$J$5,Sheet3!$B$2:$C$31,2,FALSE)))","v":5100},"MIS Executive","Reporting","India","All the 8 hours baby, all the 8!",8]
[null,"ID0723",204000,"PKR",2165.2740982270229,{"$f":"(tblSalaries[[#This Row],[clean Salary (in local currency)]])*(VLOOKUP(tblSalaries[[#This Row],[Currency]],Sheet3!$A$2:$C$31,3,FALSE))*(VLOOKUP(tblSalaries[[#This Row],[Currency]],Sheet1!$N$4:$Q$186,4,FALSE))","v":5024.1236425242387},{"$f":"IF(Dashboard!$J$5=VLOOKUP(tblSalaries[[#This Row],[Currency]],Sheet3!$A$2:$B$31,2,FALSE),tblSalaries[[#This Row],[clean Salary (in local currency)]],(tblSalaries[[#This Row],[PPP Adjusted  USD]]/VLOOKUP(Dashboard!$J$5,Sheet3!$B$2:$C$31,2,FALSE)))","v":5024.1236425242387},"Accounts Manager","Manager","Pakistan","All the 8 hours baby, all the 8!",2]
[null,"ID0738",5022,"USD",5022,{"$f":"(tblSalaries[[#This Row],[clean Salary (in local currency)]])*(VLOOKUP(tblSalaries[[#This Row],[Currency]],Sheet3!$A$2:$C$31,3,FALSE))*(VLOOKUP(tblSalaries[[#This Row],[Currency]],Sheet1!$N$4:$Q$186,4,FALSE))","v":5022},{"$f":"IF(Dashboard!$J$5=VLOOKUP(tblSalaries[[#This Row],[Currency]],Sheet3!$A$2:$B$31,2,FALSE),tblSalaries[[#This Row],[clean Salary (in local currency)]],(tblSalaries[[#This Row],[PPP Adjusted  USD]]/VLOOKUP(Dashboard!$J$5,Sheet3!$B$2:$C$31,2,FALSE)))","v":5022},"Accounts analyst","Analyst","Pakistan","4 to 6 hours a day",15]
[null,"ID0448",5000,"USD",5000,{"$f":"(tblSalaries[[#This Row],[clean Salary (in local currency)]])*(VLOOKUP(tblSalaries[[#This Row],[Currency]],Sheet3!$A$2:$C$31,3,FALSE))*(VLOOKUP(tblSalaries[[#This Row],[Currency]],Sheet1!$N$4:$Q$186,4,FALSE))","v":5000},{"$f":"IF(Dashboard!$J$5=VLOOKUP(tblSalaries[[#This Row],[Currency]],Sheet3!$A$2:$B$31,2,FALSE),tblSalaries[[#This Row],[clean Salary (in local currency)]],(tblSalaries[[#This Row],[PPP Adjusted  USD]]/VLOOKUP(Dashboard!$J$5,Sheet3!$B$2:$C$31,2,FALSE)))","v":5000},"mis","Reporting","India","4 to 6 hours a day","Data Not Avaliable"]
[null,"ID0847",5000,"USD",5000,{"$f":"(tblSalaries[[#This Row],[clean Salary (in local currency)]])*(VLOOKUP(tblSalaries[[#This Row],[Currency]],Sheet3!$A$2:$C$31,3,FALSE))*(VLOOKUP(tblSalaries[[#This Row],[Currency]],Sheet1!$N$4:$Q$186,4,FALSE))","v":5000},{"$f":"IF(Dashboard!$J$5=VLOOKUP(tblSalaries[[#This Row],[Currency]],Sheet3!$A$2:$B$31,2,FALSE),tblSalaries[[#This Row],[clean Salary (in local currency)]],(tblSalaries[[#This Row],[PPP Adjusted  USD]]/VLOOKUP(Dashboard!$J$5,Sheet3!$B$2:$C$31,2,FALSE)))","v":5000},"Management Intern","Manager","India","4 to 6 hours a day",1]
[null,"ID0864",5000,"USD",5000,{"$f":"(tblSalaries[[#This Row],[clean Salary (in local currency)]])*(VLOOKUP(tblSalaries[[#This Row],[Currency]],Sheet3!$A$2:$C$31,3,FALSE))*(VLOOKUP(tblSalaries[[#This Row],[Currency]],Sheet1!$N$4:$Q$186,4,FALSE))","v":5000},{"$f":"IF(Dashboard!$J$5=VLOOKUP(tblSalaries[[#This Row],[Currency]],Sheet3!$A$2:$B$31,2,FALSE),tblSalaries[[#This Row],[clean Salary (in local currency)]],(tblSalaries[[#This Row],[PPP Adjusted  USD]]/VLOOKUP(Dashboard!$J$5,Sheet3!$B$2:$C$31,2,FALSE)))","v":5000},"Policy advisor","Consultant","Aruba","1 or 2 hours a day",13]
[null,"ID1497",5000,"USD",5000,{"$f":"(tblSalaries[[#This Row],[clean Salary (in local currency)]])*(VLOOKUP(tblSalaries[[#This Row],[Currency]],Sheet3!$A$2:$C$31,3,FALSE))*(VLOOKUP(tblSalaries[[#This Row],[Currency]],Sheet1!$N$4:$Q$186,4,FALSE))","v":5000},{"$f":"IF(Dashboard!$J$5=VLOOKUP(tblSalaries[[#This Row],[Currency]],Sheet3!$A$2:$B$31,2,FALSE),tblSalaries[[#This Row],[clean Salary (in local currency)]],(tblSalaries[[#This Row],[PPP Adjusted  USD]]/VLOOKUP(Dashboard!$J$5,Sheet3!$B$2:$C$31,2,FALSE)))","v":5000},"Officer MIS","Manager","India","All the 8 hours baby, all the 8!",4]
[null,"ID1887",5000,"USD",5000,{"$f":"(tblSalaries[[#This Row],[clean Salary (in local currency)]])*(VLOOKUP(tblSalaries[[#This Row],[Currency]],Sheet3!$A$2:$C$31,3,FALSE))*(VLOOKUP(tblSalaries[[#This Row],[Currency]],Sheet1!$N$4:$Q$186,4,FALSE))","v":5000},{"$f":"IF(Dashboard!$J$5=VLOOKUP(tblSalaries[[#This Row],[Currency]],Sheet3!$A$2:$B$31,2,FALSE),tblSalaries[[#This Row],[clean Salary (in local currency)]],(tblSalaries[[#This Row],[PPP Adjusted  USD]]/VLOOKUP(Dashboard!$J$5,Sheet3!$B$2:$C$31,2,FALSE)))","v":5000},"admin","Analyst","India","2 to 3 hours per day",10]
[null,"ID1892",5000,"USD",5000,{"$f":"(tblSalaries[[#This Row],[clean Salary (in local currency)]])*(VLOOKUP(tblSalaries[[#This Row],[Currency]],Sheet3!$A$2:$C$31,3,FALSE))*(VLOOKUP(tblSalaries[[#This Row],[Currency]],Sheet1!$N$4:$Q$186,4,FALSE))","v":5000},{"$f":"IF(Dashboard!$J$5=VLOOKUP(tblSalaries[[#This Row],[Currency]],Sheet3!$A$2:$B$31,2,FALSE),tblSalaries[[#This Row],[clean Salary (in local currency)]],(tblSalaries[[#This Row],[PPP Adjusted  USD]]/VLOOKUP(Dashboard!$J$5,Sheet3!$B$2:$C$31,2,FALSE)))","v":5000},"analyst ","Analyst","India","All the 8 hours baby, all the 8!",2]
[null,"ID1912",5000,"USD",5000,{"$f":"(tblSalaries[[#This Row],[clean Salary (in local currency)]])*(VLOOKUP(tblSalaries[[#This Row],[Currency]],Sheet3!$A$2:$C$31,3,FALSE))*(VLOOKUP(tblSalaries[[#This Row],[Currency]],Sheet1!$N$4:$Q$186,4,FALSE))","v":5000},{"$f":"IF(Dashboard!$J$5=VLOOKUP(tblSalaries[[#This Row],[Currency]],Sheet3!$A$2:$B$31,2,FALSE),tblSalaries[[#This Row],[clean Salary (in local currency)]],(tblSalaries[[#This Row],[PPP Adjusted  USD]]/VLOOKUP(Dashboard!$J$5,Sheet3!$B$2:$C$31,2,FALSE)))","v":5000},"abc","Misc.","India","4 to 6 hours a day",3]
[null,"ID0659",200000,"PKR",2122.8177433598262,{"$f":"(tblSalaries[[#This Row],[clean Salary (in local currency)]])*(VLOOKUP(tblSalaries[[#This Row],[Currency]],Sheet3!$A$2:$C$31,3,FALSE))*(VLOOKUP(tblSalaries[[#This Row],[Currency]],Sheet1!$N$4:$Q$186,4,FALSE))","v":4925.611414239449},{"$f":"IF(Dashboard!$J$5=VLOOKUP(tblSalaries[[#This Row],[Currency]],Sheet3!$A$2:$B$31,2,FALSE),tblSalaries[[#This Row],[clean Salary (in local currency)]],(tblSalaries[[#This Row],[PPP Adjusted  USD]]/VLOOKUP(Dashboard!$J$5,Sheet3!$B$2:$C$31,2,FALSE)))","v":4925.611414239449},"Accounts Officer","Accountant","Pakistan","2 to 3 hours per day",2]
[null,"ID0742",4800,"USD",4800,{"$f":"(tblSalaries[[#This Row],[clean Salary (in local currency)]])*(VLOOKUP(tblSalaries[[#This Row],[Currency]],Sheet3!$A$2:$C$31,3,FALSE))*(VLOOKUP(tblSalaries[[#This Row],[Currency]],Sheet1!$N$4:$Q$186,4,FALSE))","v":4800},{"$f":"IF(Dashboard!$J$5=VLOOKUP(tblSalaries[[#This Row],[Currency]],Sheet3!$A$2:$B$31,2,FALSE),tblSalaries[[#This Row],[clean Salary (in local currency)]],(tblSalaries[[#This Row],[PPP Adjusted  USD]]/VLOOKUP(Dashboard!$J$5,Sheet3!$B$2:$C$31,2,FALSE)))","v":4800},"Data Analysis","Analyst","Bhutan","4 to 6 hours a day",2]
[null,"ID1212",4800,"USD",4800,{"$f":"(tblSalaries[[#This Row],[clean Salary (in local currency)]])*(VLOOKUP(tblSalaries[[#This Row],[Currency]],Sheet3!$A$2:$C$31,3,FALSE))*(VLOOKUP(tblSalaries[[#This Row],[Currency]],Sheet1!$N$4:$Q$186,4,FALSE))","v":4800},{"$f":"IF(Dashboard!$J$5=VLOOKUP(tblSalaries[[#This Row],[Currency]],Sheet3!$A$2:$B$31,2,FALSE),tblSalaries[[#This Row],[clean Salary (in local currency)]],(tblSalaries[[#This Row],[PPP Adjusted  USD]]/VLOOKUP(Dashboard!$J$5,Sheet3!$B$2:$C$31,2,FALSE)))","v":4800},"Financial Analyst","Analyst","India","4 to 6 hours a day",5]
[null,"ID1819",4800,"USD",4800,{"$f":"(tblSalaries[[#This Row],[clean Salary (in local currency)]])*(VLOOKUP(tblSalaries[[#This Row],[Currency]],Sheet3!$A$2:$C$31,3,FALSE))*(VLOOKUP(tblSalaries[[#This Row],[Currency]],Sheet1!$N$4:$Q$186,4,FALSE))","v":4800},{"$f":"IF(Dashboard!$J$5=VLOOKUP(tblSalaries[[#This Row],[Currency]],Sheet3!$A$2:$B$31,2,FALSE),tblSalaries[[#This Row],[clean Salary (in local currency)]],(tblSalaries[[#This Row],[PPP Adjusted  USD]]/VLOOKUP(Dashboard!$J$5,Sheet3!$B$2:$C$31,2,FALSE)))","v":4800},"Sr Executive","Manager","India","All the 8 hours baby, all the 8!",3]
[null,"ID0324",4545,"USD",4545,{"$f":"(tblSalaries[[#This Row],[clean Salary (in local currency)]])*(VLOOKUP(tblSalaries[[#This Row],[Currency]],Sheet3!$A$2:$C$31,3,FALSE))*(VLOOKUP(tblSalaries[[#This Row],[Currency]],Sheet1!$N$4:$Q$186,4,FALSE))","v":4545},{"$f":"IF(Dashboard!$J$5=VLOOKUP(tblSalaries[[#This Row],[Currency]],Sheet3!$A$2:$B$31,2,FALSE),tblSalaries[[#This Row],[clean Salary (in local currency)]],(tblSalaries[[#This Row],[PPP Adjusted  USD]]/VLOOKUP(Dashboard!$J$5,Sheet3!$B$2:$C$31,2,FALSE)))","v":4545},"Supply Processes Analyst","Analyst","Brasil","All the 8 hours baby, all the 8!","Data Not Avaliable"]
[null,"ID0872",4500,"USD",4500,{"$f":"(tblSalaries[[#This Row],[clean Salary (in local currency)]])*(VLOOKUP(tblSalaries[[#This Row],[Currency]],Sheet3!$A$2:$C$31,3,FALSE))*(VLOOKUP(tblSalaries[[#This Row],[Currency]],Sheet1!$N$4:$Q$186,4,FALSE))","v":4500},{"$f":"IF(Dashboard!$J$5=VLOOKUP(tblSalaries[[#This Row],[Currency]],Sheet3!$A$2:$B$31,2,FALSE),tblSalaries[[#This Row],[clean Salary (in local currency)]],(tblSalaries[[#This Row],[PPP Adjusted  USD]]/VLOOKUP(Dashboard!$J$5,Sheet3!$B$2:$C$31,2,FALSE)))","v":4500},"senior associate","Analyst","Indonesia","2 to 3 hours per day",4]
[null,"ID1591",4500,"USD",4500,{"$f":"(tblSalaries[[#This Row],[clean Salary (in local currency)]])*(VLOOKUP(tblSalaries[[#This Row],[Currency]],Sheet3!$A$2:$C$31,3,FALSE))*(VLOOKUP(tblSalaries[[#This Row],[Currency]],Sheet1!$N$4:$Q$186,4,FALSE))","v":4500},{"$f":"IF(Dashboard!$J$5=VLOOKUP(tblSalaries[[#This Row],[Currency]],Sheet3!$A$2:$B$31,2,FALSE),tblSalaries[[#This Row],[clean Salary (in local currency)]],(tblSalaries[[#This Row],[PPP Adjusted  USD]]/VLOOKUP(Dashboard!$J$5,Sheet3!$B$2:$C$31,2,FALSE)))","v":4500},"Assistant Manger Service Quality Assurance","Analyst","Pakistan","4 to 6 hours a day",6]
[null,"ID0783",180000,"PKR",1910.5359690238436,{"$f":"(tblSalaries[[#This Row],[clean Salary (in local currency)]])*(VLOOKUP(tblSalaries[[#This Row],[Currency]],Sheet3!$A$2:$C$31,3,FALSE))*(VLOOKUP(tblSalaries[[#This Row],[Currency]],Sheet1!$N$4:$Q$186,4,FALSE))","v":4433.0502728155043},{"$f":"IF(Dashboard!$J$5=VLOOKUP(tblSalaries[[#This Row],[Currency]],Sheet3!$A$2:$B$31,2,FALSE),tblSalaries[[#This Row],[clean Salary (in local currency)]],(tblSalaries[[#This Row],[PPP Adjusted  USD]]/VLOOKUP(Dashboard!$J$5,Sheet3!$B$2:$C$31,2,FALSE)))","v":4433.0502728155043},"S&D Reporting & Analysis Team Leader","Reporting","Pakistan","All the 8 hours baby, all the 8!",7]
[null,"ID1221",4400,"USD",4400,{"$f":"(tblSalaries[[#This Row],[clean Salary (in local currency)]])*(VLOOKUP(tblSalaries[[#This Row],[Currency]],Sheet3!$A$2:$C$31,3,FALSE))*(VLOOKUP(tblSalaries[[#This Row],[Currency]],Sheet1!$N$4:$Q$186,4,FALSE))","v":4400},{"$f":"IF(Dashboard!$J$5=VLOOKUP(tblSalaries[[#This Row],[Currency]],Sheet3!$A$2:$B$31,2,FALSE),tblSalaries[[#This Row],[clean Salary (in local currency)]],(tblSalaries[[#This Row],[PPP Adjusted  USD]]/VLOOKUP(Dashboard!$J$5,Sheet3!$B$2:$C$31,2,FALSE)))","v":4400},"Manager Corporate Finance","Manager","Latin America","2 to 3 hours per day",5]
[null,"ID1447",4356,"USD",4356,{"$f":"(tblSalaries[[#This Row],[clean Salary (in local currency)]])*(VLOOKUP(tblSalaries[[#This Row],[Currency]],Sheet3!$A$2:$C$31,3,FALSE))*(VLOOKUP(tblSalaries[[#This Row],[Currency]],Sheet1!$N$4:$Q$186,4,FALSE))","v":4356},{"$f":"IF(Dashboard!$J$5=VLOOKUP(tblSalaries[[#This Row],[Currency]],Sheet3!$A$2:$B$31,2,FALSE),tblSalaries[[#This Row],[clean Salary (in local currency)]],(tblSalaries[[#This Row],[PPP Adjusted  USD]]/VLOOKUP(Dashboard!$J$5,Sheet3!$B$2:$C$31,2,FALSE)))","v":4356},"Business Analyst","Analyst","India","4 to 6 hours a day",5]
[null,"ID0054",4320,"USD",4320,{"$f":"(tblSalaries[[#This Row],[clean Salary (in local currency)]])*(VLOOKUP(tblSalaries[[#This Row],[Currency]],Sheet3!$A$2:$C$31,3,FALSE))*(VLOOKUP(tblSalaries[[#This Row],[Currency]],Sheet1!$N$4:$Q$186,4,FALSE))","v":4320},{"$f":"IF(Dashboard!$J$5=VLOOKUP(tblSalaries[[#This Row],[Currency]],Sheet3!$A$2:$B$31,2,FALSE),tblSalaries[[#This Row],[clean Salary (in local currency)]],(tblSalaries[[#This Row],[PPP Adjusted  USD]]/VLOOKUP(Dashboard!$J$5,Sheet3!$B$2:$C$31,2,FALSE)))","v":4320},"Financial Planner","Accountant","India","2 to 3 hours per day","Data Not Avaliable"]
[null,"ID0576",4285,"USD",4285,{"$f":"(tblSalaries[[#This Row],[clean Salary (in local currency)]])*(VLOOKUP(tblSalaries[[#This Row],[Currency]],Sheet3!$A$2:$C$31,3,FALSE))*(VLOOKUP(tblSalaries[[#This Row],[Currency]],Sheet1!$N$4:$Q$186,4,FALSE))","v":4285},{"$f":"IF(Dashboard!$J$5=VLOOKUP(tblSalaries[[#This Row],[Currency]],Sheet3!$A$2:$B$31,2,FALSE),tblSalaries[[#This Row],[clean Salary (in local currency)]],(tblSalaries[[#This Row],[PPP Adjusted  USD]]/VLOOKUP(Dashboard!$J$5,Sheet3!$B$2:$C$31,2,FALSE)))","v":4285},"Assistant","Analyst","India","All the 8 hours baby, all the 8!",6]
[null,"ID0629",4200,"USD",4200,{"$f":"(tblSalaries[[#This Row],[clean Salary (in local currency)]])*(VLOOKUP(tblSalaries[[#This Row],[Currency]],Sheet3!$A$2:$C$31,3,FALSE))*(VLOOKUP(tblSalaries[[#This Row],[Currency]],Sheet1!$N$4:$Q$186,4,FALSE))","v":4200},{"$f":"IF(Dashboard!$J$5=VLOOKUP(tblSalaries[[#This Row],[Currency]],Sheet3!$A$2:$B$31,2,FALSE),tblSalaries[[#This Row],[clean Salary (in local currency)]],(tblSalaries[[#This Row],[PPP Adjusted  USD]]/VLOOKUP(Dashboard!$J$5,Sheet3!$B$2:$C$31,2,FALSE)))","v":4200},"MIS Executive","Reporting","India","All the 8 hours baby, all the 8!",4]
[null,"ID1154",168000,"PKR",1783.166904422254,{"$f":"(tblSalaries[[#This Row],[clean Salary (in local currency)]])*(VLOOKUP(tblSalaries[[#This Row],[Currency]],Sheet3!$A$2:$C$31,3,FALSE))*(VLOOKUP(tblSalaries[[#This Row],[Currency]],Sheet1!$N$4:$Q$186,4,FALSE))","v":4137.5135879611371},{"$f":"IF(Dashboard!$J$5=VLOOKUP(tblSalaries[[#This Row],[Currency]],Sheet3!$A$2:$B$31,2,FALSE),tblSalaries[[#This Row],[clean Salary (in local currency)]],(tblSalaries[[#This Row],[PPP Adjusted  USD]]/VLOOKUP(Dashboard!$J$5,Sheet3!$B$2:$C$31,2,FALSE)))","v":4137.5135879611371},"Accounts Assistant","Accountant","Pakistan","4 to 6 hours a day",10]
[null,"ID1645",4019,"USD",4019,{"$f":"(tblSalaries[[#This Row],[clean Salary (in local currency)]])*(VLOOKUP(tblSalaries[[#This Row],[Currency]],Sheet3!$A$2:$C$31,3,FALSE))*(VLOOKUP(tblSalaries[[#This Row],[Currency]],Sheet1!$N$4:$Q$186,4,FALSE))","v":4019},{"$f":"IF(Dashboard!$J$5=VLOOKUP(tblSalaries[[#This Row],[Currency]],Sheet3!$A$2:$B$31,2,FALSE),tblSalaries[[#This Row],[clean Salary (in local currency)]],(tblSalaries[[#This Row],[PPP Adjusted  USD]]/VLOOKUP(Dashboard!$J$5,Sheet3!$B$2:$C$31,2,FALSE)))","v":4019},"Clinical Intake Specialist","Specialist","Philippines","2 to 3 hours per day",3]
[null,"ID0625",4000,"USD",4000,{"$f":"(tblSalaries[[#This Row],[clean Salary (in local currency)]])*(VLOOKUP(tblSalaries[[#This Row],[Currency]],Sheet3!$A$2:$C$31,3,FALSE))*(VLOOKUP(tblSalaries[[#This Row],[Currency]],Sheet1!$N$4:$Q$186,4,FALSE))","v":4000},{"$f":"IF(Dashboard!$J$5=VLOOKUP(tblSalaries[[#This Row],[Currency]],Sheet3!$A$2:$B$31,2,FALSE),tblSalaries[[#This Row],[clean Salary (in local currency)]],(tblSalaries[[#This Row],[PPP Adjusted  USD]]/VLOOKUP(Dashboard!$J$5,Sheet3!$B$2:$C$31,2,FALSE)))","v":4000},"MIS Executive","Reporting","India","All the 8 hours baby, all the 8!",6]
[null,"ID0647",4000,"USD",4000,{"$f":"(tblSalaries[[#This Row],[clean Salary (in local currency)]])*(VLOOKUP(tblSalaries[[#This Row],[Currency]],Sheet3!$A$2:$C$31,3,FALSE))*(VLOOKUP(tblSalaries[[#This Row],[Currency]],Sheet1!$N$4:$Q$186,4,FALSE))","v":4000},{"$f":"IF(Dashboard!$J$5=VLOOKUP(tblSalaries[[#This Row],[Currency]],Sheet3!$A$2:$B$31,2,FALSE),tblSalaries[[#This Row],[clean Salary (in local currency)]],(tblSalaries[[#This Row],[PPP Adjusted  USD]]/VLOOKUP(Dashboard!$J$5,Sheet3!$B$2:$C$31,2,FALSE)))","v":4000},"MIS Executive","Reporting","India","All the 8 hours baby, all the 8!",4]
[null,"ID0653",4000,"USD",4000,{"$f":"(tblSalaries[[#This Row],[clean Salary (in local currency)]])*(VLOOKUP(tblSalaries[[#This Row],[Currency]],Sheet3!$A$2:$C$31,3,FALSE))*(VLOOKUP(tblSalaries[[#This Row],[Currency]],Sheet1!$N$4:$Q$186,4,FALSE))","v":4000},{"$f":"IF(Dashboard!$J$5=VLOOKUP(tblSalaries[[#This Row],[Currency]],Sheet3!$A$2:$B$31,2,FALSE),tblSalaries[[#This Row],[clean Salary (in local currency)]],(tblSalaries[[#This Row],[PPP Adjusted  USD]]/VLOOKUP(Dashboard!$J$5,Sheet3!$B$2:$C$31,2,FALSE)))","v":4000},"Coordinator","Manager","India","All the 8 hours baby, all the 8!",8]
[null,"ID1479",4000,"USD",4000,{"$f":"(tblSalaries[[#This Row],[clean Salary (in local currency)]])*(VLOOKUP(tblSalaries[[#This Row],[Currency]],Sheet3!$A$2:$C$31,3,FALSE))*(VLOOKUP(tblSalaries[[#This Row],[Currency]],Sheet1!$N$4:$Q$186,4,FALSE))","v":4000},{"$f":"IF(Dashboard!$J$5=VLOOKUP(tblSalaries[[#This Row],[Currency]],Sheet3!$A$2:$B$31,2,FALSE),tblSalaries[[#This Row],[clean Salary (in local currency)]],(tblSalaries[[#This Row],[PPP Adjusted  USD]]/VLOOKUP(Dashboard!$J$5,Sheet3!$B$2:$C$31,2,FALSE)))","v":4000},"M I S Executive","Analyst","India","All the 8 hours baby, all the 8!",6]
[null,"ID1902",4000,"USD",4000,{"$f":"(tblSalaries[[#This Row],[clean Salary (in local currency)]])*(VLOOKUP(tblSalaries[[#This Row],[Currency]],Sheet3!$A$2:$C$31,3,FALSE))*(VLOOKUP(tblSalaries[[#This Row],[Currency]],Sheet1!$N$4:$Q$186,4,FALSE))","v":4000},{"$f":"IF(Dashboard!$J$5=VLOOKUP(tblSalaries[[#This Row],[Currency]],Sheet3!$A$2:$B$31,2,FALSE),tblSalaries[[#This Row],[clean Salary (in local currency)]],(tblSalaries[[#This Row],[PPP Adjusted  USD]]/VLOOKUP(Dashboard!$J$5,Sheet3!$B$2:$C$31,2,FALSE)))","v":4000},"operator","Analyst","India","2 to 3 hours per day",4]
[null,"ID0347",3800,"USD",3800,{"$f":"(tblSalaries[[#This Row],[clean Salary (in local currency)]])*(VLOOKUP(tblSalaries[[#This Row],[Currency]],Sheet3!$A$2:$C$31,3,FALSE))*(VLOOKUP(tblSalaries[[#This Row],[Currency]],Sheet1!$N$4:$Q$186,4,FALSE))","v":3800},{"$f":"IF(Dashboard!$J$5=VLOOKUP(tblSalaries[[#This Row],[Currency]],Sheet3!$A$2:$B$31,2,FALSE),tblSalaries[[#This Row],[clean Salary (in local currency)]],(tblSalaries[[#This Row],[PPP Adjusted  USD]]/VLOOKUP(Dashboard!$J$5,Sheet3!$B$2:$C$31,2,FALSE)))","v":3800},"MIS EXCUTIVE","Reporting","India","4 to 6 hours a day","Data Not Avaliable"]
[null,"ID1795",3600,"USD",3600,{"$f":"(tblSalaries[[#This Row],[clean Salary (in local currency)]])*(VLOOKUP(tblSalaries[[#This Row],[Currency]],Sheet3!$A$2:$C$31,3,FALSE))*(VLOOKUP(tblSalaries[[#This Row],[Currency]],Sheet1!$N$4:$Q$186,4,FALSE))","v":3600},{"$f":"IF(Dashboard!$J$5=VLOOKUP(tblSalaries[[#This Row],[Currency]],Sheet3!$A$2:$B$31,2,FALSE),tblSalaries[[#This Row],[clean Salary (in local currency)]],(tblSalaries[[#This Row],[PPP Adjusted  USD]]/VLOOKUP(Dashboard!$J$5,Sheet3!$B$2:$C$31,2,FALSE)))","v":3600},"Analyst","Analyst","India","4 to 6 hours a day",1]
[null,"ID1014",240000,"LKR",1805.7739622442759,{"$f":"(tblSalaries[[#This Row],[clean Salary (in local currency)]])*(VLOOKUP(tblSalaries[[#This Row],[Currency]],Sheet3!$A$2:$C$31,3,FALSE))*(VLOOKUP(tblSalaries[[#This Row],[Currency]],Sheet1!$N$4:$Q$186,4,FALSE))","v":3561.159206936461},{"$f":"IF(Dashboard!$J$5=VLOOKUP(tblSalaries[[#This Row],[Currency]],Sheet3!$A$2:$B$31,2,FALSE),tblSalaries[[#This Row],[clean Salary (in local currency)]],(tblSalaries[[#This Row],[PPP Adjusted  USD]]/VLOOKUP(Dashboard!$J$5,Sheet3!$B$2:$C$31,2,FALSE)))","v":3561.159206936461},"Management Trainee","Manager","Sri Lanka","4 to 6 hours a day",3]
[null,"ID1105",3500,"USD",3500,{"$f":"(tblSalaries[[#This Row],[clean Salary (in local currency)]])*(VLOOKUP(tblSalaries[[#This Row],[Currency]],Sheet3!$A$2:$C$31,3,FALSE))*(VLOOKUP(tblSalaries[[#This Row],[Currency]],Sheet1!$N$4:$Q$186,4,FALSE))","v":3500},{"$f":"IF(Dashboard!$J$5=VLOOKUP(tblSalaries[[#This Row],[Currency]],Sheet3!$A$2:$B$31,2,FALSE),tblSalaries[[#This Row],[clean Salary (in local currency)]],(tblSalaries[[#This Row],[PPP Adjusted  USD]]/VLOOKUP(Dashboard!$J$5,Sheet3!$B$2:$C$31,2,FALSE)))","v":3500},"OFFICER","Manager","Pakistan","4 to 6 hours a day",4]
[null,"ID0939",3480,"USD",3480,{"$f":"(tblSalaries[[#This Row],[clean Salary (in local currency)]])*(VLOOKUP(tblSalaries[[#This Row],[Currency]],Sheet3!$A$2:$C$31,3,FALSE))*(VLOOKUP(tblSalaries[[#This Row],[Currency]],Sheet1!$N$4:$Q$186,4,FALSE))","v":3480},{"$f":"IF(Dashboard!$J$5=VLOOKUP(tblSalaries[[#This Row],[Currency]],Sheet3!$A$2:$B$31,2,FALSE),tblSalaries[[#This Row],[clean Salary (in local currency)]],(tblSalaries[[#This Row],[PPP Adjusted  USD]]/VLOOKUP(Dashboard!$J$5,Sheet3!$B$2:$C$31,2,FALSE)))","v":3480},"Reconciliation Manager in Textile Mill","Manager","Pakistan","All the 8 hours baby, all the 8!",6]
[null,"ID1652",3360,"USD",3360,{"$f":"(tblSalaries[[#This Row],[clean Salary (in local currency)]])*(VLOOKUP(tblSalaries[[#This Row],[Currency]],Sheet3!$A$2:$C$31,3,FALSE))*(VLOOKUP(tblSalaries[[#This Row],[Currency]],Sheet1!$N$4:$Q$186,4,FALSE))","v":3360},{"$f":"IF(Dashboard!$J$5=VLOOKUP(tblSalaries[[#This Row],[Currency]],Sheet3!$A$2:$B$31,2,FALSE),tblSalaries[[#This Row],[clean Salary (in local currency)]],(tblSalaries[[#This Row],[PPP Adjusted  USD]]/VLOOKUP(Dashboard!$J$5,Sheet3!$B$2:$C$31,2,FALSE)))","v":3360},"service executive","Analyst","India","1 or 2 hours a day",3]
[null,"ID1481",3200,"USD",3200,{"$f":"(tblSalaries[[#This Row],[clean Salary (in local currency)]])*(VLOOKUP(tblSalaries[[#This Row],[Currency]],Sheet3!$A$2:$C$31,3,FALSE))*(VLOOKUP(tblSalaries[[#This Row],[Currency]],Sheet1!$N$4:$Q$186,4,FALSE))","v":3200},{"$f":"IF(Dashboard!$J$5=VLOOKUP(tblSalaries[[#This Row],[Currency]],Sheet3!$A$2:$B$31,2,FALSE),tblSalaries[[#This Row],[clean Salary (in local currency)]],(tblSalaries[[#This Row],[PPP Adjusted  USD]]/VLOOKUP(Dashboard!$J$5,Sheet3!$B$2:$C$31,2,FALSE)))","v":3200},"Regional Business Manager ","Manager","India","All the 8 hours baby, all the 8!",19]
[null,"ID0695",3000,"USD",3000,{"$f":"(tblSalaries[[#This Row],[clean Salary (in local currency)]])*(VLOOKUP(tblSalaries[[#This Row],[Currency]],Sheet3!$A$2:$C$31,3,FALSE))*(VLOOKUP(tblSalaries[[#This Row],[Currency]],Sheet1!$N$4:$Q$186,4,FALSE))","v":3000},{"$f":"IF(Dashboard!$J$5=VLOOKUP(tblSalaries[[#This Row],[Currency]],Sheet3!$A$2:$B$31,2,FALSE),tblSalaries[[#This Row],[clean Salary (in local currency)]],(tblSalaries[[#This Row],[PPP Adjusted  USD]]/VLOOKUP(Dashboard!$J$5,Sheet3!$B$2:$C$31,2,FALSE)))","v":3000},"Call Centre Consultant","Consultant","Cambodia","2 to 3 hours per day",2]
[null,"ID0859",3000,"USD",3000,{"$f":"(tblSalaries[[#This Row],[clean Salary (in local currency)]])*(VLOOKUP(tblSalaries[[#This Row],[Currency]],Sheet3!$A$2:$C$31,3,FALSE))*(VLOOKUP(tblSalaries[[#This Row],[Currency]],Sheet1!$N$4:$Q$186,4,FALSE))","v":3000},{"$f":"IF(Dashboard!$J$5=VLOOKUP(tblSalaries[[#This Row],[Currency]],Sheet3!$A$2:$B$31,2,FALSE),tblSalaries[[#This Row],[clean Salary (in local currency)]],(tblSalaries[[#This Row],[PPP Adjusted  USD]]/VLOOKUP(Dashboard!$J$5,Sheet3!$B$2:$C$31,2,FALSE)))","v":3000},"Statistical Analyst","Analyst","Pakistan","2 to 3 hours per day",2]
[null,"ID1317",3000,"USD",3000,{"$f":"(tblSalaries[[#This Row],[clean Salary (in local currency)]])*(VLOOKUP(tblSalaries[[#This Row],[Currency]],Sheet3!$A$2:$C$31,3,FALSE))*(VLOOKUP(tblSalaries[[#This Row],[Currency]],Sheet1!$N$4:$Q$186,4,FALSE))","v":3000},{"$f":"IF(Dashboard!$J$5=VLOOKUP(tblSalaries[[#This Row],[Currency]],Sheet3!$A$2:$B$31,2,FALSE),tblSalaries[[#This Row],[clean Salary (in local currency)]],(tblSalaries[[#This Row],[PPP Adjusted  USD]]/VLOOKUP(Dashboard!$J$5,Sheet3!$B$2:$C$31,2,FALSE)))","v":3000},"FANANCE","Accountant","Sri Lanka","4 to 6 hours a day",2]
[null,"ID1792",3000,"USD",3000,{"$f":"(tblSalaries[[#This Row],[clean Salary (in local currency)]])*(VLOOKUP(tblSalaries[[#This Row],[Currency]],Sheet3!$A$2:$C$31,3,FALSE))*(VLOOKUP(tblSalaries[[#This Row],[Currency]],Sheet1!$N$4:$Q$186,4,FALSE))","v":3000},{"$f":"IF(Dashboard!$J$5=VLOOKUP(tblSalaries[[#This Row],[Currency]],Sheet3!$A$2:$B$31,2,FALSE),tblSalaries[[#This Row],[clean Salary (in local currency)]],(tblSalaries[[#This Row],[PPP Adjusted  USD]]/VLOOKUP(Dashboard!$J$5,Sheet3!$B$2:$C$31,2,FALSE)))","v":3000},"executive","Analyst","Bangladesh","1 or 2 hours a day",12]
[null,"ID1050",2400,"USD",2400,{"$f":"(tblSalaries[[#This Row],[clean Salary (in local currency)]])*(VLOOKUP(tblSalaries[[#This Row],[Currency]],Sheet3!$A$2:$C$31,3,FALSE))*(VLOOKUP(tblSalaries[[#This Row],[Currency]],Sheet1!$N$4:$Q$186,4,FALSE))","v":2400},{"$f":"IF(Dashboard!$J$5=VLOOKUP(tblSalaries[[#This Row],[Currency]],Sheet3!$A$2:$B$31,2,FALSE),tblSalaries[[#This Row],[clean Salary (in local currency)]],(tblSalaries[[#This Row],[PPP Adjusted  USD]]/VLOOKUP(Dashboard!$J$5,Sheet3!$B$2:$C$31,2,FALSE)))","v":2400},"Accounts Officer","Accountant","Pakistan","2 to 3 hours per day",15]
[null,"ID1791",2400,"USD",2400,{"$f":"(tblSalaries[[#This Row],[clean Salary (in local currency)]])*(VLOOKUP(tblSalaries[[#This Row],[Currency]],Sheet3!$A$2:$C$31,3,FALSE))*(VLOOKUP(tblSalaries[[#This Row],[Currency]],Sheet1!$N$4:$Q$186,4,FALSE))","v":2400},{"$f":"IF(Dashboard!$J$5=VLOOKUP(tblSalaries[[#This Row],[Currency]],Sheet3!$A$2:$B$31,2,FALSE),tblSalaries[[#This Row],[clean Salary (in local currency)]],(tblSalaries[[#This Row],[PPP Adjusted  USD]]/VLOOKUP(Dashboard!$J$5,Sheet3!$B$2:$C$31,2,FALSE)))","v":2400},"computer operator","Analyst","India","2 to 3 hours per day",3]
[null,"ID0593",96000,"CNY",15092.18020692008,{"$f":"(tblSalaries[[#This Row],[clean Salary (in local currency)]])*(VLOOKUP(tblSalaries[[#This Row],[Currency]],Sheet3!$A$2:$C$31,3,FALSE))*(VLOOKUP(tblSalaries[[#This Row],[Currency]],Sheet1!$N$4:$Q$186,4,FALSE))","v":2336.773068872194},{"$f":"IF(Dashboard!$J$5=VLOOKUP(tblSalaries[[#This Row],[Currency]],Sheet3!$A$2:$B$31,2,FALSE),tblSalaries[[#This Row],[clean Salary (in local currency)]],(tblSalaries[[#This Row],[PPP Adjusted  USD]]/VLOOKUP(Dashboard!$J$5,Sheet3!$B$2:$C$31,2,FALSE)))","v":2336.773068872194},"finance","Accountant","china","4 to 6 hours a day",10]
[]
[]
[]
[]
[]
[null,"Median"]
[]
[null,"Job Title","Salary","Count","Job Title",null,"Country","Count ","1 or 2 hours a day","2 to 3 hours per day","4 to 6 hours a day","All the 8 hours baby, all the 8!","Excel ?!? What Excel?"]
[null,"Accountant",{"$f":"MEDIAN(IF(I13:I1888=B1897,G13:G1888))","v":44026.115439202084},{"$f":"COUNTIF($I$13:$I$1888,B1897)","v":135},"Accountant",null,"USA",{"$f":"COUNTIF($J$13:$J$1888,G1897)","v":617},{"$f":"COUNTIFS($J$13:$J$1888,G1897,$K$13:$K$1888,$I$1896)","v":43},{"$f":"COUNTIFS($J$13:$J$1888,G1897,$K$13:$K$1888,$J$1896)","v":155},{"$f":"COUNTIFS($J$13:$J$1888,G1897,$K$13:$K$1888,$K$1896)","v":282},{"$f":"COUNTIFS($J$13:$J$1888,G1897,$K$13:$K$1888,$L$1896)","v":134},{"$f":"COUNTIFS($J$13:$J$1888,G1897,$K$13:$K$1888,$M$1896)","v":3}]
[null,"Analyst",{"$f":"MEDIAN(IF(I13:I1888=B1898,G13:G1888))","v":44219.136149412829},{"$f":"COUNTIF($I$13:$I$1888,B1898)","v":740},"Analyst",null,"India",{"$f":"COUNTIF($J$13:$J$1888,G1898)","v":565},{"$f":"COUNTIFS($J$13:$J$1888,G1898,$K$13:$K$1888,$I$1896)","v":62},{"$f":"COUNTIFS($J$13:$J$1888,G1898,$K$13:$K$1888,$J$1896)","v":136},{"$f":"COUNTIFS($J$13:$J$1888,G1898,$K$13:$K$1888,$K$1896)","v":202},{"$f":"COUNTIFS($J$13:$J$1888,G1898,$K$13:$K$1888,$L$1896)","v":163},{"$f":"COUNTIFS($J$13:$J$1888,G1898,$K$13:$K$1888,$M$1896)","v":2}]
[null,"Consultant",{"$f":"MEDIAN(IF(I13:I1888=B1899,G13:G1888))","v":52957.337917782628},{"$f":"COUNTIF($I$13:$I$1888,B1899)","v":90},"Consultant",null,"UK",{"$f":"COUNTIF($J$13:$J$1888,G1899)","v":154},8,40,69,36,1]
[null,"Controller",{"$f":"MEDIAN(IF(I13:I1888=B1900,G13:G1888))","v":55032.644299002604},{"$f":"COUNTIF($I$13:$I$1888,B1900)","v":67},"Controller",null,"Australia",{"$f":"COUNTIF($J$13:$J$1888,G1900)","v":81},10,26,34,11,0]
[null,"CXO or Top Mgmt.",{"$f":"MEDIAN(IF(I13:I1888=B1901,G13:G1888))","v":95000},{"$f":"COUNTIF($I$13:$I$1888,B1901)","v":75},"CXO or Top Mgmt.",null,"Canada",{"$f":"COUNTIF($J$13:$J$1888,G1901)","v":58},7,13,25,12,1]
[null,"Engineer",{"$f":"MEDIAN(IF(I13:I1888=B1902,G13:G1888))","v":45409.937839787694},{"$f":"COUNTIF($I$13:$I$1888,B1902)","v":74},"Engineer",null,"Pakistan",{"$f":"COUNTIF($J$13:$J$1888,G1902)","v":29},2,5,13,9,0]
[null,"Manager",{"$f":"MEDIAN(IF(I13:I1888=B1903,G13:G1888))","v":43934.992036951386},{"$f":"COUNTIF($I$13:$I$1888,B1903)","v":554},"Manager",null,"Netherlands",{"$f":"COUNTIF($J$13:$J$1888,G1903)","v":23},4,3,11,5,0]
[null,"Misc.",{"$f":"MEDIAN(IF(I13:I1888=B1904,G13:G1888))","v":74461},{"$f":"COUNTIF($I$13:$I$1888,B1904)","v":7},"Misc.",null,"South Africa",{"$f":"COUNTIF($J$13:$J$1888,G1904)","v":19},0,2,9,8,0]
[null,"Reporting",{"$f":"MEDIAN(IF(I13:I1888=B1905,G13:G1888))","v":13071.642168240774},{"$f":"COUNTIF($I$13:$I$1888,B1905)","v":83},"Reporting",null,"UAE",{"$f":"COUNTIF($J$13:$J$1888,G1905)","v":19},1,6,7,5,0]
[null,"Specialist",{"$f":"MEDIAN(IF(I13:I1888=B1906,G13:G1888))","v":47361.022348698454},{"$f":"COUNTIF($I$13:$I$1888,B1906)","v":51},"Specialist",null,"Brazil",{"$f":"COUNTIF($J$13:$J$1888,G1906)","v":17},4,1,5,7,0]
[null,null,null,null,"All",null,"Germany",{"$f":"COUNTIF($J$13:$J$1888,G1907)","v":17},4,5,3,5,0]
[null,null,null,null,null,null,"New Zealand",{"$f":"COUNTIF($J$13:$J$1888,G1908)","v":15},0,3,9,3,0]
[null,null,null,null,null,null,"Singapore",{"$f":"COUNTIF($J$13:$J$1888,G1909)","v":12},2,2,2,6,0]
[null,null,null,null,null,null,"Philippines",{"$f":"COUNTIF($J$13:$J$1888,G1910)","v":11},0,2,7,2,0]
[null,null,null,null,null,null,"Saudi Arabia",{"$f":"COUNTIF($J$13:$J$1888,G1911)","v":11},0,1,6,4,0]
[null,null,null,"USA",134,null,"Mexico",{"$f":"COUNTIF($J$13:$J$1888,G1912)","v":10},0,0,5,5,0]
[null,null,null,"India",163,null,"Portugal",{"$f":"COUNTIF($J$13:$J$1888,G1913)","v":10},1,3,4,2,0]
[null,null,null,"UK",36,null,"Spain",{"$f":"COUNTIF($J$13:$J$1888,G1914)","v":10},2,3,4,1,0]
[null,null,null,"Australia",11,null,"Russia",{"$f":"COUNTIF($J$13:$J$1888,G1915)","v":9},0,1,4,4,0]
[null,null,null,"Canada",12,null,"Indonesia",{"$f":"COUNTIF($J$13:$J$1888,G1916)","v":8},1,4,3,0,0]
[null,null,null,null,null,null,"malaysia",{"$f":"COUNTIF($J$13:$J$1888,G1917)","v":7},2,1,3,1,0]
[null,null,null,null,null,null,"Norway",{"$f":"COUNTIF($J$13:$J$1888,G1918)","v":7},1,1,3,2,0]
[null,"Median Pay for Excle Usage",null,null,null,null,"Denmark",{"$f":"COUNTIF($J$13:$J$1888,G1919)","v":6},1,2,2,1,0]
[null,"No of Hours","Median Pay",null,null,null,"France",{"$f":"COUNTIF($J$13:$J$1888,G1920)","v":6},0,1,4,1,0]
[null,"1 or 2 hours a day",{"$f":"MEDIAN(IF($K$13:$K$1888=$B1921,$G$13:$G$1888))","v":42624.920113828608},null,null,null,"italy",{"$f":"COUNTIF($J$13:$J$1888,G1921)","v":6},0,1,3,2,0]
[null,"2 to 3 hours per day",{"$f":"MEDIAN(IF($K$13:$K$1888=$B1922,$G$13:$G$1888))","v":47939.20027006614},null,null,null,"Poland",{"$f":"COUNTIF($J$13:$J$1888,G1922)","v":6},0,2,3,1,0]
[null,"4 to 6 hours a day",{"$f":"MEDIAN(IF($K$13:$K$1888=$B1923,$G$13:$G$1888))","v":45616},null,null,null,"Romania",{"$f":"COUNTIF($J$13:$J$1888,G1923)","v":6},1,2,1,2,0]
[null,"All the 8 hours baby, all the 8!",{"$f":"MEDIAN(IF($K$13:$K$1888=$B1924,$G$13:$G$1888))","v":38594.425504650913},null,null,null,"Colombia",{"$f":"COUNTIF($J$13:$J$1888,G1924)","v":5},2,0,1,2,0]
[null,"Excel ?!? What Excel?",{"$f":"MEDIAN(IF($K$13:$K$1888=$B1925,$G$13:$G$1888))","v":47426.772192140677},null,null,null,"Europe",{"$f":"COUNTIF($J$13:$J$1888,G1925)","v":5},1,2,2,0,0]
[null,null,null,null,null,null,"Hungary",{"$f":"COUNTIF($J$13:$J$1888,G1926)","v":5},0,1,3,1,0]
[null,null,null,null,null,null,"Ireland",{"$f":"COUNTIF($J$13:$J$1888,G1927)","v":5},0,3,1,1,0]
[null,null,null,null,null,null,"Israel",{"$f":"COUNTIF($J$13:$J$1888,G1928)","v":5},0,1,3,1,0]
[null,null,null,null,null,null,"Sri Lanka",{"$f":"COUNTIF($J$13:$J$1888,G1929)","v":5},0,0,3,2,0]
[null,null,null,null,null,null,"Belgium",{"$f":"COUNTIF($J$13:$J$1888,G1930)","v":4},1,1,2,0,0]
[null,null,null,null,null,null,"Dubai",{"$f":"COUNTIF($J$13:$J$1888,G1931)","v":4},2,0,2,0,0]
[null,null,null,null,null,null,"Switzerland",{"$f":"COUNTIF($J$13:$J$1888,G1932)","v":4},1,1,1,1,0]
[null,null,null,null,null,null,"Ukraine",{"$f":"COUNTIF($J$13:$J$1888,G1933)","v":4},1,1,1,1,0]
[null,null,null,null,null,null,"Brasil",{"$f":"COUNTIF($J$13:$J$1888,G1934)","v":3},0,0,0,3,0]
[null,null,null,null,null,null,"Croatia",{"$f":"COUNTIF($J$13:$J$1888,G1935)","v":3},1,1,0,1,0]
[null,null,null,null,null,null,"Finland",{"$f":"COUNTIF($J$13:$J$1888,G1936)","v":3},1,0,0,2,0]
[null,null,null,null,null,null,"Greece",{"$f":"COUNTIF($J$13:$J$1888,G1937)","v":3},1,0,1,1,0]
[null,null,null,null,null,null,"iran",{"$f":"COUNTIF($J$13:$J$1888,G1938)","v":3},0,2,1,0,0]
[null,null,null,null,null,null,"Japan",{"$f":"COUNTIF($J$13:$J$1888,G1939)","v":3},0,1,1,1,0]
[null,null,null,null,null,null,"Kuwait",{"$f":"COUNTIF($J$13:$J$1888,G1940)","v":3},0,1,1,1,0]
[null,null,null,null,null,null,"Qatar",{"$f":"COUNTIF($J$13:$J$1888,G1941)","v":3},0,2,0,1,0]
[null,null,null,null,null,null,"Bangladesh",{"$f":"COUNTIF($J$13:$J$1888,G1942)","v":2},1,1,0,0,0]
[null,null,null,null,null,null,"CEE",{"$f":"COUNTIF($J$13:$J$1888,G1943)","v":2},0,1,0,1,0]
[null,null,null,null,null,null,"china",{"$f":"COUNTIF($J$13:$J$1888,G1944)","v":2},0,0,2,0,0]
[null,null,null,null,null,null,"Myanmar",{"$f":"COUNTIF($J$13:$J$1888,G1945)","v":2},1,0,1,0,0]
[null,null,null,null,null,null,"Panama",{"$f":"COUNTIF($J$13:$J$1888,G1946)","v":2},0,1,0,1,0]
[null,null,null,null,null,null,"Sweden",{"$f":"COUNTIF($J$13:$J$1888,G1947)","v":2},1,1,0,0,0]
[null,null,null,null,null,null,"Thailand",{"$f":"COUNTIF($J$13:$J$1888,G1948)","v":2},0,0,1,1,0]
[null,null,null,null,null,null,"Turkey",{"$f":"COUNTIF($J$13:$J$1888,G1949)","v":2},0,1,1,0,0]
[null,null,null,null,null,null,"Zambia",{"$f":"COUNTIF($J$13:$J$1888,G1950)","v":2},0,0,0,2,0]
[null,null,null,null,null,null,"Albania",{"$f":"COUNTIF($J$13:$J$1888,G1951)","v":1},0,0,1,0,0]
[null,null,null,null,null,null,"arabian Gulf",{"$f":"COUNTIF($J$13:$J$1888,G1952)","v":1},1,0,0,0,0]
[null,null,null,null,null,null,"Argentina",{"$f":"COUNTIF($J$13:$J$1888,G1953)","v":1},0,0,1,0,0]
[null,null,null,null,null,null,"Armenia",{"$f":"COUNTIF($J$13:$J$1888,G1954)","v":1},0,0,0,1,0]
[null,null,null,null,null,null,"Aruba",{"$f":"COUNTIF($J$13:$J$1888,G1955)","v":1},1,0,0,0,0]
[null,null,null,null,null,null,"Asia",{"$f":"COUNTIF($J$13:$J$1888,G1956)","v":1},0,0,0,1,0]
[null,null,null,null,null,null,"Austria",{"$f":"COUNTIF($J$13:$J$1888,G1957)","v":1},0,0,1,0,0]
[null,null,null,null,null,null,"Azerbaijan",{"$f":"COUNTIF($J$13:$J$1888,G1958)","v":1},0,0,1,0,0]
[null,null,null,null,null,null,"Baltic",{"$f":"COUNTIF($J$13:$J$1888,G1959)","v":1},0,0,0,1,0]
[null,null,null,null,null,null,"Bermuda",{"$f":"COUNTIF($J$13:$J$1888,G1960)","v":1},0,0,1,0,0]
[null,null,null,null,null,null,"Bhutan",{"$f":"COUNTIF($J$13:$J$1888,G1961)","v":1},0,0,1,0,0]
[null,null,null,null,null,null,"Bolivia",{"$f":"COUNTIF($J$13:$J$1888,G1962)","v":1},{"$f":"COUNTIFS($J$13:$J$1888,G1962,$K$13:$K$1888,$I$1896)","v":0},{"$f":"COUNTIFS($J$13:$J$1888,G1962,$K$13:$K$1888,$J$1896)","v":0},{"$f":"COUNTIFS($J$13:$J$1888,G1962,$K$13:$K$1888,$K$1896)","v":0},{"$f":"COUNTIFS($J$13:$J$1888,G1962,$K$13:$K$1888,$L$1896)","v":1},{"$f":"COUNTIFS($J$13:$J$1888,G1962,$K$13:$K$1888,$M$1896)","v":0}]
[null,null,null,null,null,null,"Bulgaria",{"$f":"COUNTIF($J$13:$J$1888,G1963)","v":1},0,0,0,1,0]
[null,null,null,null,null,null,"Cambodia",{"$f":"COUNTIF($J$13:$J$1888,G1964)","v":1},0,1,0,0,0]
[null,null,null,null,null,null,"Central America",{"$f":"COUNTIF($J$13:$J$1888,G1965)","v":1},0,1,0,0,0]
[null,null,null,null,null,null,"Czech Republic",{"$f":"COUNTIF($J$13:$J$1888,G1966)","v":1},0,1,0,0,0]
[null,null,null,null,null,null,"Dominican Republic",{"$f":"COUNTIF($J$13:$J$1888,G1967)","v":1},0,0,0,1,0]
[null,null,null,null,null,null,"Estonia",{"$f":"COUNTIF($J$13:$J$1888,G1968)","v":1},0,0,0,1,0]
[null,null,null,null,null,null,"Ethiopia",{"$f":"COUNTIF($J$13:$J$1888,G1969)","v":1},0,0,1,0,0]
[null,null,null,null,null,null,"Ghana",{"$f":"COUNTIF($J$13:$J$1888,G1970)","v":1},0,0,1,0,0]
[null,null,null,null,null,null,"Guyana",{"$f":"COUNTIF($J$13:$J$1888,G1971)","v":1},1,0,0,0,0]
[null,null,null,null,null,null,"Hong Kong",{"$f":"COUNTIF($J$13:$J$1888,G1972)","v":1},1,0,0,0,0]
[null,null,null,null,null,null,"Iceland",{"$f":"COUNTIF($J$13:$J$1888,G1973)","v":1},0,0,0,1,0]
[null,null,null,null,null,null,"Kuwait ",{"$f":"COUNTIF($J$13:$J$1888,G1974)","v":1},0,0,1,0,0]
[null,null,null,null,null,null,"Latin America",{"$f":"COUNTIF($J$13:$J$1888,G1975)","v":1},0,1,0,0,0]
[null,null,null,null,null,null,"Lesotho",{"$f":"COUNTIF($J$13:$J$1888,G1976)","v":1},0,0,1,0,0]
[null,null,null,null,null,null,"Libya",{"$f":"COUNTIF($J$13:$J$1888,G1977)","v":1},0,0,0,1,0]
[null,null,null,null,null,null,"Lithuania",{"$f":"COUNTIF($J$13:$J$1888,G1978)","v":1},0,0,1,0,0]
[null,null,null,null,null,null,"Mauritius",{"$f":"COUNTIF($J$13:$J$1888,G1979)","v":1},0,0,1,0,0]
[null,null,null,null,null,null,"Montenegro",{"$f":"COUNTIF($J$13:$J$1888,G1980)","v":1},0,0,1,0,0]
[null,null,null,null,null,null,"Morocco",{"$f":"COUNTIF($J$13:$J$1888,G1981)","v":1},0,0,0,1,0]
[null,null,null,null,null,null,"mozambique",{"$f":"COUNTIF($J$13:$J$1888,G1982)","v":1},0,1,0,0,0]
[null,null,null,null,null,null,"MYS",{"$f":"COUNTIF($J$13:$J$1888,G1983)","v":1},0,1,0,0,0]
[null,null,null,null,null,null,"Nigeria",{"$f":"COUNTIF($J$13:$J$1888,G1984)","v":1},0,0,0,1,0]
[null,null,null,null,null,null,"Oman",{"$f":"COUNTIF($J$13:$J$1888,G1985)","v":1},0,0,1,0,0]
[null,null,null,null,null,null,"Paraguay",{"$f":"COUNTIF($J$13:$J$1888,G1986)","v":1},0,0,0,1,0]
[null,null,null,null,null,null,"Peru",{"$f":"COUNTIF($J$13:$J$1888,G1987)","v":1},0,0,0,1,0]
[null,null,null,null,null,null,"Republic of Georgia",{"$f":"COUNTIF($J$13:$J$1888,G1988)","v":1},0,0,1,0,0]
[null,null,null,null,null,null,"Republica Dominicana",{"$f":"COUNTIF($J$13:$J$1888,G1989)","v":1},0,0,0,1,0]
[null,null,null,null,null,null,"self-employed",{"$f":"COUNTIF($J$13:$J$1888,G1990)","v":1},0,0,1,0,0]
[null,null,null,null,null,null,"Slovakia",{"$f":"COUNTIF($J$13:$J$1888,G1991)","v":1},0,0,0,1,0]
[null,null,null,null,null,null,"Slovenia",{"$f":"COUNTIF($J$13:$J$1888,G1992)","v":1},0,0,1,0,0]
[null,null,null,null,null,null,"Somalia",{"$f":"COUNTIF($J$13:$J$1888,G1993)","v":1},0,0,1,0,0]
[null,null,null,null,null,null,"Tunisia",{"$f":"COUNTIF($J$13:$J$1888,G1994)","v":1},0,0,1,0,0]
[null,null,null,null,null,null,"Uganda",{"$f":"COUNTIF($J$13:$J$1888,G1995)","v":1},0,0,1,0,0]
[null,null,null,null,null,null,"Uruguay",{"$f":"COUNTIF($J$13:$J$1888,G1996)","v":1},0,0,0,1,0]
[null,null,null,null,null,null,"Viet Nam",{"$f":"COUNTIF($J$13:$J$1888,G1997)","v":1},0,0,1,0,0]
[null,null,null,null,null,null,"Vietnam",{"$f":"COUNTIF($J$13:$J$1888,G1998)","v":1},0,1,0,0,0]
[null,null,null,null,null,null,"Zimbabwe",{"$f":"COUNTIF($J$13:$J$1888,G1999)","v":1},0,0,1,0,0]
[null,null,null,null,null,null,"Costa Rica",{"$f":"COUNTIF($J$13:$J$1888,G2000)","v":0},0,0,0,0,0]
[null,null,null,null,null,null,"Egypt",{"$f":"COUNTIF($J$13:$J$1888,G2001)","v":0},0,0,0,0,0]
[null,null,null,null,null,null,"Kenya",{"$f":"COUNTIF($J$13:$J$1888,G2002)","v":0},0,0,0,0,0]
[null,null,null,null,null,null,"Mongolia",{"$f":"COUNTIF($J$13:$J$1888,G2003)","v":0},0,0,0,0,0]