{"text_format":"1","workbook":"xlsx","n_sheets":4,"sheets":["Viz","Calc","Data","xyData"],"not_rendered":{"charts":10,"images":0,"macros":1,"external_links":1,"defined_names":26,"comments":0,"pivot_tables":0},"unopened":[],"bounds":{"document_bytes":16777216,"sheet_cells":100000,"rows_first":2000,"rows_last":500,"rows_between":2000,"halvings":0,"cell_chars":16384,"cell_head_chars":4096},"cells_cut":0,"cells_raw":0,"read":"whole","date_system":"1900"}

{"sheet":"Viz","index":0,"n_rows":48,"n_cols":13,"rows_kept":48,"cut":false,"hidden":false,"merged":[]}
[]
[null,"Clickable",null,"Average Salary in USD",null,null,"Average Years Experience",null,null,null,"Average Excel Hours per Day"]
[]
[]
[null,"Oceana"]
[null,"North America"]
[null,"Europe"]
[null,"Africa"]
[null,"Middle East"]
[null,"South America"]
[null,"Asia"]
[null,"All Regions"]
[null,null,"* South America includes Central America and The Caribbean"]
[]
[]
[null,"Top Mgmt"]
[null,"Controllers"]
[null,"Consultants"]
[null,"Specialists"]
[null,"Engineers"]
[null,"Managers"]
[null,"Analysts"]
[null,"Accountants"]
[null,"Miscellaneous"]
[null,"Reporting"]
[null,"All Jobs"]
[]
[null,"All versus",{"$f":"region_filter&\", \"&job_filter","v":"North America, Analysts"},null,null,null,null,null,null,null,null,null,"Click the names of the regions and job types above to filter the information below"]
[]
[null,"Salary vs Experience",null,null,null,"Salary Distribution (by thousands USD)",null,null,null,"Statistics for "]
[]
[null,"Years Experience",null,null,null,null,null,null,null,{"$f":"C28","v":"North America, Analysts"}]
[null,null,null,null,null,null,null,null,null,"Respondent Count",null,null,{"$f":"SUBTOTAL(3,Table2[Salary in USD])","v":329}]
[null,null,null,null,null,null,null,null,null,"Average Experience",null,null,{"$f":"IFERROR(TEXT(SUBTOTAL(1,Table2[Years of Experience]),\"0.0\")& \" Years\",\"n/a\")","v":"8.8 Years"}]
[null,null,null,null,null,null,null,null,null,"Average Excel/Day",null,null,{"$f":"IFERROR(TEXT(SUBTOTAL(1,Table2[Hours]),\"0.0\")& \" Hours\",\"n/a\")","v":"5.1 Hours"}]
[null,null,null,null,null,null,null,null,null,"Average Salary",null,null,{"$f":"IFERROR(SUBTOTAL(1,Table2[Salary in USD]),\"n/a\")","v":62637.349184293482}]
[null,null,null,null,null,null,null,null,null,"Top Salary",null,null,{"$f":"IFERROR(SUBTOTAL(4,Table2[Salary in USD]),\"n/a\")","v":245840.3807575817}]
[null,null,null,null,null,null,null,null,null,"Bottom Salary",null,null,{"$f":"IFERROR(SUBTOTAL(5,Table2[Salary in USD]),\"n/a\")","v":10000}]
[]
[null,null,null,null,null,"Experience Distribution (by years)",null,null,null,"Excel per Day Distribution (by hours)"]
[]
[]
[]
[]
[]
[]
[]
[null,"       Salary in USD"]

{"sheet":"Calc","index":1,"n_rows":78,"n_cols":10,"rows_kept":78,"cut":false,"hidden":false,"merged":[]}
[]
[null,null,null,"Salary","Hours",null,"Experience",null,"Salary","Hours"]
[null,"Region","n","avg","avg","exp n","avg",null,"median","median"]
[null,"Oceana",{"$f":"COUNTIF(Data!$C$2:$C$1884,$B4)","v":96},{"$f":"SUMIF(Data!$C$2:$C$1884,$B4,Data!$D$2:$D$1884)/C4","v":89331.05565369704},{"$f":"SUMIF(Data!$C$2:$C$1884,$B4,Data!$E$2:$E$1884)/C4","v":4.317708333333333},{"$f":"COUNTIFS(Data!$C$2:$C$1884,$B4,Data!$F$2:$F$1884,\">0\")","v":89},{"$f":"SUMIF(Data!$C$2:$C$1884,$B4,Data!$F$2:$F$1884)/F4","v":10.488764044943821},null,{"$f":"MEDIAN(IF(Data!$C$2:$C$1884=$B4,Data!$D$2:$D$1884))","v":86692.320794224041},{"$f":"MEDIAN(IF(Data!$C$2:$C$1884=$B4,Data!$E$2:$E$1884))","v":5}]
[null,"North America",{"$f":"COUNTIF(Data!$C$2:$C$1884,$B5)","v":677},{"$f":"SUMIF(Data!$C$2:$C$1884,$B5,Data!$D$2:$D$1884)/C5","v":72539.906429461393},{"$f":"SUMIF(Data!$C$2:$C$1884,$B5,Data!$E$2:$E$1884)/C5","v":4.738552437223043},{"$f":"COUNTIFS(Data!$C$2:$C$1884,$B5,Data!$F$2:$F$1884,\">0\")","v":362},{"$f":"SUMIF(Data!$C$2:$C$1884,$B5,Data!$F$2:$F$1884)/F5","v":10.218232044198896},null,{"$f":"MEDIAN(IF(Data!$C$2:$C$1884=$B5,Data!$D$2:$D$1884))","v":65000},{"$f":"MEDIAN(IF(Data!$C$2:$C$1884=$B5,Data!$E$2:$E$1884))","v":5}]
[null,"Europe",{"$f":"COUNTIF(Data!$C$2:$C$1884,$B6)","v":313},{"$f":"SUMIF(Data!$C$2:$C$1884,$B6,Data!$D$2:$D$1884)/C6","v":63084.83295606621},{"$f":"SUMIF(Data!$C$2:$C$1884,$B6,Data!$E$2:$E$1884)/C6","v":4.7539936102236418},{"$f":"COUNTIFS(Data!$C$2:$C$1884,$B6,Data!$F$2:$F$1884,\">0\")","v":224},{"$f":"SUMIF(Data!$C$2:$C$1884,$B6,Data!$F$2:$F$1884)/F6","v":10.345089285714286},null,{"$f":"MEDIAN(IF(Data!$C$2:$C$1884=$B6,Data!$D$2:$D$1884))","v":53590.061250287661},{"$f":"MEDIAN(IF(Data!$C$2:$C$1884=$B6,Data!$E$2:$E$1884))","v":5}]
[null,"Africa",{"$f":"COUNTIF(Data!$C$2:$C$1884,$B7)","v":37},{"$f":"SUMIF(Data!$C$2:$C$1884,$B7,Data!$D$2:$D$1884)/C7","v":42575.940660978296},{"$f":"SUMIF(Data!$C$2:$C$1884,$B7,Data!$E$2:$E$1884)/C7","v":5.8648648648648649},{"$f":"COUNTIFS(Data!$C$2:$C$1884,$B7,Data!$F$2:$F$1884,\">0\")","v":31},{"$f":"SUMIF(Data!$C$2:$C$1884,$B7,Data!$F$2:$F$1884)/F7","v":9.8387096774193541},null,{"$f":"MEDIAN(IF(Data!$C$2:$C$1884=$B7,Data!$D$2:$D$1884))","v":24864},{"$f":"MEDIAN(IF(Data!$C$2:$C$1884=$B7,Data!$E$2:$E$1884))","v":5}]
[null,"Middle East",{"$f":"COUNTIF(Data!$C$2:$C$1884,$B8)","v":51},{"$f":"SUMIF(Data!$C$2:$C$1884,$B8,Data!$D$2:$D$1884)/C8","v":42213.809288841891},{"$f":"SUMIF(Data!$C$2:$C$1884,$B8,Data!$E$2:$E$1884)/C8","v":4.7941176470588234},{"$f":"COUNTIFS(Data!$C$2:$C$1884,$B8,Data!$F$2:$F$1884,\">0\")","v":39},{"$f":"SUMIF(Data!$C$2:$C$1884,$B8,Data!$F$2:$F$1884)/F8","v":10.320512820512821},null,{"$f":"MEDIAN(IF(Data!$C$2:$C$1884=$B8,Data!$D$2:$D$1884))","v":36000},{"$f":"MEDIAN(IF(Data!$C$2:$C$1884=$B8,Data!$E$2:$E$1884))","v":5}]
[null,"South America",{"$f":"COUNTIF(Data!$C$2:$C$1884,$B9)","v":49},{"$f":"SUMIF(Data!$C$2:$C$1884,$B9,Data!$D$2:$D$1884)/C9","v":32472.217927323851},{"$f":"SUMIF(Data!$C$2:$C$1884,$B9,Data!$E$2:$E$1884)/C9","v":5.7551020408163263},{"$f":"COUNTIFS(Data!$C$2:$C$1884,$B9,Data!$F$2:$F$1884,\">0\")","v":28},{"$f":"SUMIF(Data!$C$2:$C$1884,$B9,Data!$F$2:$F$1884)/F9","v":8.3214285714285712},null,{"$f":"MEDIAN(IF(Data!$C$2:$C$1884=$B9,Data!$D$2:$D$1884))","v":19200},{"$f":"MEDIAN(IF(Data!$C$2:$C$1884=$B9,Data!$E$2:$E$1884))","v":8}]
[null,"Asia",{"$f":"COUNTIF(Data!$C$2:$C$1884,$B10)","v":660},{"$f":"SUMIF(Data!$C$2:$C$1884,$B10,Data!$D$2:$D$1884)/C10","v":15067.277491071964},{"$f":"SUMIF(Data!$C$2:$C$1884,$B10,Data!$E$2:$E$1884)/C10","v":4.875},{"$f":"COUNTIFS(Data!$C$2:$C$1884,$B10,Data!$F$2:$F$1884,\">0\")","v":550},{"$f":"SUMIF(Data!$C$2:$C$1884,$B10,Data!$F$2:$F$1884)/F10","v":6.6659999999999995},null,{"$f":"MEDIAN(IF(Data!$C$2:$C$1884=$B10,Data!$D$2:$D$1884))","v":9616.275011218986},{"$f":"MEDIAN(IF(Data!$C$2:$C$1884=$B10,Data!$E$2:$E$1884))","v":0}]
[null,"All",{"$f":"COUNTA(Data!$C$2:$C$1884)","v":1883},{"$f":"SUM(Data!$D$2:$D$1884)/C11","v":49227.087950866866},{"$f":"SUM(Data!$E$2:$E$1884)/C11","v":4.8175783324482211},{"$f":"COUNTIF(Data!$F$2:$F$1884,\">0\")","v":1323},{"$f":"SUM(Data!$F$2:$F$1884)/F11","v":8.7351473922902496}]
[]
[null,null,null,"Salary","Hours","Experience","Experience",null,"Salary","Hours"]
[null,"Region","n","avg","avg","exp n","avg",null,"median","median"]
[null,"Top Mgmt",{"$f":"COUNTIF(Data!$B$2:$B$1884,$B15)","v":75},{"$f":"SUMIF(Data!$B$2:$B$1884,$B15,Data!$D$2:$D$1884)/C15","v":97265.875618660837},{"$f":"SUMIF(Data!$B$2:$B$1884,$B15,Data!$E$2:$E$1884)/C15","v":4.24},{"$f":"COUNTIFS(Data!$B$2:$B$1884,$B15,Data!$F$2:$F$1884,\">0\")","v":47},{"$f":"SUMIF(Data!$B$2:$B$1884,$B15,Data!$F$2:$F$1884)/F15","v":13.414893617021276},null,{"$f":"MEDIAN(IF(Data!$B$2:$B$1884=$B15,Data!$D$2:$D$1884))","v":95000},{"$f":"MEDIAN(IF(Data!$B$2:$B$1884=$B15,Data!$E$2:$E$1884))","v":5}]
[null,"Controllers",{"$f":"COUNTIF(Data!$B$2:$B$1884,$B16)","v":67},{"$f":"SUMIF(Data!$B$2:$B$1884,$B16,Data!$D$2:$D$1884)/C16","v":65103.929025765538},{"$f":"SUMIF(Data!$B$2:$B$1884,$B16,Data!$E$2:$E$1884)/C16","v":4.9626865671641793},{"$f":"COUNTIFS(Data!$B$2:$B$1884,$B16,Data!$F$2:$F$1884,\">0\")","v":55},{"$f":"SUMIF(Data!$B$2:$B$1884,$B16,Data!$F$2:$F$1884)/F16","v":11.8},null,{"$f":"MEDIAN(IF(Data!$B$2:$B$1884=$B16,Data!$D$2:$D$1884))","v":57167.974754622352},{"$f":"MEDIAN(IF(Data!$B$2:$B$1884=$B16,Data!$E$2:$E$1884))","v":5}]
[null,"Consultants",{"$f":"COUNTIF(Data!$B$2:$B$1884,$B17)","v":90},{"$f":"SUMIF(Data!$B$2:$B$1884,$B17,Data!$D$2:$D$1884)/C17","v":62950.733221147333},{"$f":"SUMIF(Data!$B$2:$B$1884,$B17,Data!$E$2:$E$1884)/C17","v":4.6444444444444448},{"$f":"COUNTIFS(Data!$B$2:$B$1884,$B17,Data!$F$2:$F$1884,\">0\")","v":56},{"$f":"SUMIF(Data!$B$2:$B$1884,$B17,Data!$F$2:$F$1884)/F17","v":9.5535714285714288},null,{"$f":"MEDIAN(IF(Data!$B$2:$B$1884=$B17,Data!$D$2:$D$1884))","v":54847.710583168722},{"$f":"MEDIAN(IF(Data!$B$2:$B$1884=$B17,Data!$E$2:$E$1884))","v":5}]
[null,"Specialists",{"$f":"COUNTIF(Data!$B$2:$B$1884,$B18)","v":51},{"$f":"SUMIF(Data!$B$2:$B$1884,$B18,Data!$D$2:$D$1884)/C18","v":59812.969274133829},{"$f":"SUMIF(Data!$B$2:$B$1884,$B18,Data!$E$2:$E$1884)/C18","v":4.8431372549019605},{"$f":"COUNTIFS(Data!$B$2:$B$1884,$B18,Data!$F$2:$F$1884,\">0\")","v":27},{"$f":"SUMIF(Data!$B$2:$B$1884,$B18,Data!$F$2:$F$1884)/F18","v":9.2592592592592595},null,{"$f":"MEDIAN(IF(Data!$B$2:$B$1884=$B18,Data!$D$2:$D$1884))","v":49000},{"$f":"MEDIAN(IF(Data!$B$2:$B$1884=$B18,Data!$E$2:$E$1884))","v":5}]
[null,"Engineers",{"$f":"COUNTIF(Data!$B$2:$B$1884,$B19)","v":74},{"$f":"SUMIF(Data!$B$2:$B$1884,$B19,Data!$D$2:$D$1884)/C19","v":51715.151424567106},{"$f":"SUMIF(Data!$B$2:$B$1884,$B19,Data!$E$2:$E$1884)/C19","v":3.7837837837837838},{"$f":"COUNTIFS(Data!$B$2:$B$1884,$B19,Data!$F$2:$F$1884,\">0\")","v":49},{"$f":"SUMIF(Data!$B$2:$B$1884,$B19,Data!$F$2:$F$1884)/F19","v":7.9387755102040813},null,{"$f":"MEDIAN(IF(Data!$B$2:$B$1884=$B19,Data!$D$2:$D$1884))","v":49430.763217042899},{"$f":"MEDIAN(IF(Data!$B$2:$B$1884=$B19,Data!$E$2:$E$1884))","v":2.5}]
[null,"Managers",{"$f":"COUNTIF(Data!$B$2:$B$1884,$B20)","v":558},{"$f":"SUMIF(Data!$B$2:$B$1884,$B20,Data!$D$2:$D$1884)/C20","v":46488.240712802522},{"$f":"SUMIF(Data!$B$2:$B$1884,$B20,Data!$E$2:$E$1884)/C20","v":4.422043010752688},{"$f":"COUNTIFS(Data!$B$2:$B$1884,$B20,Data!$F$2:$F$1884,\">0\")","v":389},{"$f":"SUMIF(Data!$B$2:$B$1884,$B20,Data!$F$2:$F$1884)/F20","v":10.002827763496144},null,{"$f":"MEDIAN(IF(Data!$B$2:$B$1884=$B20,Data!$D$2:$D$1884))","v":40000},{"$f":"MEDIAN(IF(Data!$B$2:$B$1884=$B20,Data!$E$2:$E$1884))","v":5}]
[null,"Analysts",{"$f":"COUNTIF(Data!$B$2:$B$1884,$B21)","v":743},{"$f":"SUMIF(Data!$B$2:$B$1884,$B21,Data!$D$2:$D$1884)/C21","v":46295.769417049465},{"$f":"SUMIF(Data!$B$2:$B$1884,$B21,Data!$E$2:$E$1884)/C21","v":5.1049798115746974},{"$f":"COUNTIFS(Data!$B$2:$B$1884,$B21,Data!$F$2:$F$1884,\">0\")","v":522},{"$f":"SUMIF(Data!$B$2:$B$1884,$B21,Data!$F$2:$F$1884)/F21","v":7.3890804597701152},null,{"$f":"MEDIAN(IF(Data!$B$2:$B$1884=$B21,Data!$D$2:$D$1884))","v":45000},{"$f":"MEDIAN(IF(Data!$B$2:$B$1884=$B21,Data!$E$2:$E$1884))","v":5}]
[null,"Accountants",{"$f":"COUNTIF(Data!$B$2:$B$1884,$B22)","v":135},{"$f":"SUMIF(Data!$B$2:$B$1884,$B22,Data!$D$2:$D$1884)/C22","v":46001.75981283158},{"$f":"SUMIF(Data!$B$2:$B$1884,$B22,Data!$E$2:$E$1884)/C22","v":5.1333333333333337},{"$f":"COUNTIFS(Data!$B$2:$B$1884,$B22,Data!$F$2:$F$1884,\">0\")","v":101},{"$f":"SUMIF(Data!$B$2:$B$1884,$B22,Data!$F$2:$F$1884)/F22","v":9.3366336633663369},null,{"$f":"MEDIAN(IF(Data!$B$2:$B$1884=$B22,Data!$D$2:$D$1884))","v":45000},{"$f":"MEDIAN(IF(Data!$B$2:$B$1884=$B22,Data!$E$2:$E$1884))","v":5}]
[null,"Miscellaneous",{"$f":"COUNTIF(Data!$B$2:$B$1884,$B23)","v":7},{"$f":"SUMIF(Data!$B$2:$B$1884,$B23,Data!$D$2:$D$1884)/C23","v":45952.334217962794},{"$f":"SUMIF(Data!$B$2:$B$1884,$B23,Data!$E$2:$E$1884)/C23","v":4.0714285714285712},{"$f":"COUNTIFS(Data!$B$2:$B$1884,$B23,Data!$F$2:$F$1884,\">0\")","v":6},{"$f":"SUMIF(Data!$B$2:$B$1884,$B23,Data!$F$2:$F$1884)/F23","v":6.166666666666667},null,{"$f":"MEDIAN(IF(Data!$B$2:$B$1884=$B23,Data!$D$2:$D$1884))","v":41712.231189497601},{"$f":"MEDIAN(IF(Data!$B$2:$B$1884=$B23,Data!$E$2:$E$1884))","v":5}]
[null,"Reporting",{"$f":"COUNTIF(Data!$B$2:$B$1884,$B24)","v":83},{"$f":"SUMIF(Data!$B$2:$B$1884,$B24,Data!$D$2:$D$1884)/C24","v":19574.158532349131},{"$f":"SUMIF(Data!$B$2:$B$1884,$B24,Data!$E$2:$E$1884)/C24","v":5.9518072289156629},{"$f":"COUNTIFS(Data!$B$2:$B$1884,$B24,Data!$F$2:$F$1884,\">0\")","v":71},{"$f":"SUMIF(Data!$B$2:$B$1884,$B24,Data!$F$2:$F$1884)/F24","v":5.2802816901408445},null,{"$f":"MEDIAN(IF(Data!$B$2:$B$1884=$B24,Data!$D$2:$D$1884))","v":7123.1666749770275},{"$f":"MEDIAN(IF(Data!$B$2:$B$1884=$B24,Data!$E$2:$E$1884))","v":5}]
[null,"All",{"$f":"COUNTA(Data!$C$2:$C$1884)","v":1883},{"$f":"SUM(Data!$D$2:$D$1884)/C25","v":49227.087950866866},{"$f":"SUM(Data!$E$2:$E$1884)/C25","v":4.8175783324482211},{"$f":"COUNTIF(Data!$F$2:$F$1884,\">0\")","v":1323},{"$f":"SUM(Data!$F$2:$F$1884)/F11","v":8.7351473922902496}]
[]
[]
[null,"Region Filter","North America"]
[null,"Job Filter","Analysts"]
[]
[]
[null,"Hours"]
[null,null,null,"Filtered",null,"Unfiltered"]
[null,"Bin","Name","Count","%","Count","%",null,"Hour Translation Table"]
[null,"Excel ?!? What Excel?","Excel, what Excel?",{"$f":"SUMPRODUCT(SUBTOTAL(3,OFFSET(Data!$I$2:$I$1884,ROW(Data!$I$2:$I$1884)-ROW(Data!$I$2),0,1)),--(Data!$I$2:$I$1884=B35))","v":3},{"$f":"D35/$D$40","v":9.11854103343465E-3},{"$f":"COUNTIF(Table2[How many hours of a day you work on Excel],B35)","v":7},{"$f":"F35/$F$40","v":3.7174721189591076E-3},null,"1 or 2 hours a day",1.5]
[null,"1 or 2 hours a day","1 or 2 hours a day",{"$f":"SUMPRODUCT(SUBTOTAL(3,OFFSET(Data!$I$2:$I$1884,ROW(Data!$I$2:$I$1884)-ROW(Data!$I$2),0,1)),--(Data!$I$2:$I$1884=B36))","v":19},{"$f":"D36/$D$40","v":5.7750759878419454E-2},{"$f":"COUNTIF(Table2[How many hours of a day you work on Excel],B36)","v":174},9.2405735528412108E-2,null,"2 to 3 hours per day",2.5]
[null,"2 to 3 hours per day","2 to 3 hours a day",{"$f":"SUMPRODUCT(SUBTOTAL(3,OFFSET(Data!$I$2:$I$1884,ROW(Data!$I$2:$I$1884)-ROW(Data!$I$2),0,1)),--(Data!$I$2:$I$1884=B37))","v":61},{"$f":"D37/$D$40","v":0.18541033434650456},{"$f":"COUNTIF(Table2[How many hours of a day you work on Excel],B37)","v":451},0.23951141795007966,null,"4 to 6 hours a day",5]
[null,"4 to 6 hours a day","4 to 6 hours a day",{"$f":"SUMPRODUCT(SUBTOTAL(3,OFFSET(Data!$I$2:$I$1884,ROW(Data!$I$2:$I$1884)-ROW(Data!$I$2),0,1)),--(Data!$I$2:$I$1884=B38))","v":162},{"$f":"D38/$D$40","v":0.49240121580547114},{"$f":"COUNTIF(Table2[How many hours of a day you work on Excel],B38)","v":775},0.4115772703133298,null,"All the 8 hours baby, all the 8!",8]
[null,"All the 8 hours baby, all the 8!","All the 8 hours baby!",{"$f":"SUMPRODUCT(SUBTOTAL(3,OFFSET(Data!$I$2:$I$1884,ROW(Data!$I$2:$I$1884)-ROW(Data!$I$2),0,1)),--(Data!$I$2:$I$1884=B39))","v":84},{"$f":"D39/$D$40","v":0.25531914893617019},{"$f":"COUNTIF(Table2[How many hours of a day you work on Excel],B39)","v":476},{"$f":"F39/$F$40","v":0.25278810408921931},null,"Excel ?!? What Excel?",0]
[null,null,null,{"$f":"SUM(D35:D39)","v":329},{"$f":"D40/$D$40","v":1},{"$f":"SUM(F35:F39)","v":1883},{"$f":"F40/$F$40","v":1}]
[]
[null,"Salary"]
[null,10000,null,"Filtered",null,"Unfiltered"]
[null,"Bin","Name","Count","%","Count","%"]
[null,0,"0-9  ",{"$f":"SUMPRODUCT(SUBTOTAL(3,OFFSET(Data!$D$2:$D$1884,ROW(Data!$D$2:$D$1884)-ROW(Data!$D$2),0,1)),--(Data!$D$2:$D$1884>=B45))-SUM(D46:$D$61)","v":0},{"$f":"D45/$D$62","v":0},{"$f":"COUNTIF(Table2[Salary in USD],\">=\"&B45)-SUM(F46:$F$60)","v":360},{"$f":"F45/$F$62","v":0.19118428040361127},null,{"$f":"SUMPRODUCT(SUBTOTAL(3,OFFSET(Data!$D$1:$D$1883,ROW(Data!$D$2:$D$1884)-ROW(Data!$D$2),0,1)),--(Data!$D$2:$D$1884>=B45))","v":329}]
[null,{"$f":"B45+$B$43","v":10000},{"$f":"B46/1000&\"  \"","v":"10  "},{"$f":"SUMPRODUCT(SUBTOTAL(3,OFFSET(Data!$D$2:$D$1884,ROW(Data!$D$2:$D$1884)-ROW(Data!$D$2),0,1)),--(Data!$D$2:$D$1884>=B46))-SUM(D47:$D$61)","v":3},{"$f":"D46/$D$62","v":9.11854103343465E-3},{"$f":"COUNTIF(Table2[Salary in USD],\">=\"&B46)-SUM(F47:$F$60)","v":254},{"$f":"F46/$F$62","v":0.13489113117365906}]
[null,{"$f":"B46+$B$43","v":20000},{"$f":"B47/1000&\"  \"","v":"20  "},{"$f":"SUMPRODUCT(SUBTOTAL(3,OFFSET(Data!$D$2:$D$1884,ROW(Data!$D$2:$D$1884)-ROW(Data!$D$2),0,1)),--(Data!$D$2:$D$1884>=B47))-SUM(D48:$D$61)","v":5},{"$f":"D47/$D$62","v":1.5197568389057751E-2},{"$f":"COUNTIF(Table2[Salary in USD],\">=\"&B47)-SUM(F48:$F$60)","v":114},{"$f":"F47/$F$62","v":6.0541688794476897E-2}]
[null,{"$f":"B47+$B$43","v":30000},{"$f":"B48/1000&\"  \"","v":"30  "},{"$f":"SUMPRODUCT(SUBTOTAL(3,OFFSET(Data!$D$2:$D$1884,ROW(Data!$D$2:$D$1884)-ROW(Data!$D$2),0,1)),--(Data!$D$2:$D$1884>=B48))-SUM(D49:$D$61)","v":23},{"$f":"D48/$D$62","v":6.9908814589665649E-2},{"$f":"COUNTIF(Table2[Salary in USD],\">=\"&B48)-SUM(F49:$F$60)","v":124},{"$f":"F48/$F$62","v":6.5852363250132773E-2}]
[null,{"$f":"B48+$B$43","v":40000},{"$f":"B49/1000&\"  \"","v":"40  "},{"$f":"SUMPRODUCT(SUBTOTAL(3,OFFSET(Data!$D$2:$D$1884,ROW(Data!$D$2:$D$1884)-ROW(Data!$D$2),0,1)),--(Data!$D$2:$D$1884>=B49))-SUM(D50:$D$61)","v":67},{"$f":"D49/$D$62","v":0.20364741641337386},{"$f":"COUNTIF(Table2[Salary in USD],\">=\"&B49)-SUM(F50:$F$60)","v":190},{"$f":"F49/$F$62","v":0.1009028146574615}]
[null,{"$f":"B49+$B$43","v":50000},{"$f":"B50/1000&\"  \"","v":"50  "},{"$f":"SUMPRODUCT(SUBTOTAL(3,OFFSET(Data!$D$2:$D$1884,ROW(Data!$D$2:$D$1884)-ROW(Data!$D$2),0,1)),--(Data!$D$2:$D$1884>=B50))-SUM(D51:$D$61)","v":58},{"$f":"D50/$D$62","v":0.17629179331306991},{"$f":"COUNTIF(Table2[Salary in USD],\">=\"&B50)-SUM(F51:$F$60)","v":180},{"$f":"F50/$F$62","v":9.5592140201805634E-2}]
[null,{"$f":"B50+$B$43","v":60000},{"$f":"B51/1000&\"  \"","v":"60  "},{"$f":"SUMPRODUCT(SUBTOTAL(3,OFFSET(Data!$D$2:$D$1884,ROW(Data!$D$2:$D$1884)-ROW(Data!$D$2),0,1)),--(Data!$D$2:$D$1884>=B51))-SUM(D52:$D$61)","v":66},{"$f":"D51/$D$62","v":0.20060790273556231},{"$f":"COUNTIF(Table2[Salary in USD],\">=\"&B51)-SUM(F52:$F$60)","v":165},{"$f":"F51/$F$62","v":8.7626128518321827E-2}]
[null,{"$f":"B51+$B$43","v":70000},{"$f":"B52/1000&\"  \"","v":"70  "},{"$f":"SUMPRODUCT(SUBTOTAL(3,OFFSET(Data!$D$2:$D$1884,ROW(Data!$D$2:$D$1884)-ROW(Data!$D$2),0,1)),--(Data!$D$2:$D$1884>=B52))-SUM(D53:$D$61)","v":44},{"$f":"D52/$D$62","v":0.1337386018237082},{"$f":"COUNTIF(Table2[Salary in USD],\">=\"&B52)-SUM(F53:$F$60)","v":125},{"$f":"F52/$F$62","v":6.6383430695698353E-2}]
[null,{"$f":"B52+$B$43","v":80000},{"$f":"B53/1000&\"  \"","v":"80  "},{"$f":"SUMPRODUCT(SUBTOTAL(3,OFFSET(Data!$D$2:$D$1884,ROW(Data!$D$2:$D$1884)-ROW(Data!$D$2),0,1)),--(Data!$D$2:$D$1884>=B53))-SUM(D54:$D$61)","v":26},{"$f":"D53/$D$62","v":7.9027355623100301E-2},{"$f":"COUNTIF(Table2[Salary in USD],\">=\"&B53)-SUM(F54:$F$60)","v":97},{"$f":"F53/$F$62","v":5.1513542219861923E-2}]
[null,{"$f":"B53+$B$43","v":90000},{"$f":"B54/1000&\"  \"","v":"90  "},{"$f":"SUMPRODUCT(SUBTOTAL(3,OFFSET(Data!$D$2:$D$1884,ROW(Data!$D$2:$D$1884)-ROW(Data!$D$2),0,1)),--(Data!$D$2:$D$1884>=B54))-SUM(D55:$D$61)","v":18},{"$f":"D54/$D$62","v":5.4711246200607903E-2},{"$f":"COUNTIF(Table2[Salary in USD],\">=\"&B54)-SUM(F55:$F$60)","v":73},{"$f":"F54/$F$62","v":3.8767923526287836E-2}]
[null,{"$f":"B54+$B$43","v":100000},{"$f":"B55/1000&\"  \"","v":"100  "},{"$f":"SUMPRODUCT(SUBTOTAL(3,OFFSET(Data!$D$2:$D$1884,ROW(Data!$D$2:$D$1884)-ROW(Data!$D$2),0,1)),--(Data!$D$2:$D$1884>=B55))-SUM(D56:$D$61)","v":8},{"$f":"D55/$D$62","v":2.4316109422492401E-2},{"$f":"COUNTIF(Table2[Salary in USD],\">=\"&B55)-SUM(F56:$F$60)","v":63},{"$f":"F55/$F$62","v":3.3457249070631967E-2}]
[null,{"$f":"B55+$B$43","v":110000},{"$f":"B56/1000&\"  \"","v":"110  "},{"$f":"SUMPRODUCT(SUBTOTAL(3,OFFSET(Data!$D$2:$D$1884,ROW(Data!$D$2:$D$1884)-ROW(Data!$D$2),0,1)),--(Data!$D$2:$D$1884>=B56))-SUM(D57:$D$61)","v":4},{"$f":"D56/$D$62","v":1.2158054711246201E-2},{"$f":"COUNTIF(Table2[Salary in USD],\">=\"&B56)-SUM(F57:$F$60)","v":26},{"$f":"F56/$F$62","v":1.3807753584705257E-2}]
[null,{"$f":"B56+$B$43","v":120000},{"$f":"B57/1000&\"  \"","v":"120  "},{"$f":"SUMPRODUCT(SUBTOTAL(3,OFFSET(Data!$D$2:$D$1884,ROW(Data!$D$2:$D$1884)-ROW(Data!$D$2),0,1)),--(Data!$D$2:$D$1884>=B57))-SUM(D58:$D$61)","v":2},{"$f":"D57/$D$62","v":6.0790273556231003E-3},{"$f":"COUNTIF(Table2[Salary in USD],\">=\"&B57)-SUM(F58:$F$60)","v":36},{"$f":"F57/$F$62","v":1.9118428040361127E-2}]
[null,{"$f":"B57+$B$43","v":130000},{"$f":"B58/1000&\"  \"","v":"130  "},{"$f":"SUMPRODUCT(SUBTOTAL(3,OFFSET(Data!$D$2:$D$1884,ROW(Data!$D$2:$D$1884)-ROW(Data!$D$2),0,1)),--(Data!$D$2:$D$1884>=B58))-SUM(D59:$D$61)","v":1},{"$f":"D58/$D$62","v":3.0395136778115501E-3},{"$f":"COUNTIF(Table2[Salary in USD],\">=\"&B58)-SUM(F59:$F$60)","v":14},{"$f":"F58/$F$62","v":7.4349442379182153E-3}]
[null,{"$f":"B58+$B$43","v":140000},{"$f":"B59/1000&\"  \"","v":"140  "},{"$f":"SUMPRODUCT(SUBTOTAL(3,OFFSET(Data!$D$2:$D$1884,ROW(Data!$D$2:$D$1884)-ROW(Data!$D$2),0,1)),--(Data!$D$2:$D$1884>=B59))-SUM(D60:$D$61)","v":1},{"$f":"D59/$D$62","v":3.0395136778115501E-3},{"$f":"COUNTIF(Table2[Salary in USD],\">=\"&B59)-SUM(F60:$F$60)","v":11},{"$f":"F59/$F$62","v":5.8417419012214552E-3}]
[null,{"$f":"B59+$B$43","v":150000},{"$f":"B60/1000&\"+\"","v":"150+"},{"$f":"SUMPRODUCT(SUBTOTAL(3,OFFSET(Data!$D$2:$D$1884,ROW(Data!$D$2:$D$1884)-ROW(Data!$D$2),0,1)),--(Data!$D$2:$D$1884>=B60))-SUM(D61:$D$61)","v":3},{"$f":"D60/$D$62","v":9.11854103343465E-3},{"$f":"COUNTIF(Table2[Salary in USD],\">=\"&B60)","v":51},{"$f":"F60/$F$62","v":2.7084439723844927E-2}]
[]
[null,null,null,{"$f":"SUM(D45:D60)","v":329},{"$f":"D62/$D$62","v":1},{"$f":"SUM(F45:F60)","v":1883},{"$f":"F62/$F$62","v":1}]
[]
[]
[null,"Experience"]
[null,5,null,"Filtered",null,"Unfiltered"]
[null,"Bin","Name","Count","%","Count","%"]
[null,0,"<5",{"$f":"SUMPRODUCT(SUBTOTAL(3,OFFSET(Data!$F$2:$F$1884,ROW(Data!$F$2:$F$1884)-ROW(Data!$F$2),0,1)),--(Data!$F$2:$F$1884>=B68))-SUM(D69:$D$77)","v":60},{"$f":"D68/$D$78","v":0.32608695652173914},{"$f":"COUNTIF(Table2[Years of Experience],\">=\"&B68)-SUM(F69:$F$77)","v":420},{"$f":"F68/$F$78","v":0.3146067415730337}]
[null,{"$f":"B68+$B$66","v":5},{"$f":"B69","v":5},{"$f":"SUMPRODUCT(SUBTOTAL(3,OFFSET(Data!$F$2:$F$1884,ROW(Data!$F$2:$F$1884)-ROW(Data!$F$2),0,1)),--(Data!$F$2:$F$1884>=B69))-SUM(D70:$D$77)","v":52},{"$f":"D69/$D$78","v":0.28260869565217389},{"$f":"COUNTIF(Table2[Years of Experience],\">=\"&B69)-SUM(F70:$F$77)","v":417},{"$f":"F69/$F$78","v":0.31235955056179776}]
[null,{"$f":"B69+$B$66","v":10},10,{"$f":"SUMPRODUCT(SUBTOTAL(3,OFFSET(Data!$F$2:$F$1884,ROW(Data!$F$2:$F$1884)-ROW(Data!$F$2),0,1)),--(Data!$F$2:$F$1884>=B70))-SUM(D71:$D$77)","v":36},{"$f":"D70/$D$78","v":0.19565217391304349},{"$f":"COUNTIF(Table2[Years of Experience],\">=\"&B70)-SUM(F71:$F$77)","v":238},{"$f":"F70/$F$78","v":0.17827715355805243}]
[null,15,15,{"$f":"SUMPRODUCT(SUBTOTAL(3,OFFSET(Data!$F$2:$F$1884,ROW(Data!$F$2:$F$1884)-ROW(Data!$F$2),0,1)),--(Data!$F$2:$F$1884>=B71))-SUM(D72:$D$77)","v":17},{"$f":"D71/$D$78","v":9.2391304347826081E-2},{"$f":"COUNTIF(Table2[Years of Experience],\">=\"&B71)-SUM(F72:$F$77)","v":117},{"$f":"F71/$F$78","v":8.7640449438202248E-2}]
[null,20,20,{"$f":"SUMPRODUCT(SUBTOTAL(3,OFFSET(Data!$F$2:$F$1884,ROW(Data!$F$2:$F$1884)-ROW(Data!$F$2),0,1)),--(Data!$F$2:$F$1884>=B72))-SUM(D73:$D$77)","v":9},{"$f":"D72/$D$78","v":4.8913043478260872E-2},{"$f":"COUNTIF(Table2[Years of Experience],\">=\"&B72)-SUM(F73:$F$77)","v":85},{"$f":"F72/$F$78","v":6.3670411985018729E-2}]
[null,25,25,{"$f":"SUMPRODUCT(SUBTOTAL(3,OFFSET(Data!$F$2:$F$1884,ROW(Data!$F$2:$F$1884)-ROW(Data!$F$2),0,1)),--(Data!$F$2:$F$1884>=B73))-SUM(D74:$D$77)","v":5},{"$f":"D73/$D$78","v":2.717391304347826E-2},{"$f":"COUNTIF(Table2[Years of Experience],\">=\"&B73)-SUM(F74:$F$77)","v":36},{"$f":"F73/$F$78","v":2.6966292134831461E-2}]
[null,30,30,{"$f":"SUMPRODUCT(SUBTOTAL(3,OFFSET(Data!$F$2:$F$1884,ROW(Data!$F$2:$F$1884)-ROW(Data!$F$2),0,1)),--(Data!$F$2:$F$1884>=B74))-SUM(D75:$D$77)","v":5},{"$f":"D74/$D$78","v":2.717391304347826E-2},{"$f":"COUNTIF(Table2[Years of Experience],\">=\"&B74)-SUM(F75:$F$77)","v":18},{"$f":"F74/$F$78","v":1.3483146067415731E-2}]
[null,35,35,{"$f":"SUMPRODUCT(SUBTOTAL(3,OFFSET(Data!$F$2:$F$1884,ROW(Data!$F$2:$F$1884)-ROW(Data!$F$2),0,1)),--(Data!$F$2:$F$1884>=B75))-SUM(D76:$D$77)","v":0},{"$f":"D75/$D$78","v":0},{"$f":"COUNTIF(Table2[Years of Experience],\">=\"&B75)-SUM(F76:$F$77)","v":3},{"$f":"F75/$F$78","v":2.2471910112359553E-3}]
[null,40,40,{"$f":"SUMPRODUCT(SUBTOTAL(3,OFFSET(Data!$F$2:$F$1884,ROW(Data!$F$2:$F$1884)-ROW(Data!$F$2),0,1)),--(Data!$F$2:$F$1884>=B76))-SUM(D77:$D$77)","v":0},{"$f":"D76/$D$78","v":0},{"$f":"COUNTIF(Table2[Years of Experience],\">=\"&B76)-SUM(F77:$F$77)","v":1},{"$f":"F76/$F$78","v":7.4906367041198505E-4}]
[null,45,45]
[null,null,null,{"$f":"SUM(D68:D77)","v":184},{"$f":"D78/$D$78","v":1},{"$f":"SUM(F68:F77)","v":1335},{"$f":"F78/$D$78","v":7.2554347826086953}]

{"sheet":"Data","index":2,"n_rows":1884,"n_cols":9,"rows_kept":1884,"cut":false,"hidden":false,"merged":[]}
["Unique ID","Job Type","Region 2","Salary in USD","Hours","Years of Experience","clean Country","Your Job Title","How many hours of a day you work on Excel"]
["ID0001","Analysts","Asia",5846,{"$f":"VLOOKUP(I2,Calc!$I$35:$J$39,2,FALSE)","v":5},null,"India","MIS Analyst","4 to 6 hours a day"]
["ID0002","Controllers","Europe",15000,{"$f":"VLOOKUP(I3,Calc!$I$35:$J$39,2,FALSE)","v":8},null,"Croatia","cost control","All the 8 hours baby, all the 8!"]
["ID0003","Analysts","North America",58000,{"$f":"VLOOKUP(I4,Calc!$I$35:$J$39,2,FALSE)","v":8},null,"USA","Financial Analyst","All the 8 hours baby, all the 8!"]
["ID0004","Controllers","Asia",48000,{"$f":"VLOOKUP(I5,Calc!$I$35:$J$39,2,FALSE)","v":2.5},null,"Pakistan","Quality Control","2 to 3 hours per day"]
["ID0005","Engineers","North America",54000,{"$f":"VLOOKUP(I6,Calc!$I$35:$J$39,2,FALSE)","v":8},null,"USA","Quality Engineer","All the 8 hours baby, all the 8!"]
["ID0006","Analysts","Europe",41731,{"$f":"VLOOKUP(I7,Calc!$I$35:$J$39,2,FALSE)","v":8},null,"Iceland","Analyst","All the 8 hours baby, all the 8!"]
["ID0007","Managers","Europe",184207.91865378313,{"$f":"VLOOKUP(I8,Calc!$I$35:$J$39,2,FALSE)","v":1.5},null,"Germany","senior project manager","1 or 2 hours a day"]
["ID0008","Analysts","Europe",12000,{"$f":"VLOOKUP(I9,Calc!$I$35:$J$39,2,FALSE)","v":8},null,"Ukraine","Assistant SP&A","All the 8 hours baby, all the 8!"]
["ID0009","Top Mgmt","Europe",44000,{"$f":"VLOOKUP(I10,Calc!$I$35:$J$39,2,FALSE)","v":1.5},null,"Portugal","CFO","1 or 2 hours a day"]
["ID0010","Accountants","Asia",12227.430201752599,{"$f":"VLOOKUP(I11,Calc!$I$35:$J$39,2,FALSE)","v":8},null,"Pakistan","Audit Trainee ","All the 8 hours baby, all the 8!"]
["ID0011","Specialists","Europe",65616.131023916547,{"$f":"VLOOKUP(I12,Calc!$I$35:$J$39,2,FALSE)","v":2.5},null,"Ireland","Training Specialist","2 to 3 hours per day"]
["ID0012","Engineers","Europe",14000,{"$f":"VLOOKUP(I13,Calc!$I$35:$J$39,2,FALSE)","v":5},null,"Hungary","quality engineer","4 to 6 hours a day"]
["ID0013","Analysts","Asia",13338.129598894484,{"$f":"VLOOKUP(I14,Calc!$I$35:$J$39,2,FALSE)","v":8},null,"India","Senion Analyst","All the 8 hours baby, all the 8!"]
["ID0014","Analysts","North America",49000,{"$f":"VLOOKUP(I15,Calc!$I$35:$J$39,2,FALSE)","v":8},null,"USA","business analyst","All the 8 hours baby, all the 8!"]
["ID0015","Engineers","North America",85000,{"$f":"VLOOKUP(I16,Calc!$I$35:$J$39,2,FALSE)","v":1.5},null,"USA","Project Engineer","1 or 2 hours a day"]
["ID0016","Engineers","North America",75000,{"$f":"VLOOKUP(I17,Calc!$I$35:$J$39,2,FALSE)","v":8},null,"USA","Sr Project Engineer","All the 8 hours baby, all the 8!"]
["ID0017","Managers","Europe",107000,{"$f":"VLOOKUP(I18,Calc!$I$35:$J$39,2,FALSE)","v":5},null,"Switzerland","Business Development","4 to 6 hours a day"]
["ID0018","Reporting","Africa",45000,{"$f":"VLOOKUP(I19,Calc!$I$35:$J$39,2,FALSE)","v":8},null,"South Africa","Excel Report Writer","All the 8 hours baby, all the 8!"]
["ID0019","Managers","Asia",9794.354178093412,{"$f":"VLOOKUP(I20,Calc!$I$35:$J$39,2,FALSE)","v":2.5},null,"India","AGM","2 to 3 hours per day"]
["ID0020","Managers","Asia",50000,{"$f":"VLOOKUP(I21,Calc!$I$35:$J$39,2,FALSE)","v":1.5},null,"India","GM","1 or 2 hours a day"]
["ID0021","Managers","Asia",13500,{"$f":"VLOOKUP(I22,Calc!$I$35:$J$39,2,FALSE)","v":5},null,"India","DSE Co-ordinator","4 to 6 hours a day"]
["ID0022","Analysts","North America",96000,{"$f":"VLOOKUP(I23,Calc!$I$35:$J$39,2,FALSE)","v":2.5},null,"USA","Analyst","2 to 3 hours per day"]
["ID0023","Managers","Asia",17807.916687442568,{"$f":"VLOOKUP(I24,Calc!$I$35:$J$39,2,FALSE)","v":5},null,"India","Manager","4 to 6 hours a day"]
["ID0024","Top Mgmt","North America",75000,{"$f":"VLOOKUP(I25,Calc!$I$35:$J$39,2,FALSE)","v":5},null,"USA","Marketing Director","4 to 6 hours a day"]
["ID0025","Managers","North America",40000,{"$f":"VLOOKUP(I26,Calc!$I$35:$J$39,2,FALSE)","v":2.5},null,"USA","sales and marketing","2 to 3 hours per day"]
["ID0026","Analysts","North America",60000,{"$f":"VLOOKUP(I27,Calc!$I$35:$J$39,2,FALSE)","v":8},null,"USA","Analyst II","All the 8 hours baby, all the 8!"]
["ID0028","Managers","Europe",41160.941823328096,{"$f":"VLOOKUP(I28,Calc!$I$35:$J$39,2,FALSE)","v":5},null,"Belgium","Project Leader","4 to 6 hours a day"]
["ID0029","Engineers","Asia",16027.125018698311,{"$f":"VLOOKUP(I29,Calc!$I$35:$J$39,2,FALSE)","v":1.5},null,"India","Applications Engineer","1 or 2 hours a day"]
["ID0030","Managers","Asia",10684.750012465542,{"$f":"VLOOKUP(I30,Calc!$I$35:$J$39,2,FALSE)","v":5},null,"India","strategy manager","4 to 6 hours a day"]
["ID0031","Managers","Europe",41000,{"$f":"VLOOKUP(I31,Calc!$I$35:$J$39,2,FALSE)","v":8},null,"Russia","Chief of the department of public budget analisis and forecasting","All the 8 hours baby, all the 8!"]
["ID0032","Specialists","Asia",6410.8500074793246,{"$f":"VLOOKUP(I32,Calc!$I$35:$J$39,2,FALSE)","v":5},null,"India","Specialist","4 to 6 hours a day"]
["ID0033","Analysts","Europe",55166.239522354947,{"$f":"VLOOKUP(I33,Calc!$I$35:$J$39,2,FALSE)","v":8},null,"UK","Management Information Analyst","All the 8 hours baby, all the 8!"]
["ID0035","Analysts","Europe",19200,{"$f":"VLOOKUP(I34,Calc!$I$35:$J$39,2,FALSE)","v":2.5},null,"Poland","Analyst","2 to 3 hours per day"]
["ID0036","Consultants","Asia",8903.9583437212841,{"$f":"VLOOKUP(I35,Calc!$I$35:$J$39,2,FALSE)","v":8},null,"India","Senior Consultant","All the 8 hours baby, all the 8!"]
["ID0037","Managers","North America",150000,{"$f":"VLOOKUP(I36,Calc!$I$35:$J$39,2,FALSE)","v":2.5},null,"USA","Portfolio Manager","2 to 3 hours per day"]
["ID0038","Engineers","North America",69000,{"$f":"VLOOKUP(I37,Calc!$I$35:$J$39,2,FALSE)","v":5},null,"USA","Design Engineer","4 to 6 hours a day"]
["ID0039","Consultants","North America",30000,{"$f":"VLOOKUP(I38,Calc!$I$35:$J$39,2,FALSE)","v":2.5},null,"USA","Academic Advisor","2 to 3 hours per day"]
["ID0040","Managers","Asia",7123.1666749770275,{"$f":"VLOOKUP(I39,Calc!$I$35:$J$39,2,FALSE)","v":5},null,"India","Coordination","4 to 6 hours a day"]
["ID0041","Consultants","Oceana",71393.675948184507,{"$f":"VLOOKUP(I40,Calc!$I$35:$J$39,2,FALSE)","v":2.5},null,"Australia","consultant","2 to 3 hours per day"]
["ID0042","Analysts","Asia",14500,{"$f":"VLOOKUP(I41,Calc!$I$35:$J$39,2,FALSE)","v":5},null,"India","Business Analsyt","4 to 6 hours a day"]
["ID0043","Engineers","North America",68835.306612122877,{"$f":"VLOOKUP(I42,Calc!$I$35:$J$39,2,FALSE)","v":2.5},null,"Canada","Product Engineer","2 to 3 hours per day"]
["ID0044","Accountants","North America",58000,{"$f":"VLOOKUP(I43,Calc!$I$35:$J$39,2,FALSE)","v":5},null,"USA","Senior Accountant","4 to 6 hours a day"]
["ID0045","Miscellaneous","North America",90000,{"$f":"VLOOKUP(I44,Calc!$I$35:$J$39,2,FALSE)","v":1.5},null,"USA","Scientist","1 or 2 hours a day"]
["ID0046","Managers","Asia",14246.333349954055,{"$f":"VLOOKUP(I45,Calc!$I$35:$J$39,2,FALSE)","v":2.5},null,"India","Team Lead","2 to 3 hours per day"]
["ID0047","Analysts","Europe",50437.70470615309,{"$f":"VLOOKUP(I46,Calc!$I$35:$J$39,2,FALSE)","v":5},null,"UK","Senior intelligence analyst","4 to 6 hours a day"]
["ID0048","Consultants","North America",12000,{"$f":"VLOOKUP(I47,Calc!$I$35:$J$39,2,FALSE)","v":1.5},null,"USA","Freelance consultant","1 or 2 hours a day"]
["ID0049","Managers","Europe",57167.974754622352,{"$f":"VLOOKUP(I48,Calc!$I$35:$J$39,2,FALSE)","v":5},null,"Netherlands","Online Traffic Manager / Web Analist","4 to 6 hours a day"]
["ID0050","Analysts","Europe",100000,{"$f":"VLOOKUP(I49,Calc!$I$35:$J$39,2,FALSE)","v":8},null,"Germany","Seinor Financial Analyst","All the 8 hours baby, all the 8!"]
["ID0051","Accountants","North America",57000,{"$f":"VLOOKUP(I50,Calc!$I$35:$J$39,2,FALSE)","v":2.5},null,"USA","Senior Accounting Supervisor","2 to 3 hours per day"]
["ID0052","Accountants","Europe",63047.130882691366,{"$f":"VLOOKUP(I51,Calc!$I$35:$J$39,2,FALSE)","v":5},null,"UK","Senior Accountant","4 to 6 hours a day"]
["ID0053","Managers","Europe",30489.586535798586,{"$f":"VLOOKUP(I52,Calc!$I$35:$J$39,2,FALSE)","v":8},null,"Germany","PPC Manager","All the 8 hours baby, all the 8!"]
["ID0054","Accountants","Asia",4320,{"$f":"VLOOKUP(I53,Calc!$I$35:$J$39,2,FALSE)","v":2.5},null,"India","Financial Planner","2 to 3 hours per day"]
["ID0055","Analysts","North America",62000,{"$f":"VLOOKUP(I54,Calc!$I$35:$J$39,2,FALSE)","v":5},null,"USA","Analyst","4 to 6 hours a day"]
["ID0056","Analysts","Asia",7500,{"$f":"VLOOKUP(I55,Calc!$I$35:$J$39,2,FALSE)","v":5},null,"India","Analyst","4 to 6 hours a day"]
["ID0057","Managers","Europe",28371.208897211112,{"$f":"VLOOKUP(I56,Calc!$I$35:$J$39,2,FALSE)","v":1.5},null,"UK","Building Design and Performance Researcher","1 or 2 hours a day"]
["ID0058","Managers","Europe",62249.572510588783,{"$f":"VLOOKUP(I57,Calc!$I$35:$J$39,2,FALSE)","v":2.5},null,"France","Project leader","2 to 3 hours per day"]
["ID0059","Analysts","North America",38000,{"$f":"VLOOKUP(I58,Calc!$I$35:$J$39,2,FALSE)","v":5},null,"USA","Senior Analyst","4 to 6 hours a day"]
["ID0060","Specialists","North America",41000,{"$f":"VLOOKUP(I59,Calc!$I$35:$J$39,2,FALSE)","v":5},null,"USA","Specialist","4 to 6 hours a day"]
["ID0061","Analysts","North America",68000,{"$f":"VLOOKUP(I60,Calc!$I$35:$J$39,2,FALSE)","v":8},null,"USA","Engineering Data Analyst","All the 8 hours baby, all the 8!"]
["ID0062","Analysts","North America",55068.245289698301,{"$f":"VLOOKUP(I61,Calc!$I$35:$J$39,2,FALSE)","v":8},null,"Canada","Sales Analyst","All the 8 hours baby, all the 8!"]
["ID0063","Managers","South America",61000,{"$f":"VLOOKUP(I62,Calc!$I$35:$J$39,2,FALSE)","v":8},null,"Brasil","Coordinator Of Costa and Buget","All the 8 hours baby, all the 8!"]
["ID0064","Consultants","Europe",54627.175876639136,{"$f":"VLOOKUP(I63,Calc!$I$35:$J$39,2,FALSE)","v":5},null,"France","SAP consultant","4 to 6 hours a day"]
["ID0065","Managers","North America",85000,{"$f":"VLOOKUP(I64,Calc!$I$35:$J$39,2,FALSE)","v":5},null,"USA","Manager","4 to 6 hours a day"]
["ID0066","Analysts","Europe",48275.178681681093,{"$f":"VLOOKUP(I65,Calc!$I$35:$J$39,2,FALSE)","v":1.5},null,"Netherlands","busines analist","1 or 2 hours a day"]
["ID0067","Top Mgmt","Oceana",86692.320794224041,{"$f":"VLOOKUP(I66,Calc!$I$35:$J$39,2,FALSE)","v":5},null,"Australia","head of data","4 to 6 hours a day"]
["ID0068","Analysts","North America",85087,{"$f":"VLOOKUP(I67,Calc!$I$35:$J$39,2,FALSE)","v":2.5},null,"USA","Business Systems Analyst","2 to 3 hours per day"]
["ID0069","Analysts","North America",50000,{"$f":"VLOOKUP(I68,Calc!$I$35:$J$39,2,FALSE)","v":8},null,"USA","Financial Analyst II","All the 8 hours baby, all the 8!"]
["ID0070","Managers","Africa",100000,{"$f":"VLOOKUP(I69,Calc!$I$35:$J$39,2,FALSE)","v":5},null,"South Africa","Mngr MI","4 to 6 hours a day"]
["ID0071","Analysts","North America",57000,{"$f":"VLOOKUP(I70,Calc!$I$35:$J$39,2,FALSE)","v":5},null,"USA","sales analyst","4 to 6 hours a day"]
["ID0072","Managers","North America",75000,{"$f":"VLOOKUP(I71,Calc!$I$35:$J$39,2,FALSE)","v":8},null,"USA","Consumer Research Program Manager","All the 8 hours baby, all the 8!"]
["ID0073","Managers","Oceana",101990.96564026357,{"$f":"VLOOKUP(I72,Calc!$I$35:$J$39,2,FALSE)","v":5},null,"Australia","technical trainer","4 to 6 hours a day"]
["ID0074","Managers","Middle East",33420,{"$f":"VLOOKUP(I73,Calc!$I$35:$J$39,2,FALSE)","v":8},null,"UAE","Process Flow Coordinator","All the 8 hours baby, all the 8!"]
["ID0075","Specialists","North America",58460.842544152933,{"$f":"VLOOKUP(I74,Calc!$I$35:$J$39,2,FALSE)","v":8},null,"Canada","Process Improvement Specialist","All the 8 hours baby, all the 8!"]
["ID0076","Consultants","North America",15000,{"$f":"VLOOKUP(I75,Calc!$I$35:$J$39,2,FALSE)","v":8},null,"USA","Excel Programmer Consultant","All the 8 hours baby, all the 8!"]
["ID0077","Analysts","North America",60000,{"$f":"VLOOKUP(I76,Calc!$I$35:$J$39,2,FALSE)","v":1.5},null,"Canada","Statistical Analyst","1 or 2 hours a day"]
["ID0078","Analysts","Europe",157617.8272067284,{"$f":"VLOOKUP(I77,Calc!$I$35:$J$39,2,FALSE)","v":2.5},null,"UK","Analyst","2 to 3 hours per day"]
["ID0079","Analysts","Middle East",18000,{"$f":"VLOOKUP(I78,Calc!$I$35:$J$39,2,FALSE)","v":8},null,"Saudi Arabia","Operational Analyst","All the 8 hours baby, all the 8!"]
["ID0080","Managers","North America",50000,{"$f":"VLOOKUP(I79,Calc!$I$35:$J$39,2,FALSE)","v":2.5},null,"USA","Exceler","2 to 3 hours per day"]
["ID0081","Analysts","South America",26000,{"$f":"VLOOKUP(I80,Calc!$I$35:$J$39,2,FALSE)","v":8},null,"Panama","Marketing Analyst","All the 8 hours baby, all the 8!"]
["ID0082","Managers","Europe",47285.348162018527,{"$f":"VLOOKUP(I81,Calc!$I$35:$J$39,2,FALSE)","v":5},null,"UK","Database Manager","4 to 6 hours a day"]
["ID0083","Top Mgmt","North America",150000,{"$f":"VLOOKUP(I82,Calc!$I$35:$J$39,2,FALSE)","v":8},null,"USA","Director","All the 8 hours baby, all the 8!"]
["ID0084","Managers","North America",120000,{"$f":"VLOOKUP(I83,Calc!$I$35:$J$39,2,FALSE)","v":5},null,"USA","Manager, Forecasts & Budgets","4 to 6 hours a day"]
["ID0085","Consultants","Asia",8903.9583437212841,{"$f":"VLOOKUP(I84,Calc!$I$35:$J$39,2,FALSE)","v":8},null,"India","Senior Consultant","All the 8 hours baby, all the 8!"]
["ID0086","Analysts","South America",31330,{"$f":"VLOOKUP(I85,Calc!$I$35:$J$39,2,FALSE)","v":8},null,"Brazil","VBA Analyst","All the 8 hours baby, all the 8!"]
["ID0087","Engineers","North America",110000,{"$f":"VLOOKUP(I86,Calc!$I$35:$J$39,2,FALSE)","v":2.5},null,"USA","Senior Scheduling Engineer","2 to 3 hours per day"]
["ID0088","Consultants","Europe",81000,{"$f":"VLOOKUP(I87,Calc!$I$35:$J$39,2,FALSE)","v":5},null,"UK","Strategy Consultant","4 to 6 hours a day"]
["ID0089","Analysts","North America",40000,{"$f":"VLOOKUP(I88,Calc!$I$35:$J$39,2,FALSE)","v":5},null,"USA","Admin","4 to 6 hours a day"]
["ID0090","Analysts","North America",41301.183967273726,{"$f":"VLOOKUP(I89,Calc!$I$35:$J$39,2,FALSE)","v":5},null,"Canada","IT Asset Administrator","4 to 6 hours a day"]
["ID0091","Top Mgmt","North America",125000,{"$f":"VLOOKUP(I90,Calc!$I$35:$J$39,2,FALSE)","v":5},null,"USA","Director of Marketing","4 to 6 hours a day"]
["ID0092","Managers","North America",36000,{"$f":"VLOOKUP(I91,Calc!$I$35:$J$39,2,FALSE)","v":2.5},null,"USA","Graphic Design Manager","2 to 3 hours per day"]
["ID0093","Consultants","Asia",2564.3400029917298,{"$f":"VLOOKUP(I92,Calc!$I$35:$J$39,2,FALSE)","v":1.5},null,"India","Financial Consultant","1 or 2 hours a day"]
["ID0094","Analysts","North America",75000,{"$f":"VLOOKUP(I93,Calc!$I$35:$J$39,2,FALSE)","v":1.5},null,"USA","Data Analyst","1 or 2 hours a day"]
["ID0095","Top Mgmt","North America",95000,{"$f":"VLOOKUP(I94,Calc!$I$35:$J$39,2,FALSE)","v":5},null,"USA","CFO","4 to 6 hours a day"]
["ID0096","Managers","North America",24000,{"$f":"VLOOKUP(I95,Calc!$I$35:$J$39,2,FALSE)","v":2.5},null,"USA","Paraeducator","2 to 3 hours per day"]
["ID0097","Managers","North America",91000,{"$f":"VLOOKUP(I96,Calc!$I$35:$J$39,2,FALSE)","v":1.5},null,"USA","Channel Marketing Manager","1 or 2 hours a day"]
["ID0098","Analysts","North America",40000,{"$f":"VLOOKUP(I97,Calc!$I$35:$J$39,2,FALSE)","v":5},null,"USA","Sales and Marketing Analyst ","4 to 6 hours a day"]
["ID0099","Managers","North America",57000,{"$f":"VLOOKUP(I98,Calc!$I$35:$J$39,2,FALSE)","v":5},null,"USA","Production Scheduler","4 to 6 hours a day"]
["ID0100","Consultants","North America",74000,{"$f":"VLOOKUP(I99,Calc!$I$35:$J$39,2,FALSE)","v":5},null,"USA","Senior Consultant","4 to 6 hours a day"]
["ID0101","Analysts","North America",80000,{"$f":"VLOOKUP(I100,Calc!$I$35:$J$39,2,FALSE)","v":5},null,"USA","financial analyst","4 to 6 hours a day"]
["ID0102","Specialists","North America",90000,{"$f":"VLOOKUP(I101,Calc!$I$35:$J$39,2,FALSE)","v":5},null,"USA","Product Specialist","4 to 6 hours a day"]
["ID0103","Analysts","Middle East",21000,{"$f":"VLOOKUP(I102,Calc!$I$35:$J$39,2,FALSE)","v":1.5},null,"Arabian Gulf","IT support","1 or 2 hours a day"]
["ID0104","Managers","North America",52000,{"$f":"VLOOKUP(I103,Calc!$I$35:$J$39,2,FALSE)","v":5},null,"USA","sr. project coordinator","4 to 6 hours a day"]
["ID0105","Analysts","South America",19200,{"$f":"VLOOKUP(I104,Calc!$I$35:$J$39,2,FALSE)","v":5},null,"Mexico","Sr Administrative Assistant","4 to 6 hours a day"]
["ID0106","Analysts","North America",36000,{"$f":"VLOOKUP(I105,Calc!$I$35:$J$39,2,FALSE)","v":5},null,"USA","Analyst","4 to 6 hours a day"]
["ID0107","Analysts","North America",57400,{"$f":"VLOOKUP(I106,Calc!$I$35:$J$39,2,FALSE)","v":5},null,"USA","IT Analyst","4 to 6 hours a day"]
["ID0108","Analysts","North America",66000,{"$f":"VLOOKUP(I107,Calc!$I$35:$J$39,2,FALSE)","v":2.5},null,"USA","Analyst","2 to 3 hours per day"]
["ID0109","Managers","Europe",44463.980364706273,{"$f":"VLOOKUP(I108,Calc!$I$35:$J$39,2,FALSE)","v":5},null,"Greece","Project manager","4 to 6 hours a day"]
["ID0111","Analysts","North America",85000,{"$f":"VLOOKUP(I109,Calc!$I$35:$J$39,2,FALSE)","v":5},null,"USA","Strategic Analyst","4 to 6 hours a day"]
["ID0112","Specialists","North America",50000,{"$f":"VLOOKUP(I110,Calc!$I$35:$J$39,2,FALSE)","v":5},null,"USA","Transportation Specialist","4 to 6 hours a day"]
["ID0113","Managers","North America",58000,{"$f":"VLOOKUP(I111,Calc!$I$35:$J$39,2,FALSE)","v":5},null,"USA","Operations Programs Support","4 to 6 hours a day"]
["ID0114","Accountants","North America",37900,{"$f":"VLOOKUP(I112,Calc!$I$35:$J$39,2,FALSE)","v":8},null,"USA","Accounting Coordinator","All the 8 hours baby, all the 8!"]
["ID0115","Managers","Middle East",48000,{"$f":"VLOOKUP(I113,Calc!$I$35:$J$39,2,FALSE)","v":2.5},null,"UAE","Asst.Manager Finance","2 to 3 hours per day"]
["ID0116","Analysts","North America",67000,{"$f":"VLOOKUP(I114,Calc!$I$35:$J$39,2,FALSE)","v":5},null,"USA","Operations Cost Analyst","4 to 6 hours a day"]
["ID0117","Controllers","Middle East",85000,{"$f":"VLOOKUP(I115,Calc!$I$35:$J$39,2,FALSE)","v":5},null,"UAE","Financial Controller","4 to 6 hours a day"]
["ID0118","Analysts","North America",56160,{"$f":"VLOOKUP(I116,Calc!$I$35:$J$39,2,FALSE)","v":5},null,"USA","Utilization Analyst","4 to 6 hours a day"]
["ID0119","Managers","South America",24000,{"$f":"VLOOKUP(I117,Calc!$I$35:$J$39,2,FALSE)","v":8},null,"Colombia","Researcher","All the 8 hours baby, all the 8!"]
["ID0120","Analysts","North America",52000,{"$f":"VLOOKUP(I118,Calc!$I$35:$J$39,2,FALSE)","v":0},null,"USA","Market Analyst","Excel ?!? What Excel?"]
["ID0121","Analysts","North America",59001.691381819612,{"$f":"VLOOKUP(I119,Calc!$I$35:$J$39,2,FALSE)","v":0},null,"Canada","Web Developer","Excel ?!? What Excel?"]
["ID0122","Accountants","North America",70000,{"$f":"VLOOKUP(I120,Calc!$I$35:$J$39,2,FALSE)","v":8},null,"USA","Sr. Acct","All the 8 hours baby, all the 8!"]
["ID0123","Specialists","North America",50000,{"$f":"VLOOKUP(I121,Calc!$I$35:$J$39,2,FALSE)","v":5},null,"USA","Information Systems Specialist","4 to 6 hours a day"]
["ID0124","Analysts","Asia",40958.208381117904,{"$f":"VLOOKUP(I122,Calc!$I$35:$J$39,2,FALSE)","v":1.5},null,"India","Analytics lead","1 or 2 hours a day"]
["ID0125","Analysts","North America",80000,{"$f":"VLOOKUP(I123,Calc!$I$35:$J$39,2,FALSE)","v":5},null,"USA","Financial Analyst","4 to 6 hours a day"]
["ID0126","Managers","North America",128000,{"$f":"VLOOKUP(I124,Calc!$I$35:$J$39,2,FALSE)","v":8},null,"USA","Actuary","All the 8 hours baby, all the 8!"]
["ID0127","Managers","North America",44000,{"$f":"VLOOKUP(I125,Calc!$I$35:$J$39,2,FALSE)","v":1.5},null,"USA","School Tech Coordinator","1 or 2 hours a day"]
["ID0128","Accountants","North America",65000,{"$f":"VLOOKUP(I126,Calc!$I$35:$J$39,2,FALSE)","v":8},null,"USA","sr accountant","All the 8 hours baby, all the 8!"]
["ID0129","Accountants","Europe",36000,{"$f":"VLOOKUP(I127,Calc!$I$35:$J$39,2,FALSE)","v":5},null,"Turkey","senior accountant","4 to 6 hours a day"]
["ID0130","Consultants","Asia",12000,{"$f":"VLOOKUP(I128,Calc!$I$35:$J$39,2,FALSE)","v":1.5},null,"Pakistan","Freelance","1 or 2 hours a day"]
["ID0131","Analysts","Europe",44383.603963142654,{"$f":"VLOOKUP(I129,Calc!$I$35:$J$39,2,FALSE)","v":8},null,"UK","Data Analyst","All the 8 hours baby, all the 8!"]
["ID0132","Analysts","North America",45000,{"$f":"VLOOKUP(I130,Calc!$I$35:$J$39,2,FALSE)","v":5},null,"USA","DBA","4 to 6 hours a day"]
["ID0133","Analysts","North America",54000,{"$f":"VLOOKUP(I131,Calc!$I$35:$J$39,2,FALSE)","v":2.5},null,"USA","Research Analyst","2 to 3 hours per day"]
["ID0134","Managers","Europe",110332.47904470989,{"$f":"VLOOKUP(I132,Calc!$I$35:$J$39,2,FALSE)","v":2.5},null,"UK","Project Manager","2 to 3 hours per day"]
["ID0135","Analysts","North America",71000,{"$f":"VLOOKUP(I133,Calc!$I$35:$J$39,2,FALSE)","v":5},null,"USA","Market Research Analyst","4 to 6 hours a day"]
["ID0136","Managers","Asia",14246.333349954055,{"$f":"VLOOKUP(I134,Calc!$I$35:$J$39,2,FALSE)","v":2.5},null,"India","Manager : Accounts","2 to 3 hours per day"]
["ID0137","Managers","North America",68835.306612122877,{"$f":"VLOOKUP(I135,Calc!$I$35:$J$39,2,FALSE)","v":5},null,"Canada","project manager","4 to 6 hours a day"]
["ID0138","Managers","North America",49168.076151516347,{"$f":"VLOOKUP(I136,Calc!$I$35:$J$39,2,FALSE)","v":5},null,"Canada","Inventory manger","4 to 6 hours a day"]
["ID0139","Analysts","North America",40000,{"$f":"VLOOKUP(I137,Calc!$I$35:$J$39,2,FALSE)","v":5},null,"USA","Business Analyst","4 to 6 hours a day"]
["ID0140","Analysts","North America",60968.414427880263,{"$f":"VLOOKUP(I138,Calc!$I$35:$J$39,2,FALSE)","v":2.5},null,"Canada","Process Technician","2 to 3 hours per day"]
["ID0141","Reporting","Asia",5983.4600069807029,{"$f":"VLOOKUP(I139,Calc!$I$35:$J$39,2,FALSE)","v":5},null,"India","MIS Team Leader","4 to 6 hours a day"]
["ID0142","Analysts","North America",53000,{"$f":"VLOOKUP(I140,Calc!$I$35:$J$39,2,FALSE)","v":5},null,"USA","Data Analyst","4 to 6 hours a day"]
["ID0143","Top Mgmt","North America",104000,{"$f":"VLOOKUP(I141,Calc!$I$35:$J$39,2,FALSE)","v":2.5},null,"USA","Finance Director","2 to 3 hours per day"]
["ID0144","Engineers","North America",57000,{"$f":"VLOOKUP(I142,Calc!$I$35:$J$39,2,FALSE)","v":5},null,"USA","Industrial Engineer","4 to 6 hours a day"]
["ID0145","Analysts","North America",45000,{"$f":"VLOOKUP(I143,Calc!$I$35:$J$39,2,FALSE)","v":2.5},null,"USA","data analyst","2 to 3 hours per day"]
["ID0146","Analysts","North America",92000,{"$f":"VLOOKUP(I144,Calc!$I$35:$J$39,2,FALSE)","v":5},null,"USA","Senior Financial & Systems Analyst","4 to 6 hours a day"]
["ID0147","Managers","North America",88000,{"$f":"VLOOKUP(I145,Calc!$I$35:$J$39,2,FALSE)","v":5},null,"USA","project manager - metrics","4 to 6 hours a day"]
["ID0148","Analysts","North America",80000,{"$f":"VLOOKUP(I146,Calc!$I$35:$J$39,2,FALSE)","v":2.5},null,"USA","Informatics Research Analyst","2 to 3 hours per day"]
["ID0149","Consultants","North America",69000,{"$f":"VLOOKUP(I147,Calc!$I$35:$J$39,2,FALSE)","v":5},null,"USA","Business Technical Consultant","4 to 6 hours a day"]
["ID0150","Analysts","South America",50000,{"$f":"VLOOKUP(I148,Calc!$I$35:$J$39,2,FALSE)","v":8},null,"Mexico","Business Operations Reporting Analyst","All the 8 hours baby, all the 8!"]
["ID0151","Managers","North America",35000,{"$f":"VLOOKUP(I149,Calc!$I$35:$J$39,2,FALSE)","v":2.5},null,"USA","Program Services Coordinator","2 to 3 hours per day"]
["ID0152","Analysts","North America",96000,{"$f":"VLOOKUP(I150,Calc!$I$35:$J$39,2,FALSE)","v":5},null,"USA","Specialist - Finance Planning and Analysis","4 to 6 hours a day"]
["ID0153","Accountants","North America",65000,{"$f":"VLOOKUP(I151,Calc!$I$35:$J$39,2,FALSE)","v":8},null,"USA","Sr Accountant","All the 8 hours baby, all the 8!"]
["ID0154","Analysts","North America",37440,{"$f":"VLOOKUP(I152,Calc!$I$35:$J$39,2,FALSE)","v":8},null,"USA","sales analyst","All the 8 hours baby, all the 8!"]
["ID0155","Accountants","South America",15500,{"$f":"VLOOKUP(I153,Calc!$I$35:$J$39,2,FALSE)","v":8},null,"Mexico","Proces auditor","All the 8 hours baby, all the 8!"]
["ID0156","Analysts","North America",90000,{"$f":"VLOOKUP(I154,Calc!$I$35:$J$39,2,FALSE)","v":2.5},null,"USA","Senior Data Quality Analyst","2 to 3 hours per day"]
["ID0157","Analysts","North America",66500,{"$f":"VLOOKUP(I155,Calc!$I$35:$J$39,2,FALSE)","v":8},null,"USA","Sr Business Analyst","All the 8 hours baby, all the 8!"]
["ID0158","Accountants","North America",100000,{"$f":"VLOOKUP(I156,Calc!$I$35:$J$39,2,FALSE)","v":8},null,"USA","COST ACCOUNTANT","All the 8 hours baby, all the 8!"]
["ID0159","Managers","Europe",50831.74927416991,{"$f":"VLOOKUP(I157,Calc!$I$35:$J$39,2,FALSE)","v":5},null,"UK","project Support","4 to 6 hours a day"]
["ID0160","Managers","Asia",7479.3250087258784,{"$f":"VLOOKUP(I158,Calc!$I$35:$J$39,2,FALSE)","v":1.5},null,"India","managerial","1 or 2 hours a day"]
["ID0161","Analysts","North America",75000,{"$f":"VLOOKUP(I159,Calc!$I$35:$J$39,2,FALSE)","v":1.5},null,"USA","Program Analyst","1 or 2 hours a day"]
["ID0162","Managers","North America",58000,{"$f":"VLOOKUP(I160,Calc!$I$35:$J$39,2,FALSE)","v":1.5},null,"Canada","Team Lead - Computer Discounts","1 or 2 hours a day"]
["ID0163","Managers","North America",55000,{"$f":"VLOOKUP(I161,Calc!$I$35:$J$39,2,FALSE)","v":2.5},null,"USA","Change Architect","2 to 3 hours per day"]
["ID0164","Analysts","North America",60000,{"$f":"VLOOKUP(I162,Calc!$I$35:$J$39,2,FALSE)","v":5},null,"USA","Telecom Technician","4 to 6 hours a day"]
["ID0165","Managers","Asia",23150.291693675339,{"$f":"VLOOKUP(I163,Calc!$I$35:$J$39,2,FALSE)","v":5},null,"India","Manager","4 to 6 hours a day"]
["ID0166","Managers","North America",105219.68296424497,{"$f":"VLOOKUP(I164,Calc!$I$35:$J$39,2,FALSE)","v":2.5},null,"Canada","Manager, Asset Optimization","2 to 3 hours per day"]
["ID0167","Controllers","Europe",145000,{"$f":"VLOOKUP(I165,Calc!$I$35:$J$39,2,FALSE)","v":8},null,"Switzerland","Financialcontroller","All the 8 hours baby, all the 8!"]
["ID0168","Accountants","North America",22880,{"$f":"VLOOKUP(I166,Calc!$I$35:$J$39,2,FALSE)","v":5},null,"USA","Accounting ","4 to 6 hours a day"]
["ID0169","Consultants","North America",80000,{"$f":"VLOOKUP(I167,Calc!$I$35:$J$39,2,FALSE)","v":5},null,"USA","Consultant, HR Services & Governance","4 to 6 hours a day"]
["ID0170","Analysts","Asia",8903.9583437212841,{"$f":"VLOOKUP(I168,Calc!$I$35:$J$39,2,FALSE)","v":2.5},null,"India","QA Executive","2 to 3 hours per day"]
["ID0171","Analysts","North America",88502.537072729421,{"$f":"VLOOKUP(I169,Calc!$I$35:$J$39,2,FALSE)","v":5},null,"Canada","Senior Actuarial Analyst","4 to 6 hours a day"]
["ID0172","Analysts","Asia",3205.4250037396623,{"$f":"VLOOKUP(I170,Calc!$I$35:$J$39,2,FALSE)","v":5},null,"India","Sr. Associate","4 to 6 hours a day"]
["ID0173","Analysts","North America",46584,{"$f":"VLOOKUP(I171,Calc!$I$35:$J$39,2,FALSE)","v":5},null,"USA","Budget Analyst","4 to 6 hours a day"]
["ID0174","Analysts","North America",67000,{"$f":"VLOOKUP(I172,Calc!$I$35:$J$39,2,FALSE)","v":5},null,"USA","B.I. Data Analyst II","4 to 6 hours a day"]
["ID0175","Managers","Asia",19588.708356186824,{"$f":"VLOOKUP(I173,Calc!$I$35:$J$39,2,FALSE)","v":5},null,"India","Asst manager investor relations and business analytics","4 to 6 hours a day"]
["ID0176","Engineers","North America",92000,{"$f":"VLOOKUP(I174,Calc!$I$35:$J$39,2,FALSE)","v":5},null,"USA","Industrial Engineer (Fed)","4 to 6 hours a day"]
["ID0177","Specialists","North America",75000,{"$f":"VLOOKUP(I175,Calc!$I$35:$J$39,2,FALSE)","v":8},null,"USA","Informatics specialist","All the 8 hours baby, all the 8!"]
["ID0178","Analysts","Asia",3205.4250037396623,{"$f":"VLOOKUP(I176,Calc!$I$35:$J$39,2,FALSE)","v":5},null,"India","Sr. Associate","4 to 6 hours a day"]
["ID0179","Managers","Europe",29159.298033244755,{"$f":"VLOOKUP(I177,Calc!$I$35:$J$39,2,FALSE)","v":8},null,"UK","Trainee Management Accountant","All the 8 hours baby, all the 8!"]
["ID0180","Analysts","North America",40000,{"$f":"VLOOKUP(I178,Calc!$I$35:$J$39,2,FALSE)","v":8},null,"USA","Senior analyst","All the 8 hours baby, all the 8!"]
["ID0181","Analysts","North America",111680,{"$f":"VLOOKUP(I179,Calc!$I$35:$J$39,2,FALSE)","v":2.5},null,"USA","Director of Analytics","2 to 3 hours per day"]
["ID0182","Analysts","North America",41406,{"$f":"VLOOKUP(I180,Calc!$I$35:$J$39,2,FALSE)","v":1.5},null,"Canada","Executive Assistant","1 or 2 hours a day"]
["ID0183","Managers","North America",70000,{"$f":"VLOOKUP(I181,Calc!$I$35:$J$39,2,FALSE)","v":5},null,"USA","Project Speciast","4 to 6 hours a day"]
["ID0184","Analysts","North America",40700,{"$f":"VLOOKUP(I182,Calc!$I$35:$J$39,2,FALSE)","v":1.5},null,"USA","Sales Coordinator & Analytical Support","1 or 2 hours a day"]
["ID0185","Analysts","North America",40000,{"$f":"VLOOKUP(I183,Calc!$I$35:$J$39,2,FALSE)","v":5},null,"USA","analyst","4 to 6 hours a day"]
["ID0186","Accountants","North America",60000,{"$f":"VLOOKUP(I184,Calc!$I$35:$J$39,2,FALSE)","v":5},null,"USA","Senior Staff Accountant","4 to 6 hours a day"]
["ID0187","Consultants","North America",90469.260118790073,{"$f":"VLOOKUP(I185,Calc!$I$35:$J$39,2,FALSE)","v":8},null,"Canada","Consultant - Retail Mkts","All the 8 hours baby, all the 8!"]
["ID0188","Managers","Asia",13636,{"$f":"VLOOKUP(I186,Calc!$I$35:$J$39,2,FALSE)","v":8},null,"India","Process Manager","All the 8 hours baby, all the 8!"]
["ID0189","Managers","North America",80000,{"$f":"VLOOKUP(I187,Calc!$I$35:$J$39,2,FALSE)","v":2.5},null,"USA","Project Manager (Process Owner)","2 to 3 hours per day"]
["ID0190","Analysts","North America",59001.691381819612,{"$f":"VLOOKUP(I188,Calc!$I$35:$J$39,2,FALSE)","v":2.5},null,"Canada","Demographer","2 to 3 hours per day"]
["ID0192","Analysts","North America",28000,{"$f":"VLOOKUP(I189,Calc!$I$35:$J$39,2,FALSE)","v":5},null,"USA","Administrative Assistant","4 to 6 hours a day"]
["ID0193","Analysts","North America",60000,{"$f":"VLOOKUP(I190,Calc!$I$35:$J$39,2,FALSE)","v":5},null,"USA","Accounting/Financial Analyst","4 to 6 hours a day"]
["ID0194","Specialists","North America",96000,{"$f":"VLOOKUP(I191,Calc!$I$35:$J$39,2,FALSE)","v":2.5},null,"USA","Business Process Specialist","2 to 3 hours per day"]
["ID0195","Analysts","North America",67000,{"$f":"VLOOKUP(I192,Calc!$I$35:$J$39,2,FALSE)","v":5},null,"USA","Financial Analyst","4 to 6 hours a day"]
["ID0196","Analysts","North America",70000,{"$f":"VLOOKUP(I193,Calc!$I$35:$J$39,2,FALSE)","v":5},null,"USA","Sr Financial Analyst","4 to 6 hours a day"]
["ID0197","Managers","Asia",4149.2445881741187,{"$f":"VLOOKUP(I194,Calc!$I$35:$J$39,2,FALSE)","v":8},null,"India","Asst. Manager (MIS)","All the 8 hours baby, all the 8!"]
["ID0198","Controllers","North America",99000,{"$f":"VLOOKUP(I195,Calc!$I$35:$J$39,2,FALSE)","v":5},null,"USA","Business Controller","4 to 6 hours a day"]
["ID0200","Managers","North America",90000,{"$f":"VLOOKUP(I196,Calc!$I$35:$J$39,2,FALSE)","v":2.5},null,"USA","Project Manager","2 to 3 hours per day"]
["ID0201","Analysts","Asia",4897.177089046706,{"$f":"VLOOKUP(I197,Calc!$I$35:$J$39,2,FALSE)","v":2.5},null,"India","low level monitoring","2 to 3 hours per day"]
["ID0202","Analysts","Asia",3419.1200039889732,{"$f":"VLOOKUP(I198,Calc!$I$35:$J$39,2,FALSE)","v":8},null,"India","Administrative","All the 8 hours baby, all the 8!"]
["ID0203","Managers","North America",51000,{"$f":"VLOOKUP(I199,Calc!$I$35:$J$39,2,FALSE)","v":5},null,"USA","Service Line Coordinator","4 to 6 hours a day"]
["ID0204","Managers","North America",100000,{"$f":"VLOOKUP(I200,Calc!$I$35:$J$39,2,FALSE)","v":8},null,"USA","Strategic Sourcing Manager","All the 8 hours baby, all the 8!"]
["ID0205","Managers","Asia",32054.250037396621,{"$f":"VLOOKUP(I201,Calc!$I$35:$J$39,2,FALSE)","v":1.5},null,"India","Chief Manager","1 or 2 hours a day"]
["ID0207","Analysts","Europe",47285.348162018527,{"$f":"VLOOKUP(I202,Calc!$I$35:$J$39,2,FALSE)","v":2.5},null,"UK","Business Intelligence Analyst","2 to 3 hours per day"]
["ID0208","Analysts","Europe",63519.971949580387,{"$f":"VLOOKUP(I203,Calc!$I$35:$J$39,2,FALSE)","v":5},null,"Ireland","Data Analyst","4 to 6 hours a day"]
["ID0209","Analysts","North America",108160,{"$f":"VLOOKUP(I204,Calc!$I$35:$J$39,2,FALSE)","v":5},null,"USA","Sr. Financial Analyst","4 to 6 hours a day"]
["ID0210","Managers","North America",50000,{"$f":"VLOOKUP(I205,Calc!$I$35:$J$39,2,FALSE)","v":5},null,"USA","Buyer","4 to 6 hours a day"]
["ID0211","Managers","North America",400000,{"$f":"VLOOKUP(I206,Calc!$I$35:$J$39,2,FALSE)","v":1.5},null,"USA","program manager","1 or 2 hours a day"]
["ID0212","Analysts","North America",43000,{"$f":"VLOOKUP(I207,Calc!$I$35:$J$39,2,FALSE)","v":8},null,"USA","Reporting Analyst Team Lead","All the 8 hours baby, all the 8!"]
["ID0213","Analysts","Asia",27000,{"$f":"VLOOKUP(I208,Calc!$I$35:$J$39,2,FALSE)","v":8},null,"Singapore","Innovation Analyst","All the 8 hours baby, all the 8!"]
["ID0214","Managers","North America",41000,{"$f":"VLOOKUP(I209,Calc!$I$35:$J$39,2,FALSE)","v":8},null,"USA","Operations Expert","All the 8 hours baby, all the 8!"]
["ID0215","Top Mgmt","North America",100000,{"$f":"VLOOKUP(I210,Calc!$I$35:$J$39,2,FALSE)","v":5},null,"USA","Director of Finance","4 to 6 hours a day"]
["ID0216","Analysts","North America",42140,{"$f":"VLOOKUP(I211,Calc!$I$35:$J$39,2,FALSE)","v":5},null,"USA","Information Analyst II","4 to 6 hours a day"]
["ID0217","Analysts","North America",80000,{"$f":"VLOOKUP(I212,Calc!$I$35:$J$39,2,FALSE)","v":5},null,"USA","Marketing Analyst","4 to 6 hours a day"]
["ID0218","Managers","North America",41600,{"$f":"VLOOKUP(I213,Calc!$I$35:$J$39,2,FALSE)","v":5},null,"USA","Project Manager","4 to 6 hours a day"]
["ID0219","Accountants","North America",45000,{"$f":"VLOOKUP(I214,Calc!$I$35:$J$39,2,FALSE)","v":2.5},null,"USA","Accounting Assistant","2 to 3 hours per day"]
["ID0220","Accountants","North America",78000,{"$f":"VLOOKUP(I215,Calc!$I$35:$J$39,2,FALSE)","v":5},null,"Bermuda","Tax Professional","4 to 6 hours a day"]
["ID0221","Managers","Asia",8903.9583437212841,{"$f":"VLOOKUP(I216,Calc!$I$35:$J$39,2,FALSE)","v":5},null,"India","Project Manager","4 to 6 hours a day"]
["ID0222","Accountants","Asia",6232.7708406048987,{"$f":"VLOOKUP(I217,Calc!$I$35:$J$39,2,FALSE)","v":5},null,"India","Jr. Executive Finance","4 to 6 hours a day"]
["ID0223","Controllers","North America",72500,{"$f":"VLOOKUP(I218,Calc!$I$35:$J$39,2,FALSE)","v":5},null,"USA","Assistant Controller","4 to 6 hours a day"]
["ID0224","Engineers","Asia",138000,{"$f":"VLOOKUP(I219,Calc!$I$35:$J$39,2,FALSE)","v":5},null,"Thailand","Project engineer","4 to 6 hours a day"]
["ID0225","Managers","Asia",8547.8000099724322,{"$f":"VLOOKUP(I220,Calc!$I$35:$J$39,2,FALSE)","v":5},null,"India","Cash Officer","4 to 6 hours a day"]
["ID0226","Analysts","North America",80000,{"$f":"VLOOKUP(I221,Calc!$I$35:$J$39,2,FALSE)","v":5},null,"USA","Senior Analyst","4 to 6 hours a day"]
["ID0227","Managers","North America",50000,{"$f":"VLOOKUP(I222,Calc!$I$35:$J$39,2,FALSE)","v":5},null,"USA","Project Manager","4 to 6 hours a day"]
["ID0228","Specialists","North America",44251.268536364711,{"$f":"VLOOKUP(I223,Calc!$I$35:$J$39,2,FALSE)","v":1.5},null,"Canada","Technical support specialist","1 or 2 hours a day"]
["ID0229","Managers","Europe",67775.665698893223,{"$f":"VLOOKUP(I224,Calc!$I$35:$J$39,2,FALSE)","v":2.5},null,"UK","ServiceDesk Supervisor","2 to 3 hours per day"]
["ID0230","Analysts","Asia",3561.5833374885137,{"$f":"VLOOKUP(I225,Calc!$I$35:$J$39,2,FALSE)","v":1.5},null,"India","medical biller","1 or 2 hours a day"]
["ID0231","Specialists","North America",65000,{"$f":"VLOOKUP(I226,Calc!$I$35:$J$39,2,FALSE)","v":2.5},null,"USA","Sr. Strategic Development Specialist","2 to 3 hours per day"]
["ID0232","Top Mgmt","North America",114000,{"$f":"VLOOKUP(I227,Calc!$I$35:$J$39,2,FALSE)","v":2.5},null,"USA","Director","2 to 3 hours per day"]
["ID0233","Top Mgmt","North America",95000,{"$f":"VLOOKUP(I228,Calc!$I$35:$J$39,2,FALSE)","v":5},null,"USA","VP - Procurment","4 to 6 hours a day"]
["ID0234","Analysts","North America",52500,{"$f":"VLOOKUP(I229,Calc!$I$35:$J$39,2,FALSE)","v":5},null,"USA","HRIS Analyst","4 to 6 hours a day"]
["ID0235","Managers","Europe",70928.022243027779,{"$f":"VLOOKUP(I230,Calc!$I$35:$J$39,2,FALSE)","v":2.5},null,"UK","Procurement manager","2 to 3 hours per day"]
["ID0236","Analysts","North America",60000,{"$f":"VLOOKUP(I231,Calc!$I$35:$J$39,2,FALSE)","v":5},null,"USA","Energy Analyst","4 to 6 hours a day"]
["ID0237","Accountants","North America",65250,{"$f":"VLOOKUP(I232,Calc!$I$35:$J$39,2,FALSE)","v":5},null,"USA","Accountant","4 to 6 hours a day"]
["ID0238","Managers","Asia",21369.500024931083,{"$f":"VLOOKUP(I233,Calc!$I$35:$J$39,2,FALSE)","v":2.5},null,"India","Branch head -sales","2 to 3 hours per day"]
["ID0239","Managers","North America",98336.152303032693,{"$f":"VLOOKUP(I234,Calc!$I$35:$J$39,2,FALSE)","v":2.5},null,"Canada","retail buyer","2 to 3 hours per day"]
["ID0240","Specialists","Europe",15244.793267899293,{"$f":"VLOOKUP(I235,Calc!$I$35:$J$39,2,FALSE)","v":8},null,"Portugal","HR Specialist","All the 8 hours baby, all the 8!"]
["ID0241","Analysts","North America",73000,{"$f":"VLOOKUP(I236,Calc!$I$35:$J$39,2,FALSE)","v":5},null,"USA","Financial Analyst","4 to 6 hours a day"]
["ID0242","Analysts","North America",50000,{"$f":"VLOOKUP(I237,Calc!$I$35:$J$39,2,FALSE)","v":8},null,"USA","data analyst","All the 8 hours baby, all the 8!"]
["ID0243","Accountants","North America",79000,{"$f":"VLOOKUP(I238,Calc!$I$35:$J$39,2,FALSE)","v":2.5},null,"USA","Director of Finance and Accounting","2 to 3 hours per day"]
["ID0244","Managers","North America",90000,{"$f":"VLOOKUP(I239,Calc!$I$35:$J$39,2,FALSE)","v":5},null,"USA","Manager Business Control","4 to 6 hours a day"]
["ID0245","Managers","North America",70000,{"$f":"VLOOKUP(I240,Calc!$I$35:$J$39,2,FALSE)","v":2.5},null,"USA","Manager Pricing","2 to 3 hours per day"]
["ID0246","Managers","North America",63918.498996971248,{"$f":"VLOOKUP(I241,Calc!$I$35:$J$39,2,FALSE)","v":5},null,"Canada","Insurance Manager","4 to 6 hours a day"]
["ID0247","Analysts","North America",80000,{"$f":"VLOOKUP(I242,Calc!$I$35:$J$39,2,FALSE)","v":5},null,"USA","Analyst","4 to 6 hours a day"]
["ID0248","Managers","North America",140000,{"$f":"VLOOKUP(I243,Calc!$I$35:$J$39,2,FALSE)","v":5},null,"USA","Manager","4 to 6 hours a day"]
["ID0249","Consultants","Europe",96000,{"$f":"VLOOKUP(I244,Calc!$I$35:$J$39,2,FALSE)","v":2.5},null,"Poland","Freellance","2 to 3 hours per day"]
["ID0250","Managers","Asia",20000,{"$f":"VLOOKUP(I245,Calc!$I$35:$J$39,2,FALSE)","v":5},null,"India","category manager","4 to 6 hours a day"]
["ID0251","Analysts","North America",47700,{"$f":"VLOOKUP(I246,Calc!$I$35:$J$39,2,FALSE)","v":5},null,"USA","Customer Operations Analyst","4 to 6 hours a day"]
["ID0252","Managers","Asia",25000,{"$f":"VLOOKUP(I247,Calc!$I$35:$J$39,2,FALSE)","v":1.5},null,"India","Team Lead","1 or 2 hours a day"]
["ID0253","Analysts","North America",52500,{"$f":"VLOOKUP(I248,Calc!$I$35:$J$39,2,FALSE)","v":5},null,"USA","Analyst","4 to 6 hours a day"]
["ID0254","Analysts","North America",40000,{"$f":"VLOOKUP(I249,Calc!$I$35:$J$39,2,FALSE)","v":8},null,"USA","Business Analyst","All the 8 hours baby, all the 8!"]
["ID0255","Analysts","North America",31000,{"$f":"VLOOKUP(I250,Calc!$I$35:$J$39,2,FALSE)","v":5},null,"USA","Site Technician","4 to 6 hours a day"]
["ID0256","Consultants","Europe",83033.071372504521,{"$f":"VLOOKUP(I251,Calc!$I$35:$J$39,2,FALSE)","v":8},null,"UK","Excel Consultant","All the 8 hours baby, all the 8!"]
["ID0257","Managers","North America",130000,{"$f":"VLOOKUP(I252,Calc!$I$35:$J$39,2,FALSE)","v":5},null,"USA","Senior Project Manager","4 to 6 hours a day"]
["ID0258","Analysts","Asia",8369.7208430980063,{"$f":"VLOOKUP(I253,Calc!$I$35:$J$39,2,FALSE)","v":8},null,"India","Web Statistics Analyst","All the 8 hours baby, all the 8!"]
["ID0259","Analysts","North America",51000,{"$f":"VLOOKUP(I254,Calc!$I$35:$J$39,2,FALSE)","v":2.5},null,"USA","Business Data Analyst I","2 to 3 hours per day"]
["ID0260","Analysts","Europe",94570.696324037053,{"$f":"VLOOKUP(I255,Calc!$I$35:$J$39,2,FALSE)","v":8},null,"UK","Decision Analyst & Modeller","All the 8 hours baby, all the 8!"]
["ID0261","Managers","Asia",34191.200039889729,{"$f":"VLOOKUP(I256,Calc!$I$35:$J$39,2,FALSE)","v":2.5},null,"India","Project Manager","2 to 3 hours per day"]
["ID0262","Analysts","Europe",44132.991617883956,{"$f":"VLOOKUP(I257,Calc!$I$35:$J$39,2,FALSE)","v":8},null,"UK","Ops Adminstrator","All the 8 hours baby, all the 8!"]
["ID0263","Specialists","North America",73000,{"$f":"VLOOKUP(I258,Calc!$I$35:$J$39,2,FALSE)","v":5},null,"USA","Sr. Global marketing Specialist","4 to 6 hours a day"]
["ID0264","Accountants","North America",62400,{"$f":"VLOOKUP(I259,Calc!$I$35:$J$39,2,FALSE)","v":8},null,"USA","financial accountant","All the 8 hours baby, all the 8!"]
["ID0265","Consultants","Asia",27600,{"$f":"VLOOKUP(I260,Calc!$I$35:$J$39,2,FALSE)","v":8},null,"Singapore","Software Consultant","All the 8 hours baby, all the 8!"]
["ID0266","Managers","North America",54000,{"$f":"VLOOKUP(I261,Calc!$I$35:$J$39,2,FALSE)","v":8},null,"USA","Anaylst","All the 8 hours baby, all the 8!"]
["ID0267","Analysts","Asia",4914.9850057341491,{"$f":"VLOOKUP(I262,Calc!$I$35:$J$39,2,FALSE)","v":8},null,"India","analyst","All the 8 hours baby, all the 8!"]
["ID0268","Accountants","North America",77000,{"$f":"VLOOKUP(I263,Calc!$I$35:$J$39,2,FALSE)","v":5},null,"USA","senior accounting coordinator","4 to 6 hours a day"]
["ID0269","Managers","North America",76000,{"$f":"VLOOKUP(I264,Calc!$I$35:$J$39,2,FALSE)","v":8},null,"USA","Demand Planning Mgr","All the 8 hours baby, all the 8!"]
["ID0270","Top Mgmt","North America",103000,{"$f":"VLOOKUP(I265,Calc!$I$35:$J$39,2,FALSE)","v":2.5},null,"USA","VP / Credit Administrator","2 to 3 hours per day"]
["ID0271","Specialists","Europe",7600,{"$f":"VLOOKUP(I266,Calc!$I$35:$J$39,2,FALSE)","v":1.5},null,"Ukraine","DP specialist","1 or 2 hours a day"]
["ID0272","Analysts","North America",40000,{"$f":"VLOOKUP(I267,Calc!$I$35:$J$39,2,FALSE)","v":5},null,"USA","Analyst 2","4 to 6 hours a day"]
["ID0273","Top Mgmt","North America",80000,{"$f":"VLOOKUP(I268,Calc!$I$35:$J$39,2,FALSE)","v":2.5},null,"USA","VP","2 to 3 hours per day"]
["ID0274","Analysts","North America",55000,{"$f":"VLOOKUP(I269,Calc!$I$35:$J$39,2,FALSE)","v":8},null,"USA","data analyst","All the 8 hours baby, all the 8!"]
["ID0275","Analysts","North America",99000,{"$f":"VLOOKUP(I270,Calc!$I$35:$J$39,2,FALSE)","v":2.5},null,"USA","Business Analyst","2 to 3 hours per day"]
["ID0276","Managers","Asia",9956.1219482708348,{"$f":"VLOOKUP(I271,Calc!$I$35:$J$39,2,FALSE)","v":5},null,"Philippines","Global Problem Management - IT","4 to 6 hours a day"]
["ID0277","Analysts","North America",75000,{"$f":"VLOOKUP(I272,Calc!$I$35:$J$39,2,FALSE)","v":5},null,"USA","financial analyst","4 to 6 hours a day"]
["ID0278","Managers","North America",80000,{"$f":"VLOOKUP(I273,Calc!$I$35:$J$39,2,FALSE)","v":2.5},null,"USA","Enterprise Performance Metrics Manager","2 to 3 hours per day"]
["ID0279","Analysts","Asia",20000,{"$f":"VLOOKUP(I274,Calc!$I$35:$J$39,2,FALSE)","v":8},null,"India","Analyst","All the 8 hours baby, all the 8!"]
["ID0280","Analysts","North America",40000,{"$f":"VLOOKUP(I275,Calc!$I$35:$J$39,2,FALSE)","v":8},null,"USA","Business Analyst","All the 8 hours baby, all the 8!"]
["ID0281","Analysts","North America",46000,{"$f":"VLOOKUP(I276,Calc!$I$35:$J$39,2,FALSE)","v":8},null,"USA","University Relations Intern","All the 8 hours baby, all the 8!"]
["ID0282","Analysts","South America",14000,{"$f":"VLOOKUP(I277,Calc!$I$35:$J$39,2,FALSE)","v":1.5},null,"Brazil","Auxiliar Administrativo","1 or 2 hours a day"]
["ID0283","Engineers","North America",70000,{"$f":"VLOOKUP(I278,Calc!$I$35:$J$39,2,FALSE)","v":8},null,"USA","Engineering Tech Sr.","All the 8 hours baby, all the 8!"]
["ID0284","Specialists","Europe",36000,{"$f":"VLOOKUP(I279,Calc!$I$35:$J$39,2,FALSE)","v":5},null,"Russia","Senior Specialist","4 to 6 hours a day"]
["ID0285","Managers","North America",15000,{"$f":"VLOOKUP(I280,Calc!$I$35:$J$39,2,FALSE)","v":2.5},null,"USA","moneymaker","2 to 3 hours per day"]
["ID0286","Consultants","Asia",26711.875031163851,{"$f":"VLOOKUP(I281,Calc!$I$35:$J$39,2,FALSE)","v":8},null,"India","Consultant","All the 8 hours baby, all the 8!"]
["ID0287","Accountants","Middle East",27221.92126875931,{"$f":"VLOOKUP(I282,Calc!$I$35:$J$39,2,FALSE)","v":5},null,"Dubai","Accountant","4 to 6 hours a day"]
["ID0288","Reporting","Asia",22000,{"$f":"VLOOKUP(I283,Calc!$I$35:$J$39,2,FALSE)","v":8},null,"India","MIS","All the 8 hours baby, all the 8!"]
["ID0289","Managers","North America",68000,{"$f":"VLOOKUP(I284,Calc!$I$35:$J$39,2,FALSE)","v":8},null,"USA","management accountant","All the 8 hours baby, all the 8!"]
["ID0290","Analysts","North America",97000,{"$f":"VLOOKUP(I285,Calc!$I$35:$J$39,2,FALSE)","v":8},null,"USA","business analyst","All the 8 hours baby, all the 8!"]
["ID0291","Engineers","Europe",48861.526434085805,{"$f":"VLOOKUP(I286,Calc!$I$35:$J$39,2,FALSE)","v":2.5},null,"UK","Telecoms Engineer","2 to 3 hours per day"]
["ID0292","Analysts","North America",65000,{"$f":"VLOOKUP(I287,Calc!$I$35:$J$39,2,FALSE)","v":5},null,"USA","Software Support","4 to 6 hours a day"]
["ID0293","Managers","Middle East",43200,{"$f":"VLOOKUP(I288,Calc!$I$35:$J$39,2,FALSE)","v":5},null,"Saudi Arabia","Projects Planner","4 to 6 hours a day"]
["ID0294","Analysts","Asia",8013.5625093491553,{"$f":"VLOOKUP(I289,Calc!$I$35:$J$39,2,FALSE)","v":5},null,"India","Business Analyst","4 to 6 hours a day"]
["ID0295","Analysts","North America",50000,{"$f":"VLOOKUP(I290,Calc!$I$35:$J$39,2,FALSE)","v":8},null,"USA","Mathematical Data Analyist","All the 8 hours baby, all the 8!"]
["ID0296","Analysts","North America",45000,{"$f":"VLOOKUP(I291,Calc!$I$35:$J$39,2,FALSE)","v":5},null,"USA","sales support","4 to 6 hours a day"]
["ID0297","Managers","Asia",3205.4250037396623,{"$f":"VLOOKUP(I292,Calc!$I$35:$J$39,2,FALSE)","v":5},null,"India","Administrative Officer","4 to 6 hours a day"]
["ID0298","Managers","North America",60000,{"$f":"VLOOKUP(I293,Calc!$I$35:$J$39,2,FALSE)","v":8},null,"USA","IS Manager","All the 8 hours baby, all the 8!"]
["ID0299","Specialists","North America",31000,{"$f":"VLOOKUP(I294,Calc!$I$35:$J$39,2,FALSE)","v":2.5},null,"USA","Support Specialist ","2 to 3 hours per day"]
["ID0300","Analysts","North America",75000,{"$f":"VLOOKUP(I295,Calc!$I$35:$J$39,2,FALSE)","v":5},null,"USA","FA","4 to 6 hours a day"]
["ID0301","Top Mgmt","North America",16000,{"$f":"VLOOKUP(I296,Calc!$I$35:$J$39,2,FALSE)","v":1.5},null,"USA","VP of Finance","1 or 2 hours a day"]
["ID0302","Analysts","North America",36000,{"$f":"VLOOKUP(I297,Calc!$I$35:$J$39,2,FALSE)","v":8},null,"USA","PRODUCTION ASSISTANT","All the 8 hours baby, all the 8!"]
["ID0303","Analysts","North America",41301.183967273726,{"$f":"VLOOKUP(I298,Calc!$I$35:$J$39,2,FALSE)","v":8},null,"Canada","Financial Analyst","All the 8 hours baby, all the 8!"]
["ID0304","Analysts","North America",53000,{"$f":"VLOOKUP(I299,Calc!$I$35:$J$39,2,FALSE)","v":5},null,"USA","Data Analyst","4 to 6 hours a day"]
["ID0305","Controllers","Europe",82575.963534454509,{"$f":"VLOOKUP(I300,Calc!$I$35:$J$39,2,FALSE)","v":8},null,"Germany","controller","All the 8 hours baby, all the 8!"]
["ID0306","Analysts","North America",67000,{"$f":"VLOOKUP(I301,Calc!$I$35:$J$39,2,FALSE)","v":5},null,"USA","HR Analyst","4 to 6 hours a day"]
["ID0307","Analysts","Asia",12000,{"$f":"VLOOKUP(I302,Calc!$I$35:$J$39,2,FALSE)","v":8},null,"India","Analyst","All the 8 hours baby, all the 8!"]
["ID0308","Controllers","North America",85000,{"$f":"VLOOKUP(I303,Calc!$I$35:$J$39,2,FALSE)","v":8},null,"USA","Plant Controller","All the 8 hours baby, all the 8!"]
["ID0309","Reporting","Europe",254079.88779832155,{"$f":"VLOOKUP(I304,Calc!$I$35:$J$39,2,FALSE)","v":8},null,"Netherlands","consultant bi","All the 8 hours baby, all the 8!"]
["ID0310","Managers","North America",40000,{"$f":"VLOOKUP(I305,Calc!$I$35:$J$39,2,FALSE)","v":5},null,"USA","Royalties Coordinator","4 to 6 hours a day"]
["ID0311","Engineers","Europe",31523.565441345683,{"$f":"VLOOKUP(I306,Calc!$I$35:$J$39,2,FALSE)","v":1.5},null,"UK","Graduate Structural Engineer","1 or 2 hours a day"]
["ID0312","Analysts","North America",41000,{"$f":"VLOOKUP(I307,Calc!$I$35:$J$39,2,FALSE)","v":5},null,"USA","Operations Analyst","4 to 6 hours a day"]
["ID0313","Managers","Asia",24931.083362419595,{"$f":"VLOOKUP(I308,Calc!$I$35:$J$39,2,FALSE)","v":1.5},null,"India","Marketing","1 or 2 hours a day"]
["ID0314","Managers","North America",125000,{"$f":"VLOOKUP(I309,Calc!$I$35:$J$39,2,FALSE)","v":5},null,"USA","Finance, Manager ","4 to 6 hours a day"]
["ID0315","Analysts","North America",59001.691381819612,{"$f":"VLOOKUP(I310,Calc!$I$35:$J$39,2,FALSE)","v":8},null,"Canada","Sr. Business Analyst","All the 8 hours baby, all the 8!"]
["ID0316","Analysts","South America",10956.982885192734,{"$f":"VLOOKUP(I311,Calc!$I$35:$J$39,2,FALSE)","v":8},null,"Mexico","Information Analyst","All the 8 hours baby, all the 8!"]
["ID0317","Analysts","North America",70000,{"$f":"VLOOKUP(I312,Calc!$I$35:$J$39,2,FALSE)","v":2.5},null,"USA","Analyst","2 to 3 hours per day"]
["ID0318","Specialists","North America",400000,{"$f":"VLOOKUP(I313,Calc!$I$35:$J$39,2,FALSE)","v":8},null,"USA","Financial Specialist","All the 8 hours baby, all the 8!"]
["ID0319","Analysts","North America",55000,{"$f":"VLOOKUP(I314,Calc!$I$35:$J$39,2,FALSE)","v":5},null,"USA","Business Analyst","4 to 6 hours a day"]
["ID0320","Analysts","North America",60000,{"$f":"VLOOKUP(I315,Calc!$I$35:$J$39,2,FALSE)","v":5},null,"USA","Management Analyst","4 to 6 hours a day"]
["ID0321","Managers","Asia",17807.916687442568,{"$f":"VLOOKUP(I316,Calc!$I$35:$J$39,2,FALSE)","v":5},null,"India","Manager","4 to 6 hours a day"]
["ID0322","Managers","Europe",40000,{"$f":"VLOOKUP(I317,Calc!$I$35:$J$39,2,FALSE)","v":5},null,"Hungary","Dp manager","4 to 6 hours a day"]
["ID0323","Analysts","North America",137500,{"$f":"VLOOKUP(I318,Calc!$I$35:$J$39,2,FALSE)","v":5},null,"USA","director of analytics","4 to 6 hours a day"]
["ID0324","Analysts","South America",4545,{"$f":"VLOOKUP(I319,Calc!$I$35:$J$39,2,FALSE)","v":8},null,"Brasil","Supply Processes Analyst","All the 8 hours baby, all the 8!"]
["ID0325","Analysts","Europe",45709.169889951241,{"$f":"VLOOKUP(I320,Calc!$I$35:$J$39,2,FALSE)","v":5},null,"UK","ICT Technical Analyst","4 to 6 hours a day"]
["ID0326","Specialists","North America",47000,{"$f":"VLOOKUP(I321,Calc!$I$35:$J$39,2,FALSE)","v":5},null,"USA","Sourcing Specialist","4 to 6 hours a day"]
["ID0327","Analysts","North America",65000,{"$f":"VLOOKUP(I322,Calc!$I$35:$J$39,2,FALSE)","v":8},null,"USA","business analyst","All the 8 hours baby, all the 8!"]
["ID0328","Reporting","Asia",10809.503829551191,{"$f":"VLOOKUP(I323,Calc!$I$35:$J$39,2,FALSE)","v":5},null,"Philippines","Reporting Shared Services Oferring Lead","4 to 6 hours a day"]
["ID0329","Managers","North America",92000,{"$f":"VLOOKUP(I324,Calc!$I$35:$J$39,2,FALSE)","v":5},null,"USA","Sales Analytics Manager","4 to 6 hours a day"]
["ID0330","Managers","South America",22000,{"$f":"VLOOKUP(I325,Calc!$I$35:$J$39,2,FALSE)","v":5},null,"Mexico","Product Manager Sr","4 to 6 hours a day"]
["ID0331","Managers","North America",108000,{"$f":"VLOOKUP(I326,Calc!$I$35:$J$39,2,FALSE)","v":2.5},null,"USA","Database Architect","2 to 3 hours per day"]
["ID0332","Analysts","North America",61000,{"$f":"VLOOKUP(I327,Calc!$I$35:$J$39,2,FALSE)","v":1.5},null,"USA","Data Analyst","1 or 2 hours a day"]
["ID0333","Managers","North America",63918.498996971248,{"$f":"VLOOKUP(I328,Calc!$I$35:$J$39,2,FALSE)","v":2.5},null,"Canada","Product developer","2 to 3 hours per day"]
["ID0334","Analysts","North America",50000,{"$f":"VLOOKUP(I329,Calc!$I$35:$J$39,2,FALSE)","v":8},null,"USA","Supply Chain Analyst","All the 8 hours baby, all the 8!"]
["ID0335","Accountants","North America",150000,{"$f":"VLOOKUP(I330,Calc!$I$35:$J$39,2,FALSE)","v":8},null,"USA","financial planning","All the 8 hours baby, all the 8!"]
["ID0336","Analysts","Asia",7123.1666749770275,{"$f":"VLOOKUP(I331,Calc!$I$35:$J$39,2,FALSE)","v":5},null,"India","Test Analyst","4 to 6 hours a day"]
["ID0337","Managers","Middle East",150000,{"$f":"VLOOKUP(I332,Calc!$I$35:$J$39,2,FALSE)","v":5},null,"Israel","project manager, project finance consultant","4 to 6 hours a day"]
["ID0338","Specialists","North America",45000,{"$f":"VLOOKUP(I333,Calc!$I$35:$J$39,2,FALSE)","v":5},null,"USA","QC Fabrication Inspector","4 to 6 hours a day"]
["ID0339","Managers","North America",135000,{"$f":"VLOOKUP(I334,Calc!$I$35:$J$39,2,FALSE)","v":8},null,"USA","Manager of Trade Investment & Analysis","All the 8 hours baby, all the 8!"]
["ID0340","Analysts","Asia",6410.8500074793246,{"$f":"VLOOKUP(I335,Calc!$I$35:$J$39,2,FALSE)","v":2.5},null,"India","Business Analysit","2 to 3 hours per day"]
["ID0341","Managers","North America",29000,{"$f":"VLOOKUP(I336,Calc!$I$35:$J$39,2,FALSE)","v":5},null,"USA","Assistant Outside Plant Project Manager","4 to 6 hours a day"]
["ID0342","Managers","Asia",13000,{"$f":"VLOOKUP(I337,Calc!$I$35:$J$39,2,FALSE)","v":8},null,"India","operation-manager","All the 8 hours baby, all the 8!"]
["ID0343","Analysts","North America",63000,{"$f":"VLOOKUP(I338,Calc!$I$35:$J$39,2,FALSE)","v":8},null,"USA","Sales Analyst","All the 8 hours baby, all the 8!"]
["ID0344","Analysts","North America",95000,{"$f":"VLOOKUP(I339,Calc!$I$35:$J$39,2,FALSE)","v":5},null,"USA","Senior Financial Analyst","4 to 6 hours a day"]
["ID0346","Analysts","Europe",100000,{"$f":"VLOOKUP(I340,Calc!$I$35:$J$39,2,FALSE)","v":5},null,"UK","Senior Data Analyst","4 to 6 hours a day"]
["ID0347","Reporting","Asia",3800,{"$f":"VLOOKUP(I341,Calc!$I$35:$J$39,2,FALSE)","v":5},null,"India","MIS EXCUTIVE","4 to 6 hours a day"]
["ID0348","Consultants","South America",11400,{"$f":"VLOOKUP(I342,Calc!$I$35:$J$39,2,FALSE)","v":5},null,"Brazil","Advisor","4 to 6 hours a day"]
["ID0349","Analysts","North America",55068.245289698301,{"$f":"VLOOKUP(I343,Calc!$I$35:$J$39,2,FALSE)","v":5},null,"Canada","Online Analyst","4 to 6 hours a day"]
["ID0350","Managers","North America",53000,{"$f":"VLOOKUP(I344,Calc!$I$35:$J$39,2,FALSE)","v":2.5},null,"USA","General Manager","2 to 3 hours per day"]
["ID0351","Engineers","North America",130000,{"$f":"VLOOKUP(I345,Calc!$I$35:$J$39,2,FALSE)","v":5},null,"USA","Sr Staff Engineer","4 to 6 hours a day"]
["ID0352","Analysts","Asia",6588.9291743537506,{"$f":"VLOOKUP(I346,Calc!$I$35:$J$39,2,FALSE)","v":8},null,"India","Senior Design Associate","All the 8 hours baby, all the 8!"]
["ID0353","Consultants","North America",157337.8436848523,{"$f":"VLOOKUP(I347,Calc!$I$35:$J$39,2,FALSE)","v":2.5},null,"Canada","Consultant","2 to 3 hours per day"]
["ID0354","Analysts","North America",44200,{"$f":"VLOOKUP(I348,Calc!$I$35:$J$39,2,FALSE)","v":8},null,"USA","Planning and Analysis Supervisor","All the 8 hours baby, all the 8!"]
["ID0355","Managers","North America",56000,{"$f":"VLOOKUP(I349,Calc!$I$35:$J$39,2,FALSE)","v":2.5},null,"USA","asset manager","2 to 3 hours per day"]
["ID0356","Engineers","North America",72500,{"$f":"VLOOKUP(I350,Calc!$I$35:$J$39,2,FALSE)","v":2.5},null,"USA","Transportation Engineer","2 to 3 hours per day"]
["ID0357","Analysts","North America",73752.11422727452,{"$f":"VLOOKUP(I351,Calc!$I$35:$J$39,2,FALSE)","v":5},null,"Canada","web marketing analyst","4 to 6 hours a day"]
["ID0358","Analysts","Europe",170000,{"$f":"VLOOKUP(I352,Calc!$I$35:$J$39,2,FALSE)","v":0},null,"UK","RS","Excel ?!? What Excel?"]
["ID0359","Managers","North America",68000,{"$f":"VLOOKUP(I353,Calc!$I$35:$J$39,2,FALSE)","v":2.5},null,"USA","Project Manager","2 to 3 hours per day"]
["ID0360","Analysts","North America",75000,{"$f":"VLOOKUP(I354,Calc!$I$35:$J$39,2,FALSE)","v":8},null,"USA","Sr. Financial Analyst","All the 8 hours baby, all the 8!"]
["ID0361","Top Mgmt","North America",62500,{"$f":"VLOOKUP(I355,Calc!$I$35:$J$39,2,FALSE)","v":8},null,"USA","Director of Payroll","All the 8 hours baby, all the 8!"]
["ID0362","Managers","Asia",25000,{"$f":"VLOOKUP(I356,Calc!$I$35:$J$39,2,FALSE)","v":5},null,"India","Manager","4 to 6 hours a day"]
["ID0363","Consultants","Europe",68954.520184280962,{"$f":"VLOOKUP(I357,Calc!$I$35:$J$39,2,FALSE)","v":1.5},null,"Sweden","IT consultant","1 or 2 hours a day"]
["ID0365","Analysts","North America",85000,{"$f":"VLOOKUP(I358,Calc!$I$35:$J$39,2,FALSE)","v":5},null,"USA","Sr. Financial Analyst","4 to 6 hours a day"]
["ID0366","Managers","Europe",67775.665698893223,{"$f":"VLOOKUP(I359,Calc!$I$35:$J$39,2,FALSE)","v":5},null,"UK","Commercial Manager","4 to 6 hours a day"]
["ID0367","Managers","North America",89000,{"$f":"VLOOKUP(I360,Calc!$I$35:$J$39,2,FALSE)","v":5},null,"USA","Quality Assurance Officer","4 to 6 hours a day"]
["ID0368","Analysts","South America",35000,{"$f":"VLOOKUP(I361,Calc!$I$35:$J$39,2,FALSE)","v":8},null,"Brasil","Senior Treasury Analyst","All the 8 hours baby, all the 8!"]
["ID0369","Managers","North America",47500,{"$f":"VLOOKUP(I362,Calc!$I$35:$J$39,2,FALSE)","v":8},null,"USA","Supervisor, Contracts, Rebates, Chargebacks and Returns","All the 8 hours baby, all the 8!"]
["ID0370","Managers","North America",130000,{"$f":"VLOOKUP(I363,Calc!$I$35:$J$39,2,FALSE)","v":2.5},null,"USA","Project Manager","2 to 3 hours per day"]
["ID0371","Top Mgmt","Asia",18000,{"$f":"VLOOKUP(I364,Calc!$I$35:$J$39,2,FALSE)","v":2.5},null,"India","ceo","2 to 3 hours per day"]
["ID0372","Managers","Asia",8547.8000099724322,{"$f":"VLOOKUP(I365,Calc!$I$35:$J$39,2,FALSE)","v":1.5},null,"India","System Manager","1 or 2 hours a day"]
["ID0373","Managers","North America",41932,{"$f":"VLOOKUP(I366,Calc!$I$35:$J$39,2,FALSE)","v":2.5},null,"USA","Buyer","2 to 3 hours per day"]
["ID0374","Consultants","South America",220700,{"$f":"VLOOKUP(I367,Calc!$I$35:$J$39,2,FALSE)","v":8},null,"Brazil","Consultant","All the 8 hours baby, all the 8!"]
["ID0375","Top Mgmt","North America",194000,{"$f":"VLOOKUP(I368,Calc!$I$35:$J$39,2,FALSE)","v":2.5},null,"USA","director","2 to 3 hours per day"]
["ID0376","Analysts","Asia",160271.25018698312,{"$f":"VLOOKUP(I369,Calc!$I$35:$J$39,2,FALSE)","v":5},null,"India","Financial Analyst","4 to 6 hours a day"]
["ID0377","Managers","Asia",8903.9583437212841,{"$f":"VLOOKUP(I370,Calc!$I$35:$J$39,2,FALSE)","v":2.5},null,"India","Owner","2 to 3 hours per day"]
["ID0378","Analysts","North America",78668.921842426149,{"$f":"VLOOKUP(I371,Calc!$I$35:$J$39,2,FALSE)","v":5},null,"Canada","Senior Business Analyst","4 to 6 hours a day"]
["ID0379","Managers","Europe",22867.189901848938,{"$f":"VLOOKUP(I372,Calc!$I$35:$J$39,2,FALSE)","v":2.5},null,"Portugal","marketing and sales ","2 to 3 hours per day"]
["ID0380","Top Mgmt","Europe",94570.696324037053,{"$f":"VLOOKUP(I373,Calc!$I$35:$J$39,2,FALSE)","v":2.5},null,"UK","Managing Director","2 to 3 hours per day"]
["ID0381","Analysts","North America",95000,{"$f":"VLOOKUP(I374,Calc!$I$35:$J$39,2,FALSE)","v":8},null,"USA","Senior Financial Analyst","All the 8 hours baby, all the 8!"]
["ID0382","Engineers","Asia",9616.275011218986,{"$f":"VLOOKUP(I375,Calc!$I$35:$J$39,2,FALSE)","v":5},null,"India","Senior Billing Engineer","4 to 6 hours a day"]
["ID0383","Analysts","North America",48000,{"$f":"VLOOKUP(I376,Calc!$I$35:$J$39,2,FALSE)","v":1.5},null,"USA","Quality Analyst","1 or 2 hours a day"]
["ID0384","Analysts","North America",46000,{"$f":"VLOOKUP(I377,Calc!$I$35:$J$39,2,FALSE)","v":5},null,"USA","Financial analyst","4 to 6 hours a day"]
["ID0385","Reporting","Europe",15000,{"$f":"VLOOKUP(I378,Calc!$I$35:$J$39,2,FALSE)","v":2.5},null,"Ukraine","Economist","2 to 3 hours per day"]
["ID0386","Managers","Asia",11040.908346214392,{"$f":"VLOOKUP(I379,Calc!$I$35:$J$39,2,FALSE)","v":1.5},null,"India","assistant manager (finance)","1 or 2 hours a day"]
["ID0387","Managers","Europe",44132.991617883956,{"$f":"VLOOKUP(I380,Calc!$I$35:$J$39,2,FALSE)","v":2.5},null,"UK","Central Services Manager","2 to 3 hours per day"]
["ID0388","Managers","North America",47000,{"$f":"VLOOKUP(I381,Calc!$I$35:$J$39,2,FALSE)","v":2.5},null,"USA","Trainer ","2 to 3 hours per day"]
["ID0389","Analysts","North America",44000,{"$f":"VLOOKUP(I382,Calc!$I$35:$J$39,2,FALSE)","v":2.5},null,"USA","continuous improvement team member","2 to 3 hours per day"]
["ID0390","Accountants","North America",55000,{"$f":"VLOOKUP(I383,Calc!$I$35:$J$39,2,FALSE)","v":5},null,"USA","Accountant","4 to 6 hours a day"]
["ID0391","Reporting","Africa",12000,{"$f":"VLOOKUP(I384,Calc!$I$35:$J$39,2,FALSE)","v":5},null,"South Africa","MIS Officer","4 to 6 hours a day"]
["ID0392","Managers","North America",50000,{"$f":"VLOOKUP(I385,Calc!$I$35:$J$39,2,FALSE)","v":2.5},null,"USA","IR Manager","2 to 3 hours per day"]
["ID0393","Analysts","Asia",13355.937515581925,{"$f":"VLOOKUP(I386,Calc!$I$35:$J$39,2,FALSE)","v":1.5},null,"India","Business Analyst","1 or 2 hours a day"]
["ID0394","Specialists","Europe",99147,{"$f":"VLOOKUP(I387,Calc!$I$35:$J$39,2,FALSE)","v":5},null,"Russia","Chief Specialist of Economics & Planning","4 to 6 hours a day"]
["ID0395","Managers","North America",45880,{"$f":"VLOOKUP(I388,Calc!$I$35:$J$39,2,FALSE)","v":8},null,"USA","Campus Budget Officer","All the 8 hours baby, all the 8!"]
["ID0396","Managers","North America",70000,{"$f":"VLOOKUP(I389,Calc!$I$35:$J$39,2,FALSE)","v":5},null,"USA","Management Ananlyst","4 to 6 hours a day"]
["ID0397","Analysts","North America",100000,{"$f":"VLOOKUP(I390,Calc!$I$35:$J$39,2,FALSE)","v":8},null,"USA","Sales Operations Analyst","All the 8 hours baby, all the 8!"]
["ID0398","Analysts","Asia",17598.017290051986,{"$f":"VLOOKUP(I391,Calc!$I$35:$J$39,2,FALSE)","v":2.5},null,"Bangladesh","Computer Operator","2 to 3 hours per day"]
["ID0399","Engineers","North America",85000,{"$f":"VLOOKUP(I392,Calc!$I$35:$J$39,2,FALSE)","v":2.5},null,"USA","ENGINEER","2 to 3 hours per day"]
["ID0400","Managers","North America",47000,{"$f":"VLOOKUP(I393,Calc!$I$35:$J$39,2,FALSE)","v":5},null,"USA","Sr Management Analytst 2","4 to 6 hours a day"]
["ID0401","Managers","North America",40000,{"$f":"VLOOKUP(I394,Calc!$I$35:$J$39,2,FALSE)","v":2.5},null,"USA","Accounting Manager","2 to 3 hours per day"]
["ID0402","Top Mgmt","Asia",30000,{"$f":"VLOOKUP(I395,Calc!$I$35:$J$39,2,FALSE)","v":2.5},null,"India","ceo","2 to 3 hours per day"]
["ID0403","Controllers","North America",70802.029658183528,{"$f":"VLOOKUP(I396,Calc!$I$35:$J$39,2,FALSE)","v":5},null,"Canada","Controller","4 to 6 hours a day"]
["ID0404","Analysts","North America",34000,{"$f":"VLOOKUP(I397,Calc!$I$35:$J$39,2,FALSE)","v":5},null,"USA","Information Research Technician II","4 to 6 hours a day"]
["ID0405","Analysts","North America",52000,{"$f":"VLOOKUP(I398,Calc!$I$35:$J$39,2,FALSE)","v":5},null,"USA","Data Analyst","4 to 6 hours a day"]
["ID0406","Engineers","Asia",5342.3750062327708,{"$f":"VLOOKUP(I399,Calc!$I$35:$J$39,2,FALSE)","v":1.5},null,"India","Sr. Systems Engineer","1 or 2 hours a day"]
["ID0407","Analysts","Asia",7123.1666749770275,{"$f":"VLOOKUP(I400,Calc!$I$35:$J$39,2,FALSE)","v":5},null,"India","Analyst","4 to 6 hours a day"]
["ID0408","Managers","Middle East",63586,{"$f":"VLOOKUP(I401,Calc!$I$35:$J$39,2,FALSE)","v":2.5},null,"UAE","Senior Purchasing Officer","2 to 3 hours per day"]
["ID0409","Accountants","Europe",55166.239522354947,{"$f":"VLOOKUP(I402,Calc!$I$35:$J$39,2,FALSE)","v":5},null,"UK","Mgmt Accountant","4 to 6 hours a day"]
["ID0410","Analysts","North America",60000,{"$f":"VLOOKUP(I403,Calc!$I$35:$J$39,2,FALSE)","v":5},null,"USA","Sr financial analyst ","4 to 6 hours a day"]
["ID0411","Managers","Europe",19200,{"$f":"VLOOKUP(I404,Calc!$I$35:$J$39,2,FALSE)","v":8},null,"Romania","Department Manager","All the 8 hours baby, all the 8!"]
["ID0412","Analysts","South America",28109.627547434993,{"$f":"VLOOKUP(I405,Calc!$I$35:$J$39,2,FALSE)","v":8},null,"Costa Rica","Businees Adminstratot","All the 8 hours baby, all the 8!"]
["ID0413","Analysts","North America",56000,{"$f":"VLOOKUP(I406,Calc!$I$35:$J$39,2,FALSE)","v":5},null,"USA","Staff assistant ","4 to 6 hours a day"]
["ID0414","Accountants","North America",52000,{"$f":"VLOOKUP(I407,Calc!$I$35:$J$39,2,FALSE)","v":5},null,"USA","Sr. Accountant","4 to 6 hours a day"]
["ID0415","Analysts","North America",51613,{"$f":"VLOOKUP(I408,Calc!$I$35:$J$39,2,FALSE)","v":8},null,"USA","Air Planning Analyst","All the 8 hours baby, all the 8!"]
["ID0416","Analysts","Europe",35000,{"$f":"VLOOKUP(I409,Calc!$I$35:$J$39,2,FALSE)","v":5},null,"Russia","Credit Analyst","4 to 6 hours a day"]
["ID0417","Managers","North America",56000,{"$f":"VLOOKUP(I410,Calc!$I$35:$J$39,2,FALSE)","v":8},null,"USA","financial management consultant","All the 8 hours baby, all the 8!"]
["ID0418","Consultants","North America",115000,{"$f":"VLOOKUP(I411,Calc!$I$35:$J$39,2,FALSE)","v":2.5},null,"USA","Consultant","2 to 3 hours per day"]
["ID0419","Managers","Europe",104027.76595644075,{"$f":"VLOOKUP(I412,Calc!$I$35:$J$39,2,FALSE)","v":1.5},null,"UK","IT Project Manager, EMEA","1 or 2 hours a day"]
["ID0420","Consultants","Asia",3561.5833374885137,{"$f":"VLOOKUP(I413,Calc!$I$35:$J$39,2,FALSE)","v":1.5},null,"India","Consultant","1 or 2 hours a day"]
["ID0421","Top Mgmt","North America",72000,{"$f":"VLOOKUP(I414,Calc!$I$35:$J$39,2,FALSE)","v":5},null,"USA","IS Director","4 to 6 hours a day"]
["ID0422","Analysts","North America",90000,{"$f":"VLOOKUP(I415,Calc!$I$35:$J$39,2,FALSE)","v":8},null,"USA","Financial Analyst","All the 8 hours baby, all the 8!"]
["ID0423","Accountants","Europe",8500,{"$f":"VLOOKUP(I416,Calc!$I$35:$J$39,2,FALSE)","v":2.5},null,"Romania","Accounting Coordinator","2 to 3 hours per day"]
["ID0424","Analysts","Middle East",12000,{"$f":"VLOOKUP(I417,Calc!$I$35:$J$39,2,FALSE)","v":2.5},null,"Iran","teacher","2 to 3 hours per day"]
["ID0425","Consultants","North America",250000,{"$f":"VLOOKUP(I418,Calc!$I$35:$J$39,2,FALSE)","v":8},null,"USA","consultant","All the 8 hours baby, all the 8!"]
["ID0426","Analysts","Europe",89944.280280605832,{"$f":"VLOOKUP(I419,Calc!$I$35:$J$39,2,FALSE)","v":8},null,"Finland","Excel trainer","All the 8 hours baby, all the 8!"]
["ID0427","Managers","Asia",4273.9000049862161,{"$f":"VLOOKUP(I420,Calc!$I$35:$J$39,2,FALSE)","v":8},null,"India","WFM Team Lead","All the 8 hours baby, all the 8!"]
["ID0428","Managers","North America",30000,{"$f":"VLOOKUP(I421,Calc!$I$35:$J$39,2,FALSE)","v":2.5},null,"USA","Supervisor","2 to 3 hours per day"]
["ID0429","Reporting","Europe",30000,{"$f":"VLOOKUP(I422,Calc!$I$35:$J$39,2,FALSE)","v":1.5},null,"Romania","BI Developer","1 or 2 hours a day"]
["ID0430","Engineers","North America",24000,{"$f":"VLOOKUP(I423,Calc!$I$35:$J$39,2,FALSE)","v":1.5},null,"USA","engineer","1 or 2 hours a day"]
["ID0431","Managers","North America",60000,{"$f":"VLOOKUP(I424,Calc!$I$35:$J$39,2,FALSE)","v":5},null,"USA","Planner","4 to 6 hours a day"]
["ID0432","Analysts","North America",76600,{"$f":"VLOOKUP(I425,Calc!$I$35:$J$39,2,FALSE)","v":2.5},null,"USA","Analyst","2 to 3 hours per day"]
["ID0433","Controllers","Europe",102451.58768437347,{"$f":"VLOOKUP(I426,Calc!$I$35:$J$39,2,FALSE)","v":2.5},null,"UK","Financial Controller","2 to 3 hours per day"]
["ID0434","Engineers","South America",6629,{"$f":"VLOOKUP(I427,Calc!$I$35:$J$39,2,FALSE)","v":8},null,"Dominican Republic","Engineer","All the 8 hours baby, all the 8!"]
["ID0435","Analysts","North America",90000,{"$f":"VLOOKUP(I428,Calc!$I$35:$J$39,2,FALSE)","v":1.5},null,"USA","senior analyst","1 or 2 hours a day"]
["ID0436","Analysts","South America",8500,{"$f":"VLOOKUP(I429,Calc!$I$35:$J$39,2,FALSE)","v":1.5},null,"Colombia","Assesor","1 or 2 hours a day"]
["ID0437","Analysts","North America",75000,{"$f":"VLOOKUP(I430,Calc!$I$35:$J$39,2,FALSE)","v":5},null,"USA","Financial Analys","4 to 6 hours a day"]
["ID0438","Analysts","North America",72000,{"$f":"VLOOKUP(I431,Calc!$I$35:$J$39,2,FALSE)","v":2.5},null,"USA","Sr. Information Systems Analyst","2 to 3 hours per day"]
["ID0439","Analysts","North America",65000,{"$f":"VLOOKUP(I432,Calc!$I$35:$J$39,2,FALSE)","v":5},null,"USA","Senior Claims Analyst","4 to 6 hours a day"]
["ID0440","Top Mgmt","North America",120000,{"$f":"VLOOKUP(I433,Calc!$I$35:$J$39,2,FALSE)","v":1.5},null,"USA","Director","1 or 2 hours a day"]
["ID0441","Accountants","Asia",71231.666749770273,{"$f":"VLOOKUP(I434,Calc!$I$35:$J$39,2,FALSE)","v":8},null,"India","Sr Mgr Finance","All the 8 hours baby, all the 8!"]
["ID0442","Managers","Asia",5342.3750062327708,{"$f":"VLOOKUP(I435,Calc!$I$35:$J$39,2,FALSE)","v":5},null,"India","Web Portal Manager","4 to 6 hours a day"]
["ID0443","Managers","Asia",19588.708356186824,{"$f":"VLOOKUP(I436,Calc!$I$35:$J$39,2,FALSE)","v":5},null,"India","manager - MIS & operations planning","4 to 6 hours a day"]
["ID0444","Analysts","North America",80000,{"$f":"VLOOKUP(I437,Calc!$I$35:$J$39,2,FALSE)","v":5},null,"USA","web analyst","4 to 6 hours a day"]
["ID0445","Managers","Asia",53423.750062327701,{"$f":"VLOOKUP(I438,Calc!$I$35:$J$39,2,FALSE)","v":5},null,"India","Management Consultant","4 to 6 hours a day"]
["ID0446","Controllers","North America",108169.76753333595,{"$f":"VLOOKUP(I439,Calc!$I$35:$J$39,2,FALSE)","v":2.5},null,"Canada","Continuos improvment","2 to 3 hours per day"]
["ID0447","Managers","North America",51000,{"$f":"VLOOKUP(I440,Calc!$I$35:$J$39,2,FALSE)","v":2.5},null,"USA","Direct marketing manager","2 to 3 hours per day"]
["ID0448","Reporting","Asia",5000,{"$f":"VLOOKUP(I441,Calc!$I$35:$J$39,2,FALSE)","v":5},null,"India","mis","4 to 6 hours a day"]
["ID0449","Engineers","North America",74000,{"$f":"VLOOKUP(I442,Calc!$I$35:$J$39,2,FALSE)","v":5},null,"USA","Engineer","4 to 6 hours a day"]
["ID0450","Consultants","Europe",94570.696324037053,{"$f":"VLOOKUP(I443,Calc!$I$35:$J$39,2,FALSE)","v":5},null,"UK","Excel Consultant","4 to 6 hours a day"]
["ID0451","Analysts","North America",50000,{"$f":"VLOOKUP(I444,Calc!$I$35:$J$39,2,FALSE)","v":5},null,"USA","Wine Analyst","4 to 6 hours a day"]
["ID0452","Analysts","Asia",8903.9583437212841,{"$f":"VLOOKUP(I445,Calc!$I$35:$J$39,2,FALSE)","v":5},null,"India","Business Analyst","4 to 6 hours a day"]
["ID0453","Managers","Africa",78000,{"$f":"VLOOKUP(I446,Calc!$I$35:$J$39,2,FALSE)","v":5},null,"Somalia","FinanceManager","4 to 6 hours a day"]
["ID0454","Managers","Asia",16027.125018698311,{"$f":"VLOOKUP(I447,Calc!$I$35:$J$39,2,FALSE)","v":1.5},null,"India","Regional Manager","1 or 2 hours a day"]
["ID0455","Analysts","Europe",7500,{"$f":"VLOOKUP(I448,Calc!$I$35:$J$39,2,FALSE)","v":8},null,"Romania","HR reporting analyst","All the 8 hours baby, all the 8!"]
["ID0456","Analysts","North America",60000,{"$f":"VLOOKUP(I449,Calc!$I$35:$J$39,2,FALSE)","v":8},null,"USA","Finalcial Reporting Analyst","All the 8 hours baby, all the 8!"]
["ID0457","Top Mgmt","Asia",14246.333349954055,{"$f":"VLOOKUP(I450,Calc!$I$35:$J$39,2,FALSE)","v":8},null,"India","Partner","All the 8 hours baby, all the 8!"]
["ID0458","Managers","North America",80000,{"$f":"VLOOKUP(I451,Calc!$I$35:$J$39,2,FALSE)","v":1.5},null,"USA","operations tech","1 or 2 hours a day"]
["ID0459","Accountants","Europe",59894.774338556796,{"$f":"VLOOKUP(I452,Calc!$I$35:$J$39,2,FALSE)","v":5},null,"UK","Commercial Accountant","4 to 6 hours a day"]
["ID0460","Managers","North America",51134.799197576998,{"$f":"VLOOKUP(I453,Calc!$I$35:$J$39,2,FALSE)","v":5},null,"Canada","Office Manager","4 to 6 hours a day"]
["ID0461","Managers","North America",125000,{"$f":"VLOOKUP(I454,Calc!$I$35:$J$39,2,FALSE)","v":2.5},null,"USA","Prod Mgr","2 to 3 hours per day"]
["ID0462","Analysts","North America",52000,{"$f":"VLOOKUP(I455,Calc!$I$35:$J$39,2,FALSE)","v":2.5},null,"USA","Graphics/Web Document Designer","2 to 3 hours per day"]
["ID0463","Analysts","North America",45000,{"$f":"VLOOKUP(I456,Calc!$I$35:$J$39,2,FALSE)","v":5},null,"USA","Analyst","4 to 6 hours a day"]
["ID0464","Analysts","Europe",39404.456801682099,{"$f":"VLOOKUP(I457,Calc!$I$35:$J$39,2,FALSE)","v":5},null,"UK","Analyst","4 to 6 hours a day"]
["ID0465","Managers","North America",60000,{"$f":"VLOOKUP(I458,Calc!$I$35:$J$39,2,FALSE)","v":8},null,"USA","Business intelligence manager","All the 8 hours baby, all the 8!"]
["ID0466","Managers","North America",68835.306612122877,{"$f":"VLOOKUP(I459,Calc!$I$35:$J$39,2,FALSE)","v":1.5},null,"Canada","Program Manager","1 or 2 hours a day"]
["ID0467","Specialists","Asia",5250,{"$f":"VLOOKUP(I460,Calc!$I$35:$J$39,2,FALSE)","v":5},null,"Republic of Georgia","Treasure Specialist","4 to 6 hours a day"]
["ID0468","Managers","North America",85552.452503638444,{"$f":"VLOOKUP(I461,Calc!$I$35:$J$39,2,FALSE)","v":5},null,"Canada","Business Manager","4 to 6 hours a day"]
["ID0469","Analysts","Asia",2225.989585930321,{"$f":"VLOOKUP(I462,Calc!$I$35:$J$39,2,FALSE)","v":5},null,"India","clerk","4 to 6 hours a day"]
["ID0470","Top Mgmt","North America",150000,{"$f":"VLOOKUP(I463,Calc!$I$35:$J$39,2,FALSE)","v":2.5},null,"USA","CFO","2 to 3 hours per day"]
["ID0471","Analysts","North America",50000,{"$f":"VLOOKUP(I464,Calc!$I$35:$J$39,2,FALSE)","v":5},null,"USA","Researcher & Data Analyst","4 to 6 hours a day"]
["ID0472","Analysts","North America",70000,{"$f":"VLOOKUP(I465,Calc!$I$35:$J$39,2,FALSE)","v":5},null,"USA","Analyst","4 to 6 hours a day"]
["ID0473","Managers","Europe",44921.080753917595,{"$f":"VLOOKUP(I466,Calc!$I$35:$J$39,2,FALSE)","v":2.5},null,"UK","Data Quality & Analysis Manager","2 to 3 hours per day"]
["ID0474","Specialists","Asia",20000,{"$f":"VLOOKUP(I467,Calc!$I$35:$J$39,2,FALSE)","v":5},null,"India","Specialist","4 to 6 hours a day"]
["ID0476","Analysts","Europe",12000,{"$f":"VLOOKUP(I468,Calc!$I$35:$J$39,2,FALSE)","v":8},null,"Estonia","Resource managment Analyst","All the 8 hours baby, all the 8!"]
["ID0477","Accountants","North America",122920,{"$f":"VLOOKUP(I469,Calc!$I$35:$J$39,2,FALSE)","v":5},null,"Canada","Account Executive","4 to 6 hours a day"]
["ID0478","Analysts","North America",30000,{"$f":"VLOOKUP(I470,Calc!$I$35:$J$39,2,FALSE)","v":0},null,"USA","video production","Excel ?!? What Excel?"]
["ID0479","Engineers","Africa",24000,{"$f":"VLOOKUP(I471,Calc!$I$35:$J$39,2,FALSE)","v":2.5},null,"Mozambique","engineer","2 to 3 hours per day"]
["ID0480","Engineers","North America",92000,{"$f":"VLOOKUP(I472,Calc!$I$35:$J$39,2,FALSE)","v":1.5},null,"USA","principal engineer","1 or 2 hours a day"]
["ID0481","Analysts","North America",52000,{"$f":"VLOOKUP(I473,Calc!$I$35:$J$39,2,FALSE)","v":5},null,"USA","budget analyst","4 to 6 hours a day"]
["ID0482","Top Mgmt","North America",169000,{"$f":"VLOOKUP(I474,Calc!$I$35:$J$39,2,FALSE)","v":2.5},null,"USA","Category Director (Marketing)","2 to 3 hours per day"]
["ID0484","Accountants","Europe",110000,{"$f":"VLOOKUP(I475,Calc!$I$35:$J$39,2,FALSE)","v":2.5},null,"Norway","Senior consultant accounting","2 to 3 hours per day"]
["ID0485","Managers","Africa",131675.52225194403,{"$f":"VLOOKUP(I476,Calc!$I$35:$J$39,2,FALSE)","v":2.5},null,"South Africa","Finance manager","2 to 3 hours per day"]
["ID0486","Consultants","Europe",92994.518051969761,{"$f":"VLOOKUP(I477,Calc!$I$35:$J$39,2,FALSE)","v":2.5},null,"UK","Health and safety advisor","2 to 3 hours per day"]
["ID0487","Analysts","North America",50000,{"$f":"VLOOKUP(I478,Calc!$I$35:$J$39,2,FALSE)","v":5},null,"USA","Workforce Analyst","4 to 6 hours a day"]
["ID0488","Analysts","North America",65000,{"$f":"VLOOKUP(I479,Calc!$I$35:$J$39,2,FALSE)","v":2.5},null,"USA","Business Systems Analyst","2 to 3 hours per day"]
["ID0489","Analysts","North America",45234.630059395036,{"$f":"VLOOKUP(I480,Calc!$I$35:$J$39,2,FALSE)","v":8},null,"Canada","Sr. Marketing Solutions Analyst","All the 8 hours baby, all the 8!"]
["ID0490","Analysts","North America",55000,{"$f":"VLOOKUP(I481,Calc!$I$35:$J$39,2,FALSE)","v":2.5},null,"USA","Analyst","2 to 3 hours per day"]
["ID0491","Consultants","Asia",20000,{"$f":"VLOOKUP(I482,Calc!$I$35:$J$39,2,FALSE)","v":2.5},null,"India","Consultant","2 to 3 hours per day"]
["ID0492","Reporting","Asia",6000,{"$f":"VLOOKUP(I483,Calc!$I$35:$J$39,2,FALSE)","v":8},null,"India","MIS","All the 8 hours baby, all the 8!"]
["ID0493","Top Mgmt","Europe",299473.87169278396,{"$f":"VLOOKUP(I484,Calc!$I$35:$J$39,2,FALSE)","v":5},null,"UK","Managing Partner","4 to 6 hours a day"]
["ID0494","Managers","Europe",44391.484854502989,{"$f":"VLOOKUP(I485,Calc!$I$35:$J$39,2,FALSE)","v":5},null,"UK","Administration Officer","4 to 6 hours a day"]
["ID0495","Analysts","North America",40000,{"$f":"VLOOKUP(I486,Calc!$I$35:$J$39,2,FALSE)","v":2.5},null,"USA","BAS","2 to 3 hours per day"]
["ID0496","Managers","Europe",108000,{"$f":"VLOOKUP(I487,Calc!$I$35:$J$39,2,FALSE)","v":5},null,"Norway","Manager","4 to 6 hours a day"]
["ID0497","Analysts","Asia",3561.5833374885137,{"$f":"VLOOKUP(I488,Calc!$I$35:$J$39,2,FALSE)","v":2.5},null,"India","chemist","2 to 3 hours per day"]
["ID0498","Analysts","North America",84000,{"$f":"VLOOKUP(I489,Calc!$I$35:$J$39,2,FALSE)","v":8},null,"USA","Senior Analyst","All the 8 hours baby, all the 8!"]
["ID0499","Managers","Europe",52013.882978220376,{"$f":"VLOOKUP(I490,Calc!$I$35:$J$39,2,FALSE)","v":5},null,"UK","LOGISTIC MANAGER","4 to 6 hours a day"]
["ID0500","Managers","Asia",12821.700014958649,{"$f":"VLOOKUP(I491,Calc!$I$35:$J$39,2,FALSE)","v":2.5},null,"India","Manager Finance","2 to 3 hours per day"]
["ID0501","Analysts","North America",67360.264327577388,{"$f":"VLOOKUP(I492,Calc!$I$35:$J$39,2,FALSE)","v":5},null,"Canada","Financial Analyst","4 to 6 hours a day"]
["ID0502","Managers","Europe",23000,{"$f":"VLOOKUP(I493,Calc!$I$35:$J$39,2,FALSE)","v":5},null,"Hungary","IT solutions coordinator","4 to 6 hours a day"]
["ID0503","Managers","Europe",91418.339779902482,{"$f":"VLOOKUP(I494,Calc!$I$35:$J$39,2,FALSE)","v":8},null,"UK","Business Modeller","All the 8 hours baby, all the 8!"]
["ID0504","Analysts","North America",77000,{"$f":"VLOOKUP(I495,Calc!$I$35:$J$39,2,FALSE)","v":8},null,"USA","Senior Financial Analyst","All the 8 hours baby, all the 8!"]
["ID0505","Analysts","North America",100000,{"$f":"VLOOKUP(I496,Calc!$I$35:$J$39,2,FALSE)","v":5},null,"USA","Analyst","4 to 6 hours a day"]
["ID0506","Controllers","Middle East",55500,{"$f":"VLOOKUP(I497,Calc!$I$35:$J$39,2,FALSE)","v":5},null,"UAE","Sr QS","4 to 6 hours a day"]
["ID0507","Analysts","Europe",19055.991584874118,{"$f":"VLOOKUP(I498,Calc!$I$35:$J$39,2,FALSE)","v":8},null,"Spain","Report Analyst","All the 8 hours baby, all the 8!"]
["ID0508","Managers","Asia",10684.750012465542,{"$f":"VLOOKUP(I499,Calc!$I$35:$J$39,2,FALSE)","v":5},null,"India","Business Co ordinator","4 to 6 hours a day"]
["ID0509","Managers","Asia",8400,{"$f":"VLOOKUP(I500,Calc!$I$35:$J$39,2,FALSE)","v":5},null,"India","Manager","4 to 6 hours a day"]
["ID0510","Managers","Asia",8903.9583437212841,{"$f":"VLOOKUP(I501,Calc!$I$35:$J$39,2,FALSE)","v":2.5},null,"India","duty manager","2 to 3 hours per day"]
["ID0511","Analysts","South America",12000,{"$f":"VLOOKUP(I502,Calc!$I$35:$J$39,2,FALSE)","v":8},null,"Brazil","Report Analyst","All the 8 hours baby, all the 8!"]
["ID0512","Managers","North America",65000,{"$f":"VLOOKUP(I503,Calc!$I$35:$J$39,2,FALSE)","v":8},null,"USA","Retail Store Manager","All the 8 hours baby, all the 8!"]
["ID0513","Analysts","Europe",25849.323661903458,{"$f":"VLOOKUP(I504,Calc!$I$35:$J$39,2,FALSE)","v":5},null,"UK","Job Build analyst","4 to 6 hours a day"]
["ID0514","Analysts","Europe",122941.90522124816,{"$f":"VLOOKUP(I505,Calc!$I$35:$J$39,2,FALSE)","v":1.5},null,"UK","Associate","1 or 2 hours a day"]
["ID0515","Managers","North America",76000,{"$f":"VLOOKUP(I506,Calc!$I$35:$J$39,2,FALSE)","v":2.5},null,"USA","Accounting Manager","2 to 3 hours per day"]
["ID0516","Consultants","North America",150000,{"$f":"VLOOKUP(I507,Calc!$I$35:$J$39,2,FALSE)","v":8},null,"USA","Consultant","All the 8 hours baby, all the 8!"]
["ID0517","Analysts","North America",54000,{"$f":"VLOOKUP(I508,Calc!$I$35:$J$39,2,FALSE)","v":5},null,"USA","Business Analyst","4 to 6 hours a day"]
["ID0518","Managers","Middle East",57000,{"$f":"VLOOKUP(I509,Calc!$I$35:$J$39,2,FALSE)","v":5},null,"Israel","project finance manager","4 to 6 hours a day"]
["ID0519","Accountants","North America",61000,{"$f":"VLOOKUP(I510,Calc!$I$35:$J$39,2,FALSE)","v":5},null,"USA","Senior Accountant","4 to 6 hours a day"]
["ID0520","Analysts","North America",70000,{"$f":"VLOOKUP(I511,Calc!$I$35:$J$39,2,FALSE)","v":8},null,"USA","Metrics Analyst","All the 8 hours baby, all the 8!"]
["ID0521","Managers","Asia",15000,{"$f":"VLOOKUP(I512,Calc!$I$35:$J$39,2,FALSE)","v":5},null,"India","Asst.Manager","4 to 6 hours a day"]
["ID0522","Managers","North America",86093.301341305123,{"$f":"VLOOKUP(I513,Calc!$I$35:$J$39,2,FALSE)","v":5},null,"Canada","Manager","4 to 6 hours a day"]
["ID0523","Managers","North America",72600,{"$f":"VLOOKUP(I514,Calc!$I$35:$J$39,2,FALSE)","v":2.5},null,"USA","Accounting Operations Manager","2 to 3 hours per day"]
["ID0524","Top Mgmt","North America",100000,{"$f":"VLOOKUP(I515,Calc!$I$35:$J$39,2,FALSE)","v":2.5},null,"USA","Director","2 to 3 hours per day"]
["ID0525","Analysts","North America",104000,{"$f":"VLOOKUP(I516,Calc!$I$35:$J$39,2,FALSE)","v":5},null,"USA","Vice President, Analyst","4 to 6 hours a day"]
["ID0526","Managers","Asia",10684.750012465542,{"$f":"VLOOKUP(I517,Calc!$I$35:$J$39,2,FALSE)","v":5},null,"India","Project Manager","4 to 6 hours a day"]
["ID0527","Top Mgmt","North America",200000,{"$f":"VLOOKUP(I518,Calc!$I$35:$J$39,2,FALSE)","v":2.5},null,"USA","COO","2 to 3 hours per day"]
["ID0528","Accountants","Europe",62564.631571458704,{"$f":"VLOOKUP(I519,Calc!$I$35:$J$39,2,FALSE)","v":8},null,"Netherlands","Financial Advisor","All the 8 hours baby, all the 8!"]
["ID0529","Managers","Europe",57530.506930455871,{"$f":"VLOOKUP(I520,Calc!$I$35:$J$39,2,FALSE)","v":2.5},null,"UK","Production Manager","2 to 3 hours per day"]
["ID0530","Managers","North America",82300,{"$f":"VLOOKUP(I521,Calc!$I$35:$J$39,2,FALSE)","v":2.5},null,"USA","Manager - Finance","2 to 3 hours per day"]
["ID0531","Consultants","North America",95000,{"$f":"VLOOKUP(I522,Calc!$I$35:$J$39,2,FALSE)","v":5},null,"USA","Process Design Consultant","4 to 6 hours a day"]
["ID0532","Specialists","Europe",220664.95808941979,{"$f":"VLOOKUP(I523,Calc!$I$35:$J$39,2,FALSE)","v":8},null,"UK","vba specialist","All the 8 hours baby, all the 8!"]
["ID0533","Analysts","Europe",72000,{"$f":"VLOOKUP(I524,Calc!$I$35:$J$39,2,FALSE)","v":2.5},null,"Russia","Analytical Department Director ","2 to 3 hours per day"]
["ID0534","Analysts","Oceana",61194.579384158147,{"$f":"VLOOKUP(I525,Calc!$I$35:$J$39,2,FALSE)","v":2.5},null,"Australia","Analyst","2 to 3 hours per day"]
["ID0535","Managers","Oceana",120000,{"$f":"VLOOKUP(I526,Calc!$I$35:$J$39,2,FALSE)","v":2.5},null,"New Zealand","manager","2 to 3 hours per day"]
["ID0536","Top Mgmt","South America",95000,{"$f":"VLOOKUP(I527,Calc!$I$35:$J$39,2,FALSE)","v":2.5},null,"Central America","Director of Supply Chain","2 to 3 hours per day"]
["ID0537","Analysts","North America",50000,{"$f":"VLOOKUP(I528,Calc!$I$35:$J$39,2,FALSE)","v":2.5},null,"USA","Research Assistant","2 to 3 hours per day"]
["ID0538","Managers","Europe",115061.01386091174,{"$f":"VLOOKUP(I529,Calc!$I$35:$J$39,2,FALSE)","v":5},null,"UK","Finance Manager","4 to 6 hours a day"]
["ID0539","Analysts","North America",50000,{"$f":"VLOOKUP(I530,Calc!$I$35:$J$39,2,FALSE)","v":5},null,"Self-employed","Excel professional","4 to 6 hours a day"]
["ID0540","Analysts","North America",46000,{"$f":"VLOOKUP(I531,Calc!$I$35:$J$39,2,FALSE)","v":2.5},null,"USA","Research Analyst","2 to 3 hours per day"]
["ID0541","Consultants","Asia",6368.453230079479,{"$f":"VLOOKUP(I532,Calc!$I$35:$J$39,2,FALSE)","v":5},null,"Pakistan","Trainer","4 to 6 hours a day"]
["ID0543","Analysts","Oceana",86692.320794224041,{"$f":"VLOOKUP(I533,Calc!$I$35:$J$39,2,FALSE)","v":5},null,"Australia","Business analyst","4 to 6 hours a day"]
["ID0544","Managers","Asia",8013.5625093491553,{"$f":"VLOOKUP(I534,Calc!$I$35:$J$39,2,FALSE)","v":8},null,"India","deputy manager","All the 8 hours baby, all the 8!"]
["ID0545","Accountants","North America",43000,{"$f":"VLOOKUP(I535,Calc!$I$35:$J$39,2,FALSE)","v":8},null,"USA","Accountant","All the 8 hours baby, all the 8!"]
["ID0546","Engineers","South America",18000,{"$f":"VLOOKUP(I536,Calc!$I$35:$J$39,2,FALSE)","v":5},null,"Brazil","Engineer","4 to 6 hours a day"]
["ID0547","Analysts","North America",55000,{"$f":"VLOOKUP(I537,Calc!$I$35:$J$39,2,FALSE)","v":2.5},null,"USA","Marketing","2 to 3 hours per day"]
["ID0548","Analysts","Asia",8903.9583437212841,{"$f":"VLOOKUP(I538,Calc!$I$35:$J$39,2,FALSE)","v":8},null,"India","Research Associate","All the 8 hours baby, all the 8!"]
["ID0549","Reporting","North America",45000,{"$f":"VLOOKUP(I539,Calc!$I$35:$J$39,2,FALSE)","v":8},null,"USA","Reports Coordinator","All the 8 hours baby, all the 8!"]
["ID0550","Managers","North America",50000,{"$f":"VLOOKUP(I540,Calc!$I$35:$J$39,2,FALSE)","v":5},null,"USA","Quality Compliance Manager","4 to 6 hours a day"]
["ID0551","Analysts","North America",80000,{"$f":"VLOOKUP(I541,Calc!$I$35:$J$39,2,FALSE)","v":8},null,"USA","Cost Analyst","All the 8 hours baby, all the 8!"]
["ID0552","Analysts","North America",67000,{"$f":"VLOOKUP(I542,Calc!$I$35:$J$39,2,FALSE)","v":5},null,"USA","Management Analyst","4 to 6 hours a day"]
["ID0553","Analysts","Asia",111000,{"$f":"VLOOKUP(I543,Calc!$I$35:$J$39,2,FALSE)","v":8},null,"Japan","Senior Financial Analyst","All the 8 hours baby, all the 8!"]
["ID0554","Top Mgmt","North America",120000,{"$f":"VLOOKUP(I544,Calc!$I$35:$J$39,2,FALSE)","v":5},null,"USA","Director","4 to 6 hours a day"]
["ID0555","Consultants","Europe",31523.565441345683,{"$f":"VLOOKUP(I545,Calc!$I$35:$J$39,2,FALSE)","v":5},null,"UK","IT Consultant","4 to 6 hours a day"]
["ID0556","Analysts","Oceana",78533.043543002947,{"$f":"VLOOKUP(I546,Calc!$I$35:$J$39,2,FALSE)","v":2.5},null,"Australia","Intelligence Analyst","2 to 3 hours per day"]
["ID0557","Specialists","North America",60000,{"$f":"VLOOKUP(I547,Calc!$I$35:$J$39,2,FALSE)","v":1.5},null,"USA","Marketing Specialist","1 or 2 hours a day"]
["ID0558","Analysts","North America",35000,{"$f":"VLOOKUP(I548,Calc!$I$35:$J$39,2,FALSE)","v":2.5},null,"USA","Analyst","2 to 3 hours per day"]
["ID0559","Managers","South America",63519.971949580387,{"$f":"VLOOKUP(I549,Calc!$I$35:$J$39,2,FALSE)","v":2.5},null,"Panama","Proyect Manager","2 to 3 hours per day"]
["ID0560","Specialists","North America",54000,{"$f":"VLOOKUP(I550,Calc!$I$35:$J$39,2,FALSE)","v":8},5,"USA","IT Specialist","All the 8 hours baby, all the 8!"]
["ID0561","Controllers","South America",15600,{"$f":"VLOOKUP(I551,Calc!$I$35:$J$39,2,FALSE)","v":5},20,"Brazil","CONTROLLER","4 to 6 hours a day"]
["ID0562","Analysts","North America",35000,{"$f":"VLOOKUP(I552,Calc!$I$35:$J$39,2,FALSE)","v":1.5},7,"USA","Technical Support Technician","1 or 2 hours a day"]
["ID0563","Top Mgmt","North America",188000,{"$f":"VLOOKUP(I553,Calc!$I$35:$J$39,2,FALSE)","v":1.5},20,"USA","Director, Supply Chain Operations","1 or 2 hours a day"]
["ID0564","Analysts","North America",27500,{"$f":"VLOOKUP(I554,Calc!$I$35:$J$39,2,FALSE)","v":8},1,"USA","Associate","All the 8 hours baby, all the 8!"]
["ID0565","Controllers","North America",140000,{"$f":"VLOOKUP(I555,Calc!$I$35:$J$39,2,FALSE)","v":2.5},10,"USA","controller","2 to 3 hours per day"]
["ID0566","Analysts","Europe",69871.969144538423,{"$f":"VLOOKUP(I556,Calc!$I$35:$J$39,2,FALSE)","v":8},6,"Netherlands","Business analyst","All the 8 hours baby, all the 8!"]
["ID0567","Analysts","North America",45000,{"$f":"VLOOKUP(I557,Calc!$I$35:$J$39,2,FALSE)","v":5},2,"USA","Workflow Analyst","4 to 6 hours a day"]
["ID0568","Analysts","Oceana",95000,{"$f":"VLOOKUP(I558,Calc!$I$35:$J$39,2,FALSE)","v":2.5},11,"Australia","Business Analyst","2 to 3 hours per day"]
["ID0569","Managers","Oceana",158085.99674240855,{"$f":"VLOOKUP(I559,Calc!$I$35:$J$39,2,FALSE)","v":5},20,"Australia","Finance Manager Business Services","4 to 6 hours a day"]
["ID0570","Analysts","Oceana",63807.047488395103,{"$f":"VLOOKUP(I560,Calc!$I$35:$J$39,2,FALSE)","v":5},23,"New Zealand","Accountant/Analyst","4 to 6 hours a day"]
["ID0572","Analysts","North America",38000,{"$f":"VLOOKUP(I561,Calc!$I$35:$J$39,2,FALSE)","v":8},11,"USA","Costing Analysis","All the 8 hours baby, all the 8!"]
["ID0573","Managers","North America",90000,{"$f":"VLOOKUP(I562,Calc!$I$35:$J$39,2,FALSE)","v":5},6,"USA","Sales Operations Supervisor","4 to 6 hours a day"]
["ID0574","Managers","Europe",45393.934235537781,{"$f":"VLOOKUP(I563,Calc!$I$35:$J$39,2,FALSE)","v":5},27,"UK","Finance Manager","4 to 6 hours a day"]
["ID0575","Analysts","Europe",33099.743713412965,{"$f":"VLOOKUP(I564,Calc!$I$35:$J$39,2,FALSE)","v":8},10,"UK","Sales Analyst","All the 8 hours baby, all the 8!"]
["ID0576","Analysts","Asia",4285,{"$f":"VLOOKUP(I565,Calc!$I$35:$J$39,2,FALSE)","v":8},6,"India","Assistant","All the 8 hours baby, all the 8!"]
["ID0577","Managers","South America",6000,{"$f":"VLOOKUP(I566,Calc!$I$35:$J$39,2,FALSE)","v":1.5},20,"Guyana","In Charge","1 or 2 hours a day"]
["ID0578","Analysts","Oceana",22438.012440857987,{"$f":"VLOOKUP(I567,Calc!$I$35:$J$39,2,FALSE)","v":5},8,"Australia","Sales Analyst","4 to 6 hours a day"]
["ID0579","Managers","North America",90000,{"$f":"VLOOKUP(I568,Calc!$I$35:$J$39,2,FALSE)","v":2.5},15,"USA","Manager","2 to 3 hours per day"]
["ID0580","Top Mgmt","North America",150000,{"$f":"VLOOKUP(I569,Calc!$I$35:$J$39,2,FALSE)","v":5},22,"USA","CFO","4 to 6 hours a day"]
["ID0581","Accountants","Oceana",132588.25533234264,{"$f":"VLOOKUP(I570,Calc!$I$35:$J$39,2,FALSE)","v":2.5},27,"Australia","Accountant","2 to 3 hours per day"]
["ID0582","Analysts","North America",45000,{"$f":"VLOOKUP(I571,Calc!$I$35:$J$39,2,FALSE)","v":5},3,"USA","business analyst","4 to 6 hours a day"]
["ID0583","Specialists","North America",50000,{"$f":"VLOOKUP(I572,Calc!$I$35:$J$39,2,FALSE)","v":2.5},10,"USA","IT Specialist","2 to 3 hours per day"]
["ID0584","Top Mgmt","North America",300000,{"$f":"VLOOKUP(I573,Calc!$I$35:$J$39,2,FALSE)","v":2.5},30,"USA","CEO","2 to 3 hours per day"]
["ID0585","Managers","Oceana",104030.78495306884,{"$f":"VLOOKUP(I574,Calc!$I$35:$J$39,2,FALSE)","v":1.5},10,"Australia","coordinator lismore regional airport","1 or 2 hours a day"]
["ID0586","Managers","North America",115000,{"$f":"VLOOKUP(I575,Calc!$I$35:$J$39,2,FALSE)","v":5},15,"USA","Mgr Op Excellence","4 to 6 hours a day"]
["ID0587","Analysts","North America",70000,{"$f":"VLOOKUP(I576,Calc!$I$35:$J$39,2,FALSE)","v":5},3,"USA","Financial Analyst","4 to 6 hours a day"]
["ID0588","Specialists","Oceana",108110.42357867939,{"$f":"VLOOKUP(I577,Calc!$I$35:$J$39,2,FALSE)","v":5},16,"Australia","Pricing and Strategy Specialist","4 to 6 hours a day"]
["ID0589","Analysts","North America",75000,{"$f":"VLOOKUP(I578,Calc!$I$35:$J$39,2,FALSE)","v":2.5},25,"USA","Sr. Human Resources Analyst","2 to 3 hours per day"]
["ID0590","Analysts","North America",40414,{"$f":"VLOOKUP(I579,Calc!$I$35:$J$39,2,FALSE)","v":5},8,"USA","Performance Improvement Analyst","4 to 6 hours a day"]
["ID0591","Analysts","North America",65000,{"$f":"VLOOKUP(I580,Calc!$I$35:$J$39,2,FALSE)","v":5},3,"USA","Data Analyst","4 to 6 hours a day"]
["ID0592","Analysts","North America",120000,{"$f":"VLOOKUP(I581,Calc!$I$35:$J$39,2,FALSE)","v":8},7,"USA","Sr. Analyst","All the 8 hours baby, all the 8!"]
["ID0593","Accountants","Asia",15092.18020692008,{"$f":"VLOOKUP(I582,Calc!$I$35:$J$39,2,FALSE)","v":5},10,"China","finance","4 to 6 hours a day"]
["ID0594","Consultants","Europe",36000,{"$f":"VLOOKUP(I583,Calc!$I$35:$J$39,2,FALSE)","v":8},10,"Russia","Consulting","All the 8 hours baby, all the 8!"]
["ID0595","Analysts","Europe",63519.971949580387,{"$f":"VLOOKUP(I584,Calc!$I$35:$J$39,2,FALSE)","v":2.5},4,"Germany","Analyst","2 to 3 hours per day"]
["ID0596","Consultants","North America",108000,{"$f":"VLOOKUP(I585,Calc!$I$35:$J$39,2,FALSE)","v":2.5},7,"USA","Technology consultant ","2 to 3 hours per day"]
["ID0597","Analysts","North America",75000,{"$f":"VLOOKUP(I586,Calc!$I$35:$J$39,2,FALSE)","v":5},5,"USA","Financial Analyst","4 to 6 hours a day"]
["ID0598","Managers","Asia",7123.1666749770275,{"$f":"VLOOKUP(I587,Calc!$I$35:$J$39,2,FALSE)","v":1.5},3,"India","BPO","1 or 2 hours a day"]
["ID0599","Managers","Asia",50000,{"$f":"VLOOKUP(I588,Calc!$I$35:$J$39,2,FALSE)","v":1.5},25,"India","General manager","1 or 2 hours a day"]
["ID0600","Analysts","North America",45000,{"$f":"VLOOKUP(I589,Calc!$I$35:$J$39,2,FALSE)","v":5},15,"USA","Technical Analyst","4 to 6 hours a day"]
["ID0601","Accountants","North America",45000,{"$f":"VLOOKUP(I590,Calc!$I$35:$J$39,2,FALSE)","v":5},7,"USA","Head Accounts","4 to 6 hours a day"]
["ID0602","Managers","North America",90000,{"$f":"VLOOKUP(I591,Calc!$I$35:$J$39,2,FALSE)","v":2.5},20,"USA","Operations","2 to 3 hours per day"]
["ID0603","Analysts","Asia",4273.9000049862161,{"$f":"VLOOKUP(I592,Calc!$I$35:$J$39,2,FALSE)","v":2.5},5,"India","Talati","2 to 3 hours per day"]
["ID0604","Managers","Asia",50000,{"$f":"VLOOKUP(I593,Calc!$I$35:$J$39,2,FALSE)","v":1.5},10,"India","Product manager","1 or 2 hours a day"]
["ID0605","Analysts","North America",65000,{"$f":"VLOOKUP(I594,Calc!$I$35:$J$39,2,FALSE)","v":2.5},17,"USA","Helicopter Mechanic","2 to 3 hours per day"]
["ID0606","Analysts","North America",70000,{"$f":"VLOOKUP(I595,Calc!$I$35:$J$39,2,FALSE)","v":2.5},18,"USA","Program/Mgt Analyst","2 to 3 hours per day"]
["ID0608","Analysts","North America",160000,{"$f":"VLOOKUP(I596,Calc!$I$35:$J$39,2,FALSE)","v":5},5,"USA","Director, Analytics","4 to 6 hours a day"]
["ID0609","Managers","Oceana",101990.96564026357,{"$f":"VLOOKUP(I597,Calc!$I$35:$J$39,2,FALSE)","v":2.5},20,"Australia","Purchasing Manager","2 to 3 hours per day"]
["ID0611","Managers","Asia",6767.0083412281756,{"$f":"VLOOKUP(I598,Calc!$I$35:$J$39,2,FALSE)","v":5},10,"India","Incharge","4 to 6 hours a day"]
["ID0612","Analysts","North America",30000,{"$f":"VLOOKUP(I599,Calc!$I$35:$J$39,2,FALSE)","v":2.5},8,"USA","Sales Assistant","2 to 3 hours per day"]
["ID0613","Analysts","Asia",7479.3250087258784,{"$f":"VLOOKUP(I600,Calc!$I$35:$J$39,2,FALSE)","v":5},3,"India","Assistant EDP","4 to 6 hours a day"]
["ID0614","Managers","North America",61000,{"$f":"VLOOKUP(I601,Calc!$I$35:$J$39,2,FALSE)","v":5},5,"USA","Sales ops","4 to 6 hours a day"]
["ID0615","Controllers","Asia",13800,{"$f":"VLOOKUP(I602,Calc!$I$35:$J$39,2,FALSE)","v":5},20,"Sri Lanka","QS","4 to 6 hours a day"]
["ID0616","Analysts","Asia",15136.729184326183,{"$f":"VLOOKUP(I603,Calc!$I$35:$J$39,2,FALSE)","v":5},6,"India","Sales Analyst","4 to 6 hours a day"]
["ID0617","Managers","Asia",32054.250037396621,{"$f":"VLOOKUP(I604,Calc!$I$35:$J$39,2,FALSE)","v":2.5},10,"India","AGM Finance","2 to 3 hours per day"]
["ID0618","Controllers","North America",80000,{"$f":"VLOOKUP(I605,Calc!$I$35:$J$39,2,FALSE)","v":5},15,"USA","Sales Controller","4 to 6 hours a day"]
["ID0619","Managers","Asia",21000,{"$f":"VLOOKUP(I606,Calc!$I$35:$J$39,2,FALSE)","v":8},23,"India","Manager","All the 8 hours baby, all the 8!"]
["ID0620","Analysts","North America",245840.3807575817,{"$f":"VLOOKUP(I607,Calc!$I$35:$J$39,2,FALSE)","v":5},32,"Canada","Business Analyst","4 to 6 hours a day"]
["ID0621","Reporting","Asia",2849.2666699908109,{"$f":"VLOOKUP(I608,Calc!$I$35:$J$39,2,FALSE)","v":8},3,"India","MIS Executive","All the 8 hours baby, all the 8!"]
["ID0622","Managers","Asia",8400,{"$f":"VLOOKUP(I609,Calc!$I$35:$J$39,2,FALSE)","v":8},26,"India","SYSTEM MANAGER","All the 8 hours baby, all the 8!"]
["ID0623","Consultants","Oceana",86692.320794224041,{"$f":"VLOOKUP(I610,Calc!$I$35:$J$39,2,FALSE)","v":1.5},20,"Australia","Trainer","1 or 2 hours a day"]
["ID0624","Managers","North America",50000,{"$f":"VLOOKUP(I611,Calc!$I$35:$J$39,2,FALSE)","v":5},20,"USA","Project coordinator","4 to 6 hours a day"]
["ID0625","Reporting","Asia",4000,{"$f":"VLOOKUP(I612,Calc!$I$35:$J$39,2,FALSE)","v":8},6,"India","MIS Executive","All the 8 hours baby, all the 8!"]
["ID0626","Analysts","Oceana",101990.96564026357,{"$f":"VLOOKUP(I613,Calc!$I$35:$J$39,2,FALSE)","v":8},1,"Australia","Business Analyst","All the 8 hours baby, all the 8!"]
["ID0627","Managers","North America",95000,{"$f":"VLOOKUP(I614,Calc!$I$35:$J$39,2,FALSE)","v":1.5},10,"USA","Program Manager","1 or 2 hours a day"]
["ID0628","Managers","Asia",10000,{"$f":"VLOOKUP(I615,Calc!$I$35:$J$39,2,FALSE)","v":2.5},5,"Indonesia","executive","2 to 3 hours per day"]
["ID0629","Reporting","Asia",4200,{"$f":"VLOOKUP(I616,Calc!$I$35:$J$39,2,FALSE)","v":8},4,"India","MIS Executive","All the 8 hours baby, all the 8!"]
["ID0630","Managers","Asia",12821.700014958649,{"$f":"VLOOKUP(I617,Calc!$I$35:$J$39,2,FALSE)","v":5},12,"India","Quantity Surveyor","4 to 6 hours a day"]
["ID0631","Analysts","North America",39000,{"$f":"VLOOKUP(I618,Calc!$I$35:$J$39,2,FALSE)","v":8},3,"USA","Content Analyst ","All the 8 hours baby, all the 8!"]
["ID0632","Analysts","North America",60000,{"$f":"VLOOKUP(I619,Calc!$I$35:$J$39,2,FALSE)","v":5},12,"USA","business analyst","4 to 6 hours a day"]
["ID0633","Analysts","Oceana",173384.64158844808,{"$f":"VLOOKUP(I620,Calc!$I$35:$J$39,2,FALSE)","v":8},10,"Australia","senior business analyst","All the 8 hours baby, all the 8!"]
["ID0634","Analysts","North America",125000,{"$f":"VLOOKUP(I621,Calc!$I$35:$J$39,2,FALSE)","v":2.5},20,"USA","Analyst","2 to 3 hours per day"]
["ID0635","Accountants","Oceana",79552.953199405587,{"$f":"VLOOKUP(I622,Calc!$I$35:$J$39,2,FALSE)","v":8},4,"Australia","Corporate Accountant","All the 8 hours baby, all the 8!"]
["ID0636","Accountants","Asia",3561.5833374885137,{"$f":"VLOOKUP(I623,Calc!$I$35:$J$39,2,FALSE)","v":5},3,"India","Auditor","4 to 6 hours a day"]
["ID0637","Managers","North America",80000,{"$f":"VLOOKUP(I624,Calc!$I$35:$J$39,2,FALSE)","v":5},8,"USA","program coordinator - automotive","4 to 6 hours a day"]
["ID0638","Analysts","Asia",10684.750012465542,{"$f":"VLOOKUP(I625,Calc!$I$35:$J$39,2,FALSE)","v":2.5},3,"India","Financial Analyst","2 to 3 hours per day"]
["ID0639","Engineers","Asia",5342.3750062327708,{"$f":"VLOOKUP(I626,Calc!$I$35:$J$39,2,FALSE)","v":8},2,"India","Planning Engineer","All the 8 hours baby, all the 8!"]
["ID0640","Managers","Asia",71231.666749770273,{"$f":"VLOOKUP(I627,Calc!$I$35:$J$39,2,FALSE)","v":5},1.5,"India","Senior Executive","4 to 6 hours a day"]
["ID0641","Top Mgmt","Asia",80135.625093491559,{"$f":"VLOOKUP(I628,Calc!$I$35:$J$39,2,FALSE)","v":1.5},6,"India","cmo","1 or 2 hours a day"]
["ID0642","Managers","North America",54084.883766667976,{"$f":"VLOOKUP(I629,Calc!$I$35:$J$39,2,FALSE)","v":5},5,"Canada","Project coordinator","4 to 6 hours a day"]
["ID0643","Analysts","North America",53000,{"$f":"VLOOKUP(I630,Calc!$I$35:$J$39,2,FALSE)","v":5},30,"USA","Financial Analyst","4 to 6 hours a day"]
["ID0644","Reporting","Asia",5342.3750062327708,{"$f":"VLOOKUP(I631,Calc!$I$35:$J$39,2,FALSE)","v":5},1,"India","MIS","4 to 6 hours a day"]
["ID0645","Managers","Asia",7123.1666749770275,{"$f":"VLOOKUP(I632,Calc!$I$35:$J$39,2,FALSE)","v":1.5},5,"India","Sr Processor","1 or 2 hours a day"]
["ID0646","Managers","Asia",10684.750012465542,{"$f":"VLOOKUP(I633,Calc!$I$35:$J$39,2,FALSE)","v":5},11,"India","Organiser","4 to 6 hours a day"]
["ID0647","Reporting","Asia",4000,{"$f":"VLOOKUP(I634,Calc!$I$35:$J$39,2,FALSE)","v":8},4,"India","MIS Executive","All the 8 hours baby, all the 8!"]
["ID0648","Managers","Asia",8000,{"$f":"VLOOKUP(I635,Calc!$I$35:$J$39,2,FALSE)","v":8},1,"Thailand","Quality officer","All the 8 hours baby, all the 8!"]
["ID0649","Managers","Asia",2671.1875031163854,{"$f":"VLOOKUP(I636,Calc!$I$35:$J$39,2,FALSE)","v":2.5},5,"India","Executive","2 to 3 hours per day"]
["ID0650","Engineers","Asia",14246.333349954055,{"$f":"VLOOKUP(I637,Calc!$I$35:$J$39,2,FALSE)","v":2.5},3,"India","Engineer","2 to 3 hours per day"]
["ID0651","Reporting","Asia",8547.8000099724322,{"$f":"VLOOKUP(I638,Calc!$I$35:$J$39,2,FALSE)","v":1.5},3,"India","BI Consultant","1 or 2 hours a day"]
["ID0652","Managers","Asia",7693.0200089751897,{"$f":"VLOOKUP(I639,Calc!$I$35:$J$39,2,FALSE)","v":2.5},5,"India","Assistant Manager - IT","2 to 3 hours per day"]
["ID0653","Managers","Asia",4000,{"$f":"VLOOKUP(I640,Calc!$I$35:$J$39,2,FALSE)","v":8},8,"India","Coordinator","All the 8 hours baby, all the 8!"]
["ID0654","Managers","Asia",5400,{"$f":"VLOOKUP(I641,Calc!$I$35:$J$39,2,FALSE)","v":8},3,"India","manager","All the 8 hours baby, all the 8!"]
["ID0655","Managers","Asia",186983.12521814698,{"$f":"VLOOKUP(I642,Calc!$I$35:$J$39,2,FALSE)","v":2.5},10,"India","MANAGER","2 to 3 hours per day"]
["ID0657","Analysts","Asia",21500,{"$f":"VLOOKUP(I643,Calc!$I$35:$J$39,2,FALSE)","v":5},9,"India","Asst Mgr","4 to 6 hours a day"]
["ID0658","Reporting","Asia",15000,{"$f":"VLOOKUP(I644,Calc!$I$35:$J$39,2,FALSE)","v":8},2,"India","MIS Executive","All the 8 hours baby, all the 8!"]
["ID0659","Accountants","Asia",2122.8177433598262,{"$f":"VLOOKUP(I645,Calc!$I$35:$J$39,2,FALSE)","v":2.5},2,"Pakistan","Accounts Officer","2 to 3 hours per day"]
["ID0660","Managers","Asia",16917.52085307044,{"$f":"VLOOKUP(I646,Calc!$I$35:$J$39,2,FALSE)","v":5},3,"India","Investment Banker","4 to 6 hours a day"]
["ID0661","Managers","Asia",2938.3062534280239,{"$f":"VLOOKUP(I647,Calc!$I$35:$J$39,2,FALSE)","v":8},11,"India","Co-operative bank","All the 8 hours baby, all the 8!"]
["ID0662","Analysts","Asia",16800,{"$f":"VLOOKUP(I648,Calc!$I$35:$J$39,2,FALSE)","v":5},12,"Pakistan","Assistant","4 to 6 hours a day"]
["ID0663","Engineers","Asia",37000,{"$f":"VLOOKUP(I649,Calc!$I$35:$J$39,2,FALSE)","v":5},10,"India","Cad Engineer","4 to 6 hours a day"]
["ID0664","Analysts","Asia",5342.3750062327708,{"$f":"VLOOKUP(I650,Calc!$I$35:$J$39,2,FALSE)","v":5},4.5,"India","Mis Analyst","4 to 6 hours a day"]
["ID0665","Reporting","Asia",3561.5833374885137,{"$f":"VLOOKUP(I651,Calc!$I$35:$J$39,2,FALSE)","v":8},3,"India","MIS EXECUTIVE","All the 8 hours baby, all the 8!"]
["ID0666","Managers","Asia",8547.8000099724322,{"$f":"VLOOKUP(I652,Calc!$I$35:$J$39,2,FALSE)","v":2.5},8,"India","PMO","2 to 3 hours per day"]
["ID0667","Managers","Asia",5800,{"$f":"VLOOKUP(I653,Calc!$I$35:$J$39,2,FALSE)","v":8},8,"India","Asst. Manager(Commercial)","All the 8 hours baby, all the 8!"]
["ID0668","Reporting","Asia",4095.8208381117906,{"$f":"VLOOKUP(I654,Calc!$I$35:$J$39,2,FALSE)","v":8},3,"India","MIS Executive","All the 8 hours baby, all the 8!"]
["ID0669","Managers","Asia",4914.9850057341491,{"$f":"VLOOKUP(I655,Calc!$I$35:$J$39,2,FALSE)","v":1.5},3,"Pakistan","Education Officer","1 or 2 hours a day"]
["ID0670","Managers","Middle East",24000,{"$f":"VLOOKUP(I656,Calc!$I$35:$J$39,2,FALSE)","v":5},12,"Saudi Arabia","Management Accountant","4 to 6 hours a day"]
["ID0671","Accountants","Middle East",24000,{"$f":"VLOOKUP(I657,Calc!$I$35:$J$39,2,FALSE)","v":2.5},15,"UAE","Accountant","2 to 3 hours per day"]
["ID0672","Managers","Asia",8738,{"$f":"VLOOKUP(I658,Calc!$I$35:$J$39,2,FALSE)","v":8},7.3,"India","Sales Coordinator","All the 8 hours baby, all the 8!"]
["ID0673","Analysts","Asia",15000,{"$f":"VLOOKUP(I659,Calc!$I$35:$J$39,2,FALSE)","v":5},1,"Indonesia","TA","4 to 6 hours a day"]
["ID0674","Managers","Middle East",56400,{"$f":"VLOOKUP(I660,Calc!$I$35:$J$39,2,FALSE)","v":2.5},6,"UAE","Finance Manager","2 to 3 hours per day"]
["ID0675","Analysts","Asia",10200,{"$f":"VLOOKUP(I661,Calc!$I$35:$J$39,2,FALSE)","v":5},4.5,"India","business analyst","4 to 6 hours a day"]
["ID0676","Reporting","Asia",5787.5729234188348,{"$f":"VLOOKUP(I662,Calc!$I$35:$J$39,2,FALSE)","v":8},4.5,"India","MIS Executive","All the 8 hours baby, all the 8!"]
["ID0677","Consultants","North America",105000,{"$f":"VLOOKUP(I663,Calc!$I$35:$J$39,2,FALSE)","v":2.5},15,"USA","Senior Consultant","2 to 3 hours per day"]
["ID0678","Managers","Asia",4451.9791718606421,{"$f":"VLOOKUP(I664,Calc!$I$35:$J$39,2,FALSE)","v":2.5},5,"India","ASM","2 to 3 hours per day"]
["ID0679","Consultants","Asia",8369.7208430980063,{"$f":"VLOOKUP(I665,Calc!$I$35:$J$39,2,FALSE)","v":8},4,"India","Consultant","All the 8 hours baby, all the 8!"]
["ID0680","Managers","Asia",17067.637625607145,{"$f":"VLOOKUP(I666,Calc!$I$35:$J$39,2,FALSE)","v":5},9,"Philippines","System Manager","4 to 6 hours a day"]
["ID0681","Managers","Oceana",101990.96564026357,{"$f":"VLOOKUP(I667,Calc!$I$35:$J$39,2,FALSE)","v":1.5},20,"Australia","principal developer","1 or 2 hours a day"]
["ID0682","Analysts","Asia",3917.7416712373652,{"$f":"VLOOKUP(I668,Calc!$I$35:$J$39,2,FALSE)","v":2.5},3,"India","Accounts Payable Analyst","2 to 3 hours per day"]
["ID0683","Specialists","North America",52000,{"$f":"VLOOKUP(I669,Calc!$I$35:$J$39,2,FALSE)","v":5},18,"USA","Maint Sys Support Specialist","4 to 6 hours a day"]
["ID0684","Analysts","Asia",4630.058338735068,{"$f":"VLOOKUP(I670,Calc!$I$35:$J$39,2,FALSE)","v":5},2,"India","Analyst","4 to 6 hours a day"]
["ID0685","Analysts","Asia",2136.9500024931081,{"$f":"VLOOKUP(I671,Calc!$I$35:$J$39,2,FALSE)","v":2.5},3,"India","Data Analyst","2 to 3 hours per day"]
["ID0686","Analysts","Asia",13000,{"$f":"VLOOKUP(I672,Calc!$I$35:$J$39,2,FALSE)","v":1.5},4,"India","Analyst","1 or 2 hours a day"]
["ID0687","Managers","Asia",2564.3400029917298,{"$f":"VLOOKUP(I673,Calc!$I$35:$J$39,2,FALSE)","v":2.5},7,"India","Team Leader","2 to 3 hours per day"]
["ID0688","Managers","Asia",20479.104190558952,{"$f":"VLOOKUP(I674,Calc!$I$35:$J$39,2,FALSE)","v":2.5},7,"India","manager portfolio monitoring","2 to 3 hours per day"]
["ID0689","Accountants","Middle East",33500,{"$f":"VLOOKUP(I675,Calc!$I$35:$J$39,2,FALSE)","v":1.5},10,"Dubai","Sr. Executive Finance & Accounts","1 or 2 hours a day"]
["ID0690","Managers","Asia",50000,{"$f":"VLOOKUP(I676,Calc!$I$35:$J$39,2,FALSE)","v":2.5},20,"India","AREA SALES MANAGER","2 to 3 hours per day"]
["ID0691","Managers","Asia",5342.3750062327708,{"$f":"VLOOKUP(I677,Calc!$I$35:$J$39,2,FALSE)","v":2.5},3,"India","govt","2 to 3 hours per day"]
["ID0692","Analysts","Asia",11539.530013462785,{"$f":"VLOOKUP(I678,Calc!$I$35:$J$39,2,FALSE)","v":8},2,"India","COMPUTER OPERATOR","All the 8 hours baby, all the 8!"]
["ID0693","Managers","Asia",7000,{"$f":"VLOOKUP(I679,Calc!$I$35:$J$39,2,FALSE)","v":5},23,"India","Business Executive","4 to 6 hours a day"]
["ID0694","Reporting","Asia",6767.0083412281756,{"$f":"VLOOKUP(I680,Calc!$I$35:$J$39,2,FALSE)","v":2.5},6,"India","Team Lead Mis","2 to 3 hours per day"]
["ID0695","Consultants","Asia",3000,{"$f":"VLOOKUP(I681,Calc!$I$35:$J$39,2,FALSE)","v":2.5},2,"Cambodia","Call Centre Consultant","2 to 3 hours per day"]
["ID0696","Reporting","Asia",4451.9791718606421,{"$f":"VLOOKUP(I682,Calc!$I$35:$J$39,2,FALSE)","v":8},4,"India","MIS executive","All the 8 hours baby, all the 8!"]
["ID0697","Top Mgmt","Asia",2671.1875031163854,{"$f":"VLOOKUP(I683,Calc!$I$35:$J$39,2,FALSE)","v":5},4.5,"India","Oprations head","4 to 6 hours a day"]
["ID0698","Managers","Asia",4957.7240057840108,{"$f":"VLOOKUP(I684,Calc!$I$35:$J$39,2,FALSE)","v":5},5,"India","Asst. Manager","4 to 6 hours a day"]
["ID0699","Accountants","Asia",3205.4250037396623,{"$f":"VLOOKUP(I685,Calc!$I$35:$J$39,2,FALSE)","v":2.5},14,"India","accounts","2 to 3 hours per day"]
["ID0700","Managers","Asia",14246.333349954055,{"$f":"VLOOKUP(I686,Calc!$I$35:$J$39,2,FALSE)","v":5},7,"India","Manager","4 to 6 hours a day"]
["ID0701","Analysts","Asia",5342.3750062327708,{"$f":"VLOOKUP(I687,Calc!$I$35:$J$39,2,FALSE)","v":8},7,"India","Analyst","All the 8 hours baby, all the 8!"]
["ID0702","Analysts","Asia",6588.9291743537506,{"$f":"VLOOKUP(I688,Calc!$I$35:$J$39,2,FALSE)","v":8},2,"India","Operations Analyst","All the 8 hours baby, all the 8!"]
["ID0703","Analysts","Asia",6588.9291743537506,{"$f":"VLOOKUP(I689,Calc!$I$35:$J$39,2,FALSE)","v":8},2,"India","Operations Analyst","All the 8 hours baby, all the 8!"]
["ID0704","Specialists","North America",35000,{"$f":"VLOOKUP(I690,Calc!$I$35:$J$39,2,FALSE)","v":5},10,"USA","IT Specialist","4 to 6 hours a day"]
["ID0705","Accountants","Asia",12821.700014958649,{"$f":"VLOOKUP(I691,Calc!$I$35:$J$39,2,FALSE)","v":5},4,"India","Cost Accountant","4 to 6 hours a day"]
["ID0706","Managers","Asia",10684.750012465542,{"$f":"VLOOKUP(I692,Calc!$I$35:$J$39,2,FALSE)","v":1.5},2,"India","senior executive","1 or 2 hours a day"]
["ID0707","Managers","Asia",10000,{"$f":"VLOOKUP(I693,Calc!$I$35:$J$39,2,FALSE)","v":5},2,"India","Executive","4 to 6 hours a day"]
["ID0708","Analysts","Asia",2136.9500024931081,{"$f":"VLOOKUP(I694,Calc!$I$35:$J$39,2,FALSE)","v":1.5},0,"India","Intern","1 or 2 hours a day"]
["ID0709","Analysts","Asia",8547.8000099724322,{"$f":"VLOOKUP(I695,Calc!$I$35:$J$39,2,FALSE)","v":5},4,"India","Business Analyst","4 to 6 hours a day"]
["ID0710","Analysts","Asia",8013.5625093491553,{"$f":"VLOOKUP(I696,Calc!$I$35:$J$39,2,FALSE)","v":8},8,"India","Data Analyst","All the 8 hours baby, all the 8!"]
["ID0711","Consultants","Asia",7123.1666749770275,{"$f":"VLOOKUP(I697,Calc!$I$35:$J$39,2,FALSE)","v":5},0,"India","Consultant","4 to 6 hours a day"]
["ID0712","Analysts","Asia",40958.208381117904,{"$f":"VLOOKUP(I698,Calc!$I$35:$J$39,2,FALSE)","v":8},5,"India","analyst","All the 8 hours baby, all the 8!"]
["ID0713","Managers","Asia",11325.835013213473,{"$f":"VLOOKUP(I699,Calc!$I$35:$J$39,2,FALSE)","v":5},2,"India","Audit Manager","4 to 6 hours a day"]
["ID0714","Accountants","Europe",15000,{"$f":"VLOOKUP(I700,Calc!$I$35:$J$39,2,FALSE)","v":5},2,"Lithuania","Audit - senior assistant","4 to 6 hours a day"]
["ID0715","Analysts","Middle East",12000,{"$f":"VLOOKUP(I701,Calc!$I$35:$J$39,2,FALSE)","v":5},12,"UAE","tech operator (oil)","4 to 6 hours a day"]
["ID0716","Reporting","Asia",8903.9583437212841,{"$f":"VLOOKUP(I702,Calc!$I$35:$J$39,2,FALSE)","v":2.5},1,"India","mis ","2 to 3 hours per day"]
["ID0717","Engineers","Asia",8903.9583437212841,{"$f":"VLOOKUP(I703,Calc!$I$35:$J$39,2,FALSE)","v":8},2,"India","Engineer","All the 8 hours baby, all the 8!"]
["ID0718","Managers","Asia",12821.700014958649,{"$f":"VLOOKUP(I704,Calc!$I$35:$J$39,2,FALSE)","v":8},10,"India","Asstt manager","All the 8 hours baby, all the 8!"]
["ID0719","Managers","Asia",3205.4250037396623,{"$f":"VLOOKUP(I705,Calc!$I$35:$J$39,2,FALSE)","v":8},7,"India","Import & Export Documentation Executive","All the 8 hours baby, all the 8!"]
["ID0720","Managers","Asia",6677.9687577909626,{"$f":"VLOOKUP(I706,Calc!$I$35:$J$39,2,FALSE)","v":2.5},6,"India","Team Lead","2 to 3 hours per day"]
["ID0721","Managers","Oceana",67794.987956419791,{"$f":"VLOOKUP(I707,Calc!$I$35:$J$39,2,FALSE)","v":5},15,"New Zealand","Systems Manager","4 to 6 hours a day"]
["ID0722","Managers","Asia",31250,{"$f":"VLOOKUP(I708,Calc!$I$35:$J$39,2,FALSE)","v":2.5},6,"India","Program management","2 to 3 hours per day"]
["ID0723","Managers","Asia",2165.2740982270229,{"$f":"VLOOKUP(I709,Calc!$I$35:$J$39,2,FALSE)","v":8},2,"Pakistan","Accounts Manager","All the 8 hours baby, all the 8!"]
["ID0724","Reporting","Asia",7123.1666749770275,{"$f":"VLOOKUP(I710,Calc!$I$35:$J$39,2,FALSE)","v":8},4,"India","sr. mis executive","All the 8 hours baby, all the 8!"]
["ID0725","Managers","Oceana",130000,{"$f":"VLOOKUP(I711,Calc!$I$35:$J$39,2,FALSE)","v":5},3,"Australia","Modeller","4 to 6 hours a day"]
["ID0726","Managers","Asia",4451.9791718606421,{"$f":"VLOOKUP(I712,Calc!$I$35:$J$39,2,FALSE)","v":5},6,"India","Asst. Manager","4 to 6 hours a day"]
["ID0727","Analysts","Africa",9600,{"$f":"VLOOKUP(I713,Calc!$I$35:$J$39,2,FALSE)","v":5},2,"South Africa","Admin","4 to 6 hours a day"]
["ID0728","Analysts","Asia",6945.0875081026015,{"$f":"VLOOKUP(I714,Calc!$I$35:$J$39,2,FALSE)","v":5},1,"India","Business Analyst","4 to 6 hours a day"]
["ID0729","Accountants","Asia",10684.750012465542,{"$f":"VLOOKUP(I715,Calc!$I$35:$J$39,2,FALSE)","v":8},7,"India","Sr Financial Execative","All the 8 hours baby, all the 8!"]
["ID0730","Analysts","Asia",8547.8000099724322,{"$f":"VLOOKUP(I716,Calc!$I$35:$J$39,2,FALSE)","v":2.5},3.5,"India","Asst Mngr","2 to 3 hours per day"]
["ID0731","Analysts","Asia",35000,{"$f":"VLOOKUP(I717,Calc!$I$35:$J$39,2,FALSE)","v":5},10,"India","Associate","4 to 6 hours a day"]
["ID0732","Analysts","Asia",17807.916687442568,{"$f":"VLOOKUP(I718,Calc!$I$35:$J$39,2,FALSE)","v":2.5},12,"India","Sr Associate","2 to 3 hours per day"]
["ID0733","Accountants","Asia",3205.4250037396623,{"$f":"VLOOKUP(I719,Calc!$I$35:$J$39,2,FALSE)","v":8},4,"India","Accountant","All the 8 hours baby, all the 8!"]
["ID0734","Managers","Europe",60000,{"$f":"VLOOKUP(I720,Calc!$I$35:$J$39,2,FALSE)","v":5},10,"Russia","Manager","4 to 6 hours a day"]
["ID0735","Managers","Asia",14246.333349954055,{"$f":"VLOOKUP(I721,Calc!$I$35:$J$39,2,FALSE)","v":2.5},13,"India","Manager","2 to 3 hours per day"]
["ID0736","Managers","Asia",10684.750012465542,{"$f":"VLOOKUP(I722,Calc!$I$35:$J$39,2,FALSE)","v":2.5},8,"India","ERP Co-Ordinator","2 to 3 hours per day"]
["ID0737","Managers","Asia",40000,{"$f":"VLOOKUP(I723,Calc!$I$35:$J$39,2,FALSE)","v":8},15,"India","Revenue Manager","All the 8 hours baby, all the 8!"]
["ID0738","Analysts","Asia",5022,{"$f":"VLOOKUP(I724,Calc!$I$35:$J$39,2,FALSE)","v":5},15,"Pakistan","Accounts analyst","4 to 6 hours a day"]
["ID0739","Analysts","Asia",7301.2458418514525,{"$f":"VLOOKUP(I725,Calc!$I$35:$J$39,2,FALSE)","v":8},5,"India","MIS Analyst","All the 8 hours baby, all the 8!"]
["ID0740","Analysts","Africa",19831.432821021317,{"$f":"VLOOKUP(I726,Calc!$I$35:$J$39,2,FALSE)","v":8},5,"Egypt","Estimator","All the 8 hours baby, all the 8!"]
["ID0741","Managers","Asia",10684.750012465542,{"$f":"VLOOKUP(I727,Calc!$I$35:$J$39,2,FALSE)","v":5},5,"India","Finance Manager","4 to 6 hours a day"]
["ID0742","Analysts","Asia",4800,{"$f":"VLOOKUP(I728,Calc!$I$35:$J$39,2,FALSE)","v":5},2,"Bhutan","Data Analysis","4 to 6 hours a day"]
["ID0743","Analysts","Europe",83846.362973446114,{"$f":"VLOOKUP(I729,Calc!$I$35:$J$39,2,FALSE)","v":5},7,"Germany","Logistics Analyst","4 to 6 hours a day"]
["ID0744","Controllers","Asia",15000,{"$f":"VLOOKUP(I730,Calc!$I$35:$J$39,2,FALSE)","v":2.5},2,"India","PROCSS ASOCIATE","2 to 3 hours per day"]
["ID0745","Analysts","Asia",10000,{"$f":"VLOOKUP(I731,Calc!$I$35:$J$39,2,FALSE)","v":5},12,"India","Reporting Analyst","4 to 6 hours a day"]
["ID0746","Managers","Europe",116637.19213297902,{"$f":"VLOOKUP(I732,Calc!$I$35:$J$39,2,FALSE)","v":5},5,"UK","Corporate Finance Manager","4 to 6 hours a day"]
["ID0747","Analysts","Europe",34357.533974522659,{"$f":"VLOOKUP(I733,Calc!$I$35:$J$39,2,FALSE)","v":8},1.5,"UK","Data Analyst","All the 8 hours baby, all the 8!"]
["ID0748","Managers","Europe",102451.58768437347,{"$f":"VLOOKUP(I734,Calc!$I$35:$J$39,2,FALSE)","v":5},15,"UK","compliance manager","4 to 6 hours a day"]
["ID0749","Engineers","Asia",16000,{"$f":"VLOOKUP(I735,Calc!$I$35:$J$39,2,FALSE)","v":2.5},5,"India","Engineer","2 to 3 hours per day"]
["ID0750","Managers","Asia",6000,{"$f":"VLOOKUP(I736,Calc!$I$35:$J$39,2,FALSE)","v":2.5},6,"India","Merchandiser","2 to 3 hours per day"]
["ID0751","Managers","Asia",6410.8500074793246,{"$f":"VLOOKUP(I737,Calc!$I$35:$J$39,2,FALSE)","v":8},6,"India","Project Lead","All the 8 hours baby, all the 8!"]
["ID0752","Engineers","Middle East",36000,{"$f":"VLOOKUP(I738,Calc!$I$35:$J$39,2,FALSE)","v":1.5},7,"UAE","ENGINEER","1 or 2 hours a day"]
["ID0753","Engineers","Asia",20000,{"$f":"VLOOKUP(I739,Calc!$I$35:$J$39,2,FALSE)","v":1.5},7,"India","engineer","1 or 2 hours a day"]
["ID0754","Accountants","Asia",4273.9000049862161,{"$f":"VLOOKUP(I740,Calc!$I$35:$J$39,2,FALSE)","v":5},8,"India","SR. ACCOUNTS EXECUTIVE","4 to 6 hours a day"]
["ID0755","Specialists","Europe",37828.278529614821,{"$f":"VLOOKUP(I741,Calc!$I$35:$J$39,2,FALSE)","v":8},8,"UK","Business Support Specialist","All the 8 hours baby, all the 8!"]
["ID0756","Managers","Asia",11000,{"$f":"VLOOKUP(I742,Calc!$I$35:$J$39,2,FALSE)","v":8},4.5,"Sri Lanka","Assistant Manager - Group MIS","All the 8 hours baby, all the 8!"]
["ID0757","Analysts","Asia",8000,{"$f":"VLOOKUP(I743,Calc!$I$35:$J$39,2,FALSE)","v":2.5},6,"India","Business Analyst","2 to 3 hours per day"]
["ID0758","Reporting","Asia",4006.7812546745777,{"$f":"VLOOKUP(I744,Calc!$I$35:$J$39,2,FALSE)","v":8},5.5,"India","MIS Executive","All the 8 hours baby, all the 8!"]
["ID0759","Managers","Africa",9171.0323574730355,{"$f":"VLOOKUP(I745,Calc!$I$35:$J$39,2,FALSE)","v":2.5},5,"Nigeria","Company Systems Integration Manager","2 to 3 hours per day"]
["ID0760","Analysts","Asia",4273.9000049862161,{"$f":"VLOOKUP(I746,Calc!$I$35:$J$39,2,FALSE)","v":2.5},20,"India","EXECUTIVE","2 to 3 hours per day"]
["ID0761","Analysts","Asia",12465.541681209797,{"$f":"VLOOKUP(I747,Calc!$I$35:$J$39,2,FALSE)","v":8},5,"India","Sales Management Analyst","All the 8 hours baby, all the 8!"]
["ID0762","Analysts","Asia",24000,{"$f":"VLOOKUP(I748,Calc!$I$35:$J$39,2,FALSE)","v":2.5},1,"India","Asst Production Planner","2 to 3 hours per day"]
["ID0763","Consultants","Europe",20000,{"$f":"VLOOKUP(I749,Calc!$I$35:$J$39,2,FALSE)","v":2.5},15,"Denmark","Consultat","2 to 3 hours per day"]
["ID0764","Analysts","North America",62000,{"$f":"VLOOKUP(I750,Calc!$I$35:$J$39,2,FALSE)","v":2.5},20,"USA","System Analyst ","2 to 3 hours per day"]
["ID0765","Controllers","Middle East",14960,{"$f":"VLOOKUP(I751,Calc!$I$35:$J$39,2,FALSE)","v":8},2,"Saudi Arabia","Stock Controller","All the 8 hours baby, all the 8!"]
["ID0766","Accountants","Asia",2136.9500024931081,{"$f":"VLOOKUP(I752,Calc!$I$35:$J$39,2,FALSE)","v":2.5},2,"India","ACCOUNTANT","2 to 3 hours per day"]
["ID0767","Accountants","North America",30232,{"$f":"VLOOKUP(I753,Calc!$I$35:$J$39,2,FALSE)","v":2.5},5,"USA","Accounts Supervisor","2 to 3 hours per day"]
["ID0768","Analysts","North America",41000,{"$f":"VLOOKUP(I754,Calc!$I$35:$J$39,2,FALSE)","v":8},4,"USA","Business Analyst","All the 8 hours baby, all the 8!"]
["ID0769","Analysts","Oceana",96891.417358250401,{"$f":"VLOOKUP(I755,Calc!$I$35:$J$39,2,FALSE)","v":2.5},11,"Australia","Data Analyst - Report Writer","2 to 3 hours per day"]
["ID0770","Managers","Asia",21369.500024931083,{"$f":"VLOOKUP(I756,Calc!$I$35:$J$39,2,FALSE)","v":8},14,"India","Regional Formwork Head ","All the 8 hours baby, all the 8!"]
["ID0771","Accountants","Asia",3650.6229209257262,{"$f":"VLOOKUP(I757,Calc!$I$35:$J$39,2,FALSE)","v":8},10,"India","BRANCH ACCOUNTANT","All the 8 hours baby, all the 8!"]
["ID0772","Accountants","Asia",19068,{"$f":"VLOOKUP(I758,Calc!$I$35:$J$39,2,FALSE)","v":8},20,"Philippines","Accounting Head","All the 8 hours baby, all the 8!"]
["ID0773","Controllers","Asia",5342.3750062327708,{"$f":"VLOOKUP(I759,Calc!$I$35:$J$39,2,FALSE)","v":8},4,"India","OPEX CONTROL","All the 8 hours baby, all the 8!"]
["ID0774","Consultants","Asia",48000,{"$f":"VLOOKUP(I760,Calc!$I$35:$J$39,2,FALSE)","v":8},3,"Singapore","Consultant","All the 8 hours baby, all the 8!"]
["ID0775","Engineers","Asia",3917.7416712373652,{"$f":"VLOOKUP(I761,Calc!$I$35:$J$39,2,FALSE)","v":5},2,"India","Associate Software Engineer","4 to 6 hours a day"]
["ID0776","Reporting","Asia",13500,{"$f":"VLOOKUP(I762,Calc!$I$35:$J$39,2,FALSE)","v":8},2.5,"India","MIS","All the 8 hours baby, all the 8!"]
["ID0777","Managers","Asia",45000,{"$f":"VLOOKUP(I763,Calc!$I$35:$J$39,2,FALSE)","v":1.5},15,"India","AGM","1 or 2 hours a day"]
["ID0778","Top Mgmt","Europe",69871.969144538423,{"$f":"VLOOKUP(I764,Calc!$I$35:$J$39,2,FALSE)","v":2.5},18,"Italy","CFO","2 to 3 hours per day"]
["ID0779","Managers","Asia",8547.8000099724322,{"$f":"VLOOKUP(I765,Calc!$I$35:$J$39,2,FALSE)","v":5},11,"India","Banker","4 to 6 hours a day"]
["ID0780","Accountants","Middle East",9146.5655463031271,{"$f":"VLOOKUP(I766,Calc!$I$35:$J$39,2,FALSE)","v":1.5},7,"Dubai","Accountant","1 or 2 hours a day"]
["ID0781","Analysts","Asia",10150.512511842264,{"$f":"VLOOKUP(I767,Calc!$I$35:$J$39,2,FALSE)","v":8},2.4,"India","Analyst","All the 8 hours baby, all the 8!"]
["ID0782","Managers","Asia",11325.835013213473,{"$f":"VLOOKUP(I768,Calc!$I$35:$J$39,2,FALSE)","v":5},7,"India","Program Manager","4 to 6 hours a day"]
["ID0783","Reporting","Asia",1910.5359690238436,{"$f":"VLOOKUP(I769,Calc!$I$35:$J$39,2,FALSE)","v":8},7,"Pakistan","S&D Reporting & Analysis Team Leader","All the 8 hours baby, all the 8!"]
["ID0784","Managers","Oceana",36000,{"$f":"VLOOKUP(I770,Calc!$I$35:$J$39,2,FALSE)","v":2.5},12,"Australia","Key Expert User","2 to 3 hours per day"]
["ID0785","Accountants","Asia",40067.812546745779,{"$f":"VLOOKUP(I771,Calc!$I$35:$J$39,2,FALSE)","v":1.5},5,"India","company secretary","1 or 2 hours a day"]
["ID0786","Reporting","Asia",16000,{"$f":"VLOOKUP(I772,Calc!$I$35:$J$39,2,FALSE)","v":8},1,"India","Mis executiv","All the 8 hours baby, all the 8!"]
["ID0787","Analysts","Asia",4273.9000049862161,{"$f":"VLOOKUP(I773,Calc!$I$35:$J$39,2,FALSE)","v":8},4,"India","Analyst","All the 8 hours baby, all the 8!"]
["ID0788","Managers","Asia",7123.1666749770275,{"$f":"VLOOKUP(I774,Calc!$I$35:$J$39,2,FALSE)","v":5},7,"India","Asst.Manager","4 to 6 hours a day"]
["ID0789","Managers","Asia",10000,{"$f":"VLOOKUP(I775,Calc!$I$35:$J$39,2,FALSE)","v":1.5},12,"India","BDM","1 or 2 hours a day"]
["ID0790","Analysts","North America",64901.860520001574,{"$f":"VLOOKUP(I776,Calc!$I$35:$J$39,2,FALSE)","v":2.5},20,"Canada","Programmer-analyst","2 to 3 hours per day"]
["ID0791","Analysts","North America",65000,{"$f":"VLOOKUP(I777,Calc!$I$35:$J$39,2,FALSE)","v":2.5},10,"USA","security analyst","2 to 3 hours per day"]
["ID0792","Managers","Asia",8013.5625093491553,{"$f":"VLOOKUP(I778,Calc!$I$35:$J$39,2,FALSE)","v":8},1.5,"India","Material Planner","All the 8 hours baby, all the 8!"]
["ID0793","Top Mgmt","North America",98336.152303032693,{"$f":"VLOOKUP(I779,Calc!$I$35:$J$39,2,FALSE)","v":5},5,"Canada","VP Infrastructure","4 to 6 hours a day"]
["ID0794","Analysts","Asia",2671.1875031163854,{"$f":"VLOOKUP(I780,Calc!$I$35:$J$39,2,FALSE)","v":5},2,"India","WORKING WITH PRODUCT TEAM OF MAKEMYTRIP.COM","4 to 6 hours a day"]
["ID0795","Reporting","Asia",96000,{"$f":"VLOOKUP(I781,Calc!$I$35:$J$39,2,FALSE)","v":8},8,"India","MIS Executive","All the 8 hours baby, all the 8!"]
["ID0796","Accountants","Asia",20514.720023933838,{"$f":"VLOOKUP(I782,Calc!$I$35:$J$39,2,FALSE)","v":5},6,"India","Cashier","4 to 6 hours a day"]
["ID0797","Analysts","Europe",19055.991584874118,{"$f":"VLOOKUP(I783,Calc!$I$35:$J$39,2,FALSE)","v":2.5},10,"Spain","Technician","2 to 3 hours per day"]
["ID0798","Analysts","Oceana",66294.12766617132,{"$f":"VLOOKUP(I784,Calc!$I$35:$J$39,2,FALSE)","v":8},10,"Australia","Market analyst","All the 8 hours baby, all the 8!"]
["ID0799","Analysts","Asia",6713.584591165848,{"$f":"VLOOKUP(I785,Calc!$I$35:$J$39,2,FALSE)","v":1.5},7,"India","Team Developer","1 or 2 hours a day"]
["ID0800","Reporting","Europe",45709.169889951241,{"$f":"VLOOKUP(I786,Calc!$I$35:$J$39,2,FALSE)","v":2.5},15,"UK","Reporting Assistant","2 to 3 hours per day"]
["ID0801","Managers","North America",48500,{"$f":"VLOOKUP(I787,Calc!$I$35:$J$39,2,FALSE)","v":2.5},10,"USA","Loss Prevention Finance Coordinator","2 to 3 hours per day"]
["ID0802","Analysts","Asia",10684.750012465542,{"$f":"VLOOKUP(I788,Calc!$I$35:$J$39,2,FALSE)","v":8},4,"India","MIS Analyst","All the 8 hours baby, all the 8!"]
["ID0803","Analysts","North America",33900,{"$f":"VLOOKUP(I789,Calc!$I$35:$J$39,2,FALSE)","v":2.5},10,"USA","Administrative Assistant","2 to 3 hours per day"]
["ID0804","Analysts","Africa",109729.60187662003,{"$f":"VLOOKUP(I790,Calc!$I$35:$J$39,2,FALSE)","v":8},40,"South Africa","Business Analyst","All the 8 hours baby, all the 8!"]
["ID0805","Analysts","Asia",15136.729184326183,{"$f":"VLOOKUP(I791,Calc!$I$35:$J$39,2,FALSE)","v":5},2,"India","Senior Research Analyst","4 to 6 hours a day"]
["ID0806","Top Mgmt","North America",85000,{"$f":"VLOOKUP(I792,Calc!$I$35:$J$39,2,FALSE)","v":5},15,"USA","Director, IT/Operations","4 to 6 hours a day"]
["ID0807","Managers","Asia",8013.5625093491553,{"$f":"VLOOKUP(I793,Calc!$I$35:$J$39,2,FALSE)","v":5},6,"India","Sr. Executive","4 to 6 hours a day"]
["ID0808","Managers","North America",48000,{"$f":"VLOOKUP(I794,Calc!$I$35:$J$39,2,FALSE)","v":2.5},16,"USA","Operations Support Coordinator","2 to 3 hours per day"]
["ID0809","Reporting","Asia",3027.3458368652364,{"$f":"VLOOKUP(I795,Calc!$I$35:$J$39,2,FALSE)","v":5},2,"India","Sr. Executive MIS","4 to 6 hours a day"]
["ID0810","Accountants","Asia",13100,{"$f":"VLOOKUP(I796,Calc!$I$35:$J$39,2,FALSE)","v":2.5},5,"India","accountant","2 to 3 hours per day"]
["ID0811","Managers","Middle East",60000,{"$f":"VLOOKUP(I797,Calc!$I$35:$J$39,2,FALSE)","v":2.5},15,"UAE","Audit Manager","2 to 3 hours per day"]
["ID0812","Managers","Europe",24000,{"$f":"VLOOKUP(I798,Calc!$I$35:$J$39,2,FALSE)","v":2.5},5,"Croatia","Logistic KA Manager","2 to 3 hours per day"]
["ID0813","Managers","Asia",4273.9000049862161,{"$f":"VLOOKUP(I799,Calc!$I$35:$J$39,2,FALSE)","v":2.5},3,"India","MANAGER","2 to 3 hours per day"]
["ID0814","Managers","Asia",11575.14584683767,{"$f":"VLOOKUP(I800,Calc!$I$35:$J$39,2,FALSE)","v":2.5},5,"India","Deputy Manager","2 to 3 hours per day"]
["ID0815","Analysts","North America",95000,{"$f":"VLOOKUP(I801,Calc!$I$35:$J$39,2,FALSE)","v":2.5},13,"USA","Business Analyst","2 to 3 hours per day"]
["ID0816","Managers","Asia",9188.8850107203652,{"$f":"VLOOKUP(I802,Calc!$I$35:$J$39,2,FALSE)","v":5},0,"India","Management Trainee","4 to 6 hours a day"]
["ID0817","Managers","Asia",8975.1900104710548,{"$f":"VLOOKUP(I803,Calc!$I$35:$J$39,2,FALSE)","v":8},3,"India","MNR","All the 8 hours baby, all the 8!"]
["ID0818","Analysts","Asia",2564.3400029917298,{"$f":"VLOOKUP(I804,Calc!$I$35:$J$39,2,FALSE)","v":8},1,"India","BPO information process enabler","All the 8 hours baby, all the 8!"]
["ID0820","Controllers","Europe",86689.804963700633,{"$f":"VLOOKUP(I805,Calc!$I$35:$J$39,2,FALSE)","v":5},12,"UK","Financial controller","4 to 6 hours a day"]
["ID0821","Engineers","Asia",15500,{"$f":"VLOOKUP(I806,Calc!$I$35:$J$39,2,FALSE)","v":1.5},3,"India","Engineer","1 or 2 hours a day"]
["ID0822","Analysts","South America",148284.35006969364,{"$f":"VLOOKUP(I807,Calc!$I$35:$J$39,2,FALSE)","v":8},3,"Brazil","Market Intelligence Analyst","All the 8 hours baby, all the 8!"]
["ID0823","Analysts","Asia",10684.750012465542,{"$f":"VLOOKUP(I808,Calc!$I$35:$J$39,2,FALSE)","v":8},5,"India","Reporting Analyst","All the 8 hours baby, all the 8!"]
["ID0824","Analysts","North America",75000,{"$f":"VLOOKUP(I809,Calc!$I$35:$J$39,2,FALSE)","v":2.5},27,"USA","sr financial analyst","2 to 3 hours per day"]
["ID0825","Managers","Europe",12000,{"$f":"VLOOKUP(I810,Calc!$I$35:$J$39,2,FALSE)","v":5},5,"Ukraine","Investment manager","4 to 6 hours a day"]
["ID0826","Managers","Asia",30273.458368652366,{"$f":"VLOOKUP(I811,Calc!$I$35:$J$39,2,FALSE)","v":8},1.1000000000000001,"India","Operations Lead","All the 8 hours baby, all the 8!"]
["ID0827","Controllers","Asia",30000,{"$f":"VLOOKUP(I812,Calc!$I$35:$J$39,2,FALSE)","v":5},7,"Indonesia","Financial Control Section Headm","4 to 6 hours a day"]
["ID0828","Analysts","Asia",6410.8500074793246,{"$f":"VLOOKUP(I813,Calc!$I$35:$J$39,2,FALSE)","v":8},4,"India","Application Developer","All the 8 hours baby, all the 8!"]
["ID0829","Top Mgmt","North America",100000,{"$f":"VLOOKUP(I814,Calc!$I$35:$J$39,2,FALSE)","v":5},10,"USA","director","4 to 6 hours a day"]
["ID0830","Engineers","Europe",53356.776437647524,{"$f":"VLOOKUP(I815,Calc!$I$35:$J$39,2,FALSE)","v":5},2,"Netherlands","Project Engineer","4 to 6 hours a day"]
["ID0831","Managers","North America",40000,{"$f":"VLOOKUP(I816,Calc!$I$35:$J$39,2,FALSE)","v":2.5},20,"USA","High School Teacher","2 to 3 hours per day"]
["ID0832","Analysts","Asia",9794.354178093412,{"$f":"VLOOKUP(I817,Calc!$I$35:$J$39,2,FALSE)","v":5},1,"India","web analyst","4 to 6 hours a day"]
["ID0833","Specialists","Europe",18499.860539512854,{"$f":"VLOOKUP(I818,Calc!$I$35:$J$39,2,FALSE)","v":5},6,"Romania","HR Planning Specialist","4 to 6 hours a day"]
["ID0834","Controllers","Europe",19818.231248269083,{"$f":"VLOOKUP(I819,Calc!$I$35:$J$39,2,FALSE)","v":5},5,"Portugal","Managment controller","4 to 6 hours a day"]
["ID0835","Managers","Asia",10684.750012465542,{"$f":"VLOOKUP(I820,Calc!$I$35:$J$39,2,FALSE)","v":8},20,"India","AO","All the 8 hours baby, all the 8!"]
["ID0836","Managers","Asia",10684.750012465542,{"$f":"VLOOKUP(I821,Calc!$I$35:$J$39,2,FALSE)","v":2.5},18,"India","Project Manager","2 to 3 hours per day"]
["ID0837","Analysts","Asia",17807.916687442568,{"$f":"VLOOKUP(I822,Calc!$I$35:$J$39,2,FALSE)","v":5},10,"India","business analyist","4 to 6 hours a day"]
["ID0838","Analysts","Asia",13000,{"$f":"VLOOKUP(I823,Calc!$I$35:$J$39,2,FALSE)","v":8},6,"India","Business Analyst","All the 8 hours baby, all the 8!"]
["ID0839","Managers","Asia",16027.125018698311,{"$f":"VLOOKUP(I824,Calc!$I$35:$J$39,2,FALSE)","v":1.5},9,"India","Deputy Manager","1 or 2 hours a day"]
["ID0840","Accountants","North America",85000,{"$f":"VLOOKUP(I825,Calc!$I$35:$J$39,2,FALSE)","v":8},1,"USA","actuary","All the 8 hours baby, all the 8!"]
["ID0841","Analysts","South America",6000,{"$f":"VLOOKUP(I826,Calc!$I$35:$J$39,2,FALSE)","v":1.5},10,"Colombia","Analysis Quality","1 or 2 hours a day"]
["ID0842","Reporting","Asia",30000,{"$f":"VLOOKUP(I827,Calc!$I$35:$J$39,2,FALSE)","v":5},2,"India","MIS Executive","4 to 6 hours a day"]
["ID0844","Controllers","Europe",157617.8272067284,{"$f":"VLOOKUP(I828,Calc!$I$35:$J$39,2,FALSE)","v":2.5},20,"UK","Financial Controller","2 to 3 hours per day"]
["ID0845","Managers","Asia",21369.500024931083,{"$f":"VLOOKUP(I829,Calc!$I$35:$J$39,2,FALSE)","v":1.5},18,"India","project manager","1 or 2 hours a day"]
["ID0846","Reporting","Asia",3561.5833374885137,{"$f":"VLOOKUP(I830,Calc!$I$35:$J$39,2,FALSE)","v":5},1,"India","Bio-Statiscian","4 to 6 hours a day"]
["ID0847","Managers","Asia",5000,{"$f":"VLOOKUP(I831,Calc!$I$35:$J$39,2,FALSE)","v":5},1,"India","Management Intern","4 to 6 hours a day"]
["ID0848","Analysts","Asia",3561.5833374885137,{"$f":"VLOOKUP(I832,Calc!$I$35:$J$39,2,FALSE)","v":5},2,"India","Sales Analyst","4 to 6 hours a day"]
["ID0849","Accountants","Europe",38111.983169748237,{"$f":"VLOOKUP(I833,Calc!$I$35:$J$39,2,FALSE)","v":8},8,"Portugal","financialcotroller","All the 8 hours baby, all the 8!"]
["ID0850","Analysts","Asia",17807.916687442568,{"$f":"VLOOKUP(I834,Calc!$I$35:$J$39,2,FALSE)","v":5},6.5,"India","HR Analyst","4 to 6 hours a day"]
["ID0851","Analysts","Asia",11575.14584683767,{"$f":"VLOOKUP(I835,Calc!$I$35:$J$39,2,FALSE)","v":8},3.5,"India","Financial Analyist","All the 8 hours baby, all the 8!"]
["ID0852","Managers","North America",98336.152303032693,{"$f":"VLOOKUP(I836,Calc!$I$35:$J$39,2,FALSE)","v":2.5},10,"Canada","Marketing Manager","2 to 3 hours per day"]
["ID0854","Analysts","North America",92500,{"$f":"VLOOKUP(I837,Calc!$I$35:$J$39,2,FALSE)","v":2.5},15,"USA","Dir of Analytics","2 to 3 hours per day"]
["ID0855","Analysts","Asia",9794.354178093412,{"$f":"VLOOKUP(I838,Calc!$I$35:$J$39,2,FALSE)","v":5},1,"India","Analyst","4 to 6 hours a day"]
["ID0856","Managers","North America",32000,{"$f":"VLOOKUP(I839,Calc!$I$35:$J$39,2,FALSE)","v":5},1,"USA","Reporting Manager","4 to 6 hours a day"]
["ID0857","Analysts","North America",55000,{"$f":"VLOOKUP(I840,Calc!$I$35:$J$39,2,FALSE)","v":5},10,"USA","Analyst","4 to 6 hours a day"]
["ID0858","Analysts","North America",40000,{"$f":"VLOOKUP(I841,Calc!$I$35:$J$39,2,FALSE)","v":8},4,"USA","Data Research Assistant","All the 8 hours baby, all the 8!"]
["ID0859","Analysts","Asia",3000,{"$f":"VLOOKUP(I842,Calc!$I$35:$J$39,2,FALSE)","v":2.5},2,"Pakistan","Statistical Analyst","2 to 3 hours per day"]
["ID0860","Analysts","North America",43600,{"$f":"VLOOKUP(I843,Calc!$I$35:$J$39,2,FALSE)","v":5},5,"USA","Data Analyst","4 to 6 hours a day"]
["ID0861","Analysts","Asia",9616.275011218986,{"$f":"VLOOKUP(I844,Calc!$I$35:$J$39,2,FALSE)","v":8},8,"India","Senior analyst","All the 8 hours baby, all the 8!"]
["ID0862","Managers","South America",35000,{"$f":"VLOOKUP(I845,Calc!$I$35:$J$39,2,FALSE)","v":8},10,"Uruguay","Purchasing Manager","All the 8 hours baby, all the 8!"]
["ID0863","Consultants","Europe",12000,{"$f":"VLOOKUP(I846,Calc!$I$35:$J$39,2,FALSE)","v":2.5},15,"Spain","Guide for About.com","2 to 3 hours per day"]
["ID0864","Consultants","South America",5000,{"$f":"VLOOKUP(I847,Calc!$I$35:$J$39,2,FALSE)","v":1.5},13,"Aruba","Policy advisor","1 or 2 hours a day"]
["ID0865","Analysts","Africa",16337.518501630093,{"$f":"VLOOKUP(I848,Calc!$I$35:$J$39,2,FALSE)","v":5},2,"South Africa","Data Analyst","4 to 6 hours a day"]
["ID0866","Analysts","North America",65000,{"$f":"VLOOKUP(I849,Calc!$I$35:$J$39,2,FALSE)","v":1.5},8,"USA","Security Access Governance Analyst","1 or 2 hours a day"]
["ID0867","Analysts","North America",40000,{"$f":"VLOOKUP(I850,Calc!$I$35:$J$39,2,FALSE)","v":8},2,"USA","IT Capacity Planner","All the 8 hours baby, all the 8!"]
["ID0868","Managers","Asia",98000,{"$f":"VLOOKUP(I851,Calc!$I$35:$J$39,2,FALSE)","v":2.5},14,"Indonesia","supply chain manager","2 to 3 hours per day"]
["ID0869","Top Mgmt","North America",50000,{"$f":"VLOOKUP(I852,Calc!$I$35:$J$39,2,FALSE)","v":8},15,"USA","Boss","All the 8 hours baby, all the 8!"]
["ID0870","Top Mgmt","North America",135000,{"$f":"VLOOKUP(I853,Calc!$I$35:$J$39,2,FALSE)","v":5},25,"USA","Director, P&A","4 to 6 hours a day"]
["ID0871","Managers","Europe",125000,{"$f":"VLOOKUP(I854,Calc!$I$35:$J$39,2,FALSE)","v":5},6,"Norway","Project controls manager","4 to 6 hours a day"]
["ID0872","Analysts","Asia",4500,{"$f":"VLOOKUP(I855,Calc!$I$35:$J$39,2,FALSE)","v":2.5},4,"Indonesia","senior associate","2 to 3 hours per day"]
["ID0873","Analysts","North America",115000,{"$f":"VLOOKUP(I856,Calc!$I$35:$J$39,2,FALSE)","v":5},10,"USA","Principal Financial Analyst","4 to 6 hours a day"]
["ID0874","Analysts","North America",70000,{"$f":"VLOOKUP(I857,Calc!$I$35:$J$39,2,FALSE)","v":8},15,"USA","Financial Analyst","All the 8 hours baby, all the 8!"]
["ID0875","Analysts","North America",60000,{"$f":"VLOOKUP(I858,Calc!$I$35:$J$39,2,FALSE)","v":2.5},8,"USA","Store keeper","2 to 3 hours per day"]
["ID0876","Managers","North America",87456,{"$f":"VLOOKUP(I859,Calc!$I$35:$J$39,2,FALSE)","v":2.5},12,"USA","qa team supervisor ","2 to 3 hours per day"]
["ID0877","Analysts","Middle East",26400,{"$f":"VLOOKUP(I860,Calc!$I$35:$J$39,2,FALSE)","v":8},6,"UAE","Supply Chain Administrator","All the 8 hours baby, all the 8!"]
["ID0878","Managers","Middle East",12000,{"$f":"VLOOKUP(I861,Calc!$I$35:$J$39,2,FALSE)","v":8},18,"UAE","sup","All the 8 hours baby, all the 8!"]
["ID0879","Analysts","Asia",2564.3400029917298,{"$f":"VLOOKUP(I862,Calc!$I$35:$J$39,2,FALSE)","v":5},1,"India","Cost Trainee","4 to 6 hours a day"]
["ID0880","Managers","Middle East",62000,{"$f":"VLOOKUP(I863,Calc!$I$35:$J$39,2,FALSE)","v":8},11,"Qatar","Deputy Manager Finance","All the 8 hours baby, all the 8!"]
["ID0881","Analysts","Asia",5342.3750062327708,{"$f":"VLOOKUP(I864,Calc!$I$35:$J$39,2,FALSE)","v":1.5},10,"India","Sales","1 or 2 hours a day"]
["ID0882","Analysts","Europe",50815.977559664309,{"$f":"VLOOKUP(I865,Calc!$I$35:$J$39,2,FALSE)","v":5},4,"Netherlands","Medical information analist","4 to 6 hours a day"]
["ID0883","Managers","Middle East",25560,{"$f":"VLOOKUP(I866,Calc!$I$35:$J$39,2,FALSE)","v":5},3,"Saudi Arabia","Training Coordinator","4 to 6 hours a day"]
["ID0884","Accountants","Asia",12821.700014958649,{"$f":"VLOOKUP(I867,Calc!$I$35:$J$39,2,FALSE)","v":5},3,"India","Article (Internship) - CA","4 to 6 hours a day"]
["ID0885","Managers","Asia",10684.750012465542,{"$f":"VLOOKUP(I868,Calc!$I$35:$J$39,2,FALSE)","v":8},5,"India","Asst Manager","All the 8 hours baby, all the 8!"]
["ID0886","Managers","Asia",4457.9172610556352,{"$f":"VLOOKUP(I869,Calc!$I$35:$J$39,2,FALSE)","v":8},4,"Pakistan","Assistant Manager","All the 8 hours baby, all the 8!"]
["ID0887","Top Mgmt","Africa",125000,{"$f":"VLOOKUP(I870,Calc!$I$35:$J$39,2,FALSE)","v":5},20,"South Africa","Commercial Director","4 to 6 hours a day"]
["ID0888","Analysts","North America",43000,{"$f":"VLOOKUP(I871,Calc!$I$35:$J$39,2,FALSE)","v":5},1,"USA","Financial Analyst","4 to 6 hours a day"]
["ID0889","Engineers","Asia",7123.1666749770275,{"$f":"VLOOKUP(I872,Calc!$I$35:$J$39,2,FALSE)","v":2.5},6,"India","engineer","2 to 3 hours per day"]
["ID0890","Accountants","Asia",10000,{"$f":"VLOOKUP(I873,Calc!$I$35:$J$39,2,FALSE)","v":5},4,"Vietnam","Finance Staff","4 to 6 hours a day"]
["ID0891","Managers","Asia",8903.9583437212841,{"$f":"VLOOKUP(I874,Calc!$I$35:$J$39,2,FALSE)","v":1.5},5,"India","team coach","1 or 2 hours a day"]
["ID0892","Accountants","Middle East",36500,{"$f":"VLOOKUP(I875,Calc!$I$35:$J$39,2,FALSE)","v":5},15,"Saudi Arabia","Accountant","4 to 6 hours a day"]
["ID0893","Top Mgmt","South America",100000,{"$f":"VLOOKUP(I876,Calc!$I$35:$J$39,2,FALSE)","v":8},10,"Mexico","Director","All the 8 hours baby, all the 8!"]
["ID0894","Accountants","Asia",7123.1666749770275,{"$f":"VLOOKUP(I877,Calc!$I$35:$J$39,2,FALSE)","v":2.5},8,"India","Accountancy","2 to 3 hours per day"]
["ID0895","Managers","Asia",40958.208381117904,{"$f":"VLOOKUP(I878,Calc!$I$35:$J$39,2,FALSE)","v":2.5},8,"India","Manager - Business Planning & Reporting","2 to 3 hours per day"]
["ID0896","Top Mgmt","Asia",21369.500024931083,{"$f":"VLOOKUP(I879,Calc!$I$35:$J$39,2,FALSE)","v":5},17,"India","ASST VICE PREDISDENT","4 to 6 hours a day"]
["ID0897","Managers","Asia",2136.9500024931081,{"$f":"VLOOKUP(I880,Calc!$I$35:$J$39,2,FALSE)","v":5},5,"India","co ordinator","4 to 6 hours a day"]
["ID0898","Engineers","Asia",8903.9583437212841,{"$f":"VLOOKUP(I881,Calc!$I$35:$J$39,2,FALSE)","v":2.5},3,"India","Planning Engineer","2 to 3 hours per day"]
["ID0899","Managers","Asia",17807.916687442568,{"$f":"VLOOKUP(I882,Calc!$I$35:$J$39,2,FALSE)","v":5},5,"India","Engagement Lead","4 to 6 hours a day"]
["ID0900","Managers","Asia",15136.729184326183,{"$f":"VLOOKUP(I883,Calc!$I$35:$J$39,2,FALSE)","v":2.5},3,"India","Assistant Manager","2 to 3 hours per day"]
["ID0901","Analysts","Asia",3982.448779308334,{"$f":"VLOOKUP(I884,Calc!$I$35:$J$39,2,FALSE)","v":5},10,"Philippines","Clerk","4 to 6 hours a day"]
["ID0903","Controllers","Middle East",15600,{"$f":"VLOOKUP(I885,Calc!$I$35:$J$39,2,FALSE)","v":5},13,"Kuwait ","Document controller ","4 to 6 hours a day"]
["ID0904","Analysts","Asia",3205.4250037396623,{"$f":"VLOOKUP(I886,Calc!$I$35:$J$39,2,FALSE)","v":2.5},3.5,"India","Executive","2 to 3 hours per day"]
["ID0905","Managers","Asia",10000,{"$f":"VLOOKUP(I887,Calc!$I$35:$J$39,2,FALSE)","v":5},6,"India","Planner","4 to 6 hours a day"]
["ID0906","Analysts","North America",75010,{"$f":"VLOOKUP(I888,Calc!$I$35:$J$39,2,FALSE)","v":2.5},6,"USA","Senior Business Analyst","2 to 3 hours per day"]
["ID0907","Managers","Asia",10684.750012465542,{"$f":"VLOOKUP(I889,Calc!$I$35:$J$39,2,FALSE)","v":8},9,"India","Manager","All the 8 hours baby, all the 8!"]
["ID0908","Managers","Asia",16350,{"$f":"VLOOKUP(I890,Calc!$I$35:$J$39,2,FALSE)","v":5},5,"India","Estimator","4 to 6 hours a day"]
["ID0909","Accountants","Europe",126094.26176538273,{"$f":"VLOOKUP(I891,Calc!$I$35:$J$39,2,FALSE)","v":5},10,"UK","Financial Modeller","4 to 6 hours a day"]
["ID0910","Accountants","Asia",60000,{"$f":"VLOOKUP(I892,Calc!$I$35:$J$39,2,FALSE)","v":8},10,"Singapore","Cost accountant","All the 8 hours baby, all the 8!"]
["ID0911","Managers","Asia",23150.291693675339,{"$f":"VLOOKUP(I893,Calc!$I$35:$J$39,2,FALSE)","v":1.5},3,"India","banker","1 or 2 hours a day"]
["ID0912","Analysts","Asia",13801.135432767991,{"$f":"VLOOKUP(I894,Calc!$I$35:$J$39,2,FALSE)","v":5},2,"India","Analyst","4 to 6 hours a day"]
["ID0913","Managers","Asia",18698.312521814696,{"$f":"VLOOKUP(I895,Calc!$I$35:$J$39,2,FALSE)","v":8},5,"India","Manager Market Reesrach","All the 8 hours baby, all the 8!"]
["ID0914","Controllers","Europe",36000,{"$f":"VLOOKUP(I896,Calc!$I$35:$J$39,2,FALSE)","v":2.5},9,"Czech Republic","QA Supervisor","2 to 3 hours per day"]
["ID0915","Managers","Asia",8654.6475100970874,{"$f":"VLOOKUP(I897,Calc!$I$35:$J$39,2,FALSE)","v":8},6,"India","Assistant manager","All the 8 hours baby, all the 8!"]
["ID0916","Managers","Europe",102451.58768437347,{"$f":"VLOOKUP(I898,Calc!$I$35:$J$39,2,FALSE)","v":1.5},15,"UK","Manager","1 or 2 hours a day"]
["ID0917","Analysts","Africa",36400,{"$f":"VLOOKUP(I899,Calc!$I$35:$J$39,2,FALSE)","v":5},20,"Zimbabwe","Analyst","4 to 6 hours a day"]
["ID0918","Consultants","Europe",101206.40684944032,{"$f":"VLOOKUP(I900,Calc!$I$35:$J$39,2,FALSE)","v":5},16,"UK","HR Advisor - Systems & MI","4 to 6 hours a day"]
["ID0919","Analysts","Asia",5342.3750062327708,{"$f":"VLOOKUP(I901,Calc!$I$35:$J$39,2,FALSE)","v":5},0.5,"India","ANALYST","4 to 6 hours a day"]
["ID0920","Analysts","Middle East",28310.79811950968,{"$f":"VLOOKUP(I902,Calc!$I$35:$J$39,2,FALSE)","v":5},11,"UAE","Financial Analyst","4 to 6 hours a day"]
["ID0921","Managers","Europe",26043.18849932796,{"$f":"VLOOKUP(I903,Calc!$I$35:$J$39,2,FALSE)","v":5},8,"Poland","C&B Manager","4 to 6 hours a day"]
["ID0922","Analysts","Oceana",96891.417358250401,{"$f":"VLOOKUP(I904,Calc!$I$35:$J$39,2,FALSE)","v":1.5},7,"Australia","Senior Marketing Analyst","1 or 2 hours a day"]
["ID0923","Controllers","Asia",2564.3400029917298,{"$f":"VLOOKUP(I905,Calc!$I$35:$J$39,2,FALSE)","v":5},4,"India","operation supervisor","4 to 6 hours a day"]
["ID0924","Reporting","Asia",3205.4250037396623,{"$f":"VLOOKUP(I906,Calc!$I$35:$J$39,2,FALSE)","v":8},8,"India","MIS TEAM MEMBER","All the 8 hours baby, all the 8!"]
["ID0925","Analysts","Asia",10684.750012465542,{"$f":"VLOOKUP(I907,Calc!$I$35:$J$39,2,FALSE)","v":8},8,"India","Sales Analyst","All the 8 hours baby, all the 8!"]
["ID0927","Controllers","North America",150000,{"$f":"VLOOKUP(I908,Calc!$I$35:$J$39,2,FALSE)","v":5},25,"USA","Controller","4 to 6 hours a day"]
["ID0928","Managers","Asia",12465.541681209797,{"$f":"VLOOKUP(I909,Calc!$I$35:$J$39,2,FALSE)","v":5},3,"India","Business Support Executive","4 to 6 hours a day"]
["ID0929","Analysts","Europe",19055.991584874118,{"$f":"VLOOKUP(I910,Calc!$I$35:$J$39,2,FALSE)","v":5},4,"Slovenia","analytic","4 to 6 hours a day"]
["ID0930","Analysts","North America",105000,{"$f":"VLOOKUP(I911,Calc!$I$35:$J$39,2,FALSE)","v":5},20,"USA","business analyst","4 to 6 hours a day"]
["ID0931","Analysts","Asia",24000,{"$f":"VLOOKUP(I912,Calc!$I$35:$J$39,2,FALSE)","v":5},3,"India","business analyst","4 to 6 hours a day"]
["ID0932","Analysts","Europe",78808.913603364199,{"$f":"VLOOKUP(I913,Calc!$I$35:$J$39,2,FALSE)","v":8},10,"UK","Finance Analyst","All the 8 hours baby, all the 8!"]
["ID0933","Controllers","Middle East",42000,{"$f":"VLOOKUP(I914,Calc!$I$35:$J$39,2,FALSE)","v":8},15,"Saudi Arabia","Credit Controller","All the 8 hours baby, all the 8!"]
["ID0934","Analysts","South America",9490.1984044603923,{"$f":"VLOOKUP(I915,Calc!$I$35:$J$39,2,FALSE)","v":8},8,"Brazil","Programmer","All the 8 hours baby, all the 8!"]
["ID0935","Consultants","Asia",60000,{"$f":"VLOOKUP(I916,Calc!$I$35:$J$39,2,FALSE)","v":5},5,"Singapore","Consultant","4 to 6 hours a day"]
["ID0936","Managers","Asia",17807.916687442568,{"$f":"VLOOKUP(I917,Calc!$I$35:$J$39,2,FALSE)","v":8},8,"India","business","All the 8 hours baby, all the 8!"]
["ID0937","Analysts","Asia",12465.541681209797,{"$f":"VLOOKUP(I918,Calc!$I$35:$J$39,2,FALSE)","v":8},1,"India","Business Analyst","All the 8 hours baby, all the 8!"]
["ID0938","Top Mgmt","Europe",20571,{"$f":"VLOOKUP(I919,Calc!$I$35:$J$39,2,FALSE)","v":5},8,"Albania","CFO","4 to 6 hours a day"]
["ID0939","Managers","Asia",3480,{"$f":"VLOOKUP(I920,Calc!$I$35:$J$39,2,FALSE)","v":8},6,"Pakistan","Reconciliation Manager in Textile Mill","All the 8 hours baby, all the 8!"]
["ID0940","Reporting","Asia",18060,{"$f":"VLOOKUP(I921,Calc!$I$35:$J$39,2,FALSE)","v":5},12,"Philippines","Reporting Supervisor","4 to 6 hours a day"]
["ID0941","Accountants","Middle East",30000,{"$f":"VLOOKUP(I922,Calc!$I$35:$J$39,2,FALSE)","v":2.5},30,"Iran","Financial Expert","2 to 3 hours per day"]
["ID0943","Managers","Asia",24000,{"$f":"VLOOKUP(I923,Calc!$I$35:$J$39,2,FALSE)","v":5},10,"India","sr manager","4 to 6 hours a day"]
["ID0944","Consultants","Europe",80289.244544269619,{"$f":"VLOOKUP(I924,Calc!$I$35:$J$39,2,FALSE)","v":5},3,"France","Consultant","4 to 6 hours a day"]
["ID0945","Managers","North America",70000,{"$f":"VLOOKUP(I925,Calc!$I$35:$J$39,2,FALSE)","v":5},4,"USA","Client Manager","4 to 6 hours a day"]
["ID0946","Managers","Asia",8547.8000099724322,{"$f":"VLOOKUP(I926,Calc!$I$35:$J$39,2,FALSE)","v":2.5},2,"India","Manager","2 to 3 hours per day"]
["ID0948","Analysts","Asia",10684.750012465542,{"$f":"VLOOKUP(I927,Calc!$I$35:$J$39,2,FALSE)","v":5},11,"India","Asst. Mgr. Finance","4 to 6 hours a day"]
["ID0949","Analysts","Asia",10684.750012465542,{"$f":"VLOOKUP(I928,Calc!$I$35:$J$39,2,FALSE)","v":2.5},4,"India","Executive","2 to 3 hours per day"]
["ID0950","Accountants","Africa",20000,{"$f":"VLOOKUP(I929,Calc!$I$35:$J$39,2,FALSE)","v":8},2,"Zambia","Financial Modeller","All the 8 hours baby, all the 8!"]
["ID0951","Consultants","Europe",53356.776437647524,{"$f":"VLOOKUP(I930,Calc!$I$35:$J$39,2,FALSE)","v":2.5},3,"Germany","Consultant","2 to 3 hours per day"]
["ID0952","Accountants","Middle East",36000,{"$f":"VLOOKUP(I931,Calc!$I$35:$J$39,2,FALSE)","v":5},4.5,"UAE","Accountant","4 to 6 hours a day"]
["ID0953","Engineers","North America",57000,{"$f":"VLOOKUP(I932,Calc!$I$35:$J$39,2,FALSE)","v":2.5},4,"USA","Construction Engineer","2 to 3 hours per day"]
["ID0954","Managers","North America",135000,{"$f":"VLOOKUP(I933,Calc!$I$35:$J$39,2,FALSE)","v":8},15,"USA","Marketing Insights Manager","All the 8 hours baby, all the 8!"]
["ID0955","Analysts","Europe",95279.957924370581,{"$f":"VLOOKUP(I934,Calc!$I$35:$J$39,2,FALSE)","v":5},4,"Netherlands","Risk analyst","4 to 6 hours a day"]
["ID0957","Analysts","Europe",57167.974754622352,{"$f":"VLOOKUP(I935,Calc!$I$35:$J$39,2,FALSE)","v":2.5},10,"Netherlands","data analist","2 to 3 hours per day"]
["ID0958","Managers","Africa",12326.656394453004,{"$f":"VLOOKUP(I936,Calc!$I$35:$J$39,2,FALSE)","v":5},5,"Nigeria","Head Business Advisory","4 to 6 hours a day"]
["ID0959","Analysts","Asia",8000,{"$f":"VLOOKUP(I937,Calc!$I$35:$J$39,2,FALSE)","v":1.5},5,"India","IT Analyst","1 or 2 hours a day"]
["ID0960","Managers","Europe",48000,{"$f":"VLOOKUP(I938,Calc!$I$35:$J$39,2,FALSE)","v":5},5,"France","Merchandise planner","4 to 6 hours a day"]
["ID0961","Analysts","Oceana",40000,{"$f":"VLOOKUP(I939,Calc!$I$35:$J$39,2,FALSE)","v":5},5,"New Zealand","analyst","4 to 6 hours a day"]
["ID0962","Analysts","Oceana",59819.107020370408,{"$f":"VLOOKUP(I940,Calc!$I$35:$J$39,2,FALSE)","v":5},10,"New Zealand","Information Analyst","4 to 6 hours a day"]
["ID0963","Analysts","Europe",150000,{"$f":"VLOOKUP(I941,Calc!$I$35:$J$39,2,FALSE)","v":1.5},20,"Switzerland","Software Tester","1 or 2 hours a day"]
["ID0964","Managers","Oceana",81592.772512210868,{"$f":"VLOOKUP(I942,Calc!$I$35:$J$39,2,FALSE)","v":5},25,"Australia","Billing manager","4 to 6 hours a day"]
["ID0965","Analysts","Oceana",96891.417358250401,{"$f":"VLOOKUP(I943,Calc!$I$35:$J$39,2,FALSE)","v":2.5},20,"Australia","financial analyst","2 to 3 hours per day"]
["ID0966","Analysts","Oceana",91791.869076237213,{"$f":"VLOOKUP(I944,Calc!$I$35:$J$39,2,FALSE)","v":5},13,"Australia","Senior Research Analyst","4 to 6 hours a day"]
["ID0967","Analysts","Asia",15000,{"$f":"VLOOKUP(I945,Calc!$I$35:$J$39,2,FALSE)","v":2.5},2,"India","Quality Executive","2 to 3 hours per day"]
["ID0968","Managers","Oceana",66294.12766617132,{"$f":"VLOOKUP(I946,Calc!$I$35:$J$39,2,FALSE)","v":2.5},5,"Australia","Business Support ","2 to 3 hours per day"]
["ID0969","Consultants","Oceana",101990.96564026357,{"$f":"VLOOKUP(I947,Calc!$I$35:$J$39,2,FALSE)","v":8},6,"Australia","Senior Consultant","All the 8 hours baby, all the 8!"]
["ID0970","Managers","North America",60000,{"$f":"VLOOKUP(I948,Calc!$I$35:$J$39,2,FALSE)","v":2.5},3,"USA","Sales Manager","2 to 3 hours per day"]
["ID0971","Managers","Oceana",43856.11522531334,{"$f":"VLOOKUP(I949,Calc!$I$35:$J$39,2,FALSE)","v":8},1,"Australia","Finance Officer","All the 8 hours baby, all the 8!"]
["ID0972","Analysts","Oceana",45616,{"$f":"VLOOKUP(I950,Calc!$I$35:$J$39,2,FALSE)","v":5},1.5,"Australia","Assistant Fleet Analyst","4 to 6 hours a day"]
["ID0973","Accountants","Oceana",75770.868892469181,{"$f":"VLOOKUP(I951,Calc!$I$35:$J$39,2,FALSE)","v":5},20,"New Zealand","Cost Accountant","4 to 6 hours a day"]
["ID0974","Managers","Oceana",57726.886552389187,{"$f":"VLOOKUP(I952,Calc!$I$35:$J$39,2,FALSE)","v":2.5},2,"Australia","Operations Coordinator","2 to 3 hours per day"]
["ID0975","Analysts","Oceana",20000,{"$f":"VLOOKUP(I953,Calc!$I$35:$J$39,2,FALSE)","v":2.5},2,"Australia","data analyst","2 to 3 hours per day"]
["ID0976","Managers","Oceana",203981.93128052715,{"$f":"VLOOKUP(I954,Calc!$I$35:$J$39,2,FALSE)","v":5},15,"Australia","Corporate Finance Manager","4 to 6 hours a day"]
["ID0977","Controllers","Oceana",50995.482820131787,{"$f":"VLOOKUP(I955,Calc!$I$35:$J$39,2,FALSE)","v":1.5},5,"Australia","Operations","1 or 2 hours a day"]
["ID0978","Top Mgmt","Oceana",127488.70705032947,{"$f":"VLOOKUP(I956,Calc!$I$35:$J$39,2,FALSE)","v":5},15,"Australia","Director, Informatics","4 to 6 hours a day"]
["ID0979","Analysts","Oceana",66294.12766617132,{"$f":"VLOOKUP(I957,Calc!$I$35:$J$39,2,FALSE)","v":5},4,"Australia","Data Analyst","4 to 6 hours a day"]
["ID0980","Analysts","Oceana",63234.398696963413,{"$f":"VLOOKUP(I958,Calc!$I$35:$J$39,2,FALSE)","v":5},3,"Australia","Business Analyst","4 to 6 hours a day"]
["ID0981","Top Mgmt","North America",260000,{"$f":"VLOOKUP(I959,Calc!$I$35:$J$39,2,FALSE)","v":2.5},10,"USA","CFO","2 to 3 hours per day"]
["ID0983","Managers","Oceana",112190.06220428993,{"$f":"VLOOKUP(I960,Calc!$I$35:$J$39,2,FALSE)","v":2.5},8,"Australia","Sustainability Strategy Advisor","2 to 3 hours per day"]
["ID0984","Managers","Oceana",71393.675948184507,{"$f":"VLOOKUP(I961,Calc!$I$35:$J$39,2,FALSE)","v":5},7,"Australia","Business Development","4 to 6 hours a day"]
["ID0985","Reporting","Oceana",85000,{"$f":"VLOOKUP(I962,Calc!$I$35:$J$39,2,FALSE)","v":5},8,"Australia","Reporting and DB Analyist","4 to 6 hours a day"]
["ID0986","Analysts","Oceana",95871.50770184776,{"$f":"VLOOKUP(I963,Calc!$I$35:$J$39,2,FALSE)","v":2.5},2.5,"Australia","Business Analyst","2 to 3 hours per day"]
["ID0987","Managers","Oceana",109130.33323508203,{"$f":"VLOOKUP(I964,Calc!$I$35:$J$39,2,FALSE)","v":5},35,"Australia","Management Accountant","4 to 6 hours a day"]
["ID0988","Managers","Asia",36000,{"$f":"VLOOKUP(I965,Calc!$I$35:$J$39,2,FALSE)","v":1.5},3,"Malaysia","Project manager","1 or 2 hours a day"]
["ID0989","Analysts","Oceana",122389.15876831629,{"$f":"VLOOKUP(I966,Calc!$I$35:$J$39,2,FALSE)","v":5},2,"Australia","analyst","4 to 6 hours a day"]
["ID0990","Analysts","Oceana",53035.30213293706,{"$f":"VLOOKUP(I967,Calc!$I$35:$J$39,2,FALSE)","v":5},4,"Australia","Shipping Administrator","4 to 6 hours a day"]
["ID0991","Top Mgmt","North America",125000,{"$f":"VLOOKUP(I968,Calc!$I$35:$J$39,2,FALSE)","v":5},10,"USA","VP, Operational Analytics","4 to 6 hours a day"]
["ID0992","Analysts","Asia",19000,{"$f":"VLOOKUP(I969,Calc!$I$35:$J$39,2,FALSE)","v":5},6,"China","Finance analyst","4 to 6 hours a day"]
["ID0993","Analysts","Oceana",93831.688389042494,{"$f":"VLOOKUP(I970,Calc!$I$35:$J$39,2,FALSE)","v":8},6,"Australia","Finance analyst","All the 8 hours baby, all the 8!"]
["ID0994","Analysts","Oceana",101990.96564026357,{"$f":"VLOOKUP(I971,Calc!$I$35:$J$39,2,FALSE)","v":5},20,"Australia","Reporting Analyst","4 to 6 hours a day"]
["ID0995","Analysts","Oceana",122389.15876831629,{"$f":"VLOOKUP(I972,Calc!$I$35:$J$39,2,FALSE)","v":5},5,"Australia","HSLP Data Analyst","4 to 6 hours a day"]
["ID0996","Analysts","North America",34417.653306061438,{"$f":"VLOOKUP(I973,Calc!$I$35:$J$39,2,FALSE)","v":8},4,"Canada","Reporting Analyst","All the 8 hours baby, all the 8!"]
["ID0997","Managers","Asia",12000,{"$f":"VLOOKUP(I974,Calc!$I$35:$J$39,2,FALSE)","v":8},3,"Asia","Manager","All the 8 hours baby, all the 8!"]
["ID0998","Managers","Asia",3632.815004238284,{"$f":"VLOOKUP(I975,Calc!$I$35:$J$39,2,FALSE)","v":5},0,"India","Retired Government Officer, having knowledge in excel.","4 to 6 hours a day"]
["ID0999","Consultants","Asia",21369.500024931083,{"$f":"VLOOKUP(I976,Calc!$I$35:$J$39,2,FALSE)","v":8},6,"India","Senior Consultant","All the 8 hours baby, all the 8!"]
["ID1000","Analysts","Asia",8903.9583437212841,{"$f":"VLOOKUP(I977,Calc!$I$35:$J$39,2,FALSE)","v":5},7,"India","Business Analyst","4 to 6 hours a day"]
["ID1001","Managers","Asia",15206.427249917633,{"$f":"VLOOKUP(I978,Calc!$I$35:$J$39,2,FALSE)","v":5},2,"Malaysia","Credit Risk Manager","4 to 6 hours a day"]
["ID1002","Managers","Oceana",143565.85684888897,{"$f":"VLOOKUP(I979,Calc!$I$35:$J$39,2,FALSE)","v":5},25,"New Zealand","Commercial Manager","4 to 6 hours a day"]
["ID1003","Managers","Asia",9705.3145946561999,{"$f":"VLOOKUP(I980,Calc!$I$35:$J$39,2,FALSE)","v":2.5},6,"India","Assistant Manager","2 to 3 hours per day"]
["ID1004","Managers","Asia",17807.916687442568,{"$f":"VLOOKUP(I981,Calc!$I$35:$J$39,2,FALSE)","v":8},8,"India","Credit Manager - Loans","All the 8 hours baby, all the 8!"]
["ID1005","Analysts","Asia",3205.4250037396623,{"$f":"VLOOKUP(I982,Calc!$I$35:$J$39,2,FALSE)","v":5},10,"India","Audit executive","4 to 6 hours a day"]
["ID1006","Accountants","North America",45000,{"$f":"VLOOKUP(I983,Calc!$I$35:$J$39,2,FALSE)","v":8},3,"USA","Staff accountant -- Auditing","All the 8 hours baby, all the 8!"]
["ID1007","Managers","Asia",12465.541681209797,{"$f":"VLOOKUP(I984,Calc!$I$35:$J$39,2,FALSE)","v":2.5},7,"India","Asst Manager - Quality","2 to 3 hours per day"]
["ID1008","Analysts","Oceana",95871.50770184776,{"$f":"VLOOKUP(I985,Calc!$I$35:$J$39,2,FALSE)","v":2.5},14,"Australia","Principal Analyst","2 to 3 hours per day"]
["ID1009","Consultants","Oceana",173384.64158844808,{"$f":"VLOOKUP(I986,Calc!$I$35:$J$39,2,FALSE)","v":2.5},8,"Australia","Business Consultant","2 to 3 hours per day"]
["ID1010","Managers","Asia",11575.14584683767,{"$f":"VLOOKUP(I987,Calc!$I$35:$J$39,2,FALSE)","v":2.5},1,"India","Ass Research  Manager","2 to 3 hours per day"]
["ID1011","Specialists","Asia",18000,{"$f":"VLOOKUP(I988,Calc!$I$35:$J$39,2,FALSE)","v":8},8,"India","Data Specialist","All the 8 hours baby, all the 8!"]
["ID1012","Top Mgmt","Oceana",71393.675948184507,{"$f":"VLOOKUP(I989,Calc!$I$35:$J$39,2,FALSE)","v":8},2,"Australia","Director","All the 8 hours baby, all the 8!"]
["ID1013","Analysts","Asia",6232.7708406048987,{"$f":"VLOOKUP(I990,Calc!$I$35:$J$39,2,FALSE)","v":5},2.5,"India","Data Analyst","4 to 6 hours a day"]
["ID1014","Managers","Asia",1805.7739622442759,{"$f":"VLOOKUP(I991,Calc!$I$35:$J$39,2,FALSE)","v":5},3,"Sri Lanka","Management Trainee","4 to 6 hours a day"]
["ID1015","Analysts","Asia",11397.066679963244,{"$f":"VLOOKUP(I992,Calc!$I$35:$J$39,2,FALSE)","v":8},6,"India","Sr.Analyst - Process Excellence","All the 8 hours baby, all the 8!"]
["ID1016","Managers","Asia",15000,{"$f":"VLOOKUP(I993,Calc!$I$35:$J$39,2,FALSE)","v":5},4,"India","Operations Management","4 to 6 hours a day"]
["ID1017","Managers","Africa",37612.869087708088,{"$f":"VLOOKUP(I994,Calc!$I$35:$J$39,2,FALSE)","v":8},3,"South Africa","Management Information Consultant","All the 8 hours baby, all the 8!"]
["ID1018","Analysts","Asia",6499.8895909165376,{"$f":"VLOOKUP(I995,Calc!$I$35:$J$39,2,FALSE)","v":5},3,"India","associate analyst","4 to 6 hours a day"]
["ID1019","Reporting","South America",20000,{"$f":"VLOOKUP(I996,Calc!$I$35:$J$39,2,FALSE)","v":8},6,"Paraguay","Head of Financial Reporting","All the 8 hours baby, all the 8!"]
["ID1020","Engineers","Asia",7265,{"$f":"VLOOKUP(I997,Calc!$I$35:$J$39,2,FALSE)","v":5},6,"India","Softwar Engineer","4 to 6 hours a day"]
["ID1021","Managers","Asia",72571.80269935554,{"$f":"VLOOKUP(I998,Calc!$I$35:$J$39,2,FALSE)","v":8},15,"Singapore","Finance Manager","All the 8 hours baby, all the 8!"]
["ID1023","Managers","Asia",8013.5625093491553,{"$f":"VLOOKUP(I999,Calc!$I$35:$J$39,2,FALSE)","v":8},15,"India","Asst. Manager","All the 8 hours baby, all the 8!"]
["ID1024","Analysts","Asia",10150.512511842264,{"$f":"VLOOKUP(I1000,Calc!$I$35:$J$39,2,FALSE)","v":5},5,"India","MIS & Analysis","4 to 6 hours a day"]
["ID1025","Controllers","North America",65000,{"$f":"VLOOKUP(I1001,Calc!$I$35:$J$39,2,FALSE)","v":5},9,"USA","Controller","4 to 6 hours a day"]
["ID1026","Managers","Asia",3184.2266150397395,{"$f":"VLOOKUP(I1002,Calc!$I$35:$J$39,2,FALSE)","v":5},4,"Pakistan","Banker","4 to 6 hours a day"]
["ID1027","Managers","Asia",10898.445012714852,{"$f":"VLOOKUP(I1003,Calc!$I$35:$J$39,2,FALSE)","v":2.5},13,"India","Asst. Manager ","2 to 3 hours per day"]
["ID1028","Managers","Asia",10800,{"$f":"VLOOKUP(I1004,Calc!$I$35:$J$39,2,FALSE)","v":8},5,"Pakistan","Project Managment Office","All the 8 hours baby, all the 8!"]
["ID1029","Analysts","Asia",2136.9500024931081,{"$f":"VLOOKUP(I1005,Calc!$I$35:$J$39,2,FALSE)","v":2.5},3.5,"India","Audit Assistant","2 to 3 hours per day"]
["ID1030","Engineers","Asia",45000,{"$f":"VLOOKUP(I1006,Calc!$I$35:$J$39,2,FALSE)","v":2.5},4,"Singapore","Engineer","2 to 3 hours per day"]
["ID1031","Managers","Asia",7123.1666749770275,{"$f":"VLOOKUP(I1007,Calc!$I$35:$J$39,2,FALSE)","v":2.5},5,"India","Sr. Executive","2 to 3 hours per day"]
["ID1032","Accountants","Asia",5342.3750062327708,{"$f":"VLOOKUP(I1008,Calc!$I$35:$J$39,2,FALSE)","v":2.5},5,"India","ACCOUNTS","2 to 3 hours per day"]
["ID1033","Managers","Asia",18000,{"$f":"VLOOKUP(I1009,Calc!$I$35:$J$39,2,FALSE)","v":2.5},4.5999999999999996,"India","Area Sales Manager","2 to 3 hours per day"]
["ID1034","Managers","Asia",4840.0244548604041,{"$f":"VLOOKUP(I1010,Calc!$I$35:$J$39,2,FALSE)","v":5},2,"Pakistan","Strategic Planning Executive","4 to 6 hours a day"]
["ID1035","Analysts","Asia",7479.3250087258784,{"$f":"VLOOKUP(I1011,Calc!$I$35:$J$39,2,FALSE)","v":2.5},10,"India","Analyst","2 to 3 hours per day"]
["ID1036","Reporting","Asia",3739.6625043629392,{"$f":"VLOOKUP(I1012,Calc!$I$35:$J$39,2,FALSE)","v":8},3.5,"India","MIS executive","All the 8 hours baby, all the 8!"]
["ID1037","Managers","Middle East",42000,{"$f":"VLOOKUP(I1013,Calc!$I$35:$J$39,2,FALSE)","v":8},5,"Kuwait","Category Operations Supv.","All the 8 hours baby, all the 8!"]
["ID1038","Reporting","Asia",28000,{"$f":"VLOOKUP(I1014,Calc!$I$35:$J$39,2,FALSE)","v":2.5},3,"India","BI","2 to 3 hours per day"]
["ID1039","Managers","Asia",6000,{"$f":"VLOOKUP(I1015,Calc!$I$35:$J$39,2,FALSE)","v":5},5,"India","Manager","4 to 6 hours a day"]
["ID1040","Analysts","Oceana",43867.345148271634,{"$f":"VLOOKUP(I1016,Calc!$I$35:$J$39,2,FALSE)","v":8},10,"New Zealand","Financial Analyst","All the 8 hours baby, all the 8!"]
["ID1041","Analysts","Asia",17807.916687442568,{"$f":"VLOOKUP(I1017,Calc!$I$35:$J$39,2,FALSE)","v":1.5},25,"India","Teaching","1 or 2 hours a day"]
["ID1042","Analysts","Asia",10684.750012465542,{"$f":"VLOOKUP(I1018,Calc!$I$35:$J$39,2,FALSE)","v":8},12,"India","Business Analyst","All the 8 hours baby, all the 8!"]
["ID1043","Consultants","Europe",60000,{"$f":"VLOOKUP(I1019,Calc!$I$35:$J$39,2,FALSE)","v":8},5,"Finland","Excel Developer","All the 8 hours baby, all the 8!"]
["ID1044","Reporting","Asia",8476.5683432226633,{"$f":"VLOOKUP(I1020,Calc!$I$35:$J$39,2,FALSE)","v":5},8,"India","Report Specialist","4 to 6 hours a day"]
["ID1045","Controllers","Asia",8700,{"$f":"VLOOKUP(I1021,Calc!$I$35:$J$39,2,FALSE)","v":2.5},7,"India","Project Controlling (MIS Reports)","2 to 3 hours per day"]
["ID1046","Managers","Asia",3561.5833374885137,{"$f":"VLOOKUP(I1022,Calc!$I$35:$J$39,2,FALSE)","v":8},8,"India","Monitoring & evaluation officer","All the 8 hours baby, all the 8!"]
["ID1047","Reporting","Asia",3205.4250037396623,{"$f":"VLOOKUP(I1023,Calc!$I$35:$J$39,2,FALSE)","v":8},4,"India","MIS EXCUTIVE","All the 8 hours baby, all the 8!"]
["ID1048","Accountants","Asia",4487.5950052355274,{"$f":"VLOOKUP(I1024,Calc!$I$35:$J$39,2,FALSE)","v":1.5},5,"India","Accounts Exec","1 or 2 hours a day"]
["ID1049","Analysts","Asia",12465.541681209797,{"$f":"VLOOKUP(I1025,Calc!$I$35:$J$39,2,FALSE)","v":5},5,"India","Credit Analyst","4 to 6 hours a day"]
["ID1050","Accountants","Asia",2400,{"$f":"VLOOKUP(I1026,Calc!$I$35:$J$39,2,FALSE)","v":2.5},15,"Pakistan","Accounts Officer","2 to 3 hours per day"]
["ID1051","Reporting","Middle East",55000,{"$f":"VLOOKUP(I1027,Calc!$I$35:$J$39,2,FALSE)","v":5},6,"Israel","Economist","4 to 6 hours a day"]
["ID1052","Controllers","Middle East",12000,{"$f":"VLOOKUP(I1028,Calc!$I$35:$J$39,2,FALSE)","v":5},3,"Iran","planning & Sales Control emploee","4 to 6 hours a day"]
["ID1053","Managers","Europe",55262.375596134938,{"$f":"VLOOKUP(I1029,Calc!$I$35:$J$39,2,FALSE)","v":2.5},10,"Spain","RRHH","2 to 3 hours per day"]
["ID1054","Managers","Asia",21369.500024931083,{"$f":"VLOOKUP(I1030,Calc!$I$35:$J$39,2,FALSE)","v":2.5},2,"India","Management Trainee","2 to 3 hours per day"]
["ID1055","Consultants","Europe",40980.635073749385,{"$f":"VLOOKUP(I1031,Calc!$I$35:$J$39,2,FALSE)","v":8},8,"UK","Consultant","All the 8 hours baby, all the 8!"]
["ID1056","Analysts","Oceana",50995.482820131787,{"$f":"VLOOKUP(I1032,Calc!$I$35:$J$39,2,FALSE)","v":5},4,"Australia","BA","4 to 6 hours a day"]
["ID1057","Managers","Europe",20326.391023865726,{"$f":"VLOOKUP(I1033,Calc!$I$35:$J$39,2,FALSE)","v":8},16,"Greece","Management Information Systems","All the 8 hours baby, all the 8!"]
["ID1058","Consultants","Asia",12000,{"$f":"VLOOKUP(I1034,Calc!$I$35:$J$39,2,FALSE)","v":2.5},8,"India","consultant","2 to 3 hours per day"]
["ID1059","Accountants","Africa",29261.227167098674,{"$f":"VLOOKUP(I1035,Calc!$I$35:$J$39,2,FALSE)","v":2.5},20,"South Africa","Bookkeeper","2 to 3 hours per day"]
["ID1060","Top Mgmt","Africa",14630.613583549337,{"$f":"VLOOKUP(I1036,Calc!$I$35:$J$39,2,FALSE)","v":5},10,"South Africa","VP","4 to 6 hours a day"]
["ID1061","Accountants","Asia",7265.630008476568,{"$f":"VLOOKUP(I1037,Calc!$I$35:$J$39,2,FALSE)","v":8},5,"India","Sr Exec - Finance","All the 8 hours baby, all the 8!"]
["ID1062","Analysts","Europe",44132.991617883956,{"$f":"VLOOKUP(I1038,Calc!$I$35:$J$39,2,FALSE)","v":2.5},16,"UK","Modeller","2 to 3 hours per day"]
["ID1063","Analysts","Asia",9438.1958443445619,{"$f":"VLOOKUP(I1039,Calc!$I$35:$J$39,2,FALSE)","v":2.5},7,"India","Project Administrator","2 to 3 hours per day"]
["ID1064","Analysts","Europe",18000,{"$f":"VLOOKUP(I1040,Calc!$I$35:$J$39,2,FALSE)","v":5},7,"Poland","Analyst","4 to 6 hours a day"]
["ID1065","Managers","Asia",3561.5833374885137,{"$f":"VLOOKUP(I1041,Calc!$I$35:$J$39,2,FALSE)","v":2.5},5,"India","Business Development Executive","2 to 3 hours per day"]
["ID1066","Reporting","Asia",3561.5833374885137,{"$f":"VLOOKUP(I1042,Calc!$I$35:$J$39,2,FALSE)","v":5},3,"India","MIS Executive","4 to 6 hours a day"]
["ID1067","Reporting","Asia",5100,{"$f":"VLOOKUP(I1043,Calc!$I$35:$J$39,2,FALSE)","v":8},8,"India","MIS Executive","All the 8 hours baby, all the 8!"]
["ID1068","Analysts","Asia",21369.500024931083,{"$f":"VLOOKUP(I1044,Calc!$I$35:$J$39,2,FALSE)","v":5},7,"India","executive","4 to 6 hours a day"]
["ID1069","Consultants","Asia",5342.3750062327708,{"$f":"VLOOKUP(I1045,Calc!$I$35:$J$39,2,FALSE)","v":2.5},1,"India","Professional consultant-Finance","2 to 3 hours per day"]
["ID1070","Top Mgmt","Asia",50000,{"$f":"VLOOKUP(I1046,Calc!$I$35:$J$39,2,FALSE)","v":1.5},26,"India","Managing Partner","1 or 2 hours a day"]
["ID1071","Managers","Asia",28492.66669990811,{"$f":"VLOOKUP(I1047,Calc!$I$35:$J$39,2,FALSE)","v":8},9,"India","Manager Fin","All the 8 hours baby, all the 8!"]
["ID1072","Analysts","Europe",24588.381044249632,{"$f":"VLOOKUP(I1048,Calc!$I$35:$J$39,2,FALSE)","v":8},0,"UK","business data analyst","All the 8 hours baby, all the 8!"]
["ID1074","Reporting","Asia",7000,{"$f":"VLOOKUP(I1049,Calc!$I$35:$J$39,2,FALSE)","v":8},5,"India","MIS Executive","All the 8 hours baby, all the 8!"]
["ID1075","Analysts","Asia",7799.8675090998449,{"$f":"VLOOKUP(I1050,Calc!$I$35:$J$39,2,FALSE)","v":1.5},10,"India","Assistant Professor","1 or 2 hours a day"]
["ID1076","Managers","Europe",78808.913603364199,{"$f":"VLOOKUP(I1051,Calc!$I$35:$J$39,2,FALSE)","v":2.5},12,"UK","Production manager","2 to 3 hours per day"]
["ID1077","Reporting","Asia",6720,{"$f":"VLOOKUP(I1052,Calc!$I$35:$J$39,2,FALSE)","v":5},6,"India","MIS Executive","4 to 6 hours a day"]
["ID1078","Reporting","Asia",4451.9791718606421,{"$f":"VLOOKUP(I1053,Calc!$I$35:$J$39,2,FALSE)","v":8},3.5,"India","SR. MIS ","All the 8 hours baby, all the 8!"]
["ID1079","Analysts","Europe",47285.348162018527,{"$f":"VLOOKUP(I1054,Calc!$I$35:$J$39,2,FALSE)","v":8},15,"UK","Data Analyst","All the 8 hours baby, all the 8!"]
["ID1080","Analysts","Asia",7200,{"$f":"VLOOKUP(I1055,Calc!$I$35:$J$39,2,FALSE)","v":8},10,"India","Data Entry Operator","All the 8 hours baby, all the 8!"]
["ID1081","Top Mgmt","Asia",44519.791718606422,{"$f":"VLOOKUP(I1056,Calc!$I$35:$J$39,2,FALSE)","v":5},9,"India","Vice President","4 to 6 hours a day"]
["ID1082","Accountants","Asia",2493.1083362419595,{"$f":"VLOOKUP(I1057,Calc!$I$35:$J$39,2,FALSE)","v":5},4,"India","Accountant","4 to 6 hours a day"]
["ID1083","Analysts","Europe",31523.565441345683,{"$f":"VLOOKUP(I1058,Calc!$I$35:$J$39,2,FALSE)","v":5},1,"UK","finance assistant","4 to 6 hours a day"]
["ID1084","Controllers","Asia",21369.500024931083,{"$f":"VLOOKUP(I1059,Calc!$I$35:$J$39,2,FALSE)","v":5},8,"India","finance controller","4 to 6 hours a day"]
["ID1085","Consultants","Europe",126094.26176538273,{"$f":"VLOOKUP(I1060,Calc!$I$35:$J$39,2,FALSE)","v":5},10,"UK","Manufacturing consultant","4 to 6 hours a day"]
["ID1086","Specialists","Europe",99299.231140238902,{"$f":"VLOOKUP(I1061,Calc!$I$35:$J$39,2,FALSE)","v":2.5},1,"UK","Business Improvement Specialist","2 to 3 hours per day"]
["ID1087","Top Mgmt","Europe",86689.804963700633,{"$f":"VLOOKUP(I1062,Calc!$I$35:$J$39,2,FALSE)","v":2.5},22,"UK","Finance Director","2 to 3 hours per day"]
["ID1088","Managers","Asia",50000,{"$f":"VLOOKUP(I1063,Calc!$I$35:$J$39,2,FALSE)","v":2.5},30,"India","Sr. Manager MIS","2 to 3 hours per day"]
["ID1089","Analysts","Asia",4273.9000049862161,{"$f":"VLOOKUP(I1064,Calc!$I$35:$J$39,2,FALSE)","v":2.5},3,"India","Executive","2 to 3 hours per day"]
["ID1090","Reporting","Asia",4451.9791718606421,{"$f":"VLOOKUP(I1065,Calc!$I$35:$J$39,2,FALSE)","v":2.5},3,"India","MIS Executive","2 to 3 hours per day"]
["ID1091","Analysts","Asia",10684.750012465542,{"$f":"VLOOKUP(I1066,Calc!$I$35:$J$39,2,FALSE)","v":5},10,"India","Sr.Supervisor","4 to 6 hours a day"]
["ID1092","Managers","Europe",63835.220018725006,{"$f":"VLOOKUP(I1067,Calc!$I$35:$J$39,2,FALSE)","v":2.5},25,"UK","Policy, Performance and Research Officer","2 to 3 hours per day"]
["ID1093","Analysts","Europe",36252.100257547536,{"$f":"VLOOKUP(I1068,Calc!$I$35:$J$39,2,FALSE)","v":8},5,"UK","Data Analyst","All the 8 hours baby, all the 8!"]
["ID1094","Managers","Asia",7960,{"$f":"VLOOKUP(I1069,Calc!$I$35:$J$39,2,FALSE)","v":5},7,"India","Team Leader","4 to 6 hours a day"]
["ID1095","Analysts","Asia",8903.9583437212841,{"$f":"VLOOKUP(I1070,Calc!$I$35:$J$39,2,FALSE)","v":2.5},23,"India","Executive","2 to 3 hours per day"]
["ID1096","Analysts","Europe",50815.977559664309,{"$f":"VLOOKUP(I1071,Calc!$I$35:$J$39,2,FALSE)","v":5},3,"Netherlands","Accounting analyst","4 to 6 hours a day"]
["ID1097","Analysts","Europe",47285.348162018527,{"$f":"VLOOKUP(I1072,Calc!$I$35:$J$39,2,FALSE)","v":5},4,"UK","Information Analyst","4 to 6 hours a day"]
["ID1098","Managers","Europe",75656.557059229643,{"$f":"VLOOKUP(I1073,Calc!$I$35:$J$39,2,FALSE)","v":2.5},10,"UK","Business Operations Co-ordinator","2 to 3 hours per day"]
["ID1099","Accountants","Asia",4273.9000049862161,{"$f":"VLOOKUP(I1074,Calc!$I$35:$J$39,2,FALSE)","v":8},20,"India","Accountant","All the 8 hours baby, all the 8!"]
["ID1100","Analysts","Europe",47004.779242689488,{"$f":"VLOOKUP(I1075,Calc!$I$35:$J$39,2,FALSE)","v":5},11,"Spain","Project Control Analyst","4 to 6 hours a day"]
["ID1101","Analysts","Europe",47285.348162018527,{"$f":"VLOOKUP(I1076,Calc!$I$35:$J$39,2,FALSE)","v":8},10,"UK","MDM Executive (Business Analyst)","All the 8 hours baby, all the 8!"]
["ID1102","Analysts","Europe",91418.339779902482,{"$f":"VLOOKUP(I1077,Calc!$I$35:$J$39,2,FALSE)","v":8},8,"UK","Data analyst","All the 8 hours baby, all the 8!"]
["ID1103","Analysts","Europe",124518.08349331544,{"$f":"VLOOKUP(I1078,Calc!$I$35:$J$39,2,FALSE)","v":2.5},14,"UK","Market Analyst","2 to 3 hours per day"]
["ID1104","Analysts","Europe",69213.140283018583,{"$f":"VLOOKUP(I1079,Calc!$I$35:$J$39,2,FALSE)","v":8},3,"UK","Senior Data Analyst","All the 8 hours baby, all the 8!"]
["ID1105","Managers","Asia",3500,{"$f":"VLOOKUP(I1080,Calc!$I$35:$J$39,2,FALSE)","v":5},4,"Pakistan","OFFICER","4 to 6 hours a day"]
["ID1107","Managers","Europe",63047.130882691366,{"$f":"VLOOKUP(I1081,Calc!$I$35:$J$39,2,FALSE)","v":1.5},20,"UK","Buyer","1 or 2 hours a day"]
["ID1108","Managers","Europe",72412.768022521646,{"$f":"VLOOKUP(I1082,Calc!$I$35:$J$39,2,FALSE)","v":1.5},15,"Norway","Spare Part Coordinator","1 or 2 hours a day"]
["ID1109","Accountants","Europe",50815.977559664309,{"$f":"VLOOKUP(I1083,Calc!$I$35:$J$39,2,FALSE)","v":2.5},10,"Portugal","Actuary","2 to 3 hours per day"]
["ID1110","Managers","Asia",21369.500024931083,{"$f":"VLOOKUP(I1084,Calc!$I$35:$J$39,2,FALSE)","v":2.5},5,"India","coordinator","2 to 3 hours per day"]
["ID1111","Analysts","Europe",55166.239522354947,{"$f":"VLOOKUP(I1085,Calc!$I$35:$J$39,2,FALSE)","v":2.5},6,"UK","Systems Analyst","2 to 3 hours per day"]
["ID1112","Analysts","Asia",3205.4250037396623,{"$f":"VLOOKUP(I1086,Calc!$I$35:$J$39,2,FALSE)","v":8},3,"India","Logistics Operation Analyst","All the 8 hours baby, all the 8!"]
["ID1113","Accountants","Asia",10684.750012465542,{"$f":"VLOOKUP(I1087,Calc!$I$35:$J$39,2,FALSE)","v":2.5},8,"India","Company Secretary","2 to 3 hours per day"]
["ID1114","Analysts","Asia",5342.3750062327708,{"$f":"VLOOKUP(I1088,Calc!$I$35:$J$39,2,FALSE)","v":5},5,"India","Analyst","4 to 6 hours a day"]
["ID1115","Managers","Europe",118213.37040504631,{"$f":"VLOOKUP(I1089,Calc!$I$35:$J$39,2,FALSE)","v":2.5},10,"UK","Management Consultant","2 to 3 hours per day"]
["ID1116","Managers","Africa",12192.177986291113,{"$f":"VLOOKUP(I1090,Calc!$I$35:$J$39,2,FALSE)","v":8},15,"South Africa","Q.A.Officer","All the 8 hours baby, all the 8!"]
["ID1117","Top Mgmt","Europe",70928.022243027779,{"$f":"VLOOKUP(I1091,Calc!$I$35:$J$39,2,FALSE)","v":5},8,"UK","Assistant Director - Performance Information","4 to 6 hours a day"]
["ID1118","Analysts","Europe",39404.456801682099,{"$f":"VLOOKUP(I1092,Calc!$I$35:$J$39,2,FALSE)","v":5},3,"UK","Developer","4 to 6 hours a day"]
["ID1119","Analysts","Africa",18987,{"$f":"VLOOKUP(I1093,Calc!$I$35:$J$39,2,FALSE)","v":8},7,"Nigeria","Business Analyst","All the 8 hours baby, all the 8!"]
["ID1120","Managers","Europe",44921.080753917595,{"$f":"VLOOKUP(I1094,Calc!$I$35:$J$39,2,FALSE)","v":1.5},15,"UK","Development (Project & Planning) Manager","1 or 2 hours a day"]
["ID1121","Managers","Asia",60000,{"$f":"VLOOKUP(I1095,Calc!$I$35:$J$39,2,FALSE)","v":8},14,"India","manager","All the 8 hours baby, all the 8!"]
["ID1122","Managers","Europe",71243.257897441246,{"$f":"VLOOKUP(I1096,Calc!$I$35:$J$39,2,FALSE)","v":2.5},5,"UK","Clinical audit manager","2 to 3 hours per day"]
["ID1123","Managers","Asia",4487.5950052355274,{"$f":"VLOOKUP(I1097,Calc!$I$35:$J$39,2,FALSE)","v":1.5},16,"India","Inventory Manager","1 or 2 hours a day"]
["ID1124","Accountants","Asia",4314.929445034084,{"$f":"VLOOKUP(I1098,Calc!$I$35:$J$39,2,FALSE)","v":5},7,"India","accountant","4 to 6 hours a day"]
["ID1125","Analysts","Asia",3739.6625043629392,{"$f":"VLOOKUP(I1099,Calc!$I$35:$J$39,2,FALSE)","v":8},1,"India","information Analyst","All the 8 hours baby, all the 8!"]
["ID1126","Managers","Europe",76223.966339496474,{"$f":"VLOOKUP(I1100,Calc!$I$35:$J$39,2,FALSE)","v":1.5},4,"Finland","Development Manager","1 or 2 hours a day"]
["ID1127","Managers","Middle East",32666.305522511171,{"$f":"VLOOKUP(I1101,Calc!$I$35:$J$39,2,FALSE)","v":2.5},12,"UAE","Finance Manager","2 to 3 hours per day"]
["ID1128","Reporting","Europe",19000,{"$f":"VLOOKUP(I1102,Calc!$I$35:$J$39,2,FALSE)","v":8},8,"UK","MI Specialist","All the 8 hours baby, all the 8!"]
["ID1129","Engineers","Europe",63519.971949580387,{"$f":"VLOOKUP(I1103,Calc!$I$35:$J$39,2,FALSE)","v":2.5},14,"Portugal","Network Enginer","2 to 3 hours per day"]
["ID1130","Managers","Asia",16027.125018698311,{"$f":"VLOOKUP(I1104,Calc!$I$35:$J$39,2,FALSE)","v":5},22,"India","officer","4 to 6 hours a day"]
["ID1131","Reporting","Asia",7123.1666749770275,{"$f":"VLOOKUP(I1105,Calc!$I$35:$J$39,2,FALSE)","v":5},9,"India","Sr. Team Lead - MIS","4 to 6 hours a day"]
["ID1132","Managers","Asia",2675.675098121621,{"$f":"VLOOKUP(I1106,Calc!$I$35:$J$39,2,FALSE)","v":2.5},5,"India","KEY","2 to 3 hours per day"]
["ID1133","Reporting","Europe",23642.674081009263,{"$f":"VLOOKUP(I1107,Calc!$I$35:$J$39,2,FALSE)","v":8},2,"UK","MI Specialist","All the 8 hours baby, all the 8!"]
["ID1134","Managers","Europe",57167.974754622352,{"$f":"VLOOKUP(I1108,Calc!$I$35:$J$39,2,FALSE)","v":5},14,"Spain","Sales Planning","4 to 6 hours a day"]
["ID1135","Managers","Asia",42739.000049862167,{"$f":"VLOOKUP(I1109,Calc!$I$35:$J$39,2,FALSE)","v":8},10,"India","GM Finance","All the 8 hours baby, all the 8!"]
["ID1136","Managers","Asia",5120.2912876821438,{"$f":"VLOOKUP(I1110,Calc!$I$35:$J$39,2,FALSE)","v":5},2,"Philippines","Planner","4 to 6 hours a day"]
["ID1137","Top Mgmt","Europe",127039.94389916077,{"$f":"VLOOKUP(I1111,Calc!$I$35:$J$39,2,FALSE)","v":1.5},20,"Spain","Finance Director","1 or 2 hours a day"]
["ID1138","Managers","North America",90000,{"$f":"VLOOKUP(I1112,Calc!$I$35:$J$39,2,FALSE)","v":5},5,"USA","Performance manager","4 to 6 hours a day"]
["ID1139","Engineers","Asia",7123.1666749770275,{"$f":"VLOOKUP(I1113,Calc!$I$35:$J$39,2,FALSE)","v":1.5},2,"India","software engineer","1 or 2 hours a day"]
["ID1140","Analysts","Asia",10000,{"$f":"VLOOKUP(I1114,Calc!$I$35:$J$39,2,FALSE)","v":2.5},5,"India","Business analyst","2 to 3 hours per day"]
["ID1141","Analysts","Europe",45709.169889951241,{"$f":"VLOOKUP(I1115,Calc!$I$35:$J$39,2,FALSE)","v":5},14,"UK","Financial Analyst","4 to 6 hours a day"]
["ID1142","Reporting","Asia",3561.5833374885137,{"$f":"VLOOKUP(I1116,Calc!$I$35:$J$39,2,FALSE)","v":8},5,"India","MIS Sr. Executive","All the 8 hours baby, all the 8!"]
["ID1143","Analysts","Europe",38111.983169748237,{"$f":"VLOOKUP(I1117,Calc!$I$35:$J$39,2,FALSE)","v":1.5},15,"Belgium","Translator","1 or 2 hours a day"]
["ID1144","Analysts","North America",60000,{"$f":"VLOOKUP(I1118,Calc!$I$35:$J$39,2,FALSE)","v":2.5},4,"USA","Business Anaylyst","2 to 3 hours per day"]
["ID1145","Engineers","Asia",40000,{"$f":"VLOOKUP(I1119,Calc!$I$35:$J$39,2,FALSE)","v":2.5},2,"India","Engineer","2 to 3 hours per day"]
["ID1146","Analysts","Asia",15190.15293438851,{"$f":"VLOOKUP(I1120,Calc!$I$35:$J$39,2,FALSE)","v":2.5},6,"India","Lead Research Analyst","2 to 3 hours per day"]
["ID1147","Managers","Europe",114335.9495092447,{"$f":"VLOOKUP(I1121,Calc!$I$35:$J$39,2,FALSE)","v":2.5},20,"CEE","Management Information Manager","2 to 3 hours per day"]
["ID1148","Managers","Europe",36252.100257547536,{"$f":"VLOOKUP(I1122,Calc!$I$35:$J$39,2,FALSE)","v":5},10,"UK","Data Management Officer","4 to 6 hours a day"]
["ID1149","Accountants","Europe",47285.348162018527,{"$f":"VLOOKUP(I1123,Calc!$I$35:$J$39,2,FALSE)","v":2.5},5,"UK","Reporting Accountant","2 to 3 hours per day"]
["ID1150","Consultants","Europe",88927.960729412545,{"$f":"VLOOKUP(I1124,Calc!$I$35:$J$39,2,FALSE)","v":2.5},20,"Ireland","Construction Planner","2 to 3 hours per day"]
["ID1151","Accountants","Africa",6000,{"$f":"VLOOKUP(I1125,Calc!$I$35:$J$39,2,FALSE)","v":8},5,"Zambia","Assistant Accountant","All the 8 hours baby, all the 8!"]
["ID1152","Analysts","North America",35000,{"$f":"VLOOKUP(I1126,Calc!$I$35:$J$39,2,FALSE)","v":8},20,"USA","BI Analyst","All the 8 hours baby, all the 8!"]
["ID1153","Analysts","Europe",55166.239522354947,{"$f":"VLOOKUP(I1127,Calc!$I$35:$J$39,2,FALSE)","v":5},10,"UK","MI Analyst","4 to 6 hours a day"]
["ID1154","Accountants","Asia",1783.166904422254,{"$f":"VLOOKUP(I1128,Calc!$I$35:$J$39,2,FALSE)","v":5},10,"Pakistan","Accounts Assistant","4 to 6 hours a day"]
["ID1155","Managers","Europe",13500,{"$f":"VLOOKUP(I1129,Calc!$I$35:$J$39,2,FALSE)","v":5},13,"Montenegro","Project manager","4 to 6 hours a day"]
["ID1156","Accountants","Europe",59106.685202523156,{"$f":"VLOOKUP(I1130,Calc!$I$35:$J$39,2,FALSE)","v":2.5},5,"UK","Corporate Finance Executive","2 to 3 hours per day"]
["ID1157","Managers","Asia",12608.005014709339,{"$f":"VLOOKUP(I1131,Calc!$I$35:$J$39,2,FALSE)","v":5},5,"India","Manager-Operation","4 to 6 hours a day"]
["ID1158","Accountants","Africa",44654.095718350931,{"$f":"VLOOKUP(I1132,Calc!$I$35:$J$39,2,FALSE)","v":8},15,"South Africa","Accountant","All the 8 hours baby, all the 8!"]
["ID1159","Analysts","North America",69000,{"$f":"VLOOKUP(I1133,Calc!$I$35:$J$39,2,FALSE)","v":2.5},20,"USA","Financial Analysist","2 to 3 hours per day"]
["ID1160","Managers","Asia",6000,{"$f":"VLOOKUP(I1134,Calc!$I$35:$J$39,2,FALSE)","v":5},6,"India","AM Ops","4 to 6 hours a day"]
["ID1161","Managers","Asia",8903.9583437212841,{"$f":"VLOOKUP(I1135,Calc!$I$35:$J$39,2,FALSE)","v":1.5},25,"India","Deputy Manager","1 or 2 hours a day"]
["ID1162","Managers","South America",30000,{"$f":"VLOOKUP(I1136,Calc!$I$35:$J$39,2,FALSE)","v":8},17,"Mexico","pricing and cost manager","All the 8 hours baby, all the 8!"]
["ID1163","Analysts","Asia",8600,{"$f":"VLOOKUP(I1137,Calc!$I$35:$J$39,2,FALSE)","v":5},2,"India","Catlog associates","4 to 6 hours a day"]
["ID1164","Analysts","Europe",81600,{"$f":"VLOOKUP(I1138,Calc!$I$35:$J$39,2,FALSE)","v":5},4,"UK","Business Analyst - Central Finance","4 to 6 hours a day"]
["ID1165","Analysts","South America",15404.364569961488,{"$f":"VLOOKUP(I1139,Calc!$I$35:$J$39,2,FALSE)","v":8},3,"Republica Dominicana","Analista de Produccion","All the 8 hours baby, all the 8!"]
["ID1166","Analysts","North America",63918.498996971248,{"$f":"VLOOKUP(I1140,Calc!$I$35:$J$39,2,FALSE)","v":5},20,"Canada","IT Analyst (Reporting)","4 to 6 hours a day"]
["ID1167","Controllers","North America",75000,{"$f":"VLOOKUP(I1141,Calc!$I$35:$J$39,2,FALSE)","v":2.5},20,"USA","Controller","2 to 3 hours per day"]
["ID1168","Analysts","North America",59000,{"$f":"VLOOKUP(I1142,Calc!$I$35:$J$39,2,FALSE)","v":5},14,"USA","Management Analyst","4 to 6 hours a day"]
["ID1169","Managers","North America",50000,{"$f":"VLOOKUP(I1143,Calc!$I$35:$J$39,2,FALSE)","v":1.5},5,"Canada","Program Manager","1 or 2 hours a day"]
["ID1170","Controllers","Europe",126094.26176538273,{"$f":"VLOOKUP(I1144,Calc!$I$35:$J$39,2,FALSE)","v":5},15,"UK","Financial Controller","4 to 6 hours a day"]
["ID1171","Managers","South America",26691.183012544854,{"$f":"VLOOKUP(I1145,Calc!$I$35:$J$39,2,FALSE)","v":1.5},7,"Brazil","Logistics Coordinator","1 or 2 hours a day"]
["ID1172","Analysts","Asia",8903.9583437212841,{"$f":"VLOOKUP(I1146,Calc!$I$35:$J$39,2,FALSE)","v":5},0.8,"India","Business Analyst","4 to 6 hours a day"]
["ID1173","Managers","Asia",8725,{"$f":"VLOOKUP(I1147,Calc!$I$35:$J$39,2,FALSE)","v":2.5},18,"Pakistan","Administration Officer","2 to 3 hours per day"]
["ID1175","Analysts","Europe",50437.70470615309,{"$f":"VLOOKUP(I1148,Calc!$I$35:$J$39,2,FALSE)","v":5},4,"UK","Service Analyst","4 to 6 hours a day"]
["ID1176","Accountants","Europe",67775.665698893223,{"$f":"VLOOKUP(I1149,Calc!$I$35:$J$39,2,FALSE)","v":8},15,"UK","Head of Finance","All the 8 hours baby, all the 8!"]
["ID1177","Analysts","North America",52118.160720607324,{"$f":"VLOOKUP(I1150,Calc!$I$35:$J$39,2,FALSE)","v":5},6,"Canada","Data Analyst","4 to 6 hours a day"]
["ID1178","Analysts","Asia",3561.5833374885137,{"$f":"VLOOKUP(I1151,Calc!$I$35:$J$39,2,FALSE)","v":1.5},6,"India","Associate","1 or 2 hours a day"]
["ID1179","Managers","Asia",8013.5625093491553,{"$f":"VLOOKUP(I1152,Calc!$I$35:$J$39,2,FALSE)","v":5},21,"India","Production Manager","4 to 6 hours a day"]
["ID1180","Managers","Europe",28000,{"$f":"VLOOKUP(I1153,Calc!$I$35:$J$39,2,FALSE)","v":5},5,"Poland","Business Intelligence Manager","4 to 6 hours a day"]
["ID1181","Analysts","Europe",50064.150455673145,{"$f":"VLOOKUP(I1154,Calc!$I$35:$J$39,2,FALSE)","v":2.5},2,"UK","Network Administrator","2 to 3 hours per day"]
["ID1182","Analysts","North America",50437.70470615309,{"$f":"VLOOKUP(I1155,Calc!$I$35:$J$39,2,FALSE)","v":5},9,"Canada","Performance Analyst","4 to 6 hours a day"]
["ID1183","Analysts","North America",27840,{"$f":"VLOOKUP(I1156,Calc!$I$35:$J$39,2,FALSE)","v":2.5},1,"USA","Data Entry Clerk III","2 to 3 hours per day"]
["ID1184","Accountants","Asia",6232.7708406048987,{"$f":"VLOOKUP(I1157,Calc!$I$35:$J$39,2,FALSE)","v":2.5},1.5,"India","officer accounts","2 to 3 hours per day"]
["ID1185","Engineers","Asia",50000,{"$f":"VLOOKUP(I1158,Calc!$I$35:$J$39,2,FALSE)","v":2.5},25,"Singapore","Engineer","2 to 3 hours per day"]
["ID1186","Controllers","Middle East",48000,{"$f":"VLOOKUP(I1159,Calc!$I$35:$J$39,2,FALSE)","v":2.5},10,"Qatar","Cost Controlling Executive","2 to 3 hours per day"]
["ID1187","Managers","South America",24000,{"$f":"VLOOKUP(I1160,Calc!$I$35:$J$39,2,FALSE)","v":5},21,"Argentina","Administration Manager","4 to 6 hours a day"]
["ID1188","Analysts","North America",75000,{"$f":"VLOOKUP(I1161,Calc!$I$35:$J$39,2,FALSE)","v":5},12,"USA","Financial Analyst","4 to 6 hours a day"]
["ID1189","Analysts","Middle East",58799.349940520107,{"$f":"VLOOKUP(I1162,Calc!$I$35:$J$39,2,FALSE)","v":5},2,"Dubai","Financial analyst","4 to 6 hours a day"]
["ID1190","Consultants","Asia",21228.177433598263,{"$f":"VLOOKUP(I1163,Calc!$I$35:$J$39,2,FALSE)","v":8},8,"Pakistan","Excel Corporate Trainer","All the 8 hours baby, all the 8!"]
["ID1191","Managers","North America",60000,{"$f":"VLOOKUP(I1164,Calc!$I$35:$J$39,2,FALSE)","v":2.5},10,"USA","Quality Management","2 to 3 hours per day"]
["ID1192","Analysts","Europe",18018.883790212141,{"$f":"VLOOKUP(I1165,Calc!$I$35:$J$39,2,FALSE)","v":8},10,"Poland","Sales Analyst","All the 8 hours baby, all the 8!"]
["ID1193","Reporting","Asia",7200,{"$f":"VLOOKUP(I1166,Calc!$I$35:$J$39,2,FALSE)","v":5},7,"India","Supervisor MIS","4 to 6 hours a day"]
["ID1194","Analysts","North America",56000,{"$f":"VLOOKUP(I1167,Calc!$I$35:$J$39,2,FALSE)","v":1.5},2,"USA","Analyst","1 or 2 hours a day"]
["ID1195","Analysts","Asia",9616.275011218986,{"$f":"VLOOKUP(I1168,Calc!$I$35:$J$39,2,FALSE)","v":5},7.9,"India","Business Analyst - Solutions","4 to 6 hours a day"]
["ID1196","Managers","Africa",51497.005988023957,{"$f":"VLOOKUP(I1169,Calc!$I$35:$J$39,2,FALSE)","v":5},9,"Kenya","Finance Manager","4 to 6 hours a day"]
["ID1197","Managers","Europe",104172.75399731184,{"$f":"VLOOKUP(I1170,Calc!$I$35:$J$39,2,FALSE)","v":8},25,"Netherlands","Finance Project Manager","All the 8 hours baby, all the 8!"]
["ID1198","Managers","North America",88000,{"$f":"VLOOKUP(I1171,Calc!$I$35:$J$39,2,FALSE)","v":5},2,"USA","Manager, Strategy & Insights","4 to 6 hours a day"]
["ID1199","Analysts","North America",80000,{"$f":"VLOOKUP(I1172,Calc!$I$35:$J$39,2,FALSE)","v":5},6,"USA","Financial/Data Analyst","4 to 6 hours a day"]
["ID1200","Accountants","Europe",19000,{"$f":"VLOOKUP(I1173,Calc!$I$35:$J$39,2,FALSE)","v":5},20,"UK","Accountant","4 to 6 hours a day"]
["ID1201","Consultants","Europe",19055.991584874118,{"$f":"VLOOKUP(I1174,Calc!$I$35:$J$39,2,FALSE)","v":5},3,"Italy","business consultant","4 to 6 hours a day"]
["ID1202","Consultants","Asia",8547.8000099724322,{"$f":"VLOOKUP(I1175,Calc!$I$35:$J$39,2,FALSE)","v":8},15,"India","Documentation Consultant","All the 8 hours baby, all the 8!"]
["ID1203","Consultants","Asia",19588.708356186824,{"$f":"VLOOKUP(I1176,Calc!$I$35:$J$39,2,FALSE)","v":8},13,"India","Sr. Consultant","All the 8 hours baby, all the 8!"]
["ID1204","Analysts","North America",61000,{"$f":"VLOOKUP(I1177,Calc!$I$35:$J$39,2,FALSE)","v":5},1.5,"USA","Financial Analyst","4 to 6 hours a day"]
["ID1205","Accountants","Europe",53590.061250287661,{"$f":"VLOOKUP(I1178,Calc!$I$35:$J$39,2,FALSE)","v":8},10,"UK","investment accountant","All the 8 hours baby, all the 8!"]
["ID1206","Accountants","Europe",53590.061250287661,{"$f":"VLOOKUP(I1179,Calc!$I$35:$J$39,2,FALSE)","v":8},10,"UK","investment accountant","All the 8 hours baby, all the 8!"]
["ID1207","Managers","Asia",4451.9791718606421,{"$f":"VLOOKUP(I1180,Calc!$I$35:$J$39,2,FALSE)","v":5},1,"India","Officer Production","4 to 6 hours a day"]
["ID1208","Managers","Europe",25407.988779832154,{"$f":"VLOOKUP(I1181,Calc!$I$35:$J$39,2,FALSE)","v":1.5},12,"Greece","warehouse management","1 or 2 hours a day"]
["ID1209","Accountants","Middle East",23000,{"$f":"VLOOKUP(I1182,Calc!$I$35:$J$39,2,FALSE)","v":8},14,"Saudi Arabia","Chief Accountant","All the 8 hours baby, all the 8!"]
["ID1210","Managers","Asia",16027.125018698311,{"$f":"VLOOKUP(I1183,Calc!$I$35:$J$39,2,FALSE)","v":1.5},13,"India","Manager F & A","1 or 2 hours a day"]
["ID1211","Engineers","North America",60000,{"$f":"VLOOKUP(I1184,Calc!$I$35:$J$39,2,FALSE)","v":1.5},6,"USA","Quality Assurance Engineer","1 or 2 hours a day"]
["ID1212","Analysts","Asia",4800,{"$f":"VLOOKUP(I1185,Calc!$I$35:$J$39,2,FALSE)","v":5},5,"India","Financial Analyst","4 to 6 hours a day"]
["ID1213","Managers","Europe",106815.148267971,{"$f":"VLOOKUP(I1186,Calc!$I$35:$J$39,2,FALSE)","v":5},25,"Denmark","Manager Business Controlling","4 to 6 hours a day"]
["ID1214","Consultants","Asia",8903.9583437212841,{"$f":"VLOOKUP(I1187,Calc!$I$35:$J$39,2,FALSE)","v":2.5},3,"India","Consultant","2 to 3 hours per day"]
["ID1215","Managers","North America",60000,{"$f":"VLOOKUP(I1188,Calc!$I$35:$J$39,2,FALSE)","v":5},12,"USA","sample manager","4 to 6 hours a day"]
["ID1216","Managers","Asia",46300.583387350678,{"$f":"VLOOKUP(I1189,Calc!$I$35:$J$39,2,FALSE)","v":5},4,"India","Practice Manager","4 to 6 hours a day"]
["ID1217","Managers","Asia",13355.937515581925,{"$f":"VLOOKUP(I1190,Calc!$I$35:$J$39,2,FALSE)","v":2.5},3,"India","Assistant Manager","2 to 3 hours per day"]
["ID1218","Specialists","North America",74000,{"$f":"VLOOKUP(I1191,Calc!$I$35:$J$39,2,FALSE)","v":5},10,"USA","marketing specialist","4 to 6 hours a day"]
["ID1219","Analysts","North America",95856,{"$f":"VLOOKUP(I1192,Calc!$I$35:$J$39,2,FALSE)","v":2.5},13,"USA","Analyst","2 to 3 hours per day"]
["ID1220","Accountants","North America",40000,{"$f":"VLOOKUP(I1193,Calc!$I$35:$J$39,2,FALSE)","v":2.5},15,"USA","Staff Accountant","2 to 3 hours per day"]
["ID1221","Managers","South America",4400,{"$f":"VLOOKUP(I1194,Calc!$I$35:$J$39,2,FALSE)","v":2.5},5,"Latin America","Manager Corporate Finance","2 to 3 hours per day"]
["ID1222","Analysts","North America",90000,{"$f":"VLOOKUP(I1195,Calc!$I$35:$J$39,2,FALSE)","v":5},30,"USA","Senior Analyst","4 to 6 hours a day"]
["ID1223","Managers","Asia",8013.5625093491553,{"$f":"VLOOKUP(I1196,Calc!$I$35:$J$39,2,FALSE)","v":8},2,"India","ASSISTANT MANAGER","All the 8 hours baby, all the 8!"]
["ID1224","Managers","Asia",17807.916687442568,{"$f":"VLOOKUP(I1197,Calc!$I$35:$J$39,2,FALSE)","v":5},8.5,"India","Asst Manager","4 to 6 hours a day"]
["ID1225","Reporting","Asia",12465.541681209797,{"$f":"VLOOKUP(I1198,Calc!$I$35:$J$39,2,FALSE)","v":5},6,"India","Lead Executive MIS","4 to 6 hours a day"]
["ID1226","Analysts","Asia",80000,{"$f":"VLOOKUP(I1199,Calc!$I$35:$J$39,2,FALSE)","v":1.5},6,"Singapore","Snr Business Analyst","1 or 2 hours a day"]
["ID1227","Managers","North America",100000,{"$f":"VLOOKUP(I1200,Calc!$I$35:$J$39,2,FALSE)","v":5},11,"USA","Finance Manager","4 to 6 hours a day"]
["ID1228","Accountants","Middle East",49200,{"$f":"VLOOKUP(I1201,Calc!$I$35:$J$39,2,FALSE)","v":2.5},25,"Qatar","Chief Accountant","2 to 3 hours per day"]
["ID1229","Managers","Asia",9000,{"$f":"VLOOKUP(I1202,Calc!$I$35:$J$39,2,FALSE)","v":5},1,"India","assurance manager","4 to 6 hours a day"]
["ID1230","Analysts","Asia",5342.3750062327708,{"$f":"VLOOKUP(I1203,Calc!$I$35:$J$39,2,FALSE)","v":5},6,"India","Finance Analyst","4 to 6 hours a day"]
["ID1231","Managers","Asia",40000,{"$f":"VLOOKUP(I1204,Calc!$I$35:$J$39,2,FALSE)","v":5},15,"Pakistan","SOX,SAP, Insurance Coordinator","4 to 6 hours a day"]
["ID1232","Analysts","Europe",40980.635073749385,{"$f":"VLOOKUP(I1205,Calc!$I$35:$J$39,2,FALSE)","v":5},2,"UK","Business Analyst","4 to 6 hours a day"]
["ID1233","Accountants","Europe",45709.169889951241,{"$f":"VLOOKUP(I1206,Calc!$I$35:$J$39,2,FALSE)","v":2.5},8,"UK","Financial Accountant","2 to 3 hours per day"]
["ID1234","Managers","Asia",7123.1666749770275,{"$f":"VLOOKUP(I1207,Calc!$I$35:$J$39,2,FALSE)","v":5},1,"India","Pmo","4 to 6 hours a day"]
["ID1235","Controllers","Europe",100000,{"$f":"VLOOKUP(I1208,Calc!$I$35:$J$39,2,FALSE)","v":5},12,"Norway","Controller","4 to 6 hours a day"]
["ID1236","Analysts","Europe",78764.765217479682,{"$f":"VLOOKUP(I1209,Calc!$I$35:$J$39,2,FALSE)","v":5},15,"Netherlands","Stafmember","4 to 6 hours a day"]
["ID1237","Analysts","Oceana",152986.44846039536,{"$f":"VLOOKUP(I1210,Calc!$I$35:$J$39,2,FALSE)","v":2.5},10,"Australia","Analyst","2 to 3 hours per day"]
["ID1238","Analysts","Europe",44463.980364706273,{"$f":"VLOOKUP(I1211,Calc!$I$35:$J$39,2,FALSE)","v":8},12,"Ireland","Business Analyst","All the 8 hours baby, all the 8!"]
["ID1239","Consultants","Europe",38111.983169748237,{"$f":"VLOOKUP(I1212,Calc!$I$35:$J$39,2,FALSE)","v":1.5},8,"Netherlands","education advisor","1 or 2 hours a day"]
["ID1240","Managers","Europe",118213.37040504631,{"$f":"VLOOKUP(I1213,Calc!$I$35:$J$39,2,FALSE)","v":5},20,"UK","Finance Manager","4 to 6 hours a day"]
["ID1241","Accountants","Europe",39404.456801682099,{"$f":"VLOOKUP(I1214,Calc!$I$35:$J$39,2,FALSE)","v":2.5},10,"UK","Senior Accounts Clerk","2 to 3 hours per day"]
["ID1242","Consultants","Europe",90198.36016840415,{"$f":"VLOOKUP(I1215,Calc!$I$35:$J$39,2,FALSE)","v":1.5},3,"Germany","Consultant","1 or 2 hours a day"]
["ID1243","Specialists","Europe",47285.348162018527,{"$f":"VLOOKUP(I1216,Calc!$I$35:$J$39,2,FALSE)","v":5},14,"UK","Infection Prevention Surveillance Specialist","4 to 6 hours a day"]
["ID1244","Accountants","North America",56000,{"$f":"VLOOKUP(I1217,Calc!$I$35:$J$39,2,FALSE)","v":5},1,"USA","Accountant","4 to 6 hours a day"]
["ID1245","Analysts","Asia",5082.6943786459069,{"$f":"VLOOKUP(I1218,Calc!$I$35:$J$39,2,FALSE)","v":1.5},2,"Indonesia","Office Instructor","1 or 2 hours a day"]
["ID1246","Accountants","Europe",53590.061250287661,{"$f":"VLOOKUP(I1219,Calc!$I$35:$J$39,2,FALSE)","v":8},10,"UK","Investment Accountant","All the 8 hours baby, all the 8!"]
["ID1247","Top Mgmt","Europe",76906.906752939132,{"$f":"VLOOKUP(I1220,Calc!$I$35:$J$39,2,FALSE)","v":8},17,"Denmark","owner","All the 8 hours baby, all the 8!"]
["ID1248","Analysts","North America",85000,{"$f":"VLOOKUP(I1221,Calc!$I$35:$J$39,2,FALSE)","v":5},5,"USA","Senior Executive Compensation Analyst ","4 to 6 hours a day"]
["ID1249","Consultants","Oceana",72000,{"$f":"VLOOKUP(I1222,Calc!$I$35:$J$39,2,FALSE)","v":2.5},10,"New Zealand","Markets Adviser","2 to 3 hours per day"]
["ID1250","Analysts","North America",55000,{"$f":"VLOOKUP(I1223,Calc!$I$35:$J$39,2,FALSE)","v":1.5},7,"USA","Systems Analyst","1 or 2 hours a day"]
["ID1251","Controllers","Europe",67775.665698893223,{"$f":"VLOOKUP(I1224,Calc!$I$35:$J$39,2,FALSE)","v":5},25,"UK","Financial Controller","4 to 6 hours a day"]
["ID1252","Analysts","Europe",40586.590505732565,{"$f":"VLOOKUP(I1225,Calc!$I$35:$J$39,2,FALSE)","v":5},1,"UK","Energy Analyst","4 to 6 hours a day"]
["ID1253","Analysts","North America",50846,{"$f":"VLOOKUP(I1226,Calc!$I$35:$J$39,2,FALSE)","v":5},25,"USA","Program & Policy Analyst-Advanced","4 to 6 hours a day"]
["ID1254","Accountants","North America",63000,{"$f":"VLOOKUP(I1227,Calc!$I$35:$J$39,2,FALSE)","v":8},16,"USA","Senior Staff Accountant","All the 8 hours baby, all the 8!"]
["ID1255","Accountants","Oceana",81592.772512210868,{"$f":"VLOOKUP(I1228,Calc!$I$35:$J$39,2,FALSE)","v":5},5,"Australia","systems accountant","4 to 6 hours a day"]
["ID1256","Analysts","South America",50700,{"$f":"VLOOKUP(I1229,Calc!$I$35:$J$39,2,FALSE)","v":1.5},15,"Brazil","Sr. Systems Analyst","1 or 2 hours a day"]
["ID1257","Analysts","Europe",31523.565441345683,{"$f":"VLOOKUP(I1230,Calc!$I$35:$J$39,2,FALSE)","v":5},1,"UK","Environmental Information Analyst","4 to 6 hours a day"]
["ID1258","Analysts","North America",70000,{"$f":"VLOOKUP(I1231,Calc!$I$35:$J$39,2,FALSE)","v":1.5},6,"USA","Develope","1 or 2 hours a day"]
["ID1259","Managers","North America",63918.498996971248,{"$f":"VLOOKUP(I1232,Calc!$I$35:$J$39,2,FALSE)","v":2.5},15,"Canada","it manager","2 to 3 hours per day"]
["ID1260","Analysts","Asia",7261.724659606657,{"$f":"VLOOKUP(I1233,Calc!$I$35:$J$39,2,FALSE)","v":8},2,"Mongolia","Analyst","All the 8 hours baby, all the 8!"]
["ID1261","Engineers","Asia",11404.820437438224,{"$f":"VLOOKUP(I1234,Calc!$I$35:$J$39,2,FALSE)","v":5},2,"Malaysia","Process Engineering","4 to 6 hours a day"]
["ID1262","Consultants","Asia",120000,{"$f":"VLOOKUP(I1235,Calc!$I$35:$J$39,2,FALSE)","v":1.5},5,"Singapore","Consultant - Process Improvement","1 or 2 hours a day"]
["ID1263","Analysts","Oceana",91791.869076237213,{"$f":"VLOOKUP(I1236,Calc!$I$35:$J$39,2,FALSE)","v":5},5,"Australia","Business Analyst","4 to 6 hours a day"]
["ID1264","Analysts","Oceana",112190.06220428993,{"$f":"VLOOKUP(I1237,Calc!$I$35:$J$39,2,FALSE)","v":2.5},7,"Australia","Analyst","2 to 3 hours per day"]
["ID1265","Managers","North America",40000,{"$f":"VLOOKUP(I1238,Calc!$I$35:$J$39,2,FALSE)","v":2.5},18,"USA","Senior Materials Handler","2 to 3 hours per day"]
["ID1266","Accountants","North America",107000,{"$f":"VLOOKUP(I1239,Calc!$I$35:$J$39,2,FALSE)","v":5},12,"USA","Certified Public Accountant","4 to 6 hours a day"]
["ID1267","Managers","North America",82000,{"$f":"VLOOKUP(I1240,Calc!$I$35:$J$39,2,FALSE)","v":5},10,"USA","Manager - Marketing Analytics","4 to 6 hours a day"]
["ID1268","Consultants","Oceana",101990.96564026357,{"$f":"VLOOKUP(I1241,Calc!$I$35:$J$39,2,FALSE)","v":5},15,"Australia","Contractor/Consultant","4 to 6 hours a day"]
["ID1270","Managers","Oceana",43000,{"$f":"VLOOKUP(I1242,Calc!$I$35:$J$39,2,FALSE)","v":2.5},4,"Australia","Operations Support Officer","2 to 3 hours per day"]
["ID1271","Controllers","North America",69000,{"$f":"VLOOKUP(I1243,Calc!$I$35:$J$39,2,FALSE)","v":5},20,"USA","master scheduler","4 to 6 hours a day"]
["ID1273","Managers","Asia",30000,{"$f":"VLOOKUP(I1244,Calc!$I$35:$J$39,2,FALSE)","v":2.5},3,"India","Practice Manager - Business Operations","2 to 3 hours per day"]
["ID1274","Analysts","Oceana",48955.663507326513,{"$f":"VLOOKUP(I1245,Calc!$I$35:$J$39,2,FALSE)","v":1.5},2,"Australia","Research Assistant","1 or 2 hours a day"]
["ID1275","Managers","North America",70000,{"$f":"VLOOKUP(I1246,Calc!$I$35:$J$39,2,FALSE)","v":5},8,"USA","Project Manager","4 to 6 hours a day"]
["ID1276","Analysts","North America",45000,{"$f":"VLOOKUP(I1247,Calc!$I$35:$J$39,2,FALSE)","v":5},7,"USA","Staff Assistant","4 to 6 hours a day"]
["ID1277","Top Mgmt","Asia",35000,{"$f":"VLOOKUP(I1248,Calc!$I$35:$J$39,2,FALSE)","v":8},12,"Malaysia","AVP Securitisation","All the 8 hours baby, all the 8!"]
["ID1278","Managers","Asia",8903.9583437212841,{"$f":"VLOOKUP(I1249,Calc!$I$35:$J$39,2,FALSE)","v":2.5},29,"India","Asstt. Manager","2 to 3 hours per day"]
["ID1279","Managers","Asia",28353.650809742252,{"$f":"VLOOKUP(I1250,Calc!$I$35:$J$39,2,FALSE)","v":2.5},20,"Malaysia","Manager","2 to 3 hours per day"]
["ID1280","Analysts","Asia",11800,{"$f":"VLOOKUP(I1251,Calc!$I$35:$J$39,2,FALSE)","v":5},10,"India","Assistant Data Analyst","4 to 6 hours a day"]
["ID1281","Managers","Asia",6410.8500074793246,{"$f":"VLOOKUP(I1252,Calc!$I$35:$J$39,2,FALSE)","v":8},6,"India","Team Leader WFM","All the 8 hours baby, all the 8!"]
["ID1282","Analysts","North America",50000,{"$f":"VLOOKUP(I1253,Calc!$I$35:$J$39,2,FALSE)","v":5},3,"USA","Data Analyst","4 to 6 hours a day"]
["ID1283","Managers","Asia",85000,{"$f":"VLOOKUP(I1254,Calc!$I$35:$J$39,2,FALSE)","v":8},10,"Sri Lanka","manager operation","All the 8 hours baby, all the 8!"]
["ID1284","Managers","Asia",17807.916687442568,{"$f":"VLOOKUP(I1255,Calc!$I$35:$J$39,2,FALSE)","v":2.5},10,"India","Manager","2 to 3 hours per day"]
["ID1285","Controllers","Asia",16027.125018698311,{"$f":"VLOOKUP(I1256,Calc!$I$35:$J$39,2,FALSE)","v":8},8,"India","RENTAL INVENTORY CONTROLLER","All the 8 hours baby, all the 8!"]
["ID1286","Top Mgmt","North America",192000,{"$f":"VLOOKUP(I1257,Calc!$I$35:$J$39,2,FALSE)","v":8},27,"USA","Publisher","All the 8 hours baby, all the 8!"]
["ID1287","Analysts","North America",54000,{"$f":"VLOOKUP(I1258,Calc!$I$35:$J$39,2,FALSE)","v":8},6,"USA","Resource Planning Analyst","All the 8 hours baby, all the 8!"]
["ID1288","Managers","Asia",18000,{"$f":"VLOOKUP(I1259,Calc!$I$35:$J$39,2,FALSE)","v":5},12,"India","Manager","4 to 6 hours a day"]
["ID1289","Reporting","Asia",5342.3750062327708,{"$f":"VLOOKUP(I1260,Calc!$I$35:$J$39,2,FALSE)","v":2.5},5,"India","MIS OFFICER","2 to 3 hours per day"]
["ID1290","Managers","Asia",7123.1666749770275,{"$f":"VLOOKUP(I1261,Calc!$I$35:$J$39,2,FALSE)","v":8},3,"India","PMO","All the 8 hours baby, all the 8!"]
["ID1291","Managers","Asia",15000,{"$f":"VLOOKUP(I1262,Calc!$I$35:$J$39,2,FALSE)","v":5},10,"Myanmar","Monitoring & Evaluation officer","4 to 6 hours a day"]
["ID1292","Analysts","Asia",14000,{"$f":"VLOOKUP(I1263,Calc!$I$35:$J$39,2,FALSE)","v":5},12,"India","Pricing Analyst","4 to 6 hours a day"]
["ID1294","Analysts","Asia",8000,{"$f":"VLOOKUP(I1264,Calc!$I$35:$J$39,2,FALSE)","v":8},4,"India","Data Analyst","All the 8 hours baby, all the 8!"]
["ID1295","Specialists","Asia",12500,{"$f":"VLOOKUP(I1265,Calc!$I$35:$J$39,2,FALSE)","v":2.5},7,"Philippines","Specialist","2 to 3 hours per day"]
["ID1296","Accountants","North America",140000,{"$f":"VLOOKUP(I1266,Calc!$I$35:$J$39,2,FALSE)","v":5},12,"USA","Senior Accountant","4 to 6 hours a day"]
["ID1297","Consultants","Asia",12000,{"$f":"VLOOKUP(I1267,Calc!$I$35:$J$39,2,FALSE)","v":5},1,"Pakistan","excel prof","4 to 6 hours a day"]
["ID1298","Analysts","Europe",38111.983169748237,{"$f":"VLOOKUP(I1268,Calc!$I$35:$J$39,2,FALSE)","v":2.5},15,"Belgium","Employee","2 to 3 hours per day"]
["ID1299","Managers","Asia",10684.750012465542,{"$f":"VLOOKUP(I1269,Calc!$I$35:$J$39,2,FALSE)","v":2.5},2,"India","Senior Business Executive","2 to 3 hours per day"]
["ID1301","Analysts","Asia",6232.7708406048987,{"$f":"VLOOKUP(I1270,Calc!$I$35:$J$39,2,FALSE)","v":5},1.5,"India","I dont know","4 to 6 hours a day"]
["ID1302","Analysts","Asia",45000,{"$f":"VLOOKUP(I1271,Calc!$I$35:$J$39,2,FALSE)","v":8},8,"Pakistan","Financial Analysis","All the 8 hours baby, all the 8!"]
["ID1303","Managers","North America",80000,{"$f":"VLOOKUP(I1272,Calc!$I$35:$J$39,2,FALSE)","v":1.5},6,"USA","Manager","1 or 2 hours a day"]
["ID1304","Analysts","Asia",26711.875031163851,{"$f":"VLOOKUP(I1273,Calc!$I$35:$J$39,2,FALSE)","v":5},7,"India","Analyst","4 to 6 hours a day"]
["ID1305","Analysts","Africa",100000,{"$f":"VLOOKUP(I1274,Calc!$I$35:$J$39,2,FALSE)","v":5},17,"Uganda","Business Analyst","4 to 6 hours a day"]
["ID1306","Managers","Oceana",69353.856635379227,{"$f":"VLOOKUP(I1275,Calc!$I$35:$J$39,2,FALSE)","v":5},10,"Australia","Project Support Officer","4 to 6 hours a day"]
["ID1307","Controllers","Oceana",49975.573163729154,{"$f":"VLOOKUP(I1276,Calc!$I$35:$J$39,2,FALSE)","v":5},30,"Australia","Document Control","4 to 6 hours a day"]
["ID1308","Managers","Asia",10239.552095279476,{"$f":"VLOOKUP(I1277,Calc!$I$35:$J$39,2,FALSE)","v":2.5},5,"India","Asst Manager HR","2 to 3 hours per day"]
["ID1309","Engineers","Asia",8903.9583437212841,{"$f":"VLOOKUP(I1278,Calc!$I$35:$J$39,2,FALSE)","v":5},2,"India","Senior software engineer","4 to 6 hours a day"]
["ID1310","Analysts","Middle East",36000,{"$f":"VLOOKUP(I1279,Calc!$I$35:$J$39,2,FALSE)","v":2.5},10,"Kuwait","Administrative Assistant","2 to 3 hours per day"]
["ID1311","Reporting","Asia",3739.6625043629392,{"$f":"VLOOKUP(I1280,Calc!$I$35:$J$39,2,FALSE)","v":1.5},4.5,"India","MIS cum Purchase Executive","1 or 2 hours a day"]
["ID1312","Analysts","Europe",61614.372791092981,{"$f":"VLOOKUP(I1281,Calc!$I$35:$J$39,2,FALSE)","v":5},8,"Netherlands","Information analyst","4 to 6 hours a day"]
["ID1313","Reporting","Asia",3561.5833374885137,{"$f":"VLOOKUP(I1282,Calc!$I$35:$J$39,2,FALSE)","v":2.5},3,"India","MIS","2 to 3 hours per day"]
["ID1314","Analysts","Asia",6410.8500074793246,{"$f":"VLOOKUP(I1283,Calc!$I$35:$J$39,2,FALSE)","v":8},6,"India","Sr. Executive -HR","All the 8 hours baby, all the 8!"]
["ID1315","Analysts","Europe",36206.384011260823,{"$f":"VLOOKUP(I1284,Calc!$I$35:$J$39,2,FALSE)","v":1.5},5,"Netherlands","Salary Professsional","1 or 2 hours a day"]
["ID1316","Managers","Asia",13500,{"$f":"VLOOKUP(I1285,Calc!$I$35:$J$39,2,FALSE)","v":2.5},20,"India","Asst. Manager","2 to 3 hours per day"]
["ID1317","Accountants","Asia",3000,{"$f":"VLOOKUP(I1286,Calc!$I$35:$J$39,2,FALSE)","v":5},2,"Sri Lanka","FANANCE","4 to 6 hours a day"]
["ID1318","Managers","Asia",21369.500024931083,{"$f":"VLOOKUP(I1287,Calc!$I$35:$J$39,2,FALSE)","v":5},9,"India","Manager - Corporate strategy and Planning","4 to 6 hours a day"]
["ID1319","Managers","Asia",10684.750012465542,{"$f":"VLOOKUP(I1288,Calc!$I$35:$J$39,2,FALSE)","v":2.5},28,"India","General Manager","2 to 3 hours per day"]
["ID1320","Managers","Europe",176585.52201983347,{"$f":"VLOOKUP(I1289,Calc!$I$35:$J$39,2,FALSE)","v":1.5},25,"Germany","NAF Support Manager","1 or 2 hours a day"]
["ID1322","Managers","Europe",54627.175876639136,{"$f":"VLOOKUP(I1290,Calc!$I$35:$J$39,2,FALSE)","v":8},7,"France","Project manager of IT infrastructure","All the 8 hours baby, all the 8!"]
["ID1323","Controllers","Europe",30489.586535798586,{"$f":"VLOOKUP(I1291,Calc!$I$35:$J$39,2,FALSE)","v":5},10,"Italy","Controller","4 to 6 hours a day"]
["ID1324","Managers","Asia",5591.6858398569666,{"$f":"VLOOKUP(I1292,Calc!$I$35:$J$39,2,FALSE)","v":1.5},0.1,"India","relationship manager","1 or 2 hours a day"]
["ID1325","Consultants","Africa",82000,{"$f":"VLOOKUP(I1293,Calc!$I$35:$J$39,2,FALSE)","v":5},10,"South Africa","Consultant","4 to 6 hours a day"]
["ID1326","Reporting","Asia",10000,{"$f":"VLOOKUP(I1294,Calc!$I$35:$J$39,2,FALSE)","v":1.5},0.5,"India","MIS","1 or 2 hours a day"]
["ID1327","Analysts","Asia",9000,{"$f":"VLOOKUP(I1295,Calc!$I$35:$J$39,2,FALSE)","v":8},0.6,"India","Data Analyst","All the 8 hours baby, all the 8!"]
["ID1328","Analysts","Asia",9000,{"$f":"VLOOKUP(I1296,Calc!$I$35:$J$39,2,FALSE)","v":5},1,"India","Data Analyst","4 to 6 hours a day"]
["ID1329","Managers","Asia",11753.225013712095,{"$f":"VLOOKUP(I1297,Calc!$I$35:$J$39,2,FALSE)","v":8},7,"India","AM business Intelligence","All the 8 hours baby, all the 8!"]
["ID1330","Reporting","Asia",3632.815004238284,{"$f":"VLOOKUP(I1298,Calc!$I$35:$J$39,2,FALSE)","v":8},2,"India","MIS Associate","All the 8 hours baby, all the 8!"]
["ID1331","Analysts","Europe",95279.957924370581,{"$f":"VLOOKUP(I1299,Calc!$I$35:$J$39,2,FALSE)","v":8},16,"Netherlands","Financial Analyst","All the 8 hours baby, all the 8!"]
["ID1332","Consultants","Europe",70928.022243027779,{"$f":"VLOOKUP(I1300,Calc!$I$35:$J$39,2,FALSE)","v":2.5},4,"UK","Senior Consultant","2 to 3 hours per day"]
["ID1333","Engineers","Europe",52086.37699865592,{"$f":"VLOOKUP(I1301,Calc!$I$35:$J$39,2,FALSE)","v":5},12,"Spain","engineer","4 to 6 hours a day"]
["ID1334","Managers","Asia",4897.177089046706,{"$f":"VLOOKUP(I1302,Calc!$I$35:$J$39,2,FALSE)","v":8},4,"India","TL WFM","All the 8 hours baby, all the 8!"]
["ID1335","Accountants","Oceana",63807.047488395103,{"$f":"VLOOKUP(I1303,Calc!$I$35:$J$39,2,FALSE)","v":8},15,"New Zealand","accountant","All the 8 hours baby, all the 8!"]
["ID1336","Managers","Middle East",24000,{"$f":"VLOOKUP(I1304,Calc!$I$35:$J$39,2,FALSE)","v":5},5,"Saudi Arabia","Dir. Revenue Mgt","4 to 6 hours a day"]
["ID1337","Managers","Europe",60000,{"$f":"VLOOKUP(I1305,Calc!$I$35:$J$39,2,FALSE)","v":8},20,"CEE","Controlling Manager","All the 8 hours baby, all the 8!"]
["ID1338","Analysts","Asia",5342.3750062327708,{"$f":"VLOOKUP(I1306,Calc!$I$35:$J$39,2,FALSE)","v":8},3,"India","Financial Modelling Analyst","All the 8 hours baby, all the 8!"]
["ID1339","Managers","Asia",8903.9583437212841,{"$f":"VLOOKUP(I1307,Calc!$I$35:$J$39,2,FALSE)","v":2.5},5,"India","support manager","2 to 3 hours per day"]
["ID1340","Analysts","Europe",40980.635073749385,{"$f":"VLOOKUP(I1308,Calc!$I$35:$J$39,2,FALSE)","v":5},2,"UK","Web Analyst","4 to 6 hours a day"]
["ID1341","Managers","Asia",10684.750012465542,{"$f":"VLOOKUP(I1309,Calc!$I$35:$J$39,2,FALSE)","v":1.5},7,"India","Assistant Manager","1 or 2 hours a day"]
["ID1342","Consultants","Asia",21369.500024931083,{"$f":"VLOOKUP(I1310,Calc!$I$35:$J$39,2,FALSE)","v":2.5},21,"India","Consultant","2 to 3 hours per day"]
["ID1343","Managers","Africa",18000,{"$f":"VLOOKUP(I1311,Calc!$I$35:$J$39,2,FALSE)","v":5},12,"Ghana","liquidity manager","4 to 6 hours a day"]
["ID1344","Managers","Middle East",41000,{"$f":"VLOOKUP(I1312,Calc!$I$35:$J$39,2,FALSE)","v":2.5},4,"Israel","PO/PMO/Planner/PM","2 to 3 hours per day"]
["ID1345","Analysts","Asia",28492.66669990811,{"$f":"VLOOKUP(I1313,Calc!$I$35:$J$39,2,FALSE)","v":2.5},4,"India","Senior Associate ","2 to 3 hours per day"]
["ID1346","Analysts","North America",49500,{"$f":"VLOOKUP(I1314,Calc!$I$35:$J$39,2,FALSE)","v":5},4.5,"USA","Financial Analyst II","4 to 6 hours a day"]
["ID1347","Reporting","Asia",6600,{"$f":"VLOOKUP(I1315,Calc!$I$35:$J$39,2,FALSE)","v":2.5},6.4,"India","MIS HR,HRIS","2 to 3 hours per day"]
["ID1348","Consultants","Europe",110332.47904470989,{"$f":"VLOOKUP(I1316,Calc!$I$35:$J$39,2,FALSE)","v":5},15,"UK","Consultant","4 to 6 hours a day"]
["ID1349","Analysts","Europe",47285.348162018527,{"$f":"VLOOKUP(I1317,Calc!$I$35:$J$39,2,FALSE)","v":8},6,"UK","Market Analyst","All the 8 hours baby, all the 8!"]
["ID1350","Managers","Asia",5300,{"$f":"VLOOKUP(I1318,Calc!$I$35:$J$39,2,FALSE)","v":5},5,"Pakistan","Asst. Production Manager","4 to 6 hours a day"]
["ID1351","Analysts","Europe",43828.780645210471,{"$f":"VLOOKUP(I1319,Calc!$I$35:$J$39,2,FALSE)","v":5},15,"Netherlands","Analyst","4 to 6 hours a day"]
["ID1352","Analysts","North America",80000,{"$f":"VLOOKUP(I1320,Calc!$I$35:$J$39,2,FALSE)","v":1.5},14,"USA","Developer","1 or 2 hours a day"]
["ID1353","Analysts","Europe",11518.711713336908,{"$f":"VLOOKUP(I1321,Calc!$I$35:$J$39,2,FALSE)","v":2.5},3,"Hungary","assistant","2 to 3 hours per day"]
["ID1354","Analysts","Oceana",152986.44846039536,{"$f":"VLOOKUP(I1322,Calc!$I$35:$J$39,2,FALSE)","v":1.5},5.5,"Australia","Bus Analyst","1 or 2 hours a day"]
["ID1355","Managers","North America",125000,{"$f":"VLOOKUP(I1323,Calc!$I$35:$J$39,2,FALSE)","v":5},2,"USA","Vice President of Performance Management","4 to 6 hours a day"]
["ID1356","Consultants","Oceana",101990.96564026357,{"$f":"VLOOKUP(I1324,Calc!$I$35:$J$39,2,FALSE)","v":1.5},30,"Australia","Principal advisor","1 or 2 hours a day"]
["ID1357","Top Mgmt","North America",105000,{"$f":"VLOOKUP(I1325,Calc!$I$35:$J$39,2,FALSE)","v":1.5},15,"USA","Director of Technology","1 or 2 hours a day"]
["ID1358","Managers","Europe",50815.977559664309,{"$f":"VLOOKUP(I1326,Calc!$I$35:$J$39,2,FALSE)","v":5},20,"Austria","officer","4 to 6 hours a day"]
["ID1359","Analysts","North America",75000,{"$f":"VLOOKUP(I1327,Calc!$I$35:$J$39,2,FALSE)","v":5},7,"USA","Financial Analyst","4 to 6 hours a day"]
["ID1360","Analysts","Asia",4451.9791718606421,{"$f":"VLOOKUP(I1328,Calc!$I$35:$J$39,2,FALSE)","v":8},8,"India","Credit Executive","All the 8 hours baby, all the 8!"]
["ID1361","Analysts","North America",110000,{"$f":"VLOOKUP(I1329,Calc!$I$35:$J$39,2,FALSE)","v":1.5},10,"USA","Business Analytics Associate","1 or 2 hours a day"]
["ID1362","Engineers","Europe",42556.81334581667,{"$f":"VLOOKUP(I1330,Calc!$I$35:$J$39,2,FALSE)","v":5},1,"UK","Engineering Tech","4 to 6 hours a day"]
["ID1363","Engineers","Asia",8013.5625093491553,{"$f":"VLOOKUP(I1331,Calc!$I$35:$J$39,2,FALSE)","v":1.5},7,"India","Mechanical Design engineer","1 or 2 hours a day"]
["ID1364","Managers","North America",125000,{"$f":"VLOOKUP(I1332,Calc!$I$35:$J$39,2,FALSE)","v":5},25,"USA","Finance Manager","4 to 6 hours a day"]
["ID1365","Analysts","North America",60000,{"$f":"VLOOKUP(I1333,Calc!$I$35:$J$39,2,FALSE)","v":8},12,"USA","Business Information Analyst","All the 8 hours baby, all the 8!"]
["ID1366","Analysts","Asia",39355.495879248076,{"$f":"VLOOKUP(I1334,Calc!$I$35:$J$39,2,FALSE)","v":1.5},5.6,"India","Marketing","1 or 2 hours a day"]
["ID1367","Controllers","Europe",57167.974754622352,{"$f":"VLOOKUP(I1335,Calc!$I$35:$J$39,2,FALSE)","v":5},12,"Germany","Junior Controller","4 to 6 hours a day"]
["ID1368","Analysts","Asia",50694.322109187968,{"$f":"VLOOKUP(I1336,Calc!$I$35:$J$39,2,FALSE)","v":5},8,"Japan","System Analyst (Configuration Mgmt)","4 to 6 hours a day"]
["ID1369","Managers","North America",57500,{"$f":"VLOOKUP(I1337,Calc!$I$35:$J$39,2,FALSE)","v":5},30,"USA","Planning Supervisor","4 to 6 hours a day"]
["ID1370","Controllers","Europe",78764.765217479682,{"$f":"VLOOKUP(I1338,Calc!$I$35:$J$39,2,FALSE)","v":5},15,"Netherlands","Controller","4 to 6 hours a day"]
["ID1371","Managers","North America",80000,{"$f":"VLOOKUP(I1339,Calc!$I$35:$J$39,2,FALSE)","v":5},10,"USA","Manager of Data Analytics","4 to 6 hours a day"]
["ID1372","Managers","Europe",70928.022243027779,{"$f":"VLOOKUP(I1340,Calc!$I$35:$J$39,2,FALSE)","v":2.5},15,"UK","Management Accountant","2 to 3 hours per day"]
["ID1373","Controllers","North America",33000,{"$f":"VLOOKUP(I1341,Calc!$I$35:$J$39,2,FALSE)","v":5},3,"USA","Quality Control Supervisor","4 to 6 hours a day"]
["ID1374","Analysts","North America",100000,{"$f":"VLOOKUP(I1342,Calc!$I$35:$J$39,2,FALSE)","v":5},1,"USA","Senior Financial Analyst","4 to 6 hours a day"]
["ID1375","Managers","North America",60000,{"$f":"VLOOKUP(I1343,Calc!$I$35:$J$39,2,FALSE)","v":2.5},20,"USA","project manager","2 to 3 hours per day"]
["ID1376","Analysts","North America",95000,{"$f":"VLOOKUP(I1344,Calc!$I$35:$J$39,2,FALSE)","v":2.5},7,"USA","Cost Analyst","2 to 3 hours per day"]
["ID1377","Analysts","North America",24000,{"$f":"VLOOKUP(I1345,Calc!$I$35:$J$39,2,FALSE)","v":1.5},33,"USA","clerk 24 hrs per week","1 or 2 hours a day"]
["ID1378","Engineers","North America",50000,{"$f":"VLOOKUP(I1346,Calc!$I$35:$J$39,2,FALSE)","v":5},0.5,"USA","Engineering Intern","4 to 6 hours a day"]
["ID1379","Controllers","North America",103000,{"$f":"VLOOKUP(I1347,Calc!$I$35:$J$39,2,FALSE)","v":5},22,"USA","Controller","4 to 6 hours a day"]
["ID1380","Specialists","North America",36000,{"$f":"VLOOKUP(I1348,Calc!$I$35:$J$39,2,FALSE)","v":8},8,"USA","Data Specialist","All the 8 hours baby, all the 8!"]
["ID1381","Analysts","North America",85000,{"$f":"VLOOKUP(I1349,Calc!$I$35:$J$39,2,FALSE)","v":5},17,"USA","Senior Analyst","4 to 6 hours a day"]
["ID1382","Top Mgmt","Europe",100000,{"$f":"VLOOKUP(I1350,Calc!$I$35:$J$39,2,FALSE)","v":2.5},20,"Sweden","Vice Head of Dpt in Education","2 to 3 hours per day"]
["ID1383","Analysts","North America",83000,{"$f":"VLOOKUP(I1351,Calc!$I$35:$J$39,2,FALSE)","v":5},12,"Canada","Senior Planning Analyst","4 to 6 hours a day"]
["ID1384","Engineers","North America",85000,{"$f":"VLOOKUP(I1352,Calc!$I$35:$J$39,2,FALSE)","v":2.5},25,"USA","energy engineer","2 to 3 hours per day"]
["ID1385","Managers","North America",120000,{"$f":"VLOOKUP(I1353,Calc!$I$35:$J$39,2,FALSE)","v":2.5},5,"USA","Finance Manager","2 to 3 hours per day"]
["ID1386","Engineers","North America",69960,{"$f":"VLOOKUP(I1354,Calc!$I$35:$J$39,2,FALSE)","v":2.5},22,"USA","Measurement & Verification Engineer","2 to 3 hours per day"]
["ID1387","Managers","North America",97000,{"$f":"VLOOKUP(I1355,Calc!$I$35:$J$39,2,FALSE)","v":5},14,"USA","Sr. Manager of Finance","4 to 6 hours a day"]
["ID1388","Analysts","Europe",94570.696324037053,{"$f":"VLOOKUP(I1356,Calc!$I$35:$J$39,2,FALSE)","v":5},7,"UK","Analyst","4 to 6 hours a day"]
["ID1389","Managers","Africa",39000,{"$f":"VLOOKUP(I1357,Calc!$I$35:$J$39,2,FALSE)","v":8},6,"South Africa","I.T Manager","All the 8 hours baby, all the 8!"]
["ID1390","Managers","Asia",4451.9791718606421,{"$f":"VLOOKUP(I1358,Calc!$I$35:$J$39,2,FALSE)","v":1.5},15,"India","Manager","1 or 2 hours a day"]
["ID1391","Specialists","North America",62000,{"$f":"VLOOKUP(I1359,Calc!$I$35:$J$39,2,FALSE)","v":8},25,"USA","Measurement Specialist","All the 8 hours baby, all the 8!"]
["ID1392","Engineers","North America",44000,{"$f":"VLOOKUP(I1360,Calc!$I$35:$J$39,2,FALSE)","v":5},15,"USA","Test engineer","4 to 6 hours a day"]
["ID1393","Managers","North America",150000,{"$f":"VLOOKUP(I1361,Calc!$I$35:$J$39,2,FALSE)","v":2.5},30,"USA","VP, Business Management","2 to 3 hours per day"]
["ID1394","Controllers","Europe",228671.89901848941,{"$f":"VLOOKUP(I1362,Calc!$I$35:$J$39,2,FALSE)","v":5},15,"Europe","MIS Controller","4 to 6 hours a day"]
["ID1395","Analysts","North America",73500,{"$f":"VLOOKUP(I1363,Calc!$I$35:$J$39,2,FALSE)","v":8},6,"USA","Senior Underwriting Analyst","All the 8 hours baby, all the 8!"]
["ID1396","Analysts","North America",77500,{"$f":"VLOOKUP(I1364,Calc!$I$35:$J$39,2,FALSE)","v":5},7,"USA","Sr Financial Analyst","4 to 6 hours a day"]
["ID1397","Analysts","North America",60800,{"$f":"VLOOKUP(I1365,Calc!$I$35:$J$39,2,FALSE)","v":8},10,"USA","Data Integrity & Reporting Tool Analyst","All the 8 hours baby, all the 8!"]
["ID1398","Managers","North America",136000,{"$f":"VLOOKUP(I1366,Calc!$I$35:$J$39,2,FALSE)","v":5},10,"USA","Manager FP and A","4 to 6 hours a day"]
["ID1399","Specialists","Asia",20000,{"$f":"VLOOKUP(I1367,Calc!$I$35:$J$39,2,FALSE)","v":5},6,"India","Business Operation Specialist","4 to 6 hours a day"]
["ID1400","Engineers","North America",95000,{"$f":"VLOOKUP(I1368,Calc!$I$35:$J$39,2,FALSE)","v":5},14,"USA","Stress Engineer","4 to 6 hours a day"]
["ID1401","Managers","North America",130000,{"$f":"VLOOKUP(I1369,Calc!$I$35:$J$39,2,FALSE)","v":1.5},25,"USA","Manager","1 or 2 hours a day"]
["ID1402","Analysts","North America",65000,{"$f":"VLOOKUP(I1370,Calc!$I$35:$J$39,2,FALSE)","v":2.5},10,"USA","eeo analyst","2 to 3 hours per day"]
["ID1403","Consultants","North America",80000,{"$f":"VLOOKUP(I1371,Calc!$I$35:$J$39,2,FALSE)","v":2.5},8,"USA","Sr Process Consultant","2 to 3 hours per day"]
["ID1404","Reporting","North America",37000,{"$f":"VLOOKUP(I1372,Calc!$I$35:$J$39,2,FALSE)","v":2.5},30,"USA","Credentialing Coordinator & Productivity Reports \"Guru\"","2 to 3 hours per day"]
["ID1405","Managers","North America",40000,{"$f":"VLOOKUP(I1373,Calc!$I$35:$J$39,2,FALSE)","v":1.5},8,"USA","Transportation Planner","1 or 2 hours a day"]
["ID1406","Analysts","North America",49000,{"$f":"VLOOKUP(I1374,Calc!$I$35:$J$39,2,FALSE)","v":5},10,"USA","Research Analyst","4 to 6 hours a day"]
["ID1407","Analysts","North America",65000,{"$f":"VLOOKUP(I1375,Calc!$I$35:$J$39,2,FALSE)","v":8},14,"USA","Data Analyst","All the 8 hours baby, all the 8!"]
["ID1408","Analysts","North America",55000,{"$f":"VLOOKUP(I1376,Calc!$I$35:$J$39,2,FALSE)","v":8},1,"USA","Risk Analyst","All the 8 hours baby, all the 8!"]
["ID1409","Managers","North America",40000,{"$f":"VLOOKUP(I1377,Calc!$I$35:$J$39,2,FALSE)","v":5},1,"USA","Project Coordinator","4 to 6 hours a day"]
["ID1410","Analysts","North America",60000,{"$f":"VLOOKUP(I1378,Calc!$I$35:$J$39,2,FALSE)","v":5},15,"USA","business analyst","4 to 6 hours a day"]
["ID1411","Analysts","Europe",45734.379803697877,{"$f":"VLOOKUP(I1379,Calc!$I$35:$J$39,2,FALSE)","v":2.5},4,"Ireland","Data Analytics Consultant","2 to 3 hours per day"]
["ID1412","Analysts","North America",150000,{"$f":"VLOOKUP(I1380,Calc!$I$35:$J$39,2,FALSE)","v":2.5},30,"USA","Senior Analyst","2 to 3 hours per day"]
["ID1413","Managers","North America",88000,{"$f":"VLOOKUP(I1381,Calc!$I$35:$J$39,2,FALSE)","v":5},21,"USA","Manager, Financial Planning & Analysis","4 to 6 hours a day"]
["ID1414","Analysts","North America",64500,{"$f":"VLOOKUP(I1382,Calc!$I$35:$J$39,2,FALSE)","v":5},13,"USA","Lead Budget/Financial Analyst","4 to 6 hours a day"]
["ID1415","Engineers","Middle East",57600,{"$f":"VLOOKUP(I1383,Calc!$I$35:$J$39,2,FALSE)","v":5},20,"Saudi Arabia","Senior Electrical Engineer","4 to 6 hours a day"]
["ID1416","Accountants","North America",50000,{"$f":"VLOOKUP(I1384,Calc!$I$35:$J$39,2,FALSE)","v":5},15,"USA","Accounting Supervisor","4 to 6 hours a day"]
["ID1417","Managers","North America",120000,{"$f":"VLOOKUP(I1385,Calc!$I$35:$J$39,2,FALSE)","v":2.5},10,"USA","Finance Manager","2 to 3 hours per day"]
["ID1418","Managers","North America",107000,{"$f":"VLOOKUP(I1386,Calc!$I$35:$J$39,2,FALSE)","v":8},29,"USA","Tax Manager","All the 8 hours baby, all the 8!"]
["ID1419","Analysts","North America",40000,{"$f":"VLOOKUP(I1387,Calc!$I$35:$J$39,2,FALSE)","v":2.5},6,"USA","Metrics Analyst","2 to 3 hours per day"]
["ID1420","Managers","North America",81000,{"$f":"VLOOKUP(I1388,Calc!$I$35:$J$39,2,FALSE)","v":1.5},12,"USA","Finance & IT Manager","1 or 2 hours a day"]
["ID1421","Specialists","North America",45000,{"$f":"VLOOKUP(I1389,Calc!$I$35:$J$39,2,FALSE)","v":5},20,"USA","Technical Support Specialist","4 to 6 hours a day"]
["ID1422","Specialists","North America",49000,{"$f":"VLOOKUP(I1390,Calc!$I$35:$J$39,2,FALSE)","v":5},5,"USA","Clinical Data Specialist","4 to 6 hours a day"]
["ID1423","Top Mgmt","Asia",13355.937515581925,{"$f":"VLOOKUP(I1391,Calc!$I$35:$J$39,2,FALSE)","v":1.5},1,"India","Associate - Indirect Tax","1 or 2 hours a day"]
["ID1424","Managers","North America",72000,{"$f":"VLOOKUP(I1392,Calc!$I$35:$J$39,2,FALSE)","v":1.5},20,"USA","Manager","1 or 2 hours a day"]
["ID1425","Analysts","North America",50000,{"$f":"VLOOKUP(I1393,Calc!$I$35:$J$39,2,FALSE)","v":5},7,"USA","Digital Analyst","4 to 6 hours a day"]
["ID1426","Analysts","North America",57678,{"$f":"VLOOKUP(I1394,Calc!$I$35:$J$39,2,FALSE)","v":5},2,"USA","Financial Analyst","4 to 6 hours a day"]
["ID1427","Analysts","North America",80442,{"$f":"VLOOKUP(I1395,Calc!$I$35:$J$39,2,FALSE)","v":5},16,"USA","Senior Budget Analyst","4 to 6 hours a day"]
["ID1428","Managers","North America",75000,{"$f":"VLOOKUP(I1396,Calc!$I$35:$J$39,2,FALSE)","v":1.5},9,"USA","HR Cordinator","1 or 2 hours a day"]
["ID1429","Analysts","North America",61000,{"$f":"VLOOKUP(I1397,Calc!$I$35:$J$39,2,FALSE)","v":5},12,"USA","Treasury Analyst","4 to 6 hours a day"]
["ID1430","Engineers","North America",77000,{"$f":"VLOOKUP(I1398,Calc!$I$35:$J$39,2,FALSE)","v":5},10,"USA","Assistant Engineer","4 to 6 hours a day"]
["ID1431","Controllers","North America",92000,{"$f":"VLOOKUP(I1399,Calc!$I$35:$J$39,2,FALSE)","v":2.5},9,"USA","Controller","2 to 3 hours per day"]
["ID1432","Analysts","North America",72000,{"$f":"VLOOKUP(I1400,Calc!$I$35:$J$39,2,FALSE)","v":8},10,"USA","sr. senior analyst","All the 8 hours baby, all the 8!"]
["ID1433","Consultants","Asia",14000,{"$f":"VLOOKUP(I1401,Calc!$I$35:$J$39,2,FALSE)","v":5},3,"India","Consultant","4 to 6 hours a day"]
["ID1434","Managers","North America",111000,{"$f":"VLOOKUP(I1402,Calc!$I$35:$J$39,2,FALSE)","v":2.5},10,"USA","Project Manager - Finance","2 to 3 hours per day"]
["ID1435","Analysts","North America",80000,{"$f":"VLOOKUP(I1403,Calc!$I$35:$J$39,2,FALSE)","v":5},20,"USA","Senior analyst, ops support","4 to 6 hours a day"]
["ID1436","Analysts","Asia",57875.729234188344,{"$f":"VLOOKUP(I1404,Calc!$I$35:$J$39,2,FALSE)","v":5},5.5,"India","ISO TS Documentation","4 to 6 hours a day"]
["ID1437","Accountants","Asia",25000,{"$f":"VLOOKUP(I1405,Calc!$I$35:$J$39,2,FALSE)","v":2.5},8,"India","Accountant","2 to 3 hours per day"]
["ID1438","Controllers","North America",24000,{"$f":"VLOOKUP(I1406,Calc!$I$35:$J$39,2,FALSE)","v":1.5},2,"USA","inventory controller","1 or 2 hours a day"]
["ID1439","Managers","North America",61000,{"$f":"VLOOKUP(I1407,Calc!$I$35:$J$39,2,FALSE)","v":2.5},25,"USA","Accounting manager","2 to 3 hours per day"]
["ID1440","Analysts","Oceana",56095.031102144967,{"$f":"VLOOKUP(I1408,Calc!$I$35:$J$39,2,FALSE)","v":2.5},11,"Australia","PA","2 to 3 hours per day"]
["ID1442","Accountants","Oceana",71393.675948184507,{"$f":"VLOOKUP(I1409,Calc!$I$35:$J$39,2,FALSE)","v":2.5},5,"Australia","Assistant Accountant","2 to 3 hours per day"]
["ID1443","Managers","North America",96230,{"$f":"VLOOKUP(I1410,Calc!$I$35:$J$39,2,FALSE)","v":5},18,"USA","Manager, Data Management","4 to 6 hours a day"]
["ID1444","Analysts","North America",75000,{"$f":"VLOOKUP(I1411,Calc!$I$35:$J$39,2,FALSE)","v":2.5},1.5,"USA","Business Analyst","2 to 3 hours per day"]
["ID1445","Analysts","North America",102000,{"$f":"VLOOKUP(I1412,Calc!$I$35:$J$39,2,FALSE)","v":5},5,"USA","Sales Analyst","4 to 6 hours a day"]
["ID1446","Managers","Asia",19008.034062397041,{"$f":"VLOOKUP(I1413,Calc!$I$35:$J$39,2,FALSE)","v":5},3,"Malaysia","Liquidity Management Executive","4 to 6 hours a day"]
["ID1447","Analysts","Asia",4356,{"$f":"VLOOKUP(I1414,Calc!$I$35:$J$39,2,FALSE)","v":5},5,"India","Business Analyst","4 to 6 hours a day"]
["ID1448","Accountants","Asia",5342.3750062327708,{"$f":"VLOOKUP(I1415,Calc!$I$35:$J$39,2,FALSE)","v":5},4,"India","accountant","4 to 6 hours a day"]
["ID1449","Managers","North America",67000,{"$f":"VLOOKUP(I1416,Calc!$I$35:$J$39,2,FALSE)","v":2.5},20,"USA","accounting systems manager ","2 to 3 hours per day"]
["ID1450","Analysts","Asia",8547.8000099724322,{"$f":"VLOOKUP(I1417,Calc!$I$35:$J$39,2,FALSE)","v":5},7,"India","Performance Analyst","4 to 6 hours a day"]
["ID1451","Analysts","Asia",16027.125018698311,{"$f":"VLOOKUP(I1418,Calc!$I$35:$J$39,2,FALSE)","v":5},4,"India","Data Analyst","4 to 6 hours a day"]
["ID1452","Consultants","Asia",10684.750012465542,{"$f":"VLOOKUP(I1419,Calc!$I$35:$J$39,2,FALSE)","v":2.5},36,"India","consultant","2 to 3 hours per day"]
["ID1453","Accountants","Middle East",30000,{"$f":"VLOOKUP(I1420,Calc!$I$35:$J$39,2,FALSE)","v":5},8,"UAE","Accounting Specialist","4 to 6 hours a day"]
["ID1454","Managers","Asia",8903.9583437212841,{"$f":"VLOOKUP(I1421,Calc!$I$35:$J$39,2,FALSE)","v":2.5},0,"India","Project Management","2 to 3 hours per day"]
["ID1455","Managers","Asia",20000,{"$f":"VLOOKUP(I1422,Calc!$I$35:$J$39,2,FALSE)","v":0},10,"India","manager","Excel ?!? What Excel?"]
["ID1456","Analysts","Oceana",87712.230450626681,{"$f":"VLOOKUP(I1423,Calc!$I$35:$J$39,2,FALSE)","v":5},10,"Australia","data analyst","4 to 6 hours a day"]
["ID1457","Managers","Asia",17807.916687442568,{"$f":"VLOOKUP(I1424,Calc!$I$35:$J$39,2,FALSE)","v":8},6,"India","project management","All the 8 hours baby, all the 8!"]
["ID1458","Analysts","Asia",41000,{"$f":"VLOOKUP(I1425,Calc!$I$35:$J$39,2,FALSE)","v":2.5},2,"Japan","Marketing Analyst","2 to 3 hours per day"]
["ID1459","Managers","North America",60000,{"$f":"VLOOKUP(I1426,Calc!$I$35:$J$39,2,FALSE)","v":2.5},4,"USA","Business Intelligence Supervisor","2 to 3 hours per day"]
["ID1460","Analysts","Africa",32187.34988380854,{"$f":"VLOOKUP(I1427,Calc!$I$35:$J$39,2,FALSE)","v":8},2,"South Africa","Analyst","All the 8 hours baby, all the 8!"]
["ID1461","Engineers","Oceana",39879.404680246938,{"$f":"VLOOKUP(I1428,Calc!$I$35:$J$39,2,FALSE)","v":5},5,"New Zealand","stress engineer","4 to 6 hours a day"]
["ID1462","Analysts","Asia",5698.5333399816218,{"$f":"VLOOKUP(I1429,Calc!$I$35:$J$39,2,FALSE)","v":2.5},2,"India","Analyst","2 to 3 hours per day"]
["ID1463","Managers","Asia",7123.1666749770275,{"$f":"VLOOKUP(I1430,Calc!$I$35:$J$39,2,FALSE)","v":5},6,"India","Reporting Manager","4 to 6 hours a day"]
["ID1464","Managers","Asia",4451.9791718606421,{"$f":"VLOOKUP(I1431,Calc!$I$35:$J$39,2,FALSE)","v":2.5},15,"India","Manager Commercial","2 to 3 hours per day"]
["ID1465","Analysts","Asia",6410.8500074793246,{"$f":"VLOOKUP(I1432,Calc!$I$35:$J$39,2,FALSE)","v":2.5},6,"India","analyst","2 to 3 hours per day"]
["ID1466","Managers","Asia",20479.104190558952,{"$f":"VLOOKUP(I1433,Calc!$I$35:$J$39,2,FALSE)","v":8},12,"India","Project Manager","All the 8 hours baby, all the 8!"]
["ID1467","Analysts","Asia",11040.908346214392,{"$f":"VLOOKUP(I1434,Calc!$I$35:$J$39,2,FALSE)","v":1.5},5,"India","Catalog Auditor","1 or 2 hours a day"]
["ID1468","Specialists","Asia",17807.916687442568,{"$f":"VLOOKUP(I1435,Calc!$I$35:$J$39,2,FALSE)","v":2.5},7,"India","Marketing Specialist","2 to 3 hours per day"]
["ID1469","Analysts","Asia",3561.5833374885137,{"$f":"VLOOKUP(I1436,Calc!$I$35:$J$39,2,FALSE)","v":5},11,"India","Executive","4 to 6 hours a day"]
["ID1470","Analysts","Europe",26795.030625143831,{"$f":"VLOOKUP(I1437,Calc!$I$35:$J$39,2,FALSE)","v":2.5},5,"UK","Verification Agent","2 to 3 hours per day"]
["ID1471","Managers","Asia",20400,{"$f":"VLOOKUP(I1438,Calc!$I$35:$J$39,2,FALSE)","v":1.5},10,"Myanmar","M & E Officer","1 or 2 hours a day"]
["ID1472","Accountants","Europe",39404.456801682099,{"$f":"VLOOKUP(I1439,Calc!$I$35:$J$39,2,FALSE)","v":5},35,"UK","Assistant Financial Accountant","4 to 6 hours a day"]
["ID1473","Analysts","Europe",149907.13380100971,{"$f":"VLOOKUP(I1440,Calc!$I$35:$J$39,2,FALSE)","v":5},7,"Europe","Support","4 to 6 hours a day"]
["ID1474","Analysts","Asia",4095.8208381117906,{"$f":"VLOOKUP(I1441,Calc!$I$35:$J$39,2,FALSE)","v":5},1.6,"India","Process Assocaite","4 to 6 hours a day"]
["ID1475","Accountants","Oceana",127488.70705032947,{"$f":"VLOOKUP(I1442,Calc!$I$35:$J$39,2,FALSE)","v":5},7,"Australia","Financial Application Developer","4 to 6 hours a day"]
["ID1476","Managers","Europe",58318.59606648951,{"$f":"VLOOKUP(I1443,Calc!$I$35:$J$39,2,FALSE)","v":8},20,"UK","Planning & Scheduling Manager","All the 8 hours baby, all the 8!"]
["ID1477","Controllers","Africa",9509.8988293070688,{"$f":"VLOOKUP(I1444,Calc!$I$35:$J$39,2,FALSE)","v":5},2,"South Africa","Online Stats Controller","4 to 6 hours a day"]
["ID1478","Analysts","Asia",12821.700014958649,{"$f":"VLOOKUP(I1445,Calc!$I$35:$J$39,2,FALSE)","v":5},3,"India","DEO","4 to 6 hours a day"]
["ID1479","Analysts","Asia",4000,{"$f":"VLOOKUP(I1446,Calc!$I$35:$J$39,2,FALSE)","v":8},6,"India","M I S Executive","All the 8 hours baby, all the 8!"]
["ID1480","Analysts","North America",42000,{"$f":"VLOOKUP(I1447,Calc!$I$35:$J$39,2,FALSE)","v":8},2,"USA","Service Solution Rep","All the 8 hours baby, all the 8!"]
["ID1481","Managers","Asia",3200,{"$f":"VLOOKUP(I1448,Calc!$I$35:$J$39,2,FALSE)","v":8},19,"India","Regional Business Manager ","All the 8 hours baby, all the 8!"]
["ID1482","Analysts","Europe",60000,{"$f":"VLOOKUP(I1449,Calc!$I$35:$J$39,2,FALSE)","v":2.5},10,"Turkey","sales&marketing","2 to 3 hours per day"]
["ID1483","Analysts","North America",85000,{"$f":"VLOOKUP(I1450,Calc!$I$35:$J$39,2,FALSE)","v":5},9,"USA","sr analyst","4 to 6 hours a day"]
["ID1484","Managers","North America",109000,{"$f":"VLOOKUP(I1451,Calc!$I$35:$J$39,2,FALSE)","v":5},15,"USA","Mgr Technology","4 to 6 hours a day"]
["ID1485","Analysts","Europe",76223.966339496474,{"$f":"VLOOKUP(I1452,Calc!$I$35:$J$39,2,FALSE)","v":8},14,"Italy","Sales Analyst","All the 8 hours baby, all the 8!"]
["ID1486","Engineers","North America",77000,{"$f":"VLOOKUP(I1453,Calc!$I$35:$J$39,2,FALSE)","v":2.5},13,"USA","Chemical Engineer","2 to 3 hours per day"]
["ID1487","Analysts","Asia",25000,{"$f":"VLOOKUP(I1454,Calc!$I$35:$J$39,2,FALSE)","v":8},4,"India","data analyst","All the 8 hours baby, all the 8!"]
["ID1488","Managers","North America",64000,{"$f":"VLOOKUP(I1455,Calc!$I$35:$J$39,2,FALSE)","v":2.5},12,"USA","Program Manager","2 to 3 hours per day"]
["ID1489","Engineers","Europe",231119.74856804207,{"$f":"VLOOKUP(I1456,Calc!$I$35:$J$39,2,FALSE)","v":2.5},10,"UK","Senior Planning Engineer","2 to 3 hours per day"]
["ID1490","Analysts","North America",76000,{"$f":"VLOOKUP(I1457,Calc!$I$35:$J$39,2,FALSE)","v":8},10,"USA","Sr. Analyst","All the 8 hours baby, all the 8!"]
["ID1491","Analysts","Europe",15761.782720672842,{"$f":"VLOOKUP(I1458,Calc!$I$35:$J$39,2,FALSE)","v":2.5},8,"UK","Analyst","2 to 3 hours per day"]
["ID1492","Engineers","Oceana",168285.09330643489,{"$f":"VLOOKUP(I1459,Calc!$I$35:$J$39,2,FALSE)","v":2.5},17,"Australia","Engineer","2 to 3 hours per day"]
["ID1493","Analysts","Middle East",50000,{"$f":"VLOOKUP(I1460,Calc!$I$35:$J$39,2,FALSE)","v":5},13,"Kuwait","Sr. Financial Analyst","4 to 6 hours a day"]
["ID1494","Controllers","South America",7200,{"$f":"VLOOKUP(I1461,Calc!$I$35:$J$39,2,FALSE)","v":5},8,"Colombia","control process auxiliary","4 to 6 hours a day"]
["ID1495","Consultants","Europe",53356.776437647524,{"$f":"VLOOKUP(I1462,Calc!$I$35:$J$39,2,FALSE)","v":8},7,"Germany","Business Intelligence Consultant","All the 8 hours baby, all the 8!"]
["ID1496","Specialists","North America",45000,{"$f":"VLOOKUP(I1463,Calc!$I$35:$J$39,2,FALSE)","v":2.5},10,"USA","Data Specialist","2 to 3 hours per day"]
["ID1497","Managers","Asia",5000,{"$f":"VLOOKUP(I1464,Calc!$I$35:$J$39,2,FALSE)","v":8},4,"India","Officer MIS","All the 8 hours baby, all the 8!"]
["ID1498","Analysts","Oceana",75473.31457379504,{"$f":"VLOOKUP(I1465,Calc!$I$35:$J$39,2,FALSE)","v":8},20,"Australia","operations Administrator","All the 8 hours baby, all the 8!"]
["ID1499","Managers","Europe",15000,{"$f":"VLOOKUP(I1466,Calc!$I$35:$J$39,2,FALSE)","v":2.5},5,"Romania","Manager","2 to 3 hours per day"]
["ID1500","Controllers","Europe",42558.381206218859,{"$f":"VLOOKUP(I1467,Calc!$I$35:$J$39,2,FALSE)","v":8},8,"Germany","Controller / VBA Developet","All the 8 hours baby, all the 8!"]
["ID1501","Analysts","North America",61000,{"$f":"VLOOKUP(I1468,Calc!$I$35:$J$39,2,FALSE)","v":5},5,"USA","Financial Analyst","4 to 6 hours a day"]
["ID1502","Analysts","North America",66000,{"$f":"VLOOKUP(I1469,Calc!$I$35:$J$39,2,FALSE)","v":5},2,"USA","Director of Business Analytics","4 to 6 hours a day"]
["ID1503","Reporting","Asia",4950.6008391090336,{"$f":"VLOOKUP(I1470,Calc!$I$35:$J$39,2,FALSE)","v":8},8,"India","MIS Executive","All the 8 hours baby, all the 8!"]
["ID1504","Managers","North America",55000,{"$f":"VLOOKUP(I1471,Calc!$I$35:$J$39,2,FALSE)","v":2.5},14,"USA","Supplier Manager","2 to 3 hours per day"]
["ID1505","Reporting","North America",32000,{"$f":"VLOOKUP(I1472,Calc!$I$35:$J$39,2,FALSE)","v":5},10,"USA","Reports Writer","4 to 6 hours a day"]
["ID1506","Analysts","Asia",18000,{"$f":"VLOOKUP(I1473,Calc!$I$35:$J$39,2,FALSE)","v":8},6,"India","Process Associate","All the 8 hours baby, all the 8!"]
["ID1507","Analysts","Asia",11575.14584683767,{"$f":"VLOOKUP(I1474,Calc!$I$35:$J$39,2,FALSE)","v":5},21,"India","HR/ADMINISTRATION","4 to 6 hours a day"]
["ID1508","Accountants","Europe",63519.971949580387,{"$f":"VLOOKUP(I1475,Calc!$I$35:$J$39,2,FALSE)","v":8},15,"Italy","accountant","All the 8 hours baby, all the 8!"]
["ID1509","Specialists","Asia",71231.666749770273,{"$f":"VLOOKUP(I1476,Calc!$I$35:$J$39,2,FALSE)","v":8},5,"India","Operational Specialist","All the 8 hours baby, all the 8!"]
["ID1510","Analysts","South America",10000,{"$f":"VLOOKUP(I1477,Calc!$I$35:$J$39,2,FALSE)","v":5},1,"Brazil","Trainee","4 to 6 hours a day"]
["ID1511","Analysts","North America",74300,{"$f":"VLOOKUP(I1478,Calc!$I$35:$J$39,2,FALSE)","v":5},3,"USA","Senior Business Research Analyst","4 to 6 hours a day"]
["ID1512","Consultants","Asia",26711.875031163851,{"$f":"VLOOKUP(I1479,Calc!$I$35:$J$39,2,FALSE)","v":5},10,"India","Senior Consultant - PMO","4 to 6 hours a day"]
["ID1513","Managers","Asia",9545.0433444692171,{"$f":"VLOOKUP(I1480,Calc!$I$35:$J$39,2,FALSE)","v":5},4,"India","Team Lead","4 to 6 hours a day"]
["ID1514","Analysts","North America",95000,{"$f":"VLOOKUP(I1481,Calc!$I$35:$J$39,2,FALSE)","v":5},15,"USA","Sr Financial Analyst","4 to 6 hours a day"]
["ID1515","Accountants","North America",64300,{"$f":"VLOOKUP(I1482,Calc!$I$35:$J$39,2,FALSE)","v":5},15,"USA","Financial Analst","4 to 6 hours a day"]
["ID1516","Consultants","North America",250000,{"$f":"VLOOKUP(I1483,Calc!$I$35:$J$39,2,FALSE)","v":8},20,"USA","consultant","All the 8 hours baby, all the 8!"]
["ID1519","Managers","North America",89000,{"$f":"VLOOKUP(I1484,Calc!$I$35:$J$39,2,FALSE)","v":2.5},10,"USA","Finance Manager","2 to 3 hours per day"]
["ID1520","Analysts","North America",75000,{"$f":"VLOOKUP(I1485,Calc!$I$35:$J$39,2,FALSE)","v":8},1.5,"USA","Financial Analyst","All the 8 hours baby, all the 8!"]
["ID1521","Analysts","North America",45000,{"$f":"VLOOKUP(I1486,Calc!$I$35:$J$39,2,FALSE)","v":8},5,"USA","Excel Business Analyst","All the 8 hours baby, all the 8!"]
["ID1522","Top Mgmt","North America",127500,{"$f":"VLOOKUP(I1487,Calc!$I$35:$J$39,2,FALSE)","v":8},22,"USA","SVP","All the 8 hours baby, all the 8!"]
["ID1523","Top Mgmt","North America",170000,{"$f":"VLOOKUP(I1488,Calc!$I$35:$J$39,2,FALSE)","v":2.5},18,"USA","CFO","2 to 3 hours per day"]
["ID1524","Analysts","South America",9600,{"$f":"VLOOKUP(I1489,Calc!$I$35:$J$39,2,FALSE)","v":8},2,"Bolivia","Reporting Analyst","All the 8 hours baby, all the 8!"]
["ID1525","Analysts","North America",62000,{"$f":"VLOOKUP(I1490,Calc!$I$35:$J$39,2,FALSE)","v":8},27,"USA","info analyst","All the 8 hours baby, all the 8!"]
["ID1526","Managers","North America",22000,{"$f":"VLOOKUP(I1491,Calc!$I$35:$J$39,2,FALSE)","v":5},3,"USA","Data Manager","4 to 6 hours a day"]
["ID1527","Analysts","North America",45000,{"$f":"VLOOKUP(I1492,Calc!$I$35:$J$39,2,FALSE)","v":5},8,"USA","Business Analyst","4 to 6 hours a day"]
["ID1528","Analysts","North America",145000,{"$f":"VLOOKUP(I1493,Calc!$I$35:$J$39,2,FALSE)","v":5},6,"USA","Associate","4 to 6 hours a day"]
["ID1529","Analysts","North America",89000,{"$f":"VLOOKUP(I1494,Calc!$I$35:$J$39,2,FALSE)","v":8},14,"USA","BI Analyst","All the 8 hours baby, all the 8!"]
["ID1530","Accountants","North America",38000,{"$f":"VLOOKUP(I1495,Calc!$I$35:$J$39,2,FALSE)","v":5},11,"USA","Accountant","4 to 6 hours a day"]
["ID1531","Analysts","North America",49168.076151516347,{"$f":"VLOOKUP(I1496,Calc!$I$35:$J$39,2,FALSE)","v":5},3,"Canada","Business Analyst","4 to 6 hours a day"]
["ID1532","Analysts","Asia",8903.9583437212841,{"$f":"VLOOKUP(I1497,Calc!$I$35:$J$39,2,FALSE)","v":5},8,"India","Developer","4 to 6 hours a day"]
["ID1533","Managers","Asia",10000,{"$f":"VLOOKUP(I1498,Calc!$I$35:$J$39,2,FALSE)","v":2.5},8,"Vietnam","Project management","2 to 3 hours per day"]
["ID1534","Managers","North America",105000,{"$f":"VLOOKUP(I1499,Calc!$I$35:$J$39,2,FALSE)","v":1.5},30,"USA","Business Banker","1 or 2 hours a day"]
["ID1535","Analysts","Asia",12000,{"$f":"VLOOKUP(I1500,Calc!$I$35:$J$39,2,FALSE)","v":2.5},0,"MYS","Associate Analyst","2 to 3 hours per day"]
["ID1536","Accountants","Asia",3561.5833374885137,{"$f":"VLOOKUP(I1501,Calc!$I$35:$J$39,2,FALSE)","v":8},3,"India","Accounts Executive","All the 8 hours baby, all the 8!"]
["ID1537","Analysts","Oceana",86692.320794224041,{"$f":"VLOOKUP(I1502,Calc!$I$35:$J$39,2,FALSE)","v":1.5},5,"Australia","Demand Planner","1 or 2 hours a day"]
["ID1539","Top Mgmt","Asia",8000,{"$f":"VLOOKUP(I1503,Calc!$I$35:$J$39,2,FALSE)","v":5},18,"India","Owner","4 to 6 hours a day"]
["ID1540","Analysts","Asia",6767.0083412281756,{"$f":"VLOOKUP(I1504,Calc!$I$35:$J$39,2,FALSE)","v":2.5},6,"India","reporting analyst","2 to 3 hours per day"]
["ID1541","Consultants","Europe",48073.437298052166,{"$f":"VLOOKUP(I1505,Calc!$I$35:$J$39,2,FALSE)","v":5},14,"UK","Construction Estimator","4 to 6 hours a day"]
["ID1542","Managers","Europe",76223.966339496474,{"$f":"VLOOKUP(I1506,Calc!$I$35:$J$39,2,FALSE)","v":2.5},15,"Netherlands","Trade Marketing","2 to 3 hours per day"]
["ID1543","Managers","Middle East",85333.333333333328,{"$f":"VLOOKUP(I1507,Calc!$I$35:$J$39,2,FALSE)","v":2.5},15,"Saudi Arabia","Merchandise Planning Manager","2 to 3 hours per day"]
["ID1544","Managers","Europe",76223.981237173866,{"$f":"VLOOKUP(I1508,Calc!$I$35:$J$39,2,FALSE)","v":8},8,"UK","pricing manager","All the 8 hours baby, all the 8!"]
["ID1545","Managers","Asia",30000,{"$f":"VLOOKUP(I1509,Calc!$I$35:$J$39,2,FALSE)","v":5},5,"Pakistan","Marketing Services Manager","4 to 6 hours a day"]
["ID1546","Analysts","Asia",34000,{"$f":"VLOOKUP(I1510,Calc!$I$35:$J$39,2,FALSE)","v":8},4,"India","Sr Analyst","All the 8 hours baby, all the 8!"]
["ID1547","Managers","Asia",3205.4250037396623,{"$f":"VLOOKUP(I1511,Calc!$I$35:$J$39,2,FALSE)","v":5},5,"India","Asst Store Manager","4 to 6 hours a day"]
["ID1548","Managers","Europe",45000,{"$f":"VLOOKUP(I1512,Calc!$I$35:$J$39,2,FALSE)","v":2.5},5,"Germany","Junior Reporting Manager","2 to 3 hours per day"]
["ID1549","Managers","Africa",24864,{"$f":"VLOOKUP(I1513,Calc!$I$35:$J$39,2,FALSE)","v":8},8,"Libya","Brand manager","All the 8 hours baby, all the 8!"]
["ID1550","Analysts","Europe",47285.348162018527,{"$f":"VLOOKUP(I1514,Calc!$I$35:$J$39,2,FALSE)","v":5},7,"UK","Cost Analyst","4 to 6 hours a day"]
["ID1551","Analysts","Asia",17807.916687442568,{"$f":"VLOOKUP(I1515,Calc!$I$35:$J$39,2,FALSE)","v":8},10,"India","Financial analyst","All the 8 hours baby, all the 8!"]
["ID1552","Analysts","Europe",55166.239522354947,{"$f":"VLOOKUP(I1516,Calc!$I$35:$J$39,2,FALSE)","v":5},3,"UK","Research Analyst","4 to 6 hours a day"]
["ID1553","Managers","Europe",69871.969144538423,{"$f":"VLOOKUP(I1517,Calc!$I$35:$J$39,2,FALSE)","v":1.5},5,"Netherlands","Risk Officer","1 or 2 hours a day"]
["ID1554","Analysts","North America",70970,{"$f":"VLOOKUP(I1518,Calc!$I$35:$J$39,2,FALSE)","v":5},17,"USA","Sr. Risk Analyst","4 to 6 hours a day"]
["ID1555","Engineers","Europe",76223.966339496474,{"$f":"VLOOKUP(I1519,Calc!$I$35:$J$39,2,FALSE)","v":5},7,"Netherlands","Business Engineer","4 to 6 hours a day"]
["ID1556","Controllers","Europe",110000,{"$f":"VLOOKUP(I1520,Calc!$I$35:$J$39,2,FALSE)","v":8},5,"Norway","Business Controller","All the 8 hours baby, all the 8!"]
["ID1557","Analysts","Europe",14400,{"$f":"VLOOKUP(I1521,Calc!$I$35:$J$39,2,FALSE)","v":8},15,"Bulgaria","FA /financial Analyst","All the 8 hours baby, all the 8!"]
["ID1558","Consultants","North America",125000,{"$f":"VLOOKUP(I1522,Calc!$I$35:$J$39,2,FALSE)","v":8},8,"USA","Consultant","All the 8 hours baby, all the 8!"]
["ID1559","Analysts","North America",72768.752704244194,{"$f":"VLOOKUP(I1523,Calc!$I$35:$J$39,2,FALSE)","v":5},10,"Canada","Operations Analyst","4 to 6 hours a day"]
["ID1560","Managers","North America",59000,{"$f":"VLOOKUP(I1524,Calc!$I$35:$J$39,2,FALSE)","v":5},15,"USA","Operations Manager","4 to 6 hours a day"]
["ID1561","Analysts","North America",71500,{"$f":"VLOOKUP(I1525,Calc!$I$35:$J$39,2,FALSE)","v":5},5,"USA","Management Reporting Analyst","4 to 6 hours a day"]
["ID1562","Reporting","Europe",39404.456801682099,{"$f":"VLOOKUP(I1526,Calc!$I$35:$J$39,2,FALSE)","v":5},2,"UK","Reporting Team Lead","4 to 6 hours a day"]
["ID1563","Specialists","Europe",88927.960729412545,{"$f":"VLOOKUP(I1527,Calc!$I$35:$J$39,2,FALSE)","v":1.5},5,"Germany","Specialist Learning Technology","1 or 2 hours a day"]
["ID1564","Managers","North America",90000,{"$f":"VLOOKUP(I1528,Calc!$I$35:$J$39,2,FALSE)","v":5},25,"USA","Operationsl Regional Manager","4 to 6 hours a day"]
["ID1565","Managers","Asia",12465.541681209797,{"$f":"VLOOKUP(I1529,Calc!$I$35:$J$39,2,FALSE)","v":8},30,"India","Manager - Business Development","All the 8 hours baby, all the 8!"]
["ID1566","Analysts","North America",40000,{"$f":"VLOOKUP(I1530,Calc!$I$35:$J$39,2,FALSE)","v":5},8,"USA","QA Data Analyst","4 to 6 hours a day"]
["ID1567","Analysts","Asia",30000,{"$f":"VLOOKUP(I1531,Calc!$I$35:$J$39,2,FALSE)","v":8},4,"India","SME","All the 8 hours baby, all the 8!"]
["ID1569","Controllers","North America",46325,{"$f":"VLOOKUP(I1532,Calc!$I$35:$J$39,2,FALSE)","v":5},1,"USA","Work Force Scheduler for Call Center","4 to 6 hours a day"]
["ID1570","Analysts","North America",15000,{"$f":"VLOOKUP(I1533,Calc!$I$35:$J$39,2,FALSE)","v":8},8,"USA","Application Developer","All the 8 hours baby, all the 8!"]
["ID1571","Analysts","North America",31200,{"$f":"VLOOKUP(I1534,Calc!$I$35:$J$39,2,FALSE)","v":5},15,"USA","Data Analyst","4 to 6 hours a day"]
["ID1572","Analysts","Asia",8903.9583437212841,{"$f":"VLOOKUP(I1535,Calc!$I$35:$J$39,2,FALSE)","v":5},9,"India","Sr. Associate","4 to 6 hours a day"]
["ID1573","Analysts","South America",15840,{"$f":"VLOOKUP(I1536,Calc!$I$35:$J$39,2,FALSE)","v":8},8,"Peru","Asistente","All the 8 hours baby, all the 8!"]
["ID1574","Analysts","Asia",15136.729184326183,{"$f":"VLOOKUP(I1537,Calc!$I$35:$J$39,2,FALSE)","v":5},5,"India","Sr Business analyst","4 to 6 hours a day"]
["ID1575","Consultants","North America",41000,{"$f":"VLOOKUP(I1538,Calc!$I$35:$J$39,2,FALSE)","v":5},10,"USA","Excel Developer","4 to 6 hours a day"]
["ID1576","Managers","South America",11000,{"$f":"VLOOKUP(I1539,Calc!$I$35:$J$39,2,FALSE)","v":5},2,"Mexico","Coordinator","4 to 6 hours a day"]
["ID1577","Top Mgmt","Europe",55166.239522354947,{"$f":"VLOOKUP(I1540,Calc!$I$35:$J$39,2,FALSE)","v":2.5},30,"UK","finance director","2 to 3 hours per day"]
["ID1578","Managers","Asia",5689.2125418690484,{"$f":"VLOOKUP(I1541,Calc!$I$35:$J$39,2,FALSE)","v":5},15,"Philippines","IT Coordinator","4 to 6 hours a day"]
["ID1579","Analysts","South America",17728,{"$f":"VLOOKUP(I1542,Calc!$I$35:$J$39,2,FALSE)","v":5},3,"Mexico","Financial analyst","4 to 6 hours a day"]
["ID1580","Controllers","Africa",13745.704467353951,{"$f":"VLOOKUP(I1543,Calc!$I$35:$J$39,2,FALSE)","v":8},8,"Morocco","Supply chain Controller","All the 8 hours baby, all the 8!"]
["ID1581","Accountants","North America",50000,{"$f":"VLOOKUP(I1544,Calc!$I$35:$J$39,2,FALSE)","v":5},15,"USA","Staff Accountant","4 to 6 hours a day"]
["ID1582","Analysts","North America",78668.921842426149,{"$f":"VLOOKUP(I1545,Calc!$I$35:$J$39,2,FALSE)","v":5},7,"Canada","Business Operations Analyst","4 to 6 hours a day"]
["ID1583","Reporting","North America",85000,{"$f":"VLOOKUP(I1546,Calc!$I$35:$J$39,2,FALSE)","v":5},10,"USA","Sr Report Developer","4 to 6 hours a day"]
["ID1584","Managers","Oceana",101990.96564026357,{"$f":"VLOOKUP(I1547,Calc!$I$35:$J$39,2,FALSE)","v":5},20,"Australia","Management Accountant","4 to 6 hours a day"]
["ID1585","Reporting","Asia",100614.72928405051,{"$f":"VLOOKUP(I1548,Calc!$I$35:$J$39,2,FALSE)","v":2.5},6,"India","MIS","2 to 3 hours per day"]
["ID1586","Analysts","Oceana",86692.320794224041,{"$f":"VLOOKUP(I1549,Calc!$I$35:$J$39,2,FALSE)","v":5},30,"Australia","Administrator","4 to 6 hours a day"]
["ID1587","Analysts","Oceana",122389.15876831629,{"$f":"VLOOKUP(I1550,Calc!$I$35:$J$39,2,FALSE)","v":2.5},5,"Australia","Reporting Analyst","2 to 3 hours per day"]
["ID1588","Managers","Asia",6410.8500074793246,{"$f":"VLOOKUP(I1551,Calc!$I$35:$J$39,2,FALSE)","v":2.5},8,"India","team leader ","2 to 3 hours per day"]
["ID1589","Analysts","North America",44000,{"$f":"VLOOKUP(I1552,Calc!$I$35:$J$39,2,FALSE)","v":5},3.5,"USA","Quality Assurance Analyst","4 to 6 hours a day"]
["ID1590","Engineers","Asia",4451.9791718606421,{"$f":"VLOOKUP(I1553,Calc!$I$35:$J$39,2,FALSE)","v":5},2.5,"India","Analytics engineer","4 to 6 hours a day"]
["ID1591","Analysts","Asia",4500,{"$f":"VLOOKUP(I1554,Calc!$I$35:$J$39,2,FALSE)","v":5},6,"Pakistan","Assistant Manger Service Quality Assurance","4 to 6 hours a day"]
["ID1592","Top Mgmt","Asia",30273.458368652366,{"$f":"VLOOKUP(I1555,Calc!$I$35:$J$39,2,FALSE)","v":5},6,"India","AVP","4 to 6 hours a day"]
["ID1593","Analysts","North America",52000,{"$f":"VLOOKUP(I1556,Calc!$I$35:$J$39,2,FALSE)","v":8},5,"USA","Planner","All the 8 hours baby, all the 8!"]
["ID1594","Consultants","Europe",75000,{"$f":"VLOOKUP(I1557,Calc!$I$35:$J$39,2,FALSE)","v":2.5},9,"Germany","Consultant","2 to 3 hours per day"]
["ID1595","Analysts","Asia",17807.916687442568,{"$f":"VLOOKUP(I1558,Calc!$I$35:$J$39,2,FALSE)","v":8},4,"India","Senior Analyst","All the 8 hours baby, all the 8!"]
["ID1596","Accountants","Africa",177600,{"$f":"VLOOKUP(I1559,Calc!$I$35:$J$39,2,FALSE)","v":5},6,"Lesotho","Accountant","4 to 6 hours a day"]
["ID1597","Analysts","Asia",11575.14584683767,{"$f":"VLOOKUP(I1560,Calc!$I$35:$J$39,2,FALSE)","v":5},5,"India","Associate","4 to 6 hours a day"]
["ID1598","Managers","Europe",26678.388218823762,{"$f":"VLOOKUP(I1561,Calc!$I$35:$J$39,2,FALSE)","v":5},10,"Portugal","Coordenador PeÃ§as Grupo","4 to 6 hours a day"]
["ID1600","Consultants","Europe",126094.26176538273,{"$f":"VLOOKUP(I1562,Calc!$I$35:$J$39,2,FALSE)","v":5},12,"UK","Owner of Business Improvement Consultancy","4 to 6 hours a day"]
["ID1601","Analysts","Asia",6000,{"$f":"VLOOKUP(I1563,Calc!$I$35:$J$39,2,FALSE)","v":5},2,"India","Business Analyst","4 to 6 hours a day"]
["ID1602","Reporting","Asia",10000,{"$f":"VLOOKUP(I1564,Calc!$I$35:$J$39,2,FALSE)","v":8},6,"India","MIS","All the 8 hours baby, all the 8!"]
["ID1603","Analysts","North America",50000,{"$f":"VLOOKUP(I1565,Calc!$I$35:$J$39,2,FALSE)","v":8},2,"USA","Sales Operations Analyst","All the 8 hours baby, all the 8!"]
["ID1604","Managers","Asia",10000,{"$f":"VLOOKUP(I1566,Calc!$I$35:$J$39,2,FALSE)","v":8},12,"India","dgm","All the 8 hours baby, all the 8!"]
["ID1605","Analysts","North America",50000,{"$f":"VLOOKUP(I1567,Calc!$I$35:$J$39,2,FALSE)","v":8},12,"USA","Catalog Circulation Analyst","All the 8 hours baby, all the 8!"]
["ID1606","Managers","Asia",20000,{"$f":"VLOOKUP(I1568,Calc!$I$35:$J$39,2,FALSE)","v":5},1,"India","Manager","4 to 6 hours a day"]
["ID1607","Analysts","Europe",31523.565441345683,{"$f":"VLOOKUP(I1569,Calc!$I$35:$J$39,2,FALSE)","v":8},3,"UK","Operations Analyst","All the 8 hours baby, all the 8!"]
["ID1608","Controllers","Europe",63519.971949580387,{"$f":"VLOOKUP(I1570,Calc!$I$35:$J$39,2,FALSE)","v":5},10,"Netherlands","Controller","4 to 6 hours a day"]
["ID1609","Controllers","Europe",35063.024516168378,{"$f":"VLOOKUP(I1571,Calc!$I$35:$J$39,2,FALSE)","v":8},15,"Hungary","controller","All the 8 hours baby, all the 8!"]
["ID1610","Analysts","North America",55000,{"$f":"VLOOKUP(I1572,Calc!$I$35:$J$39,2,FALSE)","v":5},2,"USA","Business Analyst","4 to 6 hours a day"]
["ID1611","Analysts","North America",38000,{"$f":"VLOOKUP(I1573,Calc!$I$35:$J$39,2,FALSE)","v":8},1,"USA","Business Analyst","All the 8 hours baby, all the 8!"]
["ID1612","Analysts","Asia",32054.250037396621,{"$f":"VLOOKUP(I1574,Calc!$I$35:$J$39,2,FALSE)","v":8},1,"India","analyst","All the 8 hours baby, all the 8!"]
["ID1613","Analysts","North America",35500,{"$f":"VLOOKUP(I1575,Calc!$I$35:$J$39,2,FALSE)","v":5},20,"USA","SAS Adminstrator","4 to 6 hours a day"]
["ID1614","Analysts","North America",62000,{"$f":"VLOOKUP(I1576,Calc!$I$35:$J$39,2,FALSE)","v":2.5},5,"USA","Financial Analyst","2 to 3 hours per day"]
["ID1615","Analysts","Europe",33887.832849446611,{"$f":"VLOOKUP(I1577,Calc!$I$35:$J$39,2,FALSE)","v":8},1,"UK","Data Analyst","All the 8 hours baby, all the 8!"]
["ID1616","Analysts","North America",60000,{"$f":"VLOOKUP(I1578,Calc!$I$35:$J$39,2,FALSE)","v":2.5},1,"USA","Data Analyst","2 to 3 hours per day"]
["ID1617","Analysts","North America",32884,{"$f":"VLOOKUP(I1579,Calc!$I$35:$J$39,2,FALSE)","v":8},10,"USA","Administrative Assistant","All the 8 hours baby, all the 8!"]
["ID1618","Analysts","North America",42000,{"$f":"VLOOKUP(I1580,Calc!$I$35:$J$39,2,FALSE)","v":5},2,"USA","production clerk","4 to 6 hours a day"]
["ID1619","Analysts","North America",68000,{"$f":"VLOOKUP(I1581,Calc!$I$35:$J$39,2,FALSE)","v":5},12,"USA","Supply Chain Analyst","4 to 6 hours a day"]
["ID1620","Accountants","North America",85000,{"$f":"VLOOKUP(I1582,Calc!$I$35:$J$39,2,FALSE)","v":2.5},8,"USA","Senior Accountant","2 to 3 hours per day"]
["ID1621","Analysts","South America",13000,{"$f":"VLOOKUP(I1583,Calc!$I$35:$J$39,2,FALSE)","v":8},4,"Brazil","Dss Analyst","All the 8 hours baby, all the 8!"]
["ID1623","Analysts","Asia",15000,{"$f":"VLOOKUP(I1584,Calc!$I$35:$J$39,2,FALSE)","v":5},5,"India","Business Analysis & MIS ","4 to 6 hours a day"]
["ID1624","Top Mgmt","Asia",50000,{"$f":"VLOOKUP(I1585,Calc!$I$35:$J$39,2,FALSE)","v":1.5},8,"India","Associate Vice President","1 or 2 hours a day"]
["ID1625","Reporting","Asia",7000,{"$f":"VLOOKUP(I1586,Calc!$I$35:$J$39,2,FALSE)","v":5},1,"India","M.I.S","4 to 6 hours a day"]
["ID1626","Managers","North America",140000,{"$f":"VLOOKUP(I1587,Calc!$I$35:$J$39,2,FALSE)","v":5},12,"USA","sr manager","4 to 6 hours a day"]
["ID1627","Analysts","Asia",7123.1666749770275,{"$f":"VLOOKUP(I1588,Calc!$I$35:$J$39,2,FALSE)","v":1.5},2.5,"India","application dev","1 or 2 hours a day"]
["ID1628","Analysts","Europe",58318.59606648951,{"$f":"VLOOKUP(I1589,Calc!$I$35:$J$39,2,FALSE)","v":5},9,"UK","Technical Web Analyst","4 to 6 hours a day"]
["ID1629","Managers","Asia",12109.383347460946,{"$f":"VLOOKUP(I1590,Calc!$I$35:$J$39,2,FALSE)","v":1.5},2,"India","Deputy Manager","1 or 2 hours a day"]
["ID1630","Analysts","North America",55000,{"$f":"VLOOKUP(I1591,Calc!$I$35:$J$39,2,FALSE)","v":5},1,"USA","Supply Chain Analyst","4 to 6 hours a day"]
["ID1631","Managers","Asia",60000,{"$f":"VLOOKUP(I1592,Calc!$I$35:$J$39,2,FALSE)","v":2.5},16,"Indonesia","Head of Business","2 to 3 hours per day"]
["ID1632","Managers","Asia",5698.5333399816218,{"$f":"VLOOKUP(I1593,Calc!$I$35:$J$39,2,FALSE)","v":5},5,"India","senior executive","4 to 6 hours a day"]
["ID1633","Engineers","Africa",9376.2513877177607,{"$f":"VLOOKUP(I1594,Calc!$I$35:$J$39,2,FALSE)","v":5},7,"Mauritius","IT Support Engineer","4 to 6 hours a day"]
["ID1634","Analysts","Europe",94570.696324037053,{"$f":"VLOOKUP(I1595,Calc!$I$35:$J$39,2,FALSE)","v":5},5,"UK","Data Analyst","4 to 6 hours a day"]
["ID1635","Consultants","Asia",36000,{"$f":"VLOOKUP(I1596,Calc!$I$35:$J$39,2,FALSE)","v":5},5,"Azerbaijan","Environmental Adviser","4 to 6 hours a day"]
["ID1636","Managers","Asia",65889.291743537498,{"$f":"VLOOKUP(I1597,Calc!$I$35:$J$39,2,FALSE)","v":8},4,"India","Senior Officer","All the 8 hours baby, all the 8!"]
["ID1637","Analysts","Europe",106000,{"$f":"VLOOKUP(I1598,Calc!$I$35:$J$39,2,FALSE)","v":1.5},7,"Denmark","IT Developer","1 or 2 hours a day"]
["ID1638","Controllers","Europe",82888.5550559455,{"$f":"VLOOKUP(I1599,Calc!$I$35:$J$39,2,FALSE)","v":5},18,"Denmark","Controller","4 to 6 hours a day"]
["ID1639","Analysts","Oceana",59819.107020370408,{"$f":"VLOOKUP(I1600,Calc!$I$35:$J$39,2,FALSE)","v":2.5},10,"New Zealand","business support analyst","2 to 3 hours per day"]
["ID1640","Managers","Asia",6545,{"$f":"VLOOKUP(I1601,Calc!$I$35:$J$39,2,FALSE)","v":8},9,"India","Operations","All the 8 hours baby, all the 8!"]
["ID1641","Managers","Asia",17807.916687442568,{"$f":"VLOOKUP(I1602,Calc!$I$35:$J$39,2,FALSE)","v":2.5},13,"India","Category Manager","2 to 3 hours per day"]
["ID1642","Top Mgmt","North America",54000,{"$f":"VLOOKUP(I1603,Calc!$I$35:$J$39,2,FALSE)","v":5},10,"USA","assistant director of finance","4 to 6 hours a day"]
["ID1643","Consultants","North America",100000,{"$f":"VLOOKUP(I1604,Calc!$I$35:$J$39,2,FALSE)","v":2.5},4,"USA","Consultant","2 to 3 hours per day"]
["ID1644","Analysts","North America",49168.076151516347,{"$f":"VLOOKUP(I1605,Calc!$I$35:$J$39,2,FALSE)","v":5},5,"Canada","Application Developer","4 to 6 hours a day"]
["ID1645","Specialists","Asia",4019,{"$f":"VLOOKUP(I1606,Calc!$I$35:$J$39,2,FALSE)","v":2.5},3,"Philippines","Clinical Intake Specialist","2 to 3 hours per day"]
["ID1646","Analysts","Asia",15000,{"$f":"VLOOKUP(I1607,Calc!$I$35:$J$39,2,FALSE)","v":5},5,"Pakistan","Marketing services","4 to 6 hours a day"]
["ID1647","Analysts","Asia",17807.916687442568,{"$f":"VLOOKUP(I1608,Calc!$I$35:$J$39,2,FALSE)","v":8},4,"India","Senior Associate, Finance","All the 8 hours baby, all the 8!"]
["ID1648","Reporting","Asia",12000,{"$f":"VLOOKUP(I1609,Calc!$I$35:$J$39,2,FALSE)","v":8},3,"India","MIS ","All the 8 hours baby, all the 8!"]
["ID1649","Analysts","Asia",2225.989585930321,{"$f":"VLOOKUP(I1610,Calc!$I$35:$J$39,2,FALSE)","v":2.5},4,"India","No","2 to 3 hours per day"]
["ID1650","Analysts","Asia",86000,{"$f":"VLOOKUP(I1611,Calc!$I$35:$J$39,2,FALSE)","v":8},3,"Philippines","Analyst","All the 8 hours baby, all the 8!"]
["ID1651","Managers","Asia",6054.6916737304728,{"$f":"VLOOKUP(I1612,Calc!$I$35:$J$39,2,FALSE)","v":5},5,"India","Assistant Manager","4 to 6 hours a day"]
["ID1652","Analysts","Asia",3360,{"$f":"VLOOKUP(I1613,Calc!$I$35:$J$39,2,FALSE)","v":1.5},3,"India","service executive","1 or 2 hours a day"]
["ID1653","Top Mgmt","Asia",10000,{"$f":"VLOOKUP(I1614,Calc!$I$35:$J$39,2,FALSE)","v":8},1,"India","ceo","All the 8 hours baby, all the 8!"]
["ID1654","Analysts","North America",70000,{"$f":"VLOOKUP(I1615,Calc!$I$35:$J$39,2,FALSE)","v":5},9,"USA","Sr financial analyst","4 to 6 hours a day"]
["ID1655","Managers","North America",155000,{"$f":"VLOOKUP(I1616,Calc!$I$35:$J$39,2,FALSE)","v":1.5},14,"USA","Consulting Practice Manager","1 or 2 hours a day"]
["ID1656","Top Mgmt","North America",225000,{"$f":"VLOOKUP(I1617,Calc!$I$35:$J$39,2,FALSE)","v":5},15,"USA","SVP of Acquisitions","4 to 6 hours a day"]
["ID1657","Reporting","Asia",10000,{"$f":"VLOOKUP(I1618,Calc!$I$35:$J$39,2,FALSE)","v":8},2,"India","MIS Executive","All the 8 hours baby, all the 8!"]
["ID1658","Analysts","Asia",5342.3750062327708,{"$f":"VLOOKUP(I1619,Calc!$I$35:$J$39,2,FALSE)","v":5},8,"India","Store Inventory","4 to 6 hours a day"]
["ID1659","Consultants","Oceana",85672.4111378214,{"$f":"VLOOKUP(I1620,Calc!$I$35:$J$39,2,FALSE)","v":5},6,"Australia","consultant","4 to 6 hours a day"]
["ID1660","Controllers","Asia",4273.9000049862161,{"$f":"VLOOKUP(I1621,Calc!$I$35:$J$39,2,FALSE)","v":2.5},15,"India","Exicutive TQM","2 to 3 hours per day"]
["ID1661","Managers","Asia",8903.9583437212841,{"$f":"VLOOKUP(I1622,Calc!$I$35:$J$39,2,FALSE)","v":8},20,"India","Team Leader","All the 8 hours baby, all the 8!"]
["ID1662","Managers","Europe",66199.48742682593,{"$f":"VLOOKUP(I1623,Calc!$I$35:$J$39,2,FALSE)","v":5},23,"UK","Management Accountant","4 to 6 hours a day"]
["ID1663","Analysts","Asia",5698.5333399816218,{"$f":"VLOOKUP(I1624,Calc!$I$35:$J$39,2,FALSE)","v":5},2.5,"India","Research Associate","4 to 6 hours a day"]
["ID1664","Managers","Europe",34675.92198548025,{"$f":"VLOOKUP(I1625,Calc!$I$35:$J$39,2,FALSE)","v":5},17,"UK","Supply/Demand Planner","4 to 6 hours a day"]
["ID1665","Reporting","Middle East",31200,{"$f":"VLOOKUP(I1626,Calc!$I$35:$J$39,2,FALSE)","v":8},11,"Israel","Economist","All the 8 hours baby, all the 8!"]
["ID1666","Consultants","North America",55068.245289698301,{"$f":"VLOOKUP(I1627,Calc!$I$35:$J$39,2,FALSE)","v":8},1,"Canada","consultant","All the 8 hours baby, all the 8!"]
["ID1667","Analysts","Europe",13000,{"$f":"VLOOKUP(I1628,Calc!$I$35:$J$39,2,FALSE)","v":8},6,"Slovakia","logistics analyst","All the 8 hours baby, all the 8!"]
["ID1668","Reporting","North America",92000,{"$f":"VLOOKUP(I1629,Calc!$I$35:$J$39,2,FALSE)","v":2.5},12,"USA","BI director","2 to 3 hours per day"]
["ID1669","Managers","North America",85000,{"$f":"VLOOKUP(I1630,Calc!$I$35:$J$39,2,FALSE)","v":8},10,"USA","Sr Manager","All the 8 hours baby, all the 8!"]
["ID1670","Analysts","Africa",11000,{"$f":"VLOOKUP(I1631,Calc!$I$35:$J$39,2,FALSE)","v":5},8,"Tunisia","Dataminer","4 to 6 hours a day"]
["ID1671","Analysts","Europe",38111.983169748237,{"$f":"VLOOKUP(I1632,Calc!$I$35:$J$39,2,FALSE)","v":1.5},12,"Spain","Safety technician","1 or 2 hours a day"]
["ID1672","Analysts","North America",49000,{"$f":"VLOOKUP(I1633,Calc!$I$35:$J$39,2,FALSE)","v":2.5},3,"USA","Marketing Data Analyst","2 to 3 hours per day"]
["ID1673","Managers","North America",59000,{"$f":"VLOOKUP(I1634,Calc!$I$35:$J$39,2,FALSE)","v":1.5},3,"USA","Category Leader","1 or 2 hours a day"]
["ID1674","Analysts","North America",55000,{"$f":"VLOOKUP(I1635,Calc!$I$35:$J$39,2,FALSE)","v":5},15,"USA","Customer Sales Analyst","4 to 6 hours a day"]
["ID1675","Accountants","North America",75000,{"$f":"VLOOKUP(I1636,Calc!$I$35:$J$39,2,FALSE)","v":5},10,"USA","Accountant","4 to 6 hours a day"]
["ID1677","Managers","Europe",50307.817784067665,{"$f":"VLOOKUP(I1637,Calc!$I$35:$J$39,2,FALSE)","v":1.5},5,"Europe","Maintenance Manager","1 or 2 hours a day"]
["ID1678","Analysts","South America",30500,{"$f":"VLOOKUP(I1638,Calc!$I$35:$J$39,2,FALSE)","v":8},8,"Brazil","Financial Analyst","All the 8 hours baby, all the 8!"]
["ID1679","Specialists","North America",80000,{"$f":"VLOOKUP(I1639,Calc!$I$35:$J$39,2,FALSE)","v":2.5},2,"USA","Data Resource Specialist","2 to 3 hours per day"]
["ID1680","Analysts","North America",12000,{"$f":"VLOOKUP(I1640,Calc!$I$35:$J$39,2,FALSE)","v":2.5},1,"USA","Waiter","2 to 3 hours per day"]
["ID1681","Analysts","North America",48500,{"$f":"VLOOKUP(I1641,Calc!$I$35:$J$39,2,FALSE)","v":5},6,"USA","Business Systems Analyst I","4 to 6 hours a day"]
["ID1682","Specialists","Europe",63047.130882691366,{"$f":"VLOOKUP(I1642,Calc!$I$35:$J$39,2,FALSE)","v":2.5},25,"UK","Technical Specialist","2 to 3 hours per day"]
["ID1683","Analysts","Asia",3419.1200039889732,{"$f":"VLOOKUP(I1643,Calc!$I$35:$J$39,2,FALSE)","v":5},5,"India","Sr Associate","4 to 6 hours a day"]
["ID1684","Managers","Oceana",87734.690296543267,{"$f":"VLOOKUP(I1644,Calc!$I$35:$J$39,2,FALSE)","v":5},6,"New Zealand","Enterprise Portfolio Manager","4 to 6 hours a day"]
["ID1685","Analysts","Oceana",56628.754645950656,{"$f":"VLOOKUP(I1645,Calc!$I$35:$J$39,2,FALSE)","v":8},6,"New Zealand","Business Analyst","All the 8 hours baby, all the 8!"]
["ID1686","Reporting","Asia",8013.5625093491553,{"$f":"VLOOKUP(I1646,Calc!$I$35:$J$39,2,FALSE)","v":8},4,"India","Sr Executive - MIS","All the 8 hours baby, all the 8!"]
["ID1687","Analysts","Asia",3561.5833374885137,{"$f":"VLOOKUP(I1647,Calc!$I$35:$J$39,2,FALSE)","v":1.5},16,"India","Executive","1 or 2 hours a day"]
["ID1688","Engineers","North America",62000,{"$f":"VLOOKUP(I1648,Calc!$I$35:$J$39,2,FALSE)","v":2.5},12,"USA","Quality Engineer","2 to 3 hours per day"]
["ID1689","Analysts","Europe",26678.388218823762,{"$f":"VLOOKUP(I1649,Calc!$I$35:$J$39,2,FALSE)","v":5},5,"Portugal","Sales Planning","4 to 6 hours a day"]
["ID1690","Analysts","Europe",70928.022243027779,{"$f":"VLOOKUP(I1650,Calc!$I$35:$J$39,2,FALSE)","v":8},5,"UK","Data Analyst","All the 8 hours baby, all the 8!"]
["ID1691","Analysts","Europe",41923.181486723057,{"$f":"VLOOKUP(I1651,Calc!$I$35:$J$39,2,FALSE)","v":5},6,"France","assistant","4 to 6 hours a day"]
["ID1692","Analysts","North America",90000,{"$f":"VLOOKUP(I1652,Calc!$I$35:$J$39,2,FALSE)","v":2.5},8,"USA","Senior QA Tester","2 to 3 hours per day"]
["ID1693","Analysts","Europe",67700.452577525488,{"$f":"VLOOKUP(I1653,Calc!$I$35:$J$39,2,FALSE)","v":8},5,"Norway","Economic analyst","All the 8 hours baby, all the 8!"]
["ID1694","Analysts","North America",85000,{"$f":"VLOOKUP(I1654,Calc!$I$35:$J$39,2,FALSE)","v":5},12,"USA","Financial Analyst","4 to 6 hours a day"]
["ID1695","Top Mgmt","Europe",78808.913603364199,{"$f":"VLOOKUP(I1655,Calc!$I$35:$J$39,2,FALSE)","v":5},10,"UK","Commercial Director","4 to 6 hours a day"]
["ID1696","Analysts","North America",65000,{"$f":"VLOOKUP(I1656,Calc!$I$35:$J$39,2,FALSE)","v":5},8,"USA","Business Analyst","4 to 6 hours a day"]
["ID1697","Top Mgmt","North America",75000,{"$f":"VLOOKUP(I1657,Calc!$I$35:$J$39,2,FALSE)","v":2.5},3,"USA","Directer of Sales Support","2 to 3 hours per day"]
["ID1698","Analysts","North America",92000,{"$f":"VLOOKUP(I1658,Calc!$I$35:$J$39,2,FALSE)","v":5},9,"USA","Anallyst","4 to 6 hours a day"]
["ID1699","Analysts","Europe",50815.977559664309,{"$f":"VLOOKUP(I1659,Calc!$I$35:$J$39,2,FALSE)","v":2.5},3,"Germany","Financial Analyst","2 to 3 hours per day"]
["ID1700","Accountants","Europe",55954.328658388586,{"$f":"VLOOKUP(I1660,Calc!$I$35:$J$39,2,FALSE)","v":5},8,"UK","Assistant Accountant","4 to 6 hours a day"]
["ID1701","Analysts","North America",45000,{"$f":"VLOOKUP(I1661,Calc!$I$35:$J$39,2,FALSE)","v":2.5},4,"USA","Bussiness Analyst","2 to 3 hours per day"]
["ID1702","Analysts","Asia",7123.1666749770275,{"$f":"VLOOKUP(I1662,Calc!$I$35:$J$39,2,FALSE)","v":5},4,"India","Analyst","4 to 6 hours a day"]
["ID1703","Analysts","Europe",49443.946165553374,{"$f":"VLOOKUP(I1663,Calc!$I$35:$J$39,2,FALSE)","v":5},1.5,"Belgium","functional analyst","4 to 6 hours a day"]
["ID1704","Top Mgmt","South America",45000,{"$f":"VLOOKUP(I1664,Calc!$I$35:$J$39,2,FALSE)","v":5},5,"Mexico","CFO","4 to 6 hours a day"]
["ID1705","Analysts","North America",60000,{"$f":"VLOOKUP(I1665,Calc!$I$35:$J$39,2,FALSE)","v":8},1,"USA","Analyst","All the 8 hours baby, all the 8!"]
["ID1706","Analysts","North America",65000,{"$f":"VLOOKUP(I1666,Calc!$I$35:$J$39,2,FALSE)","v":8},4,"USA","Actuarial Analyst","All the 8 hours baby, all the 8!"]
["ID1707","Managers","North America",73000,{"$f":"VLOOKUP(I1667,Calc!$I$35:$J$39,2,FALSE)","v":2.5},6,"USA","process coordinator","2 to 3 hours per day"]
["ID1708","Analysts","North America",54000,{"$f":"VLOOKUP(I1668,Calc!$I$35:$J$39,2,FALSE)","v":8},6,"USA","Energy Analyst","All the 8 hours baby, all the 8!"]
["ID1710","Analysts","North America",81000,{"$f":"VLOOKUP(I1669,Calc!$I$35:$J$39,2,FALSE)","v":5},6,"USA","Contact Operations Analyst","4 to 6 hours a day"]
["ID1711","Analysts","North America",10000,{"$f":"VLOOKUP(I1670,Calc!$I$35:$J$39,2,FALSE)","v":5},2,"USA","Student assistant","4 to 6 hours a day"]
["ID1712","Accountants","North America",42000,{"$f":"VLOOKUP(I1671,Calc!$I$35:$J$39,2,FALSE)","v":5},1,"USA","Staff Accountant","4 to 6 hours a day"]
["ID1713","Specialists","Oceana",81592.772512210868,{"$f":"VLOOKUP(I1672,Calc!$I$35:$J$39,2,FALSE)","v":5},5,"Australia","PPC Search Specialist","4 to 6 hours a day"]
["ID1714","Analysts","North America",35401.014829091764,{"$f":"VLOOKUP(I1673,Calc!$I$35:$J$39,2,FALSE)","v":8},2,"Canada","data organizer","All the 8 hours baby, all the 8!"]
["ID1716","Analysts","Asia",8903.9583437212841,{"$f":"VLOOKUP(I1674,Calc!$I$35:$J$39,2,FALSE)","v":5},4,"India","Sr. Associate","4 to 6 hours a day"]
["ID1717","Analysts","Asia",10684.750012465542,{"$f":"VLOOKUP(I1675,Calc!$I$35:$J$39,2,FALSE)","v":8},5,"India","admin","All the 8 hours baby, all the 8!"]
["ID1718","Analysts","Asia",8400,{"$f":"VLOOKUP(I1676,Calc!$I$35:$J$39,2,FALSE)","v":5},14,"Indonesia","gov employee","4 to 6 hours a day"]
["ID1719","Managers","Asia",9794.354178093412,{"$f":"VLOOKUP(I1677,Calc!$I$35:$J$39,2,FALSE)","v":5},13,"India","Accounts manager","4 to 6 hours a day"]
["ID1720","Engineers","Asia",14400,{"$f":"VLOOKUP(I1678,Calc!$I$35:$J$39,2,FALSE)","v":1.5},8,"India","Engineer","1 or 2 hours a day"]
["ID1721","Reporting","Asia",2671.1875031163854,{"$f":"VLOOKUP(I1679,Calc!$I$35:$J$39,2,FALSE)","v":8},3,"India","MIS Executive","All the 8 hours baby, all the 8!"]
["ID1722","Managers","Asia",22000,{"$f":"VLOOKUP(I1680,Calc!$I$35:$J$39,2,FALSE)","v":8},6,"India","Manager (MIS)","All the 8 hours baby, all the 8!"]
["ID1723","Analysts","Europe",100000,{"$f":"VLOOKUP(I1681,Calc!$I$35:$J$39,2,FALSE)","v":8},6,"Russia","financial analyst (real estate)","All the 8 hours baby, all the 8!"]
["ID1724","Managers","Europe",63047.130882691366,{"$f":"VLOOKUP(I1682,Calc!$I$35:$J$39,2,FALSE)","v":5},15,"UK","project manager","4 to 6 hours a day"]
["ID1725","Managers","Europe",56742.417794422225,{"$f":"VLOOKUP(I1683,Calc!$I$35:$J$39,2,FALSE)","v":1.5},25,"UK","contracts officer","1 or 2 hours a day"]
["ID1726","Analysts","Asia",25000,{"$f":"VLOOKUP(I1684,Calc!$I$35:$J$39,2,FALSE)","v":8},8,"India","exe","All the 8 hours baby, all the 8!"]
["ID1727","Analysts","Asia",8903.9583437212841,{"$f":"VLOOKUP(I1685,Calc!$I$35:$J$39,2,FALSE)","v":5},2,"India","Business Analyst","4 to 6 hours a day"]
["ID1729","Analysts","Europe",42556.81334581667,{"$f":"VLOOKUP(I1686,Calc!$I$35:$J$39,2,FALSE)","v":5},2,"UK","Network Designer","4 to 6 hours a day"]
["ID1730","Accountants","North America",131770.4440860638,{"$f":"VLOOKUP(I1687,Calc!$I$35:$J$39,2,FALSE)","v":8},20,"Canada","Senior Production Accountant","All the 8 hours baby, all the 8!"]
["ID1731","Analysts","North America",68835.306612122877,{"$f":"VLOOKUP(I1688,Calc!$I$35:$J$39,2,FALSE)","v":8},2,"Canada","Financial Analyst","All the 8 hours baby, all the 8!"]
["ID1732","Reporting","Asia",6000,{"$f":"VLOOKUP(I1689,Calc!$I$35:$J$39,2,FALSE)","v":8},5,"Armenia","Reporting Coordinator","All the 8 hours baby, all the 8!"]
["ID1733","Analysts","Europe",78808.913603364199,{"$f":"VLOOKUP(I1690,Calc!$I$35:$J$39,2,FALSE)","v":2.5},2,"UK","Research Analyst","2 to 3 hours per day"]
["ID1734","Analysts","Asia",7497.1329254133216,{"$f":"VLOOKUP(I1691,Calc!$I$35:$J$39,2,FALSE)","v":5},4,"India","PMO Analyst","4 to 6 hours a day"]
["ID1735","Managers","Asia",10000,{"$f":"VLOOKUP(I1692,Calc!$I$35:$J$39,2,FALSE)","v":5},11,"India","AGM - Operations & Customer Support","4 to 6 hours a day"]
["ID1736","Consultants","Asia",6410.8500074793246,{"$f":"VLOOKUP(I1693,Calc!$I$35:$J$39,2,FALSE)","v":1.5},2,"India","Baan ERP Functional Consultant","1 or 2 hours a day"]
["ID1737","Analysts","Europe",63047.130882691366,{"$f":"VLOOKUP(I1694,Calc!$I$35:$J$39,2,FALSE)","v":5},5,"UK","Analyst","4 to 6 hours a day"]
["ID1738","Analysts","Oceana",61194.579384158147,{"$f":"VLOOKUP(I1695,Calc!$I$35:$J$39,2,FALSE)","v":2.5},3,"Australia","business analyst","2 to 3 hours per day"]
["ID1739","Controllers","Europe",115061.01386091174,{"$f":"VLOOKUP(I1696,Calc!$I$35:$J$39,2,FALSE)","v":5},8,"UK","Financial Controller","4 to 6 hours a day"]
["ID1740","Analysts","North America",45000,{"$f":"VLOOKUP(I1697,Calc!$I$35:$J$39,2,FALSE)","v":8},2,"USA","Sourcing Analyst","All the 8 hours baby, all the 8!"]
["ID1741","Analysts","North America",36000,{"$f":"VLOOKUP(I1698,Calc!$I$35:$J$39,2,FALSE)","v":5},4,"USA","clerk","4 to 6 hours a day"]
["ID1742","Analysts","North America",68000,{"$f":"VLOOKUP(I1699,Calc!$I$35:$J$39,2,FALSE)","v":5},2.5,"USA","Tax Associate","4 to 6 hours a day"]
["ID1743","Analysts","North America",75000,{"$f":"VLOOKUP(I1700,Calc!$I$35:$J$39,2,FALSE)","v":8},5,"USA","Senior Financial Analyst","All the 8 hours baby, all the 8!"]
["ID1744","Analysts","North America",88000,{"$f":"VLOOKUP(I1701,Calc!$I$35:$J$39,2,FALSE)","v":8},10,"USA","Senior Fiancial Analyst","All the 8 hours baby, all the 8!"]
["ID1745","Analysts","Asia",4594.4425053601826,{"$f":"VLOOKUP(I1702,Calc!$I$35:$J$39,2,FALSE)","v":5},4,"India","Senior Data Associate","4 to 6 hours a day"]
["ID1746","Analysts","North America",69000,{"$f":"VLOOKUP(I1703,Calc!$I$35:$J$39,2,FALSE)","v":8},15,"USA","Business Analyst II","All the 8 hours baby, all the 8!"]
["ID1747","Managers","North America",30000,{"$f":"VLOOKUP(I1704,Calc!$I$35:$J$39,2,FALSE)","v":5},1,"USA","Inventory Manager","4 to 6 hours a day"]
["ID1748","Managers","North America",80000,{"$f":"VLOOKUP(I1705,Calc!$I$35:$J$39,2,FALSE)","v":5},7,"USA","Sales / Finance Manager","4 to 6 hours a day"]
["ID1749","Accountants","North America",75000,{"$f":"VLOOKUP(I1706,Calc!$I$35:$J$39,2,FALSE)","v":8},1,"USA","actuary","All the 8 hours baby, all the 8!"]
["ID1750","Analysts","South America",31200,{"$f":"VLOOKUP(I1707,Calc!$I$35:$J$39,2,FALSE)","v":5},4,"Brazil","Risk analyst","4 to 6 hours a day"]
["ID1751","Accountants","North America",85000,{"$f":"VLOOKUP(I1708,Calc!$I$35:$J$39,2,FALSE)","v":5},20,"USA","Actuary","4 to 6 hours a day"]
["ID1752","Managers","Asia",16917.52085307044,{"$f":"VLOOKUP(I1709,Calc!$I$35:$J$39,2,FALSE)","v":2.5},9,"India","Associate Manager, Drug Safety Operations","2 to 3 hours per day"]
["ID1753","Reporting","Asia",3205.4250037396623,{"$f":"VLOOKUP(I1710,Calc!$I$35:$J$39,2,FALSE)","v":5},2,"India","mis","4 to 6 hours a day"]
["ID1754","Managers","North America",60000,{"$f":"VLOOKUP(I1711,Calc!$I$35:$J$39,2,FALSE)","v":8},2,"USA","Project Lead ","All the 8 hours baby, all the 8!"]
["ID1755","Managers","North America",60000,{"$f":"VLOOKUP(I1712,Calc!$I$35:$J$39,2,FALSE)","v":8},2,"USA","Project Lead ","All the 8 hours baby, all the 8!"]
["ID1756","Managers","Asia",14246.333349954055,{"$f":"VLOOKUP(I1713,Calc!$I$35:$J$39,2,FALSE)","v":2.5},0,"India","MANAGER","2 to 3 hours per day"]
["ID1757","Managers","Asia",14246.333349954055,{"$f":"VLOOKUP(I1714,Calc!$I$35:$J$39,2,FALSE)","v":2.5},0,"India","MANAGER","2 to 3 hours per day"]
["ID1758","Managers","Asia",28995,{"$f":"VLOOKUP(I1715,Calc!$I$35:$J$39,2,FALSE)","v":5},6,"India","Senior Executive","4 to 6 hours a day"]
["ID1759","Analysts","Asia",21903.737525554359,{"$f":"VLOOKUP(I1716,Calc!$I$35:$J$39,2,FALSE)","v":8},3,"India","Financial Analyst ","All the 8 hours baby, all the 8!"]
["ID1760","Analysts","Asia",20122.945856810104,{"$f":"VLOOKUP(I1717,Calc!$I$35:$J$39,2,FALSE)","v":8},3,"India","Financial Analyst ","All the 8 hours baby, all the 8!"]
["ID1761","Analysts","Europe",70928.022243027779,{"$f":"VLOOKUP(I1718,Calc!$I$35:$J$39,2,FALSE)","v":8},20,"UK","bUSINESS aNALYST","All the 8 hours baby, all the 8!"]
["ID1762","Managers","North America",67000,{"$f":"VLOOKUP(I1719,Calc!$I$35:$J$39,2,FALSE)","v":5},16,"USA","Manager","4 to 6 hours a day"]
["ID1763","Analysts","North America",30000,{"$f":"VLOOKUP(I1720,Calc!$I$35:$J$39,2,FALSE)","v":2.5},4,"USA","Customer Service","2 to 3 hours per day"]
["ID1764","Managers","Europe",148102.22862117883,{"$f":"VLOOKUP(I1721,Calc!$I$35:$J$39,2,FALSE)","v":2.5},6,"Switzerland","Projektleiter","2 to 3 hours per day"]
["ID1765","Managers","North America",71500,{"$f":"VLOOKUP(I1722,Calc!$I$35:$J$39,2,FALSE)","v":8},11,"USA","Pricing Manager","All the 8 hours baby, all the 8!"]
["ID1766","Managers","North America",67000,{"$f":"VLOOKUP(I1723,Calc!$I$35:$J$39,2,FALSE)","v":0},6,"USA","Manager","Excel ?!? What Excel?"]
["ID1767","Analysts","North America",40000,{"$f":"VLOOKUP(I1724,Calc!$I$35:$J$39,2,FALSE)","v":5},5,"USA","Market Research Analyst","4 to 6 hours a day"]
["ID1768","Managers","North America",65000,{"$f":"VLOOKUP(I1725,Calc!$I$35:$J$39,2,FALSE)","v":5},2,"USA","Compliance Officer","4 to 6 hours a day"]
["ID1769","Consultants","North America",72000,{"$f":"VLOOKUP(I1726,Calc!$I$35:$J$39,2,FALSE)","v":2.5},13,"USA","Consultant","2 to 3 hours per day"]
["ID1770","Managers","North America",52500,{"$f":"VLOOKUP(I1727,Calc!$I$35:$J$39,2,FALSE)","v":8},3,"USA","Data Management Solutions Supervisor","All the 8 hours baby, all the 8!"]
["ID1771","Managers","Asia",5320,{"$f":"VLOOKUP(I1728,Calc!$I$35:$J$39,2,FALSE)","v":2.5},5,"India","Officer","2 to 3 hours per day"]
["ID1772","Accountants","Middle East",18000,{"$f":"VLOOKUP(I1729,Calc!$I$35:$J$39,2,FALSE)","v":8},3,"UAE","accountant","All the 8 hours baby, all the 8!"]
["ID1773","Miscellaneous","Asia",2493.1083362419595,{"$f":"VLOOKUP(I1730,Calc!$I$35:$J$39,2,FALSE)","v":5},5,"India","magic","4 to 6 hours a day"]
["ID1774","Accountants","Europe",21342.710575059013,{"$f":"VLOOKUP(I1731,Calc!$I$35:$J$39,2,FALSE)","v":5},15,"Portugal","account","4 to 6 hours a day"]
["ID1775","Managers","North America",85000,{"$f":"VLOOKUP(I1732,Calc!$I$35:$J$39,2,FALSE)","v":2.5},15,"USA","purchasing manager","2 to 3 hours per day"]
["ID1776","Engineers","South America",80000,{"$f":"VLOOKUP(I1733,Calc!$I$35:$J$39,2,FALSE)","v":1.5},9,"Brazil","Engineer","1 or 2 hours a day"]
["ID1777","Analysts","Asia",8903.9583437212841,{"$f":"VLOOKUP(I1734,Calc!$I$35:$J$39,2,FALSE)","v":8},0,"India","equity research trainee","All the 8 hours baby, all the 8!"]
["ID1778","Managers","North America",125000,{"$f":"VLOOKUP(I1735,Calc!$I$35:$J$39,2,FALSE)","v":8},10,"USA","project manager","All the 8 hours baby, all the 8!"]
["ID1779","Managers","Asia",23150.291693675339,{"$f":"VLOOKUP(I1736,Calc!$I$35:$J$39,2,FALSE)","v":8},9,"India","Manager","All the 8 hours baby, all the 8!"]
["ID1780","Engineers","Asia",12000,{"$f":"VLOOKUP(I1737,Calc!$I$35:$J$39,2,FALSE)","v":2.5},7,"India","project engineer ","2 to 3 hours per day"]
["ID1781","Analysts","Asia",30000,{"$f":"VLOOKUP(I1738,Calc!$I$35:$J$39,2,FALSE)","v":1.5},12,"Malaysia","Teacher","1 or 2 hours a day"]
["ID1782","Managers","Europe",91468.759607395754,{"$f":"VLOOKUP(I1739,Calc!$I$35:$J$39,2,FALSE)","v":1.5},3,"Croatia","regional sales manager","1 or 2 hours a day"]
["ID1783","Analysts","Europe",35148.775467100437,{"$f":"VLOOKUP(I1740,Calc!$I$35:$J$39,2,FALSE)","v":8},4,"UK","Analysis & insight consultant","All the 8 hours baby, all the 8!"]
["ID1784","Managers","Europe",49153.119414418252,{"$f":"VLOOKUP(I1741,Calc!$I$35:$J$39,2,FALSE)","v":5},7,"UK","Data Team Leader","4 to 6 hours a day"]
["ID1785","Engineers","Asia",2671.1875031163854,{"$f":"VLOOKUP(I1742,Calc!$I$35:$J$39,2,FALSE)","v":2.5},1,"India","ENGINEER","2 to 3 hours per day"]
["ID1786","Managers","Europe",42556.81334581667,{"$f":"VLOOKUP(I1743,Calc!$I$35:$J$39,2,FALSE)","v":5},3,"UK","assistant account manager","4 to 6 hours a day"]
["ID1787","Managers","Europe",42556.81334581667,{"$f":"VLOOKUP(I1744,Calc!$I$35:$J$39,2,FALSE)","v":5},3,"UK","assistant account manager","4 to 6 hours a day"]
["ID1788","Miscellaneous","North America",74461,{"$f":"VLOOKUP(I1745,Calc!$I$35:$J$39,2,FALSE)","v":1.5},9,"USA","Scientist III","1 or 2 hours a day"]
["ID1789","Managers","Europe",41768.724209783031,{"$f":"VLOOKUP(I1746,Calc!$I$35:$J$39,2,FALSE)","v":5},16,"UK","Compliance Manager","4 to 6 hours a day"]
["ID1790","Analysts","Asia",8547.8000099724322,{"$f":"VLOOKUP(I1747,Calc!$I$35:$J$39,2,FALSE)","v":5},1,"India","Development Analyst","4 to 6 hours a day"]
["ID1791","Analysts","Asia",2400,{"$f":"VLOOKUP(I1748,Calc!$I$35:$J$39,2,FALSE)","v":2.5},3,"India","computer operator","2 to 3 hours per day"]
["ID1792","Analysts","Asia",3000,{"$f":"VLOOKUP(I1749,Calc!$I$35:$J$39,2,FALSE)","v":1.5},12,"Bangladesh","executive","1 or 2 hours a day"]
["ID1793","Analysts","Asia",11000,{"$f":"VLOOKUP(I1750,Calc!$I$35:$J$39,2,FALSE)","v":5},2,"India","Web Analyst","4 to 6 hours a day"]
["ID1794","Analysts","North America",40000,{"$f":"VLOOKUP(I1751,Calc!$I$35:$J$39,2,FALSE)","v":2.5},2,"USA","Intern","2 to 3 hours per day"]
["ID1795","Analysts","Asia",3600,{"$f":"VLOOKUP(I1752,Calc!$I$35:$J$39,2,FALSE)","v":5},1,"India","Analyst","4 to 6 hours a day"]
["ID1796","Managers","North America",56600,{"$f":"VLOOKUP(I1753,Calc!$I$35:$J$39,2,FALSE)","v":5},12,"USA","ECommerce Manager","4 to 6 hours a day"]
["ID1797","Analysts","Asia",33600,{"$f":"VLOOKUP(I1754,Calc!$I$35:$J$39,2,FALSE)","v":8},2,"Singapore","Executive","All the 8 hours baby, all the 8!"]
["ID1798","Analysts","Asia",33600,{"$f":"VLOOKUP(I1755,Calc!$I$35:$J$39,2,FALSE)","v":8},2,"Singapore","Executive","All the 8 hours baby, all the 8!"]
["ID1799","Analysts","North America",100000,{"$f":"VLOOKUP(I1756,Calc!$I$35:$J$39,2,FALSE)","v":8},12,"USA","analyst","All the 8 hours baby, all the 8!"]
["ID1800","Analysts","North America",39334.460921213074,{"$f":"VLOOKUP(I1757,Calc!$I$35:$J$39,2,FALSE)","v":1.5},1,"Canada","Machine Scheduler","1 or 2 hours a day"]
["ID1801","Analysts","Asia",7123.1666749770275,{"$f":"VLOOKUP(I1758,Calc!$I$35:$J$39,2,FALSE)","v":2.5},3,"India","business analyst","2 to 3 hours per day"]
["ID1802","Analysts","North America",65000,{"$f":"VLOOKUP(I1759,Calc!$I$35:$J$39,2,FALSE)","v":5},14,"USA","Sr Financial Systems Analyst","4 to 6 hours a day"]
["ID1803","Analysts","North America",65000,{"$f":"VLOOKUP(I1760,Calc!$I$35:$J$39,2,FALSE)","v":2.5},10,"USA","Data Analyst","2 to 3 hours per day"]
["ID1804","Controllers","North America",65000,{"$f":"VLOOKUP(I1761,Calc!$I$35:$J$39,2,FALSE)","v":2.5},13,"USA","Assistant Controller","2 to 3 hours per day"]
["ID1805","Analysts","North America",76702.198796365497,{"$f":"VLOOKUP(I1762,Calc!$I$35:$J$39,2,FALSE)","v":8},4,"Canada","SFA","All the 8 hours baby, all the 8!"]
["ID1806","Analysts","North America",63000,{"$f":"VLOOKUP(I1763,Calc!$I$35:$J$39,2,FALSE)","v":8},10,"USA","Sales Analyst","All the 8 hours baby, all the 8!"]
["ID1807","Miscellaneous","North America",87000,{"$f":"VLOOKUP(I1764,Calc!$I$35:$J$39,2,FALSE)","v":5},3,"USA","Ð˜Ð¨ Ð¤Ñ‚Ñ„Ð´Ð½Ñ‹Ðµ","4 to 6 hours a day"]
["ID1808","Analysts","North America",45000,{"$f":"VLOOKUP(I1765,Calc!$I$35:$J$39,2,FALSE)","v":5},4,"USA","ba","4 to 6 hours a day"]
["ID1809","Analysts","North America",85000,{"$f":"VLOOKUP(I1766,Calc!$I$35:$J$39,2,FALSE)","v":8},3,"USA","Lead Financial Analyst","All the 8 hours baby, all the 8!"]
["ID1810","Engineers","Oceana",159105.90639881117,{"$f":"VLOOKUP(I1767,Calc!$I$35:$J$39,2,FALSE)","v":2.5},12,"Australia","Senior Associate Engineer","2 to 3 hours per day"]
["ID1811","Managers","Asia",9972.4333449678379,{"$f":"VLOOKUP(I1768,Calc!$I$35:$J$39,2,FALSE)","v":2.5},4,"India","Associate Manager","2 to 3 hours per day"]
["ID1812","Managers","Asia",14000,{"$f":"VLOOKUP(I1769,Calc!$I$35:$J$39,2,FALSE)","v":5},5,"India","Manager","4 to 6 hours a day"]
["ID1813","Analysts","Europe",50437.70470615309,{"$f":"VLOOKUP(I1770,Calc!$I$35:$J$39,2,FALSE)","v":5},20,"UK","Business Analyst","4 to 6 hours a day"]
["ID1814","Analysts","Europe",50437.70470615309,{"$f":"VLOOKUP(I1771,Calc!$I$35:$J$39,2,FALSE)","v":8},1,"UK","Financial Analyst","All the 8 hours baby, all the 8!"]
["ID1815","Managers","Asia",13603.016099449767,{"$f":"VLOOKUP(I1772,Calc!$I$35:$J$39,2,FALSE)","v":8},8,"Pakistan","Manager MIS & Analytics","All the 8 hours baby, all the 8!"]
["ID1816","Controllers","Oceana",147886.90017838217,{"$f":"VLOOKUP(I1773,Calc!$I$35:$J$39,2,FALSE)","v":2.5},15,"Australia","Financial controller","2 to 3 hours per day"]
["ID1818","Analysts","Asia",4986.216672483919,{"$f":"VLOOKUP(I1774,Calc!$I$35:$J$39,2,FALSE)","v":8},8,"India","Sales Cordinator","All the 8 hours baby, all the 8!"]
["ID1819","Managers","Asia",4800,{"$f":"VLOOKUP(I1775,Calc!$I$35:$J$39,2,FALSE)","v":8},3,"India","Sr Executive","All the 8 hours baby, all the 8!"]
["ID1820","Reporting","Asia",8013.5625093491553,{"$f":"VLOOKUP(I1776,Calc!$I$35:$J$39,2,FALSE)","v":5},4,"India","MIS Executive","4 to 6 hours a day"]
["ID1821","Managers","North America",80000,{"$f":"VLOOKUP(I1777,Calc!$I$35:$J$39,2,FALSE)","v":5},2,"USA","Manager, Operations","4 to 6 hours a day"]
["ID1822","Analysts","Europe",57167.974754622352,{"$f":"VLOOKUP(I1778,Calc!$I$35:$J$39,2,FALSE)","v":2.5},14,"Netherlands","IT Trainer","2 to 3 hours per day"]
["ID1823","Analysts","North America",20000,{"$f":"VLOOKUP(I1779,Calc!$I$35:$J$39,2,FALSE)","v":2.5},2,"Canada","administrator","2 to 3 hours per day"]
["ID1824","Analysts","North America",70000,{"$f":"VLOOKUP(I1780,Calc!$I$35:$J$39,2,FALSE)","v":2.5},5,"USA","business analyst","2 to 3 hours per day"]
["ID1825","Controllers","North America",214000,{"$f":"VLOOKUP(I1781,Calc!$I$35:$J$39,2,FALSE)","v":8},20,"USA","Assistant Corporate Controller","All the 8 hours baby, all the 8!"]
["ID1826","Engineers","North America",78000,{"$f":"VLOOKUP(I1782,Calc!$I$35:$J$39,2,FALSE)","v":8},5,"USA","Data Integration Engenieer","All the 8 hours baby, all the 8!"]
["ID1827","Analysts","North America",42307,{"$f":"VLOOKUP(I1783,Calc!$I$35:$J$39,2,FALSE)","v":2.5},25,"USA","purchasing operations administrator","2 to 3 hours per day"]
["ID1828","Managers","North America",33250,{"$f":"VLOOKUP(I1784,Calc!$I$35:$J$39,2,FALSE)","v":8},20,"USA","Planning and Logistics Coordinator","All the 8 hours baby, all the 8!"]
["ID1829","Analysts","Europe",24391.669228638868,{"$f":"VLOOKUP(I1785,Calc!$I$35:$J$39,2,FALSE)","v":5},10,"Italy","bank clerk","4 to 6 hours a day"]
["ID1830","Accountants","North America",120000,{"$f":"VLOOKUP(I1786,Calc!$I$35:$J$39,2,FALSE)","v":5},20,"USA","Financial Modeler","4 to 6 hours a day"]
["ID1831","Analysts","Asia",20000,{"$f":"VLOOKUP(I1787,Calc!$I$35:$J$39,2,FALSE)","v":1.5},1,"Hong Kong","Personal Assistant","1 or 2 hours a day"]
["ID1832","Analysts","Asia",15000,{"$f":"VLOOKUP(I1788,Calc!$I$35:$J$39,2,FALSE)","v":2.5},0.3,"India","senior associate","2 to 3 hours per day"]
["ID1833","Managers","Asia",17807.916687442568,{"$f":"VLOOKUP(I1789,Calc!$I$35:$J$39,2,FALSE)","v":2.5},10,"India","Mnanager- Customer Project finance & recovery","2 to 3 hours per day"]
["ID1834","Managers","Asia",16027.125018698311,{"$f":"VLOOKUP(I1790,Calc!$I$35:$J$39,2,FALSE)","v":2.5},6,"India","Lead ","2 to 3 hours per day"]
["ID1835","Managers","Europe",56742.417794422225,{"$f":"VLOOKUP(I1791,Calc!$I$35:$J$39,2,FALSE)","v":8},7,"UK","Senior officer data reporting","All the 8 hours baby, all the 8!"]
["ID1836","Managers","Asia",21369.500024931083,{"$f":"VLOOKUP(I1792,Calc!$I$35:$J$39,2,FALSE)","v":5},7,"India","AM","4 to 6 hours a day"]
["ID1837","Accountants","Asia",7568.3645921630914,{"$f":"VLOOKUP(I1793,Calc!$I$35:$J$39,2,FALSE)","v":2.5},6,"India","accountant","2 to 3 hours per day"]
["ID1838","Accountants","Europe",78808.913603364199,{"$f":"VLOOKUP(I1794,Calc!$I$35:$J$39,2,FALSE)","v":2.5},10,"UK","Assistant Financial Accountant","2 to 3 hours per day"]
["ID1839","Analysts","North America",60000,{"$f":"VLOOKUP(I1795,Calc!$I$35:$J$39,2,FALSE)","v":5},15,"USA","Business Analyst","4 to 6 hours a day"]
["ID1840","Accountants","North America",57000,{"$f":"VLOOKUP(I1796,Calc!$I$35:$J$39,2,FALSE)","v":5},9,"USA","Staff Accountant","4 to 6 hours a day"]
["ID1841","Analysts","North America",40000,{"$f":"VLOOKUP(I1797,Calc!$I$35:$J$39,2,FALSE)","v":2.5},0,"USA","Rates Analyst","2 to 3 hours per day"]
["ID1842","Controllers","North America",80000,{"$f":"VLOOKUP(I1798,Calc!$I$35:$J$39,2,FALSE)","v":5},9,"USA","Project Controller","4 to 6 hours a day"]
["ID1843","Top Mgmt","North America",118000,{"$f":"VLOOKUP(I1799,Calc!$I$35:$J$39,2,FALSE)","v":5},6,"USA","AVP","4 to 6 hours a day"]
["ID1844","Analysts","Middle East",60000,{"$f":"VLOOKUP(I1800,Calc!$I$35:$J$39,2,FALSE)","v":5},5,"UAE","Analyst","4 to 6 hours a day"]
["ID1845","Accountants","Asia",6720,{"$f":"VLOOKUP(I1801,Calc!$I$35:$J$39,2,FALSE)","v":5},5,"India","accoutant","4 to 6 hours a day"]
["ID1846","Managers","Asia",20640,{"$f":"VLOOKUP(I1802,Calc!$I$35:$J$39,2,FALSE)","v":5},3,"Singapore","Programme Officer","4 to 6 hours a day"]
["ID1847","Analysts","North America",50000,{"$f":"VLOOKUP(I1803,Calc!$I$35:$J$39,2,FALSE)","v":8},15,"USA","Digital Media Analyst","All the 8 hours baby, all the 8!"]
["ID1848","Controllers","Europe",24000,{"$f":"VLOOKUP(I1804,Calc!$I$35:$J$39,2,FALSE)","v":8},23,"Russia","Plant Controller","All the 8 hours baby, all the 8!"]
["ID1849","Analysts","North America",60000,{"$f":"VLOOKUP(I1805,Calc!$I$35:$J$39,2,FALSE)","v":2.5},3,"USA","Business Analyst","2 to 3 hours per day"]
["ID1850","Consultants","Asia",37500,{"$f":"VLOOKUP(I1806,Calc!$I$35:$J$39,2,FALSE)","v":8},0,"India","consultant","All the 8 hours baby, all the 8!"]
["ID1851","Specialists","North America",40000,{"$f":"VLOOKUP(I1807,Calc!$I$35:$J$39,2,FALSE)","v":5},1,"USA","Research Support Specialist","4 to 6 hours a day"]
["ID1852","Top Mgmt","North America",85000,{"$f":"VLOOKUP(I1808,Calc!$I$35:$J$39,2,FALSE)","v":2.5},15,"USA","Chief Financial Officer","2 to 3 hours per day"]
["ID1853","Analysts","South America",30000,{"$f":"VLOOKUP(I1809,Calc!$I$35:$J$39,2,FALSE)","v":2.5},1,"Brazil","Trainee","2 to 3 hours per day"]
["ID1854","Engineers","Europe",52801.972114254015,{"$f":"VLOOKUP(I1810,Calc!$I$35:$J$39,2,FALSE)","v":2.5},7,"UK","Senior Manufacturing Engineer","2 to 3 hours per day"]
["ID1855","Engineers","North America",29000,{"$f":"VLOOKUP(I1811,Calc!$I$35:$J$39,2,FALSE)","v":8},1,"USA","Customer Experence Engineer","All the 8 hours baby, all the 8!"]
["ID1857","Accountants","North America",48000,{"$f":"VLOOKUP(I1812,Calc!$I$35:$J$39,2,FALSE)","v":5},1,"USA","Accountant","4 to 6 hours a day"]
["ID1858","Accountants","North America",48000,{"$f":"VLOOKUP(I1813,Calc!$I$35:$J$39,2,FALSE)","v":5},1,"USA","Accountant","4 to 6 hours a day"]
["ID1859","Analysts","Europe",8400,{"$f":"VLOOKUP(I1814,Calc!$I$35:$J$39,2,FALSE)","v":8},0.3,"Baltic","Analyst","All the 8 hours baby, all the 8!"]
["ID1860","Managers","Asia",4808.137505609493,{"$f":"VLOOKUP(I1815,Calc!$I$35:$J$39,2,FALSE)","v":2.5},5,"India","Team Lead","2 to 3 hours per day"]
["ID1861","Managers","Asia",24931.083362419595,{"$f":"VLOOKUP(I1816,Calc!$I$35:$J$39,2,FALSE)","v":5},10,"India","Manager - Controlling","4 to 6 hours a day"]
["ID1862","Analysts","Asia",12465.541681209797,{"$f":"VLOOKUP(I1817,Calc!$I$35:$J$39,2,FALSE)","v":2.5},4,"India","Sr. System Analyst","2 to 3 hours per day"]
["ID1863","Accountants","Europe",31523.565441345683,{"$f":"VLOOKUP(I1818,Calc!$I$35:$J$39,2,FALSE)","v":2.5},10,"UK","Accountant","2 to 3 hours per day"]
["ID1864","Managers","Asia",17807.916687442568,{"$f":"VLOOKUP(I1819,Calc!$I$35:$J$39,2,FALSE)","v":8},10,"India","Sr.Manager","All the 8 hours baby, all the 8!"]
["ID1865","Managers","North America",112000,{"$f":"VLOOKUP(I1820,Calc!$I$35:$J$39,2,FALSE)","v":2.5},8,"USA","manager","2 to 3 hours per day"]
["ID1866","Managers","Asia",11000,{"$f":"VLOOKUP(I1821,Calc!$I$35:$J$39,2,FALSE)","v":8},8,"India","AM","All the 8 hours baby, all the 8!"]
["ID1867","Controllers","Europe",114335.9495092447,{"$f":"VLOOKUP(I1822,Calc!$I$35:$J$39,2,FALSE)","v":2.5},20,"Europe","Controller","2 to 3 hours per day"]
["ID1868","Analysts","South America",16110,{"$f":"VLOOKUP(I1823,Calc!$I$35:$J$39,2,FALSE)","v":8},10,"Colombia","INFORMATION ANALIST","All the 8 hours baby, all the 8!"]
["ID1869","Managers","North America",72000,{"$f":"VLOOKUP(I1824,Calc!$I$35:$J$39,2,FALSE)","v":5},10,"USA","HR Supervisor","4 to 6 hours a day"]
["ID1870","Analysts","North America",60000,{"$f":"VLOOKUP(I1825,Calc!$I$35:$J$39,2,FALSE)","v":8},10,"USA","Marketing Initatities Analyst","All the 8 hours baby, all the 8!"]
["ID1871","Analysts","North America",67000,{"$f":"VLOOKUP(I1826,Calc!$I$35:$J$39,2,FALSE)","v":5},6,"USA","Sales Compensation Analyst","4 to 6 hours a day"]
["ID1872","Analysts","North America",54000,{"$f":"VLOOKUP(I1827,Calc!$I$35:$J$39,2,FALSE)","v":5},18,"USA","materials","4 to 6 hours a day"]
["ID1873","Specialists","Africa",38666,{"$f":"VLOOKUP(I1828,Calc!$I$35:$J$39,2,FALSE)","v":8},10,"South Africa","Actuarial Specialist","All the 8 hours baby, all the 8!"]
["ID1874","Analysts","North America",63000,{"$f":"VLOOKUP(I1829,Calc!$I$35:$J$39,2,FALSE)","v":5},6,"USA","Marketing Database Analyst","4 to 6 hours a day"]
["ID1875","Analysts","North America",63000,{"$f":"VLOOKUP(I1830,Calc!$I$35:$J$39,2,FALSE)","v":8},1,"USA","Financial Analyst","All the 8 hours baby, all the 8!"]
["ID1876","Analysts","Asia",6410.8500074793246,{"$f":"VLOOKUP(I1831,Calc!$I$35:$J$39,2,FALSE)","v":8},2,"India","Analyst","All the 8 hours baby, all the 8!"]
["ID1877","Managers","Asia",10684.750012465542,{"$f":"VLOOKUP(I1832,Calc!$I$35:$J$39,2,FALSE)","v":5},12,"India","Manager- Customer Support","4 to 6 hours a day"]
["ID1878","Managers","Asia",40000,{"$f":"VLOOKUP(I1833,Calc!$I$35:$J$39,2,FALSE)","v":5},5,"India","Assistant Manager","4 to 6 hours a day"]
["ID1879","Analysts","Asia",6232.7708406048987,{"$f":"VLOOKUP(I1834,Calc!$I$35:$J$39,2,FALSE)","v":5},6,"India","Analyst","4 to 6 hours a day"]
["ID1880","Miscellaneous","Asia",41712.231189497601,{"$f":"VLOOKUP(I1835,Calc!$I$35:$J$39,2,FALSE)","v":2.5},12,"India","3r23regedf","2 to 3 hours per day"]
["ID1881","Managers","Asia",12465.541681209797,{"$f":"VLOOKUP(I1836,Calc!$I$35:$J$39,2,FALSE)","v":2.5},9,"India","Revenue Focus Manager","2 to 3 hours per day"]
["ID1882","Analysts","Europe",32311.654577379326,{"$f":"VLOOKUP(I1837,Calc!$I$35:$J$39,2,FALSE)","v":5},20,"UK","analyst","4 to 6 hours a day"]
["ID1883","Analysts","Asia",7123.1666749770275,{"$f":"VLOOKUP(I1838,Calc!$I$35:$J$39,2,FALSE)","v":1.5},2,"India","technical analyst","1 or 2 hours a day"]
["ID1884","Managers","Middle East",100000,{"$f":"VLOOKUP(I1839,Calc!$I$35:$J$39,2,FALSE)","v":8},15,"UAE","Senior Manager MIS","All the 8 hours baby, all the 8!"]
["ID1885","Accountants","Oceana",59819.107020370408,{"$f":"VLOOKUP(I1840,Calc!$I$35:$J$39,2,FALSE)","v":5},4,"New Zealand","Commercial Accountant","4 to 6 hours a day"]
["ID1886","Analysts","Asia",25000,{"$f":"VLOOKUP(I1841,Calc!$I$35:$J$39,2,FALSE)","v":8},1.5,"India","Data Analyst","All the 8 hours baby, all the 8!"]
["ID1887","Analysts","Asia",5000,{"$f":"VLOOKUP(I1842,Calc!$I$35:$J$39,2,FALSE)","v":2.5},10,"India","admin","2 to 3 hours per day"]
["ID1888","Accountants","Oceana",64254.308353366054,{"$f":"VLOOKUP(I1843,Calc!$I$35:$J$39,2,FALSE)","v":8},3,"Australia","Financial Modelling adviser","All the 8 hours baby, all the 8!"]
["ID1889","Managers","Europe",76223.966339496474,{"$f":"VLOOKUP(I1844,Calc!$I$35:$J$39,2,FALSE)","v":5},6,"Germany","pm","4 to 6 hours a day"]
["ID1890","Engineers","Europe",102542.54233725216,{"$f":"VLOOKUP(I1845,Calc!$I$35:$J$39,2,FALSE)","v":2.5},20,"Denmark","Engineer","2 to 3 hours per day"]
["ID1891","Analysts","North America",46000,{"$f":"VLOOKUP(I1846,Calc!$I$35:$J$39,2,FALSE)","v":8},1,"USA","AML Analyst","All the 8 hours baby, all the 8!"]
["ID1892","Analysts","Asia",5000,{"$f":"VLOOKUP(I1847,Calc!$I$35:$J$39,2,FALSE)","v":8},2,"India","analyst ","All the 8 hours baby, all the 8!"]
["ID1893","Analysts","Oceana",77819.106783521114,{"$f":"VLOOKUP(I1848,Calc!$I$35:$J$39,2,FALSE)","v":8},3,"Australia","Operations Analyst","All the 8 hours baby, all the 8!"]
["ID1894","Managers","Asia",6232.7708406048987,{"$f":"VLOOKUP(I1849,Calc!$I$35:$J$39,2,FALSE)","v":2.5},27,"India","manager purchase","2 to 3 hours per day"]
["ID1895","Analysts","Europe",55166.239522354947,{"$f":"VLOOKUP(I1850,Calc!$I$35:$J$39,2,FALSE)","v":8},34,"UK","Process Analyst","All the 8 hours baby, all the 8!"]
["ID1896","Accountants","North America",45000,{"$f":"VLOOKUP(I1851,Calc!$I$35:$J$39,2,FALSE)","v":2.5},5,"USA","Senior Accountant","2 to 3 hours per day"]
["ID1897","Managers","North America",60000,{"$f":"VLOOKUP(I1852,Calc!$I$35:$J$39,2,FALSE)","v":2.5},10,"Canada","buyer","2 to 3 hours per day"]
["ID1898","Analysts","North America",43000,{"$f":"VLOOKUP(I1853,Calc!$I$35:$J$39,2,FALSE)","v":5},5,"USA","Performance Improvement Analyst","4 to 6 hours a day"]
["ID1899","Controllers","Europe",35571.184291765021,{"$f":"VLOOKUP(I1854,Calc!$I$35:$J$39,2,FALSE)","v":5},8,"Spain","controller","4 to 6 hours a day"]
["ID1900","Analysts","North America",48000,{"$f":"VLOOKUP(I1855,Calc!$I$35:$J$39,2,FALSE)","v":5},12,"USA","Inventory Analyst","4 to 6 hours a day"]
["ID1901","Managers","Oceana",122389.15876831629,{"$f":"VLOOKUP(I1856,Calc!$I$35:$J$39,2,FALSE)","v":1.5},8,"Australia","Manager","1 or 2 hours a day"]
["ID1902","Analysts","Asia",4000,{"$f":"VLOOKUP(I1857,Calc!$I$35:$J$39,2,FALSE)","v":2.5},4,"India","operator","2 to 3 hours per day"]
["ID1903","Reporting","Asia",4451.9791718606421,{"$f":"VLOOKUP(I1858,Calc!$I$35:$J$39,2,FALSE)","v":5},3,"India","MIS EXECUTIVE","4 to 6 hours a day"]
["ID1904","Reporting","Africa",2953.8461538461538,{"$f":"VLOOKUP(I1859,Calc!$I$35:$J$39,2,FALSE)","v":5},3,"Ethiopia","Project Costing &Dashboard reporting","4 to 6 hours a day"]
["ID1905","Analysts","Europe",39404.456801682099,{"$f":"VLOOKUP(I1860,Calc!$I$35:$J$39,2,FALSE)","v":5},3,"UK","Data Analyst","4 to 6 hours a day"]
["ID1906","Analysts","Oceana",75473.31457379504,{"$f":"VLOOKUP(I1861,Calc!$I$35:$J$39,2,FALSE)","v":5},8,"Australia","Systems Analyst","4 to 6 hours a day"]
["ID1907","Analysts","Asia",13355.937515581925,{"$f":"VLOOKUP(I1862,Calc!$I$35:$J$39,2,FALSE)","v":5},5,"India","Analyst","4 to 6 hours a day"]
["ID1908","Managers","Asia",25000,{"$f":"VLOOKUP(I1863,Calc!$I$35:$J$39,2,FALSE)","v":5},10,"India","Team Lead","4 to 6 hours a day"]
["ID1909","Analysts","Asia",7479.3250087258784,{"$f":"VLOOKUP(I1864,Calc!$I$35:$J$39,2,FALSE)","v":5},2,"India","Analyst","4 to 6 hours a day"]
["ID1910","Analysts","North America",62000,{"$f":"VLOOKUP(I1865,Calc!$I$35:$J$39,2,FALSE)","v":5},4,"USA","Analyst","4 to 6 hours a day"]
["ID1911","Analysts","North America",48000,{"$f":"VLOOKUP(I1866,Calc!$I$35:$J$39,2,FALSE)","v":5},1,"USA","Marketing Analyst Co-op","4 to 6 hours a day"]
["ID1912","Miscellaneous","Asia",5000,{"$f":"VLOOKUP(I1867,Calc!$I$35:$J$39,2,FALSE)","v":5},3,"India","abc","4 to 6 hours a day"]
["ID1914","Reporting","Asia",4914.9850057341491,{"$f":"VLOOKUP(I1868,Calc!$I$35:$J$39,2,FALSE)","v":8},6,"India","MIS specialist","All the 8 hours baby, all the 8!"]
["ID1915","Analysts","North America",75000,{"$f":"VLOOKUP(I1869,Calc!$I$35:$J$39,2,FALSE)","v":1.5},3,"USA","Data Analyst","1 or 2 hours a day"]
["ID1916","Analysts","Asia",4451.9791718606421,{"$f":"VLOOKUP(I1870,Calc!$I$35:$J$39,2,FALSE)","v":0},1.6,"India","research associate","Excel ?!? What Excel?"]
["ID1917","Reporting","Asia",8400,{"$f":"VLOOKUP(I1871,Calc!$I$35:$J$39,2,FALSE)","v":8},6,"India","Sr. Executive MIS","All the 8 hours baby, all the 8!"]
["ID1918","Managers","Asia",20000,{"$f":"VLOOKUP(I1872,Calc!$I$35:$J$39,2,FALSE)","v":2.5},5,"India","Monitoring and Evaluation Officer","2 to 3 hours per day"]
["ID1919","Top Mgmt","North America",110000,{"$f":"VLOOKUP(I1873,Calc!$I$35:$J$39,2,FALSE)","v":5},10,"USA","Vice President - Finance","4 to 6 hours a day"]
["ID1920","Analysts","North America",50000,{"$f":"VLOOKUP(I1874,Calc!$I$35:$J$39,2,FALSE)","v":8},3.5,"USA","Operations Analyst ","All the 8 hours baby, all the 8!"]
["ID1921","Analysts","North America",46000,{"$f":"VLOOKUP(I1875,Calc!$I$35:$J$39,2,FALSE)","v":5},8,"USA","Poultry Analyst","4 to 6 hours a day"]
["ID1922","Analysts","North America",115000,{"$f":"VLOOKUP(I1876,Calc!$I$35:$J$39,2,FALSE)","v":8},15,"USA","Business Analyst","All the 8 hours baby, all the 8!"]
["ID1924","Analysts","Asia",3205.4250037396623,{"$f":"VLOOKUP(I1877,Calc!$I$35:$J$39,2,FALSE)","v":5},3,"India","Customer Resolution","4 to 6 hours a day"]
["ID1925","Managers","Europe",76223.966339496474,{"$f":"VLOOKUP(I1878,Calc!$I$35:$J$39,2,FALSE)","v":2.5},20,"Europe","Project Manager","2 to 3 hours per day"]
["ID1927","Analysts","Africa",52500,{"$f":"VLOOKUP(I1879,Calc!$I$35:$J$39,2,FALSE)","v":5},21,"South Africa","Business Analist","4 to 6 hours a day"]
["ID1928","Top Mgmt","Middle East",100800,{"$f":"VLOOKUP(I1880,Calc!$I$35:$J$39,2,FALSE)","v":5},4,"Oman","AVP","4 to 6 hours a day"]
["ID1929","Miscellaneous","Asia",21000,{"$f":"VLOOKUP(I1881,Calc!$I$35:$J$39,2,FALSE)","v":8},5,"India","eorl","All the 8 hours baby, all the 8!"]
["ID1930","Analysts","North America",40000,{"$f":"VLOOKUP(I1882,Calc!$I$35:$J$39,2,FALSE)","v":1.5},3,"USA","Corporate Trainer","1 or 2 hours a day"]
["ID1931","Analysts","North America",46359,{"$f":"VLOOKUP(I1883,Calc!$I$35:$J$39,2,FALSE)","v":8},5,"USA","Data Analyst","All the 8 hours baby, all the 8!"]
["ID1932","Analysts","North America",70000,{"$f":"VLOOKUP(I1884,Calc!$I$35:$J$39,2,FALSE)","v":5},10,"USA","Administrative Coordinator","4 to 6 hours a day"]

{"sheet":"xyData","index":3,"n_rows":1336,"n_cols":2,"rows_kept":1336,"cut":false,"hidden":false,"merged":[]}
["Salary in USD","Years of Experience"]
[54000,5]
[15600,20]
[35000,7]
[188000,20]
[27500,1]
[140000,10]
[69871.969144538423,6]
[45000,2]
[95000,11]
[158085.99674240855,20]
[63807.047488395103,23]
[38000,11]
[90000,6]
[45393.934235537781,27]
[33099.743713412965,10]
[4285,6]
[6000,20]
[22438.012440857987,8]
[90000,15]
[150000,22]
[132588.25533234264,27]
[45000,3]
[50000,10]
[300000,30]
[104030.78495306884,10]
[115000,15]
[70000,3]
[108110.42357867939,16]
[75000,25]
[40414,8]
[65000,3]
[120000,7]
[15092.18020692008,10]
[36000,10]
[63519.971949580387,4]
[108000,7]
[75000,5]
[7123.1666749770275,3]
[50000,25]
[45000,15]
[45000,7]
[90000,20]
[4273.9000049862161,5]
[50000,10]
[65000,17]
[70000,18]
[160000,5]
[101990.96564026357,20]
[6767.0083412281756,10]
[30000,8]
[7479.3250087258784,3]
[61000,5]
[13800,20]
[15136.729184326183,6]
[32054.250037396621,10]
[80000,15]
[21000,23]
[245840.3807575817,32]
[2849.2666699908109,3]
[8400,26]
[86692.320794224041,20]
[50000,20]
[4000,6]
[101990.96564026357,1]
[95000,10]
[10000,5]
[4200,4]
[12821.700014958649,12]
[39000,3]
[60000,12]
[173384.64158844808,10]
[125000,20]
[79552.953199405587,4]
[3561.5833374885137,3]
[80000,8]
[10684.750012465542,3]
[5342.3750062327708,2]
[71231.666749770273,1.5]
[80135.625093491559,6]
[54084.883766667976,5]
[53000,30]
[5342.3750062327708,1]
[7123.1666749770275,5]
[10684.750012465542,11]
[4000,4]
[8000,1]
[2671.1875031163854,5]
[14246.333349954055,3]
[8547.8000099724322,3]
[7693.0200089751897,5]
[4000,8]
[5400,3]
[186983.12521814698,10]
[21500,9]
[15000,2]
[2122.8177433598262,2]
[16917.52085307044,3]
[2938.3062534280239,11]
[16800,12]
[37000,10]
[5342.3750062327708,4.5]
[3561.5833374885137,3]
[8547.8000099724322,8]
[5800,8]
[4095.8208381117906,3]
[4914.9850057341491,3]
[24000,12]
[24000,15]
[8738,7.3]
[15000,1]
[56400,6]
[10200,4.5]
[5787.5729234188348,4.5]
[105000,15]
[4451.9791718606421,5]
[8369.7208430980063,4]
[17067.637625607145,9]
[101990.96564026357,20]
[3917.7416712373652,3]
[52000,18]
[4630.058338735068,2]
[2136.9500024931081,3]
[13000,4]
[2564.3400029917298,7]
[20479.104190558952,7]
[33500,10]
[50000,20]
[5342.3750062327708,3]
[11539.530013462785,2]
[7000,23]
[6767.0083412281756,6]
[3000,2]
[4451.9791718606421,4]
[2671.1875031163854,4.5]
[4957.7240057840108,5]
[3205.4250037396623,14]
[14246.333349954055,7]
[5342.3750062327708,7]
[6588.9291743537506,2]
[6588.9291743537506,2]
[35000,10]
[12821.700014958649,4]
[10684.750012465542,2]
[10000,2]
[2136.9500024931081,0]
[8547.8000099724322,4]
[8013.5625093491553,8]
[7123.1666749770275,0]
[40958.208381117904,5]
[11325.835013213473,2]
[15000,2]
[12000,12]
[8903.9583437212841,1]
[8903.9583437212841,2]
[12821.700014958649,10]
[3205.4250037396623,7]
[6677.9687577909626,6]
[67794.987956419791,15]
[31250,6]
[2165.2740982270229,2]
[7123.1666749770275,4]
[130000,3]
[4451.9791718606421,6]
[9600,2]
[6945.0875081026015,1]
[10684.750012465542,7]
[8547.8000099724322,3.5]
[35000,10]
[17807.916687442568,12]
[3205.4250037396623,4]
[60000,10]
[14246.333349954055,13]
[10684.750012465542,8]
[40000,15]
[5022,15]
[7301.2458418514525,5]
[19831.432821021317,5]
[10684.750012465542,5]
[4800,2]
[83846.362973446114,7]
[15000,2]
[10000,12]
[116637.19213297902,5]
[34357.533974522659,1.5]
[102451.58768437347,15]
[16000,5]
[6000,6]
[6410.8500074793246,6]
[36000,7]
[20000,7]
[4273.9000049862161,8]
[37828.278529614821,8]
[11000,4.5]
[8000,6]
[4006.7812546745777,5.5]
[9171.0323574730355,5]
[4273.9000049862161,20]
[12465.541681209797,5]
[24000,1]
[20000,15]
[62000,20]
[14960,2]
[2136.9500024931081,2]
[30232,5]
[41000,4]
[96891.417358250401,11]
[21369.500024931083,14]
[3650.6229209257262,10]
[19068,20]
[5342.3750062327708,4]
[48000,3]
[3917.7416712373652,2]
[13500,2.5]
[45000,15]
[69871.969144538423,18]
[8547.8000099724322,11]
[9146.5655463031271,7]
[10150.512511842264,2.4]
[11325.835013213473,7]
[1910.5359690238436,7]
[36000,12]
[40067.812546745779,5]
[16000,1]
[4273.9000049862161,4]
[7123.1666749770275,7]
[10000,12]
[64901.860520001574,20]
[65000,10]
[8013.5625093491553,1.5]
[98336.152303032693,5]
[2671.1875031163854,2]
[96000,8]
[20514.720023933838,6]
[19055.991584874118,10]
[66294.12766617132,10]
[6713.584591165848,7]
[45709.169889951241,15]
[48500,10]
[10684.750012465542,4]
[33900,10]
[109729.60187662003,40]
[15136.729184326183,2]
[85000,15]
[8013.5625093491553,6]
[48000,16]
[3027.3458368652364,2]
[13100,5]
[60000,15]
[24000,5]
[4273.9000049862161,3]
[11575.14584683767,5]
[95000,13]
[9188.8850107203652,0]
[8975.1900104710548,3]
[2564.3400029917298,1]
[86689.804963700633,12]
[15500,3]
[148284.35006969364,3]
[10684.750012465542,5]
[75000,27]
[12000,5]
[30273.458368652366,1.1000000000000001]
[30000,7]
[6410.8500074793246,4]
[100000,10]
[53356.776437647524,2]
[40000,20]
[9794.354178093412,1]
[18499.860539512854,6]
[19818.231248269083,5]
[10684.750012465542,20]
[10684.750012465542,18]
[17807.916687442568,10]
[13000,6]
[16027.125018698311,9]
[85000,1]
[6000,10]
[30000,2]
[157617.8272067284,20]
[21369.500024931083,18]
[3561.5833374885137,1]
[5000,1]
[3561.5833374885137,2]
[38111.983169748237,8]
[17807.916687442568,6.5]
[11575.14584683767,3.5]
[98336.152303032693,10]
[92500,15]
[9794.354178093412,1]
[32000,1]
[55000,10]
[40000,4]
[3000,2]
[43600,5]
[9616.275011218986,8]
[35000,10]
[12000,15]
[5000,13]
[16337.518501630093,2]
[65000,8]
[40000,2]
[98000,14]
[50000,15]
[135000,25]
[125000,6]
[4500,4]
[115000,10]
[70000,15]
[60000,8]
[87456,12]
[26400,6]
[12000,18]
[2564.3400029917298,1]
[62000,11]
[5342.3750062327708,10]
[50815.977559664309,4]
[25560,3]
[12821.700014958649,3]
[10684.750012465542,5]
[4457.9172610556352,4]
[125000,20]
[43000,1]
[7123.1666749770275,6]
[10000,4]
[8903.9583437212841,5]
[36500,15]
[100000,10]
[7123.1666749770275,8]
[40958.208381117904,8]
[21369.500024931083,17]
[2136.9500024931081,5]
[8903.9583437212841,3]
[17807.916687442568,5]
[15136.729184326183,3]
[3982.448779308334,10]
[15600,13]
[3205.4250037396623,3.5]
[10000,6]
[75010,6]
[10684.750012465542,9]
[16350,5]
[126094.26176538273,10]
[60000,10]
[23150.291693675339,3]
[13801.135432767991,2]
[18698.312521814696,5]
[36000,9]
[8654.6475100970874,6]
[102451.58768437347,15]
[36400,20]
[101206.40684944032,16]
[5342.3750062327708,0.5]
[28310.79811950968,11]
[26043.18849932796,8]
[96891.417358250401,7]
[2564.3400029917298,4]
[3205.4250037396623,8]
[10684.750012465542,8]
[150000,25]
[12465.541681209797,3]
[19055.991584874118,4]
[105000,20]
[24000,3]
[78808.913603364199,10]
[42000,15]
[9490.1984044603923,8]
[60000,5]
[17807.916687442568,8]
[12465.541681209797,1]
[20571,8]
[3480,6]
[18060,12]
[30000,30]
[24000,10]
[80289.244544269619,3]
[70000,4]
[8547.8000099724322,2]
[10684.750012465542,11]
[10684.750012465542,4]
[20000,2]
[53356.776437647524,3]
[36000,4.5]
[57000,4]
[135000,15]
[95279.957924370581,4]
[57167.974754622352,10]
[12326.656394453004,5]
[8000,5]
[48000,5]
[40000,5]
[59819.107020370408,10]
[150000,20]
[81592.772512210868,25]
[96891.417358250401,20]
[91791.869076237213,13]
[15000,2]
[66294.12766617132,5]
[101990.96564026357,6]
[60000,3]
[43856.11522531334,1]
[45616,1.5]
[75770.868892469181,20]
[57726.886552389187,2]
[20000,2]
[203981.93128052715,15]
[50995.482820131787,5]
[127488.70705032947,15]
[66294.12766617132,4]
[63234.398696963413,3]
[260000,10]
[112190.06220428993,8]
[71393.675948184507,7]
[85000,8]
[95871.50770184776,2.5]
[109130.33323508203,35]
[36000,3]
[122389.15876831629,2]
[53035.30213293706,4]
[125000,10]
[19000,6]
[93831.688389042494,6]
[101990.96564026357,20]
[122389.15876831629,5]
[34417.653306061438,4]
[12000,3]
[3632.815004238284,0]
[21369.500024931083,6]
[8903.9583437212841,7]
[15206.427249917633,2]
[143565.85684888897,25]
[9705.3145946561999,6]
[17807.916687442568,8]
[3205.4250037396623,10]
[45000,3]
[12465.541681209797,7]
[95871.50770184776,14]
[173384.64158844808,8]
[11575.14584683767,1]
[18000,8]
[71393.675948184507,2]
[6232.7708406048987,2.5]
[1805.7739622442759,3]
[11397.066679963244,6]
[15000,4]
[37612.869087708088,3]
[6499.8895909165376,3]
[20000,6]
[7265,6]
[72571.80269935554,15]
[8013.5625093491553,15]
[10150.512511842264,5]
[65000,9]
[3184.2266150397395,4]
[10898.445012714852,13]
[10800,5]
[2136.9500024931081,3.5]
[45000,4]
[7123.1666749770275,5]
[5342.3750062327708,5]
[18000,4.5999999999999996]
[4840.0244548604041,2]
[7479.3250087258784,10]
[3739.6625043629392,3.5]
[42000,5]
[28000,3]
[6000,5]
[43867.345148271634,10]
[17807.916687442568,25]
[10684.750012465542,12]
[60000,5]
[8476.5683432226633,8]
[8700,7]
[3561.5833374885137,8]
[3205.4250037396623,4]
[4487.5950052355274,5]
[12465.541681209797,5]
[2400,15]
[55000,6]
[12000,3]
[55262.375596134938,10]
[21369.500024931083,2]
[40980.635073749385,8]
[50995.482820131787,4]
[20326.391023865726,16]
[12000,8]
[29261.227167098674,20]
[14630.613583549337,10]
[7265.630008476568,5]
[44132.991617883956,16]
[9438.1958443445619,7]
[18000,7]
[3561.5833374885137,5]
[3561.5833374885137,3]
[5100,8]
[21369.500024931083,7]
[5342.3750062327708,1]
[50000,26]
[28492.66669990811,9]
[24588.381044249632,0]
[7000,5]
[7799.8675090998449,10]
[78808.913603364199,12]
[6720,6]
[4451.9791718606421,3.5]
[47285.348162018527,15]
[7200,10]
[44519.791718606422,9]
[2493.1083362419595,4]
[31523.565441345683,1]
[21369.500024931083,8]
[126094.26176538273,10]
[99299.231140238902,1]
[86689.804963700633,22]
[50000,30]
[4273.9000049862161,3]
[4451.9791718606421,3]
[10684.750012465542,10]
[63835.220018725006,25]
[36252.100257547536,5]
[7960,7]
[8903.9583437212841,23]
[50815.977559664309,3]
[47285.348162018527,4]
[75656.557059229643,10]
[4273.9000049862161,20]
[47004.779242689488,11]
[47285.348162018527,10]
[91418.339779902482,8]
[124518.08349331544,14]
[69213.140283018583,3]
[3500,4]
[63047.130882691366,20]
[72412.768022521646,15]
[50815.977559664309,10]
[21369.500024931083,5]
[55166.239522354947,6]
[3205.4250037396623,3]
[10684.750012465542,8]
[5342.3750062327708,5]
[118213.37040504631,10]
[12192.177986291113,15]
[70928.022243027779,8]
[39404.456801682099,3]
[18987,7]
[44921.080753917595,15]
[60000,14]
[71243.257897441246,5]
[4487.5950052355274,16]
[4314.929445034084,7]
[3739.6625043629392,1]
[76223.966339496474,4]
[32666.305522511171,12]
[19000,8]
[63519.971949580387,14]
[16027.125018698311,22]
[7123.1666749770275,9]
[2675.675098121621,5]
[23642.674081009263,2]
[57167.974754622352,14]
[42739.000049862167,10]
[5120.2912876821438,2]
[127039.94389916077,20]
[90000,5]
[7123.1666749770275,2]
[10000,5]
[45709.169889951241,14]
[3561.5833374885137,5]
[38111.983169748237,15]
[60000,4]
[40000,2]
[15190.15293438851,6]
[114335.9495092447,20]
[36252.100257547536,10]
[47285.348162018527,5]
[88927.960729412545,20]
[6000,5]
[35000,20]
[55166.239522354947,10]
[1783.166904422254,10]
[13500,13]
[59106.685202523156,5]
[12608.005014709339,5]
[44654.095718350931,15]
[69000,20]
[6000,6]
[8903.9583437212841,25]
[30000,17]
[8600,2]
[81600,4]
[15404.364569961488,3]
[63918.498996971248,20]
[75000,20]
[59000,14]
[50000,5]
[126094.26176538273,15]
[26691.183012544854,7]
[8903.9583437212841,0.8]
[8725,18]
[50437.70470615309,4]
[67775.665698893223,15]
[52118.160720607324,6]
[3561.5833374885137,6]
[8013.5625093491553,21]
[28000,5]
[50064.150455673145,2]
[50437.70470615309,9]
[27840,1]
[6232.7708406048987,1.5]
[50000,25]
[48000,10]
[24000,21]
[75000,12]
[58799.349940520107,2]
[21228.177433598263,8]
[60000,10]
[18018.883790212141,10]
[7200,7]
[56000,2]
[9616.275011218986,7.9]
[51497.005988023957,9]
[104172.75399731184,25]
[88000,2]
[80000,6]
[19000,20]
[19055.991584874118,3]
[8547.8000099724322,15]
[19588.708356186824,13]
[61000,1.5]
[53590.061250287661,10]
[53590.061250287661,10]
[4451.9791718606421,1]
[25407.988779832154,12]
[23000,14]
[16027.125018698311,13]
[60000,6]
[4800,5]
[106815.148267971,25]
[8903.9583437212841,3]
[60000,12]
[46300.583387350678,4]
[13355.937515581925,3]
[74000,10]
[95856,13]
[40000,15]
[4400,5]
[90000,30]
[8013.5625093491553,2]
[17807.916687442568,8.5]
[12465.541681209797,6]
[80000,6]
[100000,11]
[49200,25]
[9000,1]
[5342.3750062327708,6]
[40000,15]
[40980.635073749385,2]
[45709.169889951241,8]
[7123.1666749770275,1]
[100000,12]
[78764.765217479682,15]
[152986.44846039536,10]
[44463.980364706273,12]
[38111.983169748237,8]
[118213.37040504631,20]
[39404.456801682099,10]
[90198.36016840415,3]
[47285.348162018527,14]
[56000,1]
[5082.6943786459069,2]
[53590.061250287661,10]
[76906.906752939132,17]
[85000,5]
[72000,10]
[55000,7]
[67775.665698893223,25]
[40586.590505732565,1]
[50846,25]
[63000,16]
[81592.772512210868,5]
[50700,15]
[31523.565441345683,1]
[70000,6]
[63918.498996971248,15]
[7261.724659606657,2]
[11404.820437438224,2]
[120000,5]
[91791.869076237213,5]
[112190.06220428993,7]
[40000,18]
[107000,12]
[82000,10]
[101990.96564026357,15]
[43000,4]
[69000,20]
[30000,3]
[48955.663507326513,2]
[70000,8]
[45000,7]
[35000,12]
[8903.9583437212841,29]
[28353.650809742252,20]
[11800,10]
[6410.8500074793246,6]
[50000,3]
[85000,10]
[17807.916687442568,10]
[16027.125018698311,8]
[192000,27]
[54000,6]
[18000,12]
[5342.3750062327708,5]
[7123.1666749770275,3]
[15000,10]
[14000,12]
[8000,4]
[12500,7]
[140000,12]
[12000,1]
[38111.983169748237,15]
[10684.750012465542,2]
[6232.7708406048987,1.5]
[45000,8]
[80000,6]
[26711.875031163851,7]
[100000,17]
[69353.856635379227,10]
[49975.573163729154,30]
[10239.552095279476,5]
[8903.9583437212841,2]
[36000,10]
[3739.6625043629392,4.5]
[61614.372791092981,8]
[3561.5833374885137,3]
[6410.8500074793246,6]
[36206.384011260823,5]
[13500,20]
[3000,2]
[21369.500024931083,9]
[10684.750012465542,28]
[176585.52201983347,25]
[54627.175876639136,7]
[30489.586535798586,10]
[5591.6858398569666,0.1]
[82000,10]
[10000,0.5]
[9000,0.6]
[9000,1]
[11753.225013712095,7]
[3632.815004238284,2]
[95279.957924370581,16]
[70928.022243027779,4]
[52086.37699865592,12]
[4897.177089046706,4]
[63807.047488395103,15]
[24000,5]
[60000,20]
[5342.3750062327708,3]
[8903.9583437212841,5]
[40980.635073749385,2]
[10684.750012465542,7]
[21369.500024931083,21]
[18000,12]
[41000,4]
[28492.66669990811,4]
[49500,4.5]
[6600,6.4]
[110332.47904470989,15]
[47285.348162018527,6]
[5300,5]
[43828.780645210471,15]
[80000,14]
[11518.711713336908,3]
[152986.44846039536,5.5]
[125000,2]
[101990.96564026357,30]
[105000,15]
[50815.977559664309,20]
[75000,7]
[4451.9791718606421,8]
[110000,10]
[42556.81334581667,1]
[8013.5625093491553,7]
[125000,25]
[60000,12]
[39355.495879248076,5.6]
[57167.974754622352,12]
[50694.322109187968,8]
[57500,30]
[78764.765217479682,15]
[80000,10]
[70928.022243027779,15]
[33000,3]
[100000,1]
[60000,20]
[95000,7]
[24000,33]
[50000,0.5]
[103000,22]
[36000,8]
[85000,17]
[100000,20]
[83000,12]
[85000,25]
[120000,5]
[69960,22]
[97000,14]
[94570.696324037053,7]
[39000,6]
[4451.9791718606421,15]
[62000,25]
[44000,15]
[150000,30]
[228671.89901848941,15]
[73500,6]
[77500,7]
[60800,10]
[136000,10]
[20000,6]
[95000,14]
[130000,25]
[65000,10]
[80000,8]
[37000,30]
[40000,8]
[49000,10]
[65000,14]
[55000,1]
[40000,1]
[60000,15]
[45734.379803697877,4]
[150000,30]
[88000,21]
[64500,13]
[57600,20]
[50000,15]
[120000,10]
[107000,29]
[40000,6]
[81000,12]
[45000,20]
[49000,5]
[13355.937515581925,1]
[72000,20]
[50000,7]
[57678,2]
[80442,16]
[75000,9]
[61000,12]
[77000,10]
[92000,9]
[72000,10]
[14000,3]
[111000,10]
[80000,20]
[57875.729234188344,5.5]
[25000,8]
[24000,2]
[61000,25]
[56095.031102144967,11]
[71393.675948184507,5]
[96230,18]
[75000,1.5]
[102000,5]
[19008.034062397041,3]
[4356,5]
[5342.3750062327708,4]
[67000,20]
[8547.8000099724322,7]
[16027.125018698311,4]
[10684.750012465542,36]
[30000,8]
[8903.9583437212841,0]
[20000,10]
[87712.230450626681,10]
[17807.916687442568,6]
[41000,2]
[60000,4]
[32187.34988380854,2]
[39879.404680246938,5]
[5698.5333399816218,2]
[7123.1666749770275,6]
[4451.9791718606421,15]
[6410.8500074793246,6]
[20479.104190558952,12]
[11040.908346214392,5]
[17807.916687442568,7]
[3561.5833374885137,11]
[26795.030625143831,5]
[20400,10]
[39404.456801682099,35]
[149907.13380100971,7]
[4095.8208381117906,1.6]
[127488.70705032947,7]
[58318.59606648951,20]
[9509.8988293070688,2]
[12821.700014958649,3]
[4000,6]
[42000,2]
[3200,19]
[60000,10]
[85000,9]
[109000,15]
[76223.966339496474,14]
[77000,13]
[25000,4]
[64000,12]
[231119.74856804207,10]
[76000,10]
[15761.782720672842,8]
[168285.09330643489,17]
[50000,13]
[7200,8]
[53356.776437647524,7]
[45000,10]
[5000,4]
[75473.31457379504,20]
[15000,5]
[42558.381206218859,8]
[61000,5]
[66000,2]
[4950.6008391090336,8]
[55000,14]
[32000,10]
[18000,6]
[11575.14584683767,21]
[63519.971949580387,15]
[71231.666749770273,5]
[10000,1]
[74300,3]
[26711.875031163851,10]
[9545.0433444692171,4]
[95000,15]
[64300,15]
[250000,20]
[89000,10]
[75000,1.5]
[45000,5]
[127500,22]
[170000,18]
[9600,2]
[62000,27]
[22000,3]
[45000,8]
[145000,6]
[89000,14]
[38000,11]
[49168.076151516347,3]
[8903.9583437212841,8]
[10000,8]
[105000,30]
[12000,0]
[3561.5833374885137,3]
[86692.320794224041,5]
[8000,18]
[6767.0083412281756,6]
[48073.437298052166,14]
[76223.966339496474,15]
[85333.333333333328,15]
[76223.981237173866,8]
[30000,5]
[34000,4]
[3205.4250037396623,5]
[45000,5]
[24864,8]
[47285.348162018527,7]
[17807.916687442568,10]
[55166.239522354947,3]
[69871.969144538423,5]
[70970,17]
[76223.966339496474,7]
[110000,5]
[14400,15]
[125000,8]
[72768.752704244194,10]
[59000,15]
[71500,5]
[39404.456801682099,2]
[88927.960729412545,5]
[90000,25]
[12465.541681209797,30]
[40000,8]
[30000,4]
[46325,1]
[15000,8]
[31200,15]
[8903.9583437212841,9]
[15840,8]
[15136.729184326183,5]
[41000,10]
[11000,2]
[55166.239522354947,30]
[5689.2125418690484,15]
[17728,3]
[13745.704467353951,8]
[50000,15]
[78668.921842426149,7]
[85000,10]
[101990.96564026357,20]
[100614.72928405051,6]
[86692.320794224041,30]
[122389.15876831629,5]
[6410.8500074793246,8]
[44000,3.5]
[4451.9791718606421,2.5]
[4500,6]
[30273.458368652366,6]
[52000,5]
[75000,9]
[17807.916687442568,4]
[177600,6]
[11575.14584683767,5]
[26678.388218823762,10]
[126094.26176538273,12]
[6000,2]
[10000,6]
[50000,2]
[10000,12]
[50000,12]
[20000,1]
[31523.565441345683,3]
[63519.971949580387,10]
[35063.024516168378,15]
[55000,2]
[38000,1]
[32054.250037396621,1]
[35500,20]
[62000,5]
[33887.832849446611,1]
[60000,1]
[32884,10]
[42000,2]
[68000,12]
[85000,8]
[13000,4]
[15000,5]
[50000,8]
[7000,1]
[140000,12]
[7123.1666749770275,2.5]
[58318.59606648951,9]
[12109.383347460946,2]
[55000,1]
[60000,16]
[5698.5333399816218,5]
[9376.2513877177607,7]
[94570.696324037053,5]
[36000,5]
[65889.291743537498,4]
[106000,7]
[82888.5550559455,18]
[59819.107020370408,10]
[6545,9]
[17807.916687442568,13]
[54000,10]
[100000,4]
[49168.076151516347,5]
[4019,3]
[15000,5]
[17807.916687442568,4]
[12000,3]
[2225.989585930321,4]
[86000,3]
[6054.6916737304728,5]
[3360,3]
[10000,1]
[70000,9]
[155000,14]
[225000,15]
[10000,2]
[5342.3750062327708,8]
[85672.4111378214,6]
[4273.9000049862161,15]
[8903.9583437212841,20]
[66199.48742682593,23]
[5698.5333399816218,2.5]
[34675.92198548025,17]
[31200,11]
[55068.245289698301,1]
[13000,6]
[92000,12]
[85000,10]
[11000,8]
[38111.983169748237,12]
[49000,3]
[59000,3]
[55000,15]
[75000,10]
[50307.817784067665,5]
[30500,8]
[80000,2]
[12000,1]
[48500,6]
[63047.130882691366,25]
[3419.1200039889732,5]
[87734.690296543267,6]
[56628.754645950656,6]
[8013.5625093491553,4]
[3561.5833374885137,16]
[62000,12]
[26678.388218823762,5]
[70928.022243027779,5]
[41923.181486723057,6]
[90000,8]
[67700.452577525488,5]
[85000,12]
[78808.913603364199,10]
[65000,8]
[75000,3]
[92000,9]
[50815.977559664309,3]
[55954.328658388586,8]
[45000,4]
[7123.1666749770275,4]
[49443.946165553374,1.5]
[45000,5]
[60000,1]
[65000,4]
[73000,6]
[54000,6]
[81000,6]
[10000,2]
[42000,1]
[81592.772512210868,5]
[35401.014829091764,2]
[8903.9583437212841,4]
[10684.750012465542,5]
[8400,14]
[9794.354178093412,13]
[14400,8]
[2671.1875031163854,3]
[22000,6]
[100000,6]
[63047.130882691366,15]
[56742.417794422225,25]
[25000,8]
[8903.9583437212841,2]
[42556.81334581667,2]
[131770.4440860638,20]
[68835.306612122877,2]
[6000,5]
[78808.913603364199,2]
[7497.1329254133216,4]
[10000,11]
[6410.8500074793246,2]
[63047.130882691366,5]
[61194.579384158147,3]
[115061.01386091174,8]
[45000,2]
[36000,4]
[68000,2.5]
[75000,5]
[88000,10]
[4594.4425053601826,4]
[69000,15]
[30000,1]
[80000,7]
[75000,1]
[31200,4]
[85000,20]
[16917.52085307044,9]
[3205.4250037396623,2]
[60000,2]
[60000,2]
[14246.333349954055,0]
[14246.333349954055,0]
[28995,6]
[21903.737525554359,3]
[20122.945856810104,3]
[70928.022243027779,20]
[67000,16]
[30000,4]
[148102.22862117883,6]
[71500,11]
[67000,6]
[40000,5]
[65000,2]
[72000,13]
[52500,3]
[5320,5]
[18000,3]
[2493.1083362419595,5]
[21342.710575059013,15]
[85000,15]
[80000,9]
[8903.9583437212841,0]
[125000,10]
[23150.291693675339,9]
[12000,7]
[30000,12]
[91468.759607395754,3]
[35148.775467100437,4]
[49153.119414418252,7]
[2671.1875031163854,1]
[42556.81334581667,3]
[42556.81334581667,3]
[74461,9]
[41768.724209783031,16]
[8547.8000099724322,1]
[2400,3]
[3000,12]
[11000,2]
[40000,2]
[3600,1]
[56600,12]
[33600,2]
[33600,2]
[100000,12]
[39334.460921213074,1]
[7123.1666749770275,3]
[65000,14]
[65000,10]
[65000,13]
[76702.198796365497,4]
[63000,10]
[87000,3]
[45000,4]
[85000,3]
[159105.90639881117,12]
[9972.4333449678379,4]
[14000,5]
[50437.70470615309,20]
[50437.70470615309,1]
[13603.016099449767,8]
[147886.90017838217,15]
[4986.216672483919,8]
[4800,3]
[8013.5625093491553,4]
[80000,2]
[57167.974754622352,14]
[20000,2]
[70000,5]
[214000,20]
[78000,5]
[42307,25]
[33250,20]
[24391.669228638868,10]
[120000,20]
[20000,1]
[15000,0.3]
[17807.916687442568,10]
[16027.125018698311,6]
[56742.417794422225,7]
[21369.500024931083,7]
[7568.3645921630914,6]
[78808.913603364199,10]
[60000,15]
[57000,9]
[40000,0]
[80000,9]
[118000,6]
[60000,5]
[6720,5]
[20640,3]
[50000,15]
[24000,23]
[60000,3]
[37500,0]
[40000,1]
[85000,15]
[30000,1]
[52801.972114254015,7]
[29000,1]
[48000,1]
[48000,1]
[8400,0.3]
[4808.137505609493,5]
[24931.083362419595,10]
[12465.541681209797,4]
[31523.565441345683,10]
[17807.916687442568,10]
[112000,8]
[11000,8]
[114335.9495092447,20]
[16110,10]
[72000,10]
[60000,10]
[67000,6]
[54000,18]
[38666,10]
[63000,6]
[63000,1]
[6410.8500074793246,2]
[10684.750012465542,12]
[40000,5]
[6232.7708406048987,6]
[41712.231189497601,12]
[12465.541681209797,9]
[32311.654577379326,20]
[7123.1666749770275,2]
[100000,15]
[59819.107020370408,4]
[25000,1.5]
[5000,10]
[64254.308353366054,3]
[76223.966339496474,6]
[102542.54233725216,20]
[46000,1]
[5000,2]
[77819.106783521114,3]
[6232.7708406048987,27]
[55166.239522354947,34]
[45000,5]
[60000,10]
[43000,5]
[35571.184291765021,8]
[48000,12]
[122389.15876831629,8]
[4000,4]
[4451.9791718606421,3]
[2953.8461538461538,3]
[39404.456801682099,3]
[75473.31457379504,8]
[13355.937515581925,5]
[25000,10]
[7479.3250087258784,2]
[62000,4]
[48000,1]
[5000,3]
[4914.9850057341491,6]
[75000,3]
[4451.9791718606421,1.6]
[8400,6]
[20000,5]
[110000,10]
[50000,3.5]
[46000,8]
[115000,15]
[3205.4250037396623,3]
[76223.966339496474,20]
[52500,21]
[100800,4]
[21000,5]
[40000,3]
[46359,5]
[70000,10]