{"text_format":"1","workbook":"xlsx","n_sheets":3,"sheets":["Novo","Folha2","Table"],"not_rendered":{"charts":1,"images":54,"macros":1,"external_links":0,"defined_names":9,"comments":0,"pivot_tables":0},"unopened":[],"bounds":{"document_bytes":16777216,"sheet_cells":100000,"rows_first":2000,"rows_last":500,"rows_between":2000,"halvings":0,"cell_chars":16384,"cell_head_chars":4096},"cells_cut":0,"cells_raw":0,"read":"whole","date_system":"1900"}

{"sheet":"Novo","index":0,"n_rows":121,"n_cols":132,"rows_kept":121,"cut":false,"hidden":false,"merged":[[33,55,33,57],[33,59,33,61],[42,51,42,53],[43,51,43,53],[53,65,54,66],[53,67,54,68],[30,59,31,61],[39,32,39,34],[30,11,31,13],[30,15,31,17],[30,19,31,21],[30,23,31,25],[30,27,31,29],[30,43,31,45],[30,47,31,49],[30,51,31,53],[30,55,31,57],[32,43,32,45],[33,43,33,45],[32,15,32,17],[33,15,33,17],[34,15,34,17],[32,51,32,53],[32,55,32,57],[32,59,32,61],[33,51,33,53],[42,15,42,17],[43,15,43,17],[44,15,44,17],[37,15,37,17],[38,15,38,17],[40,15,40,17],[41,15,41,17],[43,47,43,49],[44,47,44,49],[38,47,38,49],[40,47,40,49],[41,47,41,49],[44,27,44,29],[37,23,37,25],[38,23,38,25],[44,11,44,13],[34,43,34,45],[35,43,35,45],[36,43,36,45],[37,43,37,45],[38,43,38,45],[39,43,39,45],[40,43,40,45],[41,43,41,45],[42,43,42,45],[43,43,43,45],[44,43,44,45],[35,15,35,17],[36,15,36,17],[39,23,39,25],[40,23,40,25],[41,23,41,25],[37,19,37,21],[38,19,38,21],[40,19,40,21],[41,19,41,21],[42,19,42,21],[43,19,43,21],[44,19,44,21],[43,0,43,1],[34,2,34,9],[35,2,35,9],[36,2,36,9],[32,0,33,9],[32,32,33,41],[32,11,32,13],[33,11,33,13],[34,11,34,13],[35,11,35,13],[36,11,36,13],[36,23,36,25],[37,2,37,9],[38,2,38,9],[40,2,40,9],[41,2,41,9],[42,2,42,9],[37,11,37,13],[38,11,38,13],[39,11,39,13],[40,11,40,13],[41,11,41,13],[42,11,42,13],[43,11,43,13],[43,2,43,9],[44,2,44,9],[0,121,0,122],[39,0,39,3],[34,34,34,41],[35,34,35,41],[36,34,36,41],[37,34,37,41],[38,34,38,41],[32,47,32,49],[33,47,33,49],[34,47,34,49],[35,47,35,49],[36,47,36,49],[37,47,37,49],[44,0,44,1],[34,0,34,1],[35,0,35,1],[36,0,36,1],[37,0,37,1],[38,0,38,1],[40,0,40,1],[41,0,41,1],[42,0,42,1],[45,38,45,39],[34,32,34,33],[35,32,35,33],[36,32,36,33],[37,32,37,33],[38,32,38,33],[40,32,40,33],[41,32,41,33],[42,32,42,33],[43,32,43,33],[44,32,44,33],[40,34,40,41],[41,34,41,41],[42,34,42,41],[43,34,43,41],[44,34,44,41],[32,19,32,21],[32,23,32,25],[32,27,32,29],[33,19,33,21],[33,23,33,25],[33,27,33,29],[34,19,34,21],[35,19,35,21],[36,19,36,21],[44,51,44,53],[34,23,34,25],[35,23,35,25],[42,47,42,49],[42,23,42,25],[43,23,43,25],[44,23,44,25],[34,27,34,29],[35,27,35,29],[36,27,36,29],[37,27,37,29],[38,27,38,29],[39,27,39,29],[40,27,40,29],[41,27,41,29],[42,27,42,29],[43,27,43,29],[34,51,34,53],[35,51,35,53],[36,51,36,53],[37,51,37,53],[38,51,38,53],[40,51,40,53],[41,51,41,53],[44,55,44,57],[34,59,34,61],[35,59,35,61],[36,59,36,61],[37,59,37,61],[38,59,38,61],[40,59,40,61],[41,59,41,61],[42,59,42,61],[43,59,43,61],[44,59,44,61],[40,55,40,57],[41,55,41,57],[42,55,42,57],[43,55,43,57],[34,55,34,57],[35,55,35,57],[36,55,36,57],[37,55,37,57],[38,55,38,57]]}
[{"$f":"IFERROR(HYPERLINK(getCoor(ROW(),COLUMN()),\"\"),\"\")","v":""},{"$f":"IFERROR(HYPERLINK(getCoor(ROW(),COLUMN()),\"\"),\"\")","v":""},{"$f":"IFERROR(HYPERLINK(getCoor(ROW(),COLUMN()),\"\"),\"\")","v":""},{"$f":"IFERROR(HYPERLINK(getCoor(ROW(),COLUMN()),\"\"),\"\")","v":""},{"$f":"IFERROR(HYPERLINK(getCoor(ROW(),COLUMN()),\"\"),\"\")","v":""},{"$f":"IFERROR(HYPERLINK(getCoor(ROW(),COLUMN()),\"\"),\"\")","v":""},{"$f":"IFERROR(HYPERLINK(getCoor(ROW(),COLUMN()),\"\"),\"\")","v":""},{"$f":"IFERROR(HYPERLINK(getCoor(ROW(),COLUMN()),\"\"),\"\")","v":""},{"$f":"IFERROR(HYPERLINK(getCoor(ROW(),COLUMN()),\"\"),\"\")","v":""},{"$f":"IFERROR(HYPERLINK(getCoor(ROW(),COLUMN()),\"\"),\"\")","v":""},{"$f":"IFERROR(HYPERLINK(getCoor(ROW(),COLUMN()),\"\"),\"\")","v":""},{"$f":"IFERROR(HYPERLINK(getCoor(ROW(),COLUMN()),\"\"),\"\")","v":""},{"$f":"IFERROR(HYPERLINK(getCoor(ROW(),COLUMN()),\"\"),\"\")","v":""},{"$f":"IFERROR(HYPERLINK(getCoor(ROW(),COLUMN()),\"\"),\"\")","v":""},{"$f":"IFERROR(HYPERLINK(getCoor(ROW(),COLUMN()),\"\"),\"\")","v":""},{"$f":"IFERROR(HYPERLINK(getCoor(ROW(),COLUMN()),\"\"),\"\")","v":""},{"$f":"IFERROR(HYPERLINK(getCoor(ROW(),COLUMN()),\"\"),\"\")","v":""},{"$f":"IFERROR(HYPERLINK(getCoor(ROW(),COLUMN()),\"\"),\"\")","v":""},{"$f":"IFERROR(HYPERLINK(getCoor(ROW(),COLUMN()),\"\"),\"\")","v":""},{"$f":"IFERROR(HYPERLINK(getCoor(ROW(),COLUMN()),\"\"),\"\")","v":""},{"$f":"IFERROR(HYPERLINK(getCoor(ROW(),COLUMN()),\"\"),\"\")","v":""},{"$f":"IFERROR(HYPERLINK(getCoor(ROW(),COLUMN()),\"\"),\"\")","v":""},{"$f":"IFERROR(HYPERLINK(getCoor(ROW(),COLUMN()),\"\"),\"\")","v":""},{"$f":"IFERROR(HYPERLINK(getCoor(ROW(),COLUMN()),\"\"),\"\")","v":""},{"$f":"IFERROR(HYPERLINK(getCoor(ROW(),COLUMN()),\"\"),\"\")","v":""},{"$f":"IFERROR(HYPERLINK(getCoor(ROW(),COLUMN()),\"\"),\"\")","v":""},{"$f":"IFERROR(HYPERLINK(getCoor(ROW(),COLUMN()),\"\"),\"\")","v":""},{"$f":"IFERROR(HYPERLINK(getCoor(ROW(),COLUMN()),\"\"),\"\")","v":""},{"$f":"IFERROR(HYPERLINK(getCoor(ROW(),COLUMN()),\"\"),\"\")","v":""},{"$f":"IFERROR(HYPERLINK(getCoor(ROW(),COLUMN()),\"\"),\"\")","v":""},{"$f":"IFERROR(HYPERLINK(getCoor(ROW(),COLUMN()),\"\"),\"\")","v":""},{"$f":"IFERROR(HYPERLINK(getCoor(ROW(),COLUMN()),\"\"),\"\")","v":""},{"$f":"IFERROR(HYPERLINK(getCoor(ROW(),COLUMN()),\"\"),\"\")","v":""},{"$f":"IFERROR(HYPERLINK(getCoor(ROW(),COLUMN()),\"\"),\"\")","v":""},{"$f":"IFERROR(HYPERLINK(getCoor(ROW(),COLUMN()),\"\"),\"\")","v":""},{"$f":"IFERROR(HYPERLINK(getCoor(ROW(),COLUMN()),\"\"),\"\")","v":""},{"$f":"IFERROR(HYPERLINK(getCoor(ROW(),COLUMN()),\"\"),\"\")","v":""},{"$f":"IFERROR(HYPERLINK(getCoor(ROW(),COLUMN()),\"\"),\"\")","v":""},{"$f":"IFERROR(HYPERLINK(getCoor(ROW(),COLUMN()),\"\"),\"\")","v":""},{"$f":"IFERROR(HYPERLINK(getCoor(ROW(),COLUMN()),\"\"),\"\")","v":""},{"$f":"IFERROR(HYPERLINK(getCoor(ROW(),COLUMN()),\"\"),\"\")","v":""},{"$f":"IFERROR(HYPERLINK(getCoor(ROW(),COLUMN()),\"\"),\"\")","v":""},{"$f":"IFERROR(HYPERLINK(getCoor(ROW(),COLUMN()),\"\"),\"\")","v":""},{"$f":"IFERROR(HYPERLINK(getCoor(ROW(),COLUMN()),\"\"),\"\")","v":""},{"$f":"IFERROR(HYPERLINK(getCoor(ROW(),COLUMN()),\"\"),\"\")","v":""},{"$f":"IFERROR(HYPERLINK(getCoor(ROW(),COLUMN()),\"\"),\"\")","v":""},{"$f":"IFERROR(HYPERLINK(getCoor(ROW(),COLUMN()),\"\"),\"\")","v":""},{"$f":"IFERROR(HYPERLINK(getCoor(ROW(),COLUMN()),\"\"),\"\")","v":""},{"$f":"IFERROR(HYPERLINK(getCoor(ROW(),COLUMN()),\"\"),\"\")","v":""},{"$f":"IFERROR(HYPERLINK(getCoor(ROW(),COLUMN()),\"\"),\"\")","v":""},{"$f":"IFERROR(HYPERLINK(getCoor(ROW(),COLUMN()),\"\"),\"\")","v":""},{"$f":"IFERROR(HYPERLINK(getCoor(ROW(),COLUMN()),\"\"),\"\")","v":""},{"$f":"IFERROR(HYPERLINK(getCoor(ROW(),COLUMN()),\"\"),\"\")","v":""},{"$f":"IFERROR(HYPERLINK(getCoor(ROW(),COLUMN()),\"\"),\"\")","v":""},{"$f":"IFERROR(HYPERLINK(getCoor(ROW(),COLUMN()),\"\"),\"\")","v":""},{"$f":"IFERROR(HYPERLINK(getCoor(ROW(),COLUMN()),\"\"),\"\")","v":""},{"$f":"IFERROR(HYPERLINK(getCoor(ROW(),COLUMN()),\"\"),\"\")","v":""},{"$f":"IFERROR(HYPERLINK(getCoor(ROW(),COLUMN()),\"\"),\"\")","v":""},{"$f":"IFERROR(HYPERLINK(getCoor(ROW(),COLUMN()),\"\"),\"\")","v":""},{"$f":"IFERROR(HYPERLINK(getCoor(ROW(),COLUMN()),\"\"),\"\")","v":""},{"$f":"IFERROR(HYPERLINK(getCoor(ROW(),COLUMN()),\"\"),\"\")","v":""},{"$f":"IFERROR(HYPERLINK(getCoor(ROW(),COLUMN()),\"\"),\"\")","v":""},{"$f":"IFERROR(HYPERLINK(getCoor(ROW(),COLUMN()),\"\"),\"\")","v":""},"Nº","Média dos 3 anos","IN","%","OUT","%","Dif.",null,null,null,null,null,null,null,null,null,null,null,null,null,null,null,null,null,null,null,null,null,null,null,null,null,null,null,null,null,null,null,null,null,null,null,null,null,null,null,null,null,"Left ","Top","Largura","Altura","Within X","Within Y","Highlight Flag","Cntrd X","Cntrd Y","Distance","Coordenadas volátis"]
[null,{"$f":"IFERROR(HYPERLINK(getCoor(ROW(),COLUMN()),\"\"),\"\")","v":""},{"$f":"IFERROR(HYPERLINK(getCoor(ROW(),COLUMN()),\"\"),\"\")","v":""},{"$f":"IFERROR(HYPERLINK(getCoor(ROW(),COLUMN()),\"\"),\"\")","v":""},{"$f":"IFERROR(HYPERLINK(getCoor(ROW(),COLUMN()),\"\"),\"\")","v":""},{"$f":"IFERROR(HYPERLINK(getCoor(ROW(),COLUMN()),\"\"),\"\")","v":""},{"$f":"IFERROR(HYPERLINK(getCoor(ROW(),COLUMN()),\"\"),\"\")","v":""},{"$f":"IFERROR(HYPERLINK(getCoor(ROW(),COLUMN()),\"\"),\"\")","v":""},{"$f":"IFERROR(HYPERLINK(getCoor(ROW(),COLUMN()),\"\"),\"\")","v":""},{"$f":"IFERROR(HYPERLINK(getCoor(ROW(),COLUMN()),\"\"),\"\")","v":""},{"$f":"IFERROR(HYPERLINK(getCoor(ROW(),COLUMN()),\"\"),\"\")","v":""},{"$f":"IFERROR(HYPERLINK(getCoor(ROW(),COLUMN()),\"\"),\"\")","v":""},{"$f":"IFERROR(HYPERLINK(getCoor(ROW(),COLUMN()),\"\"),\"\")","v":""},{"$f":"IFERROR(HYPERLINK(getCoor(ROW(),COLUMN()),\"\"),\"\")","v":""},{"$f":"IFERROR(HYPERLINK(getCoor(ROW(),COLUMN()),\"\"),\"\")","v":""},{"$f":"IFERROR(HYPERLINK(getCoor(ROW(),COLUMN()),\"\"),\"\")","v":""},{"$f":"IFERROR(HYPERLINK(getCoor(ROW(),COLUMN()),\"\"),\"\")","v":""},{"$f":"IFERROR(HYPERLINK(getCoor(ROW(),COLUMN()),\"\"),\"\")","v":""},{"$f":"IFERROR(HYPERLINK(getCoor(ROW(),COLUMN()),\"\"),\"\")","v":""},{"$f":"IFERROR(HYPERLINK(getCoor(ROW(),COLUMN()),\"\"),\"\")","v":""},{"$f":"IFERROR(HYPERLINK(getCoor(ROW(),COLUMN()),\"\"),\"\")","v":""},{"$f":"IFERROR(HYPERLINK(getCoor(ROW(),COLUMN()),\"\"),\"\")","v":""},{"$f":"IFERROR(HYPERLINK(getCoor(ROW(),COLUMN()),\"\"),\"\")","v":""},{"$f":"IFERROR(HYPERLINK(getCoor(ROW(),COLUMN()),\"\"),\"\")","v":""},{"$f":"IFERROR(HYPERLINK(getCoor(ROW(),COLUMN()),\"\"),\"\")","v":""},{"$f":"IFERROR(HYPERLINK(getCoor(ROW(),COLUMN()),\"\"),\"\")","v":""},{"$f":"IFERROR(HYPERLINK(getCoor(ROW(),COLUMN()),\"\"),\"\")","v":""},{"$f":"IFERROR(HYPERLINK(getCoor(ROW(),COLUMN()),\"\"),\"\")","v":""},{"$f":"IFERROR(HYPERLINK(getCoor(ROW(),COLUMN()),\"\"),\"\")","v":""},{"$f":"IFERROR(HYPERLINK(getCoor(ROW(),COLUMN()),\"\"),\"\")","v":""},{"$f":"IFERROR(HYPERLINK(getCoor(ROW(),COLUMN()),\"\"),\"\")","v":""},{"$f":"IFERROR(HYPERLINK(getCoor(ROW(),COLUMN()),\"\"),\"\")","v":""},{"$f":"IFERROR(HYPERLINK(getCoor(ROW(),COLUMN()),\"\"),\"\")","v":""},{"$f":"IFERROR(HYPERLINK(getCoor(ROW(),COLUMN()),\"\"),\"\")","v":""},{"$f":"IFERROR(HYPERLINK(getCoor(ROW(),COLUMN()),\"\"),\"\")","v":""},{"$f":"IFERROR(HYPERLINK(getCoor(ROW(),COLUMN()),\"\"),\"\")","v":""},{"$f":"IFERROR(HYPERLINK(getCoor(ROW(),COLUMN()),\"\"),\"\")","v":""},{"$f":"IFERROR(HYPERLINK(getCoor(ROW(),COLUMN()),\"\"),\"\")","v":""},{"$f":"IFERROR(HYPERLINK(getCoor(ROW(),COLUMN()),\"\"),\"\")","v":""},{"$f":"IFERROR(HYPERLINK(getCoor(ROW(),COLUMN()),\"\"),\"\")","v":""},{"$f":"IFERROR(HYPERLINK(getCoor(ROW(),COLUMN()),\"\"),\"\")","v":""},{"$f":"IFERROR(HYPERLINK(getCoor(ROW(),COLUMN()),\"\"),\"\")","v":""},{"$f":"IFERROR(HYPERLINK(getCoor(ROW(),COLUMN()),\"\"),\"\")","v":""},{"$f":"IFERROR(HYPERLINK(getCoor(ROW(),COLUMN()),\"\"),\"\")","v":""},{"$f":"IFERROR(HYPERLINK(getCoor(ROW(),COLUMN()),\"\"),\"\")","v":""},{"$f":"IFERROR(HYPERLINK(getCoor(ROW(),COLUMN()),\"\"),\"\")","v":""},{"$f":"IFERROR(HYPERLINK(getCoor(ROW(),COLUMN()),\"\"),\"\")","v":""},{"$f":"IFERROR(HYPERLINK(getCoor(ROW(),COLUMN()),\"\"),\"\")","v":""},{"$f":"IFERROR(HYPERLINK(getCoor(ROW(),COLUMN()),\"\"),\"\")","v":""},{"$f":"IFERROR(HYPERLINK(getCoor(ROW(),COLUMN()),\"\"),\"\")","v":""},{"$f":"IFERROR(HYPERLINK(getCoor(ROW(),COLUMN()),\"\"),\"\")","v":""},{"$f":"IFERROR(HYPERLINK(getCoor(ROW(),COLUMN()),\"\"),\"\")","v":""},{"$f":"IFERROR(HYPERLINK(getCoor(ROW(),COLUMN()),\"\"),\"\")","v":""},{"$f":"IFERROR(HYPERLINK(getCoor(ROW(),COLUMN()),\"\"),\"\")","v":""},{"$f":"IFERROR(HYPERLINK(getCoor(ROW(),COLUMN()),\"\"),\"\")","v":""},{"$f":"IFERROR(HYPERLINK(getCoor(ROW(),COLUMN()),\"\"),\"\")","v":""},{"$f":"IFERROR(HYPERLINK(getCoor(ROW(),COLUMN()),\"\"),\"\")","v":""},{"$f":"IFERROR(HYPERLINK(getCoor(ROW(),COLUMN()),\"\"),\"\")","v":""},{"$f":"IFERROR(HYPERLINK(getCoor(ROW(),COLUMN()),\"\"),\"\")","v":""},{"$f":"IFERROR(HYPERLINK(getCoor(ROW(),COLUMN()),\"\"),\"\")","v":""},{"$f":"IFERROR(HYPERLINK(getCoor(ROW(),COLUMN()),\"\"),\"\")","v":""},{"$f":"IFERROR(HYPERLINK(getCoor(ROW(),COLUMN()),\"\"),\"\")","v":""},{"$f":"IFERROR(HYPERLINK(getCoor(ROW(),COLUMN()),\"\"),\"\")","v":""},1,"Alabama",{"$f":"IFERROR(HLOOKUP($DS$5,Table!$I$182:$BL$237,Table!BN186),\"\")","v":""},{"$f":"IFERROR(BN2/$BN$54,\"\")","v":""},{"$f":"IFERROR(VLOOKUP($DS$5,Table!$A$186:$BL$237,Table!BO186),\"\")","v":""},{"$f":"IFERROR(BP2/$BP$54,\"\")","v":""},{"$f":"+IFERROR(BN2-BP2,\"\")","v":""},53,{"$f":"BM53","v":"Puerto Rico"},{"$f":"BR53","v":""},null,null,null,null,null,null,null,null,null,null,null,null,null,null,null,null,null,null,null,null,null,null,null,null,null,null,null,null,null,null,null,null,null,null,null,null,null,null,351,243,40,40,{"$f":"AND(valLeft>=DH2,valLeft<=(DH2+DK2))","v":true},{"$f":"AND(valTop>=DI2,valTop<=(DI2+DK2))","v":false},{"$f":"AND(DL2,DM2)","v":false},{"$f":"(DH2+DK2+DH2)/2","v":371},{"$f":"(DI2+DJ2+DI2)/2","v":263},{"$f":"SQRT((DO2-valLeft)^2+(DP2-valTop)^2)*DN2","v":0},"Left",378,{"$f":"IF(DU2=TRUE,1,0)","v":0},{"$f":"IF(DN2=FALSE,FALSE,TRUE)","v":false},1,"Alabama",{"$f":"--DU2&DW2","v":"0Alabama"},null,null,null,5]
[null,{"$f":"IFERROR(HYPERLINK(getCoor(ROW(),COLUMN()),\"\"),\"\")","v":""},{"$f":"IFERROR(HYPERLINK(getCoor(ROW(),COLUMN()),\"\"),\"\")","v":""},{"$f":"IFERROR(HYPERLINK(getCoor(ROW(),COLUMN()),\"\"),\"\")","v":""},{"$f":"IFERROR(HYPERLINK(getCoor(ROW(),COLUMN()),\"\"),\"\")","v":""},{"$f":"IFERROR(HYPERLINK(getCoor(ROW(),COLUMN()),\"\"),\"\")","v":""},{"$f":"IFERROR(HYPERLINK(getCoor(ROW(),COLUMN()),\"\"),\"\")","v":""},{"$f":"IFERROR(HYPERLINK(getCoor(ROW(),COLUMN()),\"\"),\"\")","v":""},{"$f":"IFERROR(HYPERLINK(getCoor(ROW(),COLUMN()),\"\"),\"\")","v":""},{"$f":"IFERROR(HYPERLINK(getCoor(ROW(),COLUMN()),\"\"),\"\")","v":""},{"$f":"IFERROR(HYPERLINK(getCoor(ROW(),COLUMN()),\"\"),\"\")","v":""},{"$f":"IFERROR(HYPERLINK(getCoor(ROW(),COLUMN()),\"\"),\"\")","v":""},{"$f":"IFERROR(HYPERLINK(getCoor(ROW(),COLUMN()),\"\"),\"\")","v":""},{"$f":"IFERROR(HYPERLINK(getCoor(ROW(),COLUMN()),\"\"),\"\")","v":""},{"$f":"IFERROR(HYPERLINK(getCoor(ROW(),COLUMN()),\"\"),\"\")","v":""},{"$f":"IFERROR(HYPERLINK(getCoor(ROW(),COLUMN()),\"\"),\"\")","v":""},{"$f":"IFERROR(HYPERLINK(getCoor(ROW(),COLUMN()),\"\"),\"\")","v":""},{"$f":"IFERROR(HYPERLINK(getCoor(ROW(),COLUMN()),\"\"),\"\")","v":""},{"$f":"IFERROR(HYPERLINK(getCoor(ROW(),COLUMN()),\"\"),\"\")","v":""},{"$f":"IFERROR(HYPERLINK(getCoor(ROW(),COLUMN()),\"\"),\"\")","v":""},{"$f":"IFERROR(HYPERLINK(getCoor(ROW(),COLUMN()),\"\"),\"\")","v":""},{"$f":"IFERROR(HYPERLINK(getCoor(ROW(),COLUMN()),\"\"),\"\")","v":""},{"$f":"IFERROR(HYPERLINK(getCoor(ROW(),COLUMN()),\"\"),\"\")","v":""},{"$f":"IFERROR(HYPERLINK(getCoor(ROW(),COLUMN()),\"\"),\"\")","v":""},{"$f":"IFERROR(HYPERLINK(getCoor(ROW(),COLUMN()),\"\"),\"\")","v":""},{"$f":"IFERROR(HYPERLINK(getCoor(ROW(),COLUMN()),\"\"),\"\")","v":""},{"$f":"IFERROR(HYPERLINK(getCoor(ROW(),COLUMN()),\"\"),\"\")","v":""},{"$f":"IFERROR(HYPERLINK(getCoor(ROW(),COLUMN()),\"\"),\"\")","v":""},{"$f":"IFERROR(HYPERLINK(getCoor(ROW(),COLUMN()),\"\"),\"\")","v":""},{"$f":"IFERROR(HYPERLINK(getCoor(ROW(),COLUMN()),\"\"),\"\")","v":""},{"$f":"IFERROR(HYPERLINK(getCoor(ROW(),COLUMN()),\"\"),\"\")","v":""},{"$f":"IFERROR(HYPERLINK(getCoor(ROW(),COLUMN()),\"\"),\"\")","v":""},{"$f":"IFERROR(HYPERLINK(getCoor(ROW(),COLUMN()),\"\"),\"\")","v":""},{"$f":"IFERROR(HYPERLINK(getCoor(ROW(),COLUMN()),\"\"),\"\")","v":""},{"$f":"IFERROR(HYPERLINK(getCoor(ROW(),COLUMN()),\"\"),\"\")","v":""},{"$f":"IFERROR(HYPERLINK(getCoor(ROW(),COLUMN()),\"\"),\"\")","v":""},{"$f":"IFERROR(HYPERLINK(getCoor(ROW(),COLUMN()),\"\"),\"\")","v":""},{"$f":"IFERROR(HYPERLINK(getCoor(ROW(),COLUMN()),\"\"),\"\")","v":""},{"$f":"IFERROR(HYPERLINK(getCoor(ROW(),COLUMN()),\"\"),\"\")","v":""},{"$f":"IFERROR(HYPERLINK(getCoor(ROW(),COLUMN()),\"\"),\"\")","v":""},{"$f":"IFERROR(HYPERLINK(getCoor(ROW(),COLUMN()),\"\"),\"\")","v":""},{"$f":"IFERROR(HYPERLINK(getCoor(ROW(),COLUMN()),\"\"),\"\")","v":""},{"$f":"IFERROR(HYPERLINK(getCoor(ROW(),COLUMN()),\"\"),\"\")","v":""},{"$f":"IFERROR(HYPERLINK(getCoor(ROW(),COLUMN()),\"\"),\"\")","v":""},{"$f":"IFERROR(HYPERLINK(getCoor(ROW(),COLUMN()),\"\"),\"\")","v":""},{"$f":"IFERROR(HYPERLINK(getCoor(ROW(),COLUMN()),\"\"),\"\")","v":""},{"$f":"IFERROR(HYPERLINK(getCoor(ROW(),COLUMN()),\"\"),\"\")","v":""},{"$f":"IFERROR(HYPERLINK(getCoor(ROW(),COLUMN()),\"\"),\"\")","v":""},{"$f":"IFERROR(HYPERLINK(getCoor(ROW(),COLUMN()),\"\"),\"\")","v":""},{"$f":"IFERROR(HYPERLINK(getCoor(ROW(),COLUMN()),\"\"),\"\")","v":""},{"$f":"IFERROR(HYPERLINK(getCoor(ROW(),COLUMN()),\"\"),\"\")","v":""},{"$f":"IFERROR(HYPERLINK(getCoor(ROW(),COLUMN()),\"\"),\"\")","v":""},{"$f":"IFERROR(HYPERLINK(getCoor(ROW(),COLUMN()),\"\"),\"\")","v":""},{"$f":"IFERROR(HYPERLINK(getCoor(ROW(),COLUMN()),\"\"),\"\")","v":""},{"$f":"IFERROR(HYPERLINK(getCoor(ROW(),COLUMN()),\"\"),\"\")","v":""},{"$f":"IFERROR(HYPERLINK(getCoor(ROW(),COLUMN()),\"\"),\"\")","v":""},{"$f":"IFERROR(HYPERLINK(getCoor(ROW(),COLUMN()),\"\"),\"\")","v":""},{"$f":"IFERROR(HYPERLINK(getCoor(ROW(),COLUMN()),\"\"),\"\")","v":""},{"$f":"IFERROR(HYPERLINK(getCoor(ROW(),COLUMN()),\"\"),\"\")","v":""},{"$f":"IFERROR(HYPERLINK(getCoor(ROW(),COLUMN()),\"\"),\"\")","v":""},{"$f":"IFERROR(HYPERLINK(getCoor(ROW(),COLUMN()),\"\"),\"\")","v":""},{"$f":"IFERROR(HYPERLINK(getCoor(ROW(),COLUMN()),\"\"),\"\")","v":""},{"$f":"IFERROR(HYPERLINK(getCoor(ROW(),COLUMN()),\"\"),\"\")","v":""},2,"Alaska",{"$f":"IFERROR(HLOOKUP($DS$5,Table!$I$182:$BL$237,Table!BN187),\"\")","v":""},{"$f":"IFERROR(BN3/$BN$54,\"\")","v":""},{"$f":"IFERROR(VLOOKUP($DS$5,Table!$A$186:$BL$237,Table!BO187),\"\")","v":""},{"$f":"IFERROR(BP3/$BP$54,\"\")","v":""},"",52,{"$f":"BM52","v":"Wyoming"},{"$f":"BR52","v":""},null,null,null,null,null,null,null,null,null,null,null,null,null,null,null,null,null,null,null,null,null,null,null,null,null,null,null,null,null,null,null,null,null,null,null,null,null,null,54,310,50,50,{"$f":"AND(valLeft>=DH3,valLeft<=(DH3+DK3))","v":false},{"$f":"AND(valTop>=DI3,valTop<=(DI3+DK3))","v":true},{"$f":"AND(DL3,DM3)","v":false},{"$f":"(DH3+DK3+DH3)/2","v":79},{"$f":"(DI3+DJ3+DI3)/2","v":335},{"$f":"SQRT((DO3-valLeft)^2+(DP3-valTop)^2)*DN3","v":0},"Top",351,0,false,2,"Alaska","0Alaska",null,null,null,6]
[null,{"$f":"IFERROR(HYPERLINK(getCoor(ROW(),COLUMN()),\"\"),\"\")","v":""},{"$f":"IFERROR(HYPERLINK(getCoor(ROW(),COLUMN()),\"\"),\"\")","v":""},{"$f":"IFERROR(HYPERLINK(getCoor(ROW(),COLUMN()),\"\"),\"\")","v":""},{"$f":"IFERROR(HYPERLINK(getCoor(ROW(),COLUMN()),\"\"),\"\")","v":""},{"$f":"IFERROR(HYPERLINK(getCoor(ROW(),COLUMN()),\"\"),\"\")","v":""},{"$f":"IFERROR(HYPERLINK(getCoor(ROW(),COLUMN()),\"\"),\"\")","v":""},{"$f":"IFERROR(HYPERLINK(getCoor(ROW(),COLUMN()),\"\"),\"\")","v":""},{"$f":"IFERROR(HYPERLINK(getCoor(ROW(),COLUMN()),\"\"),\"\")","v":""},{"$f":"IFERROR(HYPERLINK(getCoor(ROW(),COLUMN()),\"\"),\"\")","v":""},{"$f":"IFERROR(HYPERLINK(getCoor(ROW(),COLUMN()),\"\"),\"\")","v":""},{"$f":"IFERROR(HYPERLINK(getCoor(ROW(),COLUMN()),\"\"),\"\")","v":""},{"$f":"IFERROR(HYPERLINK(getCoor(ROW(),COLUMN()),\"\"),\"\")","v":""},{"$f":"IFERROR(HYPERLINK(getCoor(ROW(),COLUMN()),\"\"),\"\")","v":""},{"$f":"IFERROR(HYPERLINK(getCoor(ROW(),COLUMN()),\"\"),\"\")","v":""},{"$f":"IFERROR(HYPERLINK(getCoor(ROW(),COLUMN()),\"\"),\"\")","v":""},{"$f":"IFERROR(HYPERLINK(getCoor(ROW(),COLUMN()),\"\"),\"\")","v":""},{"$f":"IFERROR(HYPERLINK(getCoor(ROW(),COLUMN()),\"\"),\"\")","v":""},{"$f":"IFERROR(HYPERLINK(getCoor(ROW(),COLUMN()),\"\"),\"\")","v":""},{"$f":"IFERROR(HYPERLINK(getCoor(ROW(),COLUMN()),\"\"),\"\")","v":""},{"$f":"IFERROR(HYPERLINK(getCoor(ROW(),COLUMN()),\"\"),\"\")","v":""},{"$f":"IFERROR(HYPERLINK(getCoor(ROW(),COLUMN()),\"\"),\"\")","v":""},{"$f":"IFERROR(HYPERLINK(getCoor(ROW(),COLUMN()),\"\"),\"\")","v":""},{"$f":"IFERROR(HYPERLINK(getCoor(ROW(),COLUMN()),\"\"),\"\")","v":""},{"$f":"IFERROR(HYPERLINK(getCoor(ROW(),COLUMN()),\"\"),\"\")","v":""},{"$f":"IFERROR(HYPERLINK(getCoor(ROW(),COLUMN()),\"\"),\"\")","v":""},{"$f":"IFERROR(HYPERLINK(getCoor(ROW(),COLUMN()),\"\"),\"\")","v":""},{"$f":"IFERROR(HYPERLINK(getCoor(ROW(),COLUMN()),\"\"),\"\")","v":""},{"$f":"IFERROR(HYPERLINK(getCoor(ROW(),COLUMN()),\"\"),\"\")","v":""},{"$f":"IFERROR(HYPERLINK(getCoor(ROW(),COLUMN()),\"\"),\"\")","v":""},{"$f":"IFERROR(HYPERLINK(getCoor(ROW(),COLUMN()),\"\"),\"\")","v":""},{"$f":"IFERROR(HYPERLINK(getCoor(ROW(),COLUMN()),\"\"),\"\")","v":""},{"$f":"IFERROR(HYPERLINK(getCoor(ROW(),COLUMN()),\"\"),\"\")","v":""},{"$f":"IFERROR(HYPERLINK(getCoor(ROW(),COLUMN()),\"\"),\"\")","v":""},{"$f":"IFERROR(HYPERLINK(getCoor(ROW(),COLUMN()),\"\"),\"\")","v":""},{"$f":"IFERROR(HYPERLINK(getCoor(ROW(),COLUMN()),\"\"),\"\")","v":""},{"$f":"IFERROR(HYPERLINK(getCoor(ROW(),COLUMN()),\"\"),\"\")","v":""},{"$f":"IFERROR(HYPERLINK(getCoor(ROW(),COLUMN()),\"\"),\"\")","v":""},{"$f":"IFERROR(HYPERLINK(getCoor(ROW(),COLUMN()),\"\"),\"\")","v":""},{"$f":"IFERROR(HYPERLINK(getCoor(ROW(),COLUMN()),\"\"),\"\")","v":""},{"$f":"IFERROR(HYPERLINK(getCoor(ROW(),COLUMN()),\"\"),\"\")","v":""},{"$f":"IFERROR(HYPERLINK(getCoor(ROW(),COLUMN()),\"\"),\"\")","v":""},{"$f":"IFERROR(HYPERLINK(getCoor(ROW(),COLUMN()),\"\"),\"\")","v":""},{"$f":"IFERROR(HYPERLINK(getCoor(ROW(),COLUMN()),\"\"),\"\")","v":""},{"$f":"IFERROR(HYPERLINK(getCoor(ROW(),COLUMN()),\"\"),\"\")","v":""},{"$f":"IFERROR(HYPERLINK(getCoor(ROW(),COLUMN()),\"\"),\"\")","v":""},{"$f":"IFERROR(HYPERLINK(getCoor(ROW(),COLUMN()),\"\"),\"\")","v":""},{"$f":"IFERROR(HYPERLINK(getCoor(ROW(),COLUMN()),\"\"),\"\")","v":""},{"$f":"IFERROR(HYPERLINK(getCoor(ROW(),COLUMN()),\"\"),\"\")","v":""},{"$f":"IFERROR(HYPERLINK(getCoor(ROW(),COLUMN()),\"\"),\"\")","v":""},{"$f":"IFERROR(HYPERLINK(getCoor(ROW(),COLUMN()),\"\"),\"\")","v":""},{"$f":"IFERROR(HYPERLINK(getCoor(ROW(),COLUMN()),\"\"),\"\")","v":""},{"$f":"IFERROR(HYPERLINK(getCoor(ROW(),COLUMN()),\"\"),\"\")","v":""},{"$f":"IFERROR(HYPERLINK(getCoor(ROW(),COLUMN()),\"\"),\"\")","v":""},{"$f":"IFERROR(HYPERLINK(getCoor(ROW(),COLUMN()),\"\"),\"\")","v":""},{"$f":"IFERROR(HYPERLINK(getCoor(ROW(),COLUMN()),\"\"),\"\")","v":""},{"$f":"IFERROR(HYPERLINK(getCoor(ROW(),COLUMN()),\"\"),\"\")","v":""},{"$f":"IFERROR(HYPERLINK(getCoor(ROW(),COLUMN()),\"\"),\"\")","v":""},{"$f":"IFERROR(HYPERLINK(getCoor(ROW(),COLUMN()),\"\"),\"\")","v":""},{"$f":"IFERROR(HYPERLINK(getCoor(ROW(),COLUMN()),\"\"),\"\")","v":""},{"$f":"IFERROR(HYPERLINK(getCoor(ROW(),COLUMN()),\"\"),\"\")","v":""},{"$f":"IFERROR(HYPERLINK(getCoor(ROW(),COLUMN()),\"\"),\"\")","v":""},{"$f":"IFERROR(HYPERLINK(getCoor(ROW(),COLUMN()),\"\"),\"\")","v":""},3,"Arizona",{"$f":"IFERROR(HLOOKUP($DS$5,Table!$I$182:$BL$237,Table!BN188),\"\")","v":""},"",{"$f":"IFERROR(VLOOKUP($DS$5,Table!$A$186:$BL$237,Table!BO188),\"\")","v":""},"","",51,{"$f":"BM51","v":"Wisconsin"},{"$f":"BR51","v":""},null,null,null,null,null,null,null,null,null,null,null,null,null,null,null,null,null,null,null,null,null,null,null,null,null,null,null,null,null,null,null,null,null,null,null,null,null,null,99,230,40,40,false,false,false,119,250,0,null,null,0,false,3,"Arizona","0Arizona",null,null,null,7]
[null,{"$f":"IFERROR(HYPERLINK(getCoor(ROW(),COLUMN()),\"\"),\"\")","v":""},{"$f":"IFERROR(HYPERLINK(getCoor(ROW(),COLUMN()),\"\"),\"\")","v":""},{"$f":"IFERROR(HYPERLINK(getCoor(ROW(),COLUMN()),\"\"),\"\")","v":""},{"$f":"IFERROR(HYPERLINK(getCoor(ROW(),COLUMN()),\"\"),\"\")","v":""},{"$f":"IFERROR(HYPERLINK(getCoor(ROW(),COLUMN()),\"\"),\"\")","v":""},{"$f":"IFERROR(HYPERLINK(getCoor(ROW(),COLUMN()),\"\"),\"\")","v":""},{"$f":"IFERROR(HYPERLINK(getCoor(ROW(),COLUMN()),\"\"),\"\")","v":""},{"$f":"IFERROR(HYPERLINK(getCoor(ROW(),COLUMN()),\"\"),\"\")","v":""},{"$f":"IFERROR(HYPERLINK(getCoor(ROW(),COLUMN()),\"\"),\"\")","v":""},{"$f":"IFERROR(HYPERLINK(getCoor(ROW(),COLUMN()),\"\"),\"\")","v":""},{"$f":"IFERROR(HYPERLINK(getCoor(ROW(),COLUMN()),\"\"),\"\")","v":""},{"$f":"IFERROR(HYPERLINK(getCoor(ROW(),COLUMN()),\"\"),\"\")","v":""},{"$f":"IFERROR(HYPERLINK(getCoor(ROW(),COLUMN()),\"\"),\"\")","v":""},{"$f":"IFERROR(HYPERLINK(getCoor(ROW(),COLUMN()),\"\"),\"\")","v":""},{"$f":"IFERROR(HYPERLINK(getCoor(ROW(),COLUMN()),\"\"),\"\")","v":""},{"$f":"IFERROR(HYPERLINK(getCoor(ROW(),COLUMN()),\"\"),\"\")","v":""},{"$f":"IFERROR(HYPERLINK(getCoor(ROW(),COLUMN()),\"\"),\"\")","v":""},{"$f":"IFERROR(HYPERLINK(getCoor(ROW(),COLUMN()),\"\"),\"\")","v":""},{"$f":"IFERROR(HYPERLINK(getCoor(ROW(),COLUMN()),\"\"),\"\")","v":""},{"$f":"IFERROR(HYPERLINK(getCoor(ROW(),COLUMN()),\"\"),\"\")","v":""},{"$f":"IFERROR(HYPERLINK(getCoor(ROW(),COLUMN()),\"\"),\"\")","v":""},{"$f":"IFERROR(HYPERLINK(getCoor(ROW(),COLUMN()),\"\"),\"\")","v":""},{"$f":"IFERROR(HYPERLINK(getCoor(ROW(),COLUMN()),\"\"),\"\")","v":""},{"$f":"IFERROR(HYPERLINK(getCoor(ROW(),COLUMN()),\"\"),\"\")","v":""},{"$f":"IFERROR(HYPERLINK(getCoor(ROW(),COLUMN()),\"\"),\"\")","v":""},{"$f":"IFERROR(HYPERLINK(getCoor(ROW(),COLUMN()),\"\"),\"\")","v":""},{"$f":"IFERROR(HYPERLINK(getCoor(ROW(),COLUMN()),\"\"),\"\")","v":""},{"$f":"IFERROR(HYPERLINK(getCoor(ROW(),COLUMN()),\"\"),\"\")","v":""},{"$f":"IFERROR(HYPERLINK(getCoor(ROW(),COLUMN()),\"\"),\"\")","v":""},{"$f":"IFERROR(HYPERLINK(getCoor(ROW(),COLUMN()),\"\"),\"\")","v":""},{"$f":"IFERROR(HYPERLINK(getCoor(ROW(),COLUMN()),\"\"),\"\")","v":""},{"$f":"IFERROR(HYPERLINK(getCoor(ROW(),COLUMN()),\"\"),\"\")","v":""},{"$f":"IFERROR(HYPERLINK(getCoor(ROW(),COLUMN()),\"\"),\"\")","v":""},{"$f":"IFERROR(HYPERLINK(getCoor(ROW(),COLUMN()),\"\"),\"\")","v":""},{"$f":"IFERROR(HYPERLINK(getCoor(ROW(),COLUMN()),\"\"),\"\")","v":""},{"$f":"IFERROR(HYPERLINK(getCoor(ROW(),COLUMN()),\"\"),\"\")","v":""},{"$f":"IFERROR(HYPERLINK(getCoor(ROW(),COLUMN()),\"\"),\"\")","v":""},{"$f":"IFERROR(HYPERLINK(getCoor(ROW(),COLUMN()),\"\"),\"\")","v":""},{"$f":"IFERROR(HYPERLINK(getCoor(ROW(),COLUMN()),\"\"),\"\")","v":""},{"$f":"IFERROR(HYPERLINK(getCoor(ROW(),COLUMN()),\"\"),\"\")","v":""},{"$f":"IFERROR(HYPERLINK(getCoor(ROW(),COLUMN()),\"\"),\"\")","v":""},{"$f":"IFERROR(HYPERLINK(getCoor(ROW(),COLUMN()),\"\"),\"\")","v":""},{"$f":"IFERROR(HYPERLINK(getCoor(ROW(),COLUMN()),\"\"),\"\")","v":""},{"$f":"IFERROR(HYPERLINK(getCoor(ROW(),COLUMN()),\"\"),\"\")","v":""},{"$f":"IFERROR(HYPERLINK(getCoor(ROW(),COLUMN()),\"\"),\"\")","v":""},{"$f":"IFERROR(HYPERLINK(getCoor(ROW(),COLUMN()),\"\"),\"\")","v":""},{"$f":"IFERROR(HYPERLINK(getCoor(ROW(),COLUMN()),\"\"),\"\")","v":""},{"$f":"IFERROR(HYPERLINK(getCoor(ROW(),COLUMN()),\"\"),\"\")","v":""},{"$f":"IFERROR(HYPERLINK(getCoor(ROW(),COLUMN()),\"\"),\"\")","v":""},{"$f":"IFERROR(HYPERLINK(getCoor(ROW(),COLUMN()),\"\"),\"\")","v":""},{"$f":"IFERROR(HYPERLINK(getCoor(ROW(),COLUMN()),\"\"),\"\")","v":""},{"$f":"IFERROR(HYPERLINK(getCoor(ROW(),COLUMN()),\"\"),\"\")","v":""},{"$f":"IFERROR(HYPERLINK(getCoor(ROW(),COLUMN()),\"\"),\"\")","v":""},{"$f":"IFERROR(HYPERLINK(getCoor(ROW(),COLUMN()),\"\"),\"\")","v":""},{"$f":"IFERROR(HYPERLINK(getCoor(ROW(),COLUMN()),\"\"),\"\")","v":""},{"$f":"IFERROR(HYPERLINK(getCoor(ROW(),COLUMN()),\"\"),\"\")","v":""},{"$f":"IFERROR(HYPERLINK(getCoor(ROW(),COLUMN()),\"\"),\"\")","v":""},{"$f":"IFERROR(HYPERLINK(getCoor(ROW(),COLUMN()),\"\"),\"\")","v":""},{"$f":"IFERROR(HYPERLINK(getCoor(ROW(),COLUMN()),\"\"),\"\")","v":""},{"$f":"IFERROR(HYPERLINK(getCoor(ROW(),COLUMN()),\"\"),\"\")","v":""},{"$f":"IFERROR(HYPERLINK(getCoor(ROW(),COLUMN()),\"\"),\"\")","v":""},{"$f":"IFERROR(HYPERLINK(getCoor(ROW(),COLUMN()),\"\"),\"\")","v":""},4,"Arkansas",{"$f":"IFERROR(HLOOKUP($DS$5,Table!$I$182:$BL$237,Table!BN189),\"\")","v":""},"",{"$f":"IFERROR(VLOOKUP($DS$5,Table!$A$186:$BL$237,Table!BO189),\"\")","v":""},"","",50,{"$f":"BM50","v":"West Virginia"},{"$f":"BR50","v":""},null,null,null,null,null,null,null,null,null,null,null,null,null,null,null,null,null,null,null,null,null,null,null,null,null,null,null,null,null,null,null,null,null,null,null,null,null,null,288,230,40,40,false,false,false,308,250,0,"Index",{"$f":"IFERROR(VLOOKUP(1,DT2:DV108,3,FALSE),\"\")","v":""},0,false,4,"Arkansas","0Arkansas",null,null,null,8]
[{"$f":"IFERROR(HYPERLINK(getCoor(ROW(),COLUMN()),\"\"),\"\")","v":""},{"$f":"IFERROR(HYPERLINK(getCoor(ROW(),COLUMN()),\"\"),\"\")","v":""},{"$f":"IFERROR(HYPERLINK(getCoor(ROW(),COLUMN()),\"\"),\"\")","v":""},{"$f":"IFERROR(HYPERLINK(getCoor(ROW(),COLUMN()),\"\"),\"\")","v":""},{"$f":"IFERROR(HYPERLINK(getCoor(ROW(),COLUMN()),\"\"),\"\")","v":""},{"$f":"IFERROR(HYPERLINK(getCoor(ROW(),COLUMN()),\"\"),\"\")","v":""},{"$f":"IFERROR(HYPERLINK(getCoor(ROW(),COLUMN()),\"\"),\"\")","v":""},{"$f":"IFERROR(HYPERLINK(getCoor(ROW(),COLUMN()),\"\"),\"\")","v":""},{"$f":"IFERROR(HYPERLINK(getCoor(ROW(),COLUMN()),\"\"),\"\")","v":""},{"$f":"IFERROR(HYPERLINK(getCoor(ROW(),COLUMN()),\"\"),\"\")","v":""},{"$f":"IFERROR(HYPERLINK(getCoor(ROW(),COLUMN()),\"\"),\"\")","v":""},{"$f":"IFERROR(HYPERLINK(getCoor(ROW(),COLUMN()),\"\"),\"\")","v":""},{"$f":"IFERROR(HYPERLINK(getCoor(ROW(),COLUMN()),\"\"),\"\")","v":""},{"$f":"IFERROR(HYPERLINK(getCoor(ROW(),COLUMN()),\"\"),\"\")","v":""},{"$f":"IFERROR(HYPERLINK(getCoor(ROW(),COLUMN()),\"\"),\"\")","v":""},{"$f":"IFERROR(HYPERLINK(getCoor(ROW(),COLUMN()),\"\"),\"\")","v":""},{"$f":"IFERROR(HYPERLINK(getCoor(ROW(),COLUMN()),\"\"),\"\")","v":""},{"$f":"IFERROR(HYPERLINK(getCoor(ROW(),COLUMN()),\"\"),\"\")","v":""},{"$f":"IFERROR(HYPERLINK(getCoor(ROW(),COLUMN()),\"\"),\"\")","v":""},{"$f":"IFERROR(HYPERLINK(getCoor(ROW(),COLUMN()),\"\"),\"\")","v":""},{"$f":"IFERROR(HYPERLINK(getCoor(ROW(),COLUMN()),\"\"),\"\")","v":""},{"$f":"IFERROR(HYPERLINK(getCoor(ROW(),COLUMN()),\"\"),\"\")","v":""},{"$f":"IFERROR(HYPERLINK(getCoor(ROW(),COLUMN()),\"\"),\"\")","v":""},{"$f":"IFERROR(HYPERLINK(getCoor(ROW(),COLUMN()),\"\"),\"\")","v":""},{"$f":"IFERROR(HYPERLINK(getCoor(ROW(),COLUMN()),\"\"),\"\")","v":""},{"$f":"IFERROR(HYPERLINK(getCoor(ROW(),COLUMN()),\"\"),\"\")","v":""},{"$f":"IFERROR(HYPERLINK(getCoor(ROW(),COLUMN()),\"\"),\"\")","v":""},{"$f":"IFERROR(HYPERLINK(getCoor(ROW(),COLUMN()),\"\"),\"\")","v":""},{"$f":"IFERROR(HYPERLINK(getCoor(ROW(),COLUMN()),\"\"),\"\")","v":""},{"$f":"IFERROR(HYPERLINK(getCoor(ROW(),COLUMN()),\"\"),\"\")","v":""},{"$f":"IFERROR(HYPERLINK(getCoor(ROW(),COLUMN()),\"\"),\"\")","v":""},{"$f":"IFERROR(HYPERLINK(getCoor(ROW(),COLUMN()),\"\"),\"\")","v":""},{"$f":"IFERROR(HYPERLINK(getCoor(ROW(),COLUMN()),\"\"),\"\")","v":""},{"$f":"IFERROR(HYPERLINK(getCoor(ROW(),COLUMN()),\"\"),\"\")","v":""},{"$f":"IFERROR(HYPERLINK(getCoor(ROW(),COLUMN()),\"\"),\"\")","v":""},{"$f":"IFERROR(HYPERLINK(getCoor(ROW(),COLUMN()),\"\"),\"\")","v":""},{"$f":"IFERROR(HYPERLINK(getCoor(ROW(),COLUMN()),\"\"),\"\")","v":""},{"$f":"IFERROR(HYPERLINK(getCoor(ROW(),COLUMN()),\"\"),\"\")","v":""},{"$f":"IFERROR(HYPERLINK(getCoor(ROW(),COLUMN()),\"\"),\"\")","v":""},{"$f":"IFERROR(HYPERLINK(getCoor(ROW(),COLUMN()),\"\"),\"\")","v":""},{"$f":"IFERROR(HYPERLINK(getCoor(ROW(),COLUMN()),\"\"),\"\")","v":""},{"$f":"IFERROR(HYPERLINK(getCoor(ROW(),COLUMN()),\"\"),\"\")","v":""},{"$f":"IFERROR(HYPERLINK(getCoor(ROW(),COLUMN()),\"\"),\"\")","v":""},{"$f":"IFERROR(HYPERLINK(getCoor(ROW(),COLUMN()),\"\"),\"\")","v":""},{"$f":"IFERROR(HYPERLINK(getCoor(ROW(),COLUMN()),\"\"),\"\")","v":""},{"$f":"IFERROR(HYPERLINK(getCoor(ROW(),COLUMN()),\"\"),\"\")","v":""},{"$f":"IFERROR(HYPERLINK(getCoor(ROW(),COLUMN()),\"\"),\"\")","v":""},{"$f":"IFERROR(HYPERLINK(getCoor(ROW(),COLUMN()),\"\"),\"\")","v":""},{"$f":"IFERROR(HYPERLINK(getCoor(ROW(),COLUMN()),\"\"),\"\")","v":""},{"$f":"IFERROR(HYPERLINK(getCoor(ROW(),COLUMN()),\"\"),\"\")","v":""},{"$f":"IFERROR(HYPERLINK(getCoor(ROW(),COLUMN()),\"\"),\"\")","v":""},{"$f":"IFERROR(HYPERLINK(getCoor(ROW(),COLUMN()),\"\"),\"\")","v":""},{"$f":"IFERROR(HYPERLINK(getCoor(ROW(),COLUMN()),\"\"),\"\")","v":""},{"$f":"IFERROR(HYPERLINK(getCoor(ROW(),COLUMN()),\"\"),\"\")","v":""},{"$f":"IFERROR(HYPERLINK(getCoor(ROW(),COLUMN()),\"\"),\"\")","v":""},{"$f":"IFERROR(HYPERLINK(getCoor(ROW(),COLUMN()),\"\"),\"\")","v":""},{"$f":"IFERROR(HYPERLINK(getCoor(ROW(),COLUMN()),\"\"),\"\")","v":""},{"$f":"IFERROR(HYPERLINK(getCoor(ROW(),COLUMN()),\"\"),\"\")","v":""},{"$f":"IFERROR(HYPERLINK(getCoor(ROW(),COLUMN()),\"\"),\"\")","v":""},{"$f":"IFERROR(HYPERLINK(getCoor(ROW(),COLUMN()),\"\"),\"\")","v":""},{"$f":"IFERROR(HYPERLINK(getCoor(ROW(),COLUMN()),\"\"),\"\")","v":""},{"$f":"IFERROR(HYPERLINK(getCoor(ROW(),COLUMN()),\"\"),\"\")","v":""},{"$f":"IFERROR(HYPERLINK(getCoor(ROW(),COLUMN()),\"\"),\"\")","v":""},5,"California",{"$f":"IFERROR(HLOOKUP($DS$5,Table!$I$182:$BL$237,Table!BN190),\"\")","v":""},"",{"$f":"IFERROR(VLOOKUP($DS$5,Table!$A$186:$BL$237,Table!BO190),\"\")","v":""},"","",49,{"$f":"BM49","v":"Washington"},{"$f":"BR49","v":""},null,null,null,null,null,null,null,null,null,null,null,null,null,null,null,null,null,null,null,null,null,null,null,null,null,null,null,null,null,null,null,null,null,null,null,null,null,null,27,189,40,40,false,false,false,47,209,0,"Quadrado",{"$f":"IFERROR(LEFT(INDEX(DW2:DW55,DS5,1),20),\"\")","v":""},0,false,5,"California","0California",null,null,null,9]
[{"$f":"IFERROR(HYPERLINK(getCoor(ROW(),COLUMN()),\"\"),\"\")","v":""},{"$f":"IFERROR(HYPERLINK(getCoor(ROW(),COLUMN()),\"\"),\"\")","v":""},{"$f":"IFERROR(HYPERLINK(getCoor(ROW(),COLUMN()),\"\"),\"\")","v":""},{"$f":"IFERROR(HYPERLINK(getCoor(ROW(),COLUMN()),\"\"),\"\")","v":""},{"$f":"IFERROR(HYPERLINK(getCoor(ROW(),COLUMN()),\"\"),\"\")","v":""},{"$f":"IFERROR(HYPERLINK(getCoor(ROW(),COLUMN()),\"\"),\"\")","v":""},{"$f":"IFERROR(HYPERLINK(getCoor(ROW(),COLUMN()),\"\"),\"\")","v":""},{"$f":"IFERROR(HYPERLINK(getCoor(ROW(),COLUMN()),\"\"),\"\")","v":""},{"$f":"IFERROR(HYPERLINK(getCoor(ROW(),COLUMN()),\"\"),\"\")","v":""},{"$f":"IFERROR(HYPERLINK(getCoor(ROW(),COLUMN()),\"\"),\"\")","v":""},{"$f":"IFERROR(HYPERLINK(getCoor(ROW(),COLUMN()),\"\"),\"\")","v":""},{"$f":"IFERROR(HYPERLINK(getCoor(ROW(),COLUMN()),\"\"),\"\")","v":""},{"$f":"IFERROR(HYPERLINK(getCoor(ROW(),COLUMN()),\"\"),\"\")","v":""},{"$f":"IFERROR(HYPERLINK(getCoor(ROW(),COLUMN()),\"\"),\"\")","v":""},{"$f":"IFERROR(HYPERLINK(getCoor(ROW(),COLUMN()),\"\"),\"\")","v":""},{"$f":"IFERROR(HYPERLINK(getCoor(ROW(),COLUMN()),\"\"),\"\")","v":""},{"$f":"IFERROR(HYPERLINK(getCoor(ROW(),COLUMN()),\"\"),\"\")","v":""},{"$f":"IFERROR(HYPERLINK(getCoor(ROW(),COLUMN()),\"\"),\"\")","v":""},{"$f":"IFERROR(HYPERLINK(getCoor(ROW(),COLUMN()),\"\"),\"\")","v":""},{"$f":"IFERROR(HYPERLINK(getCoor(ROW(),COLUMN()),\"\"),\"\")","v":""},{"$f":"IFERROR(HYPERLINK(getCoor(ROW(),COLUMN()),\"\"),\"\")","v":""},{"$f":"IFERROR(HYPERLINK(getCoor(ROW(),COLUMN()),\"\"),\"\")","v":""},{"$f":"IFERROR(HYPERLINK(getCoor(ROW(),COLUMN()),\"\"),\"\")","v":""},{"$f":"IFERROR(HYPERLINK(getCoor(ROW(),COLUMN()),\"\"),\"\")","v":""},{"$f":"IFERROR(HYPERLINK(getCoor(ROW(),COLUMN()),\"\"),\"\")","v":""},{"$f":"IFERROR(HYPERLINK(getCoor(ROW(),COLUMN()),\"\"),\"\")","v":""},{"$f":"IFERROR(HYPERLINK(getCoor(ROW(),COLUMN()),\"\"),\"\")","v":""},{"$f":"IFERROR(HYPERLINK(getCoor(ROW(),COLUMN()),\"\"),\"\")","v":""},{"$f":"IFERROR(HYPERLINK(getCoor(ROW(),COLUMN()),\"\"),\"\")","v":""},{"$f":"IFERROR(HYPERLINK(getCoor(ROW(),COLUMN()),\"\"),\"\")","v":""},{"$f":"IFERROR(HYPERLINK(getCoor(ROW(),COLUMN()),\"\"),\"\")","v":""},{"$f":"IFERROR(HYPERLINK(getCoor(ROW(),COLUMN()),\"\"),\"\")","v":""},{"$f":"IFERROR(HYPERLINK(getCoor(ROW(),COLUMN()),\"\"),\"\")","v":""},{"$f":"IFERROR(HYPERLINK(getCoor(ROW(),COLUMN()),\"\"),\"\")","v":""},{"$f":"IFERROR(HYPERLINK(getCoor(ROW(),COLUMN()),\"\"),\"\")","v":""},{"$f":"IFERROR(HYPERLINK(getCoor(ROW(),COLUMN()),\"\"),\"\")","v":""},{"$f":"IFERROR(HYPERLINK(getCoor(ROW(),COLUMN()),\"\"),\"\")","v":""},{"$f":"IFERROR(HYPERLINK(getCoor(ROW(),COLUMN()),\"\"),\"\")","v":""},{"$f":"IFERROR(HYPERLINK(getCoor(ROW(),COLUMN()),\"\"),\"\")","v":""},{"$f":"IFERROR(HYPERLINK(getCoor(ROW(),COLUMN()),\"\"),\"\")","v":""},{"$f":"IFERROR(HYPERLINK(getCoor(ROW(),COLUMN()),\"\"),\"\")","v":""},{"$f":"IFERROR(HYPERLINK(getCoor(ROW(),COLUMN()),\"\"),\"\")","v":""},{"$f":"IFERROR(HYPERLINK(getCoor(ROW(),COLUMN()),\"\"),\"\")","v":""},{"$f":"IFERROR(HYPERLINK(getCoor(ROW(),COLUMN()),\"\"),\"\")","v":""},{"$f":"IFERROR(HYPERLINK(getCoor(ROW(),COLUMN()),\"\"),\"\")","v":""},{"$f":"IFERROR(HYPERLINK(getCoor(ROW(),COLUMN()),\"\"),\"\")","v":""},{"$f":"IFERROR(HYPERLINK(getCoor(ROW(),COLUMN()),\"\"),\"\")","v":""},{"$f":"IFERROR(HYPERLINK(getCoor(ROW(),COLUMN()),\"\"),\"\")","v":""},{"$f":"IFERROR(HYPERLINK(getCoor(ROW(),COLUMN()),\"\"),\"\")","v":""},{"$f":"IFERROR(HYPERLINK(getCoor(ROW(),COLUMN()),\"\"),\"\")","v":""},{"$f":"IFERROR(HYPERLINK(getCoor(ROW(),COLUMN()),\"\"),\"\")","v":""},{"$f":"IFERROR(HYPERLINK(getCoor(ROW(),COLUMN()),\"\"),\"\")","v":""},{"$f":"IFERROR(HYPERLINK(getCoor(ROW(),COLUMN()),\"\"),\"\")","v":""},{"$f":"IFERROR(HYPERLINK(getCoor(ROW(),COLUMN()),\"\"),\"\")","v":""},{"$f":"IFERROR(HYPERLINK(getCoor(ROW(),COLUMN()),\"\"),\"\")","v":""},{"$f":"IFERROR(HYPERLINK(getCoor(ROW(),COLUMN()),\"\"),\"\")","v":""},{"$f":"IFERROR(HYPERLINK(getCoor(ROW(),COLUMN()),\"\"),\"\")","v":""},{"$f":"IFERROR(HYPERLINK(getCoor(ROW(),COLUMN()),\"\"),\"\")","v":""},{"$f":"IFERROR(HYPERLINK(getCoor(ROW(),COLUMN()),\"\"),\"\")","v":""},{"$f":"IFERROR(HYPERLINK(getCoor(ROW(),COLUMN()),\"\"),\"\")","v":""},{"$f":"IFERROR(HYPERLINK(getCoor(ROW(),COLUMN()),\"\"),\"\")","v":""},{"$f":"IFERROR(HYPERLINK(getCoor(ROW(),COLUMN()),\"\"),\"\")","v":""},{"$f":"IFERROR(HYPERLINK(getCoor(ROW(),COLUMN()),\"\"),\"\")","v":""},6,"Colorado",{"$f":"IFERROR(HLOOKUP($DS$5,Table!$I$182:$BL$237,Table!BN191),\"\")","v":""},"",{"$f":"IFERROR(VLOOKUP($DS$5,Table!$A$186:$BL$237,Table!BO191),\"\")","v":""},"","",48,{"$f":"BM48","v":"Virginia"},{"$f":"BR48","v":""},null,null,null,null,null,null,null,null,null,null,null,null,null,null,null,null,null,null,null,null,null,null,null,null,null,null,null,null,null,null,null,null,null,null,null,null,null,null,162,176,50,50,false,false,false,187,201,0,null,{"$f":"IFERROR(VLOOKUP(1,DT2:DV108,3,FALSE),\"\")","v":""},0,false,6,"Colorado","0Colorado",null,null,null,10]
[{"$f":"IFERROR(HYPERLINK(getCoor(ROW(),COLUMN()),\"\"),\"\")","v":""},{"$f":"IFERROR(HYPERLINK(getCoor(ROW(),COLUMN()),\"\"),\"\")","v":""},{"$f":"IFERROR(HYPERLINK(getCoor(ROW(),COLUMN()),\"\"),\"\")","v":""},{"$f":"IFERROR(HYPERLINK(getCoor(ROW(),COLUMN()),\"\"),\"\")","v":""},{"$f":"IFERROR(HYPERLINK(getCoor(ROW(),COLUMN()),\"\"),\"\")","v":""},{"$f":"IFERROR(HYPERLINK(getCoor(ROW(),COLUMN()),\"\"),\"\")","v":""},{"$f":"IFERROR(HYPERLINK(getCoor(ROW(),COLUMN()),\"\"),\"\")","v":""},{"$f":"IFERROR(HYPERLINK(getCoor(ROW(),COLUMN()),\"\"),\"\")","v":""},{"$f":"IFERROR(HYPERLINK(getCoor(ROW(),COLUMN()),\"\"),\"\")","v":""},{"$f":"IFERROR(HYPERLINK(getCoor(ROW(),COLUMN()),\"\"),\"\")","v":""},{"$f":"IFERROR(HYPERLINK(getCoor(ROW(),COLUMN()),\"\"),\"\")","v":""},{"$f":"IFERROR(HYPERLINK(getCoor(ROW(),COLUMN()),\"\"),\"\")","v":""},{"$f":"IFERROR(HYPERLINK(getCoor(ROW(),COLUMN()),\"\"),\"\")","v":""},{"$f":"IFERROR(HYPERLINK(getCoor(ROW(),COLUMN()),\"\"),\"\")","v":""},{"$f":"IFERROR(HYPERLINK(getCoor(ROW(),COLUMN()),\"\"),\"\")","v":""},{"$f":"IFERROR(HYPERLINK(getCoor(ROW(),COLUMN()),\"\"),\"\")","v":""},{"$f":"IFERROR(HYPERLINK(getCoor(ROW(),COLUMN()),\"\"),\"\")","v":""},{"$f":"IFERROR(HYPERLINK(getCoor(ROW(),COLUMN()),\"\"),\"\")","v":""},{"$f":"IFERROR(HYPERLINK(getCoor(ROW(),COLUMN()),\"\"),\"\")","v":""},{"$f":"IFERROR(HYPERLINK(getCoor(ROW(),COLUMN()),\"\"),\"\")","v":""},{"$f":"IFERROR(HYPERLINK(getCoor(ROW(),COLUMN()),\"\"),\"\")","v":""},{"$f":"IFERROR(HYPERLINK(getCoor(ROW(),COLUMN()),\"\"),\"\")","v":""},{"$f":"IFERROR(HYPERLINK(getCoor(ROW(),COLUMN()),\"\"),\"\")","v":""},{"$f":"IFERROR(HYPERLINK(getCoor(ROW(),COLUMN()),\"\"),\"\")","v":""},{"$f":"IFERROR(HYPERLINK(getCoor(ROW(),COLUMN()),\"\"),\"\")","v":""},{"$f":"IFERROR(HYPERLINK(getCoor(ROW(),COLUMN()),\"\"),\"\")","v":""},{"$f":"IFERROR(HYPERLINK(getCoor(ROW(),COLUMN()),\"\"),\"\")","v":""},{"$f":"IFERROR(HYPERLINK(getCoor(ROW(),COLUMN()),\"\"),\"\")","v":""},{"$f":"IFERROR(HYPERLINK(getCoor(ROW(),COLUMN()),\"\"),\"\")","v":""},{"$f":"IFERROR(HYPERLINK(getCoor(ROW(),COLUMN()),\"\"),\"\")","v":""},{"$f":"IFERROR(HYPERLINK(getCoor(ROW(),COLUMN()),\"\"),\"\")","v":""},{"$f":"IFERROR(HYPERLINK(getCoor(ROW(),COLUMN()),\"\"),\"\")","v":""},{"$f":"IFERROR(HYPERLINK(getCoor(ROW(),COLUMN()),\"\"),\"\")","v":""},{"$f":"IFERROR(HYPERLINK(getCoor(ROW(),COLUMN()),\"\"),\"\")","v":""},{"$f":"IFERROR(HYPERLINK(getCoor(ROW(),COLUMN()),\"\"),\"\")","v":""},{"$f":"IFERROR(HYPERLINK(getCoor(ROW(),COLUMN()),\"\"),\"\")","v":""},{"$f":"IFERROR(HYPERLINK(getCoor(ROW(),COLUMN()),\"\"),\"\")","v":""},{"$f":"IFERROR(HYPERLINK(getCoor(ROW(),COLUMN()),\"\"),\"\")","v":""},{"$f":"IFERROR(HYPERLINK(getCoor(ROW(),COLUMN()),\"\"),\"\")","v":""},{"$f":"IFERROR(HYPERLINK(getCoor(ROW(),COLUMN()),\"\"),\"\")","v":""},{"$f":"IFERROR(HYPERLINK(getCoor(ROW(),COLUMN()),\"\"),\"\")","v":""},{"$f":"IFERROR(HYPERLINK(getCoor(ROW(),COLUMN()),\"\"),\"\")","v":""},{"$f":"IFERROR(HYPERLINK(getCoor(ROW(),COLUMN()),\"\"),\"\")","v":""},{"$f":"IFERROR(HYPERLINK(getCoor(ROW(),COLUMN()),\"\"),\"\")","v":""},{"$f":"IFERROR(HYPERLINK(getCoor(ROW(),COLUMN()),\"\"),\"\")","v":""},{"$f":"IFERROR(HYPERLINK(getCoor(ROW(),COLUMN()),\"\"),\"\")","v":""},{"$f":"IFERROR(HYPERLINK(getCoor(ROW(),COLUMN()),\"\"),\"\")","v":""},{"$f":"IFERROR(HYPERLINK(getCoor(ROW(),COLUMN()),\"\"),\"\")","v":""},{"$f":"IFERROR(HYPERLINK(getCoor(ROW(),COLUMN()),\"\"),\"\")","v":""},{"$f":"IFERROR(HYPERLINK(getCoor(ROW(),COLUMN()),\"\"),\"\")","v":""},{"$f":"IFERROR(HYPERLINK(getCoor(ROW(),COLUMN()),\"\"),\"\")","v":""},{"$f":"IFERROR(HYPERLINK(getCoor(ROW(),COLUMN()),\"\"),\"\")","v":""},{"$f":"IFERROR(HYPERLINK(getCoor(ROW(),COLUMN()),\"\"),\"\")","v":""},{"$f":"IFERROR(HYPERLINK(getCoor(ROW(),COLUMN()),\"\"),\"\")","v":""},{"$f":"IFERROR(HYPERLINK(getCoor(ROW(),COLUMN()),\"\"),\"\")","v":""},{"$f":"IFERROR(HYPERLINK(getCoor(ROW(),COLUMN()),\"\"),\"\")","v":""},{"$f":"IFERROR(HYPERLINK(getCoor(ROW(),COLUMN()),\"\"),\"\")","v":""},{"$f":"IFERROR(HYPERLINK(getCoor(ROW(),COLUMN()),\"\"),\"\")","v":""},{"$f":"IFERROR(HYPERLINK(getCoor(ROW(),COLUMN()),\"\"),\"\")","v":""},{"$f":"IFERROR(HYPERLINK(getCoor(ROW(),COLUMN()),\"\"),\"\")","v":""},{"$f":"IFERROR(HYPERLINK(getCoor(ROW(),COLUMN()),\"\"),\"\")","v":""},{"$f":"IFERROR(HYPERLINK(getCoor(ROW(),COLUMN()),\"\"),\"\")","v":""},{"$f":"IFERROR(HYPERLINK(getCoor(ROW(),COLUMN()),\"\"),\"\")","v":""},7,"Connecticut",{"$f":"IFERROR(HLOOKUP($DS$5,Table!$I$182:$BL$237,Table!BN192),\"\")","v":""},"",{"$f":"IFERROR(VLOOKUP($DS$5,Table!$A$186:$BL$237,Table!BO192),\"\")","v":""},"","",47,{"$f":"BM47","v":"Vermont"},{"$f":"BR47","v":""},null,null,null,null,null,null,null,null,null,null,null,null,null,null,null,null,null,null,null,null,null,null,null,null,null,null,null,null,null,null,null,null,null,null,null,null,null,null,531,148,20,7,false,false,false,534.5,158,0,"Coordenada da célula",{"$f":"VLOOKUP(ToggleIndex,DT2:DX16,4,FALSE)","v":{"$error":"#N/A"}},0,false,7,"Connecticut","0Connecticut",null,null,null,11]
[{"$f":"IFERROR(HYPERLINK(getCoor(ROW(),COLUMN()),\"\"),\"\")","v":""},{"$f":"IFERROR(HYPERLINK(getCoor(ROW(),COLUMN()),\"\"),\"\")","v":""},{"$f":"IFERROR(HYPERLINK(getCoor(ROW(),COLUMN()),\"\"),\"\")","v":""},{"$f":"IFERROR(HYPERLINK(getCoor(ROW(),COLUMN()),\"\"),\"\")","v":""},{"$f":"IFERROR(HYPERLINK(getCoor(ROW(),COLUMN()),\"\"),\"\")","v":""},{"$f":"IFERROR(HYPERLINK(getCoor(ROW(),COLUMN()),\"\"),\"\")","v":""},{"$f":"IFERROR(HYPERLINK(getCoor(ROW(),COLUMN()),\"\"),\"\")","v":""},{"$f":"IFERROR(HYPERLINK(getCoor(ROW(),COLUMN()),\"\"),\"\")","v":""},{"$f":"IFERROR(HYPERLINK(getCoor(ROW(),COLUMN()),\"\"),\"\")","v":""},{"$f":"IFERROR(HYPERLINK(getCoor(ROW(),COLUMN()),\"\"),\"\")","v":""},{"$f":"IFERROR(HYPERLINK(getCoor(ROW(),COLUMN()),\"\"),\"\")","v":""},{"$f":"IFERROR(HYPERLINK(getCoor(ROW(),COLUMN()),\"\"),\"\")","v":""},{"$f":"IFERROR(HYPERLINK(getCoor(ROW(),COLUMN()),\"\"),\"\")","v":""},{"$f":"IFERROR(HYPERLINK(getCoor(ROW(),COLUMN()),\"\"),\"\")","v":""},{"$f":"IFERROR(HYPERLINK(getCoor(ROW(),COLUMN()),\"\"),\"\")","v":""},{"$f":"IFERROR(HYPERLINK(getCoor(ROW(),COLUMN()),\"\"),\"\")","v":""},{"$f":"IFERROR(HYPERLINK(getCoor(ROW(),COLUMN()),\"\"),\"\")","v":""},{"$f":"IFERROR(HYPERLINK(getCoor(ROW(),COLUMN()),\"\"),\"\")","v":""},{"$f":"IFERROR(HYPERLINK(getCoor(ROW(),COLUMN()),\"\"),\"\")","v":""},{"$f":"IFERROR(HYPERLINK(getCoor(ROW(),COLUMN()),\"\"),\"\")","v":""},{"$f":"IFERROR(HYPERLINK(getCoor(ROW(),COLUMN()),\"\"),\"\")","v":""},{"$f":"IFERROR(HYPERLINK(getCoor(ROW(),COLUMN()),\"\"),\"\")","v":""},{"$f":"IFERROR(HYPERLINK(getCoor(ROW(),COLUMN()),\"\"),\"\")","v":""},{"$f":"IFERROR(HYPERLINK(getCoor(ROW(),COLUMN()),\"\"),\"\")","v":""},{"$f":"IFERROR(HYPERLINK(getCoor(ROW(),COLUMN()),\"\"),\"\")","v":""},{"$f":"IFERROR(HYPERLINK(getCoor(ROW(),COLUMN()),\"\"),\"\")","v":""},{"$f":"IFERROR(HYPERLINK(getCoor(ROW(),COLUMN()),\"\"),\"\")","v":""},{"$f":"IFERROR(HYPERLINK(getCoor(ROW(),COLUMN()),\"\"),\"\")","v":""},{"$f":"IFERROR(HYPERLINK(getCoor(ROW(),COLUMN()),\"\"),\"\")","v":""},{"$f":"IFERROR(HYPERLINK(getCoor(ROW(),COLUMN()),\"\"),\"\")","v":""},{"$f":"IFERROR(HYPERLINK(getCoor(ROW(),COLUMN()),\"\"),\"\")","v":""},{"$f":"IFERROR(HYPERLINK(getCoor(ROW(),COLUMN()),\"\"),\"\")","v":""},{"$f":"IFERROR(HYPERLINK(getCoor(ROW(),COLUMN()),\"\"),\"\")","v":""},{"$f":"IFERROR(HYPERLINK(getCoor(ROW(),COLUMN()),\"\"),\"\")","v":""},{"$f":"IFERROR(HYPERLINK(getCoor(ROW(),COLUMN()),\"\"),\"\")","v":""},{"$f":"IFERROR(HYPERLINK(getCoor(ROW(),COLUMN()),\"\"),\"\")","v":""},{"$f":"IFERROR(HYPERLINK(getCoor(ROW(),COLUMN()),\"\"),\"\")","v":""},{"$f":"IFERROR(HYPERLINK(getCoor(ROW(),COLUMN()),\"\"),\"\")","v":""},{"$f":"IFERROR(HYPERLINK(getCoor(ROW(),COLUMN()),\"\"),\"\")","v":""},{"$f":"IFERROR(HYPERLINK(getCoor(ROW(),COLUMN()),\"\"),\"\")","v":""},{"$f":"IFERROR(HYPERLINK(getCoor(ROW(),COLUMN()),\"\"),\"\")","v":""},{"$f":"IFERROR(HYPERLINK(getCoor(ROW(),COLUMN()),\"\"),\"\")","v":""},{"$f":"IFERROR(HYPERLINK(getCoor(ROW(),COLUMN()),\"\"),\"\")","v":""},{"$f":"IFERROR(HYPERLINK(getCoor(ROW(),COLUMN()),\"\"),\"\")","v":""},{"$f":"IFERROR(HYPERLINK(getCoor(ROW(),COLUMN()),\"\"),\"\")","v":""},{"$f":"IFERROR(HYPERLINK(getCoor(ROW(),COLUMN()),\"\"),\"\")","v":""},{"$f":"IFERROR(HYPERLINK(getCoor(ROW(),COLUMN()),\"\"),\"\")","v":""},{"$f":"IFERROR(HYPERLINK(getCoor(ROW(),COLUMN()),\"\"),\"\")","v":""},{"$f":"IFERROR(HYPERLINK(getCoor(ROW(),COLUMN()),\"\"),\"\")","v":""},{"$f":"IFERROR(HYPERLINK(getCoor(ROW(),COLUMN()),\"\"),\"\")","v":""},{"$f":"IFERROR(HYPERLINK(getCoor(ROW(),COLUMN()),\"\"),\"\")","v":""},{"$f":"IFERROR(HYPERLINK(getCoor(ROW(),COLUMN()),\"\"),\"\")","v":""},{"$f":"IFERROR(HYPERLINK(getCoor(ROW(),COLUMN()),\"\"),\"\")","v":""},{"$f":"IFERROR(HYPERLINK(getCoor(ROW(),COLUMN()),\"\"),\"\")","v":""},{"$f":"IFERROR(HYPERLINK(getCoor(ROW(),COLUMN()),\"\"),\"\")","v":""},{"$f":"IFERROR(HYPERLINK(getCoor(ROW(),COLUMN()),\"\"),\"\")","v":""},{"$f":"IFERROR(HYPERLINK(getCoor(ROW(),COLUMN()),\"\"),\"\")","v":""},{"$f":"IFERROR(HYPERLINK(getCoor(ROW(),COLUMN()),\"\"),\"\")","v":""},{"$f":"IFERROR(HYPERLINK(getCoor(ROW(),COLUMN()),\"\"),\"\")","v":""},{"$f":"IFERROR(HYPERLINK(getCoor(ROW(),COLUMN()),\"\"),\"\")","v":""},{"$f":"IFERROR(HYPERLINK(getCoor(ROW(),COLUMN()),\"\"),\"\")","v":""},{"$f":"IFERROR(HYPERLINK(getCoor(ROW(),COLUMN()),\"\"),\"\")","v":""},{"$f":"IFERROR(HYPERLINK(getCoor(ROW(),COLUMN()),\"\"),\"\")","v":""},8,"Delaware",{"$f":"IFERROR(HLOOKUP($DS$5,Table!$I$182:$BL$237,Table!BN193),\"\")","v":""},"",{"$f":"IFERROR(VLOOKUP($DS$5,Table!$A$186:$BL$237,Table!BO193),\"\")","v":""},"","",46,{"$f":"BM46","v":"Utah"},{"$f":"BR46","v":""},null,null,null,null,null,null,null,null,null,null,null,null,null,null,null,null,null,null,null,null,null,null,null,null,null,null,null,null,null,null,null,null,null,null,null,null,null,null,531,176,20,7,false,false,false,534.5,186,0,"Linha / Coluna",null,0,false,8,"Delaware","0Delaware",null,null,null,12]
[{"$f":"IFERROR(HYPERLINK(getCoor(ROW(),COLUMN()),\"\"),\"\")","v":""},{"$f":"IFERROR(HYPERLINK(getCoor(ROW(),COLUMN()),\"\"),\"\")","v":""},{"$f":"IFERROR(HYPERLINK(getCoor(ROW(),COLUMN()),\"\"),\"\")","v":""},{"$f":"IFERROR(HYPERLINK(getCoor(ROW(),COLUMN()),\"\"),\"\")","v":""},{"$f":"IFERROR(HYPERLINK(getCoor(ROW(),COLUMN()),\"\"),\"\")","v":""},{"$f":"IFERROR(HYPERLINK(getCoor(ROW(),COLUMN()),\"\"),\"\")","v":""},{"$f":"IFERROR(HYPERLINK(getCoor(ROW(),COLUMN()),\"\"),\"\")","v":""},{"$f":"IFERROR(HYPERLINK(getCoor(ROW(),COLUMN()),\"\"),\"\")","v":""},{"$f":"IFERROR(HYPERLINK(getCoor(ROW(),COLUMN()),\"\"),\"\")","v":""},{"$f":"IFERROR(HYPERLINK(getCoor(ROW(),COLUMN()),\"\"),\"\")","v":""},{"$f":"IFERROR(HYPERLINK(getCoor(ROW(),COLUMN()),\"\"),\"\")","v":""},{"$f":"IFERROR(HYPERLINK(getCoor(ROW(),COLUMN()),\"\"),\"\")","v":""},{"$f":"IFERROR(HYPERLINK(getCoor(ROW(),COLUMN()),\"\"),\"\")","v":""},{"$f":"IFERROR(HYPERLINK(getCoor(ROW(),COLUMN()),\"\"),\"\")","v":""},{"$f":"IFERROR(HYPERLINK(getCoor(ROW(),COLUMN()),\"\"),\"\")","v":""},{"$f":"IFERROR(HYPERLINK(getCoor(ROW(),COLUMN()),\"\"),\"\")","v":""},{"$f":"IFERROR(HYPERLINK(getCoor(ROW(),COLUMN()),\"\"),\"\")","v":""},{"$f":"IFERROR(HYPERLINK(getCoor(ROW(),COLUMN()),\"\"),\"\")","v":""},{"$f":"IFERROR(HYPERLINK(getCoor(ROW(),COLUMN()),\"\"),\"\")","v":""},{"$f":"IFERROR(HYPERLINK(getCoor(ROW(),COLUMN()),\"\"),\"\")","v":""},{"$f":"IFERROR(HYPERLINK(getCoor(ROW(),COLUMN()),\"\"),\"\")","v":""},{"$f":"IFERROR(HYPERLINK(getCoor(ROW(),COLUMN()),\"\"),\"\")","v":""},{"$f":"IFERROR(HYPERLINK(getCoor(ROW(),COLUMN()),\"\"),\"\")","v":""},{"$f":"IFERROR(HYPERLINK(getCoor(ROW(),COLUMN()),\"\"),\"\")","v":""},{"$f":"IFERROR(HYPERLINK(getCoor(ROW(),COLUMN()),\"\"),\"\")","v":""},{"$f":"IFERROR(HYPERLINK(getCoor(ROW(),COLUMN()),\"\"),\"\")","v":""},{"$f":"IFERROR(HYPERLINK(getCoor(ROW(),COLUMN()),\"\"),\"\")","v":""},{"$f":"IFERROR(HYPERLINK(getCoor(ROW(),COLUMN()),\"\"),\"\")","v":""},{"$f":"IFERROR(HYPERLINK(getCoor(ROW(),COLUMN()),\"\"),\"\")","v":""},{"$f":"IFERROR(HYPERLINK(getCoor(ROW(),COLUMN()),\"\"),\"\")","v":""},{"$f":"IFERROR(HYPERLINK(getCoor(ROW(),COLUMN()),\"\"),\"\")","v":""},{"$f":"IFERROR(HYPERLINK(getCoor(ROW(),COLUMN()),\"\"),\"\")","v":""},{"$f":"IFERROR(HYPERLINK(getCoor(ROW(),COLUMN()),\"\"),\"\")","v":""},{"$f":"IFERROR(HYPERLINK(getCoor(ROW(),COLUMN()),\"\"),\"\")","v":""},{"$f":"IFERROR(HYPERLINK(getCoor(ROW(),COLUMN()),\"\"),\"\")","v":""},{"$f":"IFERROR(HYPERLINK(getCoor(ROW(),COLUMN()),\"\"),\"\")","v":""},{"$f":"IFERROR(HYPERLINK(getCoor(ROW(),COLUMN()),\"\"),\"\")","v":""},{"$f":"IFERROR(HYPERLINK(getCoor(ROW(),COLUMN()),\"\"),\"\")","v":""},{"$f":"IFERROR(HYPERLINK(getCoor(ROW(),COLUMN()),\"\"),\"\")","v":""},{"$f":"IFERROR(HYPERLINK(getCoor(ROW(),COLUMN()),\"\"),\"\")","v":""},{"$f":"IFERROR(HYPERLINK(getCoor(ROW(),COLUMN()),\"\"),\"\")","v":""},{"$f":"IFERROR(HYPERLINK(getCoor(ROW(),COLUMN()),\"\"),\"\")","v":""},{"$f":"IFERROR(HYPERLINK(getCoor(ROW(),COLUMN()),\"\"),\"\")","v":""},{"$f":"IFERROR(HYPERLINK(getCoor(ROW(),COLUMN()),\"\"),\"\")","v":""},{"$f":"IFERROR(HYPERLINK(getCoor(ROW(),COLUMN()),\"\"),\"\")","v":""},{"$f":"IFERROR(HYPERLINK(getCoor(ROW(),COLUMN()),\"\"),\"\")","v":""},{"$f":"IFERROR(HYPERLINK(getCoor(ROW(),COLUMN()),\"\"),\"\")","v":""},{"$f":"IFERROR(HYPERLINK(getCoor(ROW(),COLUMN()),\"\"),\"\")","v":""},{"$f":"IFERROR(HYPERLINK(getCoor(ROW(),COLUMN()),\"\"),\"\")","v":""},{"$f":"IFERROR(HYPERLINK(getCoor(ROW(),COLUMN()),\"\"),\"\")","v":""},{"$f":"IFERROR(HYPERLINK(getCoor(ROW(),COLUMN()),\"\"),\"\")","v":""},{"$f":"IFERROR(HYPERLINK(getCoor(ROW(),COLUMN()),\"\"),\"\")","v":""},{"$f":"IFERROR(HYPERLINK(getCoor(ROW(),COLUMN()),\"\"),\"\")","v":""},{"$f":"IFERROR(HYPERLINK(getCoor(ROW(),COLUMN()),\"\"),\"\")","v":""},{"$f":"IFERROR(HYPERLINK(getCoor(ROW(),COLUMN()),\"\"),\"\")","v":""},{"$f":"IFERROR(HYPERLINK(getCoor(ROW(),COLUMN()),\"\"),\"\")","v":""},{"$f":"IFERROR(HYPERLINK(getCoor(ROW(),COLUMN()),\"\"),\"\")","v":""},{"$f":"IFERROR(HYPERLINK(getCoor(ROW(),COLUMN()),\"\"),\"\")","v":""},{"$f":"IFERROR(HYPERLINK(getCoor(ROW(),COLUMN()),\"\"),\"\")","v":""},{"$f":"IFERROR(HYPERLINK(getCoor(ROW(),COLUMN()),\"\"),\"\")","v":""},{"$f":"IFERROR(HYPERLINK(getCoor(ROW(),COLUMN()),\"\"),\"\")","v":""},{"$f":"IFERROR(HYPERLINK(getCoor(ROW(),COLUMN()),\"\"),\"\")","v":""},{"$f":"IFERROR(HYPERLINK(getCoor(ROW(),COLUMN()),\"\"),\"\")","v":""},9,"District of Columbia ",{"$f":"IFERROR(HLOOKUP($DS$5,Table!$I$182:$BL$237,Table!BN194),\"\")","v":""},"",{"$f":"IFERROR(VLOOKUP($DS$5,Table!$A$186:$BL$237,Table!BO194),\"\")","v":""},"","",45,{"$f":"BM45","v":"Texas"},{"$f":"BR45","v":""},null,null,null,null,null,null,null,null,null,null,null,null,null,null,null,null,null,null,null,null,null,null,null,null,null,null,null,null,null,null,null,null,null,null,null,null,null,null,531,202,20,7,false,false,false,534.5,212,0,null,null,0,false,9,"District of Columbia ","0District of Columbia ",null,null,null,13]
[{"$f":"IFERROR(HYPERLINK(getCoor(ROW(),COLUMN()),\"\"),\"\")","v":""},{"$f":"IFERROR(HYPERLINK(getCoor(ROW(),COLUMN()),\"\"),\"\")","v":""},{"$f":"IFERROR(HYPERLINK(getCoor(ROW(),COLUMN()),\"\"),\"\")","v":""},{"$f":"IFERROR(HYPERLINK(getCoor(ROW(),COLUMN()),\"\"),\"\")","v":""},{"$f":"IFERROR(HYPERLINK(getCoor(ROW(),COLUMN()),\"\"),\"\")","v":""},{"$f":"IFERROR(HYPERLINK(getCoor(ROW(),COLUMN()),\"\"),\"\")","v":""},{"$f":"IFERROR(HYPERLINK(getCoor(ROW(),COLUMN()),\"\"),\"\")","v":""},{"$f":"IFERROR(HYPERLINK(getCoor(ROW(),COLUMN()),\"\"),\"\")","v":""},{"$f":"IFERROR(HYPERLINK(getCoor(ROW(),COLUMN()),\"\"),\"\")","v":""},{"$f":"IFERROR(HYPERLINK(getCoor(ROW(),COLUMN()),\"\"),\"\")","v":""},{"$f":"IFERROR(HYPERLINK(getCoor(ROW(),COLUMN()),\"\"),\"\")","v":""},{"$f":"IFERROR(HYPERLINK(getCoor(ROW(),COLUMN()),\"\"),\"\")","v":""},{"$f":"IFERROR(HYPERLINK(getCoor(ROW(),COLUMN()),\"\"),\"\")","v":""},{"$f":"IFERROR(HYPERLINK(getCoor(ROW(),COLUMN()),\"\"),\"\")","v":""},{"$f":"IFERROR(HYPERLINK(getCoor(ROW(),COLUMN()),\"\"),\"\")","v":""},{"$f":"IFERROR(HYPERLINK(getCoor(ROW(),COLUMN()),\"\"),\"\")","v":""},{"$f":"IFERROR(HYPERLINK(getCoor(ROW(),COLUMN()),\"\"),\"\")","v":""},{"$f":"IFERROR(HYPERLINK(getCoor(ROW(),COLUMN()),\"\"),\"\")","v":""},{"$f":"IFERROR(HYPERLINK(getCoor(ROW(),COLUMN()),\"\"),\"\")","v":""},{"$f":"IFERROR(HYPERLINK(getCoor(ROW(),COLUMN()),\"\"),\"\")","v":""},{"$f":"IFERROR(HYPERLINK(getCoor(ROW(),COLUMN()),\"\"),\"\")","v":""},{"$f":"IFERROR(HYPERLINK(getCoor(ROW(),COLUMN()),\"\"),\"\")","v":""},{"$f":"IFERROR(HYPERLINK(getCoor(ROW(),COLUMN()),\"\"),\"\")","v":""},{"$f":"IFERROR(HYPERLINK(getCoor(ROW(),COLUMN()),\"\"),\"\")","v":""},{"$f":"IFERROR(HYPERLINK(getCoor(ROW(),COLUMN()),\"\"),\"\")","v":""},{"$f":"IFERROR(HYPERLINK(getCoor(ROW(),COLUMN()),\"\"),\"\")","v":""},{"$f":"IFERROR(HYPERLINK(getCoor(ROW(),COLUMN()),\"\"),\"\")","v":""},{"$f":"IFERROR(HYPERLINK(getCoor(ROW(),COLUMN()),\"\"),\"\")","v":""},{"$f":"IFERROR(HYPERLINK(getCoor(ROW(),COLUMN()),\"\"),\"\")","v":""},{"$f":"IFERROR(HYPERLINK(getCoor(ROW(),COLUMN()),\"\"),\"\")","v":""},{"$f":"IFERROR(HYPERLINK(getCoor(ROW(),COLUMN()),\"\"),\"\")","v":""},{"$f":"IFERROR(HYPERLINK(getCoor(ROW(),COLUMN()),\"\"),\"\")","v":""},{"$f":"IFERROR(HYPERLINK(getCoor(ROW(),COLUMN()),\"\"),\"\")","v":""},{"$f":"IFERROR(HYPERLINK(getCoor(ROW(),COLUMN()),\"\"),\"\")","v":""},{"$f":"IFERROR(HYPERLINK(getCoor(ROW(),COLUMN()),\"\"),\"\")","v":""},{"$f":"IFERROR(HYPERLINK(getCoor(ROW(),COLUMN()),\"\"),\"\")","v":""},{"$f":"IFERROR(HYPERLINK(getCoor(ROW(),COLUMN()),\"\"),\"\")","v":""},{"$f":"IFERROR(HYPERLINK(getCoor(ROW(),COLUMN()),\"\"),\"\")","v":""},{"$f":"IFERROR(HYPERLINK(getCoor(ROW(),COLUMN()),\"\"),\"\")","v":""},{"$f":"IFERROR(HYPERLINK(getCoor(ROW(),COLUMN()),\"\"),\"\")","v":""},{"$f":"IFERROR(HYPERLINK(getCoor(ROW(),COLUMN()),\"\"),\"\")","v":""},{"$f":"IFERROR(HYPERLINK(getCoor(ROW(),COLUMN()),\"\"),\"\")","v":""},{"$f":"IFERROR(HYPERLINK(getCoor(ROW(),COLUMN()),\"\"),\"\")","v":""},{"$f":"IFERROR(HYPERLINK(getCoor(ROW(),COLUMN()),\"\"),\"\")","v":""},{"$f":"IFERROR(HYPERLINK(getCoor(ROW(),COLUMN()),\"\"),\"\")","v":""},{"$f":"IFERROR(HYPERLINK(getCoor(ROW(),COLUMN()),\"\"),\"\")","v":""},{"$f":"IFERROR(HYPERLINK(getCoor(ROW(),COLUMN()),\"\"),\"\")","v":""},{"$f":"IFERROR(HYPERLINK(getCoor(ROW(),COLUMN()),\"\"),\"\")","v":""},{"$f":"IFERROR(HYPERLINK(getCoor(ROW(),COLUMN()),\"\"),\"\")","v":""},{"$f":"IFERROR(HYPERLINK(getCoor(ROW(),COLUMN()),\"\"),\"\")","v":""},{"$f":"IFERROR(HYPERLINK(getCoor(ROW(),COLUMN()),\"\"),\"\")","v":""},{"$f":"IFERROR(HYPERLINK(getCoor(ROW(),COLUMN()),\"\"),\"\")","v":""},{"$f":"IFERROR(HYPERLINK(getCoor(ROW(),COLUMN()),\"\"),\"\")","v":""},{"$f":"IFERROR(HYPERLINK(getCoor(ROW(),COLUMN()),\"\"),\"\")","v":""},{"$f":"IFERROR(HYPERLINK(getCoor(ROW(),COLUMN()),\"\"),\"\")","v":""},{"$f":"IFERROR(HYPERLINK(getCoor(ROW(),COLUMN()),\"\"),\"\")","v":""},{"$f":"IFERROR(HYPERLINK(getCoor(ROW(),COLUMN()),\"\"),\"\")","v":""},{"$f":"IFERROR(HYPERLINK(getCoor(ROW(),COLUMN()),\"\"),\"\")","v":""},{"$f":"IFERROR(HYPERLINK(getCoor(ROW(),COLUMN()),\"\"),\"\")","v":""},{"$f":"IFERROR(HYPERLINK(getCoor(ROW(),COLUMN()),\"\"),\"\")","v":""},{"$f":"IFERROR(HYPERLINK(getCoor(ROW(),COLUMN()),\"\"),\"\")","v":""},{"$f":"IFERROR(HYPERLINK(getCoor(ROW(),COLUMN()),\"\"),\"\")","v":""},{"$f":"IFERROR(HYPERLINK(getCoor(ROW(),COLUMN()),\"\"),\"\")","v":""},10,"Florida",{"$f":"IFERROR(HLOOKUP($DS$5,Table!$I$182:$BL$237,Table!BN195),\"\")","v":""},"",{"$f":"IFERROR(VLOOKUP($DS$5,Table!$A$186:$BL$237,Table!BO195),\"\")","v":""},"","",44,{"$f":"BM44","v":"Tennessee"},{"$f":"BR44","v":""},null,null,null,null,null,null,null,null,null,null,null,null,null,null,null,null,null,null,null,null,null,null,null,null,null,null,null,null,null,null,null,null,null,null,null,null,null,null,432,338,40,40,false,true,false,452,358,0,null,null,0,false,10,"Florida","0Florida",null,null,null,14]
[{"$f":"IFERROR(HYPERLINK(getCoor(ROW(),COLUMN()),\"\"),\"\")","v":""},{"$f":"IFERROR(HYPERLINK(getCoor(ROW(),COLUMN()),\"\"),\"\")","v":""},{"$f":"IFERROR(HYPERLINK(getCoor(ROW(),COLUMN()),\"\"),\"\")","v":""},{"$f":"IFERROR(HYPERLINK(getCoor(ROW(),COLUMN()),\"\"),\"\")","v":""},{"$f":"IFERROR(HYPERLINK(getCoor(ROW(),COLUMN()),\"\"),\"\")","v":""},{"$f":"IFERROR(HYPERLINK(getCoor(ROW(),COLUMN()),\"\"),\"\")","v":""},{"$f":"IFERROR(HYPERLINK(getCoor(ROW(),COLUMN()),\"\"),\"\")","v":""},{"$f":"IFERROR(HYPERLINK(getCoor(ROW(),COLUMN()),\"\"),\"\")","v":""},{"$f":"IFERROR(HYPERLINK(getCoor(ROW(),COLUMN()),\"\"),\"\")","v":""},{"$f":"IFERROR(HYPERLINK(getCoor(ROW(),COLUMN()),\"\"),\"\")","v":""},{"$f":"IFERROR(HYPERLINK(getCoor(ROW(),COLUMN()),\"\"),\"\")","v":""},{"$f":"IFERROR(HYPERLINK(getCoor(ROW(),COLUMN()),\"\"),\"\")","v":""},{"$f":"IFERROR(HYPERLINK(getCoor(ROW(),COLUMN()),\"\"),\"\")","v":""},{"$f":"IFERROR(HYPERLINK(getCoor(ROW(),COLUMN()),\"\"),\"\")","v":""},{"$f":"IFERROR(HYPERLINK(getCoor(ROW(),COLUMN()),\"\"),\"\")","v":""},{"$f":"IFERROR(HYPERLINK(getCoor(ROW(),COLUMN()),\"\"),\"\")","v":""},{"$f":"IFERROR(HYPERLINK(getCoor(ROW(),COLUMN()),\"\"),\"\")","v":""},{"$f":"IFERROR(HYPERLINK(getCoor(ROW(),COLUMN()),\"\"),\"\")","v":""},{"$f":"IFERROR(HYPERLINK(getCoor(ROW(),COLUMN()),\"\"),\"\")","v":""},{"$f":"IFERROR(HYPERLINK(getCoor(ROW(),COLUMN()),\"\"),\"\")","v":""},{"$f":"IFERROR(HYPERLINK(getCoor(ROW(),COLUMN()),\"\"),\"\")","v":""},{"$f":"IFERROR(HYPERLINK(getCoor(ROW(),COLUMN()),\"\"),\"\")","v":""},{"$f":"IFERROR(HYPERLINK(getCoor(ROW(),COLUMN()),\"\"),\"\")","v":""},{"$f":"IFERROR(HYPERLINK(getCoor(ROW(),COLUMN()),\"\"),\"\")","v":""},{"$f":"IFERROR(HYPERLINK(getCoor(ROW(),COLUMN()),\"\"),\"\")","v":""},{"$f":"IFERROR(HYPERLINK(getCoor(ROW(),COLUMN()),\"\"),\"\")","v":""},{"$f":"IFERROR(HYPERLINK(getCoor(ROW(),COLUMN()),\"\"),\"\")","v":""},{"$f":"IFERROR(HYPERLINK(getCoor(ROW(),COLUMN()),\"\"),\"\")","v":""},{"$f":"IFERROR(HYPERLINK(getCoor(ROW(),COLUMN()),\"\"),\"\")","v":""},{"$f":"IFERROR(HYPERLINK(getCoor(ROW(),COLUMN()),\"\"),\"\")","v":""},{"$f":"IFERROR(HYPERLINK(getCoor(ROW(),COLUMN()),\"\"),\"\")","v":""},{"$f":"IFERROR(HYPERLINK(getCoor(ROW(),COLUMN()),\"\"),\"\")","v":""},{"$f":"IFERROR(HYPERLINK(getCoor(ROW(),COLUMN()),\"\"),\"\")","v":""},{"$f":"IFERROR(HYPERLINK(getCoor(ROW(),COLUMN()),\"\"),\"\")","v":""},{"$f":"IFERROR(HYPERLINK(getCoor(ROW(),COLUMN()),\"\"),\"\")","v":""},{"$f":"IFERROR(HYPERLINK(getCoor(ROW(),COLUMN()),\"\"),\"\")","v":""},{"$f":"IFERROR(HYPERLINK(getCoor(ROW(),COLUMN()),\"\"),\"\")","v":""},{"$f":"IFERROR(HYPERLINK(getCoor(ROW(),COLUMN()),\"\"),\"\")","v":""},{"$f":"IFERROR(HYPERLINK(getCoor(ROW(),COLUMN()),\"\"),\"\")","v":""},{"$f":"IFERROR(HYPERLINK(getCoor(ROW(),COLUMN()),\"\"),\"\")","v":""},{"$f":"IFERROR(HYPERLINK(getCoor(ROW(),COLUMN()),\"\"),\"\")","v":""},{"$f":"IFERROR(HYPERLINK(getCoor(ROW(),COLUMN()),\"\"),\"\")","v":""},{"$f":"IFERROR(HYPERLINK(getCoor(ROW(),COLUMN()),\"\"),\"\")","v":""},{"$f":"IFERROR(HYPERLINK(getCoor(ROW(),COLUMN()),\"\"),\"\")","v":""},{"$f":"IFERROR(HYPERLINK(getCoor(ROW(),COLUMN()),\"\"),\"\")","v":""},{"$f":"IFERROR(HYPERLINK(getCoor(ROW(),COLUMN()),\"\"),\"\")","v":""},{"$f":"IFERROR(HYPERLINK(getCoor(ROW(),COLUMN()),\"\"),\"\")","v":""},{"$f":"IFERROR(HYPERLINK(getCoor(ROW(),COLUMN()),\"\"),\"\")","v":""},{"$f":"IFERROR(HYPERLINK(getCoor(ROW(),COLUMN()),\"\"),\"\")","v":""},{"$f":"IFERROR(HYPERLINK(getCoor(ROW(),COLUMN()),\"\"),\"\")","v":""},{"$f":"IFERROR(HYPERLINK(getCoor(ROW(),COLUMN()),\"\"),\"\")","v":""},{"$f":"IFERROR(HYPERLINK(getCoor(ROW(),COLUMN()),\"\"),\"\")","v":""},{"$f":"IFERROR(HYPERLINK(getCoor(ROW(),COLUMN()),\"\"),\"\")","v":""},{"$f":"IFERROR(HYPERLINK(getCoor(ROW(),COLUMN()),\"\"),\"\")","v":""},{"$f":"IFERROR(HYPERLINK(getCoor(ROW(),COLUMN()),\"\"),\"\")","v":""},{"$f":"IFERROR(HYPERLINK(getCoor(ROW(),COLUMN()),\"\"),\"\")","v":""},{"$f":"IFERROR(HYPERLINK(getCoor(ROW(),COLUMN()),\"\"),\"\")","v":""},{"$f":"IFERROR(HYPERLINK(getCoor(ROW(),COLUMN()),\"\"),\"\")","v":""},{"$f":"IFERROR(HYPERLINK(getCoor(ROW(),COLUMN()),\"\"),\"\")","v":""},{"$f":"IFERROR(HYPERLINK(getCoor(ROW(),COLUMN()),\"\"),\"\")","v":""},{"$f":"IFERROR(HYPERLINK(getCoor(ROW(),COLUMN()),\"\"),\"\")","v":""},{"$f":"IFERROR(HYPERLINK(getCoor(ROW(),COLUMN()),\"\"),\"\")","v":""},{"$f":"IFERROR(HYPERLINK(getCoor(ROW(),COLUMN()),\"\"),\"\")","v":""},11,"Georgia",{"$f":"IFERROR(HLOOKUP($DS$5,Table!$I$182:$BL$237,Table!BN196),\"\")","v":""},"",{"$f":"IFERROR(VLOOKUP($DS$5,Table!$A$186:$BL$237,Table!BO196),\"\")","v":""},"","",43,{"$f":"BM43","v":"South Dakota"},{"$f":"BR43","v":""},null,null,null,null,null,null,null,null,null,null,null,null,null,null,null,null,null,null,null,null,null,null,null,null,null,null,null,null,null,null,null,null,null,null,null,null,null,null,405,256,20,20,false,false,false,415,266,0,{"$f":"CONCATENATE(BN1,DS7)","v":"IN"},null,0,false,11,"Georgia","0Georgia",null,null,null,15]
[{"$f":"IFERROR(HYPERLINK(getCoor(ROW(),COLUMN()),\"\"),\"\")","v":""},{"$f":"IFERROR(HYPERLINK(getCoor(ROW(),COLUMN()),\"\"),\"\")","v":""},{"$f":"IFERROR(HYPERLINK(getCoor(ROW(),COLUMN()),\"\"),\"\")","v":""},{"$f":"IFERROR(HYPERLINK(getCoor(ROW(),COLUMN()),\"\"),\"\")","v":""},{"$f":"IFERROR(HYPERLINK(getCoor(ROW(),COLUMN()),\"\"),\"\")","v":""},{"$f":"IFERROR(HYPERLINK(getCoor(ROW(),COLUMN()),\"\"),\"\")","v":""},{"$f":"IFERROR(HYPERLINK(getCoor(ROW(),COLUMN()),\"\"),\"\")","v":""},{"$f":"IFERROR(HYPERLINK(getCoor(ROW(),COLUMN()),\"\"),\"\")","v":""},{"$f":"IFERROR(HYPERLINK(getCoor(ROW(),COLUMN()),\"\"),\"\")","v":""},{"$f":"IFERROR(HYPERLINK(getCoor(ROW(),COLUMN()),\"\"),\"\")","v":""},{"$f":"IFERROR(HYPERLINK(getCoor(ROW(),COLUMN()),\"\"),\"\")","v":""},{"$f":"IFERROR(HYPERLINK(getCoor(ROW(),COLUMN()),\"\"),\"\")","v":""},{"$f":"IFERROR(HYPERLINK(getCoor(ROW(),COLUMN()),\"\"),\"\")","v":""},{"$f":"IFERROR(HYPERLINK(getCoor(ROW(),COLUMN()),\"\"),\"\")","v":""},{"$f":"IFERROR(HYPERLINK(getCoor(ROW(),COLUMN()),\"\"),\"\")","v":""},{"$f":"IFERROR(HYPERLINK(getCoor(ROW(),COLUMN()),\"\"),\"\")","v":""},{"$f":"IFERROR(HYPERLINK(getCoor(ROW(),COLUMN()),\"\"),\"\")","v":""},{"$f":"IFERROR(HYPERLINK(getCoor(ROW(),COLUMN()),\"\"),\"\")","v":""},{"$f":"IFERROR(HYPERLINK(getCoor(ROW(),COLUMN()),\"\"),\"\")","v":""},{"$f":"IFERROR(HYPERLINK(getCoor(ROW(),COLUMN()),\"\"),\"\")","v":""},{"$f":"IFERROR(HYPERLINK(getCoor(ROW(),COLUMN()),\"\"),\"\")","v":""},{"$f":"IFERROR(HYPERLINK(getCoor(ROW(),COLUMN()),\"\"),\"\")","v":""},{"$f":"IFERROR(HYPERLINK(getCoor(ROW(),COLUMN()),\"\"),\"\")","v":""},{"$f":"IFERROR(HYPERLINK(getCoor(ROW(),COLUMN()),\"\"),\"\")","v":""},{"$f":"IFERROR(HYPERLINK(getCoor(ROW(),COLUMN()),\"\"),\"\")","v":""},{"$f":"IFERROR(HYPERLINK(getCoor(ROW(),COLUMN()),\"\"),\"\")","v":""},{"$f":"IFERROR(HYPERLINK(getCoor(ROW(),COLUMN()),\"\"),\"\")","v":""},{"$f":"IFERROR(HYPERLINK(getCoor(ROW(),COLUMN()),\"\"),\"\")","v":""},{"$f":"IFERROR(HYPERLINK(getCoor(ROW(),COLUMN()),\"\"),\"\")","v":""},{"$f":"IFERROR(HYPERLINK(getCoor(ROW(),COLUMN()),\"\"),\"\")","v":""},{"$f":"IFERROR(HYPERLINK(getCoor(ROW(),COLUMN()),\"\"),\"\")","v":""},{"$f":"IFERROR(HYPERLINK(getCoor(ROW(),COLUMN()),\"\"),\"\")","v":""},{"$f":"IFERROR(HYPERLINK(getCoor(ROW(),COLUMN()),\"\"),\"\")","v":""},{"$f":"IFERROR(HYPERLINK(getCoor(ROW(),COLUMN()),\"\"),\"\")","v":""},{"$f":"IFERROR(HYPERLINK(getCoor(ROW(),COLUMN()),\"\"),\"\")","v":""},{"$f":"IFERROR(HYPERLINK(getCoor(ROW(),COLUMN()),\"\"),\"\")","v":""},{"$f":"IFERROR(HYPERLINK(getCoor(ROW(),COLUMN()),\"\"),\"\")","v":""},{"$f":"IFERROR(HYPERLINK(getCoor(ROW(),COLUMN()),\"\"),\"\")","v":""},{"$f":"IFERROR(HYPERLINK(getCoor(ROW(),COLUMN()),\"\"),\"\")","v":""},{"$f":"IFERROR(HYPERLINK(getCoor(ROW(),COLUMN()),\"\"),\"\")","v":""},{"$f":"IFERROR(HYPERLINK(getCoor(ROW(),COLUMN()),\"\"),\"\")","v":""},{"$f":"IFERROR(HYPERLINK(getCoor(ROW(),COLUMN()),\"\"),\"\")","v":""},{"$f":"IFERROR(HYPERLINK(getCoor(ROW(),COLUMN()),\"\"),\"\")","v":""},{"$f":"IFERROR(HYPERLINK(getCoor(ROW(),COLUMN()),\"\"),\"\")","v":""},{"$f":"IFERROR(HYPERLINK(getCoor(ROW(),COLUMN()),\"\"),\"\")","v":""},{"$f":"IFERROR(HYPERLINK(getCoor(ROW(),COLUMN()),\"\"),\"\")","v":""},{"$f":"IFERROR(HYPERLINK(getCoor(ROW(),COLUMN()),\"\"),\"\")","v":""},{"$f":"IFERROR(HYPERLINK(getCoor(ROW(),COLUMN()),\"\"),\"\")","v":""},{"$f":"IFERROR(HYPERLINK(getCoor(ROW(),COLUMN()),\"\"),\"\")","v":""},{"$f":"IFERROR(HYPERLINK(getCoor(ROW(),COLUMN()),\"\"),\"\")","v":""},{"$f":"IFERROR(HYPERLINK(getCoor(ROW(),COLUMN()),\"\"),\"\")","v":""},{"$f":"IFERROR(HYPERLINK(getCoor(ROW(),COLUMN()),\"\"),\"\")","v":""},{"$f":"IFERROR(HYPERLINK(getCoor(ROW(),COLUMN()),\"\"),\"\")","v":""},{"$f":"IFERROR(HYPERLINK(getCoor(ROW(),COLUMN()),\"\"),\"\")","v":""},{"$f":"IFERROR(HYPERLINK(getCoor(ROW(),COLUMN()),\"\"),\"\")","v":""},{"$f":"IFERROR(HYPERLINK(getCoor(ROW(),COLUMN()),\"\"),\"\")","v":""},{"$f":"IFERROR(HYPERLINK(getCoor(ROW(),COLUMN()),\"\"),\"\")","v":""},{"$f":"IFERROR(HYPERLINK(getCoor(ROW(),COLUMN()),\"\"),\"\")","v":""},{"$f":"IFERROR(HYPERLINK(getCoor(ROW(),COLUMN()),\"\"),\"\")","v":""},{"$f":"IFERROR(HYPERLINK(getCoor(ROW(),COLUMN()),\"\"),\"\")","v":""},{"$f":"IFERROR(HYPERLINK(getCoor(ROW(),COLUMN()),\"\"),\"\")","v":""},{"$f":"IFERROR(HYPERLINK(getCoor(ROW(),COLUMN()),\"\"),\"\")","v":""},{"$f":"IFERROR(HYPERLINK(getCoor(ROW(),COLUMN()),\"\"),\"\")","v":""},12,"Hawaii",{"$f":"IFERROR(HLOOKUP($DS$5,Table!$I$182:$BL$237,Table!BN197),\"\")","v":""},"",{"$f":"IFERROR(VLOOKUP($DS$5,Table!$A$186:$BL$237,Table!BO197),\"\")","v":""},"","",42,{"$f":"BM42","v":"South Carolina"},{"$f":"BR42","v":""},null,null,null,null,null,null,null,null,null,null,null,null,null,null,null,null,null,null,null,null,null,null,null,null,null,null,null,null,null,null,null,null,null,null,null,null,null,null,153,351,20,20,false,true,false,163,361,0,null,null,0,false,12,"Hawaii","0Hawaii",null,null,null,16]
[{"$f":"IFERROR(HYPERLINK(getCoor(ROW(),COLUMN()),\"\"),\"\")","v":""},{"$f":"IFERROR(HYPERLINK(getCoor(ROW(),COLUMN()),\"\"),\"\")","v":""},{"$f":"IFERROR(HYPERLINK(getCoor(ROW(),COLUMN()),\"\"),\"\")","v":""},{"$f":"IFERROR(HYPERLINK(getCoor(ROW(),COLUMN()),\"\"),\"\")","v":""},{"$f":"IFERROR(HYPERLINK(getCoor(ROW(),COLUMN()),\"\"),\"\")","v":""},{"$f":"IFERROR(HYPERLINK(getCoor(ROW(),COLUMN()),\"\"),\"\")","v":""},{"$f":"IFERROR(HYPERLINK(getCoor(ROW(),COLUMN()),\"\"),\"\")","v":""},{"$f":"IFERROR(HYPERLINK(getCoor(ROW(),COLUMN()),\"\"),\"\")","v":""},{"$f":"IFERROR(HYPERLINK(getCoor(ROW(),COLUMN()),\"\"),\"\")","v":""},{"$f":"IFERROR(HYPERLINK(getCoor(ROW(),COLUMN()),\"\"),\"\")","v":""},{"$f":"IFERROR(HYPERLINK(getCoor(ROW(),COLUMN()),\"\"),\"\")","v":""},{"$f":"IFERROR(HYPERLINK(getCoor(ROW(),COLUMN()),\"\"),\"\")","v":""},{"$f":"IFERROR(HYPERLINK(getCoor(ROW(),COLUMN()),\"\"),\"\")","v":""},{"$f":"IFERROR(HYPERLINK(getCoor(ROW(),COLUMN()),\"\"),\"\")","v":""},{"$f":"IFERROR(HYPERLINK(getCoor(ROW(),COLUMN()),\"\"),\"\")","v":""},{"$f":"IFERROR(HYPERLINK(getCoor(ROW(),COLUMN()),\"\"),\"\")","v":""},{"$f":"IFERROR(HYPERLINK(getCoor(ROW(),COLUMN()),\"\"),\"\")","v":""},{"$f":"IFERROR(HYPERLINK(getCoor(ROW(),COLUMN()),\"\"),\"\")","v":""},{"$f":"IFERROR(HYPERLINK(getCoor(ROW(),COLUMN()),\"\"),\"\")","v":""},{"$f":"IFERROR(HYPERLINK(getCoor(ROW(),COLUMN()),\"\"),\"\")","v":""},{"$f":"IFERROR(HYPERLINK(getCoor(ROW(),COLUMN()),\"\"),\"\")","v":""},{"$f":"IFERROR(HYPERLINK(getCoor(ROW(),COLUMN()),\"\"),\"\")","v":""},{"$f":"IFERROR(HYPERLINK(getCoor(ROW(),COLUMN()),\"\"),\"\")","v":""},{"$f":"IFERROR(HYPERLINK(getCoor(ROW(),COLUMN()),\"\"),\"\")","v":""},{"$f":"IFERROR(HYPERLINK(getCoor(ROW(),COLUMN()),\"\"),\"\")","v":""},{"$f":"IFERROR(HYPERLINK(getCoor(ROW(),COLUMN()),\"\"),\"\")","v":""},{"$f":"IFERROR(HYPERLINK(getCoor(ROW(),COLUMN()),\"\"),\"\")","v":""},{"$f":"IFERROR(HYPERLINK(getCoor(ROW(),COLUMN()),\"\"),\"\")","v":""},{"$f":"IFERROR(HYPERLINK(getCoor(ROW(),COLUMN()),\"\"),\"\")","v":""},{"$f":"IFERROR(HYPERLINK(getCoor(ROW(),COLUMN()),\"\"),\"\")","v":""},{"$f":"IFERROR(HYPERLINK(getCoor(ROW(),COLUMN()),\"\"),\"\")","v":""},{"$f":"IFERROR(HYPERLINK(getCoor(ROW(),COLUMN()),\"\"),\"\")","v":""},{"$f":"IFERROR(HYPERLINK(getCoor(ROW(),COLUMN()),\"\"),\"\")","v":""},{"$f":"IFERROR(HYPERLINK(getCoor(ROW(),COLUMN()),\"\"),\"\")","v":""},{"$f":"IFERROR(HYPERLINK(getCoor(ROW(),COLUMN()),\"\"),\"\")","v":""},{"$f":"IFERROR(HYPERLINK(getCoor(ROW(),COLUMN()),\"\"),\"\")","v":""},{"$f":"IFERROR(HYPERLINK(getCoor(ROW(),COLUMN()),\"\"),\"\")","v":""},{"$f":"IFERROR(HYPERLINK(getCoor(ROW(),COLUMN()),\"\"),\"\")","v":""},{"$f":"IFERROR(HYPERLINK(getCoor(ROW(),COLUMN()),\"\"),\"\")","v":""},{"$f":"IFERROR(HYPERLINK(getCoor(ROW(),COLUMN()),\"\"),\"\")","v":""},{"$f":"IFERROR(HYPERLINK(getCoor(ROW(),COLUMN()),\"\"),\"\")","v":""},{"$f":"IFERROR(HYPERLINK(getCoor(ROW(),COLUMN()),\"\"),\"\")","v":""},{"$f":"IFERROR(HYPERLINK(getCoor(ROW(),COLUMN()),\"\"),\"\")","v":""},{"$f":"IFERROR(HYPERLINK(getCoor(ROW(),COLUMN()),\"\"),\"\")","v":""},{"$f":"IFERROR(HYPERLINK(getCoor(ROW(),COLUMN()),\"\"),\"\")","v":""},{"$f":"IFERROR(HYPERLINK(getCoor(ROW(),COLUMN()),\"\"),\"\")","v":""},{"$f":"IFERROR(HYPERLINK(getCoor(ROW(),COLUMN()),\"\"),\"\")","v":""},{"$f":"IFERROR(HYPERLINK(getCoor(ROW(),COLUMN()),\"\"),\"\")","v":""},{"$f":"IFERROR(HYPERLINK(getCoor(ROW(),COLUMN()),\"\"),\"\")","v":""},{"$f":"IFERROR(HYPERLINK(getCoor(ROW(),COLUMN()),\"\"),\"\")","v":""},{"$f":"IFERROR(HYPERLINK(getCoor(ROW(),COLUMN()),\"\"),\"\")","v":""},{"$f":"IFERROR(HYPERLINK(getCoor(ROW(),COLUMN()),\"\"),\"\")","v":""},{"$f":"IFERROR(HYPERLINK(getCoor(ROW(),COLUMN()),\"\"),\"\")","v":""},{"$f":"IFERROR(HYPERLINK(getCoor(ROW(),COLUMN()),\"\"),\"\")","v":""},{"$f":"IFERROR(HYPERLINK(getCoor(ROW(),COLUMN()),\"\"),\"\")","v":""},{"$f":"IFERROR(HYPERLINK(getCoor(ROW(),COLUMN()),\"\"),\"\")","v":""},{"$f":"IFERROR(HYPERLINK(getCoor(ROW(),COLUMN()),\"\"),\"\")","v":""},{"$f":"IFERROR(HYPERLINK(getCoor(ROW(),COLUMN()),\"\"),\"\")","v":""},{"$f":"IFERROR(HYPERLINK(getCoor(ROW(),COLUMN()),\"\"),\"\")","v":""},{"$f":"IFERROR(HYPERLINK(getCoor(ROW(),COLUMN()),\"\"),\"\")","v":""},{"$f":"IFERROR(HYPERLINK(getCoor(ROW(),COLUMN()),\"\"),\"\")","v":""},{"$f":"IFERROR(HYPERLINK(getCoor(ROW(),COLUMN()),\"\"),\"\")","v":""},{"$f":"IFERROR(HYPERLINK(getCoor(ROW(),COLUMN()),\"\"),\"\")","v":""},13,"Idaho",{"$f":"IFERROR(HLOOKUP($DS$5,Table!$I$182:$BL$237,Table!BN198),\"\")","v":""},"",{"$f":"IFERROR(VLOOKUP($DS$5,Table!$A$186:$BL$237,Table!BO198),\"\")","v":""},"","",41,{"$f":"BM41","v":"Rhode Island"},{"$f":"BR41","v":""},null,null,null,null,null,null,null,null,null,null,null,null,null,null,null,null,null,null,null,null,null,null,null,null,null,null,null,null,null,null,null,null,null,null,null,null,null,null,108,108,20,20,false,false,false,118,118,0,null,null,0,false,13,"Idaho","0Idaho",null,null,null,17]
[{"$f":"IFERROR(HYPERLINK(getCoor(ROW(),COLUMN()),\"\"),\"\")","v":""},{"$f":"IFERROR(HYPERLINK(getCoor(ROW(),COLUMN()),\"\"),\"\")","v":""},{"$f":"IFERROR(HYPERLINK(getCoor(ROW(),COLUMN()),\"\"),\"\")","v":""},{"$f":"IFERROR(HYPERLINK(getCoor(ROW(),COLUMN()),\"\"),\"\")","v":""},{"$f":"IFERROR(HYPERLINK(getCoor(ROW(),COLUMN()),\"\"),\"\")","v":""},{"$f":"IFERROR(HYPERLINK(getCoor(ROW(),COLUMN()),\"\"),\"\")","v":""},{"$f":"IFERROR(HYPERLINK(getCoor(ROW(),COLUMN()),\"\"),\"\")","v":""},{"$f":"IFERROR(HYPERLINK(getCoor(ROW(),COLUMN()),\"\"),\"\")","v":""},{"$f":"IFERROR(HYPERLINK(getCoor(ROW(),COLUMN()),\"\"),\"\")","v":""},{"$f":"IFERROR(HYPERLINK(getCoor(ROW(),COLUMN()),\"\"),\"\")","v":""},{"$f":"IFERROR(HYPERLINK(getCoor(ROW(),COLUMN()),\"\"),\"\")","v":""},{"$f":"IFERROR(HYPERLINK(getCoor(ROW(),COLUMN()),\"\"),\"\")","v":""},{"$f":"IFERROR(HYPERLINK(getCoor(ROW(),COLUMN()),\"\"),\"\")","v":""},{"$f":"IFERROR(HYPERLINK(getCoor(ROW(),COLUMN()),\"\"),\"\")","v":""},{"$f":"IFERROR(HYPERLINK(getCoor(ROW(),COLUMN()),\"\"),\"\")","v":""},{"$f":"IFERROR(HYPERLINK(getCoor(ROW(),COLUMN()),\"\"),\"\")","v":""},{"$f":"IFERROR(HYPERLINK(getCoor(ROW(),COLUMN()),\"\"),\"\")","v":""},{"$f":"IFERROR(HYPERLINK(getCoor(ROW(),COLUMN()),\"\"),\"\")","v":""},{"$f":"IFERROR(HYPERLINK(getCoor(ROW(),COLUMN()),\"\"),\"\")","v":""},{"$f":"IFERROR(HYPERLINK(getCoor(ROW(),COLUMN()),\"\"),\"\")","v":""},{"$f":"IFERROR(HYPERLINK(getCoor(ROW(),COLUMN()),\"\"),\"\")","v":""},{"$f":"IFERROR(HYPERLINK(getCoor(ROW(),COLUMN()),\"\"),\"\")","v":""},{"$f":"IFERROR(HYPERLINK(getCoor(ROW(),COLUMN()),\"\"),\"\")","v":""},{"$f":"IFERROR(HYPERLINK(getCoor(ROW(),COLUMN()),\"\"),\"\")","v":""},{"$f":"IFERROR(HYPERLINK(getCoor(ROW(),COLUMN()),\"\"),\"\")","v":""},{"$f":"IFERROR(HYPERLINK(getCoor(ROW(),COLUMN()),\"\"),\"\")","v":""},{"$f":"IFERROR(HYPERLINK(getCoor(ROW(),COLUMN()),\"\"),\"\")","v":""},{"$f":"IFERROR(HYPERLINK(getCoor(ROW(),COLUMN()),\"\"),\"\")","v":""},{"$f":"IFERROR(HYPERLINK(getCoor(ROW(),COLUMN()),\"\"),\"\")","v":""},{"$f":"IFERROR(HYPERLINK(getCoor(ROW(),COLUMN()),\"\"),\"\")","v":""},{"$f":"IFERROR(HYPERLINK(getCoor(ROW(),COLUMN()),\"\"),\"\")","v":""},{"$f":"IFERROR(HYPERLINK(getCoor(ROW(),COLUMN()),\"\"),\"\")","v":""},{"$f":"IFERROR(HYPERLINK(getCoor(ROW(),COLUMN()),\"\"),\"\")","v":""},{"$f":"IFERROR(HYPERLINK(getCoor(ROW(),COLUMN()),\"\"),\"\")","v":""},{"$f":"IFERROR(HYPERLINK(getCoor(ROW(),COLUMN()),\"\"),\"\")","v":""},{"$f":"IFERROR(HYPERLINK(getCoor(ROW(),COLUMN()),\"\"),\"\")","v":""},{"$f":"IFERROR(HYPERLINK(getCoor(ROW(),COLUMN()),\"\"),\"\")","v":""},{"$f":"IFERROR(HYPERLINK(getCoor(ROW(),COLUMN()),\"\"),\"\")","v":""},{"$f":"IFERROR(HYPERLINK(getCoor(ROW(),COLUMN()),\"\"),\"\")","v":""},{"$f":"IFERROR(HYPERLINK(getCoor(ROW(),COLUMN()),\"\"),\"\")","v":""},{"$f":"IFERROR(HYPERLINK(getCoor(ROW(),COLUMN()),\"\"),\"\")","v":""},{"$f":"IFERROR(HYPERLINK(getCoor(ROW(),COLUMN()),\"\"),\"\")","v":""},{"$f":"IFERROR(HYPERLINK(getCoor(ROW(),COLUMN()),\"\"),\"\")","v":""},{"$f":"IFERROR(HYPERLINK(getCoor(ROW(),COLUMN()),\"\"),\"\")","v":""},{"$f":"IFERROR(HYPERLINK(getCoor(ROW(),COLUMN()),\"\"),\"\")","v":""},{"$f":"IFERROR(HYPERLINK(getCoor(ROW(),COLUMN()),\"\"),\"\")","v":""},{"$f":"IFERROR(HYPERLINK(getCoor(ROW(),COLUMN()),\"\"),\"\")","v":""},{"$f":"IFERROR(HYPERLINK(getCoor(ROW(),COLUMN()),\"\"),\"\")","v":""},{"$f":"IFERROR(HYPERLINK(getCoor(ROW(),COLUMN()),\"\"),\"\")","v":""},{"$f":"IFERROR(HYPERLINK(getCoor(ROW(),COLUMN()),\"\"),\"\")","v":""},{"$f":"IFERROR(HYPERLINK(getCoor(ROW(),COLUMN()),\"\"),\"\")","v":""},{"$f":"IFERROR(HYPERLINK(getCoor(ROW(),COLUMN()),\"\"),\"\")","v":""},{"$f":"IFERROR(HYPERLINK(getCoor(ROW(),COLUMN()),\"\"),\"\")","v":""},{"$f":"IFERROR(HYPERLINK(getCoor(ROW(),COLUMN()),\"\"),\"\")","v":""},{"$f":"IFERROR(HYPERLINK(getCoor(ROW(),COLUMN()),\"\"),\"\")","v":""},{"$f":"IFERROR(HYPERLINK(getCoor(ROW(),COLUMN()),\"\"),\"\")","v":""},{"$f":"IFERROR(HYPERLINK(getCoor(ROW(),COLUMN()),\"\"),\"\")","v":""},{"$f":"IFERROR(HYPERLINK(getCoor(ROW(),COLUMN()),\"\"),\"\")","v":""},{"$f":"IFERROR(HYPERLINK(getCoor(ROW(),COLUMN()),\"\"),\"\")","v":""},{"$f":"IFERROR(HYPERLINK(getCoor(ROW(),COLUMN()),\"\"),\"\")","v":""},{"$f":"IFERROR(HYPERLINK(getCoor(ROW(),COLUMN()),\"\"),\"\")","v":""},{"$f":"IFERROR(HYPERLINK(getCoor(ROW(),COLUMN()),\"\"),\"\")","v":""},{"$f":"IFERROR(HYPERLINK(getCoor(ROW(),COLUMN()),\"\"),\"\")","v":""},14,"Illinois",{"$f":"IFERROR(HLOOKUP($DS$5,Table!$I$182:$BL$237,Table!BN199),\"\")","v":""},"",{"$f":"IFERROR(VLOOKUP($DS$5,Table!$A$186:$BL$237,Table!BO199),\"\")","v":""},"","",40,{"$f":"BM40","v":"Pennsylvania"},{"$f":"BR40","v":""},null,null,null,null,null,null,null,null,null,null,null,null,null,null,null,null,null,null,null,null,null,null,null,null,null,null,null,null,null,null,null,null,null,null,null,null,null,null,333,162,7,7,false,false,false,336.5,165.5,0,null,null,0,false,14,"Illinois","0Illinois",null,null,null,18]
[{"$f":"IFERROR(HYPERLINK(getCoor(ROW(),COLUMN()),\"\"),\"\")","v":""},{"$f":"IFERROR(HYPERLINK(getCoor(ROW(),COLUMN()),\"\"),\"\")","v":""},{"$f":"IFERROR(HYPERLINK(getCoor(ROW(),COLUMN()),\"\"),\"\")","v":""},{"$f":"IFERROR(HYPERLINK(getCoor(ROW(),COLUMN()),\"\"),\"\")","v":""},{"$f":"IFERROR(HYPERLINK(getCoor(ROW(),COLUMN()),\"\"),\"\")","v":""},{"$f":"IFERROR(HYPERLINK(getCoor(ROW(),COLUMN()),\"\"),\"\")","v":""},{"$f":"IFERROR(HYPERLINK(getCoor(ROW(),COLUMN()),\"\"),\"\")","v":""},{"$f":"IFERROR(HYPERLINK(getCoor(ROW(),COLUMN()),\"\"),\"\")","v":""},{"$f":"IFERROR(HYPERLINK(getCoor(ROW(),COLUMN()),\"\"),\"\")","v":""},{"$f":"IFERROR(HYPERLINK(getCoor(ROW(),COLUMN()),\"\"),\"\")","v":""},{"$f":"IFERROR(HYPERLINK(getCoor(ROW(),COLUMN()),\"\"),\"\")","v":""},{"$f":"IFERROR(HYPERLINK(getCoor(ROW(),COLUMN()),\"\"),\"\")","v":""},{"$f":"IFERROR(HYPERLINK(getCoor(ROW(),COLUMN()),\"\"),\"\")","v":""},{"$f":"IFERROR(HYPERLINK(getCoor(ROW(),COLUMN()),\"\"),\"\")","v":""},{"$f":"IFERROR(HYPERLINK(getCoor(ROW(),COLUMN()),\"\"),\"\")","v":""},{"$f":"IFERROR(HYPERLINK(getCoor(ROW(),COLUMN()),\"\"),\"\")","v":""},{"$f":"IFERROR(HYPERLINK(getCoor(ROW(),COLUMN()),\"\"),\"\")","v":""},{"$f":"IFERROR(HYPERLINK(getCoor(ROW(),COLUMN()),\"\"),\"\")","v":""},{"$f":"IFERROR(HYPERLINK(getCoor(ROW(),COLUMN()),\"\"),\"\")","v":""},{"$f":"IFERROR(HYPERLINK(getCoor(ROW(),COLUMN()),\"\"),\"\")","v":""},{"$f":"IFERROR(HYPERLINK(getCoor(ROW(),COLUMN()),\"\"),\"\")","v":""},{"$f":"IFERROR(HYPERLINK(getCoor(ROW(),COLUMN()),\"\"),\"\")","v":""},{"$f":"IFERROR(HYPERLINK(getCoor(ROW(),COLUMN()),\"\"),\"\")","v":""},{"$f":"IFERROR(HYPERLINK(getCoor(ROW(),COLUMN()),\"\"),\"\")","v":""},{"$f":"IFERROR(HYPERLINK(getCoor(ROW(),COLUMN()),\"\"),\"\")","v":""},{"$f":"IFERROR(HYPERLINK(getCoor(ROW(),COLUMN()),\"\"),\"\")","v":""},{"$f":"IFERROR(HYPERLINK(getCoor(ROW(),COLUMN()),\"\"),\"\")","v":""},{"$f":"IFERROR(HYPERLINK(getCoor(ROW(),COLUMN()),\"\"),\"\")","v":""},{"$f":"IFERROR(HYPERLINK(getCoor(ROW(),COLUMN()),\"\"),\"\")","v":""},{"$f":"IFERROR(HYPERLINK(getCoor(ROW(),COLUMN()),\"\"),\"\")","v":""},{"$f":"IFERROR(HYPERLINK(getCoor(ROW(),COLUMN()),\"\"),\"\")","v":""},{"$f":"IFERROR(HYPERLINK(getCoor(ROW(),COLUMN()),\"\"),\"\")","v":""},{"$f":"IFERROR(HYPERLINK(getCoor(ROW(),COLUMN()),\"\"),\"\")","v":""},{"$f":"IFERROR(HYPERLINK(getCoor(ROW(),COLUMN()),\"\"),\"\")","v":""},{"$f":"IFERROR(HYPERLINK(getCoor(ROW(),COLUMN()),\"\"),\"\")","v":""},{"$f":"IFERROR(HYPERLINK(getCoor(ROW(),COLUMN()),\"\"),\"\")","v":""},{"$f":"IFERROR(HYPERLINK(getCoor(ROW(),COLUMN()),\"\"),\"\")","v":""},{"$f":"IFERROR(HYPERLINK(getCoor(ROW(),COLUMN()),\"\"),\"\")","v":""},{"$f":"IFERROR(HYPERLINK(getCoor(ROW(),COLUMN()),\"\"),\"\")","v":""},{"$f":"IFERROR(HYPERLINK(getCoor(ROW(),COLUMN()),\"\"),\"\")","v":""},{"$f":"IFERROR(HYPERLINK(getCoor(ROW(),COLUMN()),\"\"),\"\")","v":""},{"$f":"IFERROR(HYPERLINK(getCoor(ROW(),COLUMN()),\"\"),\"\")","v":""},{"$f":"IFERROR(HYPERLINK(getCoor(ROW(),COLUMN()),\"\"),\"\")","v":""},{"$f":"IFERROR(HYPERLINK(getCoor(ROW(),COLUMN()),\"\"),\"\")","v":""},{"$f":"IFERROR(HYPERLINK(getCoor(ROW(),COLUMN()),\"\"),\"\")","v":""},{"$f":"IFERROR(HYPERLINK(getCoor(ROW(),COLUMN()),\"\"),\"\")","v":""},{"$f":"IFERROR(HYPERLINK(getCoor(ROW(),COLUMN()),\"\"),\"\")","v":""},{"$f":"IFERROR(HYPERLINK(getCoor(ROW(),COLUMN()),\"\"),\"\")","v":""},{"$f":"IFERROR(HYPERLINK(getCoor(ROW(),COLUMN()),\"\"),\"\")","v":""},{"$f":"IFERROR(HYPERLINK(getCoor(ROW(),COLUMN()),\"\"),\"\")","v":""},{"$f":"IFERROR(HYPERLINK(getCoor(ROW(),COLUMN()),\"\"),\"\")","v":""},{"$f":"IFERROR(HYPERLINK(getCoor(ROW(),COLUMN()),\"\"),\"\")","v":""},{"$f":"IFERROR(HYPERLINK(getCoor(ROW(),COLUMN()),\"\"),\"\")","v":""},{"$f":"IFERROR(HYPERLINK(getCoor(ROW(),COLUMN()),\"\"),\"\")","v":""},{"$f":"IFERROR(HYPERLINK(getCoor(ROW(),COLUMN()),\"\"),\"\")","v":""},{"$f":"IFERROR(HYPERLINK(getCoor(ROW(),COLUMN()),\"\"),\"\")","v":""},{"$f":"IFERROR(HYPERLINK(getCoor(ROW(),COLUMN()),\"\"),\"\")","v":""},{"$f":"IFERROR(HYPERLINK(getCoor(ROW(),COLUMN()),\"\"),\"\")","v":""},{"$f":"IFERROR(HYPERLINK(getCoor(ROW(),COLUMN()),\"\"),\"\")","v":""},{"$f":"IFERROR(HYPERLINK(getCoor(ROW(),COLUMN()),\"\"),\"\")","v":""},{"$f":"IFERROR(HYPERLINK(getCoor(ROW(),COLUMN()),\"\"),\"\")","v":""},{"$f":"IFERROR(HYPERLINK(getCoor(ROW(),COLUMN()),\"\"),\"\")","v":""},{"$f":"IFERROR(HYPERLINK(getCoor(ROW(),COLUMN()),\"\"),\"\")","v":""},15,"Indiana",{"$f":"IFERROR(HLOOKUP($DS$5,Table!$I$182:$BL$237,Table!BN200),\"\")","v":""},"",{"$f":"IFERROR(VLOOKUP($DS$5,Table!$A$186:$BL$237,Table!BO200),\"\")","v":""},"","",39,{"$f":"BM39","v":"Oregon"},{"$f":"BR39","v":""},null,null,null,null,null,null,null,null,null,null,null,null,null,null,null,null,null,null,null,null,null,null,null,null,null,null,null,null,null,null,null,null,null,null,null,null,null,null,360,162,14,14,false,false,false,367,169,0,null,null,0,false,15,"Indiana","0Indiana",null,null,null,19]
[{"$f":"IFERROR(HYPERLINK(getCoor(ROW(),COLUMN()),\"\"),\"\")","v":""},{"$f":"IFERROR(HYPERLINK(getCoor(ROW(),COLUMN()),\"\"),\"\")","v":""},{"$f":"IFERROR(HYPERLINK(getCoor(ROW(),COLUMN()),\"\"),\"\")","v":""},{"$f":"IFERROR(HYPERLINK(getCoor(ROW(),COLUMN()),\"\"),\"\")","v":""},{"$f":"IFERROR(HYPERLINK(getCoor(ROW(),COLUMN()),\"\"),\"\")","v":""},{"$f":"IFERROR(HYPERLINK(getCoor(ROW(),COLUMN()),\"\"),\"\")","v":""},{"$f":"IFERROR(HYPERLINK(getCoor(ROW(),COLUMN()),\"\"),\"\")","v":""},{"$f":"IFERROR(HYPERLINK(getCoor(ROW(),COLUMN()),\"\"),\"\")","v":""},{"$f":"IFERROR(HYPERLINK(getCoor(ROW(),COLUMN()),\"\"),\"\")","v":""},{"$f":"IFERROR(HYPERLINK(getCoor(ROW(),COLUMN()),\"\"),\"\")","v":""},{"$f":"IFERROR(HYPERLINK(getCoor(ROW(),COLUMN()),\"\"),\"\")","v":""},{"$f":"IFERROR(HYPERLINK(getCoor(ROW(),COLUMN()),\"\"),\"\")","v":""},{"$f":"IFERROR(HYPERLINK(getCoor(ROW(),COLUMN()),\"\"),\"\")","v":""},{"$f":"IFERROR(HYPERLINK(getCoor(ROW(),COLUMN()),\"\"),\"\")","v":""},{"$f":"IFERROR(HYPERLINK(getCoor(ROW(),COLUMN()),\"\"),\"\")","v":""},{"$f":"IFERROR(HYPERLINK(getCoor(ROW(),COLUMN()),\"\"),\"\")","v":""},{"$f":"IFERROR(HYPERLINK(getCoor(ROW(),COLUMN()),\"\"),\"\")","v":""},{"$f":"IFERROR(HYPERLINK(getCoor(ROW(),COLUMN()),\"\"),\"\")","v":""},{"$f":"IFERROR(HYPERLINK(getCoor(ROW(),COLUMN()),\"\"),\"\")","v":""},{"$f":"IFERROR(HYPERLINK(getCoor(ROW(),COLUMN()),\"\"),\"\")","v":""},{"$f":"IFERROR(HYPERLINK(getCoor(ROW(),COLUMN()),\"\"),\"\")","v":""},{"$f":"IFERROR(HYPERLINK(getCoor(ROW(),COLUMN()),\"\"),\"\")","v":""},{"$f":"IFERROR(HYPERLINK(getCoor(ROW(),COLUMN()),\"\"),\"\")","v":""},{"$f":"IFERROR(HYPERLINK(getCoor(ROW(),COLUMN()),\"\"),\"\")","v":""},{"$f":"IFERROR(HYPERLINK(getCoor(ROW(),COLUMN()),\"\"),\"\")","v":""},{"$f":"IFERROR(HYPERLINK(getCoor(ROW(),COLUMN()),\"\"),\"\")","v":""},{"$f":"IFERROR(HYPERLINK(getCoor(ROW(),COLUMN()),\"\"),\"\")","v":""},{"$f":"IFERROR(HYPERLINK(getCoor(ROW(),COLUMN()),\"\"),\"\")","v":""},{"$f":"IFERROR(HYPERLINK(getCoor(ROW(),COLUMN()),\"\"),\"\")","v":""},{"$f":"IFERROR(HYPERLINK(getCoor(ROW(),COLUMN()),\"\"),\"\")","v":""},{"$f":"IFERROR(HYPERLINK(getCoor(ROW(),COLUMN()),\"\"),\"\")","v":""},{"$f":"IFERROR(HYPERLINK(getCoor(ROW(),COLUMN()),\"\"),\"\")","v":""},{"$f":"IFERROR(HYPERLINK(getCoor(ROW(),COLUMN()),\"\"),\"\")","v":""},{"$f":"IFERROR(HYPERLINK(getCoor(ROW(),COLUMN()),\"\"),\"\")","v":""},{"$f":"IFERROR(HYPERLINK(getCoor(ROW(),COLUMN()),\"\"),\"\")","v":""},{"$f":"IFERROR(HYPERLINK(getCoor(ROW(),COLUMN()),\"\"),\"\")","v":""},{"$f":"IFERROR(HYPERLINK(getCoor(ROW(),COLUMN()),\"\"),\"\")","v":""},{"$f":"IFERROR(HYPERLINK(getCoor(ROW(),COLUMN()),\"\"),\"\")","v":""},{"$f":"IFERROR(HYPERLINK(getCoor(ROW(),COLUMN()),\"\"),\"\")","v":""},{"$f":"IFERROR(HYPERLINK(getCoor(ROW(),COLUMN()),\"\"),\"\")","v":""},{"$f":"IFERROR(HYPERLINK(getCoor(ROW(),COLUMN()),\"\"),\"\")","v":""},{"$f":"IFERROR(HYPERLINK(getCoor(ROW(),COLUMN()),\"\"),\"\")","v":""},{"$f":"IFERROR(HYPERLINK(getCoor(ROW(),COLUMN()),\"\"),\"\")","v":""},{"$f":"IFERROR(HYPERLINK(getCoor(ROW(),COLUMN()),\"\"),\"\")","v":""},{"$f":"IFERROR(HYPERLINK(getCoor(ROW(),COLUMN()),\"\"),\"\")","v":""},{"$f":"IFERROR(HYPERLINK(getCoor(ROW(),COLUMN()),\"\"),\"\")","v":""},{"$f":"IFERROR(HYPERLINK(getCoor(ROW(),COLUMN()),\"\"),\"\")","v":""},{"$f":"IFERROR(HYPERLINK(getCoor(ROW(),COLUMN()),\"\"),\"\")","v":""},{"$f":"IFERROR(HYPERLINK(getCoor(ROW(),COLUMN()),\"\"),\"\")","v":""},{"$f":"IFERROR(HYPERLINK(getCoor(ROW(),COLUMN()),\"\"),\"\")","v":""},{"$f":"IFERROR(HYPERLINK(getCoor(ROW(),COLUMN()),\"\"),\"\")","v":""},{"$f":"IFERROR(HYPERLINK(getCoor(ROW(),COLUMN()),\"\"),\"\")","v":""},{"$f":"IFERROR(HYPERLINK(getCoor(ROW(),COLUMN()),\"\"),\"\")","v":""},{"$f":"IFERROR(HYPERLINK(getCoor(ROW(),COLUMN()),\"\"),\"\")","v":""},{"$f":"IFERROR(HYPERLINK(getCoor(ROW(),COLUMN()),\"\"),\"\")","v":""},{"$f":"IFERROR(HYPERLINK(getCoor(ROW(),COLUMN()),\"\"),\"\")","v":""},{"$f":"IFERROR(HYPERLINK(getCoor(ROW(),COLUMN()),\"\"),\"\")","v":""},{"$f":"IFERROR(HYPERLINK(getCoor(ROW(),COLUMN()),\"\"),\"\")","v":""},{"$f":"IFERROR(HYPERLINK(getCoor(ROW(),COLUMN()),\"\"),\"\")","v":""},{"$f":"IFERROR(HYPERLINK(getCoor(ROW(),COLUMN()),\"\"),\"\")","v":""},{"$f":"IFERROR(HYPERLINK(getCoor(ROW(),COLUMN()),\"\"),\"\")","v":""},{"$f":"IFERROR(HYPERLINK(getCoor(ROW(),COLUMN()),\"\"),\"\")","v":""},{"$f":"IFERROR(HYPERLINK(getCoor(ROW(),COLUMN()),\"\"),\"\")","v":""},16,"Iowa",{"$f":"IFERROR(HLOOKUP($DS$5,Table!$I$182:$BL$237,Table!BN201),\"\")","v":""},"",{"$f":"IFERROR(VLOOKUP($DS$5,Table!$A$186:$BL$237,Table!BO201),\"\")","v":""},"","",38,{"$f":"BM38","v":"Oklahoma"},{"$f":"BR38","v":""},null,null,null,null,null,null,null,null,null,null,null,null,null,null,null,null,null,null,null,null,null,null,null,null,null,null,null,null,null,null,null,null,null,null,null,null,null,null,288,135,14,14,false,false,false,295,142,0,null,null,{"$f":"IF(DU17=TRUE,1,0)","v":0},false,16,"Iowa",{"$f":"--DU17&DW17","v":"0Iowa"},null,null,null,20]
[{"$f":"IFERROR(HYPERLINK(getCoor(ROW(),COLUMN()),\"\"),\"\")","v":""},{"$f":"IFERROR(HYPERLINK(getCoor(ROW(),COLUMN()),\"\"),\"\")","v":""},{"$f":"IFERROR(HYPERLINK(getCoor(ROW(),COLUMN()),\"\"),\"\")","v":""},{"$f":"IFERROR(HYPERLINK(getCoor(ROW(),COLUMN()),\"\"),\"\")","v":""},{"$f":"IFERROR(HYPERLINK(getCoor(ROW(),COLUMN()),\"\"),\"\")","v":""},{"$f":"IFERROR(HYPERLINK(getCoor(ROW(),COLUMN()),\"\"),\"\")","v":""},{"$f":"IFERROR(HYPERLINK(getCoor(ROW(),COLUMN()),\"\"),\"\")","v":""},{"$f":"IFERROR(HYPERLINK(getCoor(ROW(),COLUMN()),\"\"),\"\")","v":""},{"$f":"IFERROR(HYPERLINK(getCoor(ROW(),COLUMN()),\"\"),\"\")","v":""},{"$f":"IFERROR(HYPERLINK(getCoor(ROW(),COLUMN()),\"\"),\"\")","v":""},{"$f":"IFERROR(HYPERLINK(getCoor(ROW(),COLUMN()),\"\"),\"\")","v":""},{"$f":"IFERROR(HYPERLINK(getCoor(ROW(),COLUMN()),\"\"),\"\")","v":""},{"$f":"IFERROR(HYPERLINK(getCoor(ROW(),COLUMN()),\"\"),\"\")","v":""},{"$f":"IFERROR(HYPERLINK(getCoor(ROW(),COLUMN()),\"\"),\"\")","v":""},{"$f":"IFERROR(HYPERLINK(getCoor(ROW(),COLUMN()),\"\"),\"\")","v":""},{"$f":"IFERROR(HYPERLINK(getCoor(ROW(),COLUMN()),\"\"),\"\")","v":""},{"$f":"IFERROR(HYPERLINK(getCoor(ROW(),COLUMN()),\"\"),\"\")","v":""},{"$f":"IFERROR(HYPERLINK(getCoor(ROW(),COLUMN()),\"\"),\"\")","v":""},{"$f":"IFERROR(HYPERLINK(getCoor(ROW(),COLUMN()),\"\"),\"\")","v":""},{"$f":"IFERROR(HYPERLINK(getCoor(ROW(),COLUMN()),\"\"),\"\")","v":""},{"$f":"IFERROR(HYPERLINK(getCoor(ROW(),COLUMN()),\"\"),\"\")","v":""},{"$f":"IFERROR(HYPERLINK(getCoor(ROW(),COLUMN()),\"\"),\"\")","v":""},{"$f":"IFERROR(HYPERLINK(getCoor(ROW(),COLUMN()),\"\"),\"\")","v":""},{"$f":"IFERROR(HYPERLINK(getCoor(ROW(),COLUMN()),\"\"),\"\")","v":""},{"$f":"IFERROR(HYPERLINK(getCoor(ROW(),COLUMN()),\"\"),\"\")","v":""},{"$f":"IFERROR(HYPERLINK(getCoor(ROW(),COLUMN()),\"\"),\"\")","v":""},{"$f":"IFERROR(HYPERLINK(getCoor(ROW(),COLUMN()),\"\"),\"\")","v":""},{"$f":"IFERROR(HYPERLINK(getCoor(ROW(),COLUMN()),\"\"),\"\")","v":""},{"$f":"IFERROR(HYPERLINK(getCoor(ROW(),COLUMN()),\"\"),\"\")","v":""},{"$f":"IFERROR(HYPERLINK(getCoor(ROW(),COLUMN()),\"\"),\"\")","v":""},{"$f":"IFERROR(HYPERLINK(getCoor(ROW(),COLUMN()),\"\"),\"\")","v":""},{"$f":"IFERROR(HYPERLINK(getCoor(ROW(),COLUMN()),\"\"),\"\")","v":""},{"$f":"IFERROR(HYPERLINK(getCoor(ROW(),COLUMN()),\"\"),\"\")","v":""},{"$f":"IFERROR(HYPERLINK(getCoor(ROW(),COLUMN()),\"\"),\"\")","v":""},{"$f":"IFERROR(HYPERLINK(getCoor(ROW(),COLUMN()),\"\"),\"\")","v":""},{"$f":"IFERROR(HYPERLINK(getCoor(ROW(),COLUMN()),\"\"),\"\")","v":""},{"$f":"IFERROR(HYPERLINK(getCoor(ROW(),COLUMN()),\"\"),\"\")","v":""},{"$f":"IFERROR(HYPERLINK(getCoor(ROW(),COLUMN()),\"\"),\"\")","v":""},{"$f":"IFERROR(HYPERLINK(getCoor(ROW(),COLUMN()),\"\"),\"\")","v":""},{"$f":"IFERROR(HYPERLINK(getCoor(ROW(),COLUMN()),\"\"),\"\")","v":""},{"$f":"IFERROR(HYPERLINK(getCoor(ROW(),COLUMN()),\"\"),\"\")","v":""},{"$f":"IFERROR(HYPERLINK(getCoor(ROW(),COLUMN()),\"\"),\"\")","v":""},{"$f":"IFERROR(HYPERLINK(getCoor(ROW(),COLUMN()),\"\"),\"\")","v":""},{"$f":"IFERROR(HYPERLINK(getCoor(ROW(),COLUMN()),\"\"),\"\")","v":""},{"$f":"IFERROR(HYPERLINK(getCoor(ROW(),COLUMN()),\"\"),\"\")","v":""},{"$f":"IFERROR(HYPERLINK(getCoor(ROW(),COLUMN()),\"\"),\"\")","v":""},{"$f":"IFERROR(HYPERLINK(getCoor(ROW(),COLUMN()),\"\"),\"\")","v":""},{"$f":"IFERROR(HYPERLINK(getCoor(ROW(),COLUMN()),\"\"),\"\")","v":""},{"$f":"IFERROR(HYPERLINK(getCoor(ROW(),COLUMN()),\"\"),\"\")","v":""},{"$f":"IFERROR(HYPERLINK(getCoor(ROW(),COLUMN()),\"\"),\"\")","v":""},{"$f":"IFERROR(HYPERLINK(getCoor(ROW(),COLUMN()),\"\"),\"\")","v":""},{"$f":"IFERROR(HYPERLINK(getCoor(ROW(),COLUMN()),\"\"),\"\")","v":""},{"$f":"IFERROR(HYPERLINK(getCoor(ROW(),COLUMN()),\"\"),\"\")","v":""},{"$f":"IFERROR(HYPERLINK(getCoor(ROW(),COLUMN()),\"\"),\"\")","v":""},{"$f":"IFERROR(HYPERLINK(getCoor(ROW(),COLUMN()),\"\"),\"\")","v":""},{"$f":"IFERROR(HYPERLINK(getCoor(ROW(),COLUMN()),\"\"),\"\")","v":""},{"$f":"IFERROR(HYPERLINK(getCoor(ROW(),COLUMN()),\"\"),\"\")","v":""},{"$f":"IFERROR(HYPERLINK(getCoor(ROW(),COLUMN()),\"\"),\"\")","v":""},{"$f":"IFERROR(HYPERLINK(getCoor(ROW(),COLUMN()),\"\"),\"\")","v":""},{"$f":"IFERROR(HYPERLINK(getCoor(ROW(),COLUMN()),\"\"),\"\")","v":""},{"$f":"IFERROR(HYPERLINK(getCoor(ROW(),COLUMN()),\"\"),\"\")","v":""},{"$f":"IFERROR(HYPERLINK(getCoor(ROW(),COLUMN()),\"\"),\"\")","v":""},{"$f":"IFERROR(HYPERLINK(getCoor(ROW(),COLUMN()),\"\"),\"\")","v":""},17,"Kansas",{"$f":"IFERROR(HLOOKUP($DS$5,Table!$I$182:$BL$237,Table!BN202),\"\")","v":""},"",{"$f":"IFERROR(VLOOKUP($DS$5,Table!$A$186:$BL$237,Table!BO202),\"\")","v":""},"","",37,{"$f":"BM37","v":"Ohio"},{"$f":"BR37","v":""},null,null,null,null,null,null,null,null,null,null,null,null,null,null,null,null,null,null,null,null,null,null,null,null,null,null,null,null,null,null,null,null,null,null,null,null,null,null,243,189,14,14,false,false,false,250,196,0,null,null,0,false,17,"Kansas","0Kansas",null,null,null,21]
[{"$f":"IFERROR(HYPERLINK(getCoor(ROW(),COLUMN()),\"\"),\"\")","v":""},{"$f":"IFERROR(HYPERLINK(getCoor(ROW(),COLUMN()),\"\"),\"\")","v":""},{"$f":"IFERROR(HYPERLINK(getCoor(ROW(),COLUMN()),\"\"),\"\")","v":""},{"$f":"IFERROR(HYPERLINK(getCoor(ROW(),COLUMN()),\"\"),\"\")","v":""},{"$f":"IFERROR(HYPERLINK(getCoor(ROW(),COLUMN()),\"\"),\"\")","v":""},{"$f":"IFERROR(HYPERLINK(getCoor(ROW(),COLUMN()),\"\"),\"\")","v":""},{"$f":"IFERROR(HYPERLINK(getCoor(ROW(),COLUMN()),\"\"),\"\")","v":""},{"$f":"IFERROR(HYPERLINK(getCoor(ROW(),COLUMN()),\"\"),\"\")","v":""},{"$f":"IFERROR(HYPERLINK(getCoor(ROW(),COLUMN()),\"\"),\"\")","v":""},{"$f":"IFERROR(HYPERLINK(getCoor(ROW(),COLUMN()),\"\"),\"\")","v":""},{"$f":"IFERROR(HYPERLINK(getCoor(ROW(),COLUMN()),\"\"),\"\")","v":""},{"$f":"IFERROR(HYPERLINK(getCoor(ROW(),COLUMN()),\"\"),\"\")","v":""},{"$f":"IFERROR(HYPERLINK(getCoor(ROW(),COLUMN()),\"\"),\"\")","v":""},{"$f":"IFERROR(HYPERLINK(getCoor(ROW(),COLUMN()),\"\"),\"\")","v":""},{"$f":"IFERROR(HYPERLINK(getCoor(ROW(),COLUMN()),\"\"),\"\")","v":""},{"$f":"IFERROR(HYPERLINK(getCoor(ROW(),COLUMN()),\"\"),\"\")","v":""},{"$f":"IFERROR(HYPERLINK(getCoor(ROW(),COLUMN()),\"\"),\"\")","v":""},{"$f":"IFERROR(HYPERLINK(getCoor(ROW(),COLUMN()),\"\"),\"\")","v":""},{"$f":"IFERROR(HYPERLINK(getCoor(ROW(),COLUMN()),\"\"),\"\")","v":""},{"$f":"IFERROR(HYPERLINK(getCoor(ROW(),COLUMN()),\"\"),\"\")","v":""},{"$f":"IFERROR(HYPERLINK(getCoor(ROW(),COLUMN()),\"\"),\"\")","v":""},{"$f":"IFERROR(HYPERLINK(getCoor(ROW(),COLUMN()),\"\"),\"\")","v":""},{"$f":"IFERROR(HYPERLINK(getCoor(ROW(),COLUMN()),\"\"),\"\")","v":""},{"$f":"IFERROR(HYPERLINK(getCoor(ROW(),COLUMN()),\"\"),\"\")","v":""},{"$f":"IFERROR(HYPERLINK(getCoor(ROW(),COLUMN()),\"\"),\"\")","v":""},{"$f":"IFERROR(HYPERLINK(getCoor(ROW(),COLUMN()),\"\"),\"\")","v":""},{"$f":"IFERROR(HYPERLINK(getCoor(ROW(),COLUMN()),\"\"),\"\")","v":""},{"$f":"IFERROR(HYPERLINK(getCoor(ROW(),COLUMN()),\"\"),\"\")","v":""},{"$f":"IFERROR(HYPERLINK(getCoor(ROW(),COLUMN()),\"\"),\"\")","v":""},{"$f":"IFERROR(HYPERLINK(getCoor(ROW(),COLUMN()),\"\"),\"\")","v":""},{"$f":"IFERROR(HYPERLINK(getCoor(ROW(),COLUMN()),\"\"),\"\")","v":""},{"$f":"IFERROR(HYPERLINK(getCoor(ROW(),COLUMN()),\"\"),\"\")","v":""},{"$f":"IFERROR(HYPERLINK(getCoor(ROW(),COLUMN()),\"\"),\"\")","v":""},{"$f":"IFERROR(HYPERLINK(getCoor(ROW(),COLUMN()),\"\"),\"\")","v":""},{"$f":"IFERROR(HYPERLINK(getCoor(ROW(),COLUMN()),\"\"),\"\")","v":""},{"$f":"IFERROR(HYPERLINK(getCoor(ROW(),COLUMN()),\"\"),\"\")","v":""},{"$f":"IFERROR(HYPERLINK(getCoor(ROW(),COLUMN()),\"\"),\"\")","v":""},{"$f":"IFERROR(HYPERLINK(getCoor(ROW(),COLUMN()),\"\"),\"\")","v":""},{"$f":"IFERROR(HYPERLINK(getCoor(ROW(),COLUMN()),\"\"),\"\")","v":""},{"$f":"IFERROR(HYPERLINK(getCoor(ROW(),COLUMN()),\"\"),\"\")","v":""},{"$f":"IFERROR(HYPERLINK(getCoor(ROW(),COLUMN()),\"\"),\"\")","v":""},{"$f":"IFERROR(HYPERLINK(getCoor(ROW(),COLUMN()),\"\"),\"\")","v":""},{"$f":"IFERROR(HYPERLINK(getCoor(ROW(),COLUMN()),\"\"),\"\")","v":""},{"$f":"IFERROR(HYPERLINK(getCoor(ROW(),COLUMN()),\"\"),\"\")","v":""},{"$f":"IFERROR(HYPERLINK(getCoor(ROW(),COLUMN()),\"\"),\"\")","v":""},{"$f":"IFERROR(HYPERLINK(getCoor(ROW(),COLUMN()),\"\"),\"\")","v":""},{"$f":"IFERROR(HYPERLINK(getCoor(ROW(),COLUMN()),\"\"),\"\")","v":""},{"$f":"IFERROR(HYPERLINK(getCoor(ROW(),COLUMN()),\"\"),\"\")","v":""},{"$f":"IFERROR(HYPERLINK(getCoor(ROW(),COLUMN()),\"\"),\"\")","v":""},{"$f":"IFERROR(HYPERLINK(getCoor(ROW(),COLUMN()),\"\"),\"\")","v":""},{"$f":"IFERROR(HYPERLINK(getCoor(ROW(),COLUMN()),\"\"),\"\")","v":""},{"$f":"IFERROR(HYPERLINK(getCoor(ROW(),COLUMN()),\"\"),\"\")","v":""},{"$f":"IFERROR(HYPERLINK(getCoor(ROW(),COLUMN()),\"\"),\"\")","v":""},{"$f":"IFERROR(HYPERLINK(getCoor(ROW(),COLUMN()),\"\"),\"\")","v":""},{"$f":"IFERROR(HYPERLINK(getCoor(ROW(),COLUMN()),\"\"),\"\")","v":""},{"$f":"IFERROR(HYPERLINK(getCoor(ROW(),COLUMN()),\"\"),\"\")","v":""},{"$f":"IFERROR(HYPERLINK(getCoor(ROW(),COLUMN()),\"\"),\"\")","v":""},{"$f":"IFERROR(HYPERLINK(getCoor(ROW(),COLUMN()),\"\"),\"\")","v":""},{"$f":"IFERROR(HYPERLINK(getCoor(ROW(),COLUMN()),\"\"),\"\")","v":""},{"$f":"IFERROR(HYPERLINK(getCoor(ROW(),COLUMN()),\"\"),\"\")","v":""},{"$f":"IFERROR(HYPERLINK(getCoor(ROW(),COLUMN()),\"\"),\"\")","v":""},{"$f":"IFERROR(HYPERLINK(getCoor(ROW(),COLUMN()),\"\"),\"\")","v":""},{"$f":"IFERROR(HYPERLINK(getCoor(ROW(),COLUMN()),\"\"),\"\")","v":""},18,"Kentucky",{"$f":"IFERROR(HLOOKUP($DS$5,Table!$I$182:$BL$237,Table!BN203),\"\")","v":""},"",{"$f":"IFERROR(VLOOKUP($DS$5,Table!$A$186:$BL$237,Table!BO203),\"\")","v":""},"","",36,{"$f":"BM36","v":"North Dakota"},{"$f":"BR36","v":""},null,null,null,null,null,null,null,null,null,null,null,null,null,null,null,null,null,null,null,null,null,null,null,null,null,null,null,null,null,null,null,null,null,null,null,null,null,null,378,202,14,14,true,false,false,385,209,0,null,null,0,false,18,"Kentucky","0Kentucky",null,null,null,22]
[{"$f":"IFERROR(HYPERLINK(getCoor(ROW(),COLUMN()),\"\"),\"\")","v":""},{"$f":"IFERROR(HYPERLINK(getCoor(ROW(),COLUMN()),\"\"),\"\")","v":""},{"$f":"IFERROR(HYPERLINK(getCoor(ROW(),COLUMN()),\"\"),\"\")","v":""},{"$f":"IFERROR(HYPERLINK(getCoor(ROW(),COLUMN()),\"\"),\"\")","v":""},{"$f":"IFERROR(HYPERLINK(getCoor(ROW(),COLUMN()),\"\"),\"\")","v":""},{"$f":"IFERROR(HYPERLINK(getCoor(ROW(),COLUMN()),\"\"),\"\")","v":""},{"$f":"IFERROR(HYPERLINK(getCoor(ROW(),COLUMN()),\"\"),\"\")","v":""},{"$f":"IFERROR(HYPERLINK(getCoor(ROW(),COLUMN()),\"\"),\"\")","v":""},{"$f":"IFERROR(HYPERLINK(getCoor(ROW(),COLUMN()),\"\"),\"\")","v":""},{"$f":"IFERROR(HYPERLINK(getCoor(ROW(),COLUMN()),\"\"),\"\")","v":""},{"$f":"IFERROR(HYPERLINK(getCoor(ROW(),COLUMN()),\"\"),\"\")","v":""},{"$f":"IFERROR(HYPERLINK(getCoor(ROW(),COLUMN()),\"\"),\"\")","v":""},{"$f":"IFERROR(HYPERLINK(getCoor(ROW(),COLUMN()),\"\"),\"\")","v":""},{"$f":"IFERROR(HYPERLINK(getCoor(ROW(),COLUMN()),\"\"),\"\")","v":""},{"$f":"IFERROR(HYPERLINK(getCoor(ROW(),COLUMN()),\"\"),\"\")","v":""},{"$f":"IFERROR(HYPERLINK(getCoor(ROW(),COLUMN()),\"\"),\"\")","v":""},{"$f":"IFERROR(HYPERLINK(getCoor(ROW(),COLUMN()),\"\"),\"\")","v":""},{"$f":"IFERROR(HYPERLINK(getCoor(ROW(),COLUMN()),\"\"),\"\")","v":""},{"$f":"IFERROR(HYPERLINK(getCoor(ROW(),COLUMN()),\"\"),\"\")","v":""},{"$f":"IFERROR(HYPERLINK(getCoor(ROW(),COLUMN()),\"\"),\"\")","v":""},{"$f":"IFERROR(HYPERLINK(getCoor(ROW(),COLUMN()),\"\"),\"\")","v":""},{"$f":"IFERROR(HYPERLINK(getCoor(ROW(),COLUMN()),\"\"),\"\")","v":""},{"$f":"IFERROR(HYPERLINK(getCoor(ROW(),COLUMN()),\"\"),\"\")","v":""},{"$f":"IFERROR(HYPERLINK(getCoor(ROW(),COLUMN()),\"\"),\"\")","v":""},{"$f":"IFERROR(HYPERLINK(getCoor(ROW(),COLUMN()),\"\"),\"\")","v":""},{"$f":"IFERROR(HYPERLINK(getCoor(ROW(),COLUMN()),\"\"),\"\")","v":""},{"$f":"IFERROR(HYPERLINK(getCoor(ROW(),COLUMN()),\"\"),\"\")","v":""},{"$f":"IFERROR(HYPERLINK(getCoor(ROW(),COLUMN()),\"\"),\"\")","v":""},{"$f":"IFERROR(HYPERLINK(getCoor(ROW(),COLUMN()),\"\"),\"\")","v":""},{"$f":"IFERROR(HYPERLINK(getCoor(ROW(),COLUMN()),\"\"),\"\")","v":""},{"$f":"IFERROR(HYPERLINK(getCoor(ROW(),COLUMN()),\"\"),\"\")","v":""},{"$f":"IFERROR(HYPERLINK(getCoor(ROW(),COLUMN()),\"\"),\"\")","v":""},{"$f":"IFERROR(HYPERLINK(getCoor(ROW(),COLUMN()),\"\"),\"\")","v":""},{"$f":"IFERROR(HYPERLINK(getCoor(ROW(),COLUMN()),\"\"),\"\")","v":""},{"$f":"IFERROR(HYPERLINK(getCoor(ROW(),COLUMN()),\"\"),\"\")","v":""},{"$f":"IFERROR(HYPERLINK(getCoor(ROW(),COLUMN()),\"\"),\"\")","v":""},{"$f":"IFERROR(HYPERLINK(getCoor(ROW(),COLUMN()),\"\"),\"\")","v":""},{"$f":"IFERROR(HYPERLINK(getCoor(ROW(),COLUMN()),\"\"),\"\")","v":""},{"$f":"IFERROR(HYPERLINK(getCoor(ROW(),COLUMN()),\"\"),\"\")","v":""},{"$f":"IFERROR(HYPERLINK(getCoor(ROW(),COLUMN()),\"\"),\"\")","v":""},{"$f":"IFERROR(HYPERLINK(getCoor(ROW(),COLUMN()),\"\"),\"\")","v":""},{"$f":"IFERROR(HYPERLINK(getCoor(ROW(),COLUMN()),\"\"),\"\")","v":""},{"$f":"IFERROR(HYPERLINK(getCoor(ROW(),COLUMN()),\"\"),\"\")","v":""},{"$f":"IFERROR(HYPERLINK(getCoor(ROW(),COLUMN()),\"\"),\"\")","v":""},{"$f":"IFERROR(HYPERLINK(getCoor(ROW(),COLUMN()),\"\"),\"\")","v":""},{"$f":"IFERROR(HYPERLINK(getCoor(ROW(),COLUMN()),\"\"),\"\")","v":""},{"$f":"IFERROR(HYPERLINK(getCoor(ROW(),COLUMN()),\"\"),\"\")","v":""},{"$f":"IFERROR(HYPERLINK(getCoor(ROW(),COLUMN()),\"\"),\"\")","v":""},{"$f":"IFERROR(HYPERLINK(getCoor(ROW(),COLUMN()),\"\"),\"\")","v":""},{"$f":"IFERROR(HYPERLINK(getCoor(ROW(),COLUMN()),\"\"),\"\")","v":""},{"$f":"IFERROR(HYPERLINK(getCoor(ROW(),COLUMN()),\"\"),\"\")","v":""},{"$f":"IFERROR(HYPERLINK(getCoor(ROW(),COLUMN()),\"\"),\"\")","v":""},{"$f":"IFERROR(HYPERLINK(getCoor(ROW(),COLUMN()),\"\"),\"\")","v":""},{"$f":"IFERROR(HYPERLINK(getCoor(ROW(),COLUMN()),\"\"),\"\")","v":""},{"$f":"IFERROR(HYPERLINK(getCoor(ROW(),COLUMN()),\"\"),\"\")","v":""},{"$f":"IFERROR(HYPERLINK(getCoor(ROW(),COLUMN()),\"\"),\"\")","v":""},{"$f":"IFERROR(HYPERLINK(getCoor(ROW(),COLUMN()),\"\"),\"\")","v":""},{"$f":"IFERROR(HYPERLINK(getCoor(ROW(),COLUMN()),\"\"),\"\")","v":""},{"$f":"IFERROR(HYPERLINK(getCoor(ROW(),COLUMN()),\"\"),\"\")","v":""},{"$f":"IFERROR(HYPERLINK(getCoor(ROW(),COLUMN()),\"\"),\"\")","v":""},{"$f":"IFERROR(HYPERLINK(getCoor(ROW(),COLUMN()),\"\"),\"\")","v":""},{"$f":"IFERROR(HYPERLINK(getCoor(ROW(),COLUMN()),\"\"),\"\")","v":""},{"$f":"IFERROR(HYPERLINK(getCoor(ROW(),COLUMN()),\"\"),\"\")","v":""},19,"Louisiana",{"$f":"IFERROR(HLOOKUP($DS$5,Table!$I$182:$BL$237,Table!BN204),\"\")","v":""},"",{"$f":"IFERROR(VLOOKUP($DS$5,Table!$A$186:$BL$237,Table!BO204),\"\")","v":""},"","",35,{"$f":"BM35","v":"North Carolina"},{"$f":"BR35","v":""},null,null,null,null,null,null,null,null,null,null,null,null,null,null,null,null,null,null,null,null,null,null,null,null,null,null,null,null,null,null,null,null,null,null,null,null,null,null,315,297,14,14,false,false,false,322,304,0,null,null,0,false,19,"Louisiana","0Louisiana",null,null,null,23]
[{"$f":"IFERROR(HYPERLINK(getCoor(ROW(),COLUMN()),\"\"),\"\")","v":""},{"$f":"IFERROR(HYPERLINK(getCoor(ROW(),COLUMN()),\"\"),\"\")","v":""},{"$f":"IFERROR(HYPERLINK(getCoor(ROW(),COLUMN()),\"\"),\"\")","v":""},{"$f":"IFERROR(HYPERLINK(getCoor(ROW(),COLUMN()),\"\"),\"\")","v":""},{"$f":"IFERROR(HYPERLINK(getCoor(ROW(),COLUMN()),\"\"),\"\")","v":""},{"$f":"IFERROR(HYPERLINK(getCoor(ROW(),COLUMN()),\"\"),\"\")","v":""},{"$f":"IFERROR(HYPERLINK(getCoor(ROW(),COLUMN()),\"\"),\"\")","v":""},{"$f":"IFERROR(HYPERLINK(getCoor(ROW(),COLUMN()),\"\"),\"\")","v":""},{"$f":"IFERROR(HYPERLINK(getCoor(ROW(),COLUMN()),\"\"),\"\")","v":""},{"$f":"IFERROR(HYPERLINK(getCoor(ROW(),COLUMN()),\"\"),\"\")","v":""},{"$f":"IFERROR(HYPERLINK(getCoor(ROW(),COLUMN()),\"\"),\"\")","v":""},{"$f":"IFERROR(HYPERLINK(getCoor(ROW(),COLUMN()),\"\"),\"\")","v":""},{"$f":"IFERROR(HYPERLINK(getCoor(ROW(),COLUMN()),\"\"),\"\")","v":""},{"$f":"IFERROR(HYPERLINK(getCoor(ROW(),COLUMN()),\"\"),\"\")","v":""},{"$f":"IFERROR(HYPERLINK(getCoor(ROW(),COLUMN()),\"\"),\"\")","v":""},{"$f":"IFERROR(HYPERLINK(getCoor(ROW(),COLUMN()),\"\"),\"\")","v":""},{"$f":"IFERROR(HYPERLINK(getCoor(ROW(),COLUMN()),\"\"),\"\")","v":""},{"$f":"IFERROR(HYPERLINK(getCoor(ROW(),COLUMN()),\"\"),\"\")","v":""},{"$f":"IFERROR(HYPERLINK(getCoor(ROW(),COLUMN()),\"\"),\"\")","v":""},{"$f":"IFERROR(HYPERLINK(getCoor(ROW(),COLUMN()),\"\"),\"\")","v":""},{"$f":"IFERROR(HYPERLINK(getCoor(ROW(),COLUMN()),\"\"),\"\")","v":""},{"$f":"IFERROR(HYPERLINK(getCoor(ROW(),COLUMN()),\"\"),\"\")","v":""},{"$f":"IFERROR(HYPERLINK(getCoor(ROW(),COLUMN()),\"\"),\"\")","v":""},{"$f":"IFERROR(HYPERLINK(getCoor(ROW(),COLUMN()),\"\"),\"\")","v":""},{"$f":"IFERROR(HYPERLINK(getCoor(ROW(),COLUMN()),\"\"),\"\")","v":""},{"$f":"IFERROR(HYPERLINK(getCoor(ROW(),COLUMN()),\"\"),\"\")","v":""},{"$f":"IFERROR(HYPERLINK(getCoor(ROW(),COLUMN()),\"\"),\"\")","v":""},{"$f":"IFERROR(HYPERLINK(getCoor(ROW(),COLUMN()),\"\"),\"\")","v":""},{"$f":"IFERROR(HYPERLINK(getCoor(ROW(),COLUMN()),\"\"),\"\")","v":""},{"$f":"IFERROR(HYPERLINK(getCoor(ROW(),COLUMN()),\"\"),\"\")","v":""},{"$f":"IFERROR(HYPERLINK(getCoor(ROW(),COLUMN()),\"\"),\"\")","v":""},{"$f":"IFERROR(HYPERLINK(getCoor(ROW(),COLUMN()),\"\"),\"\")","v":""},{"$f":"IFERROR(HYPERLINK(getCoor(ROW(),COLUMN()),\"\"),\"\")","v":""},{"$f":"IFERROR(HYPERLINK(getCoor(ROW(),COLUMN()),\"\"),\"\")","v":""},{"$f":"IFERROR(HYPERLINK(getCoor(ROW(),COLUMN()),\"\"),\"\")","v":""},{"$f":"IFERROR(HYPERLINK(getCoor(ROW(),COLUMN()),\"\"),\"\")","v":""},{"$f":"IFERROR(HYPERLINK(getCoor(ROW(),COLUMN()),\"\"),\"\")","v":""},{"$f":"IFERROR(HYPERLINK(getCoor(ROW(),COLUMN()),\"\"),\"\")","v":""},{"$f":"IFERROR(HYPERLINK(getCoor(ROW(),COLUMN()),\"\"),\"\")","v":""},{"$f":"IFERROR(HYPERLINK(getCoor(ROW(),COLUMN()),\"\"),\"\")","v":""},{"$f":"IFERROR(HYPERLINK(getCoor(ROW(),COLUMN()),\"\"),\"\")","v":""},{"$f":"IFERROR(HYPERLINK(getCoor(ROW(),COLUMN()),\"\"),\"\")","v":""},{"$f":"IFERROR(HYPERLINK(getCoor(ROW(),COLUMN()),\"\"),\"\")","v":""},{"$f":"IFERROR(HYPERLINK(getCoor(ROW(),COLUMN()),\"\"),\"\")","v":""},{"$f":"IFERROR(HYPERLINK(getCoor(ROW(),COLUMN()),\"\"),\"\")","v":""},{"$f":"IFERROR(HYPERLINK(getCoor(ROW(),COLUMN()),\"\"),\"\")","v":""},{"$f":"IFERROR(HYPERLINK(getCoor(ROW(),COLUMN()),\"\"),\"\")","v":""},{"$f":"IFERROR(HYPERLINK(getCoor(ROW(),COLUMN()),\"\"),\"\")","v":""},{"$f":"IFERROR(HYPERLINK(getCoor(ROW(),COLUMN()),\"\"),\"\")","v":""},{"$f":"IFERROR(HYPERLINK(getCoor(ROW(),COLUMN()),\"\"),\"\")","v":""},{"$f":"IFERROR(HYPERLINK(getCoor(ROW(),COLUMN()),\"\"),\"\")","v":""},{"$f":"IFERROR(HYPERLINK(getCoor(ROW(),COLUMN()),\"\"),\"\")","v":""},{"$f":"IFERROR(HYPERLINK(getCoor(ROW(),COLUMN()),\"\"),\"\")","v":""},{"$f":"IFERROR(HYPERLINK(getCoor(ROW(),COLUMN()),\"\"),\"\")","v":""},{"$f":"IFERROR(HYPERLINK(getCoor(ROW(),COLUMN()),\"\"),\"\")","v":""},{"$f":"IFERROR(HYPERLINK(getCoor(ROW(),COLUMN()),\"\"),\"\")","v":""},{"$f":"IFERROR(HYPERLINK(getCoor(ROW(),COLUMN()),\"\"),\"\")","v":""},{"$f":"IFERROR(HYPERLINK(getCoor(ROW(),COLUMN()),\"\"),\"\")","v":""},{"$f":"IFERROR(HYPERLINK(getCoor(ROW(),COLUMN()),\"\"),\"\")","v":""},{"$f":"IFERROR(HYPERLINK(getCoor(ROW(),COLUMN()),\"\"),\"\")","v":""},{"$f":"IFERROR(HYPERLINK(getCoor(ROW(),COLUMN()),\"\"),\"\")","v":""},{"$f":"IFERROR(HYPERLINK(getCoor(ROW(),COLUMN()),\"\"),\"\")","v":""},{"$f":"IFERROR(HYPERLINK(getCoor(ROW(),COLUMN()),\"\"),\"\")","v":""},20,"Maine",{"$f":"IFERROR(HLOOKUP($DS$5,Table!$I$182:$BL$237,Table!BN205),\"\")","v":""},"",{"$f":"IFERROR(VLOOKUP($DS$5,Table!$A$186:$BL$237,Table!BO205),\"\")","v":""},"","",34,{"$f":"BM34","v":"New York"},{"$f":"BR34","v":""},null,null,null,null,null,null,null,null,null,null,null,null,null,null,null,null,null,null,null,null,null,null,null,null,null,null,null,null,null,null,null,null,null,null,null,null,null,null,504,54,14,14,false,false,false,511,61,0,null,null,0,false,20,"Maine","0Maine",null,null,null,24]
[{"$f":"IFERROR(HYPERLINK(getCoor(ROW(),COLUMN()),\"\"),\"\")","v":""},{"$f":"IFERROR(HYPERLINK(getCoor(ROW(),COLUMN()),\"\"),\"\")","v":""},{"$f":"IFERROR(HYPERLINK(getCoor(ROW(),COLUMN()),\"\"),\"\")","v":""},{"$f":"IFERROR(HYPERLINK(getCoor(ROW(),COLUMN()),\"\"),\"\")","v":""},{"$f":"IFERROR(HYPERLINK(getCoor(ROW(),COLUMN()),\"\"),\"\")","v":""},{"$f":"IFERROR(HYPERLINK(getCoor(ROW(),COLUMN()),\"\"),\"\")","v":""},{"$f":"IFERROR(HYPERLINK(getCoor(ROW(),COLUMN()),\"\"),\"\")","v":""},{"$f":"IFERROR(HYPERLINK(getCoor(ROW(),COLUMN()),\"\"),\"\")","v":""},{"$f":"IFERROR(HYPERLINK(getCoor(ROW(),COLUMN()),\"\"),\"\")","v":""},{"$f":"IFERROR(HYPERLINK(getCoor(ROW(),COLUMN()),\"\"),\"\")","v":""},{"$f":"IFERROR(HYPERLINK(getCoor(ROW(),COLUMN()),\"\"),\"\")","v":""},{"$f":"IFERROR(HYPERLINK(getCoor(ROW(),COLUMN()),\"\"),\"\")","v":""},{"$f":"IFERROR(HYPERLINK(getCoor(ROW(),COLUMN()),\"\"),\"\")","v":""},{"$f":"IFERROR(HYPERLINK(getCoor(ROW(),COLUMN()),\"\"),\"\")","v":""},{"$f":"IFERROR(HYPERLINK(getCoor(ROW(),COLUMN()),\"\"),\"\")","v":""},{"$f":"IFERROR(HYPERLINK(getCoor(ROW(),COLUMN()),\"\"),\"\")","v":""},{"$f":"IFERROR(HYPERLINK(getCoor(ROW(),COLUMN()),\"\"),\"\")","v":""},{"$f":"IFERROR(HYPERLINK(getCoor(ROW(),COLUMN()),\"\"),\"\")","v":""},{"$f":"IFERROR(HYPERLINK(getCoor(ROW(),COLUMN()),\"\"),\"\")","v":""},{"$f":"IFERROR(HYPERLINK(getCoor(ROW(),COLUMN()),\"\"),\"\")","v":""},{"$f":"IFERROR(HYPERLINK(getCoor(ROW(),COLUMN()),\"\"),\"\")","v":""},{"$f":"IFERROR(HYPERLINK(getCoor(ROW(),COLUMN()),\"\"),\"\")","v":""},{"$f":"IFERROR(HYPERLINK(getCoor(ROW(),COLUMN()),\"\"),\"\")","v":""},{"$f":"IFERROR(HYPERLINK(getCoor(ROW(),COLUMN()),\"\"),\"\")","v":""},{"$f":"IFERROR(HYPERLINK(getCoor(ROW(),COLUMN()),\"\"),\"\")","v":""},{"$f":"IFERROR(HYPERLINK(getCoor(ROW(),COLUMN()),\"\"),\"\")","v":""},{"$f":"IFERROR(HYPERLINK(getCoor(ROW(),COLUMN()),\"\"),\"\")","v":""},{"$f":"IFERROR(HYPERLINK(getCoor(ROW(),COLUMN()),\"\"),\"\")","v":""},{"$f":"IFERROR(HYPERLINK(getCoor(ROW(),COLUMN()),\"\"),\"\")","v":""},{"$f":"IFERROR(HYPERLINK(getCoor(ROW(),COLUMN()),\"\"),\"\")","v":""},{"$f":"IFERROR(HYPERLINK(getCoor(ROW(),COLUMN()),\"\"),\"\")","v":""},{"$f":"IFERROR(HYPERLINK(getCoor(ROW(),COLUMN()),\"\"),\"\")","v":""},{"$f":"IFERROR(HYPERLINK(getCoor(ROW(),COLUMN()),\"\"),\"\")","v":""},{"$f":"IFERROR(HYPERLINK(getCoor(ROW(),COLUMN()),\"\"),\"\")","v":""},{"$f":"IFERROR(HYPERLINK(getCoor(ROW(),COLUMN()),\"\"),\"\")","v":""},{"$f":"IFERROR(HYPERLINK(getCoor(ROW(),COLUMN()),\"\"),\"\")","v":""},{"$f":"IFERROR(HYPERLINK(getCoor(ROW(),COLUMN()),\"\"),\"\")","v":""},{"$f":"IFERROR(HYPERLINK(getCoor(ROW(),COLUMN()),\"\"),\"\")","v":""},{"$f":"IFERROR(HYPERLINK(getCoor(ROW(),COLUMN()),\"\"),\"\")","v":""},{"$f":"IFERROR(HYPERLINK(getCoor(ROW(),COLUMN()),\"\"),\"\")","v":""},{"$f":"IFERROR(HYPERLINK(getCoor(ROW(),COLUMN()),\"\"),\"\")","v":""},{"$f":"IFERROR(HYPERLINK(getCoor(ROW(),COLUMN()),\"\"),\"\")","v":""},{"$f":"IFERROR(HYPERLINK(getCoor(ROW(),COLUMN()),\"\"),\"\")","v":""},{"$f":"IFERROR(HYPERLINK(getCoor(ROW(),COLUMN()),\"\"),\"\")","v":""},{"$f":"IFERROR(HYPERLINK(getCoor(ROW(),COLUMN()),\"\"),\"\")","v":""},{"$f":"IFERROR(HYPERLINK(getCoor(ROW(),COLUMN()),\"\"),\"\")","v":""},{"$f":"IFERROR(HYPERLINK(getCoor(ROW(),COLUMN()),\"\"),\"\")","v":""},{"$f":"IFERROR(HYPERLINK(getCoor(ROW(),COLUMN()),\"\"),\"\")","v":""},{"$f":"IFERROR(HYPERLINK(getCoor(ROW(),COLUMN()),\"\"),\"\")","v":""},{"$f":"IFERROR(HYPERLINK(getCoor(ROW(),COLUMN()),\"\"),\"\")","v":""},{"$f":"IFERROR(HYPERLINK(getCoor(ROW(),COLUMN()),\"\"),\"\")","v":""},{"$f":"IFERROR(HYPERLINK(getCoor(ROW(),COLUMN()),\"\"),\"\")","v":""},{"$f":"IFERROR(HYPERLINK(getCoor(ROW(),COLUMN()),\"\"),\"\")","v":""},{"$f":"IFERROR(HYPERLINK(getCoor(ROW(),COLUMN()),\"\"),\"\")","v":""},{"$f":"IFERROR(HYPERLINK(getCoor(ROW(),COLUMN()),\"\"),\"\")","v":""},{"$f":"IFERROR(HYPERLINK(getCoor(ROW(),COLUMN()),\"\"),\"\")","v":""},{"$f":"IFERROR(HYPERLINK(getCoor(ROW(),COLUMN()),\"\"),\"\")","v":""},{"$f":"IFERROR(HYPERLINK(getCoor(ROW(),COLUMN()),\"\"),\"\")","v":""},{"$f":"IFERROR(HYPERLINK(getCoor(ROW(),COLUMN()),\"\"),\"\")","v":""},{"$f":"IFERROR(HYPERLINK(getCoor(ROW(),COLUMN()),\"\"),\"\")","v":""},{"$f":"IFERROR(HYPERLINK(getCoor(ROW(),COLUMN()),\"\"),\"\")","v":""},{"$f":"IFERROR(HYPERLINK(getCoor(ROW(),COLUMN()),\"\"),\"\")","v":""},{"$f":"IFERROR(HYPERLINK(getCoor(ROW(),COLUMN()),\"\"),\"\")","v":""},21,"Maryland",{"$f":"IFERROR(HLOOKUP($DS$5,Table!$I$182:$BL$237,Table!BN206),\"\")","v":""},"",{"$f":"IFERROR(VLOOKUP($DS$5,Table!$A$186:$BL$237,Table!BO206),\"\")","v":""},"","",33,{"$f":"BM33","v":"New Mexico"},{"$f":"BR33","v":""},null,null,null,null,null,null,null,null,null,null,null,null,null,null,null,null,null,null,null,null,null,null,null,null,null,null,null,null,null,null,null,null,null,null,null,null,null,null,531,189,20,7,false,false,false,534.5,199,0,null,null,0,false,21,"Maryland","0Maryland",null,null,null,25]
[{"$f":"IFERROR(HYPERLINK(getCoor(ROW(),COLUMN()),\"\"),\"\")","v":""},{"$f":"IFERROR(HYPERLINK(getCoor(ROW(),COLUMN()),\"\"),\"\")","v":""},{"$f":"IFERROR(HYPERLINK(getCoor(ROW(),COLUMN()),\"\"),\"\")","v":""},{"$f":"IFERROR(HYPERLINK(getCoor(ROW(),COLUMN()),\"\"),\"\")","v":""},{"$f":"IFERROR(HYPERLINK(getCoor(ROW(),COLUMN()),\"\"),\"\")","v":""},{"$f":"IFERROR(HYPERLINK(getCoor(ROW(),COLUMN()),\"\"),\"\")","v":""},{"$f":"IFERROR(HYPERLINK(getCoor(ROW(),COLUMN()),\"\"),\"\")","v":""},{"$f":"IFERROR(HYPERLINK(getCoor(ROW(),COLUMN()),\"\"),\"\")","v":""},{"$f":"IFERROR(HYPERLINK(getCoor(ROW(),COLUMN()),\"\"),\"\")","v":""},{"$f":"IFERROR(HYPERLINK(getCoor(ROW(),COLUMN()),\"\"),\"\")","v":""},{"$f":"IFERROR(HYPERLINK(getCoor(ROW(),COLUMN()),\"\"),\"\")","v":""},{"$f":"IFERROR(HYPERLINK(getCoor(ROW(),COLUMN()),\"\"),\"\")","v":""},{"$f":"IFERROR(HYPERLINK(getCoor(ROW(),COLUMN()),\"\"),\"\")","v":""},{"$f":"IFERROR(HYPERLINK(getCoor(ROW(),COLUMN()),\"\"),\"\")","v":""},{"$f":"IFERROR(HYPERLINK(getCoor(ROW(),COLUMN()),\"\"),\"\")","v":""},{"$f":"IFERROR(HYPERLINK(getCoor(ROW(),COLUMN()),\"\"),\"\")","v":""},{"$f":"IFERROR(HYPERLINK(getCoor(ROW(),COLUMN()),\"\"),\"\")","v":""},{"$f":"IFERROR(HYPERLINK(getCoor(ROW(),COLUMN()),\"\"),\"\")","v":""},{"$f":"IFERROR(HYPERLINK(getCoor(ROW(),COLUMN()),\"\"),\"\")","v":""},{"$f":"IFERROR(HYPERLINK(getCoor(ROW(),COLUMN()),\"\"),\"\")","v":""},{"$f":"IFERROR(HYPERLINK(getCoor(ROW(),COLUMN()),\"\"),\"\")","v":""},{"$f":"IFERROR(HYPERLINK(getCoor(ROW(),COLUMN()),\"\"),\"\")","v":""},{"$f":"IFERROR(HYPERLINK(getCoor(ROW(),COLUMN()),\"\"),\"\")","v":""},{"$f":"IFERROR(HYPERLINK(getCoor(ROW(),COLUMN()),\"\"),\"\")","v":""},{"$f":"IFERROR(HYPERLINK(getCoor(ROW(),COLUMN()),\"\"),\"\")","v":""},{"$f":"IFERROR(HYPERLINK(getCoor(ROW(),COLUMN()),\"\"),\"\")","v":""},{"$f":"IFERROR(HYPERLINK(getCoor(ROW(),COLUMN()),\"\"),\"\")","v":""},{"$f":"IFERROR(HYPERLINK(getCoor(ROW(),COLUMN()),\"\"),\"\")","v":""},{"$f":"IFERROR(HYPERLINK(getCoor(ROW(),COLUMN()),\"\"),\"\")","v":""},{"$f":"IFERROR(HYPERLINK(getCoor(ROW(),COLUMN()),\"\"),\"\")","v":""},{"$f":"IFERROR(HYPERLINK(getCoor(ROW(),COLUMN()),\"\"),\"\")","v":""},{"$f":"IFERROR(HYPERLINK(getCoor(ROW(),COLUMN()),\"\"),\"\")","v":""},{"$f":"IFERROR(HYPERLINK(getCoor(ROW(),COLUMN()),\"\"),\"\")","v":""},{"$f":"IFERROR(HYPERLINK(getCoor(ROW(),COLUMN()),\"\"),\"\")","v":""},{"$f":"IFERROR(HYPERLINK(getCoor(ROW(),COLUMN()),\"\"),\"\")","v":""},{"$f":"IFERROR(HYPERLINK(getCoor(ROW(),COLUMN()),\"\"),\"\")","v":""},{"$f":"IFERROR(HYPERLINK(getCoor(ROW(),COLUMN()),\"\"),\"\")","v":""},{"$f":"IFERROR(HYPERLINK(getCoor(ROW(),COLUMN()),\"\"),\"\")","v":""},{"$f":"IFERROR(HYPERLINK(getCoor(ROW(),COLUMN()),\"\"),\"\")","v":""},{"$f":"IFERROR(HYPERLINK(getCoor(ROW(),COLUMN()),\"\"),\"\")","v":""},{"$f":"IFERROR(HYPERLINK(getCoor(ROW(),COLUMN()),\"\"),\"\")","v":""},{"$f":"IFERROR(HYPERLINK(getCoor(ROW(),COLUMN()),\"\"),\"\")","v":""},{"$f":"IFERROR(HYPERLINK(getCoor(ROW(),COLUMN()),\"\"),\"\")","v":""},{"$f":"IFERROR(HYPERLINK(getCoor(ROW(),COLUMN()),\"\"),\"\")","v":""},{"$f":"IFERROR(HYPERLINK(getCoor(ROW(),COLUMN()),\"\"),\"\")","v":""},{"$f":"IFERROR(HYPERLINK(getCoor(ROW(),COLUMN()),\"\"),\"\")","v":""},{"$f":"IFERROR(HYPERLINK(getCoor(ROW(),COLUMN()),\"\"),\"\")","v":""},{"$f":"IFERROR(HYPERLINK(getCoor(ROW(),COLUMN()),\"\"),\"\")","v":""},{"$f":"IFERROR(HYPERLINK(getCoor(ROW(),COLUMN()),\"\"),\"\")","v":""},{"$f":"IFERROR(HYPERLINK(getCoor(ROW(),COLUMN()),\"\"),\"\")","v":""},{"$f":"IFERROR(HYPERLINK(getCoor(ROW(),COLUMN()),\"\"),\"\")","v":""},{"$f":"IFERROR(HYPERLINK(getCoor(ROW(),COLUMN()),\"\"),\"\")","v":""},{"$f":"IFERROR(HYPERLINK(getCoor(ROW(),COLUMN()),\"\"),\"\")","v":""},{"$f":"IFERROR(HYPERLINK(getCoor(ROW(),COLUMN()),\"\"),\"\")","v":""},{"$f":"IFERROR(HYPERLINK(getCoor(ROW(),COLUMN()),\"\"),\"\")","v":""},{"$f":"IFERROR(HYPERLINK(getCoor(ROW(),COLUMN()),\"\"),\"\")","v":""},{"$f":"IFERROR(HYPERLINK(getCoor(ROW(),COLUMN()),\"\"),\"\")","v":""},{"$f":"IFERROR(HYPERLINK(getCoor(ROW(),COLUMN()),\"\"),\"\")","v":""},{"$f":"IFERROR(HYPERLINK(getCoor(ROW(),COLUMN()),\"\"),\"\")","v":""},{"$f":"IFERROR(HYPERLINK(getCoor(ROW(),COLUMN()),\"\"),\"\")","v":""},{"$f":"IFERROR(HYPERLINK(getCoor(ROW(),COLUMN()),\"\"),\"\")","v":""},{"$f":"IFERROR(HYPERLINK(getCoor(ROW(),COLUMN()),\"\"),\"\")","v":""},{"$f":"IFERROR(HYPERLINK(getCoor(ROW(),COLUMN()),\"\"),\"\")","v":""},22,"Massachusetts",{"$f":"IFERROR(HLOOKUP($DS$5,Table!$I$182:$BL$237,Table!BN207),\"\")","v":""},"",{"$f":"IFERROR(VLOOKUP($DS$5,Table!$A$186:$BL$237,Table!BO207),\"\")","v":""},"","",32,{"$f":"BM32","v":"New Jersey"},{"$f":"BR32","v":""},null,null,null,null,null,null,null,null,null,null,null,null,null,null,null,null,null,null,null,null,null,null,null,null,null,null,null,null,null,null,null,null,null,null,null,null,null,null,432,54,40,7,false,false,false,435.5,74,0,null,null,0,false,22,"Massachusetts","0Massachusetts",null,null,null,26]
[{"$f":"IFERROR(HYPERLINK(getCoor(ROW(),COLUMN()),\"\"),\"\")","v":""},{"$f":"IFERROR(HYPERLINK(getCoor(ROW(),COLUMN()),\"\"),\"\")","v":""},{"$f":"IFERROR(HYPERLINK(getCoor(ROW(),COLUMN()),\"\"),\"\")","v":""},{"$f":"IFERROR(HYPERLINK(getCoor(ROW(),COLUMN()),\"\"),\"\")","v":""},{"$f":"IFERROR(HYPERLINK(getCoor(ROW(),COLUMN()),\"\"),\"\")","v":""},{"$f":"IFERROR(HYPERLINK(getCoor(ROW(),COLUMN()),\"\"),\"\")","v":""},{"$f":"IFERROR(HYPERLINK(getCoor(ROW(),COLUMN()),\"\"),\"\")","v":""},{"$f":"IFERROR(HYPERLINK(getCoor(ROW(),COLUMN()),\"\"),\"\")","v":""},{"$f":"IFERROR(HYPERLINK(getCoor(ROW(),COLUMN()),\"\"),\"\")","v":""},{"$f":"IFERROR(HYPERLINK(getCoor(ROW(),COLUMN()),\"\"),\"\")","v":""},{"$f":"IFERROR(HYPERLINK(getCoor(ROW(),COLUMN()),\"\"),\"\")","v":""},{"$f":"IFERROR(HYPERLINK(getCoor(ROW(),COLUMN()),\"\"),\"\")","v":""},{"$f":"IFERROR(HYPERLINK(getCoor(ROW(),COLUMN()),\"\"),\"\")","v":""},{"$f":"IFERROR(HYPERLINK(getCoor(ROW(),COLUMN()),\"\"),\"\")","v":""},{"$f":"IFERROR(HYPERLINK(getCoor(ROW(),COLUMN()),\"\"),\"\")","v":""},{"$f":"IFERROR(HYPERLINK(getCoor(ROW(),COLUMN()),\"\"),\"\")","v":""},{"$f":"IFERROR(HYPERLINK(getCoor(ROW(),COLUMN()),\"\"),\"\")","v":""},{"$f":"IFERROR(HYPERLINK(getCoor(ROW(),COLUMN()),\"\"),\"\")","v":""},{"$f":"IFERROR(HYPERLINK(getCoor(ROW(),COLUMN()),\"\"),\"\")","v":""},{"$f":"IFERROR(HYPERLINK(getCoor(ROW(),COLUMN()),\"\"),\"\")","v":""},{"$f":"IFERROR(HYPERLINK(getCoor(ROW(),COLUMN()),\"\"),\"\")","v":""},{"$f":"IFERROR(HYPERLINK(getCoor(ROW(),COLUMN()),\"\"),\"\")","v":""},{"$f":"IFERROR(HYPERLINK(getCoor(ROW(),COLUMN()),\"\"),\"\")","v":""},{"$f":"IFERROR(HYPERLINK(getCoor(ROW(),COLUMN()),\"\"),\"\")","v":""},{"$f":"IFERROR(HYPERLINK(getCoor(ROW(),COLUMN()),\"\"),\"\")","v":""},{"$f":"IFERROR(HYPERLINK(getCoor(ROW(),COLUMN()),\"\"),\"\")","v":""},{"$f":"IFERROR(HYPERLINK(getCoor(ROW(),COLUMN()),\"\"),\"\")","v":""},{"$f":"IFERROR(HYPERLINK(getCoor(ROW(),COLUMN()),\"\"),\"\")","v":""},{"$f":"IFERROR(HYPERLINK(getCoor(ROW(),COLUMN()),\"\"),\"\")","v":""},{"$f":"IFERROR(HYPERLINK(getCoor(ROW(),COLUMN()),\"\"),\"\")","v":""},{"$f":"IFERROR(HYPERLINK(getCoor(ROW(),COLUMN()),\"\"),\"\")","v":""},{"$f":"IFERROR(HYPERLINK(getCoor(ROW(),COLUMN()),\"\"),\"\")","v":""},{"$f":"IFERROR(HYPERLINK(getCoor(ROW(),COLUMN()),\"\"),\"\")","v":""},{"$f":"IFERROR(HYPERLINK(getCoor(ROW(),COLUMN()),\"\"),\"\")","v":""},{"$f":"IFERROR(HYPERLINK(getCoor(ROW(),COLUMN()),\"\"),\"\")","v":""},{"$f":"IFERROR(HYPERLINK(getCoor(ROW(),COLUMN()),\"\"),\"\")","v":""},{"$f":"IFERROR(HYPERLINK(getCoor(ROW(),COLUMN()),\"\"),\"\")","v":""},{"$f":"IFERROR(HYPERLINK(getCoor(ROW(),COLUMN()),\"\"),\"\")","v":""},{"$f":"IFERROR(HYPERLINK(getCoor(ROW(),COLUMN()),\"\"),\"\")","v":""},{"$f":"IFERROR(HYPERLINK(getCoor(ROW(),COLUMN()),\"\"),\"\")","v":""},{"$f":"IFERROR(HYPERLINK(getCoor(ROW(),COLUMN()),\"\"),\"\")","v":""},{"$f":"IFERROR(HYPERLINK(getCoor(ROW(),COLUMN()),\"\"),\"\")","v":""},{"$f":"IFERROR(HYPERLINK(getCoor(ROW(),COLUMN()),\"\"),\"\")","v":""},{"$f":"IFERROR(HYPERLINK(getCoor(ROW(),COLUMN()),\"\"),\"\")","v":""},{"$f":"IFERROR(HYPERLINK(getCoor(ROW(),COLUMN()),\"\"),\"\")","v":""},{"$f":"IFERROR(HYPERLINK(getCoor(ROW(),COLUMN()),\"\"),\"\")","v":""},{"$f":"IFERROR(HYPERLINK(getCoor(ROW(),COLUMN()),\"\"),\"\")","v":""},{"$f":"IFERROR(HYPERLINK(getCoor(ROW(),COLUMN()),\"\"),\"\")","v":""},{"$f":"IFERROR(HYPERLINK(getCoor(ROW(),COLUMN()),\"\"),\"\")","v":""},{"$f":"IFERROR(HYPERLINK(getCoor(ROW(),COLUMN()),\"\"),\"\")","v":""},{"$f":"IFERROR(HYPERLINK(getCoor(ROW(),COLUMN()),\"\"),\"\")","v":""},{"$f":"IFERROR(HYPERLINK(getCoor(ROW(),COLUMN()),\"\"),\"\")","v":""},{"$f":"IFERROR(HYPERLINK(getCoor(ROW(),COLUMN()),\"\"),\"\")","v":""},{"$f":"IFERROR(HYPERLINK(getCoor(ROW(),COLUMN()),\"\"),\"\")","v":""},{"$f":"IFERROR(HYPERLINK(getCoor(ROW(),COLUMN()),\"\"),\"\")","v":""},{"$f":"IFERROR(HYPERLINK(getCoor(ROW(),COLUMN()),\"\"),\"\")","v":""},{"$f":"IFERROR(HYPERLINK(getCoor(ROW(),COLUMN()),\"\"),\"\")","v":""},{"$f":"IFERROR(HYPERLINK(getCoor(ROW(),COLUMN()),\"\"),\"\")","v":""},{"$f":"IFERROR(HYPERLINK(getCoor(ROW(),COLUMN()),\"\"),\"\")","v":""},{"$f":"IFERROR(HYPERLINK(getCoor(ROW(),COLUMN()),\"\"),\"\")","v":""},{"$f":"IFERROR(HYPERLINK(getCoor(ROW(),COLUMN()),\"\"),\"\")","v":""},{"$f":"IFERROR(HYPERLINK(getCoor(ROW(),COLUMN()),\"\"),\"\")","v":""},{"$f":"IFERROR(HYPERLINK(getCoor(ROW(),COLUMN()),\"\"),\"\")","v":""},23,"Michigan",{"$f":"IFERROR(HLOOKUP($DS$5,Table!$I$182:$BL$237,Table!BN208),\"\")","v":""},"",{"$f":"IFERROR(VLOOKUP($DS$5,Table!$A$186:$BL$237,Table!BO208),\"\")","v":""},"","",31,{"$f":"BM31","v":"New Hampshire"},{"$f":"BR31","v":""},null,null,null,null,null,null,null,null,null,null,null,null,null,null,null,null,null,null,null,null,null,null,null,null,null,null,null,null,null,null,null,null,null,null,null,null,null,null,378,122,40,14,{"$f":"AND(valLeft>=DH24,valLeft<=(DH24+DK24))","v":true},{"$f":"AND(valTop>=DI24,valTop<=(DI24+DK24))","v":false},{"$f":"AND(DL24,DM24)","v":false},{"$f":"(DH24+DK24+DH24)/2","v":385},{"$f":"(DI24+DJ24+DI24)/2","v":142},{"$f":"SQRT((DO24-valLeft)^2+(DP24-valTop)^2)*DN24","v":0},null,null,0,false,23,"Michigan","0Michigan",null,null,null,27]
[{"$f":"IFERROR(HYPERLINK(getCoor(ROW(),COLUMN()),\"\"),\"\")","v":""},{"$f":"IFERROR(HYPERLINK(getCoor(ROW(),COLUMN()),\"\"),\"\")","v":""},{"$f":"IFERROR(HYPERLINK(getCoor(ROW(),COLUMN()),\"\"),\"\")","v":""},{"$f":"IFERROR(HYPERLINK(getCoor(ROW(),COLUMN()),\"\"),\"\")","v":""},{"$f":"IFERROR(HYPERLINK(getCoor(ROW(),COLUMN()),\"\"),\"\")","v":""},{"$f":"IFERROR(HYPERLINK(getCoor(ROW(),COLUMN()),\"\"),\"\")","v":""},{"$f":"IFERROR(HYPERLINK(getCoor(ROW(),COLUMN()),\"\"),\"\")","v":""},{"$f":"IFERROR(HYPERLINK(getCoor(ROW(),COLUMN()),\"\"),\"\")","v":""},{"$f":"IFERROR(HYPERLINK(getCoor(ROW(),COLUMN()),\"\"),\"\")","v":""},{"$f":"IFERROR(HYPERLINK(getCoor(ROW(),COLUMN()),\"\"),\"\")","v":""},{"$f":"IFERROR(HYPERLINK(getCoor(ROW(),COLUMN()),\"\"),\"\")","v":""},{"$f":"IFERROR(HYPERLINK(getCoor(ROW(),COLUMN()),\"\"),\"\")","v":""},{"$f":"IFERROR(HYPERLINK(getCoor(ROW(),COLUMN()),\"\"),\"\")","v":""},{"$f":"IFERROR(HYPERLINK(getCoor(ROW(),COLUMN()),\"\"),\"\")","v":""},{"$f":"IFERROR(HYPERLINK(getCoor(ROW(),COLUMN()),\"\"),\"\")","v":""},{"$f":"IFERROR(HYPERLINK(getCoor(ROW(),COLUMN()),\"\"),\"\")","v":""},{"$f":"IFERROR(HYPERLINK(getCoor(ROW(),COLUMN()),\"\"),\"\")","v":""},{"$f":"IFERROR(HYPERLINK(getCoor(ROW(),COLUMN()),\"\"),\"\")","v":""},{"$f":"IFERROR(HYPERLINK(getCoor(ROW(),COLUMN()),\"\"),\"\")","v":""},{"$f":"IFERROR(HYPERLINK(getCoor(ROW(),COLUMN()),\"\"),\"\")","v":""},{"$f":"IFERROR(HYPERLINK(getCoor(ROW(),COLUMN()),\"\"),\"\")","v":""},{"$f":"IFERROR(HYPERLINK(getCoor(ROW(),COLUMN()),\"\"),\"\")","v":""},{"$f":"IFERROR(HYPERLINK(getCoor(ROW(),COLUMN()),\"\"),\"\")","v":""},{"$f":"IFERROR(HYPERLINK(getCoor(ROW(),COLUMN()),\"\"),\"\")","v":""},{"$f":"IFERROR(HYPERLINK(getCoor(ROW(),COLUMN()),\"\"),\"\")","v":""},{"$f":"IFERROR(HYPERLINK(getCoor(ROW(),COLUMN()),\"\"),\"\")","v":""},{"$f":"IFERROR(HYPERLINK(getCoor(ROW(),COLUMN()),\"\"),\"\")","v":""},{"$f":"IFERROR(HYPERLINK(getCoor(ROW(),COLUMN()),\"\"),\"\")","v":""},{"$f":"IFERROR(HYPERLINK(getCoor(ROW(),COLUMN()),\"\"),\"\")","v":""},{"$f":"IFERROR(HYPERLINK(getCoor(ROW(),COLUMN()),\"\"),\"\")","v":""},{"$f":"IFERROR(HYPERLINK(getCoor(ROW(),COLUMN()),\"\"),\"\")","v":""},{"$f":"IFERROR(HYPERLINK(getCoor(ROW(),COLUMN()),\"\"),\"\")","v":""},{"$f":"IFERROR(HYPERLINK(getCoor(ROW(),COLUMN()),\"\"),\"\")","v":""},{"$f":"IFERROR(HYPERLINK(getCoor(ROW(),COLUMN()),\"\"),\"\")","v":""},{"$f":"IFERROR(HYPERLINK(getCoor(ROW(),COLUMN()),\"\"),\"\")","v":""},{"$f":"IFERROR(HYPERLINK(getCoor(ROW(),COLUMN()),\"\"),\"\")","v":""},{"$f":"IFERROR(HYPERLINK(getCoor(ROW(),COLUMN()),\"\"),\"\")","v":""},{"$f":"IFERROR(HYPERLINK(getCoor(ROW(),COLUMN()),\"\"),\"\")","v":""},{"$f":"IFERROR(HYPERLINK(getCoor(ROW(),COLUMN()),\"\"),\"\")","v":""},{"$f":"IFERROR(HYPERLINK(getCoor(ROW(),COLUMN()),\"\"),\"\")","v":""},{"$f":"IFERROR(HYPERLINK(getCoor(ROW(),COLUMN()),\"\"),\"\")","v":""},{"$f":"IFERROR(HYPERLINK(getCoor(ROW(),COLUMN()),\"\"),\"\")","v":""},{"$f":"IFERROR(HYPERLINK(getCoor(ROW(),COLUMN()),\"\"),\"\")","v":""},{"$f":"IFERROR(HYPERLINK(getCoor(ROW(),COLUMN()),\"\"),\"\")","v":""},{"$f":"IFERROR(HYPERLINK(getCoor(ROW(),COLUMN()),\"\"),\"\")","v":""},{"$f":"IFERROR(HYPERLINK(getCoor(ROW(),COLUMN()),\"\"),\"\")","v":""},{"$f":"IFERROR(HYPERLINK(getCoor(ROW(),COLUMN()),\"\"),\"\")","v":""},{"$f":"IFERROR(HYPERLINK(getCoor(ROW(),COLUMN()),\"\"),\"\")","v":""},{"$f":"IFERROR(HYPERLINK(getCoor(ROW(),COLUMN()),\"\"),\"\")","v":""},{"$f":"IFERROR(HYPERLINK(getCoor(ROW(),COLUMN()),\"\"),\"\")","v":""},{"$f":"IFERROR(HYPERLINK(getCoor(ROW(),COLUMN()),\"\"),\"\")","v":""},{"$f":"IFERROR(HYPERLINK(getCoor(ROW(),COLUMN()),\"\"),\"\")","v":""},{"$f":"IFERROR(HYPERLINK(getCoor(ROW(),COLUMN()),\"\"),\"\")","v":""},{"$f":"IFERROR(HYPERLINK(getCoor(ROW(),COLUMN()),\"\"),\"\")","v":""},{"$f":"IFERROR(HYPERLINK(getCoor(ROW(),COLUMN()),\"\"),\"\")","v":""},{"$f":"IFERROR(HYPERLINK(getCoor(ROW(),COLUMN()),\"\"),\"\")","v":""},{"$f":"IFERROR(HYPERLINK(getCoor(ROW(),COLUMN()),\"\"),\"\")","v":""},{"$f":"IFERROR(HYPERLINK(getCoor(ROW(),COLUMN()),\"\"),\"\")","v":""},{"$f":"IFERROR(HYPERLINK(getCoor(ROW(),COLUMN()),\"\"),\"\")","v":""},{"$f":"IFERROR(HYPERLINK(getCoor(ROW(),COLUMN()),\"\"),\"\")","v":""},{"$f":"IFERROR(HYPERLINK(getCoor(ROW(),COLUMN()),\"\"),\"\")","v":""},{"$f":"IFERROR(HYPERLINK(getCoor(ROW(),COLUMN()),\"\"),\"\")","v":""},{"$f":"IFERROR(HYPERLINK(getCoor(ROW(),COLUMN()),\"\"),\"\")","v":""},24,"Minnesota",{"$f":"IFERROR(HLOOKUP($DS$5,Table!$I$182:$BL$237,Table!BN209),\"\")","v":""},"",{"$f":"IFERROR(VLOOKUP($DS$5,Table!$A$186:$BL$237,Table!BO209),\"\")","v":""},"","",null,{"$f":"BM30","v":"Nevada"},{"$f":"BR30","v":""},null,null,null,null,null,null,null,null,null,null,null,null,null,null,null,null,null,null,null,null,null,null,null,null,null,null,null,null,null,null,null,null,null,null,null,null,null,null,279,81,40,14,false,false,false,286,101,0,null,null,0,false,24,"Minnesota","0Minnesota",null,null,null,28]
[{"$f":"IFERROR(HYPERLINK(getCoor(ROW(),COLUMN()),\"\"),\"\")","v":""},{"$f":"IFERROR(HYPERLINK(getCoor(ROW(),COLUMN()),\"\"),\"\")","v":""},{"$f":"IFERROR(HYPERLINK(getCoor(ROW(),COLUMN()),\"\"),\"\")","v":""},{"$f":"IFERROR(HYPERLINK(getCoor(ROW(),COLUMN()),\"\"),\"\")","v":""},{"$f":"IFERROR(HYPERLINK(getCoor(ROW(),COLUMN()),\"\"),\"\")","v":""},{"$f":"IFERROR(HYPERLINK(getCoor(ROW(),COLUMN()),\"\"),\"\")","v":""},{"$f":"IFERROR(HYPERLINK(getCoor(ROW(),COLUMN()),\"\"),\"\")","v":""},{"$f":"IFERROR(HYPERLINK(getCoor(ROW(),COLUMN()),\"\"),\"\")","v":""},{"$f":"IFERROR(HYPERLINK(getCoor(ROW(),COLUMN()),\"\"),\"\")","v":""},{"$f":"IFERROR(HYPERLINK(getCoor(ROW(),COLUMN()),\"\"),\"\")","v":""},{"$f":"IFERROR(HYPERLINK(getCoor(ROW(),COLUMN()),\"\"),\"\")","v":""},{"$f":"IFERROR(HYPERLINK(getCoor(ROW(),COLUMN()),\"\"),\"\")","v":""},{"$f":"IFERROR(HYPERLINK(getCoor(ROW(),COLUMN()),\"\"),\"\")","v":""},{"$f":"IFERROR(HYPERLINK(getCoor(ROW(),COLUMN()),\"\"),\"\")","v":""},{"$f":"IFERROR(HYPERLINK(getCoor(ROW(),COLUMN()),\"\"),\"\")","v":""},{"$f":"IFERROR(HYPERLINK(getCoor(ROW(),COLUMN()),\"\"),\"\")","v":""},{"$f":"IFERROR(HYPERLINK(getCoor(ROW(),COLUMN()),\"\"),\"\")","v":""},{"$f":"IFERROR(HYPERLINK(getCoor(ROW(),COLUMN()),\"\"),\"\")","v":""},{"$f":"IFERROR(HYPERLINK(getCoor(ROW(),COLUMN()),\"\"),\"\")","v":""},{"$f":"IFERROR(HYPERLINK(getCoor(ROW(),COLUMN()),\"\"),\"\")","v":""},{"$f":"IFERROR(HYPERLINK(getCoor(ROW(),COLUMN()),\"\"),\"\")","v":""},{"$f":"IFERROR(HYPERLINK(getCoor(ROW(),COLUMN()),\"\"),\"\")","v":""},{"$f":"IFERROR(HYPERLINK(getCoor(ROW(),COLUMN()),\"\"),\"\")","v":""},{"$f":"IFERROR(HYPERLINK(getCoor(ROW(),COLUMN()),\"\"),\"\")","v":""},{"$f":"IFERROR(HYPERLINK(getCoor(ROW(),COLUMN()),\"\"),\"\")","v":""},{"$f":"IFERROR(HYPERLINK(getCoor(ROW(),COLUMN()),\"\"),\"\")","v":""},{"$f":"IFERROR(HYPERLINK(getCoor(ROW(),COLUMN()),\"\"),\"\")","v":""},{"$f":"IFERROR(HYPERLINK(getCoor(ROW(),COLUMN()),\"\"),\"\")","v":""},{"$f":"IFERROR(HYPERLINK(getCoor(ROW(),COLUMN()),\"\"),\"\")","v":""},{"$f":"IFERROR(HYPERLINK(getCoor(ROW(),COLUMN()),\"\"),\"\")","v":""},{"$f":"IFERROR(HYPERLINK(getCoor(ROW(),COLUMN()),\"\"),\"\")","v":""},{"$f":"IFERROR(HYPERLINK(getCoor(ROW(),COLUMN()),\"\"),\"\")","v":""},{"$f":"IFERROR(HYPERLINK(getCoor(ROW(),COLUMN()),\"\"),\"\")","v":""},{"$f":"IFERROR(HYPERLINK(getCoor(ROW(),COLUMN()),\"\"),\"\")","v":""},{"$f":"IFERROR(HYPERLINK(getCoor(ROW(),COLUMN()),\"\"),\"\")","v":""},{"$f":"IFERROR(HYPERLINK(getCoor(ROW(),COLUMN()),\"\"),\"\")","v":""},{"$f":"IFERROR(HYPERLINK(getCoor(ROW(),COLUMN()),\"\"),\"\")","v":""},{"$f":"IFERROR(HYPERLINK(getCoor(ROW(),COLUMN()),\"\"),\"\")","v":""},{"$f":"IFERROR(HYPERLINK(getCoor(ROW(),COLUMN()),\"\"),\"\")","v":""},{"$f":"IFERROR(HYPERLINK(getCoor(ROW(),COLUMN()),\"\"),\"\")","v":""},{"$f":"IFERROR(HYPERLINK(getCoor(ROW(),COLUMN()),\"\"),\"\")","v":""},{"$f":"IFERROR(HYPERLINK(getCoor(ROW(),COLUMN()),\"\"),\"\")","v":""},{"$f":"IFERROR(HYPERLINK(getCoor(ROW(),COLUMN()),\"\"),\"\")","v":""},{"$f":"IFERROR(HYPERLINK(getCoor(ROW(),COLUMN()),\"\"),\"\")","v":""},{"$f":"IFERROR(HYPERLINK(getCoor(ROW(),COLUMN()),\"\"),\"\")","v":""},{"$f":"IFERROR(HYPERLINK(getCoor(ROW(),COLUMN()),\"\"),\"\")","v":""},{"$f":"IFERROR(HYPERLINK(getCoor(ROW(),COLUMN()),\"\"),\"\")","v":""},{"$f":"IFERROR(HYPERLINK(getCoor(ROW(),COLUMN()),\"\"),\"\")","v":""},{"$f":"IFERROR(HYPERLINK(getCoor(ROW(),COLUMN()),\"\"),\"\")","v":""},{"$f":"IFERROR(HYPERLINK(getCoor(ROW(),COLUMN()),\"\"),\"\")","v":""},{"$f":"IFERROR(HYPERLINK(getCoor(ROW(),COLUMN()),\"\"),\"\")","v":""},{"$f":"IFERROR(HYPERLINK(getCoor(ROW(),COLUMN()),\"\"),\"\")","v":""},{"$f":"IFERROR(HYPERLINK(getCoor(ROW(),COLUMN()),\"\"),\"\")","v":""},{"$f":"IFERROR(HYPERLINK(getCoor(ROW(),COLUMN()),\"\"),\"\")","v":""},{"$f":"IFERROR(HYPERLINK(getCoor(ROW(),COLUMN()),\"\"),\"\")","v":""},{"$f":"IFERROR(HYPERLINK(getCoor(ROW(),COLUMN()),\"\"),\"\")","v":""},{"$f":"IFERROR(HYPERLINK(getCoor(ROW(),COLUMN()),\"\"),\"\")","v":""},{"$f":"IFERROR(HYPERLINK(getCoor(ROW(),COLUMN()),\"\"),\"\")","v":""},{"$f":"IFERROR(HYPERLINK(getCoor(ROW(),COLUMN()),\"\"),\"\")","v":""},{"$f":"IFERROR(HYPERLINK(getCoor(ROW(),COLUMN()),\"\"),\"\")","v":""},{"$f":"IFERROR(HYPERLINK(getCoor(ROW(),COLUMN()),\"\"),\"\")","v":""},{"$f":"IFERROR(HYPERLINK(getCoor(ROW(),COLUMN()),\"\"),\"\")","v":""},{"$f":"IFERROR(HYPERLINK(getCoor(ROW(),COLUMN()),\"\"),\"\")","v":""},25,"Mississippi",{"$f":"IFERROR(HLOOKUP($DS$5,Table!$I$182:$BL$237,Table!BN210),\"\")","v":""},"",{"$f":"IFERROR(VLOOKUP($DS$5,Table!$A$186:$BL$237,Table!BO210),\"\")","v":""},"","",29,{"$f":"BM29","v":"Nebraska"},{"$f":"BR29","v":""},null,null,null,null,null,null,null,null,null,null,null,null,null,null,null,null,null,null,null,null,null,null,null,null,null,null,null,null,null,null,null,null,null,null,null,null,null,null,333,270,20,7,false,false,false,336.5,280,0,null,null,0,false,25,"Mississippi","0Mississippi",null,null,null,29]
[{"$f":"IFERROR(HYPERLINK(getCoor(ROW(),COLUMN()),\"\"),\"\")","v":""},{"$f":"IFERROR(HYPERLINK(getCoor(ROW(),COLUMN()),\"\"),\"\")","v":""},{"$f":"IFERROR(HYPERLINK(getCoor(ROW(),COLUMN()),\"\"),\"\")","v":""},{"$f":"IFERROR(HYPERLINK(getCoor(ROW(),COLUMN()),\"\"),\"\")","v":""},{"$f":"IFERROR(HYPERLINK(getCoor(ROW(),COLUMN()),\"\"),\"\")","v":""},{"$f":"IFERROR(HYPERLINK(getCoor(ROW(),COLUMN()),\"\"),\"\")","v":""},{"$f":"IFERROR(HYPERLINK(getCoor(ROW(),COLUMN()),\"\"),\"\")","v":""},{"$f":"IFERROR(HYPERLINK(getCoor(ROW(),COLUMN()),\"\"),\"\")","v":""},{"$f":"IFERROR(HYPERLINK(getCoor(ROW(),COLUMN()),\"\"),\"\")","v":""},{"$f":"IFERROR(HYPERLINK(getCoor(ROW(),COLUMN()),\"\"),\"\")","v":""},{"$f":"IFERROR(HYPERLINK(getCoor(ROW(),COLUMN()),\"\"),\"\")","v":""},{"$f":"IFERROR(HYPERLINK(getCoor(ROW(),COLUMN()),\"\"),\"\")","v":""},{"$f":"IFERROR(HYPERLINK(getCoor(ROW(),COLUMN()),\"\"),\"\")","v":""},{"$f":"IFERROR(HYPERLINK(getCoor(ROW(),COLUMN()),\"\"),\"\")","v":""},{"$f":"IFERROR(HYPERLINK(getCoor(ROW(),COLUMN()),\"\"),\"\")","v":""},{"$f":"IFERROR(HYPERLINK(getCoor(ROW(),COLUMN()),\"\"),\"\")","v":""},{"$f":"IFERROR(HYPERLINK(getCoor(ROW(),COLUMN()),\"\"),\"\")","v":""},{"$f":"IFERROR(HYPERLINK(getCoor(ROW(),COLUMN()),\"\"),\"\")","v":""},{"$f":"IFERROR(HYPERLINK(getCoor(ROW(),COLUMN()),\"\"),\"\")","v":""},{"$f":"IFERROR(HYPERLINK(getCoor(ROW(),COLUMN()),\"\"),\"\")","v":""},{"$f":"IFERROR(HYPERLINK(getCoor(ROW(),COLUMN()),\"\"),\"\")","v":""},{"$f":"IFERROR(HYPERLINK(getCoor(ROW(),COLUMN()),\"\"),\"\")","v":""},{"$f":"IFERROR(HYPERLINK(getCoor(ROW(),COLUMN()),\"\"),\"\")","v":""},{"$f":"IFERROR(HYPERLINK(getCoor(ROW(),COLUMN()),\"\"),\"\")","v":""},{"$f":"IFERROR(HYPERLINK(getCoor(ROW(),COLUMN()),\"\"),\"\")","v":""},{"$f":"IFERROR(HYPERLINK(getCoor(ROW(),COLUMN()),\"\"),\"\")","v":""},{"$f":"IFERROR(HYPERLINK(getCoor(ROW(),COLUMN()),\"\"),\"\")","v":""},{"$f":"IFERROR(HYPERLINK(getCoor(ROW(),COLUMN()),\"\"),\"\")","v":""},{"$f":"IFERROR(HYPERLINK(getCoor(ROW(),COLUMN()),\"\"),\"\")","v":""},{"$f":"IFERROR(HYPERLINK(getCoor(ROW(),COLUMN()),\"\"),\"\")","v":""},{"$f":"IFERROR(HYPERLINK(getCoor(ROW(),COLUMN()),\"\"),\"\")","v":""},{"$f":"IFERROR(HYPERLINK(getCoor(ROW(),COLUMN()),\"\"),\"\")","v":""},{"$f":"IFERROR(HYPERLINK(getCoor(ROW(),COLUMN()),\"\"),\"\")","v":""},{"$f":"IFERROR(HYPERLINK(getCoor(ROW(),COLUMN()),\"\"),\"\")","v":""},{"$f":"IFERROR(HYPERLINK(getCoor(ROW(),COLUMN()),\"\"),\"\")","v":""},{"$f":"IFERROR(HYPERLINK(getCoor(ROW(),COLUMN()),\"\"),\"\")","v":""},{"$f":"IFERROR(HYPERLINK(getCoor(ROW(),COLUMN()),\"\"),\"\")","v":""},{"$f":"IFERROR(HYPERLINK(getCoor(ROW(),COLUMN()),\"\"),\"\")","v":""},{"$f":"IFERROR(HYPERLINK(getCoor(ROW(),COLUMN()),\"\"),\"\")","v":""},{"$f":"IFERROR(HYPERLINK(getCoor(ROW(),COLUMN()),\"\"),\"\")","v":""},{"$f":"IFERROR(HYPERLINK(getCoor(ROW(),COLUMN()),\"\"),\"\")","v":""},{"$f":"IFERROR(HYPERLINK(getCoor(ROW(),COLUMN()),\"\"),\"\")","v":""},{"$f":"IFERROR(HYPERLINK(getCoor(ROW(),COLUMN()),\"\"),\"\")","v":""},{"$f":"IFERROR(HYPERLINK(getCoor(ROW(),COLUMN()),\"\"),\"\")","v":""},{"$f":"IFERROR(HYPERLINK(getCoor(ROW(),COLUMN()),\"\"),\"\")","v":""},{"$f":"IFERROR(HYPERLINK(getCoor(ROW(),COLUMN()),\"\"),\"\")","v":""},{"$f":"IFERROR(HYPERLINK(getCoor(ROW(),COLUMN()),\"\"),\"\")","v":""},{"$f":"IFERROR(HYPERLINK(getCoor(ROW(),COLUMN()),\"\"),\"\")","v":""},{"$f":"IFERROR(HYPERLINK(getCoor(ROW(),COLUMN()),\"\"),\"\")","v":""},{"$f":"IFERROR(HYPERLINK(getCoor(ROW(),COLUMN()),\"\"),\"\")","v":""},{"$f":"IFERROR(HYPERLINK(getCoor(ROW(),COLUMN()),\"\"),\"\")","v":""},{"$f":"IFERROR(HYPERLINK(getCoor(ROW(),COLUMN()),\"\"),\"\")","v":""},{"$f":"IFERROR(HYPERLINK(getCoor(ROW(),COLUMN()),\"\"),\"\")","v":""},{"$f":"IFERROR(HYPERLINK(getCoor(ROW(),COLUMN()),\"\"),\"\")","v":""},{"$f":"IFERROR(HYPERLINK(getCoor(ROW(),COLUMN()),\"\"),\"\")","v":""},{"$f":"IFERROR(HYPERLINK(getCoor(ROW(),COLUMN()),\"\"),\"\")","v":""},{"$f":"IFERROR(HYPERLINK(getCoor(ROW(),COLUMN()),\"\"),\"\")","v":""},{"$f":"IFERROR(HYPERLINK(getCoor(ROW(),COLUMN()),\"\"),\"\")","v":""},{"$f":"IFERROR(HYPERLINK(getCoor(ROW(),COLUMN()),\"\"),\"\")","v":""},{"$f":"IFERROR(HYPERLINK(getCoor(ROW(),COLUMN()),\"\"),\"\")","v":""},{"$f":"IFERROR(HYPERLINK(getCoor(ROW(),COLUMN()),\"\"),\"\")","v":""},{"$f":"IFERROR(HYPERLINK(getCoor(ROW(),COLUMN()),\"\"),\"\")","v":""},{"$f":"IFERROR(HYPERLINK(getCoor(ROW(),COLUMN()),\"\"),\"\")","v":""},26,"Missouri",{"$f":"IFERROR(HLOOKUP($DS$5,Table!$I$182:$BL$237,Table!BN211),\"\")","v":""},"",{"$f":"IFERROR(VLOOKUP($DS$5,Table!$A$186:$BL$237,Table!BO211),\"\")","v":""},"","",28,{"$f":"BM28","v":"Montana"},{"$f":"BR28","v":""},null,null,null,null,null,null,null,null,null,null,null,null,null,null,null,null,null,null,null,null,null,null,null,null,null,null,null,null,null,null,null,null,null,null,null,null,null,null,306,189,20,14,false,false,false,313,199,0,null,null,0,false,26,"Missouri","0Missouri",null,null,null,30]
[{"$f":"IFERROR(HYPERLINK(getCoor(ROW(),COLUMN()),\"\"),\"\")","v":""},{"$f":"IFERROR(HYPERLINK(getCoor(ROW(),COLUMN()),\"\"),\"\")","v":""},{"$f":"IFERROR(HYPERLINK(getCoor(ROW(),COLUMN()),\"\"),\"\")","v":""},{"$f":"IFERROR(HYPERLINK(getCoor(ROW(),COLUMN()),\"\"),\"\")","v":""},{"$f":"IFERROR(HYPERLINK(getCoor(ROW(),COLUMN()),\"\"),\"\")","v":""},{"$f":"IFERROR(HYPERLINK(getCoor(ROW(),COLUMN()),\"\"),\"\")","v":""},{"$f":"IFERROR(HYPERLINK(getCoor(ROW(),COLUMN()),\"\"),\"\")","v":""},{"$f":"IFERROR(HYPERLINK(getCoor(ROW(),COLUMN()),\"\"),\"\")","v":""},{"$f":"IFERROR(HYPERLINK(getCoor(ROW(),COLUMN()),\"\"),\"\")","v":""},{"$f":"IFERROR(HYPERLINK(getCoor(ROW(),COLUMN()),\"\"),\"\")","v":""},{"$f":"IFERROR(HYPERLINK(getCoor(ROW(),COLUMN()),\"\"),\"\")","v":""},{"$f":"IFERROR(HYPERLINK(getCoor(ROW(),COLUMN()),\"\"),\"\")","v":""},{"$f":"IFERROR(HYPERLINK(getCoor(ROW(),COLUMN()),\"\"),\"\")","v":""},{"$f":"IFERROR(HYPERLINK(getCoor(ROW(),COLUMN()),\"\"),\"\")","v":""},{"$f":"IFERROR(HYPERLINK(getCoor(ROW(),COLUMN()),\"\"),\"\")","v":""},{"$f":"IFERROR(HYPERLINK(getCoor(ROW(),COLUMN()),\"\"),\"\")","v":""},{"$f":"IFERROR(HYPERLINK(getCoor(ROW(),COLUMN()),\"\"),\"\")","v":""},{"$f":"IFERROR(HYPERLINK(getCoor(ROW(),COLUMN()),\"\"),\"\")","v":""},{"$f":"IFERROR(HYPERLINK(getCoor(ROW(),COLUMN()),\"\"),\"\")","v":""},{"$f":"IFERROR(HYPERLINK(getCoor(ROW(),COLUMN()),\"\"),\"\")","v":""},{"$f":"IFERROR(HYPERLINK(getCoor(ROW(),COLUMN()),\"\"),\"\")","v":""},{"$f":"IFERROR(HYPERLINK(getCoor(ROW(),COLUMN()),\"\"),\"\")","v":""},{"$f":"IFERROR(HYPERLINK(getCoor(ROW(),COLUMN()),\"\"),\"\")","v":""},{"$f":"IFERROR(HYPERLINK(getCoor(ROW(),COLUMN()),\"\"),\"\")","v":""},{"$f":"IFERROR(HYPERLINK(getCoor(ROW(),COLUMN()),\"\"),\"\")","v":""},{"$f":"IFERROR(HYPERLINK(getCoor(ROW(),COLUMN()),\"\"),\"\")","v":""},{"$f":"IFERROR(HYPERLINK(getCoor(ROW(),COLUMN()),\"\"),\"\")","v":""},{"$f":"IFERROR(HYPERLINK(getCoor(ROW(),COLUMN()),\"\"),\"\")","v":""},{"$f":"IFERROR(HYPERLINK(getCoor(ROW(),COLUMN()),\"\"),\"\")","v":""},{"$f":"IFERROR(HYPERLINK(getCoor(ROW(),COLUMN()),\"\"),\"\")","v":""},{"$f":"IFERROR(HYPERLINK(getCoor(ROW(),COLUMN()),\"\"),\"\")","v":""},{"$f":"IFERROR(HYPERLINK(getCoor(ROW(),COLUMN()),\"\"),\"\")","v":""},{"$f":"IFERROR(HYPERLINK(getCoor(ROW(),COLUMN()),\"\"),\"\")","v":""},{"$f":"IFERROR(HYPERLINK(getCoor(ROW(),COLUMN()),\"\"),\"\")","v":""},{"$f":"IFERROR(HYPERLINK(getCoor(ROW(),COLUMN()),\"\"),\"\")","v":""},{"$f":"IFERROR(HYPERLINK(getCoor(ROW(),COLUMN()),\"\"),\"\")","v":""},{"$f":"IFERROR(HYPERLINK(getCoor(ROW(),COLUMN()),\"\"),\"\")","v":""},{"$f":"IFERROR(HYPERLINK(getCoor(ROW(),COLUMN()),\"\"),\"\")","v":""},{"$f":"IFERROR(HYPERLINK(getCoor(ROW(),COLUMN()),\"\"),\"\")","v":""},{"$f":"IFERROR(HYPERLINK(getCoor(ROW(),COLUMN()),\"\"),\"\")","v":""},{"$f":"IFERROR(HYPERLINK(getCoor(ROW(),COLUMN()),\"\"),\"\")","v":""},{"$f":"IFERROR(HYPERLINK(getCoor(ROW(),COLUMN()),\"\"),\"\")","v":""},{"$f":"IFERROR(HYPERLINK(getCoor(ROW(),COLUMN()),\"\"),\"\")","v":""},{"$f":"IFERROR(HYPERLINK(getCoor(ROW(),COLUMN()),\"\"),\"\")","v":""},{"$f":"IFERROR(HYPERLINK(getCoor(ROW(),COLUMN()),\"\"),\"\")","v":""},{"$f":"IFERROR(HYPERLINK(getCoor(ROW(),COLUMN()),\"\"),\"\")","v":""},{"$f":"IFERROR(HYPERLINK(getCoor(ROW(),COLUMN()),\"\"),\"\")","v":""},{"$f":"IFERROR(HYPERLINK(getCoor(ROW(),COLUMN()),\"\"),\"\")","v":""},{"$f":"IFERROR(HYPERLINK(getCoor(ROW(),COLUMN()),\"\"),\"\")","v":""},{"$f":"IFERROR(HYPERLINK(getCoor(ROW(),COLUMN()),\"\"),\"\")","v":""},{"$f":"IFERROR(HYPERLINK(getCoor(ROW(),COLUMN()),\"\"),\"\")","v":""},{"$f":"IFERROR(HYPERLINK(getCoor(ROW(),COLUMN()),\"\"),\"\")","v":""},{"$f":"IFERROR(HYPERLINK(getCoor(ROW(),COLUMN()),\"\"),\"\")","v":""},{"$f":"IFERROR(HYPERLINK(getCoor(ROW(),COLUMN()),\"\"),\"\")","v":""},{"$f":"IFERROR(HYPERLINK(getCoor(ROW(),COLUMN()),\"\"),\"\")","v":""},{"$f":"IFERROR(HYPERLINK(getCoor(ROW(),COLUMN()),\"\"),\"\")","v":""},{"$f":"IFERROR(HYPERLINK(getCoor(ROW(),COLUMN()),\"\"),\"\")","v":""},{"$f":"IFERROR(HYPERLINK(getCoor(ROW(),COLUMN()),\"\"),\"\")","v":""},{"$f":"IFERROR(HYPERLINK(getCoor(ROW(),COLUMN()),\"\"),\"\")","v":""},{"$f":"IFERROR(HYPERLINK(getCoor(ROW(),COLUMN()),\"\"),\"\")","v":""},{"$f":"IFERROR(HYPERLINK(getCoor(ROW(),COLUMN()),\"\"),\"\")","v":""},{"$f":"IFERROR(HYPERLINK(getCoor(ROW(),COLUMN()),\"\"),\"\")","v":""},{"$f":"IFERROR(HYPERLINK(getCoor(ROW(),COLUMN()),\"\"),\"\")","v":""},27,"Montana",{"$f":"IFERROR(HLOOKUP($DS$5,Table!$I$182:$BL$237,Table!BN212),\"\")","v":""},"",{"$f":"IFERROR(VLOOKUP($DS$5,Table!$A$186:$BL$237,Table!BO212),\"\")","v":""},"","",27,{"$f":"BM27","v":"Missouri"},{"$f":"BR27","v":""},null,null,null,null,null,null,null,null,null,null,null,null,null,null,null,null,null,null,null,null,null,null,null,null,null,null,null,null,null,null,null,null,null,null,null,null,null,null,153,68,20,14,false,false,false,160,78,0,null,null,0,false,27,"Montana","0Montana",null,null,null,31]
[null,null,null,null,null,{"$f":"IFERROR(HYPERLINK(getCoor(ROW(),COLUMN()),\"\"),\"\")","v":""},{"$f":"IFERROR(HYPERLINK(getCoor(ROW(),COLUMN()),\"\"),\"\")","v":""},{"$f":"IFERROR(HYPERLINK(getCoor(ROW(),COLUMN()),\"\"),\"\")","v":""},{"$f":"IFERROR(HYPERLINK(getCoor(ROW(),COLUMN()),\"\"),\"\")","v":""},{"$f":"IFERROR(HYPERLINK(getCoor(ROW(),COLUMN()),\"\"),\"\")","v":""},{"$f":"IFERROR(HYPERLINK(getCoor(ROW(),COLUMN()),\"\"),\"\")","v":""},{"$f":"IFERROR(HYPERLINK(getCoor(ROW(),COLUMN()),\"\"),\"\")","v":""},{"$f":"IFERROR(HYPERLINK(getCoor(ROW(),COLUMN()),\"\"),\"\")","v":""},{"$f":"IFERROR(HYPERLINK(getCoor(ROW(),COLUMN()),\"\"),\"\")","v":""},{"$f":"IFERROR(HYPERLINK(getCoor(ROW(),COLUMN()),\"\"),\"\")","v":""},{"$f":"IFERROR(HYPERLINK(getCoor(ROW(),COLUMN()),\"\"),\"\")","v":""},{"$f":"IFERROR(HYPERLINK(getCoor(ROW(),COLUMN()),\"\"),\"\")","v":""},{"$f":"IFERROR(HYPERLINK(getCoor(ROW(),COLUMN()),\"\"),\"\")","v":""},{"$f":"IFERROR(HYPERLINK(getCoor(ROW(),COLUMN()),\"\"),\"\")","v":""},{"$f":"IFERROR(HYPERLINK(getCoor(ROW(),COLUMN()),\"\"),\"\")","v":""},{"$f":"IFERROR(HYPERLINK(getCoor(ROW(),COLUMN()),\"\"),\"\")","v":""},{"$f":"IFERROR(HYPERLINK(getCoor(ROW(),COLUMN()),\"\"),\"\")","v":""},{"$f":"IFERROR(HYPERLINK(getCoor(ROW(),COLUMN()),\"\"),\"\")","v":""},{"$f":"IFERROR(HYPERLINK(getCoor(ROW(),COLUMN()),\"\"),\"\")","v":""},{"$f":"IFERROR(HYPERLINK(getCoor(ROW(),COLUMN()),\"\"),\"\")","v":""},{"$f":"IFERROR(HYPERLINK(getCoor(ROW(),COLUMN()),\"\"),\"\")","v":""},{"$f":"IFERROR(HYPERLINK(getCoor(ROW(),COLUMN()),\"\"),\"\")","v":""},{"$f":"IFERROR(HYPERLINK(getCoor(ROW(),COLUMN()),\"\"),\"\")","v":""},{"$f":"IFERROR(HYPERLINK(getCoor(ROW(),COLUMN()),\"\"),\"\")","v":""},{"$f":"IFERROR(HYPERLINK(getCoor(ROW(),COLUMN()),\"\"),\"\")","v":""},{"$f":"IFERROR(HYPERLINK(getCoor(ROW(),COLUMN()),\"\"),\"\")","v":""},{"$f":"IFERROR(HYPERLINK(getCoor(ROW(),COLUMN()),\"\"),\"\")","v":""},{"$f":"IFERROR(HYPERLINK(getCoor(ROW(),COLUMN()),\"\"),\"\")","v":""},{"$f":"IFERROR(HYPERLINK(getCoor(ROW(),COLUMN()),\"\"),\"\")","v":""},{"$f":"IFERROR(HYPERLINK(getCoor(ROW(),COLUMN()),\"\"),\"\")","v":""},{"$f":"IFERROR(HYPERLINK(getCoor(ROW(),COLUMN()),\"\"),\"\")","v":""},{"$f":"IFERROR(HYPERLINK(getCoor(ROW(),COLUMN()),\"\"),\"\")","v":""},{"$f":"IFERROR(HYPERLINK(getCoor(ROW(),COLUMN()),\"\"),\"\")","v":""},{"$f":"IFERROR(HYPERLINK(getCoor(ROW(),COLUMN()),\"\"),\"\")","v":""},{"$f":"IFERROR(HYPERLINK(getCoor(ROW(),COLUMN()),\"\"),\"\")","v":""},{"$f":"IFERROR(HYPERLINK(getCoor(ROW(),COLUMN()),\"\"),\"\")","v":""},{"$f":"IFERROR(HYPERLINK(getCoor(ROW(),COLUMN()),\"\"),\"\")","v":""},{"$f":"IFERROR(HYPERLINK(getCoor(ROW(),COLUMN()),\"\"),\"\")","v":""},{"$f":"IFERROR(HYPERLINK(getCoor(ROW(),COLUMN()),\"\"),\"\")","v":""},{"$f":"IFERROR(HYPERLINK(getCoor(ROW(),COLUMN()),\"\"),\"\")","v":""},{"$f":"IFERROR(HYPERLINK(getCoor(ROW(),COLUMN()),\"\"),\"\")","v":""},{"$f":"IFERROR(HYPERLINK(getCoor(ROW(),COLUMN()),\"\"),\"\")","v":""},{"$f":"IFERROR(HYPERLINK(getCoor(ROW(),COLUMN()),\"\"),\"\")","v":""},{"$f":"IFERROR(HYPERLINK(getCoor(ROW(),COLUMN()),\"\"),\"\")","v":""},{"$f":"IFERROR(HYPERLINK(getCoor(ROW(),COLUMN()),\"\"),\"\")","v":""},{"$f":"IFERROR(HYPERLINK(getCoor(ROW(),COLUMN()),\"\"),\"\")","v":""},{"$f":"IFERROR(HYPERLINK(getCoor(ROW(),COLUMN()),\"\"),\"\")","v":""},{"$f":"IFERROR(HYPERLINK(getCoor(ROW(),COLUMN()),\"\"),\"\")","v":""},{"$f":"IFERROR(HYPERLINK(getCoor(ROW(),COLUMN()),\"\"),\"\")","v":""},{"$f":"IFERROR(HYPERLINK(getCoor(ROW(),COLUMN()),\"\"),\"\")","v":""},{"$f":"IFERROR(HYPERLINK(getCoor(ROW(),COLUMN()),\"\"),\"\")","v":""},{"$f":"IFERROR(HYPERLINK(getCoor(ROW(),COLUMN()),\"\"),\"\")","v":""},{"$f":"IFERROR(HYPERLINK(getCoor(ROW(),COLUMN()),\"\"),\"\")","v":""},{"$f":"IFERROR(HYPERLINK(getCoor(ROW(),COLUMN()),\"\"),\"\")","v":""},{"$f":"IFERROR(HYPERLINK(getCoor(ROW(),COLUMN()),\"\"),\"\")","v":""},{"$f":"IFERROR(HYPERLINK(getCoor(ROW(),COLUMN()),\"\"),\"\")","v":""},{"$f":"IFERROR(HYPERLINK(getCoor(ROW(),COLUMN()),\"\"),\"\")","v":""},{"$f":"IFERROR(HYPERLINK(getCoor(ROW(),COLUMN()),\"\"),\"\")","v":""},28,"Nebraska",{"$f":"IFERROR(HLOOKUP($DS$5,Table!$I$182:$BL$237,Table!BN213),\"\")","v":""},"",{"$f":"IFERROR(VLOOKUP($DS$5,Table!$A$186:$BL$237,Table!BO213),\"\")","v":""},"","",26,{"$f":"BM26","v":"Mississippi"},{"$f":"BR26","v":""},null,null,null,null,null,null,null,null,null,null,null,null,null,null,null,null,null,null,null,null,null,null,null,null,null,null,null,null,null,null,null,null,null,null,null,null,null,null,234,148,20,14,false,false,false,241,158,0,null,null,0,false,28,"Nebraska","0Nebraska",null,null,null,32]
[null,null,null,null,null,null,null,null,null,null,null,null,null,null,null,null,null,null,null,null,null,null,null,null,null,null,null,null,null,null,{"$f":"DS6","v":""},null,null,null,null,{"$f":"IFERROR(VLOOKUP($AE$30,$BM$69:$CB$120,4),\".\")","v":"."},null,null,null,null,null,null,null,null,null,null,null,null,null,null,null,null,null,null,null,null,null,null,null,null,null,null,null,29,"Nevada",{"$f":"IFERROR(HLOOKUP($DS$5,Table!$I$182:$BL$237,Table!BN214),\"\")","v":""},"",{"$f":"IFERROR(VLOOKUP($DS$5,Table!$A$186:$BL$237,Table!BO214),\"\")","v":""},"","",25,{"$f":"BM25","v":"Minnesota"},{"$f":"BR25","v":""},null,null,null,null,null,null,null,null,null,null,null,null,null,null,null,null,null,null,null,null,null,null,null,null,null,null,null,null,null,null,null,null,null,null,null,null,null,null,72,148,20,14,false,false,false,79,158,0,null,null,0,false,29,"Nevada","0Nevada",null,null,null,33]
[null,null,null,null,null,null,null,null,null,null,null,{"$f":"IFERROR(VLOOKUP($AE$30,$BM$69:$CB$120,6),\".\")","v":"."},null,null,null,{"$f":"IFERROR(VLOOKUP($AE$30,$BM$69:$CB$120,8),\".\")","v":"."},null,null,null,{"$f":"IFERROR(VLOOKUP($AE$30,$BM$69:$CB$120,11),\".\")","v":"."},null,null,null,{"$f":"IFERROR(VLOOKUP($AE$30,$BM$69:$CB$120,14),\".\")","v":"."},null,null,null,{"$f":"IFERROR(VLOOKUP($AE$30,$BM$69:$CB$120,16),\".\")","v":"."},null,null,null,null,null,null,null,null,null,null,null,null,null,null,null,{"$f":"IFERROR(VLOOKUP($AE$30,$BM$69:$CB$120,6),\".\")","v":"."},null,null,null,{"$f":"IFERROR(VLOOKUP($AE$30,$BM$69:$CB$120,8),\".\")","v":"."},null,null,null,{"$f":"IFERROR(VLOOKUP($AE$30,$BM$69:$CB$120,11),\".\")","v":"."},null,null,null,{"$f":"IFERROR(VLOOKUP($AE$30,$BM$69:$CB$120,14),\".\")","v":"."},null,null,null,{"$f":"IFERROR(VLOOKUP($AE$30,$BM$69:$CB$120,16),\".\")","v":"."},null,null,null,30,"New Hampshire",{"$f":"IFERROR(HLOOKUP($DS$5,Table!$I$182:$BL$237,Table!BN215),\"\")","v":""},"",{"$f":"IFERROR(VLOOKUP($DS$5,Table!$A$186:$BL$237,Table!BO215),\"\")","v":""},"","",24,{"$f":"BM24","v":"Michigan"},{"$f":"BR24","v":""},null,null,null,null,null,null,null,null,null,null,null,null,null,null,null,null,null,null,null,null,null,null,null,null,null,null,null,null,null,null,null,null,null,null,null,null,null,null,432,27,20,7,false,false,false,435.5,37,0,null,null,0,false,30,"New Hampshire","0New Hampshire",null,null,null,34]
[null,null,null,null,null,null,null,null,null,null,null,{"$f":"IFERROR(VLOOKUP(C32,$BM$69:$BZ$120,5),\".\")","v":"."},null,null,null,{"$f":"IFERROR(VLOOKUP(G32,$BM$69:$BZ$120,5),\".\")","v":"."},null,null,null,{"$f":"IFERROR(VLOOKUP(K32,$BM$69:$BZ$120,5),\".\")","v":"."},null,null,null,{"$f":"IFERROR(VLOOKUP(O32,$BM$69:$BZ$120,5),\".\")","v":"."},null,null,null,{"$f":"IFERROR(VLOOKUP(S32,$BM$69:$BZ$120,5),\".\")","v":"."},null,null,null,null,null,null,null,null,null,null,null,null,null,null,null,{"$f":"IFERROR(VLOOKUP(AH32,$BM$69:$BZ$120,5),\".\")","v":"."},null,null,null,{"$f":"IFERROR(VLOOKUP(AL32,$BM$69:$BZ$120,5),\".\")","v":"."},null,null,null,{"$f":"IFERROR(VLOOKUP(AQ32,$BM$69:$BZ$120,5),\".\")","v":"."},null,null,null,{"$f":"IFERROR(VLOOKUP(AU32,$BM$69:$BZ$120,5),\".\")","v":"."},null,null,null,{"$f":"IFERROR(VLOOKUP(AY32,$BM$69:$BZ$120,5),\".\")","v":"."},null,null,null,31,"New Jersey",{"$f":"IFERROR(HLOOKUP($DS$5,Table!$I$182:$BL$237,Table!BN216),\"\")","v":""},"",{"$f":"IFERROR(VLOOKUP($DS$5,Table!$A$186:$BL$237,Table!BO216),\"\")","v":""},"","",null,{"$f":"BM23","v":"Massachusetts"},{"$f":"BR23","v":""},null,null,null,null,null,null,null,null,null,null,null,null,null,null,null,null,null,null,null,null,null,null,null,null,null,null,null,null,null,null,null,null,null,null,null,null,null,null,531,162,20,7,false,false,false,534.5,172,0,null,null,0,false,31,"New Jersey","0New Jersey",null,null,null,35]
["Top (IN)",null,null,null,null,null,null,null,null,null,null,"Area",null,null,null,"Pop",null,null,null,"PIB",null,null,null,"Pib/Hab",null,null,null,"Growth",null,null,null,null,"TOP (OUT)",null,null,null,null,null,null,null,null,null,null,"Area",null,null,null,"Pop",null,null,null,"PIB",null,null,null,"Pib/Hab",null,null,null,"Growth",null,null,null,32,"New Mexico",{"$f":"IFERROR(HLOOKUP($DS$5,Table!$I$182:$BL$237,Table!BN217),\"\")","v":""},"",{"$f":"IFERROR(VLOOKUP($DS$5,Table!$A$186:$BL$237,Table!BO217),\"\")","v":""},"","",22,{"$f":"BM22","v":"Maryland"},{"$f":"BR22","v":""},null,null,null,null,null,null,null,null,null,null,null,null,null,null,null,null,null,null,null,null,null,null,null,null,null,null,null,null,null,null,null,null,null,null,null,null,null,null,162,243,20,20,false,false,false,172,253,0,null,null,0,false,32,"New Mexico","0New Mexico",null,null,null,36]
[null,null,null,null,null,null,null,null,null,null,null,"%",null,null,null,"%",null,null,null,"%",null,null,null,"%",null,null,null,"in 2012",null,null,null,null,null,null,null,null,null,null,null,null,null,null,null,"%",null,null,null,"%",null,null,null,"%",null,null,null,"%",null,null,null,"in 2012",null,null,null,33,"New York",{"$f":"IFERROR(HLOOKUP($DS$5,Table!$I$182:$BL$237,Table!BN218),\"\")","v":""},"",{"$f":"IFERROR(VLOOKUP($DS$5,Table!$A$186:$BL$237,Table!BO218),\"\")","v":""},"",{"$f":"+IFERROR(BN34-BP34,\"\")","v":""},21,{"$f":"BM21","v":"Maine"},{"$f":"BR21","v":""},null,null,null,null,null,null,null,null,null,null,null,null,null,null,null,null,null,null,null,null,null,null,null,null,null,null,null,null,null,null,null,null,null,null,null,null,null,null,450,108,20,7,false,false,false,453.5,118,0,null,null,0,{"$f":"IF(DN34=FALSE,FALSE,TRUE)","v":false},33,"New York","0New York",null,null,null,37]
["1º",null,{"$f":"IFERROR(VLOOKUP(MATCH(LARGE($BN$2:$BN$53,1),$BN$2:$BN$53,0),$BL$2:$BN$53,2),\"\")","v":""},null,null,null,null,null,null,null,null,{"$f":"IFERROR(VLOOKUP(C35,$BM$69:$CB$120,6),\".\")","v":"."},null,null,null,{"$f":"IFERROR(VLOOKUP(C35,$BM$69:$CB$120,8),\".\")","v":"."},null,null,null,{"$f":"IFERROR(VLOOKUP(C35,$BM$69:$CB$120,11),\".\")","v":"."},null,null,null,{"$f":"IFERROR(VLOOKUP(C35,$BM$69:$CB$120,14),\".\")","v":"."},null,null,null,{"$f":"IFERROR(VLOOKUP(C35,$BM$69:$CB$120,16),\".\")","v":"."},null,null,null,null,"1º",null,{"$f":"IFERROR(VLOOKUP(MATCH(LARGE($BP$2:$BP$53,1),$BP$2:$BP$53,0),$BL$2:$BP$53,2),\"\")","v":""},null,null,null,null,null,null,null,null,{"$f":"IFERROR(VLOOKUP(AI35,$BM$69:$CB$120,6),\".\")","v":"."},null,null,null,{"$f":"IFERROR(VLOOKUP(AI35,$BM$69:$CB$120,8),\".\")","v":"."},null,null,null,{"$f":"IFERROR(VLOOKUP(AI35,$BM$69:$CB$120,11),\".\")","v":"."},null,null,null,{"$f":"IFERROR(VLOOKUP(AI35,$BM$69:$CB$120,14),\".\")","v":"."},null,null,null,{"$f":"IFERROR(VLOOKUP(AI35,$BM$69:$CB$120,16),\".\")","v":"."},null,null,null,34,"North Carolina",{"$f":"IFERROR(HLOOKUP($DS$5,Table!$I$182:$BL$237,Table!BN219),\"\")","v":""},"",{"$f":"IFERROR(VLOOKUP($DS$5,Table!$A$186:$BL$237,Table!BO219),\"\")","v":""},"","",20,{"$f":"BM20","v":"Louisiana"},{"$f":"BR20","v":""},null,null,null,null,null,null,null,null,null,null,null,null,null,null,null,null,null,null,null,null,null,null,null,null,null,null,null,null,null,null,null,null,null,null,null,null,null,null,432,216,14,7,false,false,false,435.5,223,0,null,null,0,false,34,"North Carolina","0North Carolina",null,null,null,38]
["2º",null,{"$f":"IFERROR(VLOOKUP(MATCH(LARGE($BN$2:$BN$53,2),$BN$2:$BN$53,0),$BL$2:$BN$53,2),\"\")","v":""},null,null,null,null,null,null,null,null,{"$f":"IFERROR(VLOOKUP(C36,$BM$69:$CB$120,6),\".\")","v":"."},null,null,null,{"$f":"IFERROR(VLOOKUP(C36,$BM$69:$CB$120,8),\".\")","v":"."},null,null,null,{"$f":"IFERROR(VLOOKUP(C36,$BM$69:$CB$120,11),\".\")","v":"."},null,null,null,{"$f":"IFERROR(VLOOKUP(C36,$BM$69:$CB$120,14),\".\")","v":"."},null,null,null,{"$f":"IFERROR(VLOOKUP(C36,$BM$69:$CB$120,16),\".\")","v":"."},null,null,null,null,"2º",null,{"$f":"IFERROR(VLOOKUP(MATCH(LARGE($BP$2:$BP$53,2),$BP$2:$BP$53,0),$BL$2:$BP$53,2),\"\")","v":""},null,null,null,null,null,null,null,null,{"$f":"IFERROR(VLOOKUP(AI36,$BM$69:$CB$120,6),\".\")","v":"."},null,null,null,{"$f":"IFERROR(VLOOKUP(AI36,$BM$69:$CB$120,8),\".\")","v":"."},null,null,null,{"$f":"IFERROR(VLOOKUP(AI36,$BM$69:$CB$120,11),\".\")","v":"."},null,null,null,{"$f":"IFERROR(VLOOKUP(AI36,$BM$69:$CB$120,14),\".\")","v":"."},null,null,null,{"$f":"IFERROR(VLOOKUP(AI36,$BM$69:$CB$120,16),\".\")","v":"."},null,null,null,35,"North Dakota",{"$f":"IFERROR(HLOOKUP($DS$5,Table!$I$182:$BL$237,Table!BN220),\"\")","v":""},"",{"$f":"IFERROR(VLOOKUP($DS$5,Table!$A$186:$BL$237,Table!BO220),\"\")","v":""},"","",19,{"$f":"BM19","v":"Kentucky"},{"$f":"BR19","v":""},null,null,null,null,null,null,null,null,null,null,null,null,null,null,null,null,null,null,null,null,null,null,null,null,null,null,null,null,null,null,null,null,null,null,null,null,null,null,225,68,20,14,false,false,false,232,78,0,null,null,0,false,35,"North Dakota","0North Dakota",null,null,null,39]
["3º",null,{"$f":"IFERROR(VLOOKUP(MATCH(LARGE($BN$2:$BN$53,3),$BN$2:$BN$53,0),$BL$2:$BN$53,2),\"\")","v":""},null,null,null,null,null,null,null,null,".",null,null,null,".",null,null,null,".",null,null,null,".",null,null,null,".",null,null,null,null,"3º",null,{"$f":"IFERROR(VLOOKUP(MATCH(LARGE($BP$2:$BP$53,3),$BP$2:$BP$53,0),$BL$2:$BP$53,2),\"\")","v":""},null,null,null,null,null,null,null,null,".",null,null,null,".",null,null,null,".",null,null,null,".",null,null,null,".",null,null,null,36,"Ohio",{"$f":"IFERROR(HLOOKUP($DS$5,Table!$I$182:$BL$237,Table!BN221),\"\")","v":""},"",{"$f":"IFERROR(VLOOKUP($DS$5,Table!$A$186:$BL$237,Table!BO221),\"\")","v":""},"","",18,{"$f":"BM18","v":"Kansas"},{"$f":"BR18","v":""},null,null,null,null,null,null,null,null,null,null,null,null,null,null,null,null,null,null,null,null,null,null,null,null,null,null,null,null,null,null,null,null,null,null,null,null,null,null,396,162,20,14,false,false,false,403,172,0,null,null,0,false,36,"Ohio","0Ohio",null,null,null,40]
["4º",null,{"$f":"IFERROR(VLOOKUP(MATCH(LARGE($BN$2:$BN$53,4),$BN$2:$BN$53,0),$BL$2:$BN$53,2),\"\")","v":""},null,null,null,null,null,null,null,null,".",null,null,null,".",null,null,null,".",null,null,null,".",null,null,null,".",null,null,null,null,"4º",null,{"$f":"IFERROR(VLOOKUP(MATCH(LARGE($BP$2:$BP$53,4),$BP$2:$BP$53,0),$BL$2:$BP$53,2),\"\")","v":""},null,null,null,null,null,null,null,null,".",null,null,null,".",null,null,null,".",null,null,null,".",null,null,null,".",null,null,null,37,"Oklahoma",{"$f":"IFERROR(HLOOKUP($DS$5,Table!$I$182:$BL$237,Table!BN222),\"\")","v":""},"",{"$f":"IFERROR(VLOOKUP($DS$5,Table!$A$186:$BL$237,Table!BO222),\"\")","v":""},"","",17,{"$f":"BM17","v":"Iowa"},{"$f":"BR17","v":""},null,null,null,null,null,null,null,null,null,null,null,null,null,null,null,null,null,null,null,null,null,null,null,null,null,null,null,null,null,null,null,null,null,null,null,null,null,null,252,230,20,20,false,false,false,262,240,0,null,null,0,false,37,"Oklahoma","0Oklahoma",null,null,null,41]
["5º",null,{"$f":"IFERROR(VLOOKUP(MATCH(LARGE($BN$2:$BN$53,5),$BN$2:$BN$53,0),$BL$2:$BN$53,2),\"\")","v":""},null,null,null,null,null,null,null,null,".",null,null,null,".",null,null,null,".",null,null,null,".",null,null,null,".",null,null,null,null,"5º",null,{"$f":"IFERROR(VLOOKUP(MATCH(LARGE($BP$2:$BP$53,5),$BP$2:$BP$53,0),$BL$2:$BP$53,2),\"\")","v":""},null,null,null,null,null,null,null,null,".",null,null,null,".",null,null,null,".",null,null,null,".",null,null,null,".",null,null,null,38,"Oregon",{"$f":"IFERROR(HLOOKUP($DS$5,Table!$I$182:$BL$237,Table!BN223),\"\")","v":""},"",{"$f":"IFERROR(VLOOKUP($DS$5,Table!$A$186:$BL$237,Table!BO223),\"\")","v":""},"","",16,{"$f":"BM16","v":"Indiana"},{"$f":"BR16","v":""},null,null,null,null,null,null,null,null,null,null,null,null,null,null,null,null,null,null,null,null,null,null,null,null,null,null,null,null,null,null,null,null,null,null,null,null,null,null,54,81,20,20,false,false,false,64,91,0,null,null,0,false,38,"Oregon","0Oregon",null,null,null,42]
["…",null,null,null,null,null,null,null,null,null,null,null,null,null,null,null,null,null,null,null,null,null,null,null,null,null,null,null,null,null,null,null,"…",null,null,null,null,null,null,null,null,null,null,null,null,null,null,null,null,null,null,null,null,null,null,null,null,null,null,null,null,null,null,39,"Pennsylvania",{"$f":"IFERROR(HLOOKUP($DS$5,Table!$I$182:$BL$237,Table!BN224),\"\")","v":""},"",{"$f":"IFERROR(VLOOKUP($DS$5,Table!$A$186:$BL$237,Table!BO224),\"\")","v":""},"","",15,{"$f":"BM15","v":"Illinois"},{"$f":"BR15","v":""},null,null,null,null,null,null,null,null,null,null,null,null,null,null,null,null,null,null,null,null,null,null,null,null,null,null,null,null,null,null,null,null,null,null,null,null,null,null,432,135,14,14,false,false,false,439,142,0,null,null,{"$f":"IF(DU40=TRUE,1,0)","v":0},false,39,"Pennsylvania",{"$f":"--DU40&DW40","v":"0Pennsylvania"},null,null,null,43]
["48º",null,{"$f":"IFERROR(VLOOKUP(MATCH(LARGE($BN$2:$BN$53,47),$BN$2:$BN$53,0),$BL$2:$BN$53,2),\"\")","v":""},null,null,null,null,null,null,null,null,{"$f":"IFERROR(VLOOKUP(C41,$BM$69:$CB$120,6),\".\")","v":"."},null,null,null,{"$f":"IFERROR(VLOOKUP(C41,$BM$69:$CB$120,8),\".\")","v":"."},null,null,null,{"$f":"IFERROR(VLOOKUP(C41,$BM$69:$CB$120,11),\".\")","v":"."},null,null,null,{"$f":"IFERROR(VLOOKUP(C41,$BM$69:$CB$120,14),\".\")","v":"."},null,null,null,{"$f":"IFERROR(VLOOKUP(C41,$BM$69:$CB$120,16),\".\")","v":"."},null,null,null,null,"48º",null,{"$f":"IFERROR(VLOOKUP(MATCH(LARGE($BP$2:$BP$53,47),$BP$2:$BP$53,0),$BL$2:$BP$53,2),\"\")","v":""},null,null,null,null,null,null,null,null,{"$f":"IFERROR(VLOOKUP(AI41,$BM$69:$CB$120,6),\".\")","v":"."},null,null,null,{"$f":"IFERROR(VLOOKUP(AI41,$BM$69:$CB$120,8),\".\")","v":"."},null,null,null,{"$f":"IFERROR(VLOOKUP(AI41,$BM$69:$CB$120,11),\".\")","v":"."},null,null,null,{"$f":"IFERROR(VLOOKUP(AI41,$BM$69:$CB$120,14),\".\")","v":"."},null,null,null,{"$f":"IFERROR(VLOOKUP(AI41,$BM$69:$CB$120,16),\".\")","v":"."},null,null,null,40,"Rhode Island",{"$f":"IFERROR(HLOOKUP($DS$5,Table!$I$182:$BL$237,Table!BN225),\"\")","v":""},"",{"$f":"IFERROR(VLOOKUP($DS$5,Table!$A$186:$BL$237,Table!BO225),\"\")","v":""},"","",14,{"$f":"BM14","v":"Idaho"},{"$f":"BR14","v":""},null,null,null,null,null,null,null,null,null,null,null,null,null,null,null,null,null,null,null,null,null,null,null,null,null,null,null,null,null,null,null,null,null,null,null,null,null,null,531,135,20,7,false,false,false,534.5,145,0,null,null,0,false,40,"Rhode Island","0Rhode Island",null,null,null,44]
["49º",null,{"$f":"IFERROR(VLOOKUP(MATCH(LARGE($BN$2:$BN$53,48),$BN$2:$BN$53,0),$BL$2:$BN$53,2),\"\")","v":""},null,null,null,null,null,null,null,null,{"$f":"IFERROR(VLOOKUP(C42,$BM$69:$CB$120,6),\".\")","v":"."},null,null,null,{"$f":"IFERROR(VLOOKUP(C42,$BM$69:$CB$120,8),\".\")","v":"."},null,null,null,{"$f":"IFERROR(VLOOKUP(C42,$BM$69:$CB$120,11),\".\")","v":"."},null,null,null,{"$f":"IFERROR(VLOOKUP(C42,$BM$69:$CB$120,14),\".\")","v":"."},null,null,null,{"$f":"IFERROR(VLOOKUP(C42,$BM$69:$CB$120,16),\".\")","v":"."},null,null,null,null,"49º",null,{"$f":"IFERROR(VLOOKUP(MATCH(LARGE($BP$2:$BP$53,48),$BP$2:$BP$53,0),$BL$2:$BP$53,2),\"\")","v":""},null,null,null,null,null,null,null,null,{"$f":"IFERROR(VLOOKUP(AI42,$BM$69:$CB$120,6),\".\")","v":"."},null,null,null,{"$f":"IFERROR(VLOOKUP(AI42,$BM$69:$CB$120,8),\".\")","v":"."},null,null,null,{"$f":"IFERROR(VLOOKUP(AI42,$BM$69:$CB$120,11),\".\")","v":"."},null,null,null,{"$f":"IFERROR(VLOOKUP(AI42,$BM$69:$CB$120,14),\".\")","v":"."},null,null,null,{"$f":"IFERROR(VLOOKUP(AI42,$BM$69:$CB$120,16),\".\")","v":"."},null,null,null,41,"South Carolina",{"$f":"IFERROR(HLOOKUP($DS$5,Table!$I$182:$BL$237,Table!BN226),\"\")","v":""},"",{"$f":"IFERROR(VLOOKUP($DS$5,Table!$A$186:$BL$237,Table!BO226),\"\")","v":""},"","",13,{"$f":"BM13","v":"Hawaii"},{"$f":"BR13","v":""},null,null,null,null,null,null,null,null,null,null,null,null,null,null,null,null,null,null,null,null,null,null,null,null,null,null,null,null,null,null,null,null,null,null,null,null,null,null,423,243,14,14,false,false,false,430,250,0,null,null,0,false,41,"South Carolina","0South Carolina",null,null,null,45]
["50º",null,{"$f":"IFERROR(VLOOKUP(MATCH(LARGE($BN$2:$BN$53,49),$BN$2:$BN$53,0),$BL$2:$BN$53,2),\"\")","v":""},null,null,null,null,null,null,null,null,".",null,null,null,".",null,null,null,".",null,null,null,".",null,null,null,".",null,null,null,null,"50º",null,{"$f":"IFERROR(VLOOKUP(MATCH(LARGE($BP$2:$BP$53,49),$BP$2:$BP$53,0),$BL$2:$BP$53,2),\"\")","v":""},null,null,null,null,null,null,null,null,".",null,null,null,".",null,null,null,".",null,null,null,".",null,null,null,".",null,null,null,42,"South Dakota",{"$f":"IFERROR(HLOOKUP($DS$5,Table!$I$182:$BL$237,Table!BN227),\"\")","v":""},"",{"$f":"IFERROR(VLOOKUP($DS$5,Table!$A$186:$BL$237,Table!BO227),\"\")","v":""},"","",12,{"$f":"BM12","v":"Georgia"},{"$f":"BR12","v":""},null,null,null,null,null,null,null,null,null,null,null,null,null,null,null,null,null,null,null,null,null,null,null,null,null,null,null,null,null,null,null,null,null,null,null,null,null,null,225,108,14,7,false,false,false,228.5,115,0,null,null,0,false,42,"South Dakota","0South Dakota",null,null,null,46]
["51º",null,{"$f":"IFERROR(VLOOKUP(MATCH(LARGE($BN$2:$BN$53,50),$BN$2:$BN$53,0),$BL$2:$BN$53,2),\"\")","v":""},null,null,null,null,null,null,null,null,".",null,null,null,".",null,null,null,".",null,null,null,".",null,null,null,".",null,null,null,null,"51º",null,{"$f":"IFERROR(VLOOKUP(MATCH(LARGE($BP$2:$BP$53,50),$BP$2:$BP$53,0),$BL$2:$BP$53,2),\"\")","v":""},null,null,null,null,null,null,null,null,".",null,null,null,".",null,null,null,".",null,null,null,".",null,null,null,".",null,null,null,43,"Tennessee",{"$f":"IFERROR(HLOOKUP($DS$5,Table!$I$182:$BL$237,Table!BN228),\"\")","v":""},"",{"$f":"IFERROR(VLOOKUP($DS$5,Table!$A$186:$BL$237,Table!BO228),\"\")","v":""},"","",11,{"$f":"BM11","v":"Florida"},{"$f":"BR11","v":""},null,null,null,null,null,null,null,null,null,null,null,null,null,null,null,null,null,null,null,null,null,null,null,null,null,null,null,null,null,null,null,null,null,null,null,null,null,null,360,230,20,7,false,false,false,363.5,240,0,null,null,0,false,43,"Tennessee","0Tennessee",null,null,null,47]
["52º",null,{"$f":"IFERROR(VLOOKUP(MATCH(LARGE($BN$2:$BN$53,51),$BN$2:$BN$53,0),$BL$2:$BN$53,2),\"\")","v":""},null,null,null,null,null,null,null,null,".",null,null,null,".",null,null,null,".",null,null,null,".",null,null,null,".",null,null,null,null,"52º",null,{"$f":"IFERROR(VLOOKUP(MATCH(LARGE($BP$2:$BP$53,51),$BP$2:$BP$53,0),$BL$2:$BP$53,2),\"\")","v":""},null,null,null,null,null,null,null,null,".",null,null,null,".",null,null,null,".",null,null,null,".",null,null,null,".",null,null,null,44,"Texas",{"$f":"IFERROR(HLOOKUP($DS$5,Table!$I$182:$BL$237,Table!BN229),\"\")","v":""},"",{"$f":"IFERROR(VLOOKUP($DS$5,Table!$A$186:$BL$237,Table!BO229),\"\")","v":""},"","",10,{"$f":"BM10","v":"District of Columbia "},{"$f":"BR10","v":""},null,null,null,null,null,null,null,null,null,null,null,null,null,null,null,null,null,null,null,null,null,null,null,null,null,null,null,null,null,null,null,null,null,null,null,null,null,null,234,284,20,20,false,false,false,244,294,0,null,null,0,false,44,"Texas","0Texas",null,null,null,48]
[null,null,null,null,null,null,null,null,null,null,null,null,null,null,null,null,null,null,null,null,null,null,null,null,null,null,null,null,null,null,null,null,null,null,null,null,null,null,null,null,null,null,null,null,null,null,null,null,null,null,null,null,null,null,null,null,null,null,null,null,null,null,null,45,"Utah",{"$f":"IFERROR(HLOOKUP($DS$5,Table!$I$182:$BL$237,Table!BN230),\"\")","v":""},"",{"$f":"IFERROR(VLOOKUP($DS$5,Table!$A$186:$BL$237,Table!BO230),\"\")","v":""},"","",9,{"$f":"BM9","v":"Delaware"},{"$f":"BR9","v":""},null,null,null,null,null,null,null,null,null,null,null,null,null,null,null,null,null,null,null,null,null,null,null,null,null,null,null,null,null,null,null,null,null,null,null,null,null,null,117,162,20,20,false,false,false,127,172,0,null,null,0,false,45,"Utah","0Utah",null,null,null,49]
[null,null,"Pop = Population",null,null,null,null,null,null,null,null,null,"PIB = GDP Gross Domestic Product (State)",null,null,null,null,null,null,null,null,null,null,null,null,null,null,null,null,null,null,null,null,null,null,"PIB/HAB =  GDP per capita",null,null,null,null,null,null,null,null,null,null,null,null,null,null,"Growth in 2012",null,null,null,null,null,null,null,null,null,null,null,null,46,"Vermont",{"$f":"IFERROR(HLOOKUP($DS$5,Table!$I$182:$BL$237,Table!BN231),\"\")","v":""},"",{"$f":"IFERROR(VLOOKUP($DS$5,Table!$A$186:$BL$237,Table!BO231),\"\")","v":""},"","",8,{"$f":"BM8","v":"Connecticut"},{"$f":"BR8","v":""},null,null,null,null,null,null,null,null,null,null,null,null,null,null,null,null,null,null,null,null,null,null,null,null,null,null,null,null,null,null,null,null,null,null,null,null,null,null,441,40,20,7,false,false,false,444.5,50,0,null,null,0,false,46,"Vermont","0Vermont",null,null,null,50]
[null,null,null,null,null,null,null,null,null,null,null,null,null,null,null,null,null,null,null,null,null,null,null,null,null,null,null,null,null,null,null,null,null,null,null,null,null,null,null,null,null,null,null,null,null,null,null,null,null,null,null,null,null,null,null,null,null,null,null,null,null,null,null,47,"Virginia",{"$f":"IFERROR(HLOOKUP($DS$5,Table!$I$182:$BL$237,Table!BN232),\"\")","v":""},"",{"$f":"IFERROR(VLOOKUP($DS$5,Table!$A$186:$BL$237,Table!BO232),\"\")","v":""},"","",7,{"$f":"BM7","v":"Colorado"},{"$f":"BR7","v":""},null,null,null,null,null,null,null,null,null,null,null,null,null,null,null,null,null,null,null,null,null,null,null,null,null,null,null,null,null,null,null,null,null,null,null,null,null,null,441,189,14,7,false,false,false,444.5,196,0,null,null,0,false,47,"Virginia","0Virginia",null,null,null,51]
[null,null,null,null,null,null,null,null,null,null,null,null,null,null,null,null,null,null,null,null,null,null,null,null,null,null,null,null,null,null,null,null,null,null,null,null,null,null,null,null,null,null,null,null,null,null,null,null,null,null,null,null,null,null,null,null,null,null,null,null,null,null,null,48,"Washington",{"$f":"IFERROR(HLOOKUP($DS$5,Table!$I$182:$BL$237,Table!BN233),\"\")","v":""},"",{"$f":"IFERROR(VLOOKUP($DS$5,Table!$A$186:$BL$237,Table!BO233),\"\")","v":""},"","",6,{"$f":"BM6","v":"California"},{"$f":"BR6","v":""},null,null,null,null,null,null,null,null,null,null,null,null,null,null,null,null,null,null,null,null,null,null,null,null,null,null,null,null,null,null,null,null,null,null,null,null,null,null,63,40,20,14,false,false,false,70,50,0,null,null,0,false,48,"Washington","0Washington",null,null,null,52]
[null,null,null,null,null,null,null,null,null,null,null,null,null,null,null,null,null,null,null,null,null,null,null,null,null,null,null,null,null,null,null,null,null,null,null,null,null,null,null,null,null,null,null,null,null,null,null,null,null,null,null,null,null,null,null,null,null,null,null,null,null,null,null,49,"West Virginia",{"$f":"IFERROR(HLOOKUP($DS$5,Table!$I$182:$BL$237,Table!BN234),\"\")","v":""},"",{"$f":"IFERROR(VLOOKUP($DS$5,Table!$A$186:$BL$237,Table!BO234),\"\")","v":""},"","",5,{"$f":"BM5","v":"Arkansas"},{"$f":"BR5","v":""},null,null,null,null,null,null,null,null,null,null,null,null,null,null,null,null,null,null,null,null,null,null,null,null,null,null,null,null,null,null,null,null,null,null,null,null,null,null,531,230,20,7,false,false,false,534.5,240,0,null,null,0,false,49,"West Virginia","0West Virginia",null,null,null,53]
[null,null,null,null,null,null,null,null,null,null,null,null,null,null,null,null,null,null,null,null,null,null,null,null,null,null,null,null,null,null,null,null,null,null,null,null,null,null,null,null,null,null,null,null,null,null,null,null,null,null,null,null,null,null,null,null,null,null,null,null,null,null,null,50,"Wisconsin",{"$f":"IFERROR(HLOOKUP($DS$5,Table!$I$182:$BL$237,Table!BN235),\"\")","v":""},"",{"$f":"IFERROR(VLOOKUP($DS$5,Table!$A$186:$BL$237,Table!BO235),\"\")","v":""},"","",4,{"$f":"BM4","v":"Arizona"},{"$f":"BR4","v":""},null,null,null,null,null,null,null,null,null,null,null,null,null,null,null,null,null,null,null,null,null,null,null,null,null,null,null,null,null,null,null,null,null,null,null,null,null,null,324,94,20,7,false,false,false,327.5,104,0,null,null,0,false,50,"Wisconsin","0Wisconsin",null,null,null,54]
[null,null,null,null,null,null,null,null,null,null,null,null,null,null,null,null,null,null,null,null,null,null,null,null,null,null,null,null,null,null,null,null,null,null,null,null,null,null,null,null,null,null,null,null,null,null,null,null,null,null,null,null,null,null,null,null,null,null,null,null,null,null,null,51,"Wyoming",{"$f":"IFERROR(HLOOKUP($DS$5,Table!$I$182:$BL$237,Table!BN236),\"\")","v":""},"",{"$f":"IFERROR(VLOOKUP($DS$5,Table!$A$186:$BL$237,Table!BO236),\"\")","v":""},"","",3,{"$f":"BM3","v":"Alaska"},{"$f":"BR3","v":""},null,null,null,null,null,null,null,null,null,null,null,null,null,null,null,null,null,null,null,null,null,null,null,null,null,null,null,null,null,null,null,null,null,null,null,null,null,null,162,122,20,14,false,false,false,169,132,0,null,null,0,false,51,"Wyoming","0Wyoming",null,null,null,55]
[null,null,null,null,null,null,null,null,null,null,null,null,null,null,null,null,null,null,null,null,null,null,null,null,null,null,null,null,null,null,null,null,null,null,null,null,null,null,null,null,null,null,null,null,null,null,null,null,null,null,null,null,null,null,null,null,null,null,null,null,null,null,null,52,"Puerto Rico",{"$f":"IFERROR(HLOOKUP($DS$5,Table!$I$182:$BL$237,Table!BN237),\"\")","v":""},"",{"$f":"IFERROR(VLOOKUP($DS$5,Table!$A$186:$BL$237,Table!BO237),\"\")","v":""},"","",2,{"$f":"BM2","v":"Alabama"},{"$f":"BR2","v":""},null,null,null,null,null,null,null,null,null,null,null,null,null,null,null,null,null,null,null,null,null,null,null,null,null,null,null,null,null,null,null,null,null,null,null,null,null,null,531,256,20,14,false,false,false,538,266,0,null,null,0,false,52,"Puerto Rico","0Puerto Rico",null,null,null,56]
[null,null,null,null,null,null,null,null,null,null,null,null,null,null,null,null,null,null,null,null,null,null,null,null,null,null,null,null,null,null,null,null,null,null,null,null,null,null,null,null,null,null,null,null,null,null,null,null,null,null,null,null,null,null,null,null,null,null,null,null,null,null,null,null,null,{"$f":"SUM(BN2:BN53)","v":0},null,{"$f":"SUM(BP2:BP53)","v":0}]
[]
[]
[]
[]
[]
[]
[]
[]
[]
[]
[]
[null,null,null,null,null,null,null,null,null,null,null,null,null,null,null,null,null,null,null,null,null,null,null,null,null,null,null,null,null,null,null,null,null,null,null,null,null,null,null,null,null,null,null,null,null,null,null,null,null,null,null,null,null,null,null,null,null,null,null,null,null,null,null,null,null,2,3,4,5,6,7,8,9,10,11,12,13,14,15,16]
[null,null,null,null,null,null,null,null,null,null,null,null,null,null,null,null,null,null,null,null,null,null,null,null,null,null,null,null,null,null,null,null,null,null,null,null,null,null,null,null,null,null,null,null,null,null,null,null,null,null,null,null,null,null,null,null,null,null,null,null,null,null,null,null,null,null,null,null,null,null,null,null,8,10,11,12,13,14,15,16]
[null,null,null,null,null,null,null,null,null,null,null,null,null,null,null,null,null,null,null,null,null,null,null,null,null,null,null,null,null,null,null,null,null,null,null,null,null,null,null,null,null,null,null,null,null,null,null,null,null,null,null,null,null,null,null,null,null,null,null,null,null,null,null,null,null,"capital","maior",null,"Área","%%","População",null,"Densidade","pib",null,null,"per capita",null,null,"crescimento"]
[null,null,null,null,null,null,null,null,null,null,null,null,null,null,null,null,null,null,null,null,null,null,null,null,null,null,null,null,null,null,null,null,null,null,null,null,null,null,null,null,null,null,null,null,null,null,null,null,null,null,null,null,null,null,null,null,null,null,null,null,null,null,null,1,"Alabama","Montgomery","Birmingham",{"$f":"CONCATENATE(BN69,\"      \",BO69)","v":"Montgomery      Birmingham"},135765,{"$f":"IFERROR(BQ69/$BQ$121,\"\")","v":1.3806922346345932E-2},4764428,{"$f":"IFERROR(BS69/$BS$121,\"\")","v":1.5181017192082299E-2},{"$f":"+BS69/BQ69","v":35.093197805030755},169856,{"$f":"+BV69/$BV$121","v":1.1835120198000803E-2},25,30394,{"$f":"+BY69/$BY$121","v":1.4704672848363928E-2},45,1.2E-2]
[null,null,null,null,null,null,null,null,null,null,null,null,null,null,null,null,null,null,null,null,null,null,null,null,null,null,null,null,null,null,null,null,null,null,null,null,null,null,null,null,null,null,null,null,null,null,null,null,null,null,null,null,null,null,null,null,null,null,null,null,null,null,null,2,"Alaska","Juneau","Anchorage",{"$f":"CONCATENATE(BN70,\"      \",BO70)","v":"Juneau      Anchorage"},1717854,{"$f":"IFERROR(BQ70/$BQ$121,\"\")","v":0.17470096696762602},721186,{"$f":"IFERROR(BS70/$BS$121,\"\")","v":2.2979331547646571E-3},{"$f":"+BS70/BQ70","v":0.41981798220337702},45709,{"$f":"+BV70/$BV$121","v":3.1848831311841719E-3},45,51044,{"$f":"+BY70/$BY$121","v":2.4695180656441676E-2},4,1.0999999999999999E-2]
[null,null,null,null,null,null,null,null,null,null,null,null,null,null,null,null,null,null,null,null,null,null,null,null,null,null,null,null,null,null,null,null,null,null,null,null,null,null,null,null,null,null,null,null,null,null,null,null,null,null,null,null,null,null,null,null,null,null,null,null,null,null,null,3,"Arizona","Phoenix",null,"Phoenix      ",295254,3.0026509412941643E-2,6468907,2.0612041651375892E-2,21.90963373908567,256364,1.7862770549408193E-2,18,33616,1.6263482347522597E-2,37,2.5999999999999999E-2]
[null,null,null,null,null,null,null,null,null,null,null,null,null,null,null,null,null,null,null,null,null,null,null,null,null,null,null,null,null,null,null,null,null,null,null,null,null,null,null,null,null,null,null,null,null,null,null,null,null,null,null,null,null,null,null,null,null,null,null,null,null,null,null,4,"Arkansas","Little Rock",null,"Little Rock      ",137002,1.3932721800862413E-2,2912680,9.2807458009721774E-3,21.260127589378257,101818,7.0944109617561094E-3,34,28805,1.3935911739064385E-2,49,1.2999999999999999E-2]
[null,null,null,null,null,null,null,null,null,null,null,null,null,null,null,null,null,null,null,null,null,null,null,null,null,null,null,null,null,null,null,null,null,null,null,null,null,null,null,null,null,null,null,null,null,null,null,null,null,null,null,null,null,null,null,null,null,null,null,null,null,null,null,5,"California","Sacramento","Los Angeles","Sacramento      Los Angeles",423970,4.3116568093251463E-2,37572738,0.11971896343729067,88.621218482439801,1891363,0.13178520890078296,1,42727,2.0671400828849298E-2,12,3.5000000000000003E-2]
[null,null,null,null,null,null,null,null,null,null,null,null,null,null,null,null,null,null,null,null,null,null,null,null,null,null,null,null,null,null,null,null,null,null,null,null,null,null,null,null,null,null,null,null,null,null,null,null,null,null,null,null,null,null,null,null,null,null,null,null,null,null,null,6,"Colorado","Denver",null,"Denver      ",269837,2.7441671308297038E-2,5123944,1.6326552097180803E-2,18.989034120598731,252657,1.7604476520501417E-2,19,42860,2.073574647235895E-2,11,2.1000000000000001E-2]
[null,null,null,null,null,null,null,null,null,null,null,null,null,null,null,null,null,null,null,null,null,null,null,null,null,null,null,null,null,null,null,null,null,null,null,null,null,null,null,null,null,null,null,null,null,null,null,null,null,null,null,null,null,null,null,null,null,null,null,null,null,null,null,7,"Connecticut","Hartford","Bridgport","Hartford      Bridgport",14356,1.4599652134507583E-3,3555319,1.1328402667085503E-2,247.65387294511007,227405,1.5844983448487969E-2,23,53296,2.5784702379627687E-2,3,-1E-3]
[null,null,null,null,null,null,null,null,null,null,null,null,null,null,null,null,null,null,null,null,null,null,null,null,null,null,null,null,null,null,null,null,null,null,null,null,null,null,null,null,null,null,null,null,null,null,null,null,null,null,null,null,null,null,null,null,null,null,null,null,null,null,null,8,"Delaware","Dover","Wilmington","Dover      Wilmington",6452,6.5615042889274823E-4,906576,2.8886459910673857E-3,140.51084934903906,60588,4.2216127929332646E-3,40,64609,3.1257952492595414E-2,2,2E-3]
[null,null,null,null,null,null,null,null,null,null,null,null,null,null,null,null,null,null,null,null,null,null,null,null,null,null,null,null,null,null,null,null,null,null,null,null,null,null,null,null,null,null,null,null,null,null,null,null,null,null,null,null,null,null,null,null,null,null,null,null,null,null,null,9,"District of Columbia ","Washington",null,"Washington      ",177,1.800040699225301E-5,624847,1.9909657674375704E-3,3530.2090395480227,99129,6.9070485005394075E-3,35,136714,6.6142483509614589E-2,1,7.0000000000000001E-3]
[null,null,null,null,null,null,null,null,null,null,null,null,null,null,null,null,null,null,null,null,null,null,null,null,null,null,null,null,null,null,null,null,null,null,null,null,null,null,null,null,null,null,null,null,null,null,null,null,null,null,null,null,null,null,null,null,null,null,null,null,null,null,null,10,"Florida","Tallahassee","Jacksonville","Tallahassee      Jacksonville",170304,1.7319442442986763E-2,19114620,6.090539616510527E-2,112.23823280721533,737038,5.1354873071861554E-2,4,33419,1.6168173386835367E-2,39,2.4E-2]
[null,null,null,null,null,null,null,null,null,null,null,null,null,null,null,null,null,null,null,null,null,null,null,null,null,null,null,null,null,null,null,null,null,null,null,null,null,null,null,null,null,null,null,null,null,null,null,null,null,null,null,null,null,null,null,null,null,null,null,null,null,null,null,11,"Georgia","Atlanta",null,"Atlanta      ",153909,1.5652116608873834E-2,9796547,3.1214984974070815E-2,63.651553840256256,395194,2.7536080512485454E-2,11,37554,1.8168693957605415E-2,27,2.1000000000000001E-2]
[null,null,null,null,null,null,null,null,null,null,null,null,null,null,null,null,null,null,null,null,null,null,null,null,null,null,null,null,null,null,null,null,null,null,null,null,null,null,null,null,null,null,null,null,null,null,null,null,null,null,null,null,null,null,null,null,null,null,null,null,null,null,null,12,"Hawaii","Honolulu",null,"Honolulu      ",28311,2.8791498438286724E-3,1374852,4.3807256293029789E-3,48.562466885662815,66431,4.6287376947142956E-3,38,39314,1.9020185179988797E-2,18,1.6E-2]
[null,null,null,null,null,null,null,null,null,null,null,null,null,null,null,null,null,null,null,null,null,null,null,null,null,null,null,null,null,null,null,null,null,null,null,null,null,null,null,null,null,null,null,null,null,null,null,null,null,null,null,null,null,null,null,null,null,null,null,null,null,null,null,13,"Idaho","Boise",null,"Boise      ",216632,2.2030871003083357E-2,1573036,5.0122043107303478E-3,7.2613279663207653,54005,3.7629266336957974E-3,42,30334,1.4675644738509949E-2,46,4.0000000000000001E-3]
[null,null,null,null,null,null,null,null,null,null,null,null,null,null,null,null,null,null,null,null,null,null,null,null,null,null,null,null,null,null,null,null,null,null,null,null,null,null,null,null,null,null,null,null,null,null,null,null,null,null,null,null,null,null,null,null,null,null,null,null,null,null,null,14,"Illinois","Springfield","Chicago","Springfield      Chicago",141998,1.4440801085231316E-2,12725119,4.0546367855762142E-2,89.614776264454434,630398,4.3924477808139309E-2,5,41439,2.0048264070650548E-2,13,1.9E-2]
[null,null,null,null,null,null,null,null,null,null,null,null,null,null,null,null,null,null,null,null,null,null,null,null,null,null,null,null,null,null,null,null,null,null,null,null,null,null,null,null,null,null,null,null,null,null,null,null,null,null,null,null,null,null,null,null,null,null,null,null,null,null,null,15,"Indiana","Indianápolis",null,"Indianápolis      ",94321,9.5921829825779455E-3,6457067,2.0574315560530514E-2,68.458423892876453,262647,1.8300553496163319E-2,16,36235,1.7530559342648775E-2,32,3.3000000000000002E-2]
[null,null,null,null,null,null,null,null,null,null,null,null,null,null,null,null,null,null,null,null,null,null,null,null,null,null,null,null,null,null,null,null,null,null,null,null,null,null,null,null,null,null,null,null,null,null,null,null,null,null,null,null,null,null,null,null,null,null,null,null,null,null,null,16,"Iowa","Des Moines",null,"Des Moines      ",145743,1.4821657154078705E-2,3035469,9.6719914909057011E-3,20.827545748337826,142282,9.9138362613740479E-3,30,38521,1.8636530328085373E-2,23,2.4E-2]
[null,null,null,null,null,null,null,null,null,null,null,null,null,null,null,null,null,null,null,null,null,null,null,null,null,null,null,null,null,null,null,null,null,null,null,null,null,null,null,null,null,null,null,null,null,null,null,null,null,null,null,null,null,null,null,null,null,null,null,null,null,null,null,17,"Kansas","Topeka","Wichita","Topeka      Wichita",213096,2.167126965209688E-2,2848708,9.0769102026984939E-3,13.368190862334346,124921,8.7041673550210669E-3,32,36102,1.7466213699139123E-2,33,1.4E-2]
[null,null,null,null,null,null,null,null,null,null,null,null,null,null,null,null,null,null,null,null,null,null,null,null,null,null,null,null,null,null,null,null,null,null,null,null,null,null,null,null,null,null,null,null,null,null,null,null,null,null,null,null,null,null,null,null,null,null,null,null,null,null,null,18,"Kentucky","Frankfort","Louisville","Frankfort      Louisville",104659,1.0643528787583095E-2,4328626,1.3792410279700823E-2,41.359328868038105,156553,1.0908202079158933E-2,28,32446,1.5697434205370005E-2,42,1.4E-2]
[null,null,null,null,null,null,null,null,null,null,null,null,null,null,null,null,null,null,null,null,null,null,null,null,null,null,null,null,null,null,null,null,null,null,null,null,null,null,null,null,null,null,null,null,null,null,null,null,null,null,null,null,null,null,null,null,null,null,null,null,null,null,null,19,"Louisiana","Baton Rouge","Nova Orleães","Baton Rouge      Nova Orleães",135382,1.3767972313136707E-2,4545914,1.4484760518519246E-2,33.578422537708114,208377,1.4519162358108123E-2,24,33599,1.6255257716397301E-2,38,1.4999999999999999E-2]
[null,null,null,null,null,null,null,null,null,null,null,null,null,null,null,null,null,null,null,null,null,null,null,null,null,null,null,null,null,null,null,null,null,null,null,null,null,null,null,null,null,null,null,null,null,null,null,null,null,null,null,null,null,null,null,null,null,null,null,null,null,null,null,20,"Maine","Augusta","Portland","Augusta      Portland",91646,9.32014293340124E-3,1315586,4.1918848776102361E-3,14.355083691595924,51293,3.5739615928554493E-3,43,32749,1.5844026160132599E-2,41,5.0000000000000001E-3]
[null,null,null,null,null,null,null,null,null,null,null,null,null,null,null,null,null,null,null,null,null,null,null,null,null,null,null,null,null,null,null,null,null,null,null,null,null,null,null,null,null,null,null,null,null,null,null,null,null,null,null,null,null,null,null,null,null,null,null,null,null,null,null,21,"Maryland","Annapolis","Baltimore","Annapolis      Baltimore",32133,3.2678365982037627E-3,5816472,1.8533171543208399E-2,181.01241714125666,286797,1.998326210099164E-2,15,40445,1.9567365050736297E-2,16,2.4E-2]
[null,null,null,null,null,null,null,null,null,null,null,null,null,null,null,null,null,null,null,null,null,null,null,null,null,null,null,null,null,null,null,null,null,null,null,null,null,null,null,null,null,null,null,null,null,null,null,null,null,null,null,null,null,null,null,null,null,null,null,null,null,null,null,22,"Massachusetts","Boston",null,"Boston      ",27336,2.7799950595493125E-3,6580641,2.0968062515777687E-2,240.73167251975417,365182,2.544492313575222E-2,13,49647,2.4019309498674868E-2,5,2.1999999999999999E-2]
[null,null,null,null,null,null,null,null,null,null,null,null,null,null,null,null,null,null,null,null,null,null,null,null,null,null,null,null,null,null,null,null,null,null,null,null,null,null,null,null,null,null,null,null,null,null,null,null,null,null,null,null,null,null,null,null,null,null,null,null,null,null,null,23,"Michigan","Lansing","Detroit","Lansing      Detroit",253973,2.5828346695160872E-2,9778980,3.1159010798574135E-2,38.504014206234523,368401,2.5669214605687721E-2,12,36830,1.7818421432034066E-2,29,2.1999999999999999E-2]
[null,null,null,null,null,null,null,null,null,null,null,null,null,null,null,null,null,null,null,null,null,null,null,null,null,null,null,null,null,null,null,null,null,null,null,null,null,null,null,null,null,null,null,null,null,null,null,null,null,null,null,null,null,null,null,null,null,null,null,null,null,null,null,24,"Minnesota","Saint Paul","Minneapolis","Saint Paul      Minneapolis",225181,2.2900280491087714E-2,5315228,1.6936045134449972E-2,23.604247249990006,260692,1.8164334228153407E-2,17,43957,2.1266477080855866E-2,9,3.5000000000000003E-2]
[null,null,null,null,null,null,null,null,null,null,null,null,null,null,null,null,null,null,null,null,null,null,null,null,null,null,null,null,null,null,null,null,null,null,null,null,null,null,null,null,null,null,null,null,null,null,null,null,null,null,null,null,null,null,null,null,null,null,null,null,null,null,null,25,"Mississippi","Jackson",null,"Jackson      ",125443,1.275720369677511E-2,2947696,9.3923181655871865E-3,23.498290060027262,95905,6.6824086437292001E-3,35,26087,1.262093836267914E-2,51,2.4E-2]
[null,null,null,null,null,null,null,null,null,null,null,null,null,null,null,null,null,null,null,null,null,null,null,null,null,null,null,null,null,null,null,null,null,null,null,null,null,null,null,null,null,null,null,null,null,null,null,null,null,null,null,null,null,null,null,null,null,null,null,null,null,null,null,26,"Missouri","Jefferson City","Kansas City","Jefferson City      Kansas City",180533,1.8359703251595551E-2,5951913,1.8964730620082439E-2,32.968559764696757,239752,1.6705289996886117E-2,22,35033,1.6949029541907398E-2,36,0.02]
[null,null,null,null,null,null,null,null,null,null,null,null,null,null,null,null,null,null,null,null,null,null,null,null,null,null,null,null,null,null,null,null,null,null,null,null,null,null,null,null,null,null,null,null,null,null,null,null,null,null,null,null,null,null,null,null,null,null,null,null,null,null,null,27,"Montana","Helena","Billings","Helena      Billings",381156,3.8762503545419144E-2,995544,3.1721269750480813E-3,2.6119069357428453,35954,2.5051803386334356E-3,48,29605,1.4322953203784104E-2,48,2.1000000000000001E-2]
[null,null,null,null,null,null,null,null,null,null,null,null,null,null,null,null,null,null,null,null,null,null,null,null,null,null,null,null,null,null,null,null,null,null,null,null,null,null,null,null,null,null,null,null,null,null,null,null,null,null,null,null,null,null,null,null,null,null,null,null,null,null,null,28,"Nebraska","Lincoln","Omaha","Lincoln      Omaha",200520,2.0392325480715106E-2,1829420,5.8291271211442803E-3,9.1233792140434868,86439,6.0228426125364509E-3,36,38601,1.8675234474557347E-2,21,1.4999999999999999E-2]
[null,null,null,null,null,null,null,null,null,null,null,null,null,null,null,null,null,null,null,null,null,null,null,null,null,null,null,null,null,null,null,null,null,null,null,null,null,null,null,null,null,null,null,null,null,null,null,null,null,null,null,null,null,null,null,null,null,null,null,null,null,null,null,29,"Nevada","Carson City","Las Vegas","Carson City      Las Vegas",286367,2.9122726266387108E-2,2725280,8.6836284509364085E-3,9.5167390097322659,126503,8.8143969621779367E-3,31,41151,1.9908929143351451E-2,15,1.4999999999999999E-2]
[null,null,null,null,null,null,null,null,null,null,null,null,null,null,null,null,null,null,null,null,null,null,null,null,null,null,null,null,null,null,null,null,null,null,null,null,null,null,null,null,null,null,null,null,null,null,null,null,null,null,null,null,null,null,null,null,null,null,null,null,null,null,null,30,"New Hampshire","Concord","Manchester","Concord      Manchester",24217,2.4628014470700066E-3,1309203,4.171546563601281E-3,54.061320559937236,59400,4.1388360715032008E-3,41,39770,1.9240798814879036E-2,17,5.0000000000000001E-3]
[null,null,null,null,null,null,null,null,null,null,null,null,null,null,null,null,null,null,null,null,null,null,null,null,null,null,null,null,null,null,null,null,null,null,null,null,null,null,null,null,null,null,null,null,null,null,null,null,null,null,null,null,null,null,null,null,null,null,null,null,null,null,null,31,"New Jersey","Trenton","Newark","Trenton      Newark",22608,2.2991706287054017E-3,8772744,2.7952815634056563E-2,388.03715498938431,482967,3.3651872743193374E-2,7,47705,2.3079766343067749E-2,7,1.2999999999999999E-2]
[null,null,null,null,null,null,null,null,null,null,null,null,null,null,null,null,null,null,null,null,null,null,null,null,null,null,null,null,null,null,null,null,null,null,null,null,null,null,null,null,null,null,null,null,null,null,null,null,null,null,null,null,null,null,null,null,null,null,null,null,null,null,null,32,"New Mexico","Santa Fé","Albuquerque","Santa Fé      Albuquerque",315194,3.2054351872972855E-2,2060595,6.565725858575012E-3,6.5375451309352339,74801,5.2119373229715642E-3,37,31601,1.5288621658259803E-2,44,2E-3]
[null,null,null,null,null,null,null,null,null,null,null,null,null,null,null,null,null,null,null,null,null,null,null,null,null,null,null,null,null,null,null,null,null,null,null,null,null,null,null,null,null,null,null,null,null,null,null,null,null,null,null,null,null,null,null,null,null,null,null,null,null,null,null,33,"New York","Albany","Nova Iorque","Albany      Nova Iorque",141299,1.4369714732194115E-2,19352153,6.1662253558413947E-2,136.95888152074679,1093219,7.6172630155768653E-2,3,46724,2.2605156746955193E-2,8,1.2999999999999999E-2]
[null,null,null,null,null,null,null,null,null,null,null,null,null,null,null,null,null,null,null,null,null,null,null,null,null,null,null,null,null,null,null,null,null,null,null,null,null,null,null,null,null,null,null,null,null,null,null,null,null,null,null,null,null,null,null,null,null,null,null,null,null,null,null,34,"North Carolina","Raleigh","Charlotte","Raleigh      Charlotte",139509,1.4187676717978675E-2,9640490,3.0717736616042362E-2,69.102996939265566,398042,2.7734521676317795E-2,10,38625,1.8686845718498938E-2,20,2.7E-2]
[null,null,null,null,null,null,null,null,null,null,null,null,null,null,null,null,null,null,null,null,null,null,null,null,null,null,null,null,null,null,null,null,null,null,null,null,null,null,null,null,null,null,null,null,null,null,null,null,null,null,null,null,null,null,null,null,null,null,null,null,null,null,null,35,"North Dakota","Bismark","Fargo","Bismark      Fargo",183272,1.863825192250957E-2,689838,2.1980482311311387E-3,3.7640119603649222,31872,2.2207572941237378E-3,49,37037,1.7918568411030296E-2,28,0.13400000000000001]
[null,null,null,null,null,null,null,null,null,null,null,null,null,null,null,null,null,null,null,null,null,null,null,null,null,null,null,null,null,null,null,null,null,null,null,null,null,null,null,null,null,null,null,null,null,null,null,null,null,null,null,null,null,null,null,null,null,null,null,null,null,null,null,36,"Ohio","Columbus",null,"Columbus      ",116096,1.1806639831483648E-2,11414635,3.6370739609528011E-2,98.320657042447635,471264,3.2836438424257312E-2,8,36484,1.7651025998542787E-2,30,2.1999999999999999E-2]
[null,null,null,null,null,null,null,null,null,null,null,null,null,null,null,null,null,null,null,null,null,null,null,null,null,null,null,null,null,null,null,null,null,null,null,null,null,null,null,null,null,null,null,null,null,null,null,null,null,null,null,null,null,null,null,null,null,null,null,null,null,null,null,37,"Oklahoma","Oklahoma City",null,"Oklahoma City      ",181195,1.8427026807690872E-2,3762311,1.1987946501229601E-2,20.763878694224456,153778,1.0714847363697294E-2,29,30225,1.4622910338941886E-2,47,2.1000000000000001E-2]
[null,null,null,null,null,null,null,null,null,null,null,null,null,null,null,null,null,null,null,null,null,null,null,null,null,null,null,null,null,null,null,null,null,null,null,null,null,null,null,null,null,null,null,null,null,null,null,null,null,null,null,null,null,null,null,null,null,null,null,null,null,null,null,38,"Oregon","Salem","Portland","Salem      Portland",255026,2.593543386218258E-2,3857465,1.229113809314691E-2,15.125771489965729,165648,1.1541917804248522E-2,26,35189,1.7024502627527742E-2,35,3.9E-2]
[null,null,null,null,null,null,null,null,null,null,null,null,null,null,null,null,null,null,null,null,null,null,null,null,null,null,null,null,null,null,null,null,null,null,null,null,null,null,null,null,null,null,null,null,null,null,null,null,null,null,null,null,null,null,null,null,null,null,null,null,null,null,null,39,"Pennsylvania","Harrisburg","Filadélfia","Harrisburg      Filadélfia",119283,1.2130748854558848E-2,12630082,4.0243549063897953E-2,105.88333626753183,554774,3.865519600559119E-2,6,37719,1.8248521259703856E-2,26,1.7000000000000001E-2]
[null,null,null,null,null,null,null,null,null,null,null,null,null,null,null,null,null,null,null,null,null,null,null,null,null,null,null,null,null,null,null,null,null,null,null,null,null,null,null,null,null,null,null,null,null,null,null,null,null,null,null,null,null,null,null,null,null,null,null,null,null,null,null,40,"Rhode Island","Providence",null,"Providence      ",3140,3.1932925398686131E-4,1040527,3.3154574433333483E-3,331.37802547770701,47837,3.3331565850588992E-3,44,38953,1.8845532719034021E-2,19,1.4E-2]
[null,null,null,null,null,null,null,null,null,null,null,null,null,null,null,null,null,null,null,null,null,null,null,null,null,null,null,null,null,null,null,null,null,null,null,null,null,null,null,null,null,null,null,null,null,null,null,null,null,null,null,null,null,null,null,null,null,null,null,null,null,null,null,41,"South Carolina","Columbia",null,"Columbia      ",82931,8.4338517077657323E-3,4668886,1.4876589305971747E-2,56.298440872532588,159647,1.1123783877226793E-2,27,31786,1.5378124996976239E-2,43,2.7E-2]
[null,null,null,null,null,null,null,null,null,null,null,null,null,null,null,null,null,null,null,null,null,null,null,null,null,null,null,null,null,null,null,null,null,null,null,null,null,null,null,null,null,null,null,null,null,null,null,null,null,null,null,null,null,null,null,null,null,null,null,null,null,null,null,42,"South Dakota","Pierre","Sioux Falls","Pierre      Sioux Falls",199905,2.0329781693708124E-2,821669,2.6181046738876254E-3,4.1102973912608487,38308,2.6692008792448588E-3,46,37914,1.8342862616729287E-2,25,2E-3]
[null,null,null,null,null,null,null,null,null,null,null,null,null,null,null,null,null,null,null,null,null,null,null,null,null,null,null,null,null,null,null,null,null,null,null,null,null,null,null,null,null,null,null,null,null,null,null,null,null,null,null,null,null,null,null,null,null,null,null,null,null,null,null,43,"Tennessee","Nashville","Memphis","Nashville      Memphis",109247,1.1110115608376638E-2,6378278,2.0323268181171025E-2,58.384010544911987,244508,1.703667559210614E-2,20,36381,1.7601194409960125E-2,31,3.3000000000000002E-2]
[null,null,null,null,null,null,null,null,null,null,null,null,null,null,null,null,null,null,null,null,null,null,null,null,null,null,null,null,null,null,null,null,null,null,null,null,null,null,null,null,null,null,null,null,null,null,null,null,null,null,null,null,null,null,null,null,null,null,null,null,null,null,null,44,"Texas","Austin","Houston","Austin      Houston",696241,7.0805770421995637E-2,25711791,8.1926128637105425E-2,36.929441098700018,1244695,8.6727080202351453E-2,2,38536,1.864378735554887E-2,22,4.8000000000000001E-2]
[null,null,null,null,null,null,null,null,null,null,null,null,null,null,null,null,null,null,null,null,null,null,null,null,null,null,null,null,null,null,null,null,null,null,null,null,null,null,null,null,null,null,null,null,null,null,null,null,null,null,null,null,null,null,null,null,null,null,null,null,null,null,null,45,"Utah","Salt Lake City",null,"Salt Lake City      ",219887,2.2361895436754452E-2,2805440,8.9390442822003743E-3,12.758553256900136,112941,7.8694324032263126E-3,33,33346,1.6132855853179692E-2,40,3.4000000000000002E-2]
[null,null,null,null,null,null,null,null,null,null,null,null,null,null,null,null,null,null,null,null,null,null,null,null,null,null,null,null,null,null,null,null,null,null,null,null,null,null,null,null,null,null,null,null,null,null,null,null,null,null,null,null,null,null,null,null,null,null,null,null,null,null,null,46,"Vermont","Montpelier","Burlington","Montpelier      Burlington",24293,2.4705304353830645E-3,620224,1.9762353858515757E-3,25.530976001317253,25438,1.7724530637524987E-3,50,35493,1.7171578384121238E-2,34,1.2E-2]
[null,null,null,null,null,null,null,null,null,null,null,null,null,null,null,null,null,null,null,null,null,null,null,null,null,null,null,null,null,null,null,null,null,null,null,null,null,null,null,null,null,null,null,null,null,null,null,null,null,null,null,null,null,null,null,null,null,null,null,null,null,null,null,47,"Virginia","Richmond","Virginia Beach","Richmond      Virginia Beach",110785,1.1266525924501412E-2,8085389,2.5762679048497134E-2,72.982705239879039,408443,2.8459236053080504E-2,9,43162,2.0881854625290644E-2,10,3.3000000000000002E-2]
[null,null,null,null,null,null,null,null,null,null,null,null,null,null,null,null,null,null,null,null,null,null,null,null,null,null,null,null,null,null,null,null,null,null,null,null,null,null,null,null,null,null,null,null,null,null,null,null,null,null,null,null,null,null,null,null,null,null,null,null,null,null,null,48,"Washington","Olympia","Seattle","Olympia      Seattle",184827,1.8796391091283317E-2,6815763,2.1717237678931956E-2,36.876446623058321,338334,2.3574224973332728E-2,14,41313,1.9987305039957194E-2,14,3.5999999999999997E-2]
[null,null,null,null,null,null,null,null,null,null,null,null,null,null,null,null,null,null,null,null,null,null,null,null,null,null,null,null,null,null,null,null,null,null,null,null,null,null,null,null,null,null,null,null,null,null,null,null,null,null,null,null,null,null,null,null,null,null,null,null,null,null,null,49,"West Virginia","Charleston",null,"Charleston      ",62755,6.3820087050781796E-3,1837518,5.8549299829403828E-3,29.280822245239424,63344,4.4136436382710229E-3,39,27395,1.325375115749588E-2,50,3.3000000000000002E-2]
[null,null,null,null,null,null,null,null,null,null,null,null,null,null,null,null,null,null,null,null,null,null,null,null,null,null,null,null,null,null,null,null,null,null,null,null,null,null,null,null,null,null,null,null,null,null,null,null,null,null,null,null,null,null,null,null,null,null,null,null,null,null,null,50,"Wisconsin","Madison","Milwaukee","Madison      Milwaukee",169639,1.7251813795247505E-2,5660677,1.8036758002392912E-2,33.3689599679319,244370,1.7027060114364261E-2,21,38244,1.8502517220926169E-2,24,1.4999999999999999E-2]
[null,null,null,null,null,null,null,null,null,null,null,null,null,null,null,null,null,null,null,null,null,null,null,null,null,null,null,null,null,null,null,null,null,null,null,null,null,null,null,null,null,null,null,null,null,null,null,null,null,null,null,null,null,null,null,null,null,null,null,null,null,null,null,51,"Wyoming","Cheyenne",null,"Cheyenne      ",253348,2.5764785936007433E-2,569734,1.8153578244678725E-3,2.2488198051691746,37544,2.6159673647898345E-3,47,47728,2.3090893785178441E-2,6,2E-3]
[null,null,null,null,null,null,null,null,null,null,null,null,null,null,null,null,null,null,null,null,null,null,null,null,null,null,null,null,null,null,null,null,null,null,null,null,null,null,null,null,null,null,null,null,null,null,null,null,null,null,null,null,null,null,null,null,null,null,null,null,null,null,null,52,"Puerto Rico","San Juan",null,"San Juan      ",9104,9.2585144213260689E-4,3628402,1.1561268874623732E-2,398.55030755711778,101034,7.0397838998022622E-3,35,18499,8.9498500698126041E-3,52,1.0999999999999999E-2]
[null,null,null,null,null,null,null,null,null,null,null,null,null,null,null,null,null,null,null,null,null,null,null,null,null,null,null,null,null,null,null,null,null,null,null,null,null,null,null,null,null,null,null,null,null,null,null,null,null,null,null,null,null,null,null,null,null,null,null,null,null,null,null,null,null,null,null,null,{"$f":"SUM(BQ69:BQ120)","v":9833111},{"$f":"SUM(BR69:BR120)","v":1},{"$f":"SUM(BS69:BS120)","v":313841157},1,{"$f":"SUM(BU69:BU120)","v":7176.7667317037149},{"$f":"SUM(BV69:BV120)","v":14351861},1,null,{"$f":"SUM(BY69:BY120)","v":2066962},1]

{"sheet":"Folha2","index":1,"n_rows":57,"n_cols":14,"rows_kept":57,"cut":false,"hidden":true,"merged":[]}
[null,"Meter aqui as bandeiras"]
[null,null,null,null,1,"Alabama"]
[null,null,null,null,2,"Alaska"]
[null,null,null,null,3,"Arizona"]
[null,null,null,null,4,"Arkansas",null,null,0,1,null,{"$f":"OFFSET($I$5,0,0,COUNTA($I$5:$I$57),1)","v":0},{"$f":"OFFSET(I5,0,0)","v":0},{"$f":"COUNTA(I5:I57,1)","v":54}]
[null,null,null,null,5,"California",null,null,1,2,null,1]
[null,null,null,null,6,"Colorado",null,null,2,3,null,2]
[null,null,null,null,7,"Connecticut",null,null,3,4,null,3]
[null,null,null,null,8,"Delaware",null,null,4,5,null,4]
[null,null,null,null,9,"District of Columbia ",null,null,5,6,null,5]
[null,null,null,null,10,"Florida",null,null,6,7,null,6]
[null,null,null,null,11,"Georgia",null,null,7,8,null,7]
[null,null,null,null,12,"Hawaii",null,null,8,9,null,8]
[null,null,null,null,13,"Idaho",null,null,9,10,null,9]
[null,null,null,null,14,"Illinois",null,null,10,11,null,10]
[null,null,null,null,15,"Indiana",null,null,11,12,null,11]
[null,null,null,null,16,"Iowa",null,null,12,13,null,12]
[null,null,null,null,17,"Kansas",null,null,13,14,null,13]
[null,null,null,null,18,"Kentucky",null,null,14,15,null,14]
[null,null,null,null,19,"Louisiana",null,null,15,16,null,15]
[null,null,null,null,20,"Maine",null,null,16,17,null,16]
[null,null,null,null,21,"Maryland",null,null,17,18,null,17]
[null,null,null,null,22,"Massachusetts",null,null,18,19,null,18]
[null,null,null,null,23,"Michigan",null,null,19,20,null,19]
[null,null,null,null,24,"Minnesota",null,null,20,21,null,20]
[null,null,null,null,25,"Mississippi",null,null,21,22,null,21]
[null,null,null,null,26,"Missouri",null,null,22,23,null,22]
[null,null,null,null,27,"Montana",null,null,23,24,null,23]
[null,null,null,null,28,"Nebraska",null,null,24,25,null,24]
[null,null,null,null,29,"Nevada",null,null,25,26,null,25]
[null,null,null,null,30,"New Hampshire",null,null,26,27,null,26]
[null,null,null,null,31,"New Jersey",null,null,27,28,null,27]
[null,null,null,null,32,"New Mexico",null,null,28,29,null,28]
[null,null,null,null,33,"New York",null,null,29,30,null,29]
[null,null,null,null,34,"North Carolina",null,null,30,31,null,30]
[null,null,null,null,35,"North Dakota",null,null,31,32,null,31]
[null,null,null,null,36,"Ohio",null,null,32,33,null,{"$f":"OFFSET($I$5,0,0,COUNTA($I$5:$I$57),1)","v":32}]
[null,null,null,null,37,"Oklahoma",null,null,33,34,null,33]
[null,null,null,null,38,"Oregon",null,null,34,35,null,34]
[null,null,null,null,39,"Pennsylvania",null,null,35,36,null,35]
[null,null,null,null,40,"Rhode Island",null,null,36,37,null,36]
[null,null,null,null,41,"South Carolina",null,null,37,38,null,37]
[null,null,null,null,42,"South Dakota",null,null,38,39,null,38]
[null,null,null,null,43,"Tennessee",null,null,39,40,null,39]
[null,null,null,null,44,"Texas",null,null,40,41,null,40]
[null,null,null,null,45,"Utah",null,null,41,42,null,41]
[null,null,null,null,46,"Vermont",null,null,42,43,null,42]
[null,null,null,null,47,"Virginia",null,null,43,44,null,43]
[null,null,null,null,48,"Washington",null,null,44,45,null,44]
[null,null,null,null,49,"West Virginia",null,null,45,46,null,45]
[null,null,null,null,50,"Wisconsin",null,null,46,47,null,46]
[null,null,null,null,51,"Wyoming",null,null,47,48,null,47]
[null,null,null,null,52,"Puerto Rico",null,null,48,49,null,48]
[null,null,null,null,null,null,null,null,49,50,null,49]
[null,null,null,null,null,null,null,null,50,51,null,50]
[null,null,null,null,null,null,null,null,51,52,null,51]
[null,null,null,null,null,null,null,null,52,53,null,52]

{"sheet":"Table","index":2,"n_rows":285,"n_cols":71,"rows_kept":285,"cut":false,"hidden":true,"merged":[[62,49,62,53],[62,54,62,58],[62,60,62,63],[62,14,62,18],[62,19,62,23],[62,24,62,28],[62,29,62,33],[62,34,62,38],[121,7,124,7],[3,39,3,43],[3,9,3,13],[62,9,62,13],[121,54,121,58],[3,44,3,48],[3,49,3,53],[3,54,3,58],[3,14,3,18],[3,19,3,23],[3,24,3,28],[3,29,3,33],[3,34,3,38],[120,8,120,58],[62,39,62,43],[62,44,62,48],[121,60,121,63],[126,65,177,65],[179,8,179,58],[3,60,3,63],[8,65,59,65],[121,9,121,13],[121,14,121,18],[121,19,121,23],[121,24,121,28],[121,29,121,33],[121,34,121,38],[121,39,121,43],[121,44,121,48],[121,49,121,53],[61,8,61,58],[67,65,118,65],[180,9,180,13],[180,14,180,18],[180,19,180,23],[180,24,180,28],[180,29,180,33],[180,60,180,63],[180,34,180,38],[180,39,180,43],[180,44,180,48],[180,49,180,53],[180,54,180,58]]}
[null,null,"Table 1.  State-to-State Migration Flows*: 2010"]
[null,null,"Dataset: 2010 American Community Survey 1-Year Estimates",null,null,null,null,2010]
[null,null,"Universe: Population 1 year and over"]
[null,null,2010,null,null,null,null,"Different state of residence 1 year ago",null,"Different state of residence 1 year ago (cont.)",null,null,null,null,"Different state of residence 1 year ago (cont.)",null,null,null,null,"Different state of residence 1 year ago (cont.)",null,null,null,null,"Different state of residence 1 year ago (cont.)",null,null,null,null,"Different state of residence 1 year ago (cont.)",null,null,null,null,"Different state of residence 1 year ago (cont.)",null,null,null,null,"Different state of residence 1 year ago (cont.)",null,null,null,null,"Different state of residence 1 year ago (cont.)",null,null,null,null,"Different state of residence 1 year ago (cont.)",null,null,null,null,"Different state of residence 1 year ago (cont.)",null,null,null,null,null,"Abroad 1 year ago--"]
[null,null,null,null,null,null,null,null,"1","2","3","4","5","6","7","8","9","10","11","12","13","14","15","16","17","18","19","20","21","22","23","24","25","26","27","28","29","30","31","32","33","34","35","36","37","38","39","40","41","42","43","44","45","46","47","48","49","50","51"]
[null,null,null,null,null,null,null,null,{"$f":"CONCATENATE($C$4,I5)","v":"20101"},{"$f":"CONCATENATE($C$4,J5)","v":"20102"},"20103","20104","20105","20106","20107","20108","20109","201010","201011","201012","201013","201014","201015","201016","201017","201018","201019","201020","201021","201022","201023","201024","201025","201026","201027","201028","201029","201030","201031","201032","201033","201034","201035","201036","201037","201038","201039","201040","201041","201042","201043","201044","201045","201046","201047","201048","201049","201050","201051"]
[null,null,"Current residence in --","Population 1 year and over","Population 1 year and over","Same house 1 year ago","Same state of residence 1 year ago","Total","Alabama","Alaska","Arizona","Arkansas","California","Colorado","Connecticut","Delaware","District of Columbia ","Florida","Georgia","Hawaii","Idaho","Illinois","Indiana","Iowa","Kansas","Kentucky","Louisiana","Maine","Maryland","Massachusetts","Michigan","Minnesota","Mississippi","Missouri","Montana","Nebraska","Nevada","New Hampshire","New Jersey","New Mexico","New York","North Carolina","North Dakota","Ohio","Oklahoma","Oregon","Pennsylvania","Rhode Island","South Carolina","South Dakota","Tennessee","Texas","Utah","Vermont","Virginia","Washington","West Virginia","Wisconsin","Wyoming",null,"Total","Puerto Rico","U.S. Island Area","Foreign Country"]
[null,2010,"TOTAL USA - sem PR",{"$f":"SUM(D9:D59)","v":305628607},305628607,258552348,38582885,6743229,99221,94692,176768,64264,573988,140620,89360,30055,56052,427853,244992,49218,53122,277579,130170,66922,90681,92999,88131,32209,159866,144152,178207,104765,68363,148055,35870,43531,109409,38399,193972,50438,363139,207025,24450,188013,90616,100185,209810,24948,117569,27915,143135,411641,75541,18380,232002,166162,49349,111240,28186,null,1750145,59885,17167,1673093,6743229]
[1,{"$f":"CONCATENATE($B$8,A9)","v":"20101"},"Alabama",4729509,{"$f":"+F9+G9+H9+BI9","v":4729509},3987155,620465,{"$f":"SUM(I9:BG9)","v":108723},"N/A",3013,676,1481,3827,1278,454,811,211,15062,21644,267,304,2503,3945,669,649,1967,1901,97,716,435,2334,386,7233,1373,229,169,265,0,356,650,3686,2371,169,2222,880,485,1477,0,2368,31,7409,6500,1336,0,2490,1171,41,1155,27,null,13166,228,181,12757,{"$f":"SUM(I9:BG9)","v":108723},{"$f":"SUM(BM9:BM60)","v":6774961}]
[2,{"$f":"CONCATENATE($B$8,A10)","v":"20102"},"Alaska",702974,702974,565031,95878,36326,477,"N/A",1354,47,3906,1930,0,0,14,2315,1251,1705,895,388,9,262,106,1440,100,574,704,107,923,530,263,0,616,215,240,316,413,421,255,698,69,156,1455,1793,126,0,121,531,477,4123,1274,353,714,2421,0,158,81,null,5739,19,1374,4346,{"$f":"SUM(I10:BG10)","v":36326}]
[3,"20103","Arizona",6332786,6332786,5069002,1001991,222725,416,3109,"N/A",689,47164,7687,479,738,0,7712,4261,1966,2147,12250,2690,3008,1935,1705,2014,241,1284,1449,6354,5421,272,4567,1343,1750,10342,64,1782,4419,6618,4463,826,5225,2910,5430,5535,403,2310,1351,3061,14705,7164,664,3413,12645,595,5556,593,null,39068,599,223,38246,222725]
[4,"20104","Arkansas",2888304,2888304,2387806,412997,79127,1405,934,777,"N/A",4457,2535,451,0,154,3578,3921,129,618,3221,722,85,3611,2540,4012,0,306,190,1506,222,2764,7320,85,394,67,0,77,0,289,1561,0,1137,8607,239,731,0,1496,243,2653,13707,361,0,494,264,0,821,443,null,8374,87,0,8287,79127]
[5,"20105","California",36907897,36907897,30790221,5413287,444749,3364,9579,33854,4172,"N/A",15662,4631,643,3683,20362,8820,9528,5719,16482,6550,3163,3857,3394,2989,1796,10626,11969,10435,5095,2757,6921,3009,3062,27724,1614,10108,4632,20981,9593,392,8170,5708,20913,9948,526,5016,1604,4349,36582,10653,525,14232,30544,1446,6031,1336,null,259640,1223,5123,253294,444749]
[6,"20106","Colorado",4988190,4988190,4042039,725413,186366,954,2225,12287,1034,26089,"N/A",459,486,479,8849,6445,2355,839,6950,3296,2140,4308,1961,968,532,1532,2242,4587,2878,1277,1978,2042,4065,4131,791,1259,3921,4594,2940,802,2838,3464,4330,3928,192,1231,1847,1628,22253,4748,350,2739,7583,623,2499,4418,null,34372,874,125,33373,186366]
[7,"20107","Connecticut",3541146,3541146,3100742,342904,77333,896,0,664,334,4479,547,"N/A",149,331,9207,748,182,147,3391,1074,108,0,400,0,528,1531,8510,770,934,67,42,0,0,507,1049,3475,112,20727,1345,0,1296,145,640,1955,1728,1140,0,430,1887,0,458,1735,2084,442,1092,47,null,20167,2027,0,18140,77333]
[8,"20108","Delaware",889812,889812,764640,90001,30759,128,68,60,0,353,178,714,"N/A",432,2362,585,0,0,612,0,0,28,163,0,294,4969,689,61,55,0,539,73,0,106,139,3678,59,4251,424,0,325,0,0,7318,149,195,0,146,178,0,0,1051,377,0,0,0,null,4412,954,431,3027,30759]
[9,"20109","District of Columbia ",596747,596747,474676,63766,51244,360,591,662,155,4205,656,926,0,"N/A",1100,1597,0,0,615,711,392,83,94,0,76,13503,1376,126,87,0,272,0,62,0,137,1924,61,3852,1897,98,598,0,601,2378,249,380,0,591,1180,0,199,7915,284,860,391,0,null,7061,0,62,6999,51244]
[10,"201010","Florida",18647600,18647600,15554008,2459530,482889,15830,5887,3907,3611,22130,6428,11183,3099,1110,"N/A",35615,2021,884,17432,9030,2921,4136,6321,7232,5497,13241,13900,21359,5439,7929,7984,338,1544,7050,3645,22344,900,55011,19108,794,21047,3466,1655,19935,1982,10759,430,12882,24039,2833,1442,20080,3573,5634,8081,191,null,151173,12968,1131,137074,482889]
[11,"201011","Georgia",9587237,9587237,8015409,1278548,249459,13840,3645,2554,599,8909,3224,2619,837,1708,49901,"N/A",1040,414,9736,2649,1096,1355,6525,3645,0,5382,3910,6857,1169,2380,3072,52,148,1155,162,4151,826,12472,15361,0,9323,2070,843,6294,43,15562,557,14445,11424,380,361,8393,4495,358,3416,102,null,43821,1010,376,42435,249459]
[12,"201012","Hawaii",1346274,1346274,1140572,134315,53581,749,743,1398,0,12677,1073,307,0,0,4599,2013,"N/A",42,715,192,68,387,95,88,89,990,1283,627,476,234,170,150,0,1925,496,443,11,1339,1510,69,625,57,1834,553,644,322,267,142,6694,467,0,2644,2705,483,1168,18,null,17806,0,805,17001,53581]
[13,"201013","Idaho",1550967,1550967,1279856,209272,55638,376,3264,3086,45,8932,1372,0,0,144,612,313,123,"N/A",169,132,773,422,315,59,202,44,115,427,465,37,425,1509,0,2110,109,97,694,155,134,96,325,711,3202,172,0,0,296,1153,1746,8014,0,611,10876,133,233,1410,null,6201,233,36,5932,55638]
[14,"201014","Illinois",12680126,12680126,11009852,1404525,203959,1397,1764,5921,1194,16205,3850,2264,56,1047,8051,6781,1224,313,"N/A",21918,9141,1970,2921,1419,55,1985,2811,11865,4300,1093,16703,928,546,2541,206,2331,996,8479,5504,1112,5103,1459,1224,5190,838,1565,292,3999,12245,658,260,3831,1642,812,15364,586,null,61790,2055,0,59735,203959]
[15,"201015","Indiana",6414862,6414862,5431015,833086,127353,1502,177,2210,1548,8959,1362,544,0,181,5496,1623,267,772,27950,"N/A",1885,1582,10643,749,30,1641,103,9361,916,270,3893,164,705,227,114,1876,188,2564,2828,0,13272,681,423,2668,174,584,216,3093,6335,444,45,3673,571,669,1762,413,null,23408,572,75,22761,127353]
[16,"201016","Iowa",3013053,3013053,2553210,375650,72557,330,519,1483,247,2847,2554,114,0,53,1364,973,866,315,17016,1710,"N/A",1520,334,315,0,134,189,1439,7564,117,6031,836,4783,623,381,472,492,273,1123,601,632,679,1071,378,0,591,1992,1617,4131,146,45,303,538,0,2705,111,null,11636,149,0,11487,72557]
[17,"201017","Kansas",2820894,2820894,2341401,372161,95059,44,1050,2238,1596,6125,6022,85,238,0,2863,1916,128,398,2943,1544,1875,"N/A",1048,890,0,1369,100,806,1562,167,23384,289,2678,1318,76,1743,873,2390,1083,225,1509,7568,514,563,39,137,352,1152,9217,238,75,1648,1175,0,1233,573,null,12273,68,90,12115,95059]
[18,"201018","Kentucky",4296639,4296639,3638259,519887,118443,2161,3017,2598,558,3779,329,698,38,147,10119,6397,520,71,4659,11906,656,1109,"N/A",437,0,1395,1036,4672,930,1442,3153,0,858,76,0,1147,122,2057,3758,0,15598,1153,181,2618,289,1286,163,11153,5758,905,525,3671,716,2297,1993,292,null,20050,179,0,19871,118443]
[19,"201019","Louisiana",4483529,4483529,3826390,547291,97889,5740,1504,1960,2382,5751,1215,89,0,264,9394,5766,342,202,2131,948,625,706,1656,"N/A",162,963,995,1301,569,7032,2852,40,119,1552,462,171,294,2161,1443,438,1100,1074,281,1350,0,1130,0,1853,26134,473,0,1278,1509,210,237,31,null,11959,402,116,11441,97889]
[20,"201020","Maine",1313902,1313902,1136780,146735,27758,402,424,254,67,1066,478,1361,174,55,3025,844,62,0,311,259,337,56,484,115,"N/A",243,3521,122,91,0,201,275,204,345,4058,902,234,2339,1001,55,315,124,0,375,379,148,0,249,458,390,420,654,381,0,0,500,null,2629,204,0,2425,27758]
[21,"201021","Maryland",5716785,5716785,4917637,588879,164484,1641,2672,1124,273,8206,2501,1603,8340,23202,6564,3454,422,357,3300,431,160,781,396,1376,53,"N/A",1983,3572,820,403,1147,86,54,979,1369,9058,238,10736,5787,0,3277,607,723,13467,782,1710,49,2669,5883,655,350,24765,1542,4363,324,230,null,45785,612,269,44904,164484]
[22,"201022","Massachusetts",6489250,6489250,5583650,706624,140162,583,1891,1572,206,14971,1051,13270,131,1539,11118,1409,682,79,2842,1891,307,0,340,0,4666,3660,"N/A",1624,2185,453,1957,388,46,792,9911,4709,161,20002,2798,0,2163,158,228,5316,6965,1659,0,918,7073,207,1526,4542,1627,0,546,0,null,58814,3085,0,55729,140162]
[23,"201023","Michigan",9762127,9762127,8310098,1291901,116149,2403,1040,3197,636,6726,2031,277,167,471,11646,3913,313,66,10651,7816,758,640,2353,1342,645,620,1206,"N/A",1275,656,2921,312,213,1874,437,1676,669,3135,2444,53,9783,2276,537,3134,653,1446,706,4453,7184,545,45,2073,1427,446,6291,568,null,43979,1432,0,42547,116149]
[24,"201024","Minnesota",5244256,5244256,4480630,647946,89872,266,1169,4165,279,6233,2521,211,176,306,2575,1776,227,231,6641,1120,4948,1067,402,519,172,1259,1092,2631,"N/A",196,1549,1020,734,540,183,513,151,1309,1673,7316,1035,284,738,730,123,1597,3237,1155,2619,1013,0,2371,1328,200,17929,343,null,25808,39,0,25769,89872]
[25,"201025","Mississippi",2931228,2931228,2510729,340266,72321,8306,1192,187,4941,3000,1167,71,0,0,4814,4014,276,121,3030,1403,114,330,407,7390,0,649,107,2495,863,"N/A",959,314,0,408,0,403,633,1026,2227,0,1312,663,0,750,145,1860,56,8158,5755,232,0,572,508,94,879,490,null,7912,814,67,7031,72321]
[26,"201026","Missouri",5920858,5920858,4968921,786726,145226,819,1051,2988,4381,9840,1903,243,314,478,8317,2492,380,830,21277,3351,4708,23427,2552,2238,171,1359,1395,2610,1701,1183,"N/A",220,2636,1060,108,1320,150,2630,1825,848,2163,4647,314,1639,0,954,512,3311,12884,1319,498,3206,1107,177,1331,359,null,19985,867,0,19118,145226]
[27,"201027","Montana",978507,978507,821709,117752,35630,212,650,1909,672,5756,2185,128,71,0,1373,46,0,1458,1094,251,169,60,321,85,76,51,59,648,1323,242,564,"N/A",340,548,0,0,660,246,1072,1677,89,182,1620,419,0,110,295,111,2101,964,0,497,3250,0,357,1689,null,3416,11,0,3405,35630]
[28,"201028","Nebraska",1802697,1802697,1497138,247005,51290,232,35,2322,674,4430,4182,361,177,0,1775,1202,257,127,1820,639,5536,2484,153,89,0,77,100,726,2254,823,2723,112,"N/A",232,0,143,831,111,442,777,1232,702,506,345,0,65,2936,77,4445,537,0,772,1230,73,1046,1478,null,7264,0,278,6986,51290]
[29,"201029","Nevada",2667364,2667364,2030410,517261,102677,150,511,7818,530,35472,2935,648,0,0,3579,1187,4363,1686,1711,739,543,453,569,733,0,485,1275,2202,805,946,1747,770,1129,"N/A",59,1528,1220,1204,957,37,1554,886,2629,1567,167,312,1203,706,5224,4500,197,1832,3290,56,419,144,null,17016,502,454,16060,102677]
[30,"201030","New Hampshire",1303865,1303865,1118359,141213,39367,152,0,544,0,1692,240,3134,0,298,1659,0,51,66,850,23,109,57,0,19,3242,49,13752,230,240,25,295,486,0,95,"N/A",540,276,2462,471,0,28,0,508,674,988,51,0,372,1570,279,2566,745,261,0,268,0,null,4926,56,285,4585,39367]
[31,"201031","New Jersey",8709933,8709933,7841470,684482,127369,616,383,1625,258,8777,807,2503,1543,431,9841,4588,385,91,2656,402,332,442,91,249,95,4231,2626,1070,322,450,727,122,261,874,705,"N/A",421,41374,3052,0,1584,32,613,22225,332,1134,0,852,3434,178,57,2670,964,358,586,0,null,56612,2732,245,53635,127369]
[32,"201032","New Mexico",2039549,2039549,1735950,220663,73605,751,969,6117,77,6547,2852,25,391,56,3259,1977,122,755,526,465,0,751,739,65,94,1968,2076,1460,179,719,138,1003,530,4192,79,160,"N/A",784,1793,79,1712,1182,1659,809,46,152,204,1269,18511,1601,309,290,3004,0,407,752,null,9331,632,173,8526,73605]
[33,"201033","New York",19171916,19171916,16976205,1779540,269427,1310,5070,2649,362,25177,3135,15338,2603,1983,30553,7676,259,198,6533,2497,477,1189,804,1321,2270,5912,16855,4779,1649,872,1870,237,886,2077,2636,35333,829,"N/A",13322,0,6510,2298,2284,20514,1913,7161,521,1730,9692,910,2900,8881,2503,444,2354,151,null,146744,6740,199,139805,269427]
[34,"201034","North Carolina",9443000,9443000,7982017,1141001,263256,3044,1618,2847,550,16699,1842,3752,479,1691,28983,15943,1567,724,5657,4132,1077,2192,4419,2180,2259,9881,4052,5789,1839,1187,1932,230,516,698,2130,7195,1186,19406,"N/A",243,8661,1453,1796,11155,97,23196,362,8685,14329,790,350,25662,2874,3025,2012,870,null,56726,1950,424,54352,263256]
[35,"201035","North Dakota",665654,665654,556222,75720,30100,109,1066,662,168,1411,873,30,0,175,492,799,53,69,39,45,289,114,97,374,0,121,52,298,12350,0,197,1236,328,382,0,144,380,188,637,"N/A",134,108,313,392,0,0,1038,273,2513,462,0,25,696,0,749,219,null,3612,0,44,3568,30100]
[36,"201036","Ohio",11405101,11405101,9745227,1453401,172633,1289,1556,4715,434,8997,2859,1307,15,972,16495,9502,436,564,7092,9438,1270,1016,9159,743,291,3828,3686,15130,2298,89,1171,460,1531,2240,175,2465,515,5988,5985,26,"N/A",1228,342,12012,444,2479,207,4987,7465,485,182,6769,2567,7814,1771,144,null,33840,2140,159,31541,172633]
[37,"201037","Oklahoma",3716264,3716264,3065497,528824,106511,1612,1397,2759,5873,9429,3184,68,109,0,5438,3159,773,611,2679,957,1108,5024,877,2208,298,382,465,1047,599,1733,4102,448,829,1079,69,890,2723,1118,1991,139,1385,"N/A",398,1316,119,596,83,1872,28238,428,93,2286,2035,221,551,1713,null,15432,209,364,14859,106511]
[38,"201038","Oregon",3794008,3794008,3110896,545841,116700,400,2027,5264,246,34190,2050,270,0,217,2273,688,2323,4129,1565,317,161,678,0,0,0,595,1471,1159,668,735,1786,3386,777,2805,317,544,981,2538,1040,592,1541,821,"N/A",1689,0,989,741,787,3826,2879,456,1124,22793,358,1981,523,null,20571,821,0,19750,116700]
[39,"201039","Pennsylvania",12577555,12577555,11053022,1239199,235580,369,2185,3668,807,12077,3657,4007,4608,1621,18212,4644,332,380,4490,2018,227,1426,1675,625,1621,18281,4455,4961,1491,563,1725,339,551,1810,729,42456,1250,30481,7611,521,14545,1254,918,"N/A",377,1315,966,1611,7778,1048,215,10558,2495,4258,1300,1069,null,49754,6275,147,43332,235580]
[40,"201040","Rhode Island",1042240,1042240,900283,99603,32059,136,0,324,0,1697,59,4090,0,146,1336,382,274,0,1210,206,48,0,0,0,447,977,8639,77,47,0,47,0,0,297,333,1868,0,4583,1376,62,0,199,0,560,"N/A",61,48,71,678,0,72,1399,160,150,0,0,null,10295,276,0,10019,32059]
[41,"201041","South Carolina",4577399,4577399,3870879,537961,152441,1741,1670,1457,365,4691,1867,3998,249,38,16060,17486,813,233,4253,2174,703,514,2211,2059,603,5184,3765,3709,818,1175,1371,0,0,1173,486,4908,1390,7912,20749,118,3883,1458,1020,4689,154,"N/A",95,3816,4965,455,478,9786,3070,1190,1057,382,null,16118,269,28,15821,152441]
[42,"201042","South Dakota",805616,805616,680993,96805,25777,325,25,745,61,1338,807,0,0,0,251,24,75,457,80,439,3520,571,82,129,0,0,407,144,4615,201,252,560,2260,38,0,0,38,758,262,2020,160,296,122,209,0,0,"N/A",0,1334,0,0,224,1564,0,736,648,null,2041,0,0,2041,25777]
[43,"201043","Tennessee",6282706,6282706,5299496,801355,159778,8897,343,2291,4736,8019,1858,765,248,394,14168,11065,243,333,3162,4764,1052,2506,11188,2602,84,1450,1733,5529,1504,9029,4342,290,187,2433,197,2230,621,4800,7102,0,4462,669,430,2562,805,4765,63,"N/A",8701,2062,0,8650,1412,2201,2831,0,null,22077,0,0,22077,159778]
[44,"201044","Texas",24899075,24899075,20500156,3740344,486558,8636,11613,16521,15251,68959,16361,924,704,460,26668,16671,3718,2033,20169,6985,3946,11598,5153,31149,1318,4724,7139,13775,6088,7773,12061,1027,4893,8324,1067,7058,11752,16624,12183,2452,8317,22969,4373,7161,975,5249,1936,13044,"N/A",4123,52,13713,8847,2221,5927,1874,null,172017,4180,843,166994,486558]
[45,"201045","Utah",2724064,2724064,2240636,388410,77780,93,1798,8147,316,12187,3987,119,0,138,2097,966,932,7692,1831,517,483,299,235,46,148,426,246,261,914,127,1255,1929,118,4549,0,247,518,1462,1167,0,1527,886,2525,557,0,838,875,459,5305,"N/A",297,3005,3792,0,338,2126,null,17238,383,108,16747,77780]
[46,"201046","Vermont",619363,619363,534975,59032,22529,0,184,65,0,1001,326,1287,87,9,2063,496,49,0,370,0,91,0,176,0,824,300,3599,201,85,0,51,236,0,58,2760,751,0,4056,539,30,50,0,100,524,227,134,153,125,565,0,"N/A",400,128,0,377,52,null,2827,0,0,2827,22529]
[47,"201047","Virginia",7930773,7930773,6752310,870491,259507,2671,3296,3807,1233,17088,3229,2468,1265,10593,18165,11927,2347,1159,7576,2892,1135,2103,2051,2148,1494,24822,4104,5733,462,1858,4262,866,523,748,372,6825,1098,17525,23829,201,7708,781,2137,11796,1543,8339,98,5842,12938,1551,676,"N/A",4373,6779,2648,423,null,48465,1306,217,46942,259507]
[48,"201048","Washington",6661321,6661321,5464985,946923,191784,1322,5644,5971,658,39468,4883,642,202,243,5378,3107,4246,12661,3931,1912,1685,1694,886,1011,717,629,1448,2871,1323,737,3727,5094,323,5310,282,721,1012,4140,2143,515,2727,1986,26235,2893,220,3047,866,789,11338,4020,981,7266,"N/A",62,2180,638,null,57629,0,2715,54914,191784]
[49,"201049","West Virginia",1833535,1833535,1625125,166168,39609,41,1326,0,0,760,608,84,556,480,1842,485,0,88,356,366,0,161,851,60,0,4249,191,657,0,44,160,39,0,25,107,906,0,611,2552,268,7925,229,0,4908,238,647,0,1160,968,112,208,4999,192,"N/A",150,0,null,2633,182,0,2451,39609]
[50,"201050","Wisconsin",5623196,5623196,4824045,691592,93065,552,798,1854,518,4506,1890,359,351,98,4492,1656,550,902,20299,2563,2300,752,287,331,448,1088,992,6317,16741,810,1716,154,853,1049,69,632,123,1291,1817,497,1674,89,1444,2211,0,1142,235,856,3039,476,75,771,1013,256,"N/A",129,null,14494,521,0,13973,93065]
[51,"201051","Wyoming",556954,556954,444614,82255,28046,172,0,1511,0,2784,4390,0,0,0,396,745,25,942,415,132,462,532,519,107,0,51,252,570,218,0,421,2528,1711,416,0,0,707,146,34,233,56,62,14,95,0,220,258,495,1990,3226,75,580,556,0,0,"N/A",null,2039,0,0,2039,28046]
[52,"201052","Puerto Rico",3676493,{"$f":"+F60+G60+H60+BI60","v":3676493},3392179,247593,{"$f":"SUM(I60:BG60)","v":31732},629,156,288,0,1177,388,899,0,0,11262,207,0,0,1642,109,0,112,254,109,0,59,2004,89,50,170,221,0,0,0,0,1244,364,4768,146,0,69,0,0,1516,684,109,0,30,977,882,0,392,0,141,585,0,null,4989,"N/A2",102,4887,31732]
[null,null,"com porto rico",{"$f":"SUM(D9:D60)","v":309305100},309305100,261944527,38830478,6774961,{"$f":"SUM(I9:I60)","v":99850},{"$f":"SUM(J9:J60)","v":94848},177056,64264,575165,141008,90259,30055,56052,439115,245199,49218,53122,279221,130279,66922,90793,93253,88240,32209,159925,146156,178296,104815,68533,148276,35870,43531,109409,38399,195216,50802,367907,207171,24450,188082,90616,100185,211326,25632,117678,27915,143165,412618,76423,18380,232394,166162,49490,111825,28186,null,1755134,59885,17269,{"$f":"SUM(BL9:BL60)","v":1677980}]
[null,null,null,null,null,null,null,null,{"$f":"SUM(I61:BG61)","v":6774961}]
[null,null,2011,null,null,null,null,2011,null,"Different state of residence 1 year ago (cont.)",null,null,null,null,"Different state of residence 1 year ago (cont.)",null,null,null,null,"Different state of residence 1 year ago (cont.)",null,null,null,null,"Different state of residence 1 year ago (cont.)",null,null,null,null,"Different state of residence 1 year ago (cont.)",null,null,null,null,"Different state of residence 1 year ago (cont.)",null,null,null,null,"Different state of residence 1 year ago (cont.)",null,null,null,null,"Different state of residence 1 year ago (cont.)",null,null,null,null,"Different state of residence 1 year ago (cont.)",null,null,null,null,"Different state of residence 1 year ago (cont.)",null,null,null,null,null,"Abroad 1 year ago--"]
[null,null,null,null,null,null,null,null,1,2,3,4,5,6,7,8,9,10,11,12,13,14,15,16,17,18,19,20,21,22,23,24,25,26,27,28,29,30,31,32,33,34,35,36,37,38,39,40,41,42,43,44,45,46,47,48,49,50,51]
[null,null,null,null,null,null,null,null,{"$f":"CONCATENATE($C$63,I64)","v":"20111"},{"$f":"CONCATENATE($C$63,J64)","v":"20112"},"20113","20114","20115","20116","20117","20118","20119","201110","201111","201112","201113","201114","201115","201116","201117","201118","201119","201120","201121","201122","201123","201124","201125","201126","201127","201128","201129","201130","201131","201132","201133","201134","201135","201136","201137","201138","201139","201140","201141","201142","201143","201144","201145","201146","201147","201148","201149","201150","201151"]
[null,null,"Current residence in --","Population 1 year and over",2011,"Same house 1 year ago","Same state of residence 1 year ago",null,"Alabama","Alaska","Arizona","Arkansas","California","Colorado","Connecticut","Delaware","District of Columbia ","Florida","Georgia","Hawaii","Idaho","Illinois","Indiana","Iowa","Kansas","Kentucky","Louisiana","Maine","Maryland","Massachusetts","Michigan","Minnesota","Mississippi","Missouri","Montana","Nebraska","Nevada","New Hampshire","New Jersey","New Mexico","New York","North Carolina","North Dakota","Ohio","Oklahoma","Oregon","Pennsylvania","Rhode Island","South Carolina","South Dakota","Tennessee","Texas","Utah","Vermont","Virginia","Washington","West Virginia","Wisconsin","Wyoming",null,"Total","Puerto Rico","U.S. Island Area","Foreign Country"]
[null,2011,"TOTAL USA - sem PR",{"$f":"SUM(D68:D118)","v":307900319},{"$f":"SUM(E68:E118)","v":307900319},{"$f":"SUM(F68:F118)","v":261087925},37998701,6987416,106806,88850,211816,77226,562343,160623,91295,26631,49732,437202,248892,61940,57831,269008,143228,74516,94180,99256,86593,33729,165041,145869,186505,103253,68597,138404,31204,52809,115943,43277,216369,61431,377800,225147,26563,206049,81009,109795,215127,31065,121426,29383,154243,404839,73211,18172,229227,190644,45956,105370,31991,null,1826277,76218,13131,1736928,6987416]
[1,{"$f":"CONCATENATE($B$67,A68)","v":"20111"},"Alabama",4745278,{"$f":"+F68+G68+H68+BI68","v":4745278},4024442,588293,{"$f":"SUM(I68:BG68)","v":117726},"N/A",1771,1677,1642,3389,348,2921,232,399,20063,19346,1259,137,6991,1434,30,842,2686,2413,626,1606,112,2797,327,3945,1086,317,770,257,64,1996,119,1108,2697,284,2596,973,169,1075,0,2036,90,8710,7973,300,66,4935,2621,65,417,9,null,14817,569,0,14248,{"$f":"SUM(I68:BG68)","v":117726},{"$f":"SUM(BM68:BM119)","v":7010065}]
[2,{"$f":"CONCATENATE($B$67,A69)","v":"20112"},"Alaska",711962,{"$f":"+F69+G69+H69+BI69","v":711962},571857,100280,{"$f":"SUM(I69:BG69)","v":35084},93,"N/A",2467,190,3098,1583,138,11,140,1188,556,1366,475,985,181,319,750,237,1077,0,216,141,771,593,554,921,248,5,532,520,128,226,940,470,0,319,616,2161,378,0,186,301,388,2492,662,68,1488,4548,89,23,246,null,4741,1044,0,3697,{"$f":"SUM(I69:BG69)","v":35084}]
[3,"20113","Arizona",6402301,6402301,5107496,1028366,222877,833,5001,"N/A",1066,49635,10189,1875,0,389,3732,2206,2199,2190,10035,5855,4526,1708,2134,844,0,1918,743,9396,3297,1226,3872,2431,1393,8756,228,3379,4610,3880,2548,1159,4682,3219,4613,3436,72,1774,1657,1680,12688,10577,0,2233,13940,70,6473,2510,null,43562,871,122,42569,222877]
[4,"20114","Arkansas",2906632,2906632,2421746,405831,69845,691,560,439,"N/A",4077,746,519,79,0,3067,1446,13,179,3684,1362,851,2008,213,2120,30,133,781,1881,232,1731,7314,713,332,641,52,341,775,674,1664,214,174,3761,632,567,0,235,0,6462,14767,0,0,1245,1477,24,687,252,null,9210,529,46,8635,69845]
[5,"20115","California",37222678,37222678,31213310,5271168,468428,2087,7358,35650,2648,"N/A",21245,3073,1302,3240,22094,13303,9864,4796,20834,4673,3324,2810,1201,3600,1658,7793,10244,12069,5687,2092,7677,2599,1955,36159,1222,8053,5904,25629,8708,1392,10474,5113,18165,8550,1103,5758,1004,8761,37087,8944,745,15753,36481,832,5668,2047,null,269772,1344,2817,265611,468428]
[6,"20116","Colorado",5048443,5048443,4048042,763233,202124,2340,3191,12338,1615,23234,"N/A",1567,501,298,8075,3250,1852,1578,6027,2116,3510,3718,1361,908,1358,3303,2157,3225,3055,879,4552,4079,4582,4061,489,2863,8797,3998,4756,2249,5527,3824,5543,3348,435,718,1340,3193,22390,3856,914,6281,5524,412,3995,2942,null,35044,476,57,34511,202124]
[7,"20117","Connecticut",3548667,3548667,3139496,316883,71502,101,180,1387,84,3699,1502,"N/A",62,607,4771,2000,587,133,1843,168,67,16,0,315,259,1267,8691,692,76,69,365,206,62,160,1221,3809,265,20015,1029,0,1383,217,117,3668,1488,997,0,123,1214,398,608,2555,2255,46,660,65,null,20786,2105,0,18681,71502]
[8,"20118","Delaware",897187,897187,775414,83156,33912,81,329,541,0,699,169,66,"N/A",154,810,639,201,441,34,210,0,7,305,0,0,4238,806,43,201,0,713,0,12,0,0,6297,0,3141,388,0,664,27,0,8571,131,153,0,221,883,475,0,1064,482,198,55,463,null,4705,1008,0,3697,33912]
[9,"20119","District of Columbia ",611608,611608,489659,66519,48066,13,135,43,81,3797,452,981,128,"N/A",1254,937,372,68,1397,128,241,6,297,0,0,14129,2048,1108,409,83,112,38,79,238,145,1035,0,2313,1716,285,306,0,51,1589,50,357,104,421,1083,75,445,7975,476,120,946,0,null,7364,0,0,7364,48066]
[10,"201110","Florida",18863948,18863948,15742168,2454255,498597,12635,7405,8451,3025,22420,9383,11704,1264,891,"N/A",38658,3639,312,19152,11472,1846,2661,5441,6094,4689,15410,13701,19640,4663,5175,7114,559,3857,3527,4324,25206,1376,59288,23983,514,18191,2600,3315,20821,5002,11953,716,10451,25532,2343,2019,16614,6339,4964,7412,846,null,168928,21611,2643,144674,498597]
[11,"201111","Georgia",9699859,9699859,8095407,1289450,271077,18799,1079,4292,2112,14949,2325,709,619,364,42666,"N/A",1006,126,6080,2442,950,4513,3686,6541,408,3708,4436,6992,1808,5380,2514,246,4144,774,132,8371,791,14454,19138,201,6863,1632,727,5791,337,16914,536,16898,15760,793,361,9438,3701,1340,2727,504,null,43925,1635,992,41298,271077]
[12,"201112","Hawaii",1357806,1357806,1160948,122727,57542,1268,844,2900,242,10173,950,731,784,222,3160,2519,"N/A",112,1884,402,478,125,18,179,106,341,92,1303,933,371,308,85,91,1548,107,564,354,4246,2307,32,970,685,2030,870,58,1681,0,636,3007,1040,0,2523,3790,312,147,14,null,16589,238,114,16237,57542]
[13,"201113","Idaho",1559637,1559637,1284530,208434,60336,263,4510,3543,224,9021,1813,0,0,0,1733,275,254,"N/A",390,296,318,479,120,51,0,0,396,615,566,62,384,1602,439,3581,129,84,141,419,263,1201,260,288,7170,343,0,55,842,296,1303,6059,0,905,8991,0,165,487,null,6337,249,34,6054,60336]
[14,"201114","Illinois",12718402,12718402,11076528,1353853,216204,2823,4119,7657,3185,13930,3271,1819,277,1440,17548,6042,1269,393,"N/A",23491,8420,2533,5569,1315,693,2565,3507,10274,4496,1521,13889,304,827,2454,590,3009,1573,6412,4057,105,8384,1002,792,3012,278,1582,1318,3223,11011,951,49,5233,3075,352,14507,58,null,71817,2387,76,69354,216204]
[15,"201115","Indiana",6437155,6437155,5478683,809158,127874,1562,371,3975,2016,7649,1930,1227,79,0,8595,2543,1057,1368,23071,"N/A",916,1321,10177,2241,275,480,952,7896,1168,469,1824,34,622,511,90,651,504,2518,3038,70,11109,844,505,3998,49,3306,235,3879,6326,123,530,1486,1028,216,2923,117,null,21440,132,121,21187,127874]
[16,"201116","Iowa",3027718,3027718,2573313,370554,70405,207,967,1411,433,3297,2891,424,0,0,707,1938,299,161,13725,349,"N/A",1776,387,228,26,487,466,1687,5634,408,3649,370,6490,2009,0,185,421,2361,1760,604,993,532,811,388,65,172,2842,623,2334,1482,38,720,856,115,2537,140,null,13446,57,44,13345,70405]
[17,"201117","Kansas",2833584,2833584,2372033,362782,83640,434,108,2028,998,4743,5030,412,74,128,1581,1146,287,264,2760,863,1715,"N/A",1167,519,481,3180,28,1947,679,1517,22033,270,1648,657,27,1189,769,780,1223,379,1616,5022,285,1494,180,1102,104,1066,6575,196,0,1986,772,0,893,1285,null,15129,775,253,14101,83640]
[18,"201118","Kentucky",4316297,4316297,3686232,505741,110031,925,0,1818,1058,2130,221,176,0,201,7400,2725,63,36,4273,11071,536,253,"N/A",1399,71,2076,1019,3178,475,1248,2793,216,471,1358,52,1289,553,2174,3916,117,19617,1256,459,1490,640,1387,0,16852,4661,140,151,5154,1121,1174,581,57,null,14293,192,0,14101,110031]
[19,"201119","Louisiana",4518629,4518629,3865118,538691,99138,3065,288,2010,2774,3957,1202,358,0,195,5193,4425,688,230,1189,1549,468,312,1520,"N/A",120,1221,439,1163,698,10255,1375,278,176,994,15,453,1028,1360,2134,277,2641,4235,1531,455,268,1573,37,2495,30292,179,87,2055,1075,110,339,357,null,15682,393,32,15257,99138]
[20,"201120","Maine",1315833,1315833,1120364,157102,33818,634,37,325,38,829,290,2481,238,239,4304,507,177,0,675,164,275,523,158,138,"N/A",52,4439,702,296,0,325,10,0,150,4302,694,144,2589,1439,19,483,25,471,915,234,587,42,394,1637,182,612,570,88,43,321,21,null,4549,65,0,4484,33818]
[21,"201121","Maryland",5759087,5759087,5008452,553895,153979,228,671,945,423,8595,1796,1608,6652,18492,7825,7113,1170,389,2392,1318,110,689,848,860,1526,"N/A",3470,2077,810,1109,1469,73,0,1105,232,9627,797,9222,6686,0,3396,845,276,14158,197,2882,0,1942,3619,223,40,22089,1525,2027,353,80,null,42761,779,133,41849,153979]
[22,"201122","Massachusetts",6515057,6515057,5658768,656441,139830,1201,225,1017,167,11556,1388,9445,399,676,11396,3264,733,412,2991,640,138,969,180,977,4006,2762,"N/A",2629,862,356,1261,596,637,163,12010,8332,199,19431,3964,61,1757,90,178,6538,10182,1621,44,371,5203,548,2246,2984,1673,911,441,0,null,60018,4413,294,55311,139830]
[23,"201123","Michigan",9766574,9766574,8340767,1242917,139158,3527,3456,3840,2054,7793,3425,1656,0,256,17712,4254,630,882,9897,7668,1709,1148,2578,955,599,1035,2861,"N/A",2671,715,2509,84,439,1215,73,1849,508,6087,3405,159,11224,917,647,2864,385,2185,571,3106,9935,642,0,2327,1430,417,4018,841,null,43732,908,478,42346,139158]
[24,"201124","Minnesota",5277329,5277329,4505462,646176,101029,123,893,2314,951,6638,2662,74,86,367,2820,840,901,402,8209,786,6175,606,755,573,321,424,970,5164,"N/A",549,1345,1457,1936,2682,21,631,540,2416,845,7574,1961,546,1800,870,0,447,5305,874,3062,919,177,1034,1413,92,19255,224,null,24662,54,35,24573,101029]
[25,"201125","Mississippi",2943021,2943021,2534036,332934,68511,8922,117,556,2315,4723,484,54,0,415,6152,3136,369,55,2068,611,650,66,1626,7139,0,265,1445,1610,614,"N/A",1581,0,118,84,65,269,1075,364,483,0,991,566,74,2568,41,398,6,7683,5243,332,0,1453,286,303,1136,0,null,7540,318,87,7135,68511]
[26,"201126","Missouri",5937896,5937896,4963040,801046,149439,1395,2043,2356,6168,8386,3144,1516,0,215,4513,2964,871,560,20161,4404,4811,20884,1993,1728,291,716,463,2830,2026,1641,"N/A",845,4860,1544,769,1114,1016,2904,3669,977,3240,6073,777,1810,359,267,361,2676,10293,1697,88,2684,2518,196,1503,1120,null,24371,709,222,23440,149439]
[27,"201127","Montana",987076,987076,828254,122210,33553,449,1118,1971,49,3033,2856,58,365,0,291,231,32,1543,765,646,417,845,0,0,71,57,10,353,969,0,158,"N/A",384,688,0,889,264,422,1173,360,321,96,1959,840,0,77,227,266,1329,1232,53,278,3835,14,146,2413,null,3059,353,0,2706,33553]
[28,"201128","Nebraska",1817126,1817126,1505191,253269,52070,169,721,1646,161,5124,3245,381,0,29,1105,434,275,506,1415,615,9575,3040,352,222,122,318,0,683,1455,424,1848,64,"N/A",240,0,119,242,544,829,292,268,1255,1556,252,0,243,2999,226,5343,734,0,615,835,24,560,965,null,6596,0,11,6585,52070]
[29,"201129","Nevada",2688336,2688336,2084668,480317,110345,280,597,10142,310,40114,2714,189,184,983,2923,1731,4093,3929,1668,855,114,602,628,78,49,931,256,1663,1055,203,335,1137,32,"N/A",0,2118,2136,1516,1333,0,1354,258,1691,570,86,165,588,96,7249,3365,0,1740,4680,0,2672,933,null,13006,153,127,12726,110345]
[30,"201130","New Hampshire",1305678,1305678,1141236,122129,37000,193,0,246,22,547,403,1617,20,68,1970,535,0,0,478,470,47,0,0,0,3080,222,15526,155,104,160,153,230,33,186,"N/A",294,186,1471,1297,47,248,0,198,1015,608,588,86,126,605,158,2138,880,428,0,0,162,null,5313,0,0,5313,37000]
[31,"201131","New Jersey",8719952,8719952,7825661,693380,140194,189,1198,3784,57,5986,2203,1924,2100,781,12907,4268,264,256,3690,718,332,317,102,871,624,5335,4675,1889,1261,510,583,49,312,899,499,"N/A",355,40815,2482,61,1121,773,360,19733,463,1586,0,1412,3801,256,0,4458,2454,1252,214,15,null,60717,4312,73,56332,140194]
[32,"201132","New Mexico",2055293,2055293,1753413,228218,62130,410,416,7444,682,7066,5525,0,0,212,2806,676,81,355,466,2030,0,1333,87,184,510,2277,252,908,438,556,1183,544,353,2099,114,245,"N/A",1445,522,264,1742,234,916,492,0,145,240,899,13633,303,71,425,924,0,340,283,null,11532,99,0,11433,62130]
[33,"201133","New York",19248685,19248685,17055260,1756105,282209,1812,6124,2821,1041,25761,3724,15123,1124,3702,29344,10584,1002,434,6914,2198,928,838,2414,1495,2915,5037,14646,3936,1824,401,1417,391,579,1785,2972,41450,461,"N/A",9336,374,5191,1425,2189,26596,1393,6947,112,2660,9151,773,3882,10800,2986,631,1878,688,null,155111,10582,254,144275,282209]
[34,"201134","North Carolina",9539412,9539412,8070238,1160510,265291,5420,3991,4286,327,15373,3919,1975,954,1135,28044,16192,1806,675,5971,3228,654,4995,1637,2936,824,10485,9053,7530,1294,1273,2638,563,1056,1048,2078,10374,1737,18321,"N/A",189,10187,1390,1175,9450,444,20427,565,6057,6621,961,212,27302,3295,2780,2291,153,null,43373,844,582,41947,265291]
[35,"201135","North Dakota",675161,675161,559906,79837,32510,97,393,1313,249,1356,1229,0,84,0,459,364,138,1209,571,130,208,75,0,422,50,10,369,328,12244,80,330,1227,218,845,0,183,99,264,900,"N/A",286,59,264,652,0,1,1293,113,1862,429,0,166,404,0,1398,139,null,2908,76,0,2832,32510]
[36,"201136","Ohio",11418944,11418944,9764366,1425709,191778,1567,1637,6763,1952,9032,2690,1189,263,587,16492,4290,1044,312,7027,11588,1146,657,12744,1872,0,4982,2101,14330,1788,691,2003,101,1176,1851,1992,3936,255,8784,4572,204,"N/A",2333,1326,14292,369,3826,34,6468,11987,691,68,5425,1979,7548,2534,1280,null,37091,1607,458,35026,191778]
[37,"201137","Oklahoma",3742698,3742698,3089041,528498,108878,591,1137,3770,6894,8233,3273,97,66,191,6056,3514,140,21,2179,2113,580,4626,1398,1934,271,432,160,1038,497,199,5781,803,1979,705,0,391,403,1858,1322,928,1608,"N/A",917,1116,152,2015,600,1700,31595,587,0,1013,1246,44,942,1763,null,16281,105,47,16129,108878]
[38,"201138","Oregon",3828714,3828714,3128121,549332,127906,758,1935,7911,988,34214,2110,949,251,349,3384,1946,2491,6236,1350,1371,659,1263,71,0,269,453,1423,1652,1413,7,1172,1079,324,7222,427,1322,537,2056,1099,313,949,2034,"N/A",1407,0,370,417,673,4498,3443,176,1179,21862,66,914,914,null,23355,4,549,22802,127906]
[39,"201139","Pennsylvania",12610486,12610486,11099077,1224564,234291,1332,759,2278,582,10672,2491,4150,5177,1401,19299,4627,495,236,3902,4086,1176,2323,4013,615,608,17751,6284,4406,853,1238,1761,338,582,1057,1326,36133,325,29436,11254,195,13075,283,1594,"N/A",799,3438,142,3742,7006,1246,446,8419,3688,4631,2426,195,null,52554,2723,166,49665,234291]
[40,"201140","Rhode Island",1040022,1040022,903786,101689,26769,0,0,214,0,1949,301,2613,0,0,2230,476,0,107,373,41,82,374,211,121,228,472,7715,178,27,0,109,0,0,0,941,1224,93,2776,259,0,60,0,57,1125,"N/A",223,0,210,207,181,621,485,262,199,2,23,null,7778,293,249,7236,26769]
[41,"201141","South Carolina",4624180,4624180,3899705,546666,157644,2999,2421,1971,1333,6592,1000,1752,841,589,15476,16355,712,55,2371,3249,1379,1885,2454,878,652,3807,730,4483,471,2163,1522,915,204,1017,372,4241,598,11317,23102,271,6327,1008,833,3523,453,"N/A",62,3324,8623,181,91,7879,2510,1680,341,632,null,20165,2166,203,17796,157644]
[42,"201142","South Dakota",814175,814175,688436,94655,27506,0,554,1422,659,1286,1021,0,0,0,101,69,0,186,267,285,4772,144,211,0,0,254,113,239,5342,129,354,232,1695,110,0,441,513,6,166,2060,84,40,15,57,7,529,"N/A",0,1156,560,0,79,557,0,481,1310,null,3578,0,0,3578,27506]
[43,"201143","Tennessee",6333466,6333466,5342978,794556,170969,9326,531,1346,7393,7130,1372,150,155,307,15491,17507,179,0,8593,5645,387,1805,13884,1901,9,1135,1690,5983,445,9172,3795,43,631,883,132,1396,381,4921,9353,50,5944,3166,726,3360,14,5531,181,"N/A",7009,200,38,6098,2852,1385,1213,131,null,24963,1083,59,23821,170969]
[44,"201144","Texas",25327104,25327104,20984855,3648260,514726,8747,6670,20073,16461,58992,19126,2927,884,2276,35777,17401,6106,4379,15064,10265,3236,12766,6616,25513,1357,9443,5035,15654,7691,6048,13473,537,3837,7793,459,7578,15225,26155,14956,809,12315,19302,3743,9107,1297,4075,1486,10788,"N/A",5234,349,13231,15325,663,5982,2500,null,179263,5225,710,173328,514726]
[45,"201145","Utah",2769627,2769627,2295961,373984,85217,486,2151,6585,422,18237,3986,562,0,132,1643,1052,1701,7538,1447,545,290,1146,611,494,0,342,959,1099,939,143,511,1241,195,4315,34,506,1707,1937,1653,2,2584,150,2037,1496,0,309,128,549,4507,"N/A",122,2413,4825,270,158,1058,null,14465,0,0,14465,85217]
[46,"201146","Vermont",621354,621354,537304,60719,20463,0,580,310,0,819,529,2105,107,27,366,101,143,0,386,258,0,7,627,41,322,361,2378,335,206,0,69,0,0,15,2244,962,56,3723,250,0,383,0,124,389,401,21,0,327,185,182,"N/A",740,156,53,137,38,null,2868,19,0,2849,20463]
[47,"201147","Virginia",7996552,7996552,6789620,889751,257130,4930,3202,4679,645,19371,4908,5376,961,6854,17773,8715,2917,434,4000,2703,1503,892,3630,2496,2855,22051,5386,7323,834,1682,2277,617,256,1717,1344,7327,1014,12455,22753,462,9570,853,3499,12009,1897,6612,908,7482,11655,1426,173,"N/A",4615,9041,858,190,null,60051,1222,124,58705,257130]
[48,"201148","Washington",6748474,6748474,5565069,919925,208507,1821,5266,12397,756,38421,3938,1026,0,358,6094,8705,5940,10895,2062,2303,1000,2820,1271,1016,1313,1899,1580,3720,1543,1110,3307,2125,673,4925,824,2006,1569,4512,3870,189,2686,765,29168,2296,463,1519,227,2342,15491,4789,119,4233,"N/A",157,1491,1507,null,54973,1083,362,53528,208507]
[49,"201149","West Virginia",1836614,1836614,1609110,172262,50068,221,598,50,225,1442,124,594,89,300,2949,1296,147,120,1331,210,0,0,515,326,45,7515,236,459,0,0,309,60,78,293,160,1431,0,2017,3865,0,8545,97,132,4205,284,1857,0,546,1574,114,23,5561,83,"N/A",42,0,null,5174,680,557,3937,50068]
[50,"201150","Wisconsin",5647213,5647213,4846550,675623,109439,708,432,4045,335,6637,2592,993,219,123,4338,1745,1108,566,25521,4017,3306,418,1040,850,12,147,733,5623,17927,983,2090,143,483,663,480,378,714,2213,2120,1383,1358,118,1057,1294,368,377,590,744,1984,890,342,2573,1555,1090,"N/A",14,null,15601,728,0,14873,109439]
[51,"201151","Wyoming",561389,561389,462808,66648,30651,51,761,369,174,2539,6905,11,0,0,1525,46,0,2140,450,6,342,286,83,114,0,0,152,849,357,70,241,1105,1784,427,0,7,76,113,395,237,22,462,960,284,13,219,1043,69,1398,2140,4,451,1803,0,168,"N/A",null,1282,0,0,1282,30651]
[52,"201152","Puerto Rico",3669195,3669195,3403602,238263,22649,35,378,229,0,207,0,1849,13,212,6614,247,0,13,624,784,0,38,0,0,0,70,1412,88,0,27,101,0,0,0,0,2150,51,2615,200,0,0,79,0,1978,490,3,113,224,444,0,0,1077,41,14,229,0,null,4681,"N/A2",0,4681,22649]
[null,null,"com porto rico",{"$f":"SUM(D68:D119)","v":311569514},311569514,264491527,38236964,7010065,{"$f":"SUM(I68:I119)","v":106841},{"$f":"SUM(J68:J119)","v":89228},212045,77226,562550,160623,93144,26644,49944,443816,249139,61940,57844,269632,144012,74516,94218,99256,86593,33729,165111,147281,186593,103253,68624,138505,31204,52809,115943,43277,218519,61482,380415,225347,26563,206049,81088,109795,217105,31555,121429,29496,154467,405283,73211,18172,230304,190685,45970,105599,31991,null,1830958,76218,13131,1741609]
[null,null,null,null,null,null,null,null,{"$f":"SUM(I120:BG120)","v":7010065}]
[null,null,2012,null,null,null,null,"Diferente state",null,"Different state of residence 1 year ago (cont.)",null,null,null,null,"Different state of residence 1 year ago (cont.)",null,null,null,null,"Different state of residence 1 year ago (cont.)",null,null,null,null,"Different state of residence 1 year ago (cont.)",null,null,null,null,"Different state of residence 1 year ago (cont.)",null,null,null,null,"Different state of residence 1 year ago (cont.)",null,null,null,null,"Different state of residence 1 year ago (cont.)",null,null,null,null,"Different state of residence 1 year ago (cont.)",null,null,null,null,"Different state of residence 1 year ago (cont.)",null,null,null,null,"Different state of residence 1 year ago (cont.)",null,null,null,null,null,"Abroad 1 year ago--"]
[null,null,null,null,null,null,null,null,1,2,3,4,5,6,7,8,9,10,11,12,13,14,15,16,17,18,19,20,21,22,23,24,25,26,27,28,29,30,31,32,33,34,35,36,37,38,39,40,41,42,43,44,45,46,47,48,49,50,51]
[null,null,null,null,null,null,null,null,{"$f":"CONCATENATE($C$122,I123)","v":"20121"},{"$f":"CONCATENATE($C$122,J123)","v":"20122"},"20123","20124","20125","20126","20127","20128","20129","201210","201211","201212","201213","201214","201215","201216","201217","201218","201219","201220","201221","201222","201223","201224","201225","201226","201227","201228","201229","201230","201231","201232","201233","201234","201235","201236","201237","201238","201239","201240","201241","201242","201243","201244","201245","201246","201247","201248","201249","201250","201251"]
[null,null,"Current residence in --","Population 1 year and over",2012,"Same residence 1 year ago","Different residence, same state 1 year ago",null,"Alabama","Alaska","Arizona","Arkansas","California","Colorado","Connecticut","Delaware","District of Columbia ","Florida","Georgia","Hawaii","Idaho","Illinois","Indiana","Iowa","Kansas","Kentucky","Louisiana","Maine","Maryland","Massachusetts","Michigan","Minnesota","Mississippi","Missouri","Montana","Nebraska","Nevada","New Hampshire","New Jersey","New Mexico","New York","North Carolina","North Dakota","Ohio","Oklahoma","Oregon","Pennsylvania","Rhode Island","South Carolina","South Dakota","Tennessee","Texas","Utah","Vermont","Virginia","Washington","West Virginia","Wisconsin","Wyoming",null,"Total","Puerto Rico","U.S. Island Area","Foreign Country"]
[null,2012,"TOTAL USA - sem PR",{"$f":"SUM(D127:D177)","v":310212755},{"$f":"SUM(E127:E177)","v":310212755},{"$f":"SUM(F127:F177)","v":263612596},37696597,7070345,109210,84068,206842,64967,566986,161530,87023,25149,59513,428325,252262,61509,55191,277953,144597,73325,93134,103004,95956,38574,157664,158156,175733,115946,66947,142754,33832,48816,98882,38696,219202,63921,405864,238663,23959,199202,102572,108182,237156,30498,127418,22534,163843,402187,82165,20056,238540,180462,47425,97724,32228,null,1833217,74500,15876,1742841,7070345]
[1,{"$f":"CONCATENATE($B$126,A127)","v":"20121"},"Alabama",4764428,{"$f":"+F127+G127+H127+BI127","v":4764428},4054260,590326,{"$f":"SUM(I127:BG127)","v":104600},"N/A",1004,962,660,3077,1386,284,42,162,11244,19920,627,493,2722,1347,345,865,2495,3104,67,1513,334,2298,752,4952,1555,101,151,1009,161,1702,459,2709,5133,228,1411,194,200,1837,0,2811,518,10539,7468,579,0,3170,1034,128,760,88,null,15242,619,0,14623,{"$f":"SUM(I127:BG127)","v":104600},{"$f":"SUM(BM127:BM178)","v":7090389}]
[2,{"$f":"CONCATENATE($B$126,A128)","v":"20122"},"Alaska",721186,{"$f":"+F128+G128+H128+BI128","v":721186},592551,90613,{"$f":"SUM(I128:BG128)","v":33415},1097,"N/A",1520,196,3494,556,0,0,356,1991,928,1376,538,58,260,13,221,161,120,66,508,297,563,192,56,819,371,1195,803,118,116,263,736,920,264,1316,335,3174,255,0,384,99,451,1488,330,79,1265,3725,0,206,136,null,4607,25,272,4310,{"$f":"SUM(I128:BG128)","v":33415}]
[3,"20123","Arizona",6468907,6468907,5242674,953789,232457,1331,3717,"N/A",1214,44889,13790,417,246,36,5553,2263,2491,2934,10744,2930,2702,2498,1328,724,616,3007,1961,9598,8570,293,2595,1118,2293,6712,510,2564,6946,7402,2721,877,7906,1626,8587,4280,614,1070,1472,5075,14788,5916,207,2763,13247,765,3765,2786,null,39987,1791,447,37749,232457]
[4,"20124","Arkansas",2912680,2912680,2453347,373046,76948,374,855,1677,"N/A",3525,603,185,0,205,2682,1525,0,0,3576,1172,409,1033,1310,3953,17,169,254,1283,295,3689,9105,258,166,121,0,157,547,2262,3057,0,1135,9938,193,516,59,52,673,4195,11767,269,0,1159,251,84,695,1498,null,9339,0,4,9335,76948]
[5,"20125","California",37572738,37572738,31777868,5046618,493641,2509,6995,38916,3472,"N/A",15150,6764,474,3199,21004,10790,11906,5331,21251,5891,2284,2790,3763,5180,1256,7902,14356,8921,8539,2556,6729,3060,3302,27968,1327,12057,5921,31261,11195,1827,10653,6671,22724,10466,1648,4110,826,5802,43005,12172,544,15625,34569,1413,5681,1886,null,254611,2323,1483,250805,493641]
[6,"20126","Colorado",5123944,5123944,4131357,751921,205060,3108,3457,10589,1043,22152,"N/A",1317,70,488,8615,5834,2536,2660,6374,4336,2776,5283,2500,5048,20,2844,5939,3343,2992,835,3771,2021,4472,3789,679,2464,6520,7250,4378,1918,4533,4582,2419,3950,137,2383,756,2535,17355,6398,503,3796,4853,837,3000,5602,null,35606,1144,387,34075,205060]
[7,"20127","Connecticut",3555319,3555319,3114940,334918,80311,46,439,3167,200,3161,367,"N/A",22,288,6578,1702,408,97,912,53,0,0,124,909,1224,1752,8743,753,605,276,358,50,45,172,1009,5665,444,23310,3379,0,287,415,35,2214,1558,940,0,260,3279,45,709,1729,1593,174,711,104,null,25150,3228,213,21709,80311]
[8,"20128","Delaware",906576,906576,782216,86003,34757,119,692,188,0,2221,0,1489,"N/A",11,715,179,0,32,567,62,30,113,0,178,0,5649,157,227,351,58,80,0,91,572,99,5846,85,3566,1349,0,191,0,0,6828,135,298,0,344,133,166,0,1746,29,161,0,0,null,3600,56,0,3544,34757]
[9,"20129","District of Columbia ",624847,624847,500267,61992,53830,79,1247,902,35,4999,677,618,78,"N/A",1705,1079,38,46,795,469,133,164,112,283,194,14120,1524,944,393,44,337,0,172,42,197,1451,116,3085,985,0,651,0,157,1494,635,150,0,577,1473,116,267,9537,481,293,721,215,null,8758,0,0,8758,53830]
[10,"201210","Florida",19114620,19114620,16032617,2380288,537148,18599,10704,6473,3321,20386,8766,8975,1099,780,"N/A",42754,3177,1268,22565,13803,3864,5661,6912,5550,7348,10442,15159,23400,5460,5490,10666,1758,945,1241,2362,27606,2853,53009,23133,239,22927,3142,2919,25659,3050,11366,1070,16275,28564,2499,2747,25697,4943,3533,6216,773,null,164567,21638,2328,140601,537148]
[11,"201211","Georgia",9796547,9796547,8231384,1236302,277466,13864,2654,6657,1041,14174,4710,1829,226,1352,42870,"N/A",1409,936,7143,5972,1687,1497,6172,4100,222,3619,4153,9949,2237,3280,3377,251,1283,3783,15,4920,915,13957,16009,207,7501,3299,453,9076,440,18611,257,17606,16198,20,84,10702,1965,1237,3441,106,null,51395,1730,853,48812,277466]
[12,"201212","Hawaii",1374852,1374852,1164145,134827,55145,608,1417,1865,24,9756,1216,191,278,230,2780,1448,"N/A",404,318,292,84,1135,485,207,91,2491,1266,321,192,44,944,131,75,760,85,410,284,2382,2241,0,884,1095,1763,1087,106,644,459,1314,3300,2183,0,1393,5920,197,295,50,null,20735,336,631,19768,55145]
[13,"201213","Idaho",1573036,1573036,1296975,210151,59283,575,1198,2424,291,10280,1186,44,120,116,2014,583,206,"N/A",532,283,90,63,83,54,0,107,338,683,637,87,214,3800,35,2535,0,214,675,938,817,0,1018,93,4963,169,0,205,118,1957,1352,6617,0,269,10398,0,225,677,null,6627,136,303,6188,59283]
[14,"201214","Illinois",12725119,12725119,11009321,1441191,208755,883,2250,7139,1587,14940,3036,955,234,1066,12687,8745,869,1384,"N/A",16907,8529,2009,2923,1229,526,1865,3296,12583,6537,2744,13264,228,1302,1478,283,2366,1359,7561,3761,196,6872,1491,954,4588,462,1583,394,4648,16780,1154,156,4311,2704,1221,14414,302,null,65852,2049,149,63654,208755]
[15,"201215","Indiana",6457067,6457067,5493090,805228,134137,1625,479,2763,564,6033,1225,823,639,1045,11472,2258,856,186,28436,"N/A",1678,1624,11177,736,0,1050,837,11017,1543,1948,4526,134,591,1011,0,1537,219,2316,2665,113,11235,1198,387,2419,0,1414,111,3547,4490,105,0,1932,258,507,1727,1681,null,24612,136,0,24476,134137]
[16,"201216","Iowa",3035469,3035469,2585979,362938,75760,503,951,1590,451,3268,3252,112,0,151,4335,596,521,290,11969,1716,"N/A",918,819,763,78,419,585,946,7505,751,4168,452,7698,681,56,1018,114,1230,734,833,1127,1465,348,451,0,943,1158,1148,3553,886,0,268,919,22,3607,392,null,10792,786,0,10006,75760]
[17,"201217","Kansas",2848708,2848708,2361899,381695,88284,853,333,3094,2158,5411,3746,210,0,456,3118,1896,149,456,1702,1679,1527,"N/A",617,438,211,282,187,1125,682,452,21022,300,4126,851,0,267,1029,571,813,261,1310,8408,848,918,18,556,154,1542,8468,97,70,1705,3265,139,486,278,null,16830,82,605,16143,88284]
[18,"201218","Kentucky",4328626,4328626,3676472,521511,112787,4137,304,1103,518,3415,712,246,706,254,9232,4173,647,50,4445,12203,238,602,"N/A",666,46,1120,419,7302,605,646,2381,0,723,301,84,496,554,5239,3643,122,17041,577,298,2226,0,1347,0,10064,3345,464,45,3319,1988,3346,1395,0,null,17856,170,0,17686,112787]
[19,"201219","Louisiana",4545914,4545914,3912023,528406,91215,2329,403,2021,3645,5139,1433,164,0,596,6534,4478,378,265,1229,1359,544,420,1649,"N/A",251,642,549,1080,330,6791,1591,428,745,931,11,975,150,2786,2284,64,1115,2159,195,1239,737,1914,0,2348,24488,277,45,1857,1581,238,682,146,null,14270,655,267,13348,91215]
[20,"201220","Maine",1315586,1315586,1132344,151438,27523,129,38,230,0,1610,314,1468,234,32,2926,511,0,143,195,0,7,277,482,15,"N/A",325,3887,116,430,79,69,0,82,35,3655,405,272,2519,1112,0,628,79,215,976,1024,173,0,985,496,200,349,573,118,51,0,59,null,4281,38,0,4243,27523]
[21,"201221","Maryland",5816472,5816472,5068457,549973,154983,1261,1947,760,136,8614,1071,881,4100,21213,9610,4610,610,429,3621,1210,569,1726,715,606,332,"N/A",3977,2167,1422,581,256,0,132,330,1124,6260,638,11736,7507,116,2522,463,378,15485,82,2297,0,1800,5612,1061,589,20579,1431,1957,460,0,null,43059,294,116,42649,154983]
[22,"201222","Massachusetts",6580641,6580641,5752166,626380,142577,636,890,1972,394,12770,980,10525,506,379,12890,2789,1108,188,2886,677,151,565,52,1556,3907,2381,"N/A",1337,966,155,453,49,182,787,13331,8046,521,19467,2514,81,1829,297,1528,8236,6863,2477,194,823,3694,1027,2534,4098,1653,385,584,264,null,59518,4056,121,55341,142577]
[23,"201223","Michigan",9778980,9778980,8330990,1268105,133981,2341,1152,7168,906,8085,2363,798,114,274,13146,4270,291,242,10047,10976,993,805,3409,1284,261,2201,1720,"N/A",1127,922,2206,218,113,1354,446,1617,1318,5731,3912,265,11318,705,811,2739,68,1822,66,3259,8638,819,60,3057,2146,353,4768,1277,null,45904,782,422,44700,133981]
[24,"201224","Minnesota",5315228,5315228,4536303,653012,101042,1299,523,3065,375,8086,3565,696,0,310,2372,2235,1277,575,5896,2026,7220,924,57,791,187,1841,814,2212,"N/A",202,1709,1257,992,932,0,1038,322,1849,1745,6672,2635,1212,781,1106,299,1705,3442,1738,4001,429,77,1037,1685,0,17618,213,null,24871,134,234,24503,101042]
[25,"201225","Mississippi",2947696,2947696,2529377,339807,73500,5141,0,710,2680,4371,799,106,0,97,4676,2669,184,586,2703,1200,160,400,446,8588,163,379,67,1768,568,"N/A",2634,166,138,526,60,2127,86,1492,1709,98,896,562,465,613,185,596,79,11643,7230,454,0,1929,433,0,611,307,null,5012,81,59,4872,73500]
[26,"201226","Missouri",5951913,5951913,4965459,801093,162930,1333,2186,2297,9434,10717,3798,410,234,144,8374,3451,2114,596,22001,4184,5956,20218,2291,1178,996,1246,810,2964,2798,1110,"N/A",511,1999,836,35,960,451,2834,3988,636,3557,5298,1186,1535,361,2856,527,3122,9278,3287,318,2609,2312,148,2636,810,null,22431,826,308,21297,162930]
[27,"201227","Montana",995544,995544,829489,126463,37690,31,726,1548,63,5428,2135,0,0,0,1875,292,556,3385,542,163,415,224,367,0,225,33,97,822,481,32,447,"N/A",108,968,115,156,259,482,1082,977,402,1018,2950,457,0,230,191,45,1393,260,87,156,4783,0,750,934,null,1902,0,64,1838,37690]
[28,"201228","Nebraska",1829420,1829420,1540361,237937,43266,245,626,2406,363,3438,2023,0,0,0,1368,786,165,315,1193,290,6815,3103,131,411,68,129,195,258,1489,176,2223,108,"N/A",233,0,524,158,318,874,497,563,587,106,702,0,456,2507,232,3130,229,79,1076,1327,111,316,917,null,7856,0,0,7856,43266]
[29,"201229","Nevada",2725280,2725280,2105070,481496,124285,761,2161,8748,353,49978,6402,143,373,468,3381,745,2053,1503,2822,362,714,1202,952,421,209,934,318,1235,1157,783,694,1086,714,"N/A",175,912,1138,3521,767,702,1407,1520,3101,1601,336,480,0,1699,5484,4605,121,1135,2997,100,1046,766,null,14429,237,412,13780,124285]
[30,"201230","New Hampshire",1309203,1309203,1127376,125118,50484,0,437,440,0,1514,572,1345,0,101,2746,470,43,20,673,297,53,102,284,7,6118,33,18990,426,0,0,289,0,110,0,"N/A",591,223,2905,1609,0,324,186,208,890,1248,323,0,77,2150,557,2960,660,113,80,239,71,null,6225,75,18,6132,50484]
[31,"201231","New Jersey",8772744,8772744,7929570,655465,130223,779,359,1328,57,4330,380,3466,1921,840,10649,3002,22,113,2052,1039,357,426,631,339,430,3474,4907,324,570,106,384,67,35,908,126,"N/A",45,40495,3236,55,1452,1540,760,23597,429,2372,581,1400,2509,425,35,5024,1847,297,680,23,null,57486,2574,38,54874,130223]
[32,"201232","New Mexico",2060595,2060595,1769341,226243,54693,787,320,6391,410,4536,4780,280,100,25,4707,192,168,355,790,660,384,672,159,790,57,505,303,602,284,451,1216,139,194,604,268,252,"N/A",1111,335,41,1178,1076,932,822,0,325,509,338,11955,1382,81,1560,1251,0,321,95,null,10318,429,159,9730,54693]
[33,"201233","New York",19352153,19352153,17202134,1723117,270053,1364,4002,4146,247,24623,3596,14595,477,3936,27392,7592,1598,607,8017,3040,955,1437,1753,1083,1345,7321,15073,5191,1059,773,3310,421,78,600,2760,42574,646,"N/A",10544,77,4625,1327,1055,22895,3222,5952,0,1279,11231,622,2764,7939,2614,921,979,396,null,156849,7321,814,148714,270053]
[34,"201234","North Carolina",9640490,9640490,8167830,1149080,273149,4329,1458,3493,861,13883,4790,4914,2180,1801,26365,16823,1566,334,6378,4532,775,1595,1531,919,1259,9005,3710,6161,1523,2377,2623,244,628,1627,754,11468,1138,19891,"N/A",206,9337,1263,1333,12179,290,25532,351,9230,12638,1189,445,26759,5915,2677,2266,604,null,50431,2025,674,47732,273149]
[35,"201235","North Dakota",689838,689838,563978,84294,38213,83,70,1571,0,999,546,65,0,70,950,98,160,540,799,55,458,161,22,18,98,232,187,757,15257,72,1490,1776,950,854,0,140,161,331,231,"N/A",6,280,724,114,244,14,1754,746,1414,43,758,403,1604,0,543,365,null,3353,0,28,3325,38213]
[36,"201236","Ohio",11414635,11414635,9735390,1440815,196391,3705,2207,4929,884,8995,3180,1355,1079,985,16366,8052,1198,412,9510,13534,1039,1166,13227,2214,1189,5026,2189,16336,1122,1017,3026,276,1052,907,189,4703,1361,8732,5498,453,"N/A",858,432,14147,435,2445,47,3542,11760,197,364,3193,2862,7820,974,202,null,42039,1403,0,40636,196391]
[37,"201237","Oklahoma",3762311,3762311,3107367,531347,108972,1030,1279,2974,5777,8950,4717,0,380,151,5011,2581,189,905,1100,1490,1088,7065,1354,2562,167,750,1233,1347,906,1850,5210,798,300,1101,549,1523,1244,1981,1961,308,1148,"N/A",1261,494,0,569,108,2471,25508,2588,197,1749,1574,368,1061,45,null,14625,0,257,14368,108972]
[38,"201238","Oregon",3857465,3857465,3158450,560673,118925,373,2513,7954,165,31862,4472,381,0,696,1660,1032,2501,5093,1676,1380,834,556,202,227,446,457,760,570,1792,186,403,2192,570,5935,39,385,920,2379,1482,42,1411,725,"N/A",904,177,461,119,802,3347,4793,367,676,21224,593,426,765,null,19417,152,477,18788,118925]
[39,"201239","Pennsylvania",12630082,12630082,11107110,1252378,215500,1926,1658,3529,573,7772,2574,3311,4814,2921,14631,4337,245,359,3749,1599,125,967,1233,694,988,17529,5900,2642,1169,55,1171,135,214,1600,1138,33791,1001,32898,6380,166,14319,378,234,"N/A",771,3023,159,1273,6768,1276,1012,11960,1787,6762,1550,434,null,55094,7847,224,47023,215500]
[40,"201240","Rhode Island",1040527,1040527,899551,101165,33446,20,0,93,0,2146,332,4170,0,313,2752,168,120,0,385,0,0,27,286,24,279,482,11253,230,131,0,210,0,188,25,611,1219,36,3603,478,0,63,0,139,735,"N/A",481,0,120,823,0,53,1008,287,0,135,21,null,6365,116,0,6249,33446]
[41,"201241","South Carolina",4668886,4668886,3929626,564350,156705,1665,1244,2222,839,5979,1915,1590,697,435,11552,18570,638,198,2125,3802,643,1064,1924,2709,2077,3565,2313,2966,757,1407,1884,93,158,1025,917,6517,1052,10746,24764,656,4388,555,255,6497,538,"N/A",816,3550,5351,566,298,9377,1629,1345,832,0,null,18205,1070,0,17135,156705]
[42,"201242","South Dakota",821669,821669,676014,115606,26051,0,855,435,227,1494,1744,2,0,0,970,122,8,78,74,210,2441,403,0,0,0,60,61,892,3568,34,474,248,2175,135,0,0,175,371,240,1725,64,21,667,515,0,158,"N/A",507,1715,388,5,340,1026,131,314,979,null,3998,134,0,3864,26051]
[43,"201243","Tennessee",6378278,6378278,5396833,783077,177098,12116,1281,2250,3306,8396,2473,936,176,180,15641,16012,1058,787,7094,5591,617,2630,13202,2452,1040,1743,1525,4507,1178,10568,2694,308,432,735,271,783,751,6279,5904,7,6200,2495,1080,3329,26,4300,0,"N/A",8716,784,133,8008,1876,3248,1622,358,null,21270,717,28,20525,177098]
[44,"201244","Texas",25711791,25711791,21354247,3656070,507752,9993,6759,18908,13781,62702,16616,2769,181,1189,31259,20362,5040,2387,19672,8264,4934,12699,6040,29348,1293,4969,4813,9501,2803,6402,12319,1813,4794,8266,761,6797,16762,20274,22660,989,8728,26284,3827,10449,1763,4470,1264,10368,"N/A",4610,113,17734,11630,1729,4192,2472,null,193722,4435,1455,187832,507752]
[45,"201245","Utah",2805440,2805440,2324019,373980,87870,126,2819,7966,361,15286,5350,142,0,0,2428,1142,1436,5129,1588,475,2791,398,217,345,380,613,1503,1670,385,284,1553,1057,489,5391,507,437,686,2129,842,175,1875,1338,4089,944,351,60,47,863,3605,"N/A",39,1369,3529,0,1445,2216,null,19571,239,0,19332,87870]
[46,"201246","Vermont",620224,620224,532237,61242,24431,16,93,127,0,1112,382,1626,0,116,966,56,6,0,230,68,30,0,1243,73,883,862,3318,284,315,0,23,147,0,17,2893,833,74,4780,328,0,214,11,26,935,341,124,39,193,493,81,"N/A",728,98,0,151,96,null,2314,0,45,2269,24431]
[47,"201247","Virginia",8085389,8085389,6857430,915242,250653,2515,1906,2420,445,14780,5352,2725,2279,10964,19574,9535,3823,652,7089,2663,221,1144,3908,1638,1144,23925,3767,2982,2294,1344,1914,658,357,973,535,9073,947,15893,25575,852,5622,2810,1541,14190,1605,7936,35,6189,12944,2092,423,"N/A",4160,3839,1258,143,null,62064,516,899,60649,250653]
[48,"201248","Washington",6815763,6815763,5648199,904695,215494,1507,4328,8362,1413,45597,5195,2901,100,773,9370,6363,5239,10604,4298,1089,1159,2544,1368,1646,532,1191,2911,3470,2703,615,2802,2919,682,5671,309,2300,872,5562,4088,217,3192,1223,25525,3397,97,2727,94,3206,14196,5298,223,3839,"N/A",215,1168,394,null,47375,1025,1044,45306,215494]
[49,"201249","West Virginia",1837518,1837518,1613322,174112,47125,477,306,79,0,1231,104,143,674,294,1919,1108,166,181,220,328,68,39,2249,90,35,5352,164,778,20,0,59,0,0,229,129,1213,81,1721,4683,175,6757,520,118,5208,0,1098,36,1061,622,0,54,6317,297,"N/A",470,252,null,2959,79,0,2880,47125]
[50,"201250","Wisconsin",5660677,5660677,4849945,693737,99192,323,236,3257,253,5347,1600,657,296,15,4937,970,333,360,22285,2480,4161,1160,635,598,233,1306,489,3917,18965,238,1263,784,324,1163,3,606,526,2033,2939,284,2610,289,945,1563,144,1053,329,1051,2765,900,62,1267,1208,0,"N/A",30,null,17803,975,38,16790,99192]
[51,"201251","Wyoming",569734,569734,459226,77324,31149,260,590,2014,244,2035,5599,0,0,0,733,166,0,745,905,179,259,539,4,88,0,294,548,965,290,136,244,1901,1216,355,0,121,604,231,459,338,819,964,893,230,0,122,1175,4,1427,1710,0,138,1323,0,282,"N/A",null,2035,16,0,2019,31149]
[52,"201252","Puerto Rico",3628402,3628402,3366593,238042,20044,8,57,54,93,519,0,370,0,0,4192,232,110,0,1021,121,0,143,37,59,0,108,2258,435,0,0,0,0,0,0,0,1922,28,2314,638,0,328,0,0,2313,624,4,0,15,360,0,0,684,0,8,989,0,null,3723,"N/A2",0,3723,20044]
[null,null,"com porto  rico",{"$f":"SUM(D127:D178)","v":313841157},313841157,266979189,37934639,7090389,{"$f":"SUM(I127:I178)","v":109218},{"$f":"SUM(J127:J178)","v":84125},206896,65060,567505,161530,87393,25149,59513,432517,252494,61619,55191,278974,144718,73325,93277,103041,96015,38574,157772,160414,176168,115946,66947,142754,33832,48816,98882,38696,221124,63949,408178,239301,23959,199530,102572,108182,239469,31122,127422,22534,163858,402547,82165,20056,239224,180462,47433,98713,32228,null,1836940,74500,15876,1746564,7090389,null,null,null,"maior"]
[null,null,null,null,null,null,null,null,null,null,null,null,null,null,null,null,null,null,null,null,null,null,null,null,null,null,null,null,null,null,null,null,null,null,null,null,null,null,null,null,null,null,null,null,null,null,null,null,null,null,null,null,null,null,null,null,null,null,null,null,null,null,null,null,null,null,null,null,{"$f":"LARGE(I186:BG186,1)","v":20303.333333333332},{"$f":"LARGE(J186:BI186,1)","v":20303.333333333332},{"$f":"HLOOKUP(BR184,I182:BG237,1,FALSE)","v":{"$error":"#N/A"}}]
[null,null,9999,null,null,null,null,"Different state of residence 1 year ago",null,"Different state of residence 1 year ago (cont.)",null,null,null,null,"Different state of residence 1 year ago (cont.)",null,null,null,null,"Different state of residence 1 year ago (cont.)",null,null,null,null,"Different state of residence 1 year ago (cont.)",null,null,null,null,"Different state of residence 1 year ago (cont.)",null,null,null,null,"Different state of residence 1 year ago (cont.)",null,null,null,null,"Different state of residence 1 year ago (cont.)",null,null,null,null,"Different state of residence 1 year ago (cont.)",null,null,null,null,"Different state of residence 1 year ago (cont.)",null,null,null,null,"Different state of residence 1 year ago (cont.)",null,null,null,null,null,"Abroad 1 year ago--"]
[null,null,null,null,null,null,null,null,1,2,3,4,5,6,7,8,9,10,11,12,13,14,15,16,17,18,19,20,21,22,23,24,25,26,27,28,29,30,31,32,33,34,35,36,37,38,39,40,41,42,43,44,45,46,47,48,49,50,51,52,null,52]
[null,null,null,null,null,null,null,null,{"$f":"CONCATENATE($C$181,I182)","v":"99991"},{"$f":"CONCATENATE($C$181,J182)","v":"99992"},"99993","99994","99995","99996","99997","99998","99999","999910","999911","999912","999913","999914","999915","999916","999917","999918","999919","999920","999921","999922","999923","999924","999925","999926","999927","999928","999929","999930","999931","999932","999933","999934","999935","999936","999937","999938","999939","999940","999941","999942","999943","999944","999945","999946","999947","999948","999949","999950","999951","999952"]
[null,"Média dos 3 Anos","Current residence in --","Population 1 year and over","Population 1 year and over","Same house 1 year ago","Same state of residence 1 year ago","Total","Alabama","Alaska","Arizona","Arkansas","California","Colorado","Connecticut","Delaware","District of Columbia ","Florida","Georgia","Hawaii","Idaho","Illinois","Indiana","Iowa","Kansas","Kentucky","Louisiana","Maine","Maryland","Massachusetts","Michigan","Minnesota","Mississippi","Missouri","Montana","Nebraska","Nevada","New Hampshire","New Jersey","New Mexico","New York","North Carolina","North Dakota","Ohio","Oklahoma","Oregon","Pennsylvania","Rhode Island","South Carolina","South Dakota","Tennessee","Texas","Utah","Vermont","Virginia","Washington","West Virginia","Wisconsin","Wyoming","Puerto Rico","Total","Puerto Rico","U.S. Island Area","Foreign Country"]
[null,9999,"TOTAL USA - sem PR",{"$f":"+(D8+D67+D126)/3","v":307913893.66666669},307913893.66666669,261084289.66666666,38092727.666666664,6933663.333333333,105079,89203.333333333328,198475.33333333334,68819,567772.33333333337,154257.66666666666,89226,27278.333333333332,55099,431126.66666666669,248715.33333333334,57555.666666666664,55381.333333333336,274846.66666666669,139331.66666666666,71587.666666666672,92665,98419.666666666672,90226.666666666672,34837.333333333336,160857,149392.33333333334,180148.33333333334,107988,67969,143071,33635.333333333336,{"$f":"+(AJ8+AJ67+AJ126)/3","v":48385.333333333336},108078,40124,209847.66666666666,58596.666666666664,382267.66666666669,223611.66666666666,24990.666666666668,197754.66666666666,91399,106054,220697.66666666666,28837,122137.66666666667,26610.666666666668,153740.33333333334,406222.33333333331,76972.333333333328,18869.333333333332,233256.33333333334,179089.33333333334,47576.666666666664,104778,{"$f":"+(BG8+BG67+BG126)/3","v":30801.666666666668},70199,1803213,{"$f":"+(BJ8+BJ67+BJ126)/3","v":70201},15391.333333333334,1717620.6666666667,null,"In","Out"]
[1,{"$f":"CONCATENATE($B$185,A186)","v":"99991"},"Alabama",{"$f":"+(D9+D68+D127)/3","v":4746405},{"$f":"+(E9+E68+E127)/3","v":4746405},4021952.3333333335,599694.66666666663,{"$f":"+(H9+H68+H127)/3","v":110349.66666666667},0,1929.3333333333333,1105,1261,3431,1004,1219.6666666666667,361.66666666666669,257.33333333333331,15456.333333333334,20303.333333333332,717.66666666666663,311.33333333333331,4072,2242,348,785.33333333333337,2382.6666666666665,2472.6666666666665,263.33333333333331,1278.3333333333333,293.66666666666669,2476.3333333333335,488.33333333333331,5376.666666666667,1338,215.66666666666666,{"$f":"+(AJ9+AJ68+AJ127)/3","v":363.33333333333331},510.33333333333331,75,1351.3333333333333,409.33333333333331,2501,3400.3333333333335,227,2076.3333333333335,682.33333333333337,284.66666666666669,1463,1E-4,2405,213,8886,7313.666666666667,738.33333333333337,22,3531.6666666666665,1608.6666666666667,78,777.33333333333337,41.333333333333336,472,14408.333333333334,472,60.333333333333336,13876,null,5,9]
[2,{"$f":"CONCATENATE($B$185,A187)","v":"99992"},"Alaska",712040.66666666663,712040.66666666663,576479.66666666663,95590.333333333328,34941.666666666664,555.66666666666663,0,1780.3333333333333,144.33333333333334,3499.3333333333335,1356.3333333333333,46,3.6666666666666665,170,1831.3333333333333,911.66666666666663,1482.3333333333333,636,477,150,198,359,612.66666666666663,432.33333333333331,213.33333333333334,476,181.66666666666666,752.33333333333337,438.33333333333331,291,580,411.66666666666669,{"$f":"+(AJ10+AJ69+AJ128)/3","v":471.66666666666669},525,318,219,303.33333333333331,643.66666666666663,696,111,597,802,2376,253,2.0000000000000001E-4,230.33333333333334,310.33333333333331,438.66666666666669,2701,755.33333333333337,166.66666666666666,1155.6666666666667,3564.6666666666665,29.666666666666668,129,154.33333333333334,363,5029,362.66666666666669,548.66666666666663,4117.666666666667,null,6,10]
[3,"99993","Arizona",{"$f":"+(D11+D70+D129)/3","v":6401331.333333333},6401331.333333333,5139724,994715.33333333337,226019.66666666666,860,3942.3333333333335,0,989.66666666666663,47229.333333333336,10555.333333333334,923.66666666666663,328,141.66666666666666,5665.666666666667,2910,2218.6666666666665,2423.6666666666665,11009.666666666666,3825,3412,2047,1722.3333333333333,1194,285.66666666666669,2069.6666666666665,1384.3333333333333,8449.3333333333339,5762.666666666667,597,3678,1630.6666666666667,{"$f":"+(AJ11+AJ70+AJ129)/3","v":1812},8603.3333333333339,267.33333333333331,2575,5325,5966.666666666667,3244,954,5937.666666666667,2585,6210,4417,363,1718,1493.3333333333333,3272,14060.333333333334,7885.666666666667,290.33333333333331,2803,13277.333333333334,476.66666666666669,5264.666666666667,1963,1087,40872.333333333336,1087,264,39521.333333333336,null,7,11]
[4,"99994","Arkansas",{"$f":"+(D12+D71+D130)/3","v":2902538.6666666665},2902538.6666666665,2420966.3333333335,397291.33333333331,75306.666666666672,823.33333333333337,783,964.33333333333337,0,4019.6666666666665,1294.6666666666667,385,26.333333333333332,119.66666666666667,3109,2297.3333333333335,47.333333333333336,265.66666666666669,3493.6666666666665,1085.3333333333333,448.33333333333331,2217.3333333333335,1354.3333333333333,3361.6666666666665,15.666666666666666,202.66666666666666,408.33333333333331,1556.6666666666667,249.66666666666666,2728,7913,352,{"$f":"+(AJ12+AJ71+AJ130)/3","v":297.33333333333331},276.33333333333331,17.333333333333332,191.66666666666666,440.66666666666669,1075,2094,71.333333333333329,815.33333333333337,7435.333333333333,354.66666666666669,604.66666666666663,19.666666666666668,594.33333333333337,305.33333333333331,4436.666666666667,13413.666666666666,210,2.9999999999999997E-4,966,664,36,734.33333333333337,731,205,8974.3333333333339,205.33333333333334,16.666666666666668,8752.3333333333339,null,8,12]
[5,"99995","California",{"$f":"+(D13+D72+D131)/3","v":37234437.666666664},37234437.666666664,31260466.333333332,5243691,468939.33333333331,2653.3333333333335,7977.333333333333,36140,3430.6666666666665,0,17352.333333333332,4822.666666666667,806.33333333333337,3374,21153.333333333332,10971,10432.666666666666,5282,19522.333333333332,5704.666666666667,2923.6666666666665,3152.3333333333335,2786,3923,1570,8773.6666666666661,12189.666666666666,10475,6440.333333333333,2468.3333333333335,7109,2889.3333333333335,{"$f":"+(AJ13+AJ72+AJ131)/3","v":2773},30617,1387.6666666666667,10072.666666666666,5485.666666666667,25957,9832,1203.6666666666667,9765.6666666666661,5830.666666666667,20600.666666666668,9654.6666666666661,1092.3333333333333,4961.333333333333,1144.6666666666667,6304,38891.333333333336,10589.666666666666,604.66666666666663,15203.333333333334,33864.666666666664,1230.3333333333333,5793.333333333333,1756.3333333333333,1630,261341,1630,3141,256570,null,9,13]
[6,"99996","Colorado",{"$f":"+(D14+D73+D132)/3","v":5053525.666666667},5053525.666666667,4073812.6666666665,746855.66666666663,197850,2134,2957.6666666666665,11738,1230.6666666666667,23825,0,1114.3333333333333,352.33333333333331,421.66666666666669,8513,5176.333333333333,2247.6666666666665,1692.3333333333333,6450.333333333333,3249.3333333333335,2808.6666666666665,4436.333333333333,1940.6666666666667,2308,636.66666666666663,2559.6666666666665,3446,3718.3333333333335,2975,997,3433.6666666666665,2714,{"$f":"+(AJ14+AJ73+AJ132)/3","v":4373},3993.6666666666665,653,2195.3333333333335,6412.666666666667,5280.666666666667,4024.6666666666665,1656.3333333333333,4299.333333333333,3956.6666666666665,4097.333333333333,3742,254.66666666666666,1444,1314.3333333333333,2452,20666,5000.666666666667,589,4272,5986.666666666667,624,3164.6666666666665,4320.666666666667,831,35007.333333333336,831.33333333333337,189.66666666666666,33986.333333333336,null,10,14]
[7,"99997","Connecticut",{"$f":"+(D15+D74+D133)/3","v":3548377.3333333335},3548377.3333333335,3118392.6666666665,331568.33333333331,76382,347.66666666666669,206.33333333333334,1739.3333333333333,206,3779.6666666666665,805.33333333333337,0,77.666666666666671,408.66666666666669,6852,1483.3333333333333,392.33333333333331,125.66666666666667,2048.6666666666665,431.66666666666669,58.333333333333336,5.333333333333333,174.66666666666666,408,670.33333333333337,1516.6666666666667,8648,738.33333333333337,538.33333333333337,137.33333333333334,255,85.333333333333329,{"$f":"+(AJ15+AJ74+AJ133)/3","v":35.666666666666664},279.66666666666669,1093,4316.333333333333,273.66666666666669,21350.666666666668,1917.6666666666667,6.9999999999999999E-4,988.66666666666663,259,264,2612.3333333333335,1591.3333333333333,1025.6666666666667,0,271,2126.6666666666665,147.66666666666666,591.66666666666663,2006.3333333333333,1977.3333333333333,220.66666666666666,821,72,2453,22034.333333333332,2453.3333333333335,71,19510,null,11,15]
[8,"99998","Delaware",{"$f":"+(D16+D75+D134)/3","v":897858.33333333337},897858.33333333337,774090,86386.666666666672,33142.666666666664,109.33333333333333,363,263,1.2300000000000001E-5,1091,115.66666666666667,756.33333333333337,0,199,1295.6666666666667,467.66666666666669,67,157.66666666666666,404.33333333333331,90.666666666666671,10,49.333333333333336,156,59.333333333333336,98,4952,550.66666666666663,110.33333333333333,202.33333333333334,19.333333333333332,444,24.333333333333332,{"$f":"+(AJ16+AJ75+AJ134)/3","v":34.333333333333336},226,79.333333333333329,5273.666666666667,48,3652.6666666666665,720.33333333333337,8.0000000000000007E-5,393.33333333333331,9,1.4559999999999999E-4,7572.333333333333,138.33333333333334,215.33333333333334,2.3692299999999999E-3,237,398,213.66666666666666,2.5632300000000001E-3,1287,296,119.66666666666667,18.333333333333332,154.33333333333334,673,4239,672.66666666666663,143.66666666666666,3422.6666666666665,null,12,16]
[9,"99999","District of Columbia ",{"$f":"+(D17+D76+D135)/3","v":611067.33333333337},611067.33333333337,488200.66666666669,64092.333333333336,51046.666666666664,150.66666666666666,657.66666666666663,535.66666666666663,90.333333333333329,4333.666666666667,595,841.66666666666663,68.666666666666671,0,1353,1204.3333333333333,136.66666666666666,38,935.66666666666663,436,255.33333333333334,84.333333333333329,167.66666666666666,94.333333333333329,90,13917.333333333334,1649.3333333333333,726,296.33333333333331,42.333333333333336,240.33333333333334,12.666666666666666,{"$f":"+(AJ17+AJ76+AJ135)/3","v":104.33333333333333},93.333333333333329,159.66666666666666,1470,59,3083.3333333333335,1532.6666666666667,127.66666666666667,518.33333333333337,9.0000000000000006E-5,269.66666666666669,1820.3333333333333,311.33333333333331,295.66666666666669,34.666666666666664,529.66666666666663,1245.3333333333333,63.666666666666664,303.66666666666669,8475.6666666666661,413.66666666666669,424.33333333333331,686,71.666666666666671,6.4999999999999994E-5,7727.666666666667,0,20.666666666666668,7707,null,13,17]
[10,"999910","Florida",{"$f":"+(D18+D77+D136)/3","v":18875389.333333332},18875389.333333332,15776264.333333334,2431357.6666666665,506211.33333333331,15688,7998.666666666667,6277,3319,21645.333333333332,8192.3333333333339,10620.666666666666,1820.6666666666667,927,0,39009,2945.6666666666665,821.33333333333337,19716.333333333332,11435,2877,4152.666666666667,6224.666666666667,6292,5844.666666666667,13031,14253.333333333334,21466.333333333332,5187.333333333333,6198,8588,885,{"$f":"+(AJ18+AJ77+AJ136)/3","v":2115.3333333333335},3939.3333333333335,3443.6666666666665,25052,1709.6666666666667,55769.333333333336,22074.666666666668,515.66666666666663,20721.666666666668,3069.3333333333335,2629.6666666666665,22138.333333333332,3344.6666666666665,11359.333333333334,738.66666666666663,13202.666666666666,26045,2558.3333333333335,2069.3333333333335,20797,4951.666666666667,4710.333333333333,7236.333333333333,603.33333333333337,18739,161556,18739,2034,140783,null,14,18]
[11,"999911","Georgia",{"$f":"+(D19+D78+D137)/3","v":9694547.666666666},9694547.666666666,8114066.666666667,1268100,266000.66666666669,15501,2459.3333333333335,4501,1250.6666666666667,12677.333333333334,3419.6666666666665,1719,560.66666666666663,1141.3333333333333,45145.666666666664,0,1151.6666666666667,492,7653,3687.6666666666665,1244.3333333333333,2455,5461,4762,210,4236.333333333333,4166.333333333333,7932.666666666667,1738,3680,2987.6666666666665,183,{"$f":"+(AJ19+AJ78+AJ137)/3","v":1858.3333333333333},1904,103,5814,844,13627.666666666666,16836,136,7895.666666666667,2333.6666666666665,674.33333333333337,7053.666666666667,273.33333333333331,17029,450,16316.333333333334,14460.666666666666,397.66666666666669,268.66666666666669,9511,3387,978.33333333333337,3194.6666666666665,237.33333333333334,1458,46380.333333333336,1458.3333333333333,740.33333333333337,44181.666666666664,null,15,19]
[12,"999912","Hawaii",{"$f":"+(D20+D79+D138)/3","v":1359644},1359644,1155221.6666666667,130623,55422.666666666664,875,1001.3333333333334,2054.3333333333335,88.666666666666671,10868.666666666666,1079.6666666666667,409.66666666666669,354,150.66666666666666,3513,1993.3333333333333,0,186,972.33333333333337,295.33333333333331,210,549,199.33333333333334,158,95.333333333333329,1274,880.33333333333337,750.33333333333337,533.66666666666663,216.33333333333334,474,122,{"$f":"+(AJ20+AJ79+AJ138)/3","v":55.333333333333336},1411,229.33333333333334,472.33333333333331,216.33333333333334,2655.6666666666665,2019.3333333333333,33.666666666666664,826.33333333333337,612.33333333333337,1875.6666666666667,836.66666666666663,269.33333333333331,882.33333333333337,242,697.33333333333337,4333.666666666667,1230,4.0000000000000002E-4,2186.6666666666665,4138.333333333333,330.66666666666669,536.66666666666663,27.333333333333332,191,18376.666666666668,191.33333333333334,516.66666666666663,17668.666666666668,null,16,20]
[13,"999913","Idaho",{"$f":"+(D21+D80+D139)/3","v":1561213.3333333333},1561213.3333333333,1287120.3333333333,209285.66666666666,58419,404.66666666666669,2990.6666666666665,3017.6666666666665,186.66666666666666,9411,1457,14.666666666666666,40,86.666666666666671,1453,390.33333333333331,194.33333333333334,0,363.66666666666669,237,393.66666666666669,321.33333333333331,172.66666666666666,54.666666666666664,67.333333333333329,50.333333333333336,283,575,556,62,341,2303.6666666666665,{"$f":"+(AJ21+AJ80+AJ139)/3","v":158},2742,79.333333333333329,131.66666666666666,503.33333333333331,504,404.66666666666669,432.33333333333331,534.33333333333337,364,5111.666666666667,228,6.0000000000000002E-5,86.666666666666671,418.66666666666669,1135.3333333333333,1467,6896.666666666667,5.0000000000000001E-4,595,10088.333333333334,44.333333333333336,207.66666666666666,858,206,6388.333333333333,206,124.33333333333333,6058,null,17,21]
[14,"999914","Illinois",{"$f":"+(D22+D81+D140)/3","v":12707882.333333334},12707882.333333334,11031900.333333334,1399856.3333333333,209639.33333333334,1701,2711,6905.666666666667,1988.6666666666667,15025,3385.6666666666665,1679.3333333333333,189,1184.3333333333333,12762,7189.333333333333,1120.6666666666667,696.66666666666663,0,20772,8696.6666666666661,2170.6666666666665,3804.3333333333335,1321,424.66666666666669,2138.3333333333335,3204.6666666666665,11574,5111,1786,14618.666666666666,486.66666666666669,{"$f":"+(AJ22+AJ81+AJ140)/3","v":891.66666666666663},2157.6666666666665,359.66666666666669,2568.6666666666665,1309.3333333333333,7484,4440.666666666667,471,6786.333333333333,1317.3333333333333,990,4263.333333333333,526,1576.6666666666667,668,3956.6666666666665,13345.333333333334,921,155,4458.333333333333,2473.6666666666665,795,14761.666666666666,315.33333333333331,2164,66486.333333333328,2163.6666666666665,75,64247.666666666664,null,18,22]
[15,"999915","Indiana",{"$f":"+(D23+D82+D141)/3","v":6436361.333333333},6436361.333333333,5467596,815824,129788,1563,342.33333333333331,2982.6666666666665,1376,7547,1505.6666666666667,864.66666666666663,239.33333333333334,408.66666666666669,8521,2141.3333333333335,726.66666666666663,775.33333333333337,26485.666666666668,0,1493,1509,10665.666666666666,1242,101.66666666666667,1057,630.66666666666663,9424.6666666666661,1209,895.66666666666663,3414.3333333333335,110.66666666666667,{"$f":"+(AJ23+AJ82+AJ141)/3","v":639.33333333333337},583,68,1354.6666666666667,303.66666666666669,2466,2843.6666666666665,61,11872,907.66666666666663,438.33333333333331,3028.3333333333335,74.333333333333329,1768,187.33333333333334,3506.3333333333335,5717,224,191.66666666666666,2363.6666666666665,619,464,2137.3333333333335,737,280,23153.333333333332,280,65.333333333333329,22808,null,19,23]
[16,"999916","Iowa",{"$f":"+(D24+D83+D142)/3","v":3025413.3333333335},3025413.3333333335,2570834,369714,72907.333333333328,346.66666666666669,812.33333333333337,1494.6666666666667,377,3137.3333333333335,2899,216.66666666666666,2.5829999999999999E-4,68,2135.3333333333335,1169,562,255.33333333333334,14236.666666666666,1258.3333333333333,0,1404.6666666666667,513.33333333333337,435.33333333333331,34.666666666666664,346.66666666666669,413.33333333333331,1357.3333333333333,6901,425.33333333333331,4616,552.66666666666663,{"$f":"+(AJ24+AJ83+AJ142)/3","v":6323.666666666667},1104.3333333333333,145.66666666666666,558.33333333333337,342.33333333333331,1288,1205.6666666666667,679.33333333333337,917.33333333333337,892,743.33333333333337,405.66666666666669,21.666666666666668,568.66666666666663,1997.3333333333333,1129.3333333333333,3339.3333333333335,838,27.666666666666668,430.33333333333331,771,45.666666666666664,2949.6666666666665,214.33333333333334,331,11958,330.66666666666669,14.666666666666666,11612.666666666666,null,20,24]
[17,"999917","Kansas",{"$f":"+(D25+D84+D143)/3","v":2834395.3333333335},2834395.3333333335,2358444.3333333335,372212.66666666669,88994.333333333328,443.66666666666669,497,2453.3333333333335,1584,5426.333333333333,4932.666666666667,235.66666666666666,104,194.66666666666666,2520.6666666666665,1652.6666666666667,188,372.66666666666669,2468.3333333333335,1362,1705.6666666666667,0,944,615.66666666666663,230.66666666666666,1610.3333333333333,105,1292.6666666666667,974.33333333333337,712,22146.333333333332,286.33333333333331,{"$f":"+(AJ25+AJ84+AJ143)/3","v":2817.3333333333335},942,34.333333333333336,1066.3333333333333,890.33333333333337,1247,1039.6666666666667,288.33333333333331,1478.3333333333333,6999.333333333333,549,991.66666666666663,79,598.33333333333337,203.33333333333334,1253.3333333333333,8086.666666666667,177,48.333333333333336,1779.6666666666667,1737.3333333333333,46.333333333333336,870.66666666666663,712,308,14744,308.33333333333331,316,14119.666666666666,null,21,25]
[18,"999918","Kentucky",{"$f":"+(D26+D85+D144)/3","v":4313854},4313854,3666987.6666666665,515713,113753.66666666667,2407.6666666666665,1107,1839.6666666666667,711.33333333333337,3108,420.66666666666669,373.33333333333331,248,200.66666666666666,8917,4431.666666666667,410,52.333333333333336,4459,11726.666666666666,476.66666666666669,654.66666666666663,0,834,39,1530.3333333333333,824.66666666666663,5050.666666666667,670,1112,2775.6666666666665,72,{"$f":"+(AJ26+AJ85+AJ144)/3","v":684},578.33333333333337,45.333333333333336,977.33333333333337,409.66666666666669,3156.6666666666665,3772.3333333333335,79.666666666666671,17418.666666666668,995.33333333333337,312.66666666666669,2111.3333333333335,309.66666666666669,1340,54.333333333333336,12689.666666666666,4588,503,240.33333333333334,4048,1275,2272.3333333333335,1323,116.33333333333333,180,17399.666666666668,180.33333333333334,0,17219.333333333332,null,22,26]
[19,"999919","Louisiana",{"$f":"+(D27+D86+D145)/3","v":4516024},4516024,3867843.6666666665,538129.33333333337,96080.666666666672,3711.3333333333335,731.66666666666663,1997,2933.6666666666665,4949,1283.3333333333333,203.66666666666666,3.569E-4,351.66666666666669,7040.333333333333,4889.666666666667,469.33333333333331,232.33333333333334,1516.3333333333333,1285.3333333333333,545.66666666666663,479.33333333333331,1608.3333333333333,0,177.66666666666666,942,661,1181.3333333333333,532.33333333333337,8026,1939.3333333333333,248.66666666666666,{"$f":"+(AJ27+AJ86+AJ145)/3","v":346.66666666666669},1159,162.66666666666666,533,490.66666666666669,2102.3333333333335,1953.6666666666667,259.66666666666669,1618.6666666666667,2489.3333333333335,669,1014.6666666666666,335,1539,12.333333333333334,2232,26971.333333333332,309.66666666666669,44,1730,1388.3333333333333,186,419.33333333333331,178,483,13970.333333333334,483.33333333333331,138.33333333333334,13348.666666666666,null,23,27]
[20,"999920","Maine",{"$f":"+(D28+D87+D146)/3","v":1315107},1315107,1129829.3333333333,151758.33333333334,29699.666666666668,388.33333333333331,166.33333333333334,269.66666666666669,35,1168.3333333333333,360.66666666666669,1770,215.33333333333334,108.66666666666667,3418.3333333333335,620.66666666666663,79.666666666666671,47.666666666666664,393.66666666666669,141,206.33333333333334,285.33333333333331,374.66666666666669,89.333333333333329,0,206.66666666666666,3949,313.33333333333331,272.33333333333331,26.333333333333332,198.33333333333334,95,{"$f":"+(AJ28+AJ87+AJ146)/3","v":95.333333333333329},176.66666666666666,4005,667,216.66666666666666,2482.3333333333335,1184,24.666666666666668,475.33333333333331,76,228.66666666666666,755.33333333333337,545.66666666666663,302.66666666666669,14,542.66666666666663,863.66666666666663,257.33333333333331,460.33333333333331,599,195.66666666666666,31.333333333333332,107,193.33333333333334,102,3819.6666666666665,102.33333333333333,0,3717.3333333333335,null,24,28]
[21,"999921","Maryland",{"$f":"+(D29+D88+D147)/3","v":5764114.666666667},5764114.666666667,4998182,564249,157815.33333333334,1043.3333333333333,1763.3333333333333,943,277.33333333333331,8471.6666666666661,1789.3333333333333,1364,6364,20969,7999.666666666667,5059,734,391.66666666666669,3104.3333333333335,986.33333333333337,279.66666666666669,1065.3333333333333,653,947.33333333333337,637,0,3143.3333333333335,2605.3333333333335,1017.3333333333334,697.66666666666663,957.33333333333337,53,{"$f":"+(AJ29+AJ88+AJ147)/3","v":62},804.66666666666663,908.33333333333337,8315,557.66666666666663,10564.666666666666,6660,38.666666666666664,3065,638.33333333333337,459,14370,353.66666666666669,2296.3333333333335,16.333333333333332,2137,5038,646.33333333333337,326.33333333333331,22477.666666666668,1499.3333333333333,2782.3333333333335,379,103.33333333333333,562,43868.333333333336,561.66666666666663,172.66666666666666,43134,null,25,29]
[22,"999922","Massachusetts",{"$f":"+(D30+D89+D148)/3","v":6528316},6528316,5664861.333333333,663148.33333333337,140856.33333333334,806.66666666666663,1002,1520.3333333333333,255.66666666666666,13099,1139.6666666666667,11080,345.33333333333331,864.66666666666663,11801.333333333334,2487.3333333333335,841,226.33333333333334,2906.3333333333335,1069.3333333333333,198.66666666666666,511.33333333333331,190.66666666666666,844.33333333333337,4193,2934.3333333333335,0,1863.3333333333333,1337.6666666666667,321.33333333333331,1223.6666666666667,344.33333333333331,{"$f":"+(AJ30+AJ89+AJ148)/3","v":288.33333333333331},580.66666666666663,11750.666666666666,7029,293.66666666666669,19633.333333333332,3092,47.333333333333336,1916.3333333333333,181.66666666666666,644.66666666666663,6696.666666666667,8003.333333333333,1919,79.333333333333329,704,5323.333333333333,594,2102,3874.6666666666665,1651,432,523.66666666666663,88,3851,59450,3851.3333333333335,138.33333333333334,55460.333333333336,null,26,30]
[23,"999923","Michigan",{"$f":"+(D31+D90+D149)/3","v":9769227},9769227,8327285,1267641,129762.66666666667,2757,1882.6666666666667,4735,1198.6666666666667,7534.666666666667,2606.3333333333335,910.33333333333337,93.666666666666671,333.66666666666669,14168,4145.666666666667,411.33333333333331,396.66666666666669,10198.333333333334,8820,1153.3333333333333,864.33333333333337,2780,1193.6666666666667,501.66666666666669,1285.3333333333333,1929,0,1691,764.33333333333337,2545.3333333333335,204.66666666666666,{"$f":"+(AJ31+AJ90+AJ149)/3","v":255},1481,318.66666666666669,1714,831.66666666666663,4984.333333333333,3253.6666666666665,159,10775,1299.3333333333333,665,2912.3333333333335,368.66666666666669,1817.6666666666667,447.66666666666669,3606,8585.6666666666661,668.66666666666663,35,2485.6666666666665,1667.6666666666667,405.33333333333331,5025.666666666667,895.33333333333337,1041,44538.333333333336,1040.6666666666667,300,43197.666666666664,null,27,31]
[24,"999924","Minnesota",{"$f":"+(D32+D91+D150)/3","v":5278937.666666667},5278937.666666667,4507465,649044.66666666663,97314.333333333328,562.66666666666663,861.66666666666663,3181.3333333333335,535,6985.666666666667,2916,327,87.333333333333329,327.66666666666669,2589,1617,801.66666666666663,402.66666666666669,6915.333333333333,1310.6666666666667,6114.333333333333,865.66666666666663,404.66666666666669,627.66666666666663,226.66666666666666,1174.6666666666667,958.66666666666663,3335.6666666666665,0,315.66666666666669,1534.3333333333333,1244.6666666666667,{"$f":"+(AJ32+AJ91+AJ150)/3","v":1220.6666666666667},1384.6666666666667,68,727.33333333333337,337.66666666666669,1858,1421,7187.333333333333,1877,680.66666666666663,1106.3333333333333,902,140.66666666666666,1249.6666666666667,3994.6666666666665,1255.6666666666667,3227.3333333333335,787,84.666666666666671,1480.6666666666667,1475.3333333333333,97.333333333333329,18267.333333333332,260,76,25113.666666666668,75.666666666666671,89.666666666666671,24948.333333333332,null,28,32]
[25,"999925","Mississippi",{"$f":"+(D33+D92+D151)/3","v":2940648.3333333335},2940648.3333333335,2524714,337669,71444,7456.333333333333,436.33333333333331,484.33333333333331,3312,4031.3333333333335,816.66666666666663,77,1.4587000000000001E-4,170.66666666666666,5214,3273,276.33333333333331,254,2600.3333333333335,1071.3333333333333,308,265.33333333333331,826.33333333333337,7705.666666666667,54.333333333333336,431,539.66666666666663,1957.6666666666667,681.66666666666663,0,1724.6666666666667,160,{"$f":"+(AJ33+AJ92+AJ151)/3","v":85.333333333333329},339.33333333333331,41.666666666666664,933,598,960.66666666666663,1473,32.666666666666664,1066.3333333333333,597,179.66666666666666,1310.3333333333333,123.66666666666667,951.33333333333337,47,9161.3333333333339,6076,339.33333333333331,0,1318,409,132.33333333333334,875.33333333333337,265.66666666666669,404,6821.333333333333,404.33333333333331,71,6346,null,29,33]
[26,"999926","Missouri",{"$f":"+(D34+D93+D152)/3","v":5936889},5936889,4965806.666666667,796288.33333333337,152531.66666666666,1182.3333333333333,1760,2547,6661,9647.6666666666661,2948.3333333333335,723,182.66666666666666,279,7068,2969,1121.6666666666667,662,21146.333333333332,3979.6666666666665,5158.333333333333,21509.666666666668,2278.6666666666665,1714.6666666666667,486,1107,889.33333333333337,2801.3333333333335,2175,1311.3333333333333,0,525.33333333333337,{"$f":"+(AJ34+AJ93+AJ152)/3","v":3165},1146.6666666666667,304,1131.3333333333333,539,2789.3333333333335,3160.6666666666665,820.33333333333337,2986.6666666666665,5339.333333333333,759,1661.3333333333333,240,1359,466.66666666666669,3036.3333333333335,10818.333333333334,2101,301.33333333333331,2833,1979,173.66666666666666,1823.3333333333333,763,801,22262.333333333332,800.66666666666663,176.66666666666666,21285,null,30,34]
[27,"999927","Montana",{"$f":"+(D35+D94+D153)/3","v":987042.33333333337},987042.33333333337,826484,122141.66666666667,35624.333333333336,230.66666666666666,831.33333333333337,1809.3333333333333,261.33333333333331,4739,2392,62,145.33333333333334,0,1179.6666666666667,189.66666666666666,196,2128.6666666666665,800.33333333333337,353.33333333333331,333.66666666666669,376.33333333333331,229.33333333333334,28.333333333333332,124,47,55.333333333333336,607.66666666666663,924.33333333333337,91.333333333333329,389.66666666666669,0,{"$f":"+(AJ35+AJ94+AJ153)/3","v":277.33333333333331},734.66666666666663,38.333333333333336,348.33333333333331,394.33333333333331,383.33333333333331,1109,1004.6666666666666,270.66666666666669,432,2176.3333333333335,572,1.2559999999999999E-4,139,237.66666666666666,140.66666666666666,1607.6666666666667,818.66666666666663,46.666666666666664,310.33333333333331,3956,4.666666666666667,417.66666666666669,1678.6666666666667,121,2792.3333333333335,121.33333333333333,21.333333333333332,2649.6666666666665,null,31,35]
[28,"999928","Nebraska",{"$f":"+(D36+D95+D154)/3","v":1816414.3333333333},1816414.3333333333,1514230,246070.33333333334,48875.333333333336,215.33333333333334,460.66666666666669,2124.6666666666665,399.33333333333331,4330.666666666667,3150,247.33333333333334,59,9.6666666666666661,1416,807.33333333333337,232.33333333333334,316,1476,514.66666666666663,7308.666666666667,2875.6666666666665,212,240.66666666666666,63.333333333333336,174.66666666666666,98.333333333333329,555.66666666666663,1732.6666666666667,474.33333333333331,2264.6666666666665,94.666666666666671,0,{"$f":"+(AK36+AK95+AK154)/3","v":235},4.6799999999999999E-5,262,410.33333333333331,324.33333333333331,715,522,687.66666666666663,848,722.66666666666663,433,5.5000000000000003E-4,254.66666666666666,2814,178.33333333333334,4306,500,26.333333333333332,821,1130.6666666666667,69.333333333333329,640.66666666666663,1120,3.4499999999999998E-4,7238.666666666667,1.2536399999999999E-4,96.333333333333329,7142.333333333333,null,32,36]
[29,"999929","Nevada",{"$f":"+(D37+D96+D155)/3","v":2693660},2693660,2073382.6666666667,493024.66666666669,112435.66666666667,397,1089.6666666666667,8902.6666666666661,397.66666666666669,41854.666666666664,4017,326.66666666666669,185.66666666666666,483.66666666666669,3294.3333333333335,1221,3503,2372.6666666666665,2067,652,457,752.33333333333337,716.33333333333337,410.66666666666669,86,783.33333333333337,616.33333333333337,1700,1005.6666666666666,644,925.33333333333337,997.66666666666663,{"$f":"+(AJ37+AJ96+AJ155)/3","v":625},0,78,1519.3333333333333,1498,2080.3333333333335,1019,246.33333333333334,1438.3333333333333,888,2473.6666666666665,1246,196.33333333333334,319,597,833.66666666666663,5985.666666666667,4156.666666666667,106,1569,3655.6666666666665,52,1379,614.33333333333337,297,14817,297.33333333333331,331,14188.666666666666,null,33,37]
[30,"999930","New Hampshire",{"$f":"+(D38+D97+D156)/3","v":1306248.6666666667},1306248.6666666667,1128990.3333333333,129486.66666666667,42283.666666666664,115,145.66666666666666,410,7.333333333333333,1251,405,2032,6.666666666666667,155.66666666666666,2125,335,31.333333333333332,28.666666666666668,667,263.33333333333331,69.666666666666671,53,94.666666666666671,8.6666666666666661,4146.666666666667,101.33333333333333,16089.333333333334,270.33333333333331,114.66666666666667,61.666666666666664,245.66666666666666,238.66666666666666,{"$f":"+(AJ38+AJ97+AJ156)/3","v":47.666666666666664},93.666666666666671,0,475,228.33333333333334,2279.3333333333335,1125.6666666666667,15.666666666666666,200,62,304.66666666666669,859.66666666666663,948,320.66666666666669,28.666666666666668,191.66666666666666,1441.6666666666667,331.33333333333331,2554.6666666666665,761.66666666666663,267.33333333333331,26.666666666666668,169,77.666666666666671,44,5488,43.666666666666664,101,5343.333333333333,null,34,38]
[31,"999931","New Jersey",{"$f":"+(D39+D98+D157)/3","v":8734209.666666666},8734209.666666666,7865567,677775.66666666663,132595.33333333334,528,646.66666666666663,2245.6666666666665,124,6364.333333333333,1130,2631,1854.6666666666667,684,11132.333333333334,3952.6666666666665,223.66666666666666,153.33333333333334,2799.3333333333335,719.66666666666663,340.33333333333331,395,274.66666666666669,486.33333333333331,383,4346.666666666667,4069.3333333333335,1094.3333333333333,717.66666666666663,355.33333333333331,564.66666666666663,79.333333333333329,{"$f":"+(AJ39+AJ98+AJ157)/3","v":202.66666666666666},893.66666666666663,443.33333333333331,0,273.66666666666669,40894.666666666664,2923.3333333333335,38.666666666666664,1385.6666666666667,781.66666666666663,577.66666666666663,21851.666666666668,408,1697.3333333333333,193.66666666666666,1221.3333333333333,3248,286.33333333333331,30.666666666666668,4050.6666666666665,1755,635.66666666666663,493.33333333333331,12.666666666666666,3206,58271.666666666664,3206,118.66666666666667,54947,null,35,39]
[32,"999932","New Mexico",{"$f":"+(D40+D99+D158)/3","v":2051812.3333333333},2051812.3333333333,1752901.3333333333,225041.33333333334,63476,649.33333333333337,568.33333333333337,6650.666666666667,389.66666666666669,6049.666666666667,4385.666666666667,101.66666666666667,163.66666666666666,97.666666666666671,3590.6666666666665,948.33333333333337,123.66666666666667,488.33333333333331,594,1051.6666666666667,128,918.66666666666663,328.33333333333331,346.33333333333331,220.33333333333334,1583.3333333333333,877,990,300.33333333333331,575.33333333333337,845.66666666666663,562,{"$f":"+(AJ40+AJ99+AJ158)/3","v":359},2298.3333333333335,153.66666666666666,219,0,1113.3333333333333,883.33333333333337,128,1544,830.66666666666663,1169,707.66666666666663,15.333333333333334,207.33333333333334,317.66666666666669,835.33333333333337,14699.666666666666,1095.3333333333333,153.66666666666666,758.33333333333337,1726.3333333333333,3.26E-5,356,376.66666666666669,387,10393.666666666666,386.66666666666669,110.66666666666667,9896.3333333333339,null,36,40]
[33,"999933","New York",{"$f":"+(D41+D100+D159)/3","v":19257584.666666668},19257584.666666668,17077866.333333332,1752920.6666666667,273896.33333333331,1495.3333333333333,5065.333333333333,3205.3333333333335,550,25187,3485,15018.666666666666,1401.3333333333333,3207,29096.333333333332,8617.3333333333339,953,413,7154.666666666667,2578.3333333333335,786.66666666666663,1154.6666666666667,1657,1299.6666666666667,2176.6666666666665,6090,15524.666666666666,4635.333333333333,1510.6666666666667,682,2199,349.66666666666669,{"$f":"+(AJ41+AJ100+AJ159)/3","v":514.33333333333337},1487.3333333333333,2789.3333333333335,39785.666666666664,645.33333333333337,0,11067.333333333334,150.33333333333334,5442,1683.3333333333333,1842.6666666666667,23335,2176,6686.666666666667,211,1889.6666666666667,10024.666666666666,768.33333333333337,3182,9206.6666666666661,2701,665.33333333333337,1737,411.66666666666669,8214,152901.33333333334,8214.3333333333339,422.33333333333331,144264.66666666666,null,37,41]
[34,"999934","North Carolina",{"$f":"+(D42+D101+D160)/3","v":9540967.333333334},9540967.333333334,8073361.666666667,1150197,267232,4264.333333333333,2355.6666666666665,3542,579.33333333333337,15318.333333333334,3517,3547,1204.3333333333333,1542.3333333333333,27797.333333333332,16319.333333333334,1646.3333333333333,577.66666666666663,6002,3964,835.33333333333337,2927.3333333333335,2529,2011.6666666666667,1447.3333333333333,9790.3333333333339,5605,6493.333333333333,1552,1612.3333333333333,2397.6666666666665,345.66666666666669,{"$f":"+(AJ42+AJ101+AJ160)/3","v":733.33333333333337},1124.3333333333333,1654,9679,1353.6666666666667,19206,0,212.66666666666666,9395,1368.6666666666667,1434.6666666666667,10928,277,23051.666666666668,426,7990.666666666667,11196,980,335.66666666666669,26574.333333333332,4028,2827.3333333333335,2189.6666666666665,542.33333333333337,1606,50176.666666666664,1606.3333333333333,560,48010.333333333336,null,38,42]
[35,"999935","North Dakota",{"$f":"+(D43+D102+D161)/3","v":676884.33333333337},676884.33333333337,560035.33333333337,79950.333333333328,33607.666666666664,96.333333333333329,509.66666666666669,1182,139,1255.3333333333333,882.66666666666663,31.666666666666668,28,81.666666666666671,633.66666666666663,420.33333333333331,117,606,469.66666666666669,76.666666666666671,318.33333333333331,116.66666666666667,39.666666666666664,271.33333333333331,49.333333333333336,121,202.66666666666666,461,13283.666666666666,50.666666666666664,672.33333333333337,1413,{"$f":"+(AJ43+AJ102+AJ161)/3","v":498.66666666666669},693.66666666666663,4.8900000000000003E-5,155.66666666666666,213.33333333333334,261,589.33333333333337,0,142,149,433.66666666666669,386,81.333333333333329,5,1361.6666666666667,377.33333333333331,1929.6666666666667,311.33333333333331,252.66666666666666,198,901.33333333333337,2.3598E-3,896.66666666666663,241,25,3291,25.333333333333332,24,3241.6666666666665,null,39,43]
[36,"999936","Ohio",{"$f":"+(D44+D103+D162)/3","v":11412893.333333334},11412893.333333334,9748327.666666666,1439975,186934,2187,1800,5469,1090,9008,2909.6666666666665,1283.6666666666667,452.33333333333331,848,16451,7281.333333333333,892.66666666666663,429.33333333333331,7876.333333333333,11520,1151.6666666666667,946.33333333333337,11710,1609.6666666666667,493.33333333333331,4612,2658.6666666666665,15265.333333333334,1736,599,2066.6666666666665,279,{"$f":"+(AJ44+AJ103+AJ162)/3","v":1253},1666,785.33333333333337,3701.3333333333335,710.33333333333337,7834.666666666667,5351.666666666667,227.66666666666666,0,1473,700,13483.666666666666,416,2916.6666666666665,96,4999,10404,457.66666666666669,204.66666666666666,5129,2469.3333333333335,7727.333333333333,1759.6666666666667,542,1717,37656.666666666664,1716.6666666666667,205.66666666666666,35734.333333333336,null,40,44]
[37,"999937","Oklahoma",{"$f":"+(D45+D104+D163)/3","v":3740424.3333333335},3740424.3333333335,3087301.6666666665,529556.33333333337,108120.33333333333,1077.6666666666667,1271,3167.6666666666665,6181.333333333333,8870.6666666666661,3724.6666666666665,55,185,114,5501.666666666667,3084.6666666666665,367.33333333333331,512.33333333333337,1986,1520,925.33333333333337,5571.666666666667,1209.6666666666667,2234.6666666666665,245.33333333333334,521.33333333333337,619.33333333333337,1144,667.33333333333337,1260.6666666666667,5031,683,{"$f":"+(AJ45+AJ104+AJ163)/3","v":1036},961.66666666666663,206,934.66666666666663,1456.6666666666667,1652.3333333333333,1758,458.33333333333331,1380.3333333333333,0,858.66666666666663,975.33333333333337,90.333333333333329,1060,263.66666666666669,2014.3333333333333,28447,1201,96.666666666666671,1682.6666666666667,1618.3333333333333,211,851.33333333333337,1173.6666666666667,105,15446,104.66666666666667,222.66666666666666,15118.666666666666,null,41,45]
[38,"999938","Oregon",{"$f":"+(D46+D105+D164)/3","v":3826729},3826729,3132489,551948.66666666663,121177,510.33333333333331,2158.3333333333335,7043,466.33333333333331,33422,2877.3333333333335,533.33333333333337,83.666666666666671,420.66666666666669,2439,1222,2438.3333333333335,5152.666666666667,1530.3333333333333,1022.6666666666666,551.33333333333337,832.33333333333337,91,75.666666666666671,238.33333333333334,501.66666666666669,1218,1127,1291,309.33333333333331,1120.3333333333333,2219,{"$f":"+(AJ46+AJ105+AJ164)/3","v":557},5320.666666666667,261,750.33333333333337,812.66666666666663,2324.3333333333335,1207,315.66666666666669,1300.3333333333333,1193.3333333333333,0,1333.3333333333333,59,606.66666666666663,425.66666666666669,754,3890.3333333333335,3705,333,993,21959.666666666668,339,1107,734,326,21114.333333333332,325.66666666666669,342,20446.666666666668,null,42,46]
[39,"999939","Pennsylvania",{"$f":"+(D47+D106+D165)/3","v":12606041},12606041,11086403,1238713.6666666667,228457,1209,1534,3158.3333333333335,654,10173.666666666666,2907.3333333333335,3822.6666666666665,4866.333333333333,1981,17380.666666666668,4536,357.33333333333331,325,4047,2567.6666666666665,509.33333333333331,1572,2307,644.66666666666663,1072.3333333333333,17853.666666666668,5546.333333333333,4003,1171,618.66666666666663,1552.3333333333333,270.66666666666669,{"$f":"+(AJ47+AJ106+AJ165)/3","v":449},1489,1064.3333333333333,37460,858.66666666666663,30938.333333333332,8415,294,13979.666666666666,638.33333333333337,915.33333333333337,0,649,2592,422.33333333333331,2208.6666666666665,7184,1190,557.66666666666663,10312.333333333334,2656.6666666666665,5217,1758.6666666666667,566,5615,52467.333333333336,5615,179,46673.333333333336,null,43,47]
[40,"999940","Rhode Island",{"$f":"+(D48+D107+D166)/3","v":1040929.6666666666},1040929.6666666666,901206.66666666663,100819,30758,52,3.9499999999999998E-5,210.33333333333334,8.5199999999999997E-5,1930.6666666666667,230.66666666666666,3624.3333333333335,3.69532E-4,153,2106,342,131.33333333333334,35.666666666666664,656,82.333333333333329,43.333333333333336,133.66666666666666,165.66666666666666,48.333333333333336,318,643.66666666666663,9202.3333333333339,161.66666666666666,68.333333333333329,0,122,8.9519999999999997E-5,{"$f":"+(AJ48+AJ107+AJ166)/3","v":62.666666666666664},107.33333333333333,628.33333333333337,1437,43,3654,704.33333333333337,20.666666666666668,41,66.333333333333329,65.333333333333329,806.66666666666663,0,255,16,133.66666666666666,569.33333333333337,60.333333333333336,248.66666666666666,964,236.33333333333334,116.33333333333333,45.666666666666664,14.666666666666666,228,8146,228.33333333333334,83,7834.666666666667,null,44,48]
[41,"999941","South Carolina",{"$f":"+(D49+D108+D167)/3","v":4623488.333333333},4623488.333333333,3900070,549659,155596.66666666666,2135,1778.3333333333333,1883.3333333333333,845.66666666666663,5754,1594,2446.6666666666665,595.66666666666663,354,14362.666666666666,17470.333333333332,721,162,2916.3333333333335,3075,908.33333333333337,1154.3333333333333,2196.3333333333335,1882,1110.6666666666667,4185.333333333333,2269.3333333333335,3719.3333333333335,682,1581.6666666666667,1592.3333333333333,336,{"$f":"+(AJ49+AJ108+AJ167)/3","v":120.66666666666667},1071.6666666666667,591.66666666666663,5222,1013.3333333333334,9991.6666666666661,22871.666666666668,348.33333333333331,4866,1007,702.66666666666663,4903,381.66666666666669,0,324.33333333333331,3563.3333333333335,6313,400.66666666666669,289,9014,2403,1405,743.33333333333337,338,1168,18162.666666666668,1168.3333333333333,77,16917.333333333332,null,45,49]
[42,"999942","South Dakota",{"$f":"+(D50+D109+D168)/3","v":813820},813820,681814.33333333337,102355.33333333333,26444.666666666668,108.33333333333333,478,867.33333333333337,315.66666666666669,1372.6666666666667,1190.6666666666667,0.66666666666666663,6.3200000000000005E-5,2.5899999999999999E-5,440.66666666666669,71.666666666666671,27.666666666666668,240.33333333333334,140.33333333333334,311.33333333333331,3577.6666666666665,372.66666666666669,97.666666666666671,43,0,104.66666666666667,193.66666666666666,425,4508.333333333333,121.33333333333333,360,346.66666666666669,{"$f":"+(AJ50+AJ109+AJ168)/3","v":2043.3333333333333},94.333333333333329,3.5599999999999998E-4,147,242,378.33333333333331,222.66666666666666,1935,102.66666666666667,119,268,260.33333333333331,2.3333333333333335,229,0,169,1401.6666666666667,316,1.6666666666666667,214.33333333333334,1049,43.666666666666664,510.33333333333331,979,45,3205.6666666666665,44.666666666666664,0,3161,null,46,50]
[43,"999943","Tennessee",{"$f":"+(D51+D110+D169)/3","v":6331483.333333333},6331483.333333333,5346435.666666667,792996,169281.66666666666,10113,718.33333333333337,1962.3333333333333,5145,7848.333333333333,1901,617,193,293.66666666666669,15100,14861.333333333334,493.33333333333331,373.33333333333331,6283,5333.333333333333,685.33333333333337,2313.6666666666665,12758,2318.3333333333335,377.66666666666669,1442.6666666666667,1649.3333333333333,5339.666666666667,1042.3333333333333,9589.6666666666661,3610.3333333333335,213.66666666666666,{"$f":"+(AJ51+AJ110+AJ169)/3","v":416.66666666666669},1350.3333333333333,200,1469.6666666666667,584.33333333333337,5333.333333333333,7453,19,5535.333333333333,2110,745.33333333333337,3083.6666666666665,281.66666666666669,4865.333333333333,81.333333333333329,0,8142,1015.3333333333334,57,7585.333333333333,2046.6666666666667,2278,1888.6666666666667,163,600,22770,600,29,22141,null,47,51]
[44,"999944","Texas",{"$f":"+(D52+D111+D170)/3","v":25312656.666666668},25312656.666666668,20946419.333333332,3681558,503012,9125.3333333333339,8347.3333333333339,18500.666666666668,15164.333333333334,63551,17367.666666666668,2206.6666666666665,589.66666666666663,1308.3333333333333,31234.666666666668,18144.666666666668,4954.666666666667,2933,18301.666666666668,8504.6666666666661,4038.6666666666665,12354.333333333334,5936.333333333333,28670,1322.6666666666667,6378.666666666667,5662.333333333333,12976.666666666666,5527.333333333333,6741,12617.666666666666,1125.6666666666667,{"$f":"+(AJ52+AJ111+AJ170)/3","v":4508},8127.666666666667,762.33333333333337,7144.333333333333,14579.666666666666,21017.666666666668,16599.666666666668,1416.6666666666667,9786.6666666666661,22851.666666666668,3981,8905.6666666666661,1345,4598,1562,11400,0,4655.666666666667,171.33333333333334,14892.666666666666,11934,1537.6666666666667,5367,2282,4613,181667.33333333334,4613.333333333333,1002.6666666666666,176051.33333333334,null,48,52]
[45,"999945","Utah",{"$f":"+(D53+D112+D171)/3","v":2766377},2766377,2286872,378791.33333333331,83622.333333333328,235,2256,7566,366.33333333333331,15236.666666666666,4441,274.33333333333331,1.2449999999999999E-5,90,2056,1053.3333333333333,1356.3333333333333,6786.333333333333,1622,512.33333333333337,1188,614.33333333333337,354.33333333333331,295,176,460.33333333333331,902.66666666666663,1010,746,184.66666666666666,1106.3333333333333,1409,{"$f":"+(AJ53+AJ112+AJ171)/3","v":267.33333333333331},4751.666666666667,180.33333333333334,396.66666666666669,970.33333333333337,1842.6666666666667,1220.6666666666667,59,1995.3333333333333,791.33333333333337,2883.6666666666665,999,117,402.33333333333331,350,623.66666666666663,4472.333333333333,0,152.66666666666666,2262.3333333333335,4048.6666666666665,90,647,1800,207,17091.333333333332,207.33333333333334,36,16848,null,49,53]
[46,"999946","Vermont",{"$f":"+(D54+D113+D172)/3","v":620313.66666666663},620313.66666666663,534838.66666666663,60331,22474.333333333332,5.333333333333333,285.66666666666669,167.33333333333334,6.3256000000000006E-5,977.33333333333337,412.33333333333331,1672.6666666666667,64.666666666666671,50.666666666666664,1131.6666666666667,217.66666666666666,66,2.4889999999999998E-6,328.66666666666669,108.66666666666667,40.333333333333336,2.3333333333333335,682,38,676.33333333333337,507.66666666666669,3098.3333333333335,273.33333333333331,202,2.3450000000000001E-5,47.666666666666664,127.66666666666667,3.6900000000000002E-5,{"$f":"+(AK54+AK113+AK172)/3","v":30},2632.3333333333335,848.66666666666663,43.333333333333336,4186.333333333333,372.33333333333331,10,215.66666666666666,3.6666666666666665,83.333333333333329,616,323,93,64,215,414.33333333333331,87.666666666666671,0,622.66666666666663,127.33333333333333,17.666666666666668,221.66666666666666,62,6,2669.6666666666665,6.333333333333333,15,2648.3333333333335,null,50,54]
[47,"999947","Virginia",{"$f":"+(D55+D114+D173)/3","v":8004238},8004238,6799786.666666667,891828,255763.33333333334,3372,2801.3333333333335,3635.3333333333335,774.33333333333337,17079.666666666668,4496.333333333333,3523,1501.6666666666667,9470.3333333333339,18504,10059,3029,748.33333333333337,6221.666666666667,2752.6666666666665,953,1379.6666666666667,3196.3333333333335,2094,1831,23599.333333333332,4419,5346,1196.6666666666667,1628,2817.6666666666665,713.66666666666663,{"$f":"+(AJ55+AJ114+AJ173)/3","v":378.66666666666669},1146,750.33333333333337,7741.666666666667,1019.6666666666666,15291,24052.333333333332,505,7633.333333333333,1481.3333333333333,2392.3333333333335,12665,1681.6666666666667,7629,347,6504.333333333333,12512.333333333334,1689.6666666666667,424,0,4382.666666666667,6553,1588,252,1015,56860,1014.6666666666666,413.33333333333331,55432,null,51,55]
[48,"999948","Washington",{"$f":"+(D56+D115+D174)/3","v":6741852.666666667},6741852.666666667,5559417.666666667,923847.66666666663,205261.66666666666,1550,5079.333333333333,8910,942.33333333333337,41162,4672,1523,100.66666666666667,458,6947.333333333333,6058.333333333333,5141.666666666667,11386.666666666666,3430.3333333333335,1768,1281.3333333333333,2352.6666666666665,1175,1224.3333333333333,854,1239.6666666666667,1979.6666666666667,3353.6666666666665,1856.3333333333333,820.66666666666663,3278.6666666666665,3379.3333333333335,{"$f":"+(AJ56+AJ115+AJ174)/3","v":559.33333333333337},5302,471.66666666666669,1675.6666666666667,1151,4738,3367,307,2868.3333333333335,1324.6666666666667,26976,2862,260,2431,395.66666666666669,2112.3333333333335,13675,4702.333333333333,441,5112.666666666667,0,144.66666666666666,1613,846.33333333333337,703,53325.666666666664,702.66666666666663,1373.6666666666667,51249.333333333336,null,52,56]
[49,"999949","West Virginia",{"$f":"+(D57+D116+D175)/3","v":1835889},1835889,1615852.3333333333,170847.33333333334,45600.666666666664,246.33333333333334,743.33333333333337,43,75,1144.3333333333333,278.66666666666669,273.66666666666669,439.66666666666669,358,2236.6666666666665,963,104.33333333333333,129.66666666666666,635.66666666666663,301.33333333333331,22.666666666666668,66.666666666666671,1205,158.66666666666666,26.666666666666668,5705.333333333333,197,631.33333333333337,6.666666666666667,14.666666666666666,176,33,{"$f":"+(AJ57+AJ116+AJ175)/3","v":26},182.33333333333334,132,1183.3333333333333,27,1449.6666666666667,3700,147.66666666666666,7742.333333333333,282,83.333333333333329,4773.666666666667,174,1200.6666666666667,12,922.33333333333337,1054.6666666666667,75.333333333333329,95,5625.666666666667,190.66666666666666,0,220.66666666666666,84,314,3588.6666666666665,313.66666666666669,185.66666666666666,3089.3333333333335,null,53,57]
[50,"999950","Wisconsin",{"$f":"+(D58+D117+D176)/3","v":5643695.333333333},5643695.333333333,4840180,686984,100565.33333333333,527.66666666666663,488.66666666666669,3052,368.66666666666669,5496.666666666667,2027.3333333333333,669.66666666666663,288.66666666666669,78.666666666666671,4589,1457,663.66666666666663,609.33333333333337,22701.666666666668,3020,3255.6666666666665,776.66666666666663,654,593,231,847,738,5285.666666666667,17877.666666666668,677,1689.6666666666667,360.33333333333331,{"$f":"+(AJ58+AJ117+AJ176)/3","v":553.33333333333337},958.33333333333337,184,538.66666666666663,454.33333333333331,1845.6666666666667,2292,721.33333333333337,1880.6666666666667,165.33333333333334,1148.6666666666667,1689.3333333333333,170.66666666666666,857.33333333333337,384.66666666666669,883.66666666666663,2596,755.33333333333337,159.66666666666666,1537,1258.6666666666667,448.66666666666669,0,57.666666666666664,741,15966,741.33333333333337,12.666666666666666,15212,null,54,58]
[51,"999951","Wyoming",{"$f":"+(D59+D118+D177)/3","v":562692.33333333337},562692.33333333337,455549.33333333331,75409,29948.666666666668,161,450.33333333333331,1298,139.33333333333334,2452.6666666666665,5631.333333333333,3.6666666666666665,1.236E-4,2.3560000000000001E-4,884.66666666666663,319,8.3333333333333339,1275.6666666666667,590,105.66666666666667,354.33333333333331,452.33333333333331,202,103,1.2300000000000001E-4,115,317.33333333333331,794.66666666666663,288.33333333333331,68.666666666666671,302,1844.6666666666667,{"$f":"+(AJ59+AJ118+AJ177)/3","v":1570.3333333333333},399.33333333333331,1.259E-5,42.666666666666664,462.33333333333331,163.33333333333334,296,269.33333333333331,299,496,622.33333333333337,203,4.333333333333333,187,825.33333333333337,189.33333333333334,1605,2358.6666666666665,26.333333333333332,389.66666666666669,1227.3333333333333,3.0000000000000001E-5,150,0,5,1785.3333333333333,5.333333333333333,0,1780,null,55,59]
[52,"999952","Puerto Rico",{"$f":"+(D60+D119+D178)/3","v":3658030},3658030,3387458,241299.33333333334,24808.333333333332,224,197,190.33333333333334,31,634.33333333333337,129.33333333333334,1039.3333333333333,4.333333333333333,70.666666666666671,7356,228.66666666666666,36.666666666666664,4.0000999999999998,1095.6666666666667,338,1.2369E-5,97.666666666666671,97,56,1.2449999999999999E-5,79,1891.3333333333333,204,16.666666666666668,65.666666666666671,107.33333333333333,1.2300000000000001E-4,1.4520000000000001E-4,1.2658999999999999E-4,1.2548000000000001E-5,{"$f":"+(AM60+AM119+AM178)/3","v":1772},147.66666666666666,3232.3333333333335,328,8.7900000000000001E-4,132.33333333333334,26.333333333333332,1.23652E-4,1935.6666666666667,599.33333333333337,38.666666666666664,37.666666666666664,89.666666666666671,593.66666666666663,294,1.592E-5,717.66666666666663,13.666666666666666,54.333333333333336,601,2.6899999999999998E-4,0,4464.333333333333,0,34,4430.333333333333,null,56,60]
[null,null,"com porto  rico",null,null,null,null,null,{"$f":"SUM(I186:I237)","v":105302.99999999996},{"$f":"SUM(J186:J237)","v":89400.333372833295},198665.66666666674,68850.000160755983,568406.66666666674,154387.00000000003,90265.333333333372,27282.66799651867,55169.666928166647,438482.66666666686,248944.00000000003,57592.333333333343,55385.333435822329,275942.33333333343,139669.66666666666,71587.666679035668,92762.666666666672,98516.666666666657,90282.666666666657,34837.333468783319,160936.00000000003,151283.66666666666,180352.33333333328,108004.66666666664,68034.66669011669,143178.33333333331,33635.333545853333,48385.33351543334,108078.00012659001,40124.000476838002,211619.6666666666,58744.333333333343,385500,223939.66666666669,24990.668325666669,197887.00000000003,91425.33342333333,106054.00026925196,222633.33333333331,29436.334368933331,122176.33333333334,26648.335702563341,153830.00000000003,406816,77266.333333333343,18869.337112483328,233974,179102.99999999991,47631.002422399994,105379.00000000001,30801.666935666679,{"$f":"SUM(BH186:BH237)","v":70199.000410000008},1807677.3333333335,70201.000125363993,15425.33333333333,1722050.9999999995,0,1586,1794]
[null,null,null,null,null,null,null,{"$f":"SUM(H186:H238)","v":6958471.666666667},null,null,null,null,null,null,null,null,null,null,null,null,null,null,null,null,null,null,null,null,null,null,null,null,null,null,null,null,null,null,null,null,null,null,null,null,null,null,null,null,null,null,null,null,null,null,null,null,null,null,null,{"$f":"SUM(I238:BH238)","v":7028670.3487003781}]
[]
[]
[]
[]
[]
[]
[]
[]
[]
[]
[]
[]
[]
[]
[]
[]
[]
[]
[]
[]
[]
[]
[]
[]
[]
[]
[]
[]
[]
[]
[]
[]
[]
[]
[]
[]
[]
[]
[]
[]
[null,null,"*Incudes Puerto Rico and the District of Columbia"]
[null,null,"1The estimates for the United States do not include Puerto Rico"]
[null,null,"MOE - Margin of error based on 90% confidence interval"]
[null,null,"N/A - Not Applicable"]
[null,null,"For more information on state-to-state migration flows see http://www.census.gov/hhes/migration/data/acs/state-to-state.html"]
[null,null,"Source: U.S. Census Bureau, 2012 American Community Survey"]