{"text_format":"1","workbook":"xlsx","n_sheets":7,"sheets":["Cost of Living","Tax","Crime Index","Base sheet","Working ","Inputs","Dashboard"],"not_rendered":{"charts":3,"images":3,"macros":1,"external_links":0,"defined_names":3,"comments":1,"pivot_tables":0},"unopened":[],"bounds":{"document_bytes":16777216,"sheet_cells":100000,"rows_first":2000,"rows_last":500,"rows_between":2000,"halvings":0,"cell_chars":16384,"cell_head_chars":4096},"cells_cut":0,"cells_raw":0,"read":"whole","date_system":"1900"}

{"sheet":"Cost of Living","index":0,"n_rows":55,"n_cols":3,"rows_kept":55,"cut":false,"hidden":false,"merged":[]}
["Source: http://cost-of-living.findthebest.com/"]
[]
[null,"States","Overall Index"]
[null,"Alabama",83]
[null,"Alaska",117]
[null,"Arizona",87]
[null,"Arkansas",79]
[null,"California",92]
[null,"Colorado",106]
[null,"Connecticut",105]
[null,"Delaware",100]
[null,"District of Columbia ",148]
[null,"Florida",89]
[null,"Georgia",95]
[null,"Hawaii",149]
[null,"Idaho",98]
[null,"Illinois",91]
[null,"Indiana",88]
[null,"Iowa",90]
[null,"Kansas",84]
[null,"Kentucky",92]
[null,"Louisiana",88]
[null,"Maine",104]
[null,"Maryland",103]
[null,"Massachusetts",126]
[null,"Michigan",82]
[null,"Minnesota",121]
[null,"Mississippi",76]
[null,"Missouri",81]
[null,"Montana",93]
[null,"Nebraska",77]
[null,"Nevada",99]
[null,"New Hampshire",120]
[null,"New Jersey",103]
[null,"New Mexico",105]
[null,"New York",114]
[null,"North Carolina",81]
[null,"North Dakota",89]
[null,"Ohio",106]
[null,"Oklahoma",84]
[null,"Oregon",107]
[null,"Pennsylvania",96]
[null,"Rhode Island",118]
[null,"South Carolina",88]
[null,"South Dakota",79]
[null,"Tennessee",82]
[null,"Texas",83]
[null,"Utah",84]
[null,"Vermont",110]
[null,"Virginia",87]
[null,"Washington",102]
[null,"West Virginia",91]
[null,"Wisconsin",105]
[null,"Wyoming",76]
[null,"Puerto Rico"]

{"sheet":"Tax","index":1,"n_rows":55,"n_cols":3,"rows_kept":55,"cut":false,"hidden":false,"merged":[]}
["Source: http://modernsurvivalblog.com/retreat-living/lowest-to-highest-taxes-by-state/"]
[]
[null,"States","Personal Income Tax"]
[null,"Alabama",0.05]
[null,"Alaska",0]
[null,"Arizona",4.4999999999999998E-2]
[null,"Arkansas",7.0000000000000007E-2]
[null,"California",9.6000000000000002E-2]
[null,"Colorado",4.5999999999999999E-2]
[null,"Connecticut",0.05]
[null,"Delaware",7.0000000000000007E-2]
[null,"District of Columbia ",8.5000000000000006E-2]
[null,"Florida",0]
[null,"Georgia",0.06]
[null,"Hawaii",8.3000000000000004E-2]
[null,"Idaho",7.8E-2]
[null,"Illinois",0.03]
[null,"Indiana",3.4000000000000002E-2]
[null,"Iowa",0.09]
[null,"Kansas",6.5000000000000002E-2]
[null,"Kentucky",5.8000000000000003E-2]
[null,"Louisiana",0.06]
[null,"Maine",6.9000000000000006E-2]
[null,"Maryland",0.05]
[null,"Massachusetts",5.2999999999999999E-2]
[null,"Michigan",4.3999999999999997E-2]
[null,"Minnesota",7.9000000000000001E-2]
[null,"Mississippi",0.05]
[null,"Missouri",0.06]
[null,"Montana",6.9000000000000006E-2]
[null,"Nebraska",6.8000000000000005E-2]
[null,"Nevada",0]
[null,"New Hampshire",0]
[null,"New Jersey",6.4000000000000001E-2]
[null,"New Mexico",4.9000000000000002E-2]
[null,"New York",7.9000000000000001E-2]
[null,"North Carolina",7.0000000000000007E-2]
[null,"North Dakota",3.7999999999999999E-2]
[null,"Ohio",4.7E-2]
[null,"Oklahoma",5.5E-2]
[null,"Oregon",0.108]
[null,"Pennsylvania",0.03]
[null,"Rhode Island",7.8E-2]
[null,"South Carolina",7.0000000000000007E-2]
[null,"South Dakota",0]
[null,"Tennessee",0]
[null,"Texas",0]
[null,"Utah",0.05]
[null,"Vermont",8.3000000000000004E-2]
[null,"Virginia",5.8000000000000003E-2]
[null,"Washington",0]
[null,"West Virginia",6.5000000000000002E-2]
[null,"Wisconsin",6.8000000000000005E-2]
[null,"Wyoming",0]
[null,"Puerto Rico",{"$error":"#N/A"}]

{"sheet":"Crime Index","index":2,"n_rows":56,"n_cols":8,"rows_kept":56,"cut":false,"hidden":false,"merged":[]}
["Source: http://www.infoplease.com/us/statistics/crime-rate-state.html"]
[]
[null,"2011 data","Violent Crime","Murder","Forcible Rape","Robbery","Aggravated Assault","Crime Index"]
[null,"Alabama",420.1,6.3,28.5,102.2,283,{"$f":"SUM(C4:G4)/$H$56","v":2.2202899776411697E-2}]
[null,"Alaska",606.5,4,58.1,79.7,464.6,{"$f":"SUM(C5:G5)/$H$56","v":3.2055585214628916E-2}]
[null,"Arizona",405.9,6.2,34.9,109.9,254.8,2.1452319662556094E-2]
[null,"Arkansas",480.9,5.5,41.3,82.6,351.5,2.5419294137546445E-2]
[null,"California",411.1,4.8,20.3,144,242,2.1729822873664682E-2]
[null,"Colorado",320.2,2.9,44.5,64.599999999999994,208.1,1.6922410102174039E-2]
[null,"Connecticut",272.8,3.6,19.2,102.7,147.30000000000001,1.4419595426747081E-2]
[null,"Delaware",559.5,4.5,31.9,169.5,353.5,2.9571270753275862E-2]
[null,"District of Columbia ",1202.0999999999999,17.5,28,662.3,494.3,6.3540306680691577E-2]
[null,"Florida",515.29999999999995,5.2,27.7,134.4,348,2.7237600892238891E-2]
[null,"Georgia",373.2,5.6,20.9,123.8,222.9,1.9726513978233176E-2]
[null,"Hawaii",287.2,1.2,31.6,75.8,187.6,1.5418606986737988E-2]
[null,"Idaho",200.9,2.2999999999999998,27.4,11.6,159.6,1.0619122878421879E-2]
[null,"Illinois",429.3,5.6,28.8,157,237.5,2.2681262454608404E-2]
[null,"Indiana",331.8,4.8,27,107.1,193,1.754084582978746E-2]
[null,"Iowa",255.6,1.5,27.2,26.9,199.9,1.3507799161676014E-2]
[null,"Kansas",353.9,3.8,37.799999999999997,50.8,261.5,1.8706359316443516E-2]
[null,"Kentucky",238.2,3.5,33.5,238.2,116.7,1.6652835554239985E-2]
[null,"Louisiana",555.29999999999995,11.2,27.7,114.5,401.9,2.935191107211383E-2]
[null,"Maine",123.2,2,29.6,27.8,63.8,6.5120753540148114E-3]
[null,"Maryland",494.1,6.8,20.5,177.5,289.3,2.611701649690518E-2]
[null,"Massachusetts",428.4,2.8,24.7,102.7,298.10000000000002,2.2641619138735747E-2]
[null,"Michigan",445.3,6.2,44,105.2,289.89999999999998,2.3537558077457752E-2]
[null,"Minnesota",221.2,1.4,31.1,63.4,125.4,1.1694778182433254E-2]
[null,"Mississippi",269.8,8,29,83.7,149.1,1.426102216325646E-2]
[null,"Missouri",447.4,6.1,21.3,104.3,312.7,2.3569272730155875E-2]
[null,"Montana",267.5,2.8,35.799999999999997,16.899999999999999,212,1.4139449327913651E-2]
[null,"Nebraska",253.2,3.6,37.700000000000003,54.1,157.69999999999999,1.3380940550883517E-2]
[null,"Nevada",562.1,5.2,33.5,157.9,365.6,2.9713986690417422E-2]
[null,"New Hampshire",188,1.3,32.5,36,118.2,9.9372578454122104E-3]
[null,"New Jersey",308.39999999999998,4.3,11.4,138.4,154.30000000000001,1.6301331486835775E-2]
[null,"New Mexico",567.5,7.5,41.2,82.7,436.2,2.9999418564700536E-2]
[null,"New York",398.1,4,14.1,145.9,234.1,2.1042672065205326E-2]
[null,"North Carolina",349.8,5.3,20.7,98.9,224.9,1.8489642523006337E-2]
[null,"North Dakota",247,3.5,37.9,13.3,192.3,1.3055865360727744E-2]
[null,"Ohio",307.39999999999998,4.4000000000000004,31.5,139.1,132.4,1.6248473732338901E-2]
[null,"Oklahoma",454.8,5.5,37,86.6,325.7,2.4039706745178049E-2]
[null,"Oregon",247.6,2.1,31.4,57.4,156.6,1.3084937125701024E-2]
[null,"Pennsylvania",355,5,26.1,126.6,197.3,1.8764502846390078E-2]
[null,"Rhode Island",247.5,1.3,28.9,71,146.30000000000001,1.3082294237976182E-2]
[null,"South Carolina",571.9,6.8,34.5,92.2,438.4,3.0229349796761933E-2]
[null,"South Dakota",254.1,2.5,60.2,20.3,171.1,1.3431155417655547E-2]
[null,"Tennessee",608.20000000000005,5.8,31.6,126.2,444.5,3.2145443397273599E-2]
[null,"Texas",408.5,4.4000000000000004,29,110.6,264.5,2.1592392711972809E-2]
[null,"Utah",195,1.9,30.3,38.4,124.4,1.0307262126890326E-2]
[null,"Vermont",135.19999999999999,1.3,19,13.6,101.4,7.1490112957021358E-3]
[null,"Virginia",196.7,3.7,19,67.099999999999994,106.9,1.039712030953501E-2]
[null,"Washington",294.60000000000002,2.4,33.5,82.5,176.1,1.5569251587054078E-2]
[null,"West Virginia",315.89999999999998,4.3,20.9,49,241.6,1.6695121757837481E-2]
[null,"Wisconsin",236.9,2.4,20.399999999999999,78.2,135.9,1.2522002040309323E-2]
[null,"Wyoming",219.3,3.2,25.7,12.5,177.9,1.159170556116435E-2]
[null,"Puerto Rico",0,0,0,0,0,0]
[null,"Total",{"$f":"SUM(C4:C55)","v":18839.400000000001},{"$f":"SUM(D4:D55)","v":227.80000000000007},1540.3000000000004,5137.6000000000013,12092.299999999997,{"$f":"SUM(C56:G56)","v":37837.4}]

{"sheet":"Base sheet","index":3,"n_rows":120,"n_cols":115,"rows_kept":120,"cut":false,"hidden":false,"merged":[[6,1,8,1],[6,3,7,4],[6,5,7,6],[6,7,7,8],[6,2,8,2]]}
[]
[null,"Table 1.  State-to-State Migration Flows*: 2012"]
[null,"Dataset: 2012 American Community Survey 1-Year Estimates"]
[null,"Universe: Population 1 year and over"]
[null,"Source: http://www.census.gov/hhes/migration/files/acs/st-to-st/State_to_State_Migrations_Table_2012.xls"]
[null,null,null,null,null,null,null,null,null,"ESTIMATES",null,null,null,null,null,null,null,null,null,null,null,null,null,null,null,null,null,null,null,null,null,null,null,null,null,null,null,null,null,null,null,null,null,null,null,null,null,null,null,null,null,null,null,null,null,null,null,null,null,null,null,null,"Margin of Error"]
[null,"Current residence in --","Geography","Population 1 year and over",null,"Same residence 1 year ago",null,"Different residence, same state 1 year ago",null,1,2,3,4,5,6,7,8,9,10,11,12,13,14,15,16,17,18,19,20,21,22,23,24,25,26,27,28,29,30,31,32,33,34,35,36,37,38,39,40,41,42,43,44,45,46,47,48,49,50,51,52,53,1,2,3,4,5,6,7,8,9,10,11,12,13,14,15,16,17,18,19,20,21,22,23,24,25,26,27,28,29,30,31,32,33,34,35,36,37,38,39,40,41,42,43,44,45,46,47,48,49,50,51,52,53]
[null,null,null,null,null,null,null,null,null,"State of Residence Last year (Estimate)",null,null,null,null,null,null,null,null,null,null,null,null,null,null,null,null,null,null,null,null,null,null,null,null,null,null,null,null,null,null,null,null,null,null,null,null,null,null,null,null,null,null,null,null,null,null,null,null,null,null,null,null,"State of Residence Last year (Margin of Error)"]
[null,null,null,"Estimate","MOE","Estimate","MOE","Estimate","MOE","TOTAL","Alabama","Alaska","Arizona","Arkansas","California","Colorado","Connecticut","Delaware","District of Columbia ","Florida","Georgia","Hawaii","Idaho","Illinois","Indiana","Iowa","Kansas","Kentucky","Louisiana","Maine","Maryland","Massachusetts","Michigan","Minnesota","Mississippi","Missouri","Montana","Nebraska","Nevada","New Hampshire","New Jersey","New Mexico","New York","North Carolina","North Dakota","Ohio","Oklahoma","Oregon","Pennsylvania","Rhode Island","South Carolina","South Dakota","Tennessee","Texas","Utah","Vermont","Virginia","Washington","West Virginia","Wisconsin","Wyoming","Puerto Rico","TOTAL","Alabama","Alaska","Arizona","Arkansas","California","Colorado","Connecticut","Delaware","District of Columbia ","Florida","Georgia","Hawaii","Idaho","Illinois","Indiana","Iowa","Kansas","Kentucky","Louisiana","Maine","Maryland","Massachusetts","Michigan","Minnesota","Mississippi","Missouri","Montana","Nebraska","Nevada","New Hampshire","New Jersey","New Mexico","New York","North Carolina","North Dakota","Ohio","Oklahoma","Oregon","Pennsylvania","Rhode Island","South Carolina","South Dakota","Tennessee","Texas","Utah","Vermont","Virginia","Washington","West Virginia","Wisconsin","Wyoming","Puerto Rico"]
[null,"United States",null,310212755,25814,263612596,229733,37696597,211307,{"$f":"HLOOKUP(J$7,$J$66:$DK$120,ROWS($A$10:$A10)+2,FALSE)","v":7070345},{"$f":"HLOOKUP(K$7,$J$66:$DK$120,ROWS($A$10:$A10)+2,FALSE)","v":109210},{"$f":"HLOOKUP(L$7,$J$66:$DK$120,ROWS($A$10:$A10)+2,FALSE)","v":84068},{"$f":"HLOOKUP(M$7,$J$66:$DK$120,ROWS($A$10:$A10)+2,FALSE)","v":206842},{"$f":"HLOOKUP(N$7,$J$66:$DK$120,ROWS($A$10:$A10)+2,FALSE)","v":64967},{"$f":"HLOOKUP(O$7,$J$66:$DK$120,ROWS($A$10:$A10)+2,FALSE)","v":566986},{"$f":"HLOOKUP(P$7,$J$66:$DK$120,ROWS($A$10:$A10)+2,FALSE)","v":161530},{"$f":"HLOOKUP(Q$7,$J$66:$DK$120,ROWS($A$10:$A10)+2,FALSE)","v":87023},{"$f":"HLOOKUP(R$7,$J$66:$DK$120,ROWS($A$10:$A10)+2,FALSE)","v":25149},{"$f":"HLOOKUP(S$7,$J$66:$DK$120,ROWS($A$10:$A10)+2,FALSE)","v":59513},{"$f":"HLOOKUP(T$7,$J$66:$DK$120,ROWS($A$10:$A10)+2,FALSE)","v":428325},{"$f":"HLOOKUP(U$7,$J$66:$DK$120,ROWS($A$10:$A10)+2,FALSE)","v":252262},{"$f":"HLOOKUP(V$7,$J$66:$DK$120,ROWS($A$10:$A10)+2,FALSE)","v":61509},{"$f":"HLOOKUP(W$7,$J$66:$DK$120,ROWS($A$10:$A10)+2,FALSE)","v":55191},{"$f":"HLOOKUP(X$7,$J$66:$DK$120,ROWS($A$10:$A10)+2,FALSE)","v":277953},{"$f":"HLOOKUP(Y$7,$J$66:$DK$120,ROWS($A$10:$A10)+2,FALSE)","v":144597},{"$f":"HLOOKUP(Z$7,$J$66:$DK$120,ROWS($A$10:$A10)+2,FALSE)","v":73325},{"$f":"HLOOKUP(AA$7,$J$66:$DK$120,ROWS($A$10:$A10)+2,FALSE)","v":93134},{"$f":"HLOOKUP(AB$7,$J$66:$DK$120,ROWS($A$10:$A10)+2,FALSE)","v":103004},{"$f":"HLOOKUP(AC$7,$J$66:$DK$120,ROWS($A$10:$A10)+2,FALSE)","v":95956},{"$f":"HLOOKUP(AD$7,$J$66:$DK$120,ROWS($A$10:$A10)+2,FALSE)","v":38574},{"$f":"HLOOKUP(AE$7,$J$66:$DK$120,ROWS($A$10:$A10)+2,FALSE)","v":157664},{"$f":"HLOOKUP(AF$7,$J$66:$DK$120,ROWS($A$10:$A10)+2,FALSE)","v":158156},{"$f":"HLOOKUP(AG$7,$J$66:$DK$120,ROWS($A$10:$A10)+2,FALSE)","v":175733},{"$f":"HLOOKUP(AH$7,$J$66:$DK$120,ROWS($A$10:$A10)+2,FALSE)","v":115946},{"$f":"HLOOKUP(AI$7,$J$66:$DK$120,ROWS($A$10:$A10)+2,FALSE)","v":66947},{"$f":"HLOOKUP(AJ$7,$J$66:$DK$120,ROWS($A$10:$A10)+2,FALSE)","v":142754},{"$f":"HLOOKUP(AK$7,$J$66:$DK$120,ROWS($A$10:$A10)+2,FALSE)","v":33832},{"$f":"HLOOKUP(AL$7,$J$66:$DK$120,ROWS($A$10:$A10)+2,FALSE)","v":48816},{"$f":"HLOOKUP(AM$7,$J$66:$DK$120,ROWS($A$10:$A10)+2,FALSE)","v":98882},{"$f":"HLOOKUP(AN$7,$J$66:$DK$120,ROWS($A$10:$A10)+2,FALSE)","v":38696},{"$f":"HLOOKUP(AO$7,$J$66:$DK$120,ROWS($A$10:$A10)+2,FALSE)","v":219202},{"$f":"HLOOKUP(AP$7,$J$66:$DK$120,ROWS($A$10:$A10)+2,FALSE)","v":63921},{"$f":"HLOOKUP(AQ$7,$J$66:$DK$120,ROWS($A$10:$A10)+2,FALSE)","v":405864},{"$f":"HLOOKUP(AR$7,$J$66:$DK$120,ROWS($A$10:$A10)+2,FALSE)","v":238663},{"$f":"HLOOKUP(AS$7,$J$66:$DK$120,ROWS($A$10:$A10)+2,FALSE)","v":23959},{"$f":"HLOOKUP(AT$7,$J$66:$DK$120,ROWS($A$10:$A10)+2,FALSE)","v":199202},{"$f":"HLOOKUP(AU$7,$J$66:$DK$120,ROWS($A$10:$A10)+2,FALSE)","v":102572},{"$f":"HLOOKUP(AV$7,$J$66:$DK$120,ROWS($A$10:$A10)+2,FALSE)","v":108182},{"$f":"HLOOKUP(AW$7,$J$66:$DK$120,ROWS($A$10:$A10)+2,FALSE)","v":237156},{"$f":"HLOOKUP(AX$7,$J$66:$DK$120,ROWS($A$10:$A10)+2,FALSE)","v":30498},{"$f":"HLOOKUP(AY$7,$J$66:$DK$120,ROWS($A$10:$A10)+2,FALSE)","v":127418},{"$f":"HLOOKUP(AZ$7,$J$66:$DK$120,ROWS($A$10:$A10)+2,FALSE)","v":22534},{"$f":"HLOOKUP(BA$7,$J$66:$DK$120,ROWS($A$10:$A10)+2,FALSE)","v":163843},{"$f":"HLOOKUP(BB$7,$J$66:$DK$120,ROWS($A$10:$A10)+2,FALSE)","v":402187},{"$f":"HLOOKUP(BC$7,$J$66:$DK$120,ROWS($A$10:$A10)+2,FALSE)","v":82165},{"$f":"HLOOKUP(BD$7,$J$66:$DK$120,ROWS($A$10:$A10)+2,FALSE)","v":20056},{"$f":"HLOOKUP(BE$7,$J$66:$DK$120,ROWS($A$10:$A10)+2,FALSE)","v":238540},{"$f":"HLOOKUP(BF$7,$J$66:$DK$120,ROWS($A$10:$A10)+2,FALSE)","v":180462},{"$f":"HLOOKUP(BG$7,$J$66:$DK$120,ROWS($A$10:$A10)+2,FALSE)","v":47425},{"$f":"HLOOKUP(BH$7,$J$66:$DK$120,ROWS($A$10:$A10)+2,FALSE)","v":97724},{"$f":"HLOOKUP(BI$7,$J$66:$DK$120,ROWS($A$10:$A10)+2,FALSE)","v":32228},{"$f":"HLOOKUP(BJ$7,$J$66:$DK$120,ROWS($A$10:$A10)+2,FALSE)","v":74500},{"$f":"HLOOKUP(BK$7+0.5,$J$66:$DK$120,ROWS($A$10:$A10)+2,FALSE)","v":58599},{"$f":"HLOOKUP(BL$7+0.5,$J$66:$DK$120,ROWS($A$10:$A10)+2,FALSE)","v":9027},{"$f":"HLOOKUP(BM$7+0.5,$J$66:$DK$120,ROWS($A$10:$A10)+2,FALSE)","v":7600},{"$f":"HLOOKUP(BN$7+0.5,$J$66:$DK$120,ROWS($A$10:$A10)+2,FALSE)","v":12859},{"$f":"HLOOKUP(BO$7+0.5,$J$66:$DK$120,ROWS($A$10:$A10)+2,FALSE)","v":6563},{"$f":"HLOOKUP(BP$7+0.5,$J$66:$DK$120,ROWS($A$10:$A10)+2,FALSE)","v":19755},{"$f":"HLOOKUP(BQ$7+0.5,$J$66:$DK$120,ROWS($A$10:$A10)+2,FALSE)","v":10348},{"$f":"HLOOKUP(BR$7+0.5,$J$66:$DK$120,ROWS($A$10:$A10)+2,FALSE)","v":5968},{"$f":"HLOOKUP(BS$7+0.5,$J$66:$DK$120,ROWS($A$10:$A10)+2,FALSE)","v":3775},{"$f":"HLOOKUP(BT$7+0.5,$J$66:$DK$120,ROWS($A$10:$A10)+2,FALSE)","v":6154},{"$f":"HLOOKUP(BU$7+0.5,$J$66:$DK$120,ROWS($A$10:$A10)+2,FALSE)","v":18406},{"$f":"HLOOKUP(BV$7+0.5,$J$66:$DK$120,ROWS($A$10:$A10)+2,FALSE)","v":12868},{"$f":"HLOOKUP(BW$7+0.5,$J$66:$DK$120,ROWS($A$10:$A10)+2,FALSE)","v":6100},{"$f":"HLOOKUP(BX$7+0.5,$J$66:$DK$120,ROWS($A$10:$A10)+2,FALSE)","v":6257},{"$f":"HLOOKUP(BY$7+0.5,$J$66:$DK$120,ROWS($A$10:$A10)+2,FALSE)","v":12722},{"$f":"HLOOKUP(BZ$7+0.5,$J$66:$DK$120,ROWS($A$10:$A10)+2,FALSE)","v":8929},{"$f":"HLOOKUP(CA$7+0.5,$J$66:$DK$120,ROWS($A$10:$A10)+2,FALSE)","v":6129},{"$f":"HLOOKUP(CB$7+0.5,$J$66:$DK$120,ROWS($A$10:$A10)+2,FALSE)","v":7286},{"$f":"HLOOKUP(CC$7+0.5,$J$66:$DK$120,ROWS($A$10:$A10)+2,FALSE)","v":7490},{"$f":"HLOOKUP(CD$7+0.5,$J$66:$DK$120,ROWS($A$10:$A10)+2,FALSE)","v":7745},{"$f":"HLOOKUP(CE$7+0.5,$J$66:$DK$120,ROWS($A$10:$A10)+2,FALSE)","v":5351},{"$f":"HLOOKUP(CF$7+0.5,$J$66:$DK$120,ROWS($A$10:$A10)+2,FALSE)","v":9686},{"$f":"HLOOKUP(CG$7+0.5,$J$66:$DK$120,ROWS($A$10:$A10)+2,FALSE)","v":10755},{"$f":"HLOOKUP(CH$7+0.5,$J$66:$DK$120,ROWS($A$10:$A10)+2,FALSE)","v":9302},{"$f":"HLOOKUP(CI$7+0.5,$J$66:$DK$120,ROWS($A$10:$A10)+2,FALSE)","v":8402},{"$f":"HLOOKUP(CJ$7+0.5,$J$66:$DK$120,ROWS($A$10:$A10)+2,FALSE)","v":7206},{"$f":"HLOOKUP(CK$7+0.5,$J$66:$DK$120,ROWS($A$10:$A10)+2,FALSE)","v":9402},{"$f":"HLOOKUP(CL$7+0.5,$J$66:$DK$120,ROWS($A$10:$A10)+2,FALSE)","v":4879},{"$f":"HLOOKUP(CM$7+0.5,$J$66:$DK$120,ROWS($A$10:$A10)+2,FALSE)","v":4967},{"$f":"HLOOKUP(CN$7+0.5,$J$66:$DK$120,ROWS($A$10:$A10)+2,FALSE)","v":9332},{"$f":"HLOOKUP(CO$7+0.5,$J$66:$DK$120,ROWS($A$10:$A10)+2,FALSE)","v":3364},{"$f":"HLOOKUP(CP$7+0.5,$J$66:$DK$120,ROWS($A$10:$A10)+2,FALSE)","v":11087},{"$f":"HLOOKUP(CQ$7+0.5,$J$66:$DK$120,ROWS($A$10:$A10)+2,FALSE)","v":5867},{"$f":"HLOOKUP(CR$7+0.5,$J$66:$DK$120,ROWS($A$10:$A10)+2,FALSE)","v":15692},{"$f":"HLOOKUP(CS$7+0.5,$J$66:$DK$120,ROWS($A$10:$A10)+2,FALSE)","v":13414},{"$f":"HLOOKUP(CT$7+0.5,$J$66:$DK$120,ROWS($A$10:$A10)+2,FALSE)","v":3373},{"$f":"HLOOKUP(CU$7+0.5,$J$66:$DK$120,ROWS($A$10:$A10)+2,FALSE)","v":10288},{"$f":"HLOOKUP(CV$7+0.5,$J$66:$DK$120,ROWS($A$10:$A10)+2,FALSE)","v":9213},{"$f":"HLOOKUP(CW$7+0.5,$J$66:$DK$120,ROWS($A$10:$A10)+2,FALSE)","v":7867},{"$f":"HLOOKUP(CX$7+0.5,$J$66:$DK$120,ROWS($A$10:$A10)+2,FALSE)","v":10246},{"$f":"HLOOKUP(CY$7+0.5,$J$66:$DK$120,ROWS($A$10:$A10)+2,FALSE)","v":3414},{"$f":"HLOOKUP(CZ$7+0.5,$J$66:$DK$120,ROWS($A$10:$A10)+2,FALSE)","v":8502},{"$f":"HLOOKUP(DA$7+0.5,$J$66:$DK$120,ROWS($A$10:$A10)+2,FALSE)","v":2998},{"$f":"HLOOKUP(DB$7+0.5,$J$66:$DK$120,ROWS($A$10:$A10)+2,FALSE)","v":8717},{"$f":"HLOOKUP(DC$7+0.5,$J$66:$DK$120,ROWS($A$10:$A10)+2,FALSE)","v":15471},{"$f":"HLOOKUP(DD$7+0.5,$J$66:$DK$120,ROWS($A$10:$A10)+2,FALSE)","v":8304},{"$f":"HLOOKUP(DE$7+0.5,$J$66:$DK$120,ROWS($A$10:$A10)+2,FALSE)","v":2967},{"$f":"HLOOKUP(DF$7+0.5,$J$66:$DK$120,ROWS($A$10:$A10)+2,FALSE)","v":11611},{"$f":"HLOOKUP(DG$7+0.5,$J$66:$DK$120,ROWS($A$10:$A10)+2,FALSE)","v":9674},{"$f":"HLOOKUP(DH$7+0.5,$J$66:$DK$120,ROWS($A$10:$A10)+2,FALSE)","v":5262},{"$f":"HLOOKUP(DI$7+0.5,$J$66:$DK$120,ROWS($A$10:$A10)+2,FALSE)","v":5859},{"$f":"HLOOKUP(DJ$7+0.5,$J$66:$DK$120,ROWS($A$10:$A10)+2,FALSE)","v":5150},{"$f":"HLOOKUP(DK$7+0.5,$J$66:$DK$120,ROWS($A$10:$A10)+2,FALSE)","v":8156}]
[null,"Alabama","South",4764428,3589,4054260,21464,590326,19701,{"$f":"HLOOKUP(J$7,$J$66:$DK$120,ROWS($A$10:$A11)+2,FALSE)","v":104600},{"$f":"HLOOKUP(K$7,$J$66:$DK$120,ROWS($A$10:$A11)+2,FALSE)","v":"N/A"},{"$f":"HLOOKUP(L$7,$J$66:$DK$120,ROWS($A$10:$A11)+2,FALSE)","v":1004},{"$f":"HLOOKUP(M$7,$J$66:$DK$120,ROWS($A$10:$A11)+2,FALSE)","v":962},{"$f":"HLOOKUP(N$7,$J$66:$DK$120,ROWS($A$10:$A11)+2,FALSE)","v":660},{"$f":"HLOOKUP(O$7,$J$66:$DK$120,ROWS($A$10:$A11)+2,FALSE)","v":3077},{"$f":"HLOOKUP(P$7,$J$66:$DK$120,ROWS($A$10:$A11)+2,FALSE)","v":1386},{"$f":"HLOOKUP(Q$7,$J$66:$DK$120,ROWS($A$10:$A11)+2,FALSE)","v":284},{"$f":"HLOOKUP(R$7,$J$66:$DK$120,ROWS($A$10:$A11)+2,FALSE)","v":42},{"$f":"HLOOKUP(S$7,$J$66:$DK$120,ROWS($A$10:$A11)+2,FALSE)","v":162},{"$f":"HLOOKUP(T$7,$J$66:$DK$120,ROWS($A$10:$A11)+2,FALSE)","v":11244},{"$f":"HLOOKUP(U$7,$J$66:$DK$120,ROWS($A$10:$A11)+2,FALSE)","v":19920},{"$f":"HLOOKUP(V$7,$J$66:$DK$120,ROWS($A$10:$A11)+2,FALSE)","v":627},{"$f":"HLOOKUP(W$7,$J$66:$DK$120,ROWS($A$10:$A11)+2,FALSE)","v":493},{"$f":"HLOOKUP(X$7,$J$66:$DK$120,ROWS($A$10:$A11)+2,FALSE)","v":2722},{"$f":"HLOOKUP(Y$7,$J$66:$DK$120,ROWS($A$10:$A11)+2,FALSE)","v":1347},{"$f":"HLOOKUP(Z$7,$J$66:$DK$120,ROWS($A$10:$A11)+2,FALSE)","v":345},{"$f":"HLOOKUP(AA$7,$J$66:$DK$120,ROWS($A$10:$A11)+2,FALSE)","v":865},{"$f":"HLOOKUP(AB$7,$J$66:$DK$120,ROWS($A$10:$A11)+2,FALSE)","v":2495},{"$f":"HLOOKUP(AC$7,$J$66:$DK$120,ROWS($A$10:$A11)+2,FALSE)","v":3104},{"$f":"HLOOKUP(AD$7,$J$66:$DK$120,ROWS($A$10:$A11)+2,FALSE)","v":67},{"$f":"HLOOKUP(AE$7,$J$66:$DK$120,ROWS($A$10:$A11)+2,FALSE)","v":1513},{"$f":"HLOOKUP(AF$7,$J$66:$DK$120,ROWS($A$10:$A11)+2,FALSE)","v":334},{"$f":"HLOOKUP(AG$7,$J$66:$DK$120,ROWS($A$10:$A11)+2,FALSE)","v":2298},{"$f":"HLOOKUP(AH$7,$J$66:$DK$120,ROWS($A$10:$A11)+2,FALSE)","v":752},{"$f":"HLOOKUP(AI$7,$J$66:$DK$120,ROWS($A$10:$A11)+2,FALSE)","v":4952},{"$f":"HLOOKUP(AJ$7,$J$66:$DK$120,ROWS($A$10:$A11)+2,FALSE)","v":1555},{"$f":"HLOOKUP(AK$7,$J$66:$DK$120,ROWS($A$10:$A11)+2,FALSE)","v":101},{"$f":"HLOOKUP(AL$7,$J$66:$DK$120,ROWS($A$10:$A11)+2,FALSE)","v":151},{"$f":"HLOOKUP(AM$7,$J$66:$DK$120,ROWS($A$10:$A11)+2,FALSE)","v":1009},{"$f":"HLOOKUP(AN$7,$J$66:$DK$120,ROWS($A$10:$A11)+2,FALSE)","v":161},{"$f":"HLOOKUP(AO$7,$J$66:$DK$120,ROWS($A$10:$A11)+2,FALSE)","v":1702},{"$f":"HLOOKUP(AP$7,$J$66:$DK$120,ROWS($A$10:$A11)+2,FALSE)","v":459},{"$f":"HLOOKUP(AQ$7,$J$66:$DK$120,ROWS($A$10:$A11)+2,FALSE)","v":2709},{"$f":"HLOOKUP(AR$7,$J$66:$DK$120,ROWS($A$10:$A11)+2,FALSE)","v":5133},{"$f":"HLOOKUP(AS$7,$J$66:$DK$120,ROWS($A$10:$A11)+2,FALSE)","v":228},{"$f":"HLOOKUP(AT$7,$J$66:$DK$120,ROWS($A$10:$A11)+2,FALSE)","v":1411},{"$f":"HLOOKUP(AU$7,$J$66:$DK$120,ROWS($A$10:$A11)+2,FALSE)","v":194},{"$f":"HLOOKUP(AV$7,$J$66:$DK$120,ROWS($A$10:$A11)+2,FALSE)","v":200},{"$f":"HLOOKUP(AW$7,$J$66:$DK$120,ROWS($A$10:$A11)+2,FALSE)","v":1837},{"$f":"HLOOKUP(AX$7,$J$66:$DK$120,ROWS($A$10:$A11)+2,FALSE)","v":0},{"$f":"HLOOKUP(AY$7,$J$66:$DK$120,ROWS($A$10:$A11)+2,FALSE)","v":2811},{"$f":"HLOOKUP(AZ$7,$J$66:$DK$120,ROWS($A$10:$A11)+2,FALSE)","v":518},{"$f":"HLOOKUP(BA$7,$J$66:$DK$120,ROWS($A$10:$A11)+2,FALSE)","v":10539},{"$f":"HLOOKUP(BB$7,$J$66:$DK$120,ROWS($A$10:$A11)+2,FALSE)","v":7468},{"$f":"HLOOKUP(BC$7,$J$66:$DK$120,ROWS($A$10:$A11)+2,FALSE)","v":579},{"$f":"HLOOKUP(BD$7,$J$66:$DK$120,ROWS($A$10:$A11)+2,FALSE)","v":0},{"$f":"HLOOKUP(BE$7,$J$66:$DK$120,ROWS($A$10:$A11)+2,FALSE)","v":3170},{"$f":"HLOOKUP(BF$7,$J$66:$DK$120,ROWS($A$10:$A11)+2,FALSE)","v":1034},{"$f":"HLOOKUP(BG$7,$J$66:$DK$120,ROWS($A$10:$A11)+2,FALSE)","v":128},{"$f":"HLOOKUP(BH$7,$J$66:$DK$120,ROWS($A$10:$A11)+2,FALSE)","v":760},{"$f":"HLOOKUP(BI$7,$J$66:$DK$120,ROWS($A$10:$A11)+2,FALSE)","v":88},{"$f":"HLOOKUP(BJ$7,$J$66:$DK$120,ROWS($A$10:$A11)+2,FALSE)","v":619},{"$f":"HLOOKUP(BK$7+0.5,$J$66:$DK$120,ROWS($A$10:$A11)+2,FALSE)","v":8482},{"$f":"HLOOKUP(BL$7+0.5,$J$66:$DK$120,ROWS($A$10:$A11)+2,FALSE)","v":"N/A"},{"$f":"HLOOKUP(BM$7+0.5,$J$66:$DK$120,ROWS($A$10:$A11)+2,FALSE)","v":829},{"$f":"HLOOKUP(BN$7+0.5,$J$66:$DK$120,ROWS($A$10:$A11)+2,FALSE)","v":583},{"$f":"HLOOKUP(BO$7+0.5,$J$66:$DK$120,ROWS($A$10:$A11)+2,FALSE)","v":382},{"$f":"HLOOKUP(BP$7+0.5,$J$66:$DK$120,ROWS($A$10:$A11)+2,FALSE)","v":1037},{"$f":"HLOOKUP(BQ$7+0.5,$J$66:$DK$120,ROWS($A$10:$A11)+2,FALSE)","v":1393},{"$f":"HLOOKUP(BR$7+0.5,$J$66:$DK$120,ROWS($A$10:$A11)+2,FALSE)","v":256},{"$f":"HLOOKUP(BS$7+0.5,$J$66:$DK$120,ROWS($A$10:$A11)+2,FALSE)","v":68},{"$f":"HLOOKUP(BT$7+0.5,$J$66:$DK$120,ROWS($A$10:$A11)+2,FALSE)","v":195},{"$f":"HLOOKUP(BU$7+0.5,$J$66:$DK$120,ROWS($A$10:$A11)+2,FALSE)","v":2476},{"$f":"HLOOKUP(BV$7+0.5,$J$66:$DK$120,ROWS($A$10:$A11)+2,FALSE)","v":3636},{"$f":"HLOOKUP(BW$7+0.5,$J$66:$DK$120,ROWS($A$10:$A11)+2,FALSE)","v":477},{"$f":"HLOOKUP(BX$7+0.5,$J$66:$DK$120,ROWS($A$10:$A11)+2,FALSE)","v":456},{"$f":"HLOOKUP(BY$7+0.5,$J$66:$DK$120,ROWS($A$10:$A11)+2,FALSE)","v":1030},{"$f":"HLOOKUP(BZ$7+0.5,$J$66:$DK$120,ROWS($A$10:$A11)+2,FALSE)","v":536},{"$f":"HLOOKUP(CA$7+0.5,$J$66:$DK$120,ROWS($A$10:$A11)+2,FALSE)","v":337},{"$f":"HLOOKUP(CB$7+0.5,$J$66:$DK$120,ROWS($A$10:$A11)+2,FALSE)","v":760},{"$f":"HLOOKUP(CC$7+0.5,$J$66:$DK$120,ROWS($A$10:$A11)+2,FALSE)","v":981},{"$f":"HLOOKUP(CD$7+0.5,$J$66:$DK$120,ROWS($A$10:$A11)+2,FALSE)","v":1216},{"$f":"HLOOKUP(CE$7+0.5,$J$66:$DK$120,ROWS($A$10:$A11)+2,FALSE)","v":82},{"$f":"HLOOKUP(CF$7+0.5,$J$66:$DK$120,ROWS($A$10:$A11)+2,FALSE)","v":847},{"$f":"HLOOKUP(CG$7+0.5,$J$66:$DK$120,ROWS($A$10:$A11)+2,FALSE)","v":272},{"$f":"HLOOKUP(CH$7+0.5,$J$66:$DK$120,ROWS($A$10:$A11)+2,FALSE)","v":881},{"$f":"HLOOKUP(CI$7+0.5,$J$66:$DK$120,ROWS($A$10:$A11)+2,FALSE)","v":716},{"$f":"HLOOKUP(CJ$7+0.5,$J$66:$DK$120,ROWS($A$10:$A11)+2,FALSE)","v":1703},{"$f":"HLOOKUP(CK$7+0.5,$J$66:$DK$120,ROWS($A$10:$A11)+2,FALSE)","v":836},{"$f":"HLOOKUP(CL$7+0.5,$J$66:$DK$120,ROWS($A$10:$A11)+2,FALSE)","v":132},{"$f":"HLOOKUP(CM$7+0.5,$J$66:$DK$120,ROWS($A$10:$A11)+2,FALSE)","v":167},{"$f":"HLOOKUP(CN$7+0.5,$J$66:$DK$120,ROWS($A$10:$A11)+2,FALSE)","v":824},{"$f":"HLOOKUP(CO$7+0.5,$J$66:$DK$120,ROWS($A$10:$A11)+2,FALSE)","v":166},{"$f":"HLOOKUP(CP$7+0.5,$J$66:$DK$120,ROWS($A$10:$A11)+2,FALSE)","v":1200},{"$f":"HLOOKUP(CQ$7+0.5,$J$66:$DK$120,ROWS($A$10:$A11)+2,FALSE)","v":576},{"$f":"HLOOKUP(CR$7+0.5,$J$66:$DK$120,ROWS($A$10:$A11)+2,FALSE)","v":1188},{"$f":"HLOOKUP(CS$7+0.5,$J$66:$DK$120,ROWS($A$10:$A11)+2,FALSE)","v":1788},{"$f":"HLOOKUP(CT$7+0.5,$J$66:$DK$120,ROWS($A$10:$A11)+2,FALSE)","v":194},{"$f":"HLOOKUP(CU$7+0.5,$J$66:$DK$120,ROWS($A$10:$A11)+2,FALSE)","v":576},{"$f":"HLOOKUP(CV$7+0.5,$J$66:$DK$120,ROWS($A$10:$A11)+2,FALSE)","v":157},{"$f":"HLOOKUP(CW$7+0.5,$J$66:$DK$120,ROWS($A$10:$A11)+2,FALSE)","v":169},{"$f":"HLOOKUP(CX$7+0.5,$J$66:$DK$120,ROWS($A$10:$A11)+2,FALSE)","v":736},{"$f":"HLOOKUP(CY$7+0.5,$J$66:$DK$120,ROWS($A$10:$A11)+2,FALSE)","v":184},{"$f":"HLOOKUP(CZ$7+0.5,$J$66:$DK$120,ROWS($A$10:$A11)+2,FALSE)","v":1951},{"$f":"HLOOKUP(DA$7+0.5,$J$66:$DK$120,ROWS($A$10:$A11)+2,FALSE)","v":758},{"$f":"HLOOKUP(DB$7+0.5,$J$66:$DK$120,ROWS($A$10:$A11)+2,FALSE)","v":2731},{"$f":"HLOOKUP(DC$7+0.5,$J$66:$DK$120,ROWS($A$10:$A11)+2,FALSE)","v":2136},{"$f":"HLOOKUP(DD$7+0.5,$J$66:$DK$120,ROWS($A$10:$A11)+2,FALSE)","v":713},{"$f":"HLOOKUP(DE$7+0.5,$J$66:$DK$120,ROWS($A$10:$A11)+2,FALSE)","v":184},{"$f":"HLOOKUP(DF$7+0.5,$J$66:$DK$120,ROWS($A$10:$A11)+2,FALSE)","v":1577},{"$f":"HLOOKUP(DG$7+0.5,$J$66:$DK$120,ROWS($A$10:$A11)+2,FALSE)","v":684},{"$f":"HLOOKUP(DH$7+0.5,$J$66:$DK$120,ROWS($A$10:$A11)+2,FALSE)","v":156},{"$f":"HLOOKUP(DI$7+0.5,$J$66:$DK$120,ROWS($A$10:$A11)+2,FALSE)","v":605},{"$f":"HLOOKUP(DJ$7+0.5,$J$66:$DK$120,ROWS($A$10:$A11)+2,FALSE)","v":107},{"$f":"HLOOKUP(DK$7+0.5,$J$66:$DK$120,ROWS($A$10:$A11)+2,FALSE)","v":551}]
[null,"Alaska","West",721186,1290,592551,8741,90613,7239,{"$f":"HLOOKUP(J$7,$J$66:$DK$120,ROWS($A$10:$A12)+2,FALSE)","v":33415},{"$f":"HLOOKUP(K$7,$J$66:$DK$120,ROWS($A$10:$A12)+2,FALSE)","v":1097},{"$f":"HLOOKUP(L$7,$J$66:$DK$120,ROWS($A$10:$A12)+2,FALSE)","v":"N/A"},{"$f":"HLOOKUP(M$7,$J$66:$DK$120,ROWS($A$10:$A12)+2,FALSE)","v":1520},{"$f":"HLOOKUP(N$7,$J$66:$DK$120,ROWS($A$10:$A12)+2,FALSE)","v":196},{"$f":"HLOOKUP(O$7,$J$66:$DK$120,ROWS($A$10:$A12)+2,FALSE)","v":3494},{"$f":"HLOOKUP(P$7,$J$66:$DK$120,ROWS($A$10:$A12)+2,FALSE)","v":556},{"$f":"HLOOKUP(Q$7,$J$66:$DK$120,ROWS($A$10:$A12)+2,FALSE)","v":0},{"$f":"HLOOKUP(R$7,$J$66:$DK$120,ROWS($A$10:$A12)+2,FALSE)","v":0},{"$f":"HLOOKUP(S$7,$J$66:$DK$120,ROWS($A$10:$A12)+2,FALSE)","v":356},{"$f":"HLOOKUP(T$7,$J$66:$DK$120,ROWS($A$10:$A12)+2,FALSE)","v":1991},{"$f":"HLOOKUP(U$7,$J$66:$DK$120,ROWS($A$10:$A12)+2,FALSE)","v":928},{"$f":"HLOOKUP(V$7,$J$66:$DK$120,ROWS($A$10:$A12)+2,FALSE)","v":1376},{"$f":"HLOOKUP(W$7,$J$66:$DK$120,ROWS($A$10:$A12)+2,FALSE)","v":538},{"$f":"HLOOKUP(X$7,$J$66:$DK$120,ROWS($A$10:$A12)+2,FALSE)","v":58},{"$f":"HLOOKUP(Y$7,$J$66:$DK$120,ROWS($A$10:$A12)+2,FALSE)","v":260},{"$f":"HLOOKUP(Z$7,$J$66:$DK$120,ROWS($A$10:$A12)+2,FALSE)","v":13},{"$f":"HLOOKUP(AA$7,$J$66:$DK$120,ROWS($A$10:$A12)+2,FALSE)","v":221},{"$f":"HLOOKUP(AB$7,$J$66:$DK$120,ROWS($A$10:$A12)+2,FALSE)","v":161},{"$f":"HLOOKUP(AC$7,$J$66:$DK$120,ROWS($A$10:$A12)+2,FALSE)","v":120},{"$f":"HLOOKUP(AD$7,$J$66:$DK$120,ROWS($A$10:$A12)+2,FALSE)","v":66},{"$f":"HLOOKUP(AE$7,$J$66:$DK$120,ROWS($A$10:$A12)+2,FALSE)","v":508},{"$f":"HLOOKUP(AF$7,$J$66:$DK$120,ROWS($A$10:$A12)+2,FALSE)","v":297},{"$f":"HLOOKUP(AG$7,$J$66:$DK$120,ROWS($A$10:$A12)+2,FALSE)","v":563},{"$f":"HLOOKUP(AH$7,$J$66:$DK$120,ROWS($A$10:$A12)+2,FALSE)","v":192},{"$f":"HLOOKUP(AI$7,$J$66:$DK$120,ROWS($A$10:$A12)+2,FALSE)","v":56},{"$f":"HLOOKUP(AJ$7,$J$66:$DK$120,ROWS($A$10:$A12)+2,FALSE)","v":819},{"$f":"HLOOKUP(AK$7,$J$66:$DK$120,ROWS($A$10:$A12)+2,FALSE)","v":371},{"$f":"HLOOKUP(AL$7,$J$66:$DK$120,ROWS($A$10:$A12)+2,FALSE)","v":1195},{"$f":"HLOOKUP(AM$7,$J$66:$DK$120,ROWS($A$10:$A12)+2,FALSE)","v":803},{"$f":"HLOOKUP(AN$7,$J$66:$DK$120,ROWS($A$10:$A12)+2,FALSE)","v":118},{"$f":"HLOOKUP(AO$7,$J$66:$DK$120,ROWS($A$10:$A12)+2,FALSE)","v":116},{"$f":"HLOOKUP(AP$7,$J$66:$DK$120,ROWS($A$10:$A12)+2,FALSE)","v":263},{"$f":"HLOOKUP(AQ$7,$J$66:$DK$120,ROWS($A$10:$A12)+2,FALSE)","v":736},{"$f":"HLOOKUP(AR$7,$J$66:$DK$120,ROWS($A$10:$A12)+2,FALSE)","v":920},{"$f":"HLOOKUP(AS$7,$J$66:$DK$120,ROWS($A$10:$A12)+2,FALSE)","v":264},{"$f":"HLOOKUP(AT$7,$J$66:$DK$120,ROWS($A$10:$A12)+2,FALSE)","v":1316},{"$f":"HLOOKUP(AU$7,$J$66:$DK$120,ROWS($A$10:$A12)+2,FALSE)","v":335},{"$f":"HLOOKUP(AV$7,$J$66:$DK$120,ROWS($A$10:$A12)+2,FALSE)","v":3174},{"$f":"HLOOKUP(AW$7,$J$66:$DK$120,ROWS($A$10:$A12)+2,FALSE)","v":255},{"$f":"HLOOKUP(AX$7,$J$66:$DK$120,ROWS($A$10:$A12)+2,FALSE)","v":0},{"$f":"HLOOKUP(AY$7,$J$66:$DK$120,ROWS($A$10:$A12)+2,FALSE)","v":384},{"$f":"HLOOKUP(AZ$7,$J$66:$DK$120,ROWS($A$10:$A12)+2,FALSE)","v":99},{"$f":"HLOOKUP(BA$7,$J$66:$DK$120,ROWS($A$10:$A12)+2,FALSE)","v":451},{"$f":"HLOOKUP(BB$7,$J$66:$DK$120,ROWS($A$10:$A12)+2,FALSE)","v":1488},{"$f":"HLOOKUP(BC$7,$J$66:$DK$120,ROWS($A$10:$A12)+2,FALSE)","v":330},{"$f":"HLOOKUP(BD$7,$J$66:$DK$120,ROWS($A$10:$A12)+2,FALSE)","v":79},{"$f":"HLOOKUP(BE$7,$J$66:$DK$120,ROWS($A$10:$A12)+2,FALSE)","v":1265},{"$f":"HLOOKUP(BF$7,$J$66:$DK$120,ROWS($A$10:$A12)+2,FALSE)","v":3725},{"$f":"HLOOKUP(BG$7,$J$66:$DK$120,ROWS($A$10:$A12)+2,FALSE)","v":0},{"$f":"HLOOKUP(BH$7,$J$66:$DK$120,ROWS($A$10:$A12)+2,FALSE)","v":206},{"$f":"HLOOKUP(BI$7,$J$66:$DK$120,ROWS($A$10:$A12)+2,FALSE)","v":136},{"$f":"HLOOKUP(BJ$7,$J$66:$DK$120,ROWS($A$10:$A12)+2,FALSE)","v":25},{"$f":"HLOOKUP(BK$7+0.5,$J$66:$DK$120,ROWS($A$10:$A12)+2,FALSE)","v":4385},{"$f":"HLOOKUP(BL$7+0.5,$J$66:$DK$120,ROWS($A$10:$A12)+2,FALSE)","v":825},{"$f":"HLOOKUP(BM$7+0.5,$J$66:$DK$120,ROWS($A$10:$A12)+2,FALSE)","v":"N/A"},{"$f":"HLOOKUP(BN$7+0.5,$J$66:$DK$120,ROWS($A$10:$A12)+2,FALSE)","v":1441},{"$f":"HLOOKUP(BO$7+0.5,$J$66:$DK$120,ROWS($A$10:$A12)+2,FALSE)","v":202},{"$f":"HLOOKUP(BP$7+0.5,$J$66:$DK$120,ROWS($A$10:$A12)+2,FALSE)","v":1643},{"$f":"HLOOKUP(BQ$7+0.5,$J$66:$DK$120,ROWS($A$10:$A12)+2,FALSE)","v":279},{"$f":"HLOOKUP(BR$7+0.5,$J$66:$DK$120,ROWS($A$10:$A12)+2,FALSE)","v":143},{"$f":"HLOOKUP(BS$7+0.5,$J$66:$DK$120,ROWS($A$10:$A12)+2,FALSE)","v":143},{"$f":"HLOOKUP(BT$7+0.5,$J$66:$DK$120,ROWS($A$10:$A12)+2,FALSE)","v":459},{"$f":"HLOOKUP(BU$7+0.5,$J$66:$DK$120,ROWS($A$10:$A12)+2,FALSE)","v":942},{"$f":"HLOOKUP(BV$7+0.5,$J$66:$DK$120,ROWS($A$10:$A12)+2,FALSE)","v":894},{"$f":"HLOOKUP(BW$7+0.5,$J$66:$DK$120,ROWS($A$10:$A12)+2,FALSE)","v":805},{"$f":"HLOOKUP(BX$7+0.5,$J$66:$DK$120,ROWS($A$10:$A12)+2,FALSE)","v":387},{"$f":"HLOOKUP(BY$7+0.5,$J$66:$DK$120,ROWS($A$10:$A12)+2,FALSE)","v":118},{"$f":"HLOOKUP(BZ$7+0.5,$J$66:$DK$120,ROWS($A$10:$A12)+2,FALSE)","v":235},{"$f":"HLOOKUP(CA$7+0.5,$J$66:$DK$120,ROWS($A$10:$A12)+2,FALSE)","v":24},{"$f":"HLOOKUP(CB$7+0.5,$J$66:$DK$120,ROWS($A$10:$A12)+2,FALSE)","v":272},{"$f":"HLOOKUP(CC$7+0.5,$J$66:$DK$120,ROWS($A$10:$A12)+2,FALSE)","v":196},{"$f":"HLOOKUP(CD$7+0.5,$J$66:$DK$120,ROWS($A$10:$A12)+2,FALSE)","v":145},{"$f":"HLOOKUP(CE$7+0.5,$J$66:$DK$120,ROWS($A$10:$A12)+2,FALSE)","v":62},{"$f":"HLOOKUP(CF$7+0.5,$J$66:$DK$120,ROWS($A$10:$A12)+2,FALSE)","v":591},{"$f":"HLOOKUP(CG$7+0.5,$J$66:$DK$120,ROWS($A$10:$A12)+2,FALSE)","v":289},{"$f":"HLOOKUP(CH$7+0.5,$J$66:$DK$120,ROWS($A$10:$A12)+2,FALSE)","v":426},{"$f":"HLOOKUP(CI$7+0.5,$J$66:$DK$120,ROWS($A$10:$A12)+2,FALSE)","v":191},{"$f":"HLOOKUP(CJ$7+0.5,$J$66:$DK$120,ROWS($A$10:$A12)+2,FALSE)","v":76},{"$f":"HLOOKUP(CK$7+0.5,$J$66:$DK$120,ROWS($A$10:$A12)+2,FALSE)","v":628},{"$f":"HLOOKUP(CL$7+0.5,$J$66:$DK$120,ROWS($A$10:$A12)+2,FALSE)","v":334},{"$f":"HLOOKUP(CM$7+0.5,$J$66:$DK$120,ROWS($A$10:$A12)+2,FALSE)","v":1128},{"$f":"HLOOKUP(CN$7+0.5,$J$66:$DK$120,ROWS($A$10:$A12)+2,FALSE)","v":382},{"$f":"HLOOKUP(CO$7+0.5,$J$66:$DK$120,ROWS($A$10:$A12)+2,FALSE)","v":206},{"$f":"HLOOKUP(CP$7+0.5,$J$66:$DK$120,ROWS($A$10:$A12)+2,FALSE)","v":156},{"$f":"HLOOKUP(CQ$7+0.5,$J$66:$DK$120,ROWS($A$10:$A12)+2,FALSE)","v":219},{"$f":"HLOOKUP(CR$7+0.5,$J$66:$DK$120,ROWS($A$10:$A12)+2,FALSE)","v":576},{"$f":"HLOOKUP(CS$7+0.5,$J$66:$DK$120,ROWS($A$10:$A12)+2,FALSE)","v":784},{"$f":"HLOOKUP(CT$7+0.5,$J$66:$DK$120,ROWS($A$10:$A12)+2,FALSE)","v":359},{"$f":"HLOOKUP(CU$7+0.5,$J$66:$DK$120,ROWS($A$10:$A12)+2,FALSE)","v":757},{"$f":"HLOOKUP(CV$7+0.5,$J$66:$DK$120,ROWS($A$10:$A12)+2,FALSE)","v":252},{"$f":"HLOOKUP(CW$7+0.5,$J$66:$DK$120,ROWS($A$10:$A12)+2,FALSE)","v":1510},{"$f":"HLOOKUP(CX$7+0.5,$J$66:$DK$120,ROWS($A$10:$A12)+2,FALSE)","v":240},{"$f":"HLOOKUP(CY$7+0.5,$J$66:$DK$120,ROWS($A$10:$A12)+2,FALSE)","v":143},{"$f":"HLOOKUP(CZ$7+0.5,$J$66:$DK$120,ROWS($A$10:$A12)+2,FALSE)","v":394},{"$f":"HLOOKUP(DA$7+0.5,$J$66:$DK$120,ROWS($A$10:$A12)+2,FALSE)","v":123},{"$f":"HLOOKUP(DB$7+0.5,$J$66:$DK$120,ROWS($A$10:$A12)+2,FALSE)","v":413},{"$f":"HLOOKUP(DC$7+0.5,$J$66:$DK$120,ROWS($A$10:$A12)+2,FALSE)","v":760},{"$f":"HLOOKUP(DD$7+0.5,$J$66:$DK$120,ROWS($A$10:$A12)+2,FALSE)","v":347},{"$f":"HLOOKUP(DE$7+0.5,$J$66:$DK$120,ROWS($A$10:$A12)+2,FALSE)","v":108},{"$f":"HLOOKUP(DF$7+0.5,$J$66:$DK$120,ROWS($A$10:$A12)+2,FALSE)","v":674},{"$f":"HLOOKUP(DG$7+0.5,$J$66:$DK$120,ROWS($A$10:$A12)+2,FALSE)","v":1488},{"$f":"HLOOKUP(DH$7+0.5,$J$66:$DK$120,ROWS($A$10:$A12)+2,FALSE)","v":143},{"$f":"HLOOKUP(DI$7+0.5,$J$66:$DK$120,ROWS($A$10:$A12)+2,FALSE)","v":261},{"$f":"HLOOKUP(DJ$7+0.5,$J$66:$DK$120,ROWS($A$10:$A12)+2,FALSE)","v":217},{"$f":"HLOOKUP(DK$7+0.5,$J$66:$DK$120,ROWS($A$10:$A12)+2,FALSE)","v":43}]
[null,"Arizona","West",6468907,3874,5242674,32185,953789,28803,{"$f":"HLOOKUP(J$7,$J$66:$DK$120,ROWS($A$10:$A13)+2,FALSE)","v":232457},{"$f":"HLOOKUP(K$7,$J$66:$DK$120,ROWS($A$10:$A13)+2,FALSE)","v":1331},{"$f":"HLOOKUP(L$7,$J$66:$DK$120,ROWS($A$10:$A13)+2,FALSE)","v":3717},{"$f":"HLOOKUP(M$7,$J$66:$DK$120,ROWS($A$10:$A13)+2,FALSE)","v":"N/A"},{"$f":"HLOOKUP(N$7,$J$66:$DK$120,ROWS($A$10:$A13)+2,FALSE)","v":1214},{"$f":"HLOOKUP(O$7,$J$66:$DK$120,ROWS($A$10:$A13)+2,FALSE)","v":44889},{"$f":"HLOOKUP(P$7,$J$66:$DK$120,ROWS($A$10:$A13)+2,FALSE)","v":13790},{"$f":"HLOOKUP(Q$7,$J$66:$DK$120,ROWS($A$10:$A13)+2,FALSE)","v":417},{"$f":"HLOOKUP(R$7,$J$66:$DK$120,ROWS($A$10:$A13)+2,FALSE)","v":246},{"$f":"HLOOKUP(S$7,$J$66:$DK$120,ROWS($A$10:$A13)+2,FALSE)","v":36},{"$f":"HLOOKUP(T$7,$J$66:$DK$120,ROWS($A$10:$A13)+2,FALSE)","v":5553},{"$f":"HLOOKUP(U$7,$J$66:$DK$120,ROWS($A$10:$A13)+2,FALSE)","v":2263},{"$f":"HLOOKUP(V$7,$J$66:$DK$120,ROWS($A$10:$A13)+2,FALSE)","v":2491},{"$f":"HLOOKUP(W$7,$J$66:$DK$120,ROWS($A$10:$A13)+2,FALSE)","v":2934},{"$f":"HLOOKUP(X$7,$J$66:$DK$120,ROWS($A$10:$A13)+2,FALSE)","v":10744},{"$f":"HLOOKUP(Y$7,$J$66:$DK$120,ROWS($A$10:$A13)+2,FALSE)","v":2930},{"$f":"HLOOKUP(Z$7,$J$66:$DK$120,ROWS($A$10:$A13)+2,FALSE)","v":2702},{"$f":"HLOOKUP(AA$7,$J$66:$DK$120,ROWS($A$10:$A13)+2,FALSE)","v":2498},{"$f":"HLOOKUP(AB$7,$J$66:$DK$120,ROWS($A$10:$A13)+2,FALSE)","v":1328},{"$f":"HLOOKUP(AC$7,$J$66:$DK$120,ROWS($A$10:$A13)+2,FALSE)","v":724},{"$f":"HLOOKUP(AD$7,$J$66:$DK$120,ROWS($A$10:$A13)+2,FALSE)","v":616},{"$f":"HLOOKUP(AE$7,$J$66:$DK$120,ROWS($A$10:$A13)+2,FALSE)","v":3007},{"$f":"HLOOKUP(AF$7,$J$66:$DK$120,ROWS($A$10:$A13)+2,FALSE)","v":1961},{"$f":"HLOOKUP(AG$7,$J$66:$DK$120,ROWS($A$10:$A13)+2,FALSE)","v":9598},{"$f":"HLOOKUP(AH$7,$J$66:$DK$120,ROWS($A$10:$A13)+2,FALSE)","v":8570},{"$f":"HLOOKUP(AI$7,$J$66:$DK$120,ROWS($A$10:$A13)+2,FALSE)","v":293},{"$f":"HLOOKUP(AJ$7,$J$66:$DK$120,ROWS($A$10:$A13)+2,FALSE)","v":2595},{"$f":"HLOOKUP(AK$7,$J$66:$DK$120,ROWS($A$10:$A13)+2,FALSE)","v":1118},{"$f":"HLOOKUP(AL$7,$J$66:$DK$120,ROWS($A$10:$A13)+2,FALSE)","v":2293},{"$f":"HLOOKUP(AM$7,$J$66:$DK$120,ROWS($A$10:$A13)+2,FALSE)","v":6712},{"$f":"HLOOKUP(AN$7,$J$66:$DK$120,ROWS($A$10:$A13)+2,FALSE)","v":510},{"$f":"HLOOKUP(AO$7,$J$66:$DK$120,ROWS($A$10:$A13)+2,FALSE)","v":2564},{"$f":"HLOOKUP(AP$7,$J$66:$DK$120,ROWS($A$10:$A13)+2,FALSE)","v":6946},{"$f":"HLOOKUP(AQ$7,$J$66:$DK$120,ROWS($A$10:$A13)+2,FALSE)","v":7402},{"$f":"HLOOKUP(AR$7,$J$66:$DK$120,ROWS($A$10:$A13)+2,FALSE)","v":2721},{"$f":"HLOOKUP(AS$7,$J$66:$DK$120,ROWS($A$10:$A13)+2,FALSE)","v":877},{"$f":"HLOOKUP(AT$7,$J$66:$DK$120,ROWS($A$10:$A13)+2,FALSE)","v":7906},{"$f":"HLOOKUP(AU$7,$J$66:$DK$120,ROWS($A$10:$A13)+2,FALSE)","v":1626},{"$f":"HLOOKUP(AV$7,$J$66:$DK$120,ROWS($A$10:$A13)+2,FALSE)","v":8587},{"$f":"HLOOKUP(AW$7,$J$66:$DK$120,ROWS($A$10:$A13)+2,FALSE)","v":4280},{"$f":"HLOOKUP(AX$7,$J$66:$DK$120,ROWS($A$10:$A13)+2,FALSE)","v":614},{"$f":"HLOOKUP(AY$7,$J$66:$DK$120,ROWS($A$10:$A13)+2,FALSE)","v":1070},{"$f":"HLOOKUP(AZ$7,$J$66:$DK$120,ROWS($A$10:$A13)+2,FALSE)","v":1472},{"$f":"HLOOKUP(BA$7,$J$66:$DK$120,ROWS($A$10:$A13)+2,FALSE)","v":5075},{"$f":"HLOOKUP(BB$7,$J$66:$DK$120,ROWS($A$10:$A13)+2,FALSE)","v":14788},{"$f":"HLOOKUP(BC$7,$J$66:$DK$120,ROWS($A$10:$A13)+2,FALSE)","v":5916},{"$f":"HLOOKUP(BD$7,$J$66:$DK$120,ROWS($A$10:$A13)+2,FALSE)","v":207},{"$f":"HLOOKUP(BE$7,$J$66:$DK$120,ROWS($A$10:$A13)+2,FALSE)","v":2763},{"$f":"HLOOKUP(BF$7,$J$66:$DK$120,ROWS($A$10:$A13)+2,FALSE)","v":13247},{"$f":"HLOOKUP(BG$7,$J$66:$DK$120,ROWS($A$10:$A13)+2,FALSE)","v":765},{"$f":"HLOOKUP(BH$7,$J$66:$DK$120,ROWS($A$10:$A13)+2,FALSE)","v":3765},{"$f":"HLOOKUP(BI$7,$J$66:$DK$120,ROWS($A$10:$A13)+2,FALSE)","v":2786},{"$f":"HLOOKUP(BJ$7,$J$66:$DK$120,ROWS($A$10:$A13)+2,FALSE)","v":1791},{"$f":"HLOOKUP(BK$7+0.5,$J$66:$DK$120,ROWS($A$10:$A13)+2,FALSE)","v":14183},{"$f":"HLOOKUP(BL$7+0.5,$J$66:$DK$120,ROWS($A$10:$A13)+2,FALSE)","v":1286},{"$f":"HLOOKUP(BM$7+0.5,$J$66:$DK$120,ROWS($A$10:$A13)+2,FALSE)","v":1505},{"$f":"HLOOKUP(BN$7+0.5,$J$66:$DK$120,ROWS($A$10:$A13)+2,FALSE)","v":"N/A"},{"$f":"HLOOKUP(BO$7+0.5,$J$66:$DK$120,ROWS($A$10:$A13)+2,FALSE)","v":659},{"$f":"HLOOKUP(BP$7+0.5,$J$66:$DK$120,ROWS($A$10:$A13)+2,FALSE)","v":5435},{"$f":"HLOOKUP(BQ$7+0.5,$J$66:$DK$120,ROWS($A$10:$A13)+2,FALSE)","v":6133},{"$f":"HLOOKUP(BR$7+0.5,$J$66:$DK$120,ROWS($A$10:$A13)+2,FALSE)","v":309},{"$f":"HLOOKUP(BS$7+0.5,$J$66:$DK$120,ROWS($A$10:$A13)+2,FALSE)","v":215},{"$f":"HLOOKUP(BT$7+0.5,$J$66:$DK$120,ROWS($A$10:$A13)+2,FALSE)","v":60},{"$f":"HLOOKUP(BU$7+0.5,$J$66:$DK$120,ROWS($A$10:$A13)+2,FALSE)","v":2160},{"$f":"HLOOKUP(BV$7+0.5,$J$66:$DK$120,ROWS($A$10:$A13)+2,FALSE)","v":961},{"$f":"HLOOKUP(BW$7+0.5,$J$66:$DK$120,ROWS($A$10:$A13)+2,FALSE)","v":1285},{"$f":"HLOOKUP(BX$7+0.5,$J$66:$DK$120,ROWS($A$10:$A13)+2,FALSE)","v":1362},{"$f":"HLOOKUP(BY$7+0.5,$J$66:$DK$120,ROWS($A$10:$A13)+2,FALSE)","v":2614},{"$f":"HLOOKUP(BZ$7+0.5,$J$66:$DK$120,ROWS($A$10:$A13)+2,FALSE)","v":1447},{"$f":"HLOOKUP(CA$7+0.5,$J$66:$DK$120,ROWS($A$10:$A13)+2,FALSE)","v":1000},{"$f":"HLOOKUP(CB$7+0.5,$J$66:$DK$120,ROWS($A$10:$A13)+2,FALSE)","v":852},{"$f":"HLOOKUP(CC$7+0.5,$J$66:$DK$120,ROWS($A$10:$A13)+2,FALSE)","v":997},{"$f":"HLOOKUP(CD$7+0.5,$J$66:$DK$120,ROWS($A$10:$A13)+2,FALSE)","v":442},{"$f":"HLOOKUP(CE$7+0.5,$J$66:$DK$120,ROWS($A$10:$A13)+2,FALSE)","v":593},{"$f":"HLOOKUP(CF$7+0.5,$J$66:$DK$120,ROWS($A$10:$A13)+2,FALSE)","v":1288},{"$f":"HLOOKUP(CG$7+0.5,$J$66:$DK$120,ROWS($A$10:$A13)+2,FALSE)","v":1083},{"$f":"HLOOKUP(CH$7+0.5,$J$66:$DK$120,ROWS($A$10:$A13)+2,FALSE)","v":3471},{"$f":"HLOOKUP(CI$7+0.5,$J$66:$DK$120,ROWS($A$10:$A13)+2,FALSE)","v":3050},{"$f":"HLOOKUP(CJ$7+0.5,$J$66:$DK$120,ROWS($A$10:$A13)+2,FALSE)","v":215},{"$f":"HLOOKUP(CK$7+0.5,$J$66:$DK$120,ROWS($A$10:$A13)+2,FALSE)","v":1099},{"$f":"HLOOKUP(CL$7+0.5,$J$66:$DK$120,ROWS($A$10:$A13)+2,FALSE)","v":536},{"$f":"HLOOKUP(CM$7+0.5,$J$66:$DK$120,ROWS($A$10:$A13)+2,FALSE)","v":1037},{"$f":"HLOOKUP(CN$7+0.5,$J$66:$DK$120,ROWS($A$10:$A13)+2,FALSE)","v":2202},{"$f":"HLOOKUP(CO$7+0.5,$J$66:$DK$120,ROWS($A$10:$A13)+2,FALSE)","v":443},{"$f":"HLOOKUP(CP$7+0.5,$J$66:$DK$120,ROWS($A$10:$A13)+2,FALSE)","v":1085},{"$f":"HLOOKUP(CQ$7+0.5,$J$66:$DK$120,ROWS($A$10:$A13)+2,FALSE)","v":1907},{"$f":"HLOOKUP(CR$7+0.5,$J$66:$DK$120,ROWS($A$10:$A13)+2,FALSE)","v":2615},{"$f":"HLOOKUP(CS$7+0.5,$J$66:$DK$120,ROWS($A$10:$A13)+2,FALSE)","v":939},{"$f":"HLOOKUP(CT$7+0.5,$J$66:$DK$120,ROWS($A$10:$A13)+2,FALSE)","v":444},{"$f":"HLOOKUP(CU$7+0.5,$J$66:$DK$120,ROWS($A$10:$A13)+2,FALSE)","v":2239},{"$f":"HLOOKUP(CV$7+0.5,$J$66:$DK$120,ROWS($A$10:$A13)+2,FALSE)","v":838},{"$f":"HLOOKUP(CW$7+0.5,$J$66:$DK$120,ROWS($A$10:$A13)+2,FALSE)","v":3200},{"$f":"HLOOKUP(CX$7+0.5,$J$66:$DK$120,ROWS($A$10:$A13)+2,FALSE)","v":1395},{"$f":"HLOOKUP(CY$7+0.5,$J$66:$DK$120,ROWS($A$10:$A13)+2,FALSE)","v":687},{"$f":"HLOOKUP(CZ$7+0.5,$J$66:$DK$120,ROWS($A$10:$A13)+2,FALSE)","v":573},{"$f":"HLOOKUP(DA$7+0.5,$J$66:$DK$120,ROWS($A$10:$A13)+2,FALSE)","v":776},{"$f":"HLOOKUP(DB$7+0.5,$J$66:$DK$120,ROWS($A$10:$A13)+2,FALSE)","v":1919},{"$f":"HLOOKUP(DC$7+0.5,$J$66:$DK$120,ROWS($A$10:$A13)+2,FALSE)","v":3541},{"$f":"HLOOKUP(DD$7+0.5,$J$66:$DK$120,ROWS($A$10:$A13)+2,FALSE)","v":1789},{"$f":"HLOOKUP(DE$7+0.5,$J$66:$DK$120,ROWS($A$10:$A13)+2,FALSE)","v":291},{"$f":"HLOOKUP(DF$7+0.5,$J$66:$DK$120,ROWS($A$10:$A13)+2,FALSE)","v":1031},{"$f":"HLOOKUP(DG$7+0.5,$J$66:$DK$120,ROWS($A$10:$A13)+2,FALSE)","v":2448},{"$f":"HLOOKUP(DH$7+0.5,$J$66:$DK$120,ROWS($A$10:$A13)+2,FALSE)","v":734},{"$f":"HLOOKUP(DI$7+0.5,$J$66:$DK$120,ROWS($A$10:$A13)+2,FALSE)","v":1168},{"$f":"HLOOKUP(DJ$7+0.5,$J$66:$DK$120,ROWS($A$10:$A13)+2,FALSE)","v":1401},{"$f":"HLOOKUP(DK$7+0.5,$J$66:$DK$120,ROWS($A$10:$A13)+2,FALSE)","v":1662}]
[null,"Arkansas","South",2912680,2753,2453347,16841,373046,14543,{"$f":"HLOOKUP(J$7,$J$66:$DK$120,ROWS($A$10:$A14)+2,FALSE)","v":76948},{"$f":"HLOOKUP(K$7,$J$66:$DK$120,ROWS($A$10:$A14)+2,FALSE)","v":374},{"$f":"HLOOKUP(L$7,$J$66:$DK$120,ROWS($A$10:$A14)+2,FALSE)","v":855},{"$f":"HLOOKUP(M$7,$J$66:$DK$120,ROWS($A$10:$A14)+2,FALSE)","v":1677},{"$f":"HLOOKUP(N$7,$J$66:$DK$120,ROWS($A$10:$A14)+2,FALSE)","v":"N/A"},{"$f":"HLOOKUP(O$7,$J$66:$DK$120,ROWS($A$10:$A14)+2,FALSE)","v":3525},{"$f":"HLOOKUP(P$7,$J$66:$DK$120,ROWS($A$10:$A14)+2,FALSE)","v":603},{"$f":"HLOOKUP(Q$7,$J$66:$DK$120,ROWS($A$10:$A14)+2,FALSE)","v":185},{"$f":"HLOOKUP(R$7,$J$66:$DK$120,ROWS($A$10:$A14)+2,FALSE)","v":0},{"$f":"HLOOKUP(S$7,$J$66:$DK$120,ROWS($A$10:$A14)+2,FALSE)","v":205},{"$f":"HLOOKUP(T$7,$J$66:$DK$120,ROWS($A$10:$A14)+2,FALSE)","v":2682},{"$f":"HLOOKUP(U$7,$J$66:$DK$120,ROWS($A$10:$A14)+2,FALSE)","v":1525},{"$f":"HLOOKUP(V$7,$J$66:$DK$120,ROWS($A$10:$A14)+2,FALSE)","v":0},{"$f":"HLOOKUP(W$7,$J$66:$DK$120,ROWS($A$10:$A14)+2,FALSE)","v":0},{"$f":"HLOOKUP(X$7,$J$66:$DK$120,ROWS($A$10:$A14)+2,FALSE)","v":3576},{"$f":"HLOOKUP(Y$7,$J$66:$DK$120,ROWS($A$10:$A14)+2,FALSE)","v":1172},{"$f":"HLOOKUP(Z$7,$J$66:$DK$120,ROWS($A$10:$A14)+2,FALSE)","v":409},{"$f":"HLOOKUP(AA$7,$J$66:$DK$120,ROWS($A$10:$A14)+2,FALSE)","v":1033},{"$f":"HLOOKUP(AB$7,$J$66:$DK$120,ROWS($A$10:$A14)+2,FALSE)","v":1310},{"$f":"HLOOKUP(AC$7,$J$66:$DK$120,ROWS($A$10:$A14)+2,FALSE)","v":3953},{"$f":"HLOOKUP(AD$7,$J$66:$DK$120,ROWS($A$10:$A14)+2,FALSE)","v":17},{"$f":"HLOOKUP(AE$7,$J$66:$DK$120,ROWS($A$10:$A14)+2,FALSE)","v":169},{"$f":"HLOOKUP(AF$7,$J$66:$DK$120,ROWS($A$10:$A14)+2,FALSE)","v":254},{"$f":"HLOOKUP(AG$7,$J$66:$DK$120,ROWS($A$10:$A14)+2,FALSE)","v":1283},{"$f":"HLOOKUP(AH$7,$J$66:$DK$120,ROWS($A$10:$A14)+2,FALSE)","v":295},{"$f":"HLOOKUP(AI$7,$J$66:$DK$120,ROWS($A$10:$A14)+2,FALSE)","v":3689},{"$f":"HLOOKUP(AJ$7,$J$66:$DK$120,ROWS($A$10:$A14)+2,FALSE)","v":9105},{"$f":"HLOOKUP(AK$7,$J$66:$DK$120,ROWS($A$10:$A14)+2,FALSE)","v":258},{"$f":"HLOOKUP(AL$7,$J$66:$DK$120,ROWS($A$10:$A14)+2,FALSE)","v":166},{"$f":"HLOOKUP(AM$7,$J$66:$DK$120,ROWS($A$10:$A14)+2,FALSE)","v":121},{"$f":"HLOOKUP(AN$7,$J$66:$DK$120,ROWS($A$10:$A14)+2,FALSE)","v":0},{"$f":"HLOOKUP(AO$7,$J$66:$DK$120,ROWS($A$10:$A14)+2,FALSE)","v":157},{"$f":"HLOOKUP(AP$7,$J$66:$DK$120,ROWS($A$10:$A14)+2,FALSE)","v":547},{"$f":"HLOOKUP(AQ$7,$J$66:$DK$120,ROWS($A$10:$A14)+2,FALSE)","v":2262},{"$f":"HLOOKUP(AR$7,$J$66:$DK$120,ROWS($A$10:$A14)+2,FALSE)","v":3057},{"$f":"HLOOKUP(AS$7,$J$66:$DK$120,ROWS($A$10:$A14)+2,FALSE)","v":0},{"$f":"HLOOKUP(AT$7,$J$66:$DK$120,ROWS($A$10:$A14)+2,FALSE)","v":1135},{"$f":"HLOOKUP(AU$7,$J$66:$DK$120,ROWS($A$10:$A14)+2,FALSE)","v":9938},{"$f":"HLOOKUP(AV$7,$J$66:$DK$120,ROWS($A$10:$A14)+2,FALSE)","v":193},{"$f":"HLOOKUP(AW$7,$J$66:$DK$120,ROWS($A$10:$A14)+2,FALSE)","v":516},{"$f":"HLOOKUP(AX$7,$J$66:$DK$120,ROWS($A$10:$A14)+2,FALSE)","v":59},{"$f":"HLOOKUP(AY$7,$J$66:$DK$120,ROWS($A$10:$A14)+2,FALSE)","v":52},{"$f":"HLOOKUP(AZ$7,$J$66:$DK$120,ROWS($A$10:$A14)+2,FALSE)","v":673},{"$f":"HLOOKUP(BA$7,$J$66:$DK$120,ROWS($A$10:$A14)+2,FALSE)","v":4195},{"$f":"HLOOKUP(BB$7,$J$66:$DK$120,ROWS($A$10:$A14)+2,FALSE)","v":11767},{"$f":"HLOOKUP(BC$7,$J$66:$DK$120,ROWS($A$10:$A14)+2,FALSE)","v":269},{"$f":"HLOOKUP(BD$7,$J$66:$DK$120,ROWS($A$10:$A14)+2,FALSE)","v":0},{"$f":"HLOOKUP(BE$7,$J$66:$DK$120,ROWS($A$10:$A14)+2,FALSE)","v":1159},{"$f":"HLOOKUP(BF$7,$J$66:$DK$120,ROWS($A$10:$A14)+2,FALSE)","v":251},{"$f":"HLOOKUP(BG$7,$J$66:$DK$120,ROWS($A$10:$A14)+2,FALSE)","v":84},{"$f":"HLOOKUP(BH$7,$J$66:$DK$120,ROWS($A$10:$A14)+2,FALSE)","v":695},{"$f":"HLOOKUP(BI$7,$J$66:$DK$120,ROWS($A$10:$A14)+2,FALSE)","v":1498},{"$f":"HLOOKUP(BJ$7,$J$66:$DK$120,ROWS($A$10:$A14)+2,FALSE)","v":0},{"$f":"HLOOKUP(BK$7+0.5,$J$66:$DK$120,ROWS($A$10:$A14)+2,FALSE)","v":7223},{"$f":"HLOOKUP(BL$7+0.5,$J$66:$DK$120,ROWS($A$10:$A14)+2,FALSE)","v":293},{"$f":"HLOOKUP(BM$7+0.5,$J$66:$DK$120,ROWS($A$10:$A14)+2,FALSE)","v":906},{"$f":"HLOOKUP(BN$7+0.5,$J$66:$DK$120,ROWS($A$10:$A14)+2,FALSE)","v":954},{"$f":"HLOOKUP(BO$7+0.5,$J$66:$DK$120,ROWS($A$10:$A14)+2,FALSE)","v":"N/A"},{"$f":"HLOOKUP(BP$7+0.5,$J$66:$DK$120,ROWS($A$10:$A14)+2,FALSE)","v":1202},{"$f":"HLOOKUP(BQ$7+0.5,$J$66:$DK$120,ROWS($A$10:$A14)+2,FALSE)","v":369},{"$f":"HLOOKUP(BR$7+0.5,$J$66:$DK$120,ROWS($A$10:$A14)+2,FALSE)","v":264},{"$f":"HLOOKUP(BS$7+0.5,$J$66:$DK$120,ROWS($A$10:$A14)+2,FALSE)","v":184},{"$f":"HLOOKUP(BT$7+0.5,$J$66:$DK$120,ROWS($A$10:$A14)+2,FALSE)","v":232},{"$f":"HLOOKUP(BU$7+0.5,$J$66:$DK$120,ROWS($A$10:$A14)+2,FALSE)","v":1052},{"$f":"HLOOKUP(BV$7+0.5,$J$66:$DK$120,ROWS($A$10:$A14)+2,FALSE)","v":1006},{"$f":"HLOOKUP(BW$7+0.5,$J$66:$DK$120,ROWS($A$10:$A14)+2,FALSE)","v":184},{"$f":"HLOOKUP(BX$7+0.5,$J$66:$DK$120,ROWS($A$10:$A14)+2,FALSE)","v":184},{"$f":"HLOOKUP(BY$7+0.5,$J$66:$DK$120,ROWS($A$10:$A14)+2,FALSE)","v":1286},{"$f":"HLOOKUP(BZ$7+0.5,$J$66:$DK$120,ROWS($A$10:$A14)+2,FALSE)","v":587},{"$f":"HLOOKUP(CA$7+0.5,$J$66:$DK$120,ROWS($A$10:$A14)+2,FALSE)","v":330},{"$f":"HLOOKUP(CB$7+0.5,$J$66:$DK$120,ROWS($A$10:$A14)+2,FALSE)","v":539},{"$f":"HLOOKUP(CC$7+0.5,$J$66:$DK$120,ROWS($A$10:$A14)+2,FALSE)","v":884},{"$f":"HLOOKUP(CD$7+0.5,$J$66:$DK$120,ROWS($A$10:$A14)+2,FALSE)","v":1340},{"$f":"HLOOKUP(CE$7+0.5,$J$66:$DK$120,ROWS($A$10:$A14)+2,FALSE)","v":39},{"$f":"HLOOKUP(CF$7+0.5,$J$66:$DK$120,ROWS($A$10:$A14)+2,FALSE)","v":209},{"$f":"HLOOKUP(CG$7+0.5,$J$66:$DK$120,ROWS($A$10:$A14)+2,FALSE)","v":262},{"$f":"HLOOKUP(CH$7+0.5,$J$66:$DK$120,ROWS($A$10:$A14)+2,FALSE)","v":607},{"$f":"HLOOKUP(CI$7+0.5,$J$66:$DK$120,ROWS($A$10:$A14)+2,FALSE)","v":285},{"$f":"HLOOKUP(CJ$7+0.5,$J$66:$DK$120,ROWS($A$10:$A14)+2,FALSE)","v":2537},{"$f":"HLOOKUP(CK$7+0.5,$J$66:$DK$120,ROWS($A$10:$A14)+2,FALSE)","v":2916},{"$f":"HLOOKUP(CL$7+0.5,$J$66:$DK$120,ROWS($A$10:$A14)+2,FALSE)","v":293},{"$f":"HLOOKUP(CM$7+0.5,$J$66:$DK$120,ROWS($A$10:$A14)+2,FALSE)","v":201},{"$f":"HLOOKUP(CN$7+0.5,$J$66:$DK$120,ROWS($A$10:$A14)+2,FALSE)","v":161},{"$f":"HLOOKUP(CO$7+0.5,$J$66:$DK$120,ROWS($A$10:$A14)+2,FALSE)","v":184},{"$f":"HLOOKUP(CP$7+0.5,$J$66:$DK$120,ROWS($A$10:$A14)+2,FALSE)","v":171},{"$f":"HLOOKUP(CQ$7+0.5,$J$66:$DK$120,ROWS($A$10:$A14)+2,FALSE)","v":482},{"$f":"HLOOKUP(CR$7+0.5,$J$66:$DK$120,ROWS($A$10:$A14)+2,FALSE)","v":1559},{"$f":"HLOOKUP(CS$7+0.5,$J$66:$DK$120,ROWS($A$10:$A14)+2,FALSE)","v":2173},{"$f":"HLOOKUP(CT$7+0.5,$J$66:$DK$120,ROWS($A$10:$A14)+2,FALSE)","v":184},{"$f":"HLOOKUP(CU$7+0.5,$J$66:$DK$120,ROWS($A$10:$A14)+2,FALSE)","v":626},{"$f":"HLOOKUP(CV$7+0.5,$J$66:$DK$120,ROWS($A$10:$A14)+2,FALSE)","v":2371},{"$f":"HLOOKUP(CW$7+0.5,$J$66:$DK$120,ROWS($A$10:$A14)+2,FALSE)","v":179},{"$f":"HLOOKUP(CX$7+0.5,$J$66:$DK$120,ROWS($A$10:$A14)+2,FALSE)","v":475},{"$f":"HLOOKUP(CY$7+0.5,$J$66:$DK$120,ROWS($A$10:$A14)+2,FALSE)","v":103},{"$f":"HLOOKUP(CZ$7+0.5,$J$66:$DK$120,ROWS($A$10:$A14)+2,FALSE)","v":71},{"$f":"HLOOKUP(DA$7+0.5,$J$66:$DK$120,ROWS($A$10:$A14)+2,FALSE)","v":588},{"$f":"HLOOKUP(DB$7+0.5,$J$66:$DK$120,ROWS($A$10:$A14)+2,FALSE)","v":1127},{"$f":"HLOOKUP(DC$7+0.5,$J$66:$DK$120,ROWS($A$10:$A14)+2,FALSE)","v":2841},{"$f":"HLOOKUP(DD$7+0.5,$J$66:$DK$120,ROWS($A$10:$A14)+2,FALSE)","v":216},{"$f":"HLOOKUP(DE$7+0.5,$J$66:$DK$120,ROWS($A$10:$A14)+2,FALSE)","v":184},{"$f":"HLOOKUP(DF$7+0.5,$J$66:$DK$120,ROWS($A$10:$A14)+2,FALSE)","v":824},{"$f":"HLOOKUP(DG$7+0.5,$J$66:$DK$120,ROWS($A$10:$A14)+2,FALSE)","v":226},{"$f":"HLOOKUP(DH$7+0.5,$J$66:$DK$120,ROWS($A$10:$A14)+2,FALSE)","v":148},{"$f":"HLOOKUP(DI$7+0.5,$J$66:$DK$120,ROWS($A$10:$A14)+2,FALSE)","v":467},{"$f":"HLOOKUP(DJ$7+0.5,$J$66:$DK$120,ROWS($A$10:$A14)+2,FALSE)","v":2098},{"$f":"HLOOKUP(DK$7+0.5,$J$66:$DK$120,ROWS($A$10:$A14)+2,FALSE)","v":184}]
[null,"California","West",37572738,10274,31777868,67939,5046618,65422,{"$f":"HLOOKUP(J$7,$J$66:$DK$120,ROWS($A$10:$A15)+2,FALSE)","v":493641},{"$f":"HLOOKUP(K$7,$J$66:$DK$120,ROWS($A$10:$A15)+2,FALSE)","v":2509},{"$f":"HLOOKUP(L$7,$J$66:$DK$120,ROWS($A$10:$A15)+2,FALSE)","v":6995},{"$f":"HLOOKUP(M$7,$J$66:$DK$120,ROWS($A$10:$A15)+2,FALSE)","v":38916},{"$f":"HLOOKUP(N$7,$J$66:$DK$120,ROWS($A$10:$A15)+2,FALSE)","v":3472},{"$f":"HLOOKUP(O$7,$J$66:$DK$120,ROWS($A$10:$A15)+2,FALSE)","v":"N/A"},{"$f":"HLOOKUP(P$7,$J$66:$DK$120,ROWS($A$10:$A15)+2,FALSE)","v":15150},{"$f":"HLOOKUP(Q$7,$J$66:$DK$120,ROWS($A$10:$A15)+2,FALSE)","v":6764},{"$f":"HLOOKUP(R$7,$J$66:$DK$120,ROWS($A$10:$A15)+2,FALSE)","v":474},{"$f":"HLOOKUP(S$7,$J$66:$DK$120,ROWS($A$10:$A15)+2,FALSE)","v":3199},{"$f":"HLOOKUP(T$7,$J$66:$DK$120,ROWS($A$10:$A15)+2,FALSE)","v":21004},{"$f":"HLOOKUP(U$7,$J$66:$DK$120,ROWS($A$10:$A15)+2,FALSE)","v":10790},{"$f":"HLOOKUP(V$7,$J$66:$DK$120,ROWS($A$10:$A15)+2,FALSE)","v":11906},{"$f":"HLOOKUP(W$7,$J$66:$DK$120,ROWS($A$10:$A15)+2,FALSE)","v":5331},{"$f":"HLOOKUP(X$7,$J$66:$DK$120,ROWS($A$10:$A15)+2,FALSE)","v":21251},{"$f":"HLOOKUP(Y$7,$J$66:$DK$120,ROWS($A$10:$A15)+2,FALSE)","v":5891},{"$f":"HLOOKUP(Z$7,$J$66:$DK$120,ROWS($A$10:$A15)+2,FALSE)","v":2284},{"$f":"HLOOKUP(AA$7,$J$66:$DK$120,ROWS($A$10:$A15)+2,FALSE)","v":2790},{"$f":"HLOOKUP(AB$7,$J$66:$DK$120,ROWS($A$10:$A15)+2,FALSE)","v":3763},{"$f":"HLOOKUP(AC$7,$J$66:$DK$120,ROWS($A$10:$A15)+2,FALSE)","v":5180},{"$f":"HLOOKUP(AD$7,$J$66:$DK$120,ROWS($A$10:$A15)+2,FALSE)","v":1256},{"$f":"HLOOKUP(AE$7,$J$66:$DK$120,ROWS($A$10:$A15)+2,FALSE)","v":7902},{"$f":"HLOOKUP(AF$7,$J$66:$DK$120,ROWS($A$10:$A15)+2,FALSE)","v":14356},{"$f":"HLOOKUP(AG$7,$J$66:$DK$120,ROWS($A$10:$A15)+2,FALSE)","v":8921},{"$f":"HLOOKUP(AH$7,$J$66:$DK$120,ROWS($A$10:$A15)+2,FALSE)","v":8539},{"$f":"HLOOKUP(AI$7,$J$66:$DK$120,ROWS($A$10:$A15)+2,FALSE)","v":2556},{"$f":"HLOOKUP(AJ$7,$J$66:$DK$120,ROWS($A$10:$A15)+2,FALSE)","v":6729},{"$f":"HLOOKUP(AK$7,$J$66:$DK$120,ROWS($A$10:$A15)+2,FALSE)","v":3060},{"$f":"HLOOKUP(AL$7,$J$66:$DK$120,ROWS($A$10:$A15)+2,FALSE)","v":3302},{"$f":"HLOOKUP(AM$7,$J$66:$DK$120,ROWS($A$10:$A15)+2,FALSE)","v":27968},{"$f":"HLOOKUP(AN$7,$J$66:$DK$120,ROWS($A$10:$A15)+2,FALSE)","v":1327},{"$f":"HLOOKUP(AO$7,$J$66:$DK$120,ROWS($A$10:$A15)+2,FALSE)","v":12057},{"$f":"HLOOKUP(AP$7,$J$66:$DK$120,ROWS($A$10:$A15)+2,FALSE)","v":5921},{"$f":"HLOOKUP(AQ$7,$J$66:$DK$120,ROWS($A$10:$A15)+2,FALSE)","v":31261},{"$f":"HLOOKUP(AR$7,$J$66:$DK$120,ROWS($A$10:$A15)+2,FALSE)","v":11195},{"$f":"HLOOKUP(AS$7,$J$66:$DK$120,ROWS($A$10:$A15)+2,FALSE)","v":1827},{"$f":"HLOOKUP(AT$7,$J$66:$DK$120,ROWS($A$10:$A15)+2,FALSE)","v":10653},{"$f":"HLOOKUP(AU$7,$J$66:$DK$120,ROWS($A$10:$A15)+2,FALSE)","v":6671},{"$f":"HLOOKUP(AV$7,$J$66:$DK$120,ROWS($A$10:$A15)+2,FALSE)","v":22724},{"$f":"HLOOKUP(AW$7,$J$66:$DK$120,ROWS($A$10:$A15)+2,FALSE)","v":10466},{"$f":"HLOOKUP(AX$7,$J$66:$DK$120,ROWS($A$10:$A15)+2,FALSE)","v":1648},{"$f":"HLOOKUP(AY$7,$J$66:$DK$120,ROWS($A$10:$A15)+2,FALSE)","v":4110},{"$f":"HLOOKUP(AZ$7,$J$66:$DK$120,ROWS($A$10:$A15)+2,FALSE)","v":826},{"$f":"HLOOKUP(BA$7,$J$66:$DK$120,ROWS($A$10:$A15)+2,FALSE)","v":5802},{"$f":"HLOOKUP(BB$7,$J$66:$DK$120,ROWS($A$10:$A15)+2,FALSE)","v":43005},{"$f":"HLOOKUP(BC$7,$J$66:$DK$120,ROWS($A$10:$A15)+2,FALSE)","v":12172},{"$f":"HLOOKUP(BD$7,$J$66:$DK$120,ROWS($A$10:$A15)+2,FALSE)","v":544},{"$f":"HLOOKUP(BE$7,$J$66:$DK$120,ROWS($A$10:$A15)+2,FALSE)","v":15625},{"$f":"HLOOKUP(BF$7,$J$66:$DK$120,ROWS($A$10:$A15)+2,FALSE)","v":34569},{"$f":"HLOOKUP(BG$7,$J$66:$DK$120,ROWS($A$10:$A15)+2,FALSE)","v":1413},{"$f":"HLOOKUP(BH$7,$J$66:$DK$120,ROWS($A$10:$A15)+2,FALSE)","v":5681},{"$f":"HLOOKUP(BI$7,$J$66:$DK$120,ROWS($A$10:$A15)+2,FALSE)","v":1886},{"$f":"HLOOKUP(BJ$7,$J$66:$DK$120,ROWS($A$10:$A15)+2,FALSE)","v":2323},{"$f":"HLOOKUP(BK$7+0.5,$J$66:$DK$120,ROWS($A$10:$A15)+2,FALSE)","v":19652},{"$f":"HLOOKUP(BL$7+0.5,$J$66:$DK$120,ROWS($A$10:$A15)+2,FALSE)","v":983},{"$f":"HLOOKUP(BM$7+0.5,$J$66:$DK$120,ROWS($A$10:$A15)+2,FALSE)","v":1948},{"$f":"HLOOKUP(BN$7+0.5,$J$66:$DK$120,ROWS($A$10:$A15)+2,FALSE)","v":5726},{"$f":"HLOOKUP(BO$7+0.5,$J$66:$DK$120,ROWS($A$10:$A15)+2,FALSE)","v":1354},{"$f":"HLOOKUP(BP$7+0.5,$J$66:$DK$120,ROWS($A$10:$A15)+2,FALSE)","v":"N/A"},{"$f":"HLOOKUP(BQ$7+0.5,$J$66:$DK$120,ROWS($A$10:$A15)+2,FALSE)","v":2598},{"$f":"HLOOKUP(BR$7+0.5,$J$66:$DK$120,ROWS($A$10:$A15)+2,FALSE)","v":2194},{"$f":"HLOOKUP(BS$7+0.5,$J$66:$DK$120,ROWS($A$10:$A15)+2,FALSE)","v":413},{"$f":"HLOOKUP(BT$7+0.5,$J$66:$DK$120,ROWS($A$10:$A15)+2,FALSE)","v":1061},{"$f":"HLOOKUP(BU$7+0.5,$J$66:$DK$120,ROWS($A$10:$A15)+2,FALSE)","v":3394},{"$f":"HLOOKUP(BV$7+0.5,$J$66:$DK$120,ROWS($A$10:$A15)+2,FALSE)","v":2458},{"$f":"HLOOKUP(BW$7+0.5,$J$66:$DK$120,ROWS($A$10:$A15)+2,FALSE)","v":2720},{"$f":"HLOOKUP(BX$7+0.5,$J$66:$DK$120,ROWS($A$10:$A15)+2,FALSE)","v":1519},{"$f":"HLOOKUP(BY$7+0.5,$J$66:$DK$120,ROWS($A$10:$A15)+2,FALSE)","v":3521},{"$f":"HLOOKUP(BZ$7+0.5,$J$66:$DK$120,ROWS($A$10:$A15)+2,FALSE)","v":1629},{"$f":"HLOOKUP(CA$7+0.5,$J$66:$DK$120,ROWS($A$10:$A15)+2,FALSE)","v":987},{"$f":"HLOOKUP(CB$7+0.5,$J$66:$DK$120,ROWS($A$10:$A15)+2,FALSE)","v":984},{"$f":"HLOOKUP(CC$7+0.5,$J$66:$DK$120,ROWS($A$10:$A15)+2,FALSE)","v":1292},{"$f":"HLOOKUP(CD$7+0.5,$J$66:$DK$120,ROWS($A$10:$A15)+2,FALSE)","v":1525},{"$f":"HLOOKUP(CE$7+0.5,$J$66:$DK$120,ROWS($A$10:$A15)+2,FALSE)","v":951},{"$f":"HLOOKUP(CF$7+0.5,$J$66:$DK$120,ROWS($A$10:$A15)+2,FALSE)","v":2347},{"$f":"HLOOKUP(CG$7+0.5,$J$66:$DK$120,ROWS($A$10:$A15)+2,FALSE)","v":2682},{"$f":"HLOOKUP(CH$7+0.5,$J$66:$DK$120,ROWS($A$10:$A15)+2,FALSE)","v":2069},{"$f":"HLOOKUP(CI$7+0.5,$J$66:$DK$120,ROWS($A$10:$A15)+2,FALSE)","v":1942},{"$f":"HLOOKUP(CJ$7+0.5,$J$66:$DK$120,ROWS($A$10:$A15)+2,FALSE)","v":993},{"$f":"HLOOKUP(CK$7+0.5,$J$66:$DK$120,ROWS($A$10:$A15)+2,FALSE)","v":1595},{"$f":"HLOOKUP(CL$7+0.5,$J$66:$DK$120,ROWS($A$10:$A15)+2,FALSE)","v":1275},{"$f":"HLOOKUP(CM$7+0.5,$J$66:$DK$120,ROWS($A$10:$A15)+2,FALSE)","v":2007},{"$f":"HLOOKUP(CN$7+0.5,$J$66:$DK$120,ROWS($A$10:$A15)+2,FALSE)","v":3857},{"$f":"HLOOKUP(CO$7+0.5,$J$66:$DK$120,ROWS($A$10:$A15)+2,FALSE)","v":615},{"$f":"HLOOKUP(CP$7+0.5,$J$66:$DK$120,ROWS($A$10:$A15)+2,FALSE)","v":2447},{"$f":"HLOOKUP(CQ$7+0.5,$J$66:$DK$120,ROWS($A$10:$A15)+2,FALSE)","v":2240},{"$f":"HLOOKUP(CR$7+0.5,$J$66:$DK$120,ROWS($A$10:$A15)+2,FALSE)","v":5136},{"$f":"HLOOKUP(CS$7+0.5,$J$66:$DK$120,ROWS($A$10:$A15)+2,FALSE)","v":2366},{"$f":"HLOOKUP(CT$7+0.5,$J$66:$DK$120,ROWS($A$10:$A15)+2,FALSE)","v":1272},{"$f":"HLOOKUP(CU$7+0.5,$J$66:$DK$120,ROWS($A$10:$A15)+2,FALSE)","v":2869},{"$f":"HLOOKUP(CV$7+0.5,$J$66:$DK$120,ROWS($A$10:$A15)+2,FALSE)","v":1795},{"$f":"HLOOKUP(CW$7+0.5,$J$66:$DK$120,ROWS($A$10:$A15)+2,FALSE)","v":3271},{"$f":"HLOOKUP(CX$7+0.5,$J$66:$DK$120,ROWS($A$10:$A15)+2,FALSE)","v":2392},{"$f":"HLOOKUP(CY$7+0.5,$J$66:$DK$120,ROWS($A$10:$A15)+2,FALSE)","v":697},{"$f":"HLOOKUP(CZ$7+0.5,$J$66:$DK$120,ROWS($A$10:$A15)+2,FALSE)","v":1492},{"$f":"HLOOKUP(DA$7+0.5,$J$66:$DK$120,ROWS($A$10:$A15)+2,FALSE)","v":674},{"$f":"HLOOKUP(DB$7+0.5,$J$66:$DK$120,ROWS($A$10:$A15)+2,FALSE)","v":1880},{"$f":"HLOOKUP(DC$7+0.5,$J$66:$DK$120,ROWS($A$10:$A15)+2,FALSE)","v":5519},{"$f":"HLOOKUP(DD$7+0.5,$J$66:$DK$120,ROWS($A$10:$A15)+2,FALSE)","v":2457},{"$f":"HLOOKUP(DE$7+0.5,$J$66:$DK$120,ROWS($A$10:$A15)+2,FALSE)","v":345},{"$f":"HLOOKUP(DF$7+0.5,$J$66:$DK$120,ROWS($A$10:$A15)+2,FALSE)","v":3457},{"$f":"HLOOKUP(DG$7+0.5,$J$66:$DK$120,ROWS($A$10:$A15)+2,FALSE)","v":4540},{"$f":"HLOOKUP(DH$7+0.5,$J$66:$DK$120,ROWS($A$10:$A15)+2,FALSE)","v":1135},{"$f":"HLOOKUP(DI$7+0.5,$J$66:$DK$120,ROWS($A$10:$A15)+2,FALSE)","v":1716},{"$f":"HLOOKUP(DJ$7+0.5,$J$66:$DK$120,ROWS($A$10:$A15)+2,FALSE)","v":1117},{"$f":"HLOOKUP(DK$7+0.5,$J$66:$DK$120,ROWS($A$10:$A15)+2,FALSE)","v":1076}]
[null,"Colorado","West",5123944,2939,4131357,21752,751921,19587,{"$f":"HLOOKUP(J$7,$J$66:$DK$120,ROWS($A$10:$A16)+2,FALSE)","v":205060},{"$f":"HLOOKUP(K$7,$J$66:$DK$120,ROWS($A$10:$A16)+2,FALSE)","v":3108},{"$f":"HLOOKUP(L$7,$J$66:$DK$120,ROWS($A$10:$A16)+2,FALSE)","v":3457},{"$f":"HLOOKUP(M$7,$J$66:$DK$120,ROWS($A$10:$A16)+2,FALSE)","v":10589},{"$f":"HLOOKUP(N$7,$J$66:$DK$120,ROWS($A$10:$A16)+2,FALSE)","v":1043},{"$f":"HLOOKUP(O$7,$J$66:$DK$120,ROWS($A$10:$A16)+2,FALSE)","v":22152},{"$f":"HLOOKUP(P$7,$J$66:$DK$120,ROWS($A$10:$A16)+2,FALSE)","v":"N/A"},{"$f":"HLOOKUP(Q$7,$J$66:$DK$120,ROWS($A$10:$A16)+2,FALSE)","v":1317},{"$f":"HLOOKUP(R$7,$J$66:$DK$120,ROWS($A$10:$A16)+2,FALSE)","v":70},{"$f":"HLOOKUP(S$7,$J$66:$DK$120,ROWS($A$10:$A16)+2,FALSE)","v":488},{"$f":"HLOOKUP(T$7,$J$66:$DK$120,ROWS($A$10:$A16)+2,FALSE)","v":8615},{"$f":"HLOOKUP(U$7,$J$66:$DK$120,ROWS($A$10:$A16)+2,FALSE)","v":5834},{"$f":"HLOOKUP(V$7,$J$66:$DK$120,ROWS($A$10:$A16)+2,FALSE)","v":2536},{"$f":"HLOOKUP(W$7,$J$66:$DK$120,ROWS($A$10:$A16)+2,FALSE)","v":2660},{"$f":"HLOOKUP(X$7,$J$66:$DK$120,ROWS($A$10:$A16)+2,FALSE)","v":6374},{"$f":"HLOOKUP(Y$7,$J$66:$DK$120,ROWS($A$10:$A16)+2,FALSE)","v":4336},{"$f":"HLOOKUP(Z$7,$J$66:$DK$120,ROWS($A$10:$A16)+2,FALSE)","v":2776},{"$f":"HLOOKUP(AA$7,$J$66:$DK$120,ROWS($A$10:$A16)+2,FALSE)","v":5283},{"$f":"HLOOKUP(AB$7,$J$66:$DK$120,ROWS($A$10:$A16)+2,FALSE)","v":2500},{"$f":"HLOOKUP(AC$7,$J$66:$DK$120,ROWS($A$10:$A16)+2,FALSE)","v":5048},{"$f":"HLOOKUP(AD$7,$J$66:$DK$120,ROWS($A$10:$A16)+2,FALSE)","v":20},{"$f":"HLOOKUP(AE$7,$J$66:$DK$120,ROWS($A$10:$A16)+2,FALSE)","v":2844},{"$f":"HLOOKUP(AF$7,$J$66:$DK$120,ROWS($A$10:$A16)+2,FALSE)","v":5939},{"$f":"HLOOKUP(AG$7,$J$66:$DK$120,ROWS($A$10:$A16)+2,FALSE)","v":3343},{"$f":"HLOOKUP(AH$7,$J$66:$DK$120,ROWS($A$10:$A16)+2,FALSE)","v":2992},{"$f":"HLOOKUP(AI$7,$J$66:$DK$120,ROWS($A$10:$A16)+2,FALSE)","v":835},{"$f":"HLOOKUP(AJ$7,$J$66:$DK$120,ROWS($A$10:$A16)+2,FALSE)","v":3771},{"$f":"HLOOKUP(AK$7,$J$66:$DK$120,ROWS($A$10:$A16)+2,FALSE)","v":2021},{"$f":"HLOOKUP(AL$7,$J$66:$DK$120,ROWS($A$10:$A16)+2,FALSE)","v":4472},{"$f":"HLOOKUP(AM$7,$J$66:$DK$120,ROWS($A$10:$A16)+2,FALSE)","v":3789},{"$f":"HLOOKUP(AN$7,$J$66:$DK$120,ROWS($A$10:$A16)+2,FALSE)","v":679},{"$f":"HLOOKUP(AO$7,$J$66:$DK$120,ROWS($A$10:$A16)+2,FALSE)","v":2464},{"$f":"HLOOKUP(AP$7,$J$66:$DK$120,ROWS($A$10:$A16)+2,FALSE)","v":6520},{"$f":"HLOOKUP(AQ$7,$J$66:$DK$120,ROWS($A$10:$A16)+2,FALSE)","v":7250},{"$f":"HLOOKUP(AR$7,$J$66:$DK$120,ROWS($A$10:$A16)+2,FALSE)","v":4378},{"$f":"HLOOKUP(AS$7,$J$66:$DK$120,ROWS($A$10:$A16)+2,FALSE)","v":1918},{"$f":"HLOOKUP(AT$7,$J$66:$DK$120,ROWS($A$10:$A16)+2,FALSE)","v":4533},{"$f":"HLOOKUP(AU$7,$J$66:$DK$120,ROWS($A$10:$A16)+2,FALSE)","v":4582},{"$f":"HLOOKUP(AV$7,$J$66:$DK$120,ROWS($A$10:$A16)+2,FALSE)","v":2419},{"$f":"HLOOKUP(AW$7,$J$66:$DK$120,ROWS($A$10:$A16)+2,FALSE)","v":3950},{"$f":"HLOOKUP(AX$7,$J$66:$DK$120,ROWS($A$10:$A16)+2,FALSE)","v":137},{"$f":"HLOOKUP(AY$7,$J$66:$DK$120,ROWS($A$10:$A16)+2,FALSE)","v":2383},{"$f":"HLOOKUP(AZ$7,$J$66:$DK$120,ROWS($A$10:$A16)+2,FALSE)","v":756},{"$f":"HLOOKUP(BA$7,$J$66:$DK$120,ROWS($A$10:$A16)+2,FALSE)","v":2535},{"$f":"HLOOKUP(BB$7,$J$66:$DK$120,ROWS($A$10:$A16)+2,FALSE)","v":17355},{"$f":"HLOOKUP(BC$7,$J$66:$DK$120,ROWS($A$10:$A16)+2,FALSE)","v":6398},{"$f":"HLOOKUP(BD$7,$J$66:$DK$120,ROWS($A$10:$A16)+2,FALSE)","v":503},{"$f":"HLOOKUP(BE$7,$J$66:$DK$120,ROWS($A$10:$A16)+2,FALSE)","v":3796},{"$f":"HLOOKUP(BF$7,$J$66:$DK$120,ROWS($A$10:$A16)+2,FALSE)","v":4853},{"$f":"HLOOKUP(BG$7,$J$66:$DK$120,ROWS($A$10:$A16)+2,FALSE)","v":837},{"$f":"HLOOKUP(BH$7,$J$66:$DK$120,ROWS($A$10:$A16)+2,FALSE)","v":3000},{"$f":"HLOOKUP(BI$7,$J$66:$DK$120,ROWS($A$10:$A16)+2,FALSE)","v":5602},{"$f":"HLOOKUP(BJ$7,$J$66:$DK$120,ROWS($A$10:$A16)+2,FALSE)","v":1144},{"$f":"HLOOKUP(BK$7+0.5,$J$66:$DK$120,ROWS($A$10:$A16)+2,FALSE)","v":11855},{"$f":"HLOOKUP(BL$7+0.5,$J$66:$DK$120,ROWS($A$10:$A16)+2,FALSE)","v":1610},{"$f":"HLOOKUP(BM$7+0.5,$J$66:$DK$120,ROWS($A$10:$A16)+2,FALSE)","v":1695},{"$f":"HLOOKUP(BN$7+0.5,$J$66:$DK$120,ROWS($A$10:$A16)+2,FALSE)","v":2218},{"$f":"HLOOKUP(BO$7+0.5,$J$66:$DK$120,ROWS($A$10:$A16)+2,FALSE)","v":580},{"$f":"HLOOKUP(BP$7+0.5,$J$66:$DK$120,ROWS($A$10:$A16)+2,FALSE)","v":4260},{"$f":"HLOOKUP(BQ$7+0.5,$J$66:$DK$120,ROWS($A$10:$A16)+2,FALSE)","v":"N/A"},{"$f":"HLOOKUP(BR$7+0.5,$J$66:$DK$120,ROWS($A$10:$A16)+2,FALSE)","v":677},{"$f":"HLOOKUP(BS$7+0.5,$J$66:$DK$120,ROWS($A$10:$A16)+2,FALSE)","v":133},{"$f":"HLOOKUP(BT$7+0.5,$J$66:$DK$120,ROWS($A$10:$A16)+2,FALSE)","v":387},{"$f":"HLOOKUP(BU$7+0.5,$J$66:$DK$120,ROWS($A$10:$A16)+2,FALSE)","v":1907},{"$f":"HLOOKUP(BV$7+0.5,$J$66:$DK$120,ROWS($A$10:$A16)+2,FALSE)","v":2086},{"$f":"HLOOKUP(BW$7+0.5,$J$66:$DK$120,ROWS($A$10:$A16)+2,FALSE)","v":1020},{"$f":"HLOOKUP(BX$7+0.5,$J$66:$DK$120,ROWS($A$10:$A16)+2,FALSE)","v":1468},{"$f":"HLOOKUP(BY$7+0.5,$J$66:$DK$120,ROWS($A$10:$A16)+2,FALSE)","v":1617},{"$f":"HLOOKUP(BZ$7+0.5,$J$66:$DK$120,ROWS($A$10:$A16)+2,FALSE)","v":2128},{"$f":"HLOOKUP(CA$7+0.5,$J$66:$DK$120,ROWS($A$10:$A16)+2,FALSE)","v":1486},{"$f":"HLOOKUP(CB$7+0.5,$J$66:$DK$120,ROWS($A$10:$A16)+2,FALSE)","v":1843},{"$f":"HLOOKUP(CC$7+0.5,$J$66:$DK$120,ROWS($A$10:$A16)+2,FALSE)","v":2135},{"$f":"HLOOKUP(CD$7+0.5,$J$66:$DK$120,ROWS($A$10:$A16)+2,FALSE)","v":2468},{"$f":"HLOOKUP(CE$7+0.5,$J$66:$DK$120,ROWS($A$10:$A16)+2,FALSE)","v":40},{"$f":"HLOOKUP(CF$7+0.5,$J$66:$DK$120,ROWS($A$10:$A16)+2,FALSE)","v":1196},{"$f":"HLOOKUP(CG$7+0.5,$J$66:$DK$120,ROWS($A$10:$A16)+2,FALSE)","v":2238},{"$f":"HLOOKUP(CH$7+0.5,$J$66:$DK$120,ROWS($A$10:$A16)+2,FALSE)","v":1293},{"$f":"HLOOKUP(CI$7+0.5,$J$66:$DK$120,ROWS($A$10:$A16)+2,FALSE)","v":909},{"$f":"HLOOKUP(CJ$7+0.5,$J$66:$DK$120,ROWS($A$10:$A16)+2,FALSE)","v":522},{"$f":"HLOOKUP(CK$7+0.5,$J$66:$DK$120,ROWS($A$10:$A16)+2,FALSE)","v":1262},{"$f":"HLOOKUP(CL$7+0.5,$J$66:$DK$120,ROWS($A$10:$A16)+2,FALSE)","v":923},{"$f":"HLOOKUP(CM$7+0.5,$J$66:$DK$120,ROWS($A$10:$A16)+2,FALSE)","v":1729},{"$f":"HLOOKUP(CN$7+0.5,$J$66:$DK$120,ROWS($A$10:$A16)+2,FALSE)","v":1433},{"$f":"HLOOKUP(CO$7+0.5,$J$66:$DK$120,ROWS($A$10:$A16)+2,FALSE)","v":308},{"$f":"HLOOKUP(CP$7+0.5,$J$66:$DK$120,ROWS($A$10:$A16)+2,FALSE)","v":1179},{"$f":"HLOOKUP(CQ$7+0.5,$J$66:$DK$120,ROWS($A$10:$A16)+2,FALSE)","v":1851},{"$f":"HLOOKUP(CR$7+0.5,$J$66:$DK$120,ROWS($A$10:$A16)+2,FALSE)","v":2604},{"$f":"HLOOKUP(CS$7+0.5,$J$66:$DK$120,ROWS($A$10:$A16)+2,FALSE)","v":1678},{"$f":"HLOOKUP(CT$7+0.5,$J$66:$DK$120,ROWS($A$10:$A16)+2,FALSE)","v":1071},{"$f":"HLOOKUP(CU$7+0.5,$J$66:$DK$120,ROWS($A$10:$A16)+2,FALSE)","v":2214},{"$f":"HLOOKUP(CV$7+0.5,$J$66:$DK$120,ROWS($A$10:$A16)+2,FALSE)","v":2102},{"$f":"HLOOKUP(CW$7+0.5,$J$66:$DK$120,ROWS($A$10:$A16)+2,FALSE)","v":836},{"$f":"HLOOKUP(CX$7+0.5,$J$66:$DK$120,ROWS($A$10:$A16)+2,FALSE)","v":1530},{"$f":"HLOOKUP(CY$7+0.5,$J$66:$DK$120,ROWS($A$10:$A16)+2,FALSE)","v":153},{"$f":"HLOOKUP(CZ$7+0.5,$J$66:$DK$120,ROWS($A$10:$A16)+2,FALSE)","v":1479},{"$f":"HLOOKUP(DA$7+0.5,$J$66:$DK$120,ROWS($A$10:$A16)+2,FALSE)","v":553},{"$f":"HLOOKUP(DB$7+0.5,$J$66:$DK$120,ROWS($A$10:$A16)+2,FALSE)","v":1135},{"$f":"HLOOKUP(DC$7+0.5,$J$66:$DK$120,ROWS($A$10:$A16)+2,FALSE)","v":3352},{"$f":"HLOOKUP(DD$7+0.5,$J$66:$DK$120,ROWS($A$10:$A16)+2,FALSE)","v":2035},{"$f":"HLOOKUP(DE$7+0.5,$J$66:$DK$120,ROWS($A$10:$A16)+2,FALSE)","v":371},{"$f":"HLOOKUP(DF$7+0.5,$J$66:$DK$120,ROWS($A$10:$A16)+2,FALSE)","v":1568},{"$f":"HLOOKUP(DG$7+0.5,$J$66:$DK$120,ROWS($A$10:$A16)+2,FALSE)","v":1401},{"$f":"HLOOKUP(DH$7+0.5,$J$66:$DK$120,ROWS($A$10:$A16)+2,FALSE)","v":429},{"$f":"HLOOKUP(DI$7+0.5,$J$66:$DK$120,ROWS($A$10:$A16)+2,FALSE)","v":1006},{"$f":"HLOOKUP(DJ$7+0.5,$J$66:$DK$120,ROWS($A$10:$A16)+2,FALSE)","v":2808},{"$f":"HLOOKUP(DK$7+0.5,$J$66:$DK$120,ROWS($A$10:$A16)+2,FALSE)","v":903}]
[null,"Connecticut","Northeast",3555319,2447,3114940,16188,334918,14546,{"$f":"HLOOKUP(J$7,$J$66:$DK$120,ROWS($A$10:$A17)+2,FALSE)","v":80311},{"$f":"HLOOKUP(K$7,$J$66:$DK$120,ROWS($A$10:$A17)+2,FALSE)","v":46},{"$f":"HLOOKUP(L$7,$J$66:$DK$120,ROWS($A$10:$A17)+2,FALSE)","v":439},{"$f":"HLOOKUP(M$7,$J$66:$DK$120,ROWS($A$10:$A17)+2,FALSE)","v":3167},{"$f":"HLOOKUP(N$7,$J$66:$DK$120,ROWS($A$10:$A17)+2,FALSE)","v":200},{"$f":"HLOOKUP(O$7,$J$66:$DK$120,ROWS($A$10:$A17)+2,FALSE)","v":3161},{"$f":"HLOOKUP(P$7,$J$66:$DK$120,ROWS($A$10:$A17)+2,FALSE)","v":367},{"$f":"HLOOKUP(Q$7,$J$66:$DK$120,ROWS($A$10:$A17)+2,FALSE)","v":"N/A"},{"$f":"HLOOKUP(R$7,$J$66:$DK$120,ROWS($A$10:$A17)+2,FALSE)","v":22},{"$f":"HLOOKUP(S$7,$J$66:$DK$120,ROWS($A$10:$A17)+2,FALSE)","v":288},{"$f":"HLOOKUP(T$7,$J$66:$DK$120,ROWS($A$10:$A17)+2,FALSE)","v":6578},{"$f":"HLOOKUP(U$7,$J$66:$DK$120,ROWS($A$10:$A17)+2,FALSE)","v":1702},{"$f":"HLOOKUP(V$7,$J$66:$DK$120,ROWS($A$10:$A17)+2,FALSE)","v":408},{"$f":"HLOOKUP(W$7,$J$66:$DK$120,ROWS($A$10:$A17)+2,FALSE)","v":97},{"$f":"HLOOKUP(X$7,$J$66:$DK$120,ROWS($A$10:$A17)+2,FALSE)","v":912},{"$f":"HLOOKUP(Y$7,$J$66:$DK$120,ROWS($A$10:$A17)+2,FALSE)","v":53},{"$f":"HLOOKUP(Z$7,$J$66:$DK$120,ROWS($A$10:$A17)+2,FALSE)","v":0},{"$f":"HLOOKUP(AA$7,$J$66:$DK$120,ROWS($A$10:$A17)+2,FALSE)","v":0},{"$f":"HLOOKUP(AB$7,$J$66:$DK$120,ROWS($A$10:$A17)+2,FALSE)","v":124},{"$f":"HLOOKUP(AC$7,$J$66:$DK$120,ROWS($A$10:$A17)+2,FALSE)","v":909},{"$f":"HLOOKUP(AD$7,$J$66:$DK$120,ROWS($A$10:$A17)+2,FALSE)","v":1224},{"$f":"HLOOKUP(AE$7,$J$66:$DK$120,ROWS($A$10:$A17)+2,FALSE)","v":1752},{"$f":"HLOOKUP(AF$7,$J$66:$DK$120,ROWS($A$10:$A17)+2,FALSE)","v":8743},{"$f":"HLOOKUP(AG$7,$J$66:$DK$120,ROWS($A$10:$A17)+2,FALSE)","v":753},{"$f":"HLOOKUP(AH$7,$J$66:$DK$120,ROWS($A$10:$A17)+2,FALSE)","v":605},{"$f":"HLOOKUP(AI$7,$J$66:$DK$120,ROWS($A$10:$A17)+2,FALSE)","v":276},{"$f":"HLOOKUP(AJ$7,$J$66:$DK$120,ROWS($A$10:$A17)+2,FALSE)","v":358},{"$f":"HLOOKUP(AK$7,$J$66:$DK$120,ROWS($A$10:$A17)+2,FALSE)","v":50},{"$f":"HLOOKUP(AL$7,$J$66:$DK$120,ROWS($A$10:$A17)+2,FALSE)","v":45},{"$f":"HLOOKUP(AM$7,$J$66:$DK$120,ROWS($A$10:$A17)+2,FALSE)","v":172},{"$f":"HLOOKUP(AN$7,$J$66:$DK$120,ROWS($A$10:$A17)+2,FALSE)","v":1009},{"$f":"HLOOKUP(AO$7,$J$66:$DK$120,ROWS($A$10:$A17)+2,FALSE)","v":5665},{"$f":"HLOOKUP(AP$7,$J$66:$DK$120,ROWS($A$10:$A17)+2,FALSE)","v":444},{"$f":"HLOOKUP(AQ$7,$J$66:$DK$120,ROWS($A$10:$A17)+2,FALSE)","v":23310},{"$f":"HLOOKUP(AR$7,$J$66:$DK$120,ROWS($A$10:$A17)+2,FALSE)","v":3379},{"$f":"HLOOKUP(AS$7,$J$66:$DK$120,ROWS($A$10:$A17)+2,FALSE)","v":0},{"$f":"HLOOKUP(AT$7,$J$66:$DK$120,ROWS($A$10:$A17)+2,FALSE)","v":287},{"$f":"HLOOKUP(AU$7,$J$66:$DK$120,ROWS($A$10:$A17)+2,FALSE)","v":415},{"$f":"HLOOKUP(AV$7,$J$66:$DK$120,ROWS($A$10:$A17)+2,FALSE)","v":35},{"$f":"HLOOKUP(AW$7,$J$66:$DK$120,ROWS($A$10:$A17)+2,FALSE)","v":2214},{"$f":"HLOOKUP(AX$7,$J$66:$DK$120,ROWS($A$10:$A17)+2,FALSE)","v":1558},{"$f":"HLOOKUP(AY$7,$J$66:$DK$120,ROWS($A$10:$A17)+2,FALSE)","v":940},{"$f":"HLOOKUP(AZ$7,$J$66:$DK$120,ROWS($A$10:$A17)+2,FALSE)","v":0},{"$f":"HLOOKUP(BA$7,$J$66:$DK$120,ROWS($A$10:$A17)+2,FALSE)","v":260},{"$f":"HLOOKUP(BB$7,$J$66:$DK$120,ROWS($A$10:$A17)+2,FALSE)","v":3279},{"$f":"HLOOKUP(BC$7,$J$66:$DK$120,ROWS($A$10:$A17)+2,FALSE)","v":45},{"$f":"HLOOKUP(BD$7,$J$66:$DK$120,ROWS($A$10:$A17)+2,FALSE)","v":709},{"$f":"HLOOKUP(BE$7,$J$66:$DK$120,ROWS($A$10:$A17)+2,FALSE)","v":1729},{"$f":"HLOOKUP(BF$7,$J$66:$DK$120,ROWS($A$10:$A17)+2,FALSE)","v":1593},{"$f":"HLOOKUP(BG$7,$J$66:$DK$120,ROWS($A$10:$A17)+2,FALSE)","v":174},{"$f":"HLOOKUP(BH$7,$J$66:$DK$120,ROWS($A$10:$A17)+2,FALSE)","v":711},{"$f":"HLOOKUP(BI$7,$J$66:$DK$120,ROWS($A$10:$A17)+2,FALSE)","v":104},{"$f":"HLOOKUP(BJ$7,$J$66:$DK$120,ROWS($A$10:$A17)+2,FALSE)","v":3228},{"$f":"HLOOKUP(BK$7+0.5,$J$66:$DK$120,ROWS($A$10:$A17)+2,FALSE)","v":6574},{"$f":"HLOOKUP(BL$7+0.5,$J$66:$DK$120,ROWS($A$10:$A17)+2,FALSE)","v":103},{"$f":"HLOOKUP(BM$7+0.5,$J$66:$DK$120,ROWS($A$10:$A17)+2,FALSE)","v":511},{"$f":"HLOOKUP(BN$7+0.5,$J$66:$DK$120,ROWS($A$10:$A17)+2,FALSE)","v":3028},{"$f":"HLOOKUP(BO$7+0.5,$J$66:$DK$120,ROWS($A$10:$A17)+2,FALSE)","v":228},{"$f":"HLOOKUP(BP$7+0.5,$J$66:$DK$120,ROWS($A$10:$A17)+2,FALSE)","v":1015},{"$f":"HLOOKUP(BQ$7+0.5,$J$66:$DK$120,ROWS($A$10:$A17)+2,FALSE)","v":341},{"$f":"HLOOKUP(BR$7+0.5,$J$66:$DK$120,ROWS($A$10:$A17)+2,FALSE)","v":"N/A"},{"$f":"HLOOKUP(BS$7+0.5,$J$66:$DK$120,ROWS($A$10:$A17)+2,FALSE)","v":36},{"$f":"HLOOKUP(BT$7+0.5,$J$66:$DK$120,ROWS($A$10:$A17)+2,FALSE)","v":230},{"$f":"HLOOKUP(BU$7+0.5,$J$66:$DK$120,ROWS($A$10:$A17)+2,FALSE)","v":1844},{"$f":"HLOOKUP(BV$7+0.5,$J$66:$DK$120,ROWS($A$10:$A17)+2,FALSE)","v":971},{"$f":"HLOOKUP(BW$7+0.5,$J$66:$DK$120,ROWS($A$10:$A17)+2,FALSE)","v":476},{"$f":"HLOOKUP(BX$7+0.5,$J$66:$DK$120,ROWS($A$10:$A17)+2,FALSE)","v":155},{"$f":"HLOOKUP(BY$7+0.5,$J$66:$DK$120,ROWS($A$10:$A17)+2,FALSE)","v":583},{"$f":"HLOOKUP(BZ$7+0.5,$J$66:$DK$120,ROWS($A$10:$A17)+2,FALSE)","v":90},{"$f":"HLOOKUP(CA$7+0.5,$J$66:$DK$120,ROWS($A$10:$A17)+2,FALSE)","v":193},{"$f":"HLOOKUP(CB$7+0.5,$J$66:$DK$120,ROWS($A$10:$A17)+2,FALSE)","v":193},{"$f":"HLOOKUP(CC$7+0.5,$J$66:$DK$120,ROWS($A$10:$A17)+2,FALSE)","v":159},{"$f":"HLOOKUP(CD$7+0.5,$J$66:$DK$120,ROWS($A$10:$A17)+2,FALSE)","v":733},{"$f":"HLOOKUP(CE$7+0.5,$J$66:$DK$120,ROWS($A$10:$A17)+2,FALSE)","v":696},{"$f":"HLOOKUP(CF$7+0.5,$J$66:$DK$120,ROWS($A$10:$A17)+2,FALSE)","v":748},{"$f":"HLOOKUP(CG$7+0.5,$J$66:$DK$120,ROWS($A$10:$A17)+2,FALSE)","v":1587},{"$f":"HLOOKUP(CH$7+0.5,$J$66:$DK$120,ROWS($A$10:$A17)+2,FALSE)","v":539},{"$f":"HLOOKUP(CI$7+0.5,$J$66:$DK$120,ROWS($A$10:$A17)+2,FALSE)","v":564},{"$f":"HLOOKUP(CJ$7+0.5,$J$66:$DK$120,ROWS($A$10:$A17)+2,FALSE)","v":293},{"$f":"HLOOKUP(CK$7+0.5,$J$66:$DK$120,ROWS($A$10:$A17)+2,FALSE)","v":330},{"$f":"HLOOKUP(CL$7+0.5,$J$66:$DK$120,ROWS($A$10:$A17)+2,FALSE)","v":91},{"$f":"HLOOKUP(CM$7+0.5,$J$66:$DK$120,ROWS($A$10:$A17)+2,FALSE)","v":74},{"$f":"HLOOKUP(CN$7+0.5,$J$66:$DK$120,ROWS($A$10:$A17)+2,FALSE)","v":166},{"$f":"HLOOKUP(CO$7+0.5,$J$66:$DK$120,ROWS($A$10:$A17)+2,FALSE)","v":551},{"$f":"HLOOKUP(CP$7+0.5,$J$66:$DK$120,ROWS($A$10:$A17)+2,FALSE)","v":1490},{"$f":"HLOOKUP(CQ$7+0.5,$J$66:$DK$120,ROWS($A$10:$A17)+2,FALSE)","v":450},{"$f":"HLOOKUP(CR$7+0.5,$J$66:$DK$120,ROWS($A$10:$A17)+2,FALSE)","v":3774},{"$f":"HLOOKUP(CS$7+0.5,$J$66:$DK$120,ROWS($A$10:$A17)+2,FALSE)","v":1609},{"$f":"HLOOKUP(CT$7+0.5,$J$66:$DK$120,ROWS($A$10:$A17)+2,FALSE)","v":193},{"$f":"HLOOKUP(CU$7+0.5,$J$66:$DK$120,ROWS($A$10:$A17)+2,FALSE)","v":254},{"$f":"HLOOKUP(CV$7+0.5,$J$66:$DK$120,ROWS($A$10:$A17)+2,FALSE)","v":411},{"$f":"HLOOKUP(CW$7+0.5,$J$66:$DK$120,ROWS($A$10:$A17)+2,FALSE)","v":58},{"$f":"HLOOKUP(CX$7+0.5,$J$66:$DK$120,ROWS($A$10:$A17)+2,FALSE)","v":1037},{"$f":"HLOOKUP(CY$7+0.5,$J$66:$DK$120,ROWS($A$10:$A17)+2,FALSE)","v":689},{"$f":"HLOOKUP(CZ$7+0.5,$J$66:$DK$120,ROWS($A$10:$A17)+2,FALSE)","v":665},{"$f":"HLOOKUP(DA$7+0.5,$J$66:$DK$120,ROWS($A$10:$A17)+2,FALSE)","v":193},{"$f":"HLOOKUP(DB$7+0.5,$J$66:$DK$120,ROWS($A$10:$A17)+2,FALSE)","v":216},{"$f":"HLOOKUP(DC$7+0.5,$J$66:$DK$120,ROWS($A$10:$A17)+2,FALSE)","v":1568},{"$f":"HLOOKUP(DD$7+0.5,$J$66:$DK$120,ROWS($A$10:$A17)+2,FALSE)","v":69},{"$f":"HLOOKUP(DE$7+0.5,$J$66:$DK$120,ROWS($A$10:$A17)+2,FALSE)","v":556},{"$f":"HLOOKUP(DF$7+0.5,$J$66:$DK$120,ROWS($A$10:$A17)+2,FALSE)","v":707},{"$f":"HLOOKUP(DG$7+0.5,$J$66:$DK$120,ROWS($A$10:$A17)+2,FALSE)","v":1274},{"$f":"HLOOKUP(DH$7+0.5,$J$66:$DK$120,ROWS($A$10:$A17)+2,FALSE)","v":293},{"$f":"HLOOKUP(DI$7+0.5,$J$66:$DK$120,ROWS($A$10:$A17)+2,FALSE)","v":684},{"$f":"HLOOKUP(DJ$7+0.5,$J$66:$DK$120,ROWS($A$10:$A17)+2,FALSE)","v":120},{"$f":"HLOOKUP(DK$7+0.5,$J$66:$DK$120,ROWS($A$10:$A17)+2,FALSE)","v":1540}]
[null,"Delaware","South",906576,1624,782216,9177,86003,7626,{"$f":"HLOOKUP(J$7,$J$66:$DK$120,ROWS($A$10:$A18)+2,FALSE)","v":34757},{"$f":"HLOOKUP(K$7,$J$66:$DK$120,ROWS($A$10:$A18)+2,FALSE)","v":119},{"$f":"HLOOKUP(L$7,$J$66:$DK$120,ROWS($A$10:$A18)+2,FALSE)","v":692},{"$f":"HLOOKUP(M$7,$J$66:$DK$120,ROWS($A$10:$A18)+2,FALSE)","v":188},{"$f":"HLOOKUP(N$7,$J$66:$DK$120,ROWS($A$10:$A18)+2,FALSE)","v":0},{"$f":"HLOOKUP(O$7,$J$66:$DK$120,ROWS($A$10:$A18)+2,FALSE)","v":2221},{"$f":"HLOOKUP(P$7,$J$66:$DK$120,ROWS($A$10:$A18)+2,FALSE)","v":0},{"$f":"HLOOKUP(Q$7,$J$66:$DK$120,ROWS($A$10:$A18)+2,FALSE)","v":1489},{"$f":"HLOOKUP(R$7,$J$66:$DK$120,ROWS($A$10:$A18)+2,FALSE)","v":"N/A"},{"$f":"HLOOKUP(S$7,$J$66:$DK$120,ROWS($A$10:$A18)+2,FALSE)","v":11},{"$f":"HLOOKUP(T$7,$J$66:$DK$120,ROWS($A$10:$A18)+2,FALSE)","v":715},{"$f":"HLOOKUP(U$7,$J$66:$DK$120,ROWS($A$10:$A18)+2,FALSE)","v":179},{"$f":"HLOOKUP(V$7,$J$66:$DK$120,ROWS($A$10:$A18)+2,FALSE)","v":0},{"$f":"HLOOKUP(W$7,$J$66:$DK$120,ROWS($A$10:$A18)+2,FALSE)","v":32},{"$f":"HLOOKUP(X$7,$J$66:$DK$120,ROWS($A$10:$A18)+2,FALSE)","v":567},{"$f":"HLOOKUP(Y$7,$J$66:$DK$120,ROWS($A$10:$A18)+2,FALSE)","v":62},{"$f":"HLOOKUP(Z$7,$J$66:$DK$120,ROWS($A$10:$A18)+2,FALSE)","v":30},{"$f":"HLOOKUP(AA$7,$J$66:$DK$120,ROWS($A$10:$A18)+2,FALSE)","v":113},{"$f":"HLOOKUP(AB$7,$J$66:$DK$120,ROWS($A$10:$A18)+2,FALSE)","v":0},{"$f":"HLOOKUP(AC$7,$J$66:$DK$120,ROWS($A$10:$A18)+2,FALSE)","v":178},{"$f":"HLOOKUP(AD$7,$J$66:$DK$120,ROWS($A$10:$A18)+2,FALSE)","v":0},{"$f":"HLOOKUP(AE$7,$J$66:$DK$120,ROWS($A$10:$A18)+2,FALSE)","v":5649},{"$f":"HLOOKUP(AF$7,$J$66:$DK$120,ROWS($A$10:$A18)+2,FALSE)","v":157},{"$f":"HLOOKUP(AG$7,$J$66:$DK$120,ROWS($A$10:$A18)+2,FALSE)","v":227},{"$f":"HLOOKUP(AH$7,$J$66:$DK$120,ROWS($A$10:$A18)+2,FALSE)","v":351},{"$f":"HLOOKUP(AI$7,$J$66:$DK$120,ROWS($A$10:$A18)+2,FALSE)","v":58},{"$f":"HLOOKUP(AJ$7,$J$66:$DK$120,ROWS($A$10:$A18)+2,FALSE)","v":80},{"$f":"HLOOKUP(AK$7,$J$66:$DK$120,ROWS($A$10:$A18)+2,FALSE)","v":0},{"$f":"HLOOKUP(AL$7,$J$66:$DK$120,ROWS($A$10:$A18)+2,FALSE)","v":91},{"$f":"HLOOKUP(AM$7,$J$66:$DK$120,ROWS($A$10:$A18)+2,FALSE)","v":572},{"$f":"HLOOKUP(AN$7,$J$66:$DK$120,ROWS($A$10:$A18)+2,FALSE)","v":99},{"$f":"HLOOKUP(AO$7,$J$66:$DK$120,ROWS($A$10:$A18)+2,FALSE)","v":5846},{"$f":"HLOOKUP(AP$7,$J$66:$DK$120,ROWS($A$10:$A18)+2,FALSE)","v":85},{"$f":"HLOOKUP(AQ$7,$J$66:$DK$120,ROWS($A$10:$A18)+2,FALSE)","v":3566},{"$f":"HLOOKUP(AR$7,$J$66:$DK$120,ROWS($A$10:$A18)+2,FALSE)","v":1349},{"$f":"HLOOKUP(AS$7,$J$66:$DK$120,ROWS($A$10:$A18)+2,FALSE)","v":0},{"$f":"HLOOKUP(AT$7,$J$66:$DK$120,ROWS($A$10:$A18)+2,FALSE)","v":191},{"$f":"HLOOKUP(AU$7,$J$66:$DK$120,ROWS($A$10:$A18)+2,FALSE)","v":0},{"$f":"HLOOKUP(AV$7,$J$66:$DK$120,ROWS($A$10:$A18)+2,FALSE)","v":0},{"$f":"HLOOKUP(AW$7,$J$66:$DK$120,ROWS($A$10:$A18)+2,FALSE)","v":6828},{"$f":"HLOOKUP(AX$7,$J$66:$DK$120,ROWS($A$10:$A18)+2,FALSE)","v":135},{"$f":"HLOOKUP(AY$7,$J$66:$DK$120,ROWS($A$10:$A18)+2,FALSE)","v":298},{"$f":"HLOOKUP(AZ$7,$J$66:$DK$120,ROWS($A$10:$A18)+2,FALSE)","v":0},{"$f":"HLOOKUP(BA$7,$J$66:$DK$120,ROWS($A$10:$A18)+2,FALSE)","v":344},{"$f":"HLOOKUP(BB$7,$J$66:$DK$120,ROWS($A$10:$A18)+2,FALSE)","v":133},{"$f":"HLOOKUP(BC$7,$J$66:$DK$120,ROWS($A$10:$A18)+2,FALSE)","v":166},{"$f":"HLOOKUP(BD$7,$J$66:$DK$120,ROWS($A$10:$A18)+2,FALSE)","v":0},{"$f":"HLOOKUP(BE$7,$J$66:$DK$120,ROWS($A$10:$A18)+2,FALSE)","v":1746},{"$f":"HLOOKUP(BF$7,$J$66:$DK$120,ROWS($A$10:$A18)+2,FALSE)","v":29},{"$f":"HLOOKUP(BG$7,$J$66:$DK$120,ROWS($A$10:$A18)+2,FALSE)","v":161},{"$f":"HLOOKUP(BH$7,$J$66:$DK$120,ROWS($A$10:$A18)+2,FALSE)","v":0},{"$f":"HLOOKUP(BI$7,$J$66:$DK$120,ROWS($A$10:$A18)+2,FALSE)","v":0},{"$f":"HLOOKUP(BJ$7,$J$66:$DK$120,ROWS($A$10:$A18)+2,FALSE)","v":56},{"$f":"HLOOKUP(BK$7+0.5,$J$66:$DK$120,ROWS($A$10:$A18)+2,FALSE)","v":4691},{"$f":"HLOOKUP(BL$7+0.5,$J$66:$DK$120,ROWS($A$10:$A18)+2,FALSE)","v":164},{"$f":"HLOOKUP(BM$7+0.5,$J$66:$DK$120,ROWS($A$10:$A18)+2,FALSE)","v":920},{"$f":"HLOOKUP(BN$7+0.5,$J$66:$DK$120,ROWS($A$10:$A18)+2,FALSE)","v":227},{"$f":"HLOOKUP(BO$7+0.5,$J$66:$DK$120,ROWS($A$10:$A18)+2,FALSE)","v":182},{"$f":"HLOOKUP(BP$7+0.5,$J$66:$DK$120,ROWS($A$10:$A18)+2,FALSE)","v":2189},{"$f":"HLOOKUP(BQ$7+0.5,$J$66:$DK$120,ROWS($A$10:$A18)+2,FALSE)","v":182},{"$f":"HLOOKUP(BR$7+0.5,$J$66:$DK$120,ROWS($A$10:$A18)+2,FALSE)","v":679},{"$f":"HLOOKUP(BS$7+0.5,$J$66:$DK$120,ROWS($A$10:$A18)+2,FALSE)","v":"N/A"},{"$f":"HLOOKUP(BT$7+0.5,$J$66:$DK$120,ROWS($A$10:$A18)+2,FALSE)","v":21},{"$f":"HLOOKUP(BU$7+0.5,$J$66:$DK$120,ROWS($A$10:$A18)+2,FALSE)","v":481},{"$f":"HLOOKUP(BV$7+0.5,$J$66:$DK$120,ROWS($A$10:$A18)+2,FALSE)","v":224},{"$f":"HLOOKUP(BW$7+0.5,$J$66:$DK$120,ROWS($A$10:$A18)+2,FALSE)","v":182},{"$f":"HLOOKUP(BX$7+0.5,$J$66:$DK$120,ROWS($A$10:$A18)+2,FALSE)","v":51},{"$f":"HLOOKUP(BY$7+0.5,$J$66:$DK$120,ROWS($A$10:$A18)+2,FALSE)","v":468},{"$f":"HLOOKUP(BZ$7+0.5,$J$66:$DK$120,ROWS($A$10:$A18)+2,FALSE)","v":80},{"$f":"HLOOKUP(CA$7+0.5,$J$66:$DK$120,ROWS($A$10:$A18)+2,FALSE)","v":49},{"$f":"HLOOKUP(CB$7+0.5,$J$66:$DK$120,ROWS($A$10:$A18)+2,FALSE)","v":190},{"$f":"HLOOKUP(CC$7+0.5,$J$66:$DK$120,ROWS($A$10:$A18)+2,FALSE)","v":182},{"$f":"HLOOKUP(CD$7+0.5,$J$66:$DK$120,ROWS($A$10:$A18)+2,FALSE)","v":266},{"$f":"HLOOKUP(CE$7+0.5,$J$66:$DK$120,ROWS($A$10:$A18)+2,FALSE)","v":182},{"$f":"HLOOKUP(CF$7+0.5,$J$66:$DK$120,ROWS($A$10:$A18)+2,FALSE)","v":1598},{"$f":"HLOOKUP(CG$7+0.5,$J$66:$DK$120,ROWS($A$10:$A18)+2,FALSE)","v":131},{"$f":"HLOOKUP(CH$7+0.5,$J$66:$DK$120,ROWS($A$10:$A18)+2,FALSE)","v":233},{"$f":"HLOOKUP(CI$7+0.5,$J$66:$DK$120,ROWS($A$10:$A18)+2,FALSE)","v":390},{"$f":"HLOOKUP(CJ$7+0.5,$J$66:$DK$120,ROWS($A$10:$A18)+2,FALSE)","v":110},{"$f":"HLOOKUP(CK$7+0.5,$J$66:$DK$120,ROWS($A$10:$A18)+2,FALSE)","v":138},{"$f":"HLOOKUP(CL$7+0.5,$J$66:$DK$120,ROWS($A$10:$A18)+2,FALSE)","v":182},{"$f":"HLOOKUP(CM$7+0.5,$J$66:$DK$120,ROWS($A$10:$A18)+2,FALSE)","v":116},{"$f":"HLOOKUP(CN$7+0.5,$J$66:$DK$120,ROWS($A$10:$A18)+2,FALSE)","v":474},{"$f":"HLOOKUP(CO$7+0.5,$J$66:$DK$120,ROWS($A$10:$A18)+2,FALSE)","v":127},{"$f":"HLOOKUP(CP$7+0.5,$J$66:$DK$120,ROWS($A$10:$A18)+2,FALSE)","v":2122},{"$f":"HLOOKUP(CQ$7+0.5,$J$66:$DK$120,ROWS($A$10:$A18)+2,FALSE)","v":136},{"$f":"HLOOKUP(CR$7+0.5,$J$66:$DK$120,ROWS($A$10:$A18)+2,FALSE)","v":1751},{"$f":"HLOOKUP(CS$7+0.5,$J$66:$DK$120,ROWS($A$10:$A18)+2,FALSE)","v":809},{"$f":"HLOOKUP(CT$7+0.5,$J$66:$DK$120,ROWS($A$10:$A18)+2,FALSE)","v":182},{"$f":"HLOOKUP(CU$7+0.5,$J$66:$DK$120,ROWS($A$10:$A18)+2,FALSE)","v":201},{"$f":"HLOOKUP(CV$7+0.5,$J$66:$DK$120,ROWS($A$10:$A18)+2,FALSE)","v":182},{"$f":"HLOOKUP(CW$7+0.5,$J$66:$DK$120,ROWS($A$10:$A18)+2,FALSE)","v":182},{"$f":"HLOOKUP(CX$7+0.5,$J$66:$DK$120,ROWS($A$10:$A18)+2,FALSE)","v":1815},{"$f":"HLOOKUP(CY$7+0.5,$J$66:$DK$120,ROWS($A$10:$A18)+2,FALSE)","v":185},{"$f":"HLOOKUP(CZ$7+0.5,$J$66:$DK$120,ROWS($A$10:$A18)+2,FALSE)","v":235},{"$f":"HLOOKUP(DA$7+0.5,$J$66:$DK$120,ROWS($A$10:$A18)+2,FALSE)","v":182},{"$f":"HLOOKUP(DB$7+0.5,$J$66:$DK$120,ROWS($A$10:$A18)+2,FALSE)","v":440},{"$f":"HLOOKUP(DC$7+0.5,$J$66:$DK$120,ROWS($A$10:$A18)+2,FALSE)","v":158},{"$f":"HLOOKUP(DD$7+0.5,$J$66:$DK$120,ROWS($A$10:$A18)+2,FALSE)","v":279},{"$f":"HLOOKUP(DE$7+0.5,$J$66:$DK$120,ROWS($A$10:$A18)+2,FALSE)","v":182},{"$f":"HLOOKUP(DF$7+0.5,$J$66:$DK$120,ROWS($A$10:$A18)+2,FALSE)","v":910},{"$f":"HLOOKUP(DG$7+0.5,$J$66:$DK$120,ROWS($A$10:$A18)+2,FALSE)","v":49},{"$f":"HLOOKUP(DH$7+0.5,$J$66:$DK$120,ROWS($A$10:$A18)+2,FALSE)","v":205},{"$f":"HLOOKUP(DI$7+0.5,$J$66:$DK$120,ROWS($A$10:$A18)+2,FALSE)","v":182},{"$f":"HLOOKUP(DJ$7+0.5,$J$66:$DK$120,ROWS($A$10:$A18)+2,FALSE)","v":182},{"$f":"HLOOKUP(DK$7+0.5,$J$66:$DK$120,ROWS($A$10:$A18)+2,FALSE)","v":90}]
[null,"District of Columbia ","South",624847,948,500267,6225,61992,5668,{"$f":"HLOOKUP(J$7,$J$66:$DK$120,ROWS($A$10:$A19)+2,FALSE)","v":53830},{"$f":"HLOOKUP(K$7,$J$66:$DK$120,ROWS($A$10:$A19)+2,FALSE)","v":79},{"$f":"HLOOKUP(L$7,$J$66:$DK$120,ROWS($A$10:$A19)+2,FALSE)","v":1247},{"$f":"HLOOKUP(M$7,$J$66:$DK$120,ROWS($A$10:$A19)+2,FALSE)","v":902},{"$f":"HLOOKUP(N$7,$J$66:$DK$120,ROWS($A$10:$A19)+2,FALSE)","v":35},{"$f":"HLOOKUP(O$7,$J$66:$DK$120,ROWS($A$10:$A19)+2,FALSE)","v":4999},{"$f":"HLOOKUP(P$7,$J$66:$DK$120,ROWS($A$10:$A19)+2,FALSE)","v":677},{"$f":"HLOOKUP(Q$7,$J$66:$DK$120,ROWS($A$10:$A19)+2,FALSE)","v":618},{"$f":"HLOOKUP(R$7,$J$66:$DK$120,ROWS($A$10:$A19)+2,FALSE)","v":78},{"$f":"HLOOKUP(S$7,$J$66:$DK$120,ROWS($A$10:$A19)+2,FALSE)","v":"N/A"},{"$f":"HLOOKUP(T$7,$J$66:$DK$120,ROWS($A$10:$A19)+2,FALSE)","v":1705},{"$f":"HLOOKUP(U$7,$J$66:$DK$120,ROWS($A$10:$A19)+2,FALSE)","v":1079},{"$f":"HLOOKUP(V$7,$J$66:$DK$120,ROWS($A$10:$A19)+2,FALSE)","v":38},{"$f":"HLOOKUP(W$7,$J$66:$DK$120,ROWS($A$10:$A19)+2,FALSE)","v":46},{"$f":"HLOOKUP(X$7,$J$66:$DK$120,ROWS($A$10:$A19)+2,FALSE)","v":795},{"$f":"HLOOKUP(Y$7,$J$66:$DK$120,ROWS($A$10:$A19)+2,FALSE)","v":469},{"$f":"HLOOKUP(Z$7,$J$66:$DK$120,ROWS($A$10:$A19)+2,FALSE)","v":133},{"$f":"HLOOKUP(AA$7,$J$66:$DK$120,ROWS($A$10:$A19)+2,FALSE)","v":164},{"$f":"HLOOKUP(AB$7,$J$66:$DK$120,ROWS($A$10:$A19)+2,FALSE)","v":112},{"$f":"HLOOKUP(AC$7,$J$66:$DK$120,ROWS($A$10:$A19)+2,FALSE)","v":283},{"$f":"HLOOKUP(AD$7,$J$66:$DK$120,ROWS($A$10:$A19)+2,FALSE)","v":194},{"$f":"HLOOKUP(AE$7,$J$66:$DK$120,ROWS($A$10:$A19)+2,FALSE)","v":14120},{"$f":"HLOOKUP(AF$7,$J$66:$DK$120,ROWS($A$10:$A19)+2,FALSE)","v":1524},{"$f":"HLOOKUP(AG$7,$J$66:$DK$120,ROWS($A$10:$A19)+2,FALSE)","v":944},{"$f":"HLOOKUP(AH$7,$J$66:$DK$120,ROWS($A$10:$A19)+2,FALSE)","v":393},{"$f":"HLOOKUP(AI$7,$J$66:$DK$120,ROWS($A$10:$A19)+2,FALSE)","v":44},{"$f":"HLOOKUP(AJ$7,$J$66:$DK$120,ROWS($A$10:$A19)+2,FALSE)","v":337},{"$f":"HLOOKUP(AK$7,$J$66:$DK$120,ROWS($A$10:$A19)+2,FALSE)","v":0},{"$f":"HLOOKUP(AL$7,$J$66:$DK$120,ROWS($A$10:$A19)+2,FALSE)","v":172},{"$f":"HLOOKUP(AM$7,$J$66:$DK$120,ROWS($A$10:$A19)+2,FALSE)","v":42},{"$f":"HLOOKUP(AN$7,$J$66:$DK$120,ROWS($A$10:$A19)+2,FALSE)","v":197},{"$f":"HLOOKUP(AO$7,$J$66:$DK$120,ROWS($A$10:$A19)+2,FALSE)","v":1451},{"$f":"HLOOKUP(AP$7,$J$66:$DK$120,ROWS($A$10:$A19)+2,FALSE)","v":116},{"$f":"HLOOKUP(AQ$7,$J$66:$DK$120,ROWS($A$10:$A19)+2,FALSE)","v":3085},{"$f":"HLOOKUP(AR$7,$J$66:$DK$120,ROWS($A$10:$A19)+2,FALSE)","v":985},{"$f":"HLOOKUP(AS$7,$J$66:$DK$120,ROWS($A$10:$A19)+2,FALSE)","v":0},{"$f":"HLOOKUP(AT$7,$J$66:$DK$120,ROWS($A$10:$A19)+2,FALSE)","v":651},{"$f":"HLOOKUP(AU$7,$J$66:$DK$120,ROWS($A$10:$A19)+2,FALSE)","v":0},{"$f":"HLOOKUP(AV$7,$J$66:$DK$120,ROWS($A$10:$A19)+2,FALSE)","v":157},{"$f":"HLOOKUP(AW$7,$J$66:$DK$120,ROWS($A$10:$A19)+2,FALSE)","v":1494},{"$f":"HLOOKUP(AX$7,$J$66:$DK$120,ROWS($A$10:$A19)+2,FALSE)","v":635},{"$f":"HLOOKUP(AY$7,$J$66:$DK$120,ROWS($A$10:$A19)+2,FALSE)","v":150},{"$f":"HLOOKUP(AZ$7,$J$66:$DK$120,ROWS($A$10:$A19)+2,FALSE)","v":0},{"$f":"HLOOKUP(BA$7,$J$66:$DK$120,ROWS($A$10:$A19)+2,FALSE)","v":577},{"$f":"HLOOKUP(BB$7,$J$66:$DK$120,ROWS($A$10:$A19)+2,FALSE)","v":1473},{"$f":"HLOOKUP(BC$7,$J$66:$DK$120,ROWS($A$10:$A19)+2,FALSE)","v":116},{"$f":"HLOOKUP(BD$7,$J$66:$DK$120,ROWS($A$10:$A19)+2,FALSE)","v":267},{"$f":"HLOOKUP(BE$7,$J$66:$DK$120,ROWS($A$10:$A19)+2,FALSE)","v":9537},{"$f":"HLOOKUP(BF$7,$J$66:$DK$120,ROWS($A$10:$A19)+2,FALSE)","v":481},{"$f":"HLOOKUP(BG$7,$J$66:$DK$120,ROWS($A$10:$A19)+2,FALSE)","v":293},{"$f":"HLOOKUP(BH$7,$J$66:$DK$120,ROWS($A$10:$A19)+2,FALSE)","v":721},{"$f":"HLOOKUP(BI$7,$J$66:$DK$120,ROWS($A$10:$A19)+2,FALSE)","v":215},{"$f":"HLOOKUP(BJ$7,$J$66:$DK$120,ROWS($A$10:$A19)+2,FALSE)","v":0},{"$f":"HLOOKUP(BK$7+0.5,$J$66:$DK$120,ROWS($A$10:$A19)+2,FALSE)","v":5001},{"$f":"HLOOKUP(BL$7+0.5,$J$66:$DK$120,ROWS($A$10:$A19)+2,FALSE)","v":138},{"$f":"HLOOKUP(BM$7+0.5,$J$66:$DK$120,ROWS($A$10:$A19)+2,FALSE)","v":715},{"$f":"HLOOKUP(BN$7+0.5,$J$66:$DK$120,ROWS($A$10:$A19)+2,FALSE)","v":646},{"$f":"HLOOKUP(BO$7+0.5,$J$66:$DK$120,ROWS($A$10:$A19)+2,FALSE)","v":59},{"$f":"HLOOKUP(BP$7+0.5,$J$66:$DK$120,ROWS($A$10:$A19)+2,FALSE)","v":2108},{"$f":"HLOOKUP(BQ$7+0.5,$J$66:$DK$120,ROWS($A$10:$A19)+2,FALSE)","v":546},{"$f":"HLOOKUP(BR$7+0.5,$J$66:$DK$120,ROWS($A$10:$A19)+2,FALSE)","v":439},{"$f":"HLOOKUP(BS$7+0.5,$J$66:$DK$120,ROWS($A$10:$A19)+2,FALSE)","v":127},{"$f":"HLOOKUP(BT$7+0.5,$J$66:$DK$120,ROWS($A$10:$A19)+2,FALSE)","v":"N/A"},{"$f":"HLOOKUP(BU$7+0.5,$J$66:$DK$120,ROWS($A$10:$A19)+2,FALSE)","v":661},{"$f":"HLOOKUP(BV$7+0.5,$J$66:$DK$120,ROWS($A$10:$A19)+2,FALSE)","v":470},{"$f":"HLOOKUP(BW$7+0.5,$J$66:$DK$120,ROWS($A$10:$A19)+2,FALSE)","v":87},{"$f":"HLOOKUP(BX$7+0.5,$J$66:$DK$120,ROWS($A$10:$A19)+2,FALSE)","v":75},{"$f":"HLOOKUP(BY$7+0.5,$J$66:$DK$120,ROWS($A$10:$A19)+2,FALSE)","v":446},{"$f":"HLOOKUP(BZ$7+0.5,$J$66:$DK$120,ROWS($A$10:$A19)+2,FALSE)","v":379},{"$f":"HLOOKUP(CA$7+0.5,$J$66:$DK$120,ROWS($A$10:$A19)+2,FALSE)","v":221},{"$f":"HLOOKUP(CB$7+0.5,$J$66:$DK$120,ROWS($A$10:$A19)+2,FALSE)","v":267},{"$f":"HLOOKUP(CC$7+0.5,$J$66:$DK$120,ROWS($A$10:$A19)+2,FALSE)","v":136},{"$f":"HLOOKUP(CD$7+0.5,$J$66:$DK$120,ROWS($A$10:$A19)+2,FALSE)","v":295},{"$f":"HLOOKUP(CE$7+0.5,$J$66:$DK$120,ROWS($A$10:$A19)+2,FALSE)","v":244},{"$f":"HLOOKUP(CF$7+0.5,$J$66:$DK$120,ROWS($A$10:$A19)+2,FALSE)","v":2487},{"$f":"HLOOKUP(CG$7+0.5,$J$66:$DK$120,ROWS($A$10:$A19)+2,FALSE)","v":717},{"$f":"HLOOKUP(CH$7+0.5,$J$66:$DK$120,ROWS($A$10:$A19)+2,FALSE)","v":670},{"$f":"HLOOKUP(CI$7+0.5,$J$66:$DK$120,ROWS($A$10:$A19)+2,FALSE)","v":240},{"$f":"HLOOKUP(CJ$7+0.5,$J$66:$DK$120,ROWS($A$10:$A19)+2,FALSE)","v":74},{"$f":"HLOOKUP(CK$7+0.5,$J$66:$DK$120,ROWS($A$10:$A19)+2,FALSE)","v":354},{"$f":"HLOOKUP(CL$7+0.5,$J$66:$DK$120,ROWS($A$10:$A19)+2,FALSE)","v":197},{"$f":"HLOOKUP(CM$7+0.5,$J$66:$DK$120,ROWS($A$10:$A19)+2,FALSE)","v":182},{"$f":"HLOOKUP(CN$7+0.5,$J$66:$DK$120,ROWS($A$10:$A19)+2,FALSE)","v":69},{"$f":"HLOOKUP(CO$7+0.5,$J$66:$DK$120,ROWS($A$10:$A19)+2,FALSE)","v":183},{"$f":"HLOOKUP(CP$7+0.5,$J$66:$DK$120,ROWS($A$10:$A19)+2,FALSE)","v":792},{"$f":"HLOOKUP(CQ$7+0.5,$J$66:$DK$120,ROWS($A$10:$A19)+2,FALSE)","v":139},{"$f":"HLOOKUP(CR$7+0.5,$J$66:$DK$120,ROWS($A$10:$A19)+2,FALSE)","v":851},{"$f":"HLOOKUP(CS$7+0.5,$J$66:$DK$120,ROWS($A$10:$A19)+2,FALSE)","v":503},{"$f":"HLOOKUP(CT$7+0.5,$J$66:$DK$120,ROWS($A$10:$A19)+2,FALSE)","v":197},{"$f":"HLOOKUP(CU$7+0.5,$J$66:$DK$120,ROWS($A$10:$A19)+2,FALSE)","v":429},{"$f":"HLOOKUP(CV$7+0.5,$J$66:$DK$120,ROWS($A$10:$A19)+2,FALSE)","v":197},{"$f":"HLOOKUP(CW$7+0.5,$J$66:$DK$120,ROWS($A$10:$A19)+2,FALSE)","v":182},{"$f":"HLOOKUP(CX$7+0.5,$J$66:$DK$120,ROWS($A$10:$A19)+2,FALSE)","v":608},{"$f":"HLOOKUP(CY$7+0.5,$J$66:$DK$120,ROWS($A$10:$A19)+2,FALSE)","v":596},{"$f":"HLOOKUP(CZ$7+0.5,$J$66:$DK$120,ROWS($A$10:$A19)+2,FALSE)","v":140},{"$f":"HLOOKUP(DA$7+0.5,$J$66:$DK$120,ROWS($A$10:$A19)+2,FALSE)","v":197},{"$f":"HLOOKUP(DB$7+0.5,$J$66:$DK$120,ROWS($A$10:$A19)+2,FALSE)","v":478},{"$f":"HLOOKUP(DC$7+0.5,$J$66:$DK$120,ROWS($A$10:$A19)+2,FALSE)","v":826},{"$f":"HLOOKUP(DD$7+0.5,$J$66:$DK$120,ROWS($A$10:$A19)+2,FALSE)","v":145},{"$f":"HLOOKUP(DE$7+0.5,$J$66:$DK$120,ROWS($A$10:$A19)+2,FALSE)","v":250},{"$f":"HLOOKUP(DF$7+0.5,$J$66:$DK$120,ROWS($A$10:$A19)+2,FALSE)","v":1762},{"$f":"HLOOKUP(DG$7+0.5,$J$66:$DK$120,ROWS($A$10:$A19)+2,FALSE)","v":358},{"$f":"HLOOKUP(DH$7+0.5,$J$66:$DK$120,ROWS($A$10:$A19)+2,FALSE)","v":219},{"$f":"HLOOKUP(DI$7+0.5,$J$66:$DK$120,ROWS($A$10:$A19)+2,FALSE)","v":420},{"$f":"HLOOKUP(DJ$7+0.5,$J$66:$DK$120,ROWS($A$10:$A19)+2,FALSE)","v":303},{"$f":"HLOOKUP(DK$7+0.5,$J$66:$DK$120,ROWS($A$10:$A19)+2,FALSE)","v":197}]
[null,"Florida","South",19114620,6877,16032617,49245,2380288,44658,{"$f":"HLOOKUP(J$7,$J$66:$DK$120,ROWS($A$10:$A20)+2,FALSE)","v":537148},{"$f":"HLOOKUP(K$7,$J$66:$DK$120,ROWS($A$10:$A20)+2,FALSE)","v":18599},{"$f":"HLOOKUP(L$7,$J$66:$DK$120,ROWS($A$10:$A20)+2,FALSE)","v":10704},{"$f":"HLOOKUP(M$7,$J$66:$DK$120,ROWS($A$10:$A20)+2,FALSE)","v":6473},{"$f":"HLOOKUP(N$7,$J$66:$DK$120,ROWS($A$10:$A20)+2,FALSE)","v":3321},{"$f":"HLOOKUP(O$7,$J$66:$DK$120,ROWS($A$10:$A20)+2,FALSE)","v":20386},{"$f":"HLOOKUP(P$7,$J$66:$DK$120,ROWS($A$10:$A20)+2,FALSE)","v":8766},{"$f":"HLOOKUP(Q$7,$J$66:$DK$120,ROWS($A$10:$A20)+2,FALSE)","v":8975},{"$f":"HLOOKUP(R$7,$J$66:$DK$120,ROWS($A$10:$A20)+2,FALSE)","v":1099},{"$f":"HLOOKUP(S$7,$J$66:$DK$120,ROWS($A$10:$A20)+2,FALSE)","v":780},{"$f":"HLOOKUP(T$7,$J$66:$DK$120,ROWS($A$10:$A20)+2,FALSE)","v":"N/A"},{"$f":"HLOOKUP(U$7,$J$66:$DK$120,ROWS($A$10:$A20)+2,FALSE)","v":42754},{"$f":"HLOOKUP(V$7,$J$66:$DK$120,ROWS($A$10:$A20)+2,FALSE)","v":3177},{"$f":"HLOOKUP(W$7,$J$66:$DK$120,ROWS($A$10:$A20)+2,FALSE)","v":1268},{"$f":"HLOOKUP(X$7,$J$66:$DK$120,ROWS($A$10:$A20)+2,FALSE)","v":22565},{"$f":"HLOOKUP(Y$7,$J$66:$DK$120,ROWS($A$10:$A20)+2,FALSE)","v":13803},{"$f":"HLOOKUP(Z$7,$J$66:$DK$120,ROWS($A$10:$A20)+2,FALSE)","v":3864},{"$f":"HLOOKUP(AA$7,$J$66:$DK$120,ROWS($A$10:$A20)+2,FALSE)","v":5661},{"$f":"HLOOKUP(AB$7,$J$66:$DK$120,ROWS($A$10:$A20)+2,FALSE)","v":6912},{"$f":"HLOOKUP(AC$7,$J$66:$DK$120,ROWS($A$10:$A20)+2,FALSE)","v":5550},{"$f":"HLOOKUP(AD$7,$J$66:$DK$120,ROWS($A$10:$A20)+2,FALSE)","v":7348},{"$f":"HLOOKUP(AE$7,$J$66:$DK$120,ROWS($A$10:$A20)+2,FALSE)","v":10442},{"$f":"HLOOKUP(AF$7,$J$66:$DK$120,ROWS($A$10:$A20)+2,FALSE)","v":15159},{"$f":"HLOOKUP(AG$7,$J$66:$DK$120,ROWS($A$10:$A20)+2,FALSE)","v":23400},{"$f":"HLOOKUP(AH$7,$J$66:$DK$120,ROWS($A$10:$A20)+2,FALSE)","v":5460},{"$f":"HLOOKUP(AI$7,$J$66:$DK$120,ROWS($A$10:$A20)+2,FALSE)","v":5490},{"$f":"HLOOKUP(AJ$7,$J$66:$DK$120,ROWS($A$10:$A20)+2,FALSE)","v":10666},{"$f":"HLOOKUP(AK$7,$J$66:$DK$120,ROWS($A$10:$A20)+2,FALSE)","v":1758},{"$f":"HLOOKUP(AL$7,$J$66:$DK$120,ROWS($A$10:$A20)+2,FALSE)","v":945},{"$f":"HLOOKUP(AM$7,$J$66:$DK$120,ROWS($A$10:$A20)+2,FALSE)","v":1241},{"$f":"HLOOKUP(AN$7,$J$66:$DK$120,ROWS($A$10:$A20)+2,FALSE)","v":2362},{"$f":"HLOOKUP(AO$7,$J$66:$DK$120,ROWS($A$10:$A20)+2,FALSE)","v":27606},{"$f":"HLOOKUP(AP$7,$J$66:$DK$120,ROWS($A$10:$A20)+2,FALSE)","v":2853},{"$f":"HLOOKUP(AQ$7,$J$66:$DK$120,ROWS($A$10:$A20)+2,FALSE)","v":53009},{"$f":"HLOOKUP(AR$7,$J$66:$DK$120,ROWS($A$10:$A20)+2,FALSE)","v":23133},{"$f":"HLOOKUP(AS$7,$J$66:$DK$120,ROWS($A$10:$A20)+2,FALSE)","v":239},{"$f":"HLOOKUP(AT$7,$J$66:$DK$120,ROWS($A$10:$A20)+2,FALSE)","v":22927},{"$f":"HLOOKUP(AU$7,$J$66:$DK$120,ROWS($A$10:$A20)+2,FALSE)","v":3142},{"$f":"HLOOKUP(AV$7,$J$66:$DK$120,ROWS($A$10:$A20)+2,FALSE)","v":2919},{"$f":"HLOOKUP(AW$7,$J$66:$DK$120,ROWS($A$10:$A20)+2,FALSE)","v":25659},{"$f":"HLOOKUP(AX$7,$J$66:$DK$120,ROWS($A$10:$A20)+2,FALSE)","v":3050},{"$f":"HLOOKUP(AY$7,$J$66:$DK$120,ROWS($A$10:$A20)+2,FALSE)","v":11366},{"$f":"HLOOKUP(AZ$7,$J$66:$DK$120,ROWS($A$10:$A20)+2,FALSE)","v":1070},{"$f":"HLOOKUP(BA$7,$J$66:$DK$120,ROWS($A$10:$A20)+2,FALSE)","v":16275},{"$f":"HLOOKUP(BB$7,$J$66:$DK$120,ROWS($A$10:$A20)+2,FALSE)","v":28564},{"$f":"HLOOKUP(BC$7,$J$66:$DK$120,ROWS($A$10:$A20)+2,FALSE)","v":2499},{"$f":"HLOOKUP(BD$7,$J$66:$DK$120,ROWS($A$10:$A20)+2,FALSE)","v":2747},{"$f":"HLOOKUP(BE$7,$J$66:$DK$120,ROWS($A$10:$A20)+2,FALSE)","v":25697},{"$f":"HLOOKUP(BF$7,$J$66:$DK$120,ROWS($A$10:$A20)+2,FALSE)","v":4943},{"$f":"HLOOKUP(BG$7,$J$66:$DK$120,ROWS($A$10:$A20)+2,FALSE)","v":3533},{"$f":"HLOOKUP(BH$7,$J$66:$DK$120,ROWS($A$10:$A20)+2,FALSE)","v":6216},{"$f":"HLOOKUP(BI$7,$J$66:$DK$120,ROWS($A$10:$A20)+2,FALSE)","v":773},{"$f":"HLOOKUP(BJ$7,$J$66:$DK$120,ROWS($A$10:$A20)+2,FALSE)","v":21638},{"$f":"HLOOKUP(BK$7+0.5,$J$66:$DK$120,ROWS($A$10:$A20)+2,FALSE)","v":19784},{"$f":"HLOOKUP(BL$7+0.5,$J$66:$DK$120,ROWS($A$10:$A20)+2,FALSE)","v":4762},{"$f":"HLOOKUP(BM$7+0.5,$J$66:$DK$120,ROWS($A$10:$A20)+2,FALSE)","v":4327},{"$f":"HLOOKUP(BN$7+0.5,$J$66:$DK$120,ROWS($A$10:$A20)+2,FALSE)","v":1865},{"$f":"HLOOKUP(BO$7+0.5,$J$66:$DK$120,ROWS($A$10:$A20)+2,FALSE)","v":1136},{"$f":"HLOOKUP(BP$7+0.5,$J$66:$DK$120,ROWS($A$10:$A20)+2,FALSE)","v":4221},{"$f":"HLOOKUP(BQ$7+0.5,$J$66:$DK$120,ROWS($A$10:$A20)+2,FALSE)","v":2537},{"$f":"HLOOKUP(BR$7+0.5,$J$66:$DK$120,ROWS($A$10:$A20)+2,FALSE)","v":1882},{"$f":"HLOOKUP(BS$7+0.5,$J$66:$DK$120,ROWS($A$10:$A20)+2,FALSE)","v":608},{"$f":"HLOOKUP(BT$7+0.5,$J$66:$DK$120,ROWS($A$10:$A20)+2,FALSE)","v":481},{"$f":"HLOOKUP(BU$7+0.5,$J$66:$DK$120,ROWS($A$10:$A20)+2,FALSE)","v":"N/A"},{"$f":"HLOOKUP(BV$7+0.5,$J$66:$DK$120,ROWS($A$10:$A20)+2,FALSE)","v":6205},{"$f":"HLOOKUP(BW$7+0.5,$J$66:$DK$120,ROWS($A$10:$A20)+2,FALSE)","v":2730},{"$f":"HLOOKUP(BX$7+0.5,$J$66:$DK$120,ROWS($A$10:$A20)+2,FALSE)","v":923},{"$f":"HLOOKUP(BY$7+0.5,$J$66:$DK$120,ROWS($A$10:$A20)+2,FALSE)","v":3828},{"$f":"HLOOKUP(BZ$7+0.5,$J$66:$DK$120,ROWS($A$10:$A20)+2,FALSE)","v":2852},{"$f":"HLOOKUP(CA$7+0.5,$J$66:$DK$120,ROWS($A$10:$A20)+2,FALSE)","v":1332},{"$f":"HLOOKUP(CB$7+0.5,$J$66:$DK$120,ROWS($A$10:$A20)+2,FALSE)","v":3133},{"$f":"HLOOKUP(CC$7+0.5,$J$66:$DK$120,ROWS($A$10:$A20)+2,FALSE)","v":1607},{"$f":"HLOOKUP(CD$7+0.5,$J$66:$DK$120,ROWS($A$10:$A20)+2,FALSE)","v":2266},{"$f":"HLOOKUP(CE$7+0.5,$J$66:$DK$120,ROWS($A$10:$A20)+2,FALSE)","v":3032},{"$f":"HLOOKUP(CF$7+0.5,$J$66:$DK$120,ROWS($A$10:$A20)+2,FALSE)","v":2378},{"$f":"HLOOKUP(CG$7+0.5,$J$66:$DK$120,ROWS($A$10:$A20)+2,FALSE)","v":2747},{"$f":"HLOOKUP(CH$7+0.5,$J$66:$DK$120,ROWS($A$10:$A20)+2,FALSE)","v":3519},{"$f":"HLOOKUP(CI$7+0.5,$J$66:$DK$120,ROWS($A$10:$A20)+2,FALSE)","v":2185},{"$f":"HLOOKUP(CJ$7+0.5,$J$66:$DK$120,ROWS($A$10:$A20)+2,FALSE)","v":3345},{"$f":"HLOOKUP(CK$7+0.5,$J$66:$DK$120,ROWS($A$10:$A20)+2,FALSE)","v":3498},{"$f":"HLOOKUP(CL$7+0.5,$J$66:$DK$120,ROWS($A$10:$A20)+2,FALSE)","v":2104},{"$f":"HLOOKUP(CM$7+0.5,$J$66:$DK$120,ROWS($A$10:$A20)+2,FALSE)","v":713},{"$f":"HLOOKUP(CN$7+0.5,$J$66:$DK$120,ROWS($A$10:$A20)+2,FALSE)","v":515},{"$f":"HLOOKUP(CO$7+0.5,$J$66:$DK$120,ROWS($A$10:$A20)+2,FALSE)","v":922},{"$f":"HLOOKUP(CP$7+0.5,$J$66:$DK$120,ROWS($A$10:$A20)+2,FALSE)","v":4242},{"$f":"HLOOKUP(CQ$7+0.5,$J$66:$DK$120,ROWS($A$10:$A20)+2,FALSE)","v":1004},{"$f":"HLOOKUP(CR$7+0.5,$J$66:$DK$120,ROWS($A$10:$A20)+2,FALSE)","v":5886},{"$f":"HLOOKUP(CS$7+0.5,$J$66:$DK$120,ROWS($A$10:$A20)+2,FALSE)","v":3843},{"$f":"HLOOKUP(CT$7+0.5,$J$66:$DK$120,ROWS($A$10:$A20)+2,FALSE)","v":203},{"$f":"HLOOKUP(CU$7+0.5,$J$66:$DK$120,ROWS($A$10:$A20)+2,FALSE)","v":4305},{"$f":"HLOOKUP(CV$7+0.5,$J$66:$DK$120,ROWS($A$10:$A20)+2,FALSE)","v":1301},{"$f":"HLOOKUP(CW$7+0.5,$J$66:$DK$120,ROWS($A$10:$A20)+2,FALSE)","v":1736},{"$f":"HLOOKUP(CX$7+0.5,$J$66:$DK$120,ROWS($A$10:$A20)+2,FALSE)","v":4174},{"$f":"HLOOKUP(CY$7+0.5,$J$66:$DK$120,ROWS($A$10:$A20)+2,FALSE)","v":1458},{"$f":"HLOOKUP(CZ$7+0.5,$J$66:$DK$120,ROWS($A$10:$A20)+2,FALSE)","v":2719},{"$f":"HLOOKUP(DA$7+0.5,$J$66:$DK$120,ROWS($A$10:$A20)+2,FALSE)","v":762},{"$f":"HLOOKUP(DB$7+0.5,$J$66:$DK$120,ROWS($A$10:$A20)+2,FALSE)","v":3583},{"$f":"HLOOKUP(DC$7+0.5,$J$66:$DK$120,ROWS($A$10:$A20)+2,FALSE)","v":4750},{"$f":"HLOOKUP(DD$7+0.5,$J$66:$DK$120,ROWS($A$10:$A20)+2,FALSE)","v":1348},{"$f":"HLOOKUP(DE$7+0.5,$J$66:$DK$120,ROWS($A$10:$A20)+2,FALSE)","v":1190},{"$f":"HLOOKUP(DF$7+0.5,$J$66:$DK$120,ROWS($A$10:$A20)+2,FALSE)","v":3965},{"$f":"HLOOKUP(DG$7+0.5,$J$66:$DK$120,ROWS($A$10:$A20)+2,FALSE)","v":1710},{"$f":"HLOOKUP(DH$7+0.5,$J$66:$DK$120,ROWS($A$10:$A20)+2,FALSE)","v":1587},{"$f":"HLOOKUP(DI$7+0.5,$J$66:$DK$120,ROWS($A$10:$A20)+2,FALSE)","v":1993},{"$f":"HLOOKUP(DJ$7+0.5,$J$66:$DK$120,ROWS($A$10:$A20)+2,FALSE)","v":567},{"$f":"HLOOKUP(DK$7+0.5,$J$66:$DK$120,ROWS($A$10:$A20)+2,FALSE)","v":4641}]
[null,"Georgia","South",9796547,5863,8231384,34188,1236302,31155,{"$f":"HLOOKUP(J$7,$J$66:$DK$120,ROWS($A$10:$A21)+2,FALSE)","v":277466},{"$f":"HLOOKUP(K$7,$J$66:$DK$120,ROWS($A$10:$A21)+2,FALSE)","v":13864},{"$f":"HLOOKUP(L$7,$J$66:$DK$120,ROWS($A$10:$A21)+2,FALSE)","v":2654},{"$f":"HLOOKUP(M$7,$J$66:$DK$120,ROWS($A$10:$A21)+2,FALSE)","v":6657},{"$f":"HLOOKUP(N$7,$J$66:$DK$120,ROWS($A$10:$A21)+2,FALSE)","v":1041},{"$f":"HLOOKUP(O$7,$J$66:$DK$120,ROWS($A$10:$A21)+2,FALSE)","v":14174},{"$f":"HLOOKUP(P$7,$J$66:$DK$120,ROWS($A$10:$A21)+2,FALSE)","v":4710},{"$f":"HLOOKUP(Q$7,$J$66:$DK$120,ROWS($A$10:$A21)+2,FALSE)","v":1829},{"$f":"HLOOKUP(R$7,$J$66:$DK$120,ROWS($A$10:$A21)+2,FALSE)","v":226},{"$f":"HLOOKUP(S$7,$J$66:$DK$120,ROWS($A$10:$A21)+2,FALSE)","v":1352},{"$f":"HLOOKUP(T$7,$J$66:$DK$120,ROWS($A$10:$A21)+2,FALSE)","v":42870},{"$f":"HLOOKUP(U$7,$J$66:$DK$120,ROWS($A$10:$A21)+2,FALSE)","v":"N/A"},{"$f":"HLOOKUP(V$7,$J$66:$DK$120,ROWS($A$10:$A21)+2,FALSE)","v":1409},{"$f":"HLOOKUP(W$7,$J$66:$DK$120,ROWS($A$10:$A21)+2,FALSE)","v":936},{"$f":"HLOOKUP(X$7,$J$66:$DK$120,ROWS($A$10:$A21)+2,FALSE)","v":7143},{"$f":"HLOOKUP(Y$7,$J$66:$DK$120,ROWS($A$10:$A21)+2,FALSE)","v":5972},{"$f":"HLOOKUP(Z$7,$J$66:$DK$120,ROWS($A$10:$A21)+2,FALSE)","v":1687},{"$f":"HLOOKUP(AA$7,$J$66:$DK$120,ROWS($A$10:$A21)+2,FALSE)","v":1497},{"$f":"HLOOKUP(AB$7,$J$66:$DK$120,ROWS($A$10:$A21)+2,FALSE)","v":6172},{"$f":"HLOOKUP(AC$7,$J$66:$DK$120,ROWS($A$10:$A21)+2,FALSE)","v":4100},{"$f":"HLOOKUP(AD$7,$J$66:$DK$120,ROWS($A$10:$A21)+2,FALSE)","v":222},{"$f":"HLOOKUP(AE$7,$J$66:$DK$120,ROWS($A$10:$A21)+2,FALSE)","v":3619},{"$f":"HLOOKUP(AF$7,$J$66:$DK$120,ROWS($A$10:$A21)+2,FALSE)","v":4153},{"$f":"HLOOKUP(AG$7,$J$66:$DK$120,ROWS($A$10:$A21)+2,FALSE)","v":9949},{"$f":"HLOOKUP(AH$7,$J$66:$DK$120,ROWS($A$10:$A21)+2,FALSE)","v":2237},{"$f":"HLOOKUP(AI$7,$J$66:$DK$120,ROWS($A$10:$A21)+2,FALSE)","v":3280},{"$f":"HLOOKUP(AJ$7,$J$66:$DK$120,ROWS($A$10:$A21)+2,FALSE)","v":3377},{"$f":"HLOOKUP(AK$7,$J$66:$DK$120,ROWS($A$10:$A21)+2,FALSE)","v":251},{"$f":"HLOOKUP(AL$7,$J$66:$DK$120,ROWS($A$10:$A21)+2,FALSE)","v":1283},{"$f":"HLOOKUP(AM$7,$J$66:$DK$120,ROWS($A$10:$A21)+2,FALSE)","v":3783},{"$f":"HLOOKUP(AN$7,$J$66:$DK$120,ROWS($A$10:$A21)+2,FALSE)","v":15},{"$f":"HLOOKUP(AO$7,$J$66:$DK$120,ROWS($A$10:$A21)+2,FALSE)","v":4920},{"$f":"HLOOKUP(AP$7,$J$66:$DK$120,ROWS($A$10:$A21)+2,FALSE)","v":915},{"$f":"HLOOKUP(AQ$7,$J$66:$DK$120,ROWS($A$10:$A21)+2,FALSE)","v":13957},{"$f":"HLOOKUP(AR$7,$J$66:$DK$120,ROWS($A$10:$A21)+2,FALSE)","v":16009},{"$f":"HLOOKUP(AS$7,$J$66:$DK$120,ROWS($A$10:$A21)+2,FALSE)","v":207},{"$f":"HLOOKUP(AT$7,$J$66:$DK$120,ROWS($A$10:$A21)+2,FALSE)","v":7501},{"$f":"HLOOKUP(AU$7,$J$66:$DK$120,ROWS($A$10:$A21)+2,FALSE)","v":3299},{"$f":"HLOOKUP(AV$7,$J$66:$DK$120,ROWS($A$10:$A21)+2,FALSE)","v":453},{"$f":"HLOOKUP(AW$7,$J$66:$DK$120,ROWS($A$10:$A21)+2,FALSE)","v":9076},{"$f":"HLOOKUP(AX$7,$J$66:$DK$120,ROWS($A$10:$A21)+2,FALSE)","v":440},{"$f":"HLOOKUP(AY$7,$J$66:$DK$120,ROWS($A$10:$A21)+2,FALSE)","v":18611},{"$f":"HLOOKUP(AZ$7,$J$66:$DK$120,ROWS($A$10:$A21)+2,FALSE)","v":257},{"$f":"HLOOKUP(BA$7,$J$66:$DK$120,ROWS($A$10:$A21)+2,FALSE)","v":17606},{"$f":"HLOOKUP(BB$7,$J$66:$DK$120,ROWS($A$10:$A21)+2,FALSE)","v":16198},{"$f":"HLOOKUP(BC$7,$J$66:$DK$120,ROWS($A$10:$A21)+2,FALSE)","v":20},{"$f":"HLOOKUP(BD$7,$J$66:$DK$120,ROWS($A$10:$A21)+2,FALSE)","v":84},{"$f":"HLOOKUP(BE$7,$J$66:$DK$120,ROWS($A$10:$A21)+2,FALSE)","v":10702},{"$f":"HLOOKUP(BF$7,$J$66:$DK$120,ROWS($A$10:$A21)+2,FALSE)","v":1965},{"$f":"HLOOKUP(BG$7,$J$66:$DK$120,ROWS($A$10:$A21)+2,FALSE)","v":1237},{"$f":"HLOOKUP(BH$7,$J$66:$DK$120,ROWS($A$10:$A21)+2,FALSE)","v":3441},{"$f":"HLOOKUP(BI$7,$J$66:$DK$120,ROWS($A$10:$A21)+2,FALSE)","v":106},{"$f":"HLOOKUP(BJ$7,$J$66:$DK$120,ROWS($A$10:$A21)+2,FALSE)","v":1730},{"$f":"HLOOKUP(BK$7+0.5,$J$66:$DK$120,ROWS($A$10:$A21)+2,FALSE)","v":14075},{"$f":"HLOOKUP(BL$7+0.5,$J$66:$DK$120,ROWS($A$10:$A21)+2,FALSE)","v":2903},{"$f":"HLOOKUP(BM$7+0.5,$J$66:$DK$120,ROWS($A$10:$A21)+2,FALSE)","v":1444},{"$f":"HLOOKUP(BN$7+0.5,$J$66:$DK$120,ROWS($A$10:$A21)+2,FALSE)","v":2675},{"$f":"HLOOKUP(BO$7+0.5,$J$66:$DK$120,ROWS($A$10:$A21)+2,FALSE)","v":519},{"$f":"HLOOKUP(BP$7+0.5,$J$66:$DK$120,ROWS($A$10:$A21)+2,FALSE)","v":3182},{"$f":"HLOOKUP(BQ$7+0.5,$J$66:$DK$120,ROWS($A$10:$A21)+2,FALSE)","v":2093},{"$f":"HLOOKUP(BR$7+0.5,$J$66:$DK$120,ROWS($A$10:$A21)+2,FALSE)","v":824},{"$f":"HLOOKUP(BS$7+0.5,$J$66:$DK$120,ROWS($A$10:$A21)+2,FALSE)","v":246},{"$f":"HLOOKUP(BT$7+0.5,$J$66:$DK$120,ROWS($A$10:$A21)+2,FALSE)","v":994},{"$f":"HLOOKUP(BU$7+0.5,$J$66:$DK$120,ROWS($A$10:$A21)+2,FALSE)","v":5472},{"$f":"HLOOKUP(BV$7+0.5,$J$66:$DK$120,ROWS($A$10:$A21)+2,FALSE)","v":"N/A"},{"$f":"HLOOKUP(BW$7+0.5,$J$66:$DK$120,ROWS($A$10:$A21)+2,FALSE)","v":831},{"$f":"HLOOKUP(BX$7+0.5,$J$66:$DK$120,ROWS($A$10:$A21)+2,FALSE)","v":797},{"$f":"HLOOKUP(BY$7+0.5,$J$66:$DK$120,ROWS($A$10:$A21)+2,FALSE)","v":1833},{"$f":"HLOOKUP(BZ$7+0.5,$J$66:$DK$120,ROWS($A$10:$A21)+2,FALSE)","v":2678},{"$f":"HLOOKUP(CA$7+0.5,$J$66:$DK$120,ROWS($A$10:$A21)+2,FALSE)","v":1036},{"$f":"HLOOKUP(CB$7+0.5,$J$66:$DK$120,ROWS($A$10:$A21)+2,FALSE)","v":707},{"$f":"HLOOKUP(CC$7+0.5,$J$66:$DK$120,ROWS($A$10:$A21)+2,FALSE)","v":1972},{"$f":"HLOOKUP(CD$7+0.5,$J$66:$DK$120,ROWS($A$10:$A21)+2,FALSE)","v":1490},{"$f":"HLOOKUP(CE$7+0.5,$J$66:$DK$120,ROWS($A$10:$A21)+2,FALSE)","v":178},{"$f":"HLOOKUP(CF$7+0.5,$J$66:$DK$120,ROWS($A$10:$A21)+2,FALSE)","v":1621},{"$f":"HLOOKUP(CG$7+0.5,$J$66:$DK$120,ROWS($A$10:$A21)+2,FALSE)","v":1720},{"$f":"HLOOKUP(CH$7+0.5,$J$66:$DK$120,ROWS($A$10:$A21)+2,FALSE)","v":3100},{"$f":"HLOOKUP(CI$7+0.5,$J$66:$DK$120,ROWS($A$10:$A21)+2,FALSE)","v":2164},{"$f":"HLOOKUP(CJ$7+0.5,$J$66:$DK$120,ROWS($A$10:$A21)+2,FALSE)","v":1372},{"$f":"HLOOKUP(CK$7+0.5,$J$66:$DK$120,ROWS($A$10:$A21)+2,FALSE)","v":1479},{"$f":"HLOOKUP(CL$7+0.5,$J$66:$DK$120,ROWS($A$10:$A21)+2,FALSE)","v":224},{"$f":"HLOOKUP(CM$7+0.5,$J$66:$DK$120,ROWS($A$10:$A21)+2,FALSE)","v":1001},{"$f":"HLOOKUP(CN$7+0.5,$J$66:$DK$120,ROWS($A$10:$A21)+2,FALSE)","v":2622},{"$f":"HLOOKUP(CO$7+0.5,$J$66:$DK$120,ROWS($A$10:$A21)+2,FALSE)","v":27},{"$f":"HLOOKUP(CP$7+0.5,$J$66:$DK$120,ROWS($A$10:$A21)+2,FALSE)","v":1544},{"$f":"HLOOKUP(CQ$7+0.5,$J$66:$DK$120,ROWS($A$10:$A21)+2,FALSE)","v":512},{"$f":"HLOOKUP(CR$7+0.5,$J$66:$DK$120,ROWS($A$10:$A21)+2,FALSE)","v":3960},{"$f":"HLOOKUP(CS$7+0.5,$J$66:$DK$120,ROWS($A$10:$A21)+2,FALSE)","v":2963},{"$f":"HLOOKUP(CT$7+0.5,$J$66:$DK$120,ROWS($A$10:$A21)+2,FALSE)","v":250},{"$f":"HLOOKUP(CU$7+0.5,$J$66:$DK$120,ROWS($A$10:$A21)+2,FALSE)","v":2501},{"$f":"HLOOKUP(CV$7+0.5,$J$66:$DK$120,ROWS($A$10:$A21)+2,FALSE)","v":1818},{"$f":"HLOOKUP(CW$7+0.5,$J$66:$DK$120,ROWS($A$10:$A21)+2,FALSE)","v":472},{"$f":"HLOOKUP(CX$7+0.5,$J$66:$DK$120,ROWS($A$10:$A21)+2,FALSE)","v":2622},{"$f":"HLOOKUP(CY$7+0.5,$J$66:$DK$120,ROWS($A$10:$A21)+2,FALSE)","v":620},{"$f":"HLOOKUP(CZ$7+0.5,$J$66:$DK$120,ROWS($A$10:$A21)+2,FALSE)","v":3871},{"$f":"HLOOKUP(DA$7+0.5,$J$66:$DK$120,ROWS($A$10:$A21)+2,FALSE)","v":291},{"$f":"HLOOKUP(DB$7+0.5,$J$66:$DK$120,ROWS($A$10:$A21)+2,FALSE)","v":4620},{"$f":"HLOOKUP(DC$7+0.5,$J$66:$DK$120,ROWS($A$10:$A21)+2,FALSE)","v":3367},{"$f":"HLOOKUP(DD$7+0.5,$J$66:$DK$120,ROWS($A$10:$A21)+2,FALSE)","v":35},{"$f":"HLOOKUP(DE$7+0.5,$J$66:$DK$120,ROWS($A$10:$A21)+2,FALSE)","v":142},{"$f":"HLOOKUP(DF$7+0.5,$J$66:$DK$120,ROWS($A$10:$A21)+2,FALSE)","v":2094},{"$f":"HLOOKUP(DG$7+0.5,$J$66:$DK$120,ROWS($A$10:$A21)+2,FALSE)","v":826},{"$f":"HLOOKUP(DH$7+0.5,$J$66:$DK$120,ROWS($A$10:$A21)+2,FALSE)","v":625},{"$f":"HLOOKUP(DI$7+0.5,$J$66:$DK$120,ROWS($A$10:$A21)+2,FALSE)","v":1725},{"$f":"HLOOKUP(DJ$7+0.5,$J$66:$DK$120,ROWS($A$10:$A21)+2,FALSE)","v":154},{"$f":"HLOOKUP(DK$7+0.5,$J$66:$DK$120,ROWS($A$10:$A21)+2,FALSE)","v":1190}]
[null,"Hawaii","West",1374852,1662,1164145,10466,134827,9196,{"$f":"HLOOKUP(J$7,$J$66:$DK$120,ROWS($A$10:$A22)+2,FALSE)","v":55145},{"$f":"HLOOKUP(K$7,$J$66:$DK$120,ROWS($A$10:$A22)+2,FALSE)","v":608},{"$f":"HLOOKUP(L$7,$J$66:$DK$120,ROWS($A$10:$A22)+2,FALSE)","v":1417},{"$f":"HLOOKUP(M$7,$J$66:$DK$120,ROWS($A$10:$A22)+2,FALSE)","v":1865},{"$f":"HLOOKUP(N$7,$J$66:$DK$120,ROWS($A$10:$A22)+2,FALSE)","v":24},{"$f":"HLOOKUP(O$7,$J$66:$DK$120,ROWS($A$10:$A22)+2,FALSE)","v":9756},{"$f":"HLOOKUP(P$7,$J$66:$DK$120,ROWS($A$10:$A22)+2,FALSE)","v":1216},{"$f":"HLOOKUP(Q$7,$J$66:$DK$120,ROWS($A$10:$A22)+2,FALSE)","v":191},{"$f":"HLOOKUP(R$7,$J$66:$DK$120,ROWS($A$10:$A22)+2,FALSE)","v":278},{"$f":"HLOOKUP(S$7,$J$66:$DK$120,ROWS($A$10:$A22)+2,FALSE)","v":230},{"$f":"HLOOKUP(T$7,$J$66:$DK$120,ROWS($A$10:$A22)+2,FALSE)","v":2780},{"$f":"HLOOKUP(U$7,$J$66:$DK$120,ROWS($A$10:$A22)+2,FALSE)","v":1448},{"$f":"HLOOKUP(V$7,$J$66:$DK$120,ROWS($A$10:$A22)+2,FALSE)","v":"N/A"},{"$f":"HLOOKUP(W$7,$J$66:$DK$120,ROWS($A$10:$A22)+2,FALSE)","v":404},{"$f":"HLOOKUP(X$7,$J$66:$DK$120,ROWS($A$10:$A22)+2,FALSE)","v":318},{"$f":"HLOOKUP(Y$7,$J$66:$DK$120,ROWS($A$10:$A22)+2,FALSE)","v":292},{"$f":"HLOOKUP(Z$7,$J$66:$DK$120,ROWS($A$10:$A22)+2,FALSE)","v":84},{"$f":"HLOOKUP(AA$7,$J$66:$DK$120,ROWS($A$10:$A22)+2,FALSE)","v":1135},{"$f":"HLOOKUP(AB$7,$J$66:$DK$120,ROWS($A$10:$A22)+2,FALSE)","v":485},{"$f":"HLOOKUP(AC$7,$J$66:$DK$120,ROWS($A$10:$A22)+2,FALSE)","v":207},{"$f":"HLOOKUP(AD$7,$J$66:$DK$120,ROWS($A$10:$A22)+2,FALSE)","v":91},{"$f":"HLOOKUP(AE$7,$J$66:$DK$120,ROWS($A$10:$A22)+2,FALSE)","v":2491},{"$f":"HLOOKUP(AF$7,$J$66:$DK$120,ROWS($A$10:$A22)+2,FALSE)","v":1266},{"$f":"HLOOKUP(AG$7,$J$66:$DK$120,ROWS($A$10:$A22)+2,FALSE)","v":321},{"$f":"HLOOKUP(AH$7,$J$66:$DK$120,ROWS($A$10:$A22)+2,FALSE)","v":192},{"$f":"HLOOKUP(AI$7,$J$66:$DK$120,ROWS($A$10:$A22)+2,FALSE)","v":44},{"$f":"HLOOKUP(AJ$7,$J$66:$DK$120,ROWS($A$10:$A22)+2,FALSE)","v":944},{"$f":"HLOOKUP(AK$7,$J$66:$DK$120,ROWS($A$10:$A22)+2,FALSE)","v":131},{"$f":"HLOOKUP(AL$7,$J$66:$DK$120,ROWS($A$10:$A22)+2,FALSE)","v":75},{"$f":"HLOOKUP(AM$7,$J$66:$DK$120,ROWS($A$10:$A22)+2,FALSE)","v":760},{"$f":"HLOOKUP(AN$7,$J$66:$DK$120,ROWS($A$10:$A22)+2,FALSE)","v":85},{"$f":"HLOOKUP(AO$7,$J$66:$DK$120,ROWS($A$10:$A22)+2,FALSE)","v":410},{"$f":"HLOOKUP(AP$7,$J$66:$DK$120,ROWS($A$10:$A22)+2,FALSE)","v":284},{"$f":"HLOOKUP(AQ$7,$J$66:$DK$120,ROWS($A$10:$A22)+2,FALSE)","v":2382},{"$f":"HLOOKUP(AR$7,$J$66:$DK$120,ROWS($A$10:$A22)+2,FALSE)","v":2241},{"$f":"HLOOKUP(AS$7,$J$66:$DK$120,ROWS($A$10:$A22)+2,FALSE)","v":0},{"$f":"HLOOKUP(AT$7,$J$66:$DK$120,ROWS($A$10:$A22)+2,FALSE)","v":884},{"$f":"HLOOKUP(AU$7,$J$66:$DK$120,ROWS($A$10:$A22)+2,FALSE)","v":1095},{"$f":"HLOOKUP(AV$7,$J$66:$DK$120,ROWS($A$10:$A22)+2,FALSE)","v":1763},{"$f":"HLOOKUP(AW$7,$J$66:$DK$120,ROWS($A$10:$A22)+2,FALSE)","v":1087},{"$f":"HLOOKUP(AX$7,$J$66:$DK$120,ROWS($A$10:$A22)+2,FALSE)","v":106},{"$f":"HLOOKUP(AY$7,$J$66:$DK$120,ROWS($A$10:$A22)+2,FALSE)","v":644},{"$f":"HLOOKUP(AZ$7,$J$66:$DK$120,ROWS($A$10:$A22)+2,FALSE)","v":459},{"$f":"HLOOKUP(BA$7,$J$66:$DK$120,ROWS($A$10:$A22)+2,FALSE)","v":1314},{"$f":"HLOOKUP(BB$7,$J$66:$DK$120,ROWS($A$10:$A22)+2,FALSE)","v":3300},{"$f":"HLOOKUP(BC$7,$J$66:$DK$120,ROWS($A$10:$A22)+2,FALSE)","v":2183},{"$f":"HLOOKUP(BD$7,$J$66:$DK$120,ROWS($A$10:$A22)+2,FALSE)","v":0},{"$f":"HLOOKUP(BE$7,$J$66:$DK$120,ROWS($A$10:$A22)+2,FALSE)","v":1393},{"$f":"HLOOKUP(BF$7,$J$66:$DK$120,ROWS($A$10:$A22)+2,FALSE)","v":5920},{"$f":"HLOOKUP(BG$7,$J$66:$DK$120,ROWS($A$10:$A22)+2,FALSE)","v":197},{"$f":"HLOOKUP(BH$7,$J$66:$DK$120,ROWS($A$10:$A22)+2,FALSE)","v":295},{"$f":"HLOOKUP(BI$7,$J$66:$DK$120,ROWS($A$10:$A22)+2,FALSE)","v":50},{"$f":"HLOOKUP(BJ$7,$J$66:$DK$120,ROWS($A$10:$A22)+2,FALSE)","v":336},{"$f":"HLOOKUP(BK$7+0.5,$J$66:$DK$120,ROWS($A$10:$A22)+2,FALSE)","v":5749},{"$f":"HLOOKUP(BL$7+0.5,$J$66:$DK$120,ROWS($A$10:$A22)+2,FALSE)","v":479},{"$f":"HLOOKUP(BM$7+0.5,$J$66:$DK$120,ROWS($A$10:$A22)+2,FALSE)","v":869},{"$f":"HLOOKUP(BN$7+0.5,$J$66:$DK$120,ROWS($A$10:$A22)+2,FALSE)","v":695},{"$f":"HLOOKUP(BO$7+0.5,$J$66:$DK$120,ROWS($A$10:$A22)+2,FALSE)","v":54},{"$f":"HLOOKUP(BP$7+0.5,$J$66:$DK$120,ROWS($A$10:$A22)+2,FALSE)","v":1508},{"$f":"HLOOKUP(BQ$7+0.5,$J$66:$DK$120,ROWS($A$10:$A22)+2,FALSE)","v":574},{"$f":"HLOOKUP(BR$7+0.5,$J$66:$DK$120,ROWS($A$10:$A22)+2,FALSE)","v":222},{"$f":"HLOOKUP(BS$7+0.5,$J$66:$DK$120,ROWS($A$10:$A22)+2,FALSE)","v":253},{"$f":"HLOOKUP(BT$7+0.5,$J$66:$DK$120,ROWS($A$10:$A22)+2,FALSE)","v":253},{"$f":"HLOOKUP(BU$7+0.5,$J$66:$DK$120,ROWS($A$10:$A22)+2,FALSE)","v":1227},{"$f":"HLOOKUP(BV$7+0.5,$J$66:$DK$120,ROWS($A$10:$A22)+2,FALSE)","v":639},{"$f":"HLOOKUP(BW$7+0.5,$J$66:$DK$120,ROWS($A$10:$A22)+2,FALSE)","v":"N/A"},{"$f":"HLOOKUP(BX$7+0.5,$J$66:$DK$120,ROWS($A$10:$A22)+2,FALSE)","v":431},{"$f":"HLOOKUP(BY$7+0.5,$J$66:$DK$120,ROWS($A$10:$A22)+2,FALSE)","v":194},{"$f":"HLOOKUP(BZ$7+0.5,$J$66:$DK$120,ROWS($A$10:$A22)+2,FALSE)","v":261},{"$f":"HLOOKUP(CA$7+0.5,$J$66:$DK$120,ROWS($A$10:$A22)+2,FALSE)","v":98},{"$f":"HLOOKUP(CB$7+0.5,$J$66:$DK$120,ROWS($A$10:$A22)+2,FALSE)","v":709},{"$f":"HLOOKUP(CC$7+0.5,$J$66:$DK$120,ROWS($A$10:$A22)+2,FALSE)","v":630},{"$f":"HLOOKUP(CD$7+0.5,$J$66:$DK$120,ROWS($A$10:$A22)+2,FALSE)","v":183},{"$f":"HLOOKUP(CE$7+0.5,$J$66:$DK$120,ROWS($A$10:$A22)+2,FALSE)","v":147},{"$f":"HLOOKUP(CF$7+0.5,$J$66:$DK$120,ROWS($A$10:$A22)+2,FALSE)","v":1610},{"$f":"HLOOKUP(CG$7+0.5,$J$66:$DK$120,ROWS($A$10:$A22)+2,FALSE)","v":962},{"$f":"HLOOKUP(CH$7+0.5,$J$66:$DK$120,ROWS($A$10:$A22)+2,FALSE)","v":189},{"$f":"HLOOKUP(CI$7+0.5,$J$66:$DK$120,ROWS($A$10:$A22)+2,FALSE)","v":240},{"$f":"HLOOKUP(CJ$7+0.5,$J$66:$DK$120,ROWS($A$10:$A22)+2,FALSE)","v":52},{"$f":"HLOOKUP(CK$7+0.5,$J$66:$DK$120,ROWS($A$10:$A22)+2,FALSE)","v":630},{"$f":"HLOOKUP(CL$7+0.5,$J$66:$DK$120,ROWS($A$10:$A22)+2,FALSE)","v":172},{"$f":"HLOOKUP(CM$7+0.5,$J$66:$DK$120,ROWS($A$10:$A22)+2,FALSE)","v":125},{"$f":"HLOOKUP(CN$7+0.5,$J$66:$DK$120,ROWS($A$10:$A22)+2,FALSE)","v":424},{"$f":"HLOOKUP(CO$7+0.5,$J$66:$DK$120,ROWS($A$10:$A22)+2,FALSE)","v":119},{"$f":"HLOOKUP(CP$7+0.5,$J$66:$DK$120,ROWS($A$10:$A22)+2,FALSE)","v":435},{"$f":"HLOOKUP(CQ$7+0.5,$J$66:$DK$120,ROWS($A$10:$A22)+2,FALSE)","v":243},{"$f":"HLOOKUP(CR$7+0.5,$J$66:$DK$120,ROWS($A$10:$A22)+2,FALSE)","v":1279},{"$f":"HLOOKUP(CS$7+0.5,$J$66:$DK$120,ROWS($A$10:$A22)+2,FALSE)","v":1274},{"$f":"HLOOKUP(CT$7+0.5,$J$66:$DK$120,ROWS($A$10:$A22)+2,FALSE)","v":177},{"$f":"HLOOKUP(CU$7+0.5,$J$66:$DK$120,ROWS($A$10:$A22)+2,FALSE)","v":995},{"$f":"HLOOKUP(CV$7+0.5,$J$66:$DK$120,ROWS($A$10:$A22)+2,FALSE)","v":933},{"$f":"HLOOKUP(CW$7+0.5,$J$66:$DK$120,ROWS($A$10:$A22)+2,FALSE)","v":764},{"$f":"HLOOKUP(CX$7+0.5,$J$66:$DK$120,ROWS($A$10:$A22)+2,FALSE)","v":770},{"$f":"HLOOKUP(CY$7+0.5,$J$66:$DK$120,ROWS($A$10:$A22)+2,FALSE)","v":176},{"$f":"HLOOKUP(CZ$7+0.5,$J$66:$DK$120,ROWS($A$10:$A22)+2,FALSE)","v":460},{"$f":"HLOOKUP(DA$7+0.5,$J$66:$DK$120,ROWS($A$10:$A22)+2,FALSE)","v":726},{"$f":"HLOOKUP(DB$7+0.5,$J$66:$DK$120,ROWS($A$10:$A22)+2,FALSE)","v":675},{"$f":"HLOOKUP(DC$7+0.5,$J$66:$DK$120,ROWS($A$10:$A22)+2,FALSE)","v":1887},{"$f":"HLOOKUP(DD$7+0.5,$J$66:$DK$120,ROWS($A$10:$A22)+2,FALSE)","v":1283},{"$f":"HLOOKUP(DE$7+0.5,$J$66:$DK$120,ROWS($A$10:$A22)+2,FALSE)","v":177},{"$f":"HLOOKUP(DF$7+0.5,$J$66:$DK$120,ROWS($A$10:$A22)+2,FALSE)","v":755},{"$f":"HLOOKUP(DG$7+0.5,$J$66:$DK$120,ROWS($A$10:$A22)+2,FALSE)","v":1901},{"$f":"HLOOKUP(DH$7+0.5,$J$66:$DK$120,ROWS($A$10:$A22)+2,FALSE)","v":330},{"$f":"HLOOKUP(DI$7+0.5,$J$66:$DK$120,ROWS($A$10:$A22)+2,FALSE)","v":234},{"$f":"HLOOKUP(DJ$7+0.5,$J$66:$DK$120,ROWS($A$10:$A22)+2,FALSE)","v":66},{"$f":"HLOOKUP(DK$7+0.5,$J$66:$DK$120,ROWS($A$10:$A22)+2,FALSE)","v":436}]
[null,"Idaho","West",1573036,2184,1296975,12998,210151,11483,{"$f":"HLOOKUP(J$7,$J$66:$DK$120,ROWS($A$10:$A23)+2,FALSE)","v":59283},{"$f":"HLOOKUP(K$7,$J$66:$DK$120,ROWS($A$10:$A23)+2,FALSE)","v":575},{"$f":"HLOOKUP(L$7,$J$66:$DK$120,ROWS($A$10:$A23)+2,FALSE)","v":1198},{"$f":"HLOOKUP(M$7,$J$66:$DK$120,ROWS($A$10:$A23)+2,FALSE)","v":2424},{"$f":"HLOOKUP(N$7,$J$66:$DK$120,ROWS($A$10:$A23)+2,FALSE)","v":291},{"$f":"HLOOKUP(O$7,$J$66:$DK$120,ROWS($A$10:$A23)+2,FALSE)","v":10280},{"$f":"HLOOKUP(P$7,$J$66:$DK$120,ROWS($A$10:$A23)+2,FALSE)","v":1186},{"$f":"HLOOKUP(Q$7,$J$66:$DK$120,ROWS($A$10:$A23)+2,FALSE)","v":44},{"$f":"HLOOKUP(R$7,$J$66:$DK$120,ROWS($A$10:$A23)+2,FALSE)","v":120},{"$f":"HLOOKUP(S$7,$J$66:$DK$120,ROWS($A$10:$A23)+2,FALSE)","v":116},{"$f":"HLOOKUP(T$7,$J$66:$DK$120,ROWS($A$10:$A23)+2,FALSE)","v":2014},{"$f":"HLOOKUP(U$7,$J$66:$DK$120,ROWS($A$10:$A23)+2,FALSE)","v":583},{"$f":"HLOOKUP(V$7,$J$66:$DK$120,ROWS($A$10:$A23)+2,FALSE)","v":206},{"$f":"HLOOKUP(W$7,$J$66:$DK$120,ROWS($A$10:$A23)+2,FALSE)","v":"N/A"},{"$f":"HLOOKUP(X$7,$J$66:$DK$120,ROWS($A$10:$A23)+2,FALSE)","v":532},{"$f":"HLOOKUP(Y$7,$J$66:$DK$120,ROWS($A$10:$A23)+2,FALSE)","v":283},{"$f":"HLOOKUP(Z$7,$J$66:$DK$120,ROWS($A$10:$A23)+2,FALSE)","v":90},{"$f":"HLOOKUP(AA$7,$J$66:$DK$120,ROWS($A$10:$A23)+2,FALSE)","v":63},{"$f":"HLOOKUP(AB$7,$J$66:$DK$120,ROWS($A$10:$A23)+2,FALSE)","v":83},{"$f":"HLOOKUP(AC$7,$J$66:$DK$120,ROWS($A$10:$A23)+2,FALSE)","v":54},{"$f":"HLOOKUP(AD$7,$J$66:$DK$120,ROWS($A$10:$A23)+2,FALSE)","v":0},{"$f":"HLOOKUP(AE$7,$J$66:$DK$120,ROWS($A$10:$A23)+2,FALSE)","v":107},{"$f":"HLOOKUP(AF$7,$J$66:$DK$120,ROWS($A$10:$A23)+2,FALSE)","v":338},{"$f":"HLOOKUP(AG$7,$J$66:$DK$120,ROWS($A$10:$A23)+2,FALSE)","v":683},{"$f":"HLOOKUP(AH$7,$J$66:$DK$120,ROWS($A$10:$A23)+2,FALSE)","v":637},{"$f":"HLOOKUP(AI$7,$J$66:$DK$120,ROWS($A$10:$A23)+2,FALSE)","v":87},{"$f":"HLOOKUP(AJ$7,$J$66:$DK$120,ROWS($A$10:$A23)+2,FALSE)","v":214},{"$f":"HLOOKUP(AK$7,$J$66:$DK$120,ROWS($A$10:$A23)+2,FALSE)","v":3800},{"$f":"HLOOKUP(AL$7,$J$66:$DK$120,ROWS($A$10:$A23)+2,FALSE)","v":35},{"$f":"HLOOKUP(AM$7,$J$66:$DK$120,ROWS($A$10:$A23)+2,FALSE)","v":2535},{"$f":"HLOOKUP(AN$7,$J$66:$DK$120,ROWS($A$10:$A23)+2,FALSE)","v":0},{"$f":"HLOOKUP(AO$7,$J$66:$DK$120,ROWS($A$10:$A23)+2,FALSE)","v":214},{"$f":"HLOOKUP(AP$7,$J$66:$DK$120,ROWS($A$10:$A23)+2,FALSE)","v":675},{"$f":"HLOOKUP(AQ$7,$J$66:$DK$120,ROWS($A$10:$A23)+2,FALSE)","v":938},{"$f":"HLOOKUP(AR$7,$J$66:$DK$120,ROWS($A$10:$A23)+2,FALSE)","v":817},{"$f":"HLOOKUP(AS$7,$J$66:$DK$120,ROWS($A$10:$A23)+2,FALSE)","v":0},{"$f":"HLOOKUP(AT$7,$J$66:$DK$120,ROWS($A$10:$A23)+2,FALSE)","v":1018},{"$f":"HLOOKUP(AU$7,$J$66:$DK$120,ROWS($A$10:$A23)+2,FALSE)","v":93},{"$f":"HLOOKUP(AV$7,$J$66:$DK$120,ROWS($A$10:$A23)+2,FALSE)","v":4963},{"$f":"HLOOKUP(AW$7,$J$66:$DK$120,ROWS($A$10:$A23)+2,FALSE)","v":169},{"$f":"HLOOKUP(AX$7,$J$66:$DK$120,ROWS($A$10:$A23)+2,FALSE)","v":0},{"$f":"HLOOKUP(AY$7,$J$66:$DK$120,ROWS($A$10:$A23)+2,FALSE)","v":205},{"$f":"HLOOKUP(AZ$7,$J$66:$DK$120,ROWS($A$10:$A23)+2,FALSE)","v":118},{"$f":"HLOOKUP(BA$7,$J$66:$DK$120,ROWS($A$10:$A23)+2,FALSE)","v":1957},{"$f":"HLOOKUP(BB$7,$J$66:$DK$120,ROWS($A$10:$A23)+2,FALSE)","v":1352},{"$f":"HLOOKUP(BC$7,$J$66:$DK$120,ROWS($A$10:$A23)+2,FALSE)","v":6617},{"$f":"HLOOKUP(BD$7,$J$66:$DK$120,ROWS($A$10:$A23)+2,FALSE)","v":0},{"$f":"HLOOKUP(BE$7,$J$66:$DK$120,ROWS($A$10:$A23)+2,FALSE)","v":269},{"$f":"HLOOKUP(BF$7,$J$66:$DK$120,ROWS($A$10:$A23)+2,FALSE)","v":10398},{"$f":"HLOOKUP(BG$7,$J$66:$DK$120,ROWS($A$10:$A23)+2,FALSE)","v":0},{"$f":"HLOOKUP(BH$7,$J$66:$DK$120,ROWS($A$10:$A23)+2,FALSE)","v":225},{"$f":"HLOOKUP(BI$7,$J$66:$DK$120,ROWS($A$10:$A23)+2,FALSE)","v":677},{"$f":"HLOOKUP(BJ$7,$J$66:$DK$120,ROWS($A$10:$A23)+2,FALSE)","v":136},{"$f":"HLOOKUP(BK$7+0.5,$J$66:$DK$120,ROWS($A$10:$A23)+2,FALSE)","v":6040},{"$f":"HLOOKUP(BL$7+0.5,$J$66:$DK$120,ROWS($A$10:$A23)+2,FALSE)","v":838},{"$f":"HLOOKUP(BM$7+0.5,$J$66:$DK$120,ROWS($A$10:$A23)+2,FALSE)","v":790},{"$f":"HLOOKUP(BN$7+0.5,$J$66:$DK$120,ROWS($A$10:$A23)+2,FALSE)","v":1307},{"$f":"HLOOKUP(BO$7+0.5,$J$66:$DK$120,ROWS($A$10:$A23)+2,FALSE)","v":268},{"$f":"HLOOKUP(BP$7+0.5,$J$66:$DK$120,ROWS($A$10:$A23)+2,FALSE)","v":2708},{"$f":"HLOOKUP(BQ$7+0.5,$J$66:$DK$120,ROWS($A$10:$A23)+2,FALSE)","v":614},{"$f":"HLOOKUP(BR$7+0.5,$J$66:$DK$120,ROWS($A$10:$A23)+2,FALSE)","v":81},{"$f":"HLOOKUP(BS$7+0.5,$J$66:$DK$120,ROWS($A$10:$A23)+2,FALSE)","v":199},{"$f":"HLOOKUP(BT$7+0.5,$J$66:$DK$120,ROWS($A$10:$A23)+2,FALSE)","v":124},{"$f":"HLOOKUP(BU$7+0.5,$J$66:$DK$120,ROWS($A$10:$A23)+2,FALSE)","v":1608},{"$f":"HLOOKUP(BV$7+0.5,$J$66:$DK$120,ROWS($A$10:$A23)+2,FALSE)","v":848},{"$f":"HLOOKUP(BW$7+0.5,$J$66:$DK$120,ROWS($A$10:$A23)+2,FALSE)","v":194},{"$f":"HLOOKUP(BX$7+0.5,$J$66:$DK$120,ROWS($A$10:$A23)+2,FALSE)","v":"N/A"},{"$f":"HLOOKUP(BY$7+0.5,$J$66:$DK$120,ROWS($A$10:$A23)+2,FALSE)","v":469},{"$f":"HLOOKUP(BZ$7+0.5,$J$66:$DK$120,ROWS($A$10:$A23)+2,FALSE)","v":282},{"$f":"HLOOKUP(CA$7+0.5,$J$66:$DK$120,ROWS($A$10:$A23)+2,FALSE)","v":170},{"$f":"HLOOKUP(CB$7+0.5,$J$66:$DK$120,ROWS($A$10:$A23)+2,FALSE)","v":69},{"$f":"HLOOKUP(CC$7+0.5,$J$66:$DK$120,ROWS($A$10:$A23)+2,FALSE)","v":128},{"$f":"HLOOKUP(CD$7+0.5,$J$66:$DK$120,ROWS($A$10:$A23)+2,FALSE)","v":92},{"$f":"HLOOKUP(CE$7+0.5,$J$66:$DK$120,ROWS($A$10:$A23)+2,FALSE)","v":187},{"$f":"HLOOKUP(CF$7+0.5,$J$66:$DK$120,ROWS($A$10:$A23)+2,FALSE)","v":161},{"$f":"HLOOKUP(CG$7+0.5,$J$66:$DK$120,ROWS($A$10:$A23)+2,FALSE)","v":391},{"$f":"HLOOKUP(CH$7+0.5,$J$66:$DK$120,ROWS($A$10:$A23)+2,FALSE)","v":777},{"$f":"HLOOKUP(CI$7+0.5,$J$66:$DK$120,ROWS($A$10:$A23)+2,FALSE)","v":528},{"$f":"HLOOKUP(CJ$7+0.5,$J$66:$DK$120,ROWS($A$10:$A23)+2,FALSE)","v":170},{"$f":"HLOOKUP(CK$7+0.5,$J$66:$DK$120,ROWS($A$10:$A23)+2,FALSE)","v":259},{"$f":"HLOOKUP(CL$7+0.5,$J$66:$DK$120,ROWS($A$10:$A23)+2,FALSE)","v":2162},{"$f":"HLOOKUP(CM$7+0.5,$J$66:$DK$120,ROWS($A$10:$A23)+2,FALSE)","v":60},{"$f":"HLOOKUP(CN$7+0.5,$J$66:$DK$120,ROWS($A$10:$A23)+2,FALSE)","v":1031},{"$f":"HLOOKUP(CO$7+0.5,$J$66:$DK$120,ROWS($A$10:$A23)+2,FALSE)","v":187},{"$f":"HLOOKUP(CP$7+0.5,$J$66:$DK$120,ROWS($A$10:$A23)+2,FALSE)","v":206},{"$f":"HLOOKUP(CQ$7+0.5,$J$66:$DK$120,ROWS($A$10:$A23)+2,FALSE)","v":554},{"$f":"HLOOKUP(CR$7+0.5,$J$66:$DK$120,ROWS($A$10:$A23)+2,FALSE)","v":554},{"$f":"HLOOKUP(CS$7+0.5,$J$66:$DK$120,ROWS($A$10:$A23)+2,FALSE)","v":843},{"$f":"HLOOKUP(CT$7+0.5,$J$66:$DK$120,ROWS($A$10:$A23)+2,FALSE)","v":187},{"$f":"HLOOKUP(CU$7+0.5,$J$66:$DK$120,ROWS($A$10:$A23)+2,FALSE)","v":753},{"$f":"HLOOKUP(CV$7+0.5,$J$66:$DK$120,ROWS($A$10:$A23)+2,FALSE)","v":108},{"$f":"HLOOKUP(CW$7+0.5,$J$66:$DK$120,ROWS($A$10:$A23)+2,FALSE)","v":1377},{"$f":"HLOOKUP(CX$7+0.5,$J$66:$DK$120,ROWS($A$10:$A23)+2,FALSE)","v":181},{"$f":"HLOOKUP(CY$7+0.5,$J$66:$DK$120,ROWS($A$10:$A23)+2,FALSE)","v":187},{"$f":"HLOOKUP(CZ$7+0.5,$J$66:$DK$120,ROWS($A$10:$A23)+2,FALSE)","v":238},{"$f":"HLOOKUP(DA$7+0.5,$J$66:$DK$120,ROWS($A$10:$A23)+2,FALSE)","v":192},{"$f":"HLOOKUP(DB$7+0.5,$J$66:$DK$120,ROWS($A$10:$A23)+2,FALSE)","v":1539},{"$f":"HLOOKUP(DC$7+0.5,$J$66:$DK$120,ROWS($A$10:$A23)+2,FALSE)","v":714},{"$f":"HLOOKUP(DD$7+0.5,$J$66:$DK$120,ROWS($A$10:$A23)+2,FALSE)","v":3016},{"$f":"HLOOKUP(DE$7+0.5,$J$66:$DK$120,ROWS($A$10:$A23)+2,FALSE)","v":187},{"$f":"HLOOKUP(DF$7+0.5,$J$66:$DK$120,ROWS($A$10:$A23)+2,FALSE)","v":388},{"$f":"HLOOKUP(DG$7+0.5,$J$66:$DK$120,ROWS($A$10:$A23)+2,FALSE)","v":1919},{"$f":"HLOOKUP(DH$7+0.5,$J$66:$DK$120,ROWS($A$10:$A23)+2,FALSE)","v":187},{"$f":"HLOOKUP(DI$7+0.5,$J$66:$DK$120,ROWS($A$10:$A23)+2,FALSE)","v":272},{"$f":"HLOOKUP(DJ$7+0.5,$J$66:$DK$120,ROWS($A$10:$A23)+2,FALSE)","v":406},{"$f":"HLOOKUP(DK$7+0.5,$J$66:$DK$120,ROWS($A$10:$A23)+2,FALSE)","v":228}]
[null,"Illinois","Midwest",12725119,5939,11009321,31714,1441191,27618,{"$f":"HLOOKUP(J$7,$J$66:$DK$120,ROWS($A$10:$A24)+2,FALSE)","v":208755},{"$f":"HLOOKUP(K$7,$J$66:$DK$120,ROWS($A$10:$A24)+2,FALSE)","v":883},{"$f":"HLOOKUP(L$7,$J$66:$DK$120,ROWS($A$10:$A24)+2,FALSE)","v":2250},{"$f":"HLOOKUP(M$7,$J$66:$DK$120,ROWS($A$10:$A24)+2,FALSE)","v":7139},{"$f":"HLOOKUP(N$7,$J$66:$DK$120,ROWS($A$10:$A24)+2,FALSE)","v":1587},{"$f":"HLOOKUP(O$7,$J$66:$DK$120,ROWS($A$10:$A24)+2,FALSE)","v":14940},{"$f":"HLOOKUP(P$7,$J$66:$DK$120,ROWS($A$10:$A24)+2,FALSE)","v":3036},{"$f":"HLOOKUP(Q$7,$J$66:$DK$120,ROWS($A$10:$A24)+2,FALSE)","v":955},{"$f":"HLOOKUP(R$7,$J$66:$DK$120,ROWS($A$10:$A24)+2,FALSE)","v":234},{"$f":"HLOOKUP(S$7,$J$66:$DK$120,ROWS($A$10:$A24)+2,FALSE)","v":1066},{"$f":"HLOOKUP(T$7,$J$66:$DK$120,ROWS($A$10:$A24)+2,FALSE)","v":12687},{"$f":"HLOOKUP(U$7,$J$66:$DK$120,ROWS($A$10:$A24)+2,FALSE)","v":8745},{"$f":"HLOOKUP(V$7,$J$66:$DK$120,ROWS($A$10:$A24)+2,FALSE)","v":869},{"$f":"HLOOKUP(W$7,$J$66:$DK$120,ROWS($A$10:$A24)+2,FALSE)","v":1384},{"$f":"HLOOKUP(X$7,$J$66:$DK$120,ROWS($A$10:$A24)+2,FALSE)","v":"N/A"},{"$f":"HLOOKUP(Y$7,$J$66:$DK$120,ROWS($A$10:$A24)+2,FALSE)","v":16907},{"$f":"HLOOKUP(Z$7,$J$66:$DK$120,ROWS($A$10:$A24)+2,FALSE)","v":8529},{"$f":"HLOOKUP(AA$7,$J$66:$DK$120,ROWS($A$10:$A24)+2,FALSE)","v":2009},{"$f":"HLOOKUP(AB$7,$J$66:$DK$120,ROWS($A$10:$A24)+2,FALSE)","v":2923},{"$f":"HLOOKUP(AC$7,$J$66:$DK$120,ROWS($A$10:$A24)+2,FALSE)","v":1229},{"$f":"HLOOKUP(AD$7,$J$66:$DK$120,ROWS($A$10:$A24)+2,FALSE)","v":526},{"$f":"HLOOKUP(AE$7,$J$66:$DK$120,ROWS($A$10:$A24)+2,FALSE)","v":1865},{"$f":"HLOOKUP(AF$7,$J$66:$DK$120,ROWS($A$10:$A24)+2,FALSE)","v":3296},{"$f":"HLOOKUP(AG$7,$J$66:$DK$120,ROWS($A$10:$A24)+2,FALSE)","v":12583},{"$f":"HLOOKUP(AH$7,$J$66:$DK$120,ROWS($A$10:$A24)+2,FALSE)","v":6537},{"$f":"HLOOKUP(AI$7,$J$66:$DK$120,ROWS($A$10:$A24)+2,FALSE)","v":2744},{"$f":"HLOOKUP(AJ$7,$J$66:$DK$120,ROWS($A$10:$A24)+2,FALSE)","v":13264},{"$f":"HLOOKUP(AK$7,$J$66:$DK$120,ROWS($A$10:$A24)+2,FALSE)","v":228},{"$f":"HLOOKUP(AL$7,$J$66:$DK$120,ROWS($A$10:$A24)+2,FALSE)","v":1302},{"$f":"HLOOKUP(AM$7,$J$66:$DK$120,ROWS($A$10:$A24)+2,FALSE)","v":1478},{"$f":"HLOOKUP(AN$7,$J$66:$DK$120,ROWS($A$10:$A24)+2,FALSE)","v":283},{"$f":"HLOOKUP(AO$7,$J$66:$DK$120,ROWS($A$10:$A24)+2,FALSE)","v":2366},{"$f":"HLOOKUP(AP$7,$J$66:$DK$120,ROWS($A$10:$A24)+2,FALSE)","v":1359},{"$f":"HLOOKUP(AQ$7,$J$66:$DK$120,ROWS($A$10:$A24)+2,FALSE)","v":7561},{"$f":"HLOOKUP(AR$7,$J$66:$DK$120,ROWS($A$10:$A24)+2,FALSE)","v":3761},{"$f":"HLOOKUP(AS$7,$J$66:$DK$120,ROWS($A$10:$A24)+2,FALSE)","v":196},{"$f":"HLOOKUP(AT$7,$J$66:$DK$120,ROWS($A$10:$A24)+2,FALSE)","v":6872},{"$f":"HLOOKUP(AU$7,$J$66:$DK$120,ROWS($A$10:$A24)+2,FALSE)","v":1491},{"$f":"HLOOKUP(AV$7,$J$66:$DK$120,ROWS($A$10:$A24)+2,FALSE)","v":954},{"$f":"HLOOKUP(AW$7,$J$66:$DK$120,ROWS($A$10:$A24)+2,FALSE)","v":4588},{"$f":"HLOOKUP(AX$7,$J$66:$DK$120,ROWS($A$10:$A24)+2,FALSE)","v":462},{"$f":"HLOOKUP(AY$7,$J$66:$DK$120,ROWS($A$10:$A24)+2,FALSE)","v":1583},{"$f":"HLOOKUP(AZ$7,$J$66:$DK$120,ROWS($A$10:$A24)+2,FALSE)","v":394},{"$f":"HLOOKUP(BA$7,$J$66:$DK$120,ROWS($A$10:$A24)+2,FALSE)","v":4648},{"$f":"HLOOKUP(BB$7,$J$66:$DK$120,ROWS($A$10:$A24)+2,FALSE)","v":16780},{"$f":"HLOOKUP(BC$7,$J$66:$DK$120,ROWS($A$10:$A24)+2,FALSE)","v":1154},{"$f":"HLOOKUP(BD$7,$J$66:$DK$120,ROWS($A$10:$A24)+2,FALSE)","v":156},{"$f":"HLOOKUP(BE$7,$J$66:$DK$120,ROWS($A$10:$A24)+2,FALSE)","v":4311},{"$f":"HLOOKUP(BF$7,$J$66:$DK$120,ROWS($A$10:$A24)+2,FALSE)","v":2704},{"$f":"HLOOKUP(BG$7,$J$66:$DK$120,ROWS($A$10:$A24)+2,FALSE)","v":1221},{"$f":"HLOOKUP(BH$7,$J$66:$DK$120,ROWS($A$10:$A24)+2,FALSE)","v":14414},{"$f":"HLOOKUP(BI$7,$J$66:$DK$120,ROWS($A$10:$A24)+2,FALSE)","v":302},{"$f":"HLOOKUP(BJ$7,$J$66:$DK$120,ROWS($A$10:$A24)+2,FALSE)","v":2049},{"$f":"HLOOKUP(BK$7+0.5,$J$66:$DK$120,ROWS($A$10:$A24)+2,FALSE)","v":10844},{"$f":"HLOOKUP(BL$7+0.5,$J$66:$DK$120,ROWS($A$10:$A24)+2,FALSE)","v":478},{"$f":"HLOOKUP(BM$7+0.5,$J$66:$DK$120,ROWS($A$10:$A24)+2,FALSE)","v":1511},{"$f":"HLOOKUP(BN$7+0.5,$J$66:$DK$120,ROWS($A$10:$A24)+2,FALSE)","v":2314},{"$f":"HLOOKUP(BO$7+0.5,$J$66:$DK$120,ROWS($A$10:$A24)+2,FALSE)","v":643},{"$f":"HLOOKUP(BP$7+0.5,$J$66:$DK$120,ROWS($A$10:$A24)+2,FALSE)","v":2770},{"$f":"HLOOKUP(BQ$7+0.5,$J$66:$DK$120,ROWS($A$10:$A24)+2,FALSE)","v":1235},{"$f":"HLOOKUP(BR$7+0.5,$J$66:$DK$120,ROWS($A$10:$A24)+2,FALSE)","v":634},{"$f":"HLOOKUP(BS$7+0.5,$J$66:$DK$120,ROWS($A$10:$A24)+2,FALSE)","v":228},{"$f":"HLOOKUP(BT$7+0.5,$J$66:$DK$120,ROWS($A$10:$A24)+2,FALSE)","v":615},{"$f":"HLOOKUP(BU$7+0.5,$J$66:$DK$120,ROWS($A$10:$A24)+2,FALSE)","v":2735},{"$f":"HLOOKUP(BV$7+0.5,$J$66:$DK$120,ROWS($A$10:$A24)+2,FALSE)","v":3894},{"$f":"HLOOKUP(BW$7+0.5,$J$66:$DK$120,ROWS($A$10:$A24)+2,FALSE)","v":593},{"$f":"HLOOKUP(BX$7+0.5,$J$66:$DK$120,ROWS($A$10:$A24)+2,FALSE)","v":868},{"$f":"HLOOKUP(BY$7+0.5,$J$66:$DK$120,ROWS($A$10:$A24)+2,FALSE)","v":"N/A"},{"$f":"HLOOKUP(BZ$7+0.5,$J$66:$DK$120,ROWS($A$10:$A24)+2,FALSE)","v":2654},{"$f":"HLOOKUP(CA$7+0.5,$J$66:$DK$120,ROWS($A$10:$A24)+2,FALSE)","v":1959},{"$f":"HLOOKUP(CB$7+0.5,$J$66:$DK$120,ROWS($A$10:$A24)+2,FALSE)","v":988},{"$f":"HLOOKUP(CC$7+0.5,$J$66:$DK$120,ROWS($A$10:$A24)+2,FALSE)","v":1049},{"$f":"HLOOKUP(CD$7+0.5,$J$66:$DK$120,ROWS($A$10:$A24)+2,FALSE)","v":561},{"$f":"HLOOKUP(CE$7+0.5,$J$66:$DK$120,ROWS($A$10:$A24)+2,FALSE)","v":347},{"$f":"HLOOKUP(CF$7+0.5,$J$66:$DK$120,ROWS($A$10:$A24)+2,FALSE)","v":755},{"$f":"HLOOKUP(CG$7+0.5,$J$66:$DK$120,ROWS($A$10:$A24)+2,FALSE)","v":1088},{"$f":"HLOOKUP(CH$7+0.5,$J$66:$DK$120,ROWS($A$10:$A24)+2,FALSE)","v":3412},{"$f":"HLOOKUP(CI$7+0.5,$J$66:$DK$120,ROWS($A$10:$A24)+2,FALSE)","v":1781},{"$f":"HLOOKUP(CJ$7+0.5,$J$66:$DK$120,ROWS($A$10:$A24)+2,FALSE)","v":1178},{"$f":"HLOOKUP(CK$7+0.5,$J$66:$DK$120,ROWS($A$10:$A24)+2,FALSE)","v":3449},{"$f":"HLOOKUP(CL$7+0.5,$J$66:$DK$120,ROWS($A$10:$A24)+2,FALSE)","v":183},{"$f":"HLOOKUP(CM$7+0.5,$J$66:$DK$120,ROWS($A$10:$A24)+2,FALSE)","v":637},{"$f":"HLOOKUP(CN$7+0.5,$J$66:$DK$120,ROWS($A$10:$A24)+2,FALSE)","v":817},{"$f":"HLOOKUP(CO$7+0.5,$J$66:$DK$120,ROWS($A$10:$A24)+2,FALSE)","v":255},{"$f":"HLOOKUP(CP$7+0.5,$J$66:$DK$120,ROWS($A$10:$A24)+2,FALSE)","v":1097},{"$f":"HLOOKUP(CQ$7+0.5,$J$66:$DK$120,ROWS($A$10:$A24)+2,FALSE)","v":1078},{"$f":"HLOOKUP(CR$7+0.5,$J$66:$DK$120,ROWS($A$10:$A24)+2,FALSE)","v":2307},{"$f":"HLOOKUP(CS$7+0.5,$J$66:$DK$120,ROWS($A$10:$A24)+2,FALSE)","v":1150},{"$f":"HLOOKUP(CT$7+0.5,$J$66:$DK$120,ROWS($A$10:$A24)+2,FALSE)","v":184},{"$f":"HLOOKUP(CU$7+0.5,$J$66:$DK$120,ROWS($A$10:$A24)+2,FALSE)","v":1834},{"$f":"HLOOKUP(CV$7+0.5,$J$66:$DK$120,ROWS($A$10:$A24)+2,FALSE)","v":860},{"$f":"HLOOKUP(CW$7+0.5,$J$66:$DK$120,ROWS($A$10:$A24)+2,FALSE)","v":517},{"$f":"HLOOKUP(CX$7+0.5,$J$66:$DK$120,ROWS($A$10:$A24)+2,FALSE)","v":1506},{"$f":"HLOOKUP(CY$7+0.5,$J$66:$DK$120,ROWS($A$10:$A24)+2,FALSE)","v":478},{"$f":"HLOOKUP(CZ$7+0.5,$J$66:$DK$120,ROWS($A$10:$A24)+2,FALSE)","v":875},{"$f":"HLOOKUP(DA$7+0.5,$J$66:$DK$120,ROWS($A$10:$A24)+2,FALSE)","v":444},{"$f":"HLOOKUP(DB$7+0.5,$J$66:$DK$120,ROWS($A$10:$A24)+2,FALSE)","v":1468},{"$f":"HLOOKUP(DC$7+0.5,$J$66:$DK$120,ROWS($A$10:$A24)+2,FALSE)","v":3035},{"$f":"HLOOKUP(DD$7+0.5,$J$66:$DK$120,ROWS($A$10:$A24)+2,FALSE)","v":495},{"$f":"HLOOKUP(DE$7+0.5,$J$66:$DK$120,ROWS($A$10:$A24)+2,FALSE)","v":133},{"$f":"HLOOKUP(DF$7+0.5,$J$66:$DK$120,ROWS($A$10:$A24)+2,FALSE)","v":1212},{"$f":"HLOOKUP(DG$7+0.5,$J$66:$DK$120,ROWS($A$10:$A24)+2,FALSE)","v":971},{"$f":"HLOOKUP(DH$7+0.5,$J$66:$DK$120,ROWS($A$10:$A24)+2,FALSE)","v":1224},{"$f":"HLOOKUP(DI$7+0.5,$J$66:$DK$120,ROWS($A$10:$A24)+2,FALSE)","v":2249},{"$f":"HLOOKUP(DJ$7+0.5,$J$66:$DK$120,ROWS($A$10:$A24)+2,FALSE)","v":309},{"$f":"HLOOKUP(DK$7+0.5,$J$66:$DK$120,ROWS($A$10:$A24)+2,FALSE)","v":1480}]
[null,"Indiana","Midwest",6457067,4184,5493090,26865,805228,22224,{"$f":"HLOOKUP(J$7,$J$66:$DK$120,ROWS($A$10:$A25)+2,FALSE)","v":134137},{"$f":"HLOOKUP(K$7,$J$66:$DK$120,ROWS($A$10:$A25)+2,FALSE)","v":1625},{"$f":"HLOOKUP(L$7,$J$66:$DK$120,ROWS($A$10:$A25)+2,FALSE)","v":479},{"$f":"HLOOKUP(M$7,$J$66:$DK$120,ROWS($A$10:$A25)+2,FALSE)","v":2763},{"$f":"HLOOKUP(N$7,$J$66:$DK$120,ROWS($A$10:$A25)+2,FALSE)","v":564},{"$f":"HLOOKUP(O$7,$J$66:$DK$120,ROWS($A$10:$A25)+2,FALSE)","v":6033},{"$f":"HLOOKUP(P$7,$J$66:$DK$120,ROWS($A$10:$A25)+2,FALSE)","v":1225},{"$f":"HLOOKUP(Q$7,$J$66:$DK$120,ROWS($A$10:$A25)+2,FALSE)","v":823},{"$f":"HLOOKUP(R$7,$J$66:$DK$120,ROWS($A$10:$A25)+2,FALSE)","v":639},{"$f":"HLOOKUP(S$7,$J$66:$DK$120,ROWS($A$10:$A25)+2,FALSE)","v":1045},{"$f":"HLOOKUP(T$7,$J$66:$DK$120,ROWS($A$10:$A25)+2,FALSE)","v":11472},{"$f":"HLOOKUP(U$7,$J$66:$DK$120,ROWS($A$10:$A25)+2,FALSE)","v":2258},{"$f":"HLOOKUP(V$7,$J$66:$DK$120,ROWS($A$10:$A25)+2,FALSE)","v":856},{"$f":"HLOOKUP(W$7,$J$66:$DK$120,ROWS($A$10:$A25)+2,FALSE)","v":186},{"$f":"HLOOKUP(X$7,$J$66:$DK$120,ROWS($A$10:$A25)+2,FALSE)","v":28436},{"$f":"HLOOKUP(Y$7,$J$66:$DK$120,ROWS($A$10:$A25)+2,FALSE)","v":"N/A"},{"$f":"HLOOKUP(Z$7,$J$66:$DK$120,ROWS($A$10:$A25)+2,FALSE)","v":1678},{"$f":"HLOOKUP(AA$7,$J$66:$DK$120,ROWS($A$10:$A25)+2,FALSE)","v":1624},{"$f":"HLOOKUP(AB$7,$J$66:$DK$120,ROWS($A$10:$A25)+2,FALSE)","v":11177},{"$f":"HLOOKUP(AC$7,$J$66:$DK$120,ROWS($A$10:$A25)+2,FALSE)","v":736},{"$f":"HLOOKUP(AD$7,$J$66:$DK$120,ROWS($A$10:$A25)+2,FALSE)","v":0},{"$f":"HLOOKUP(AE$7,$J$66:$DK$120,ROWS($A$10:$A25)+2,FALSE)","v":1050},{"$f":"HLOOKUP(AF$7,$J$66:$DK$120,ROWS($A$10:$A25)+2,FALSE)","v":837},{"$f":"HLOOKUP(AG$7,$J$66:$DK$120,ROWS($A$10:$A25)+2,FALSE)","v":11017},{"$f":"HLOOKUP(AH$7,$J$66:$DK$120,ROWS($A$10:$A25)+2,FALSE)","v":1543},{"$f":"HLOOKUP(AI$7,$J$66:$DK$120,ROWS($A$10:$A25)+2,FALSE)","v":1948},{"$f":"HLOOKUP(AJ$7,$J$66:$DK$120,ROWS($A$10:$A25)+2,FALSE)","v":4526},{"$f":"HLOOKUP(AK$7,$J$66:$DK$120,ROWS($A$10:$A25)+2,FALSE)","v":134},{"$f":"HLOOKUP(AL$7,$J$66:$DK$120,ROWS($A$10:$A25)+2,FALSE)","v":591},{"$f":"HLOOKUP(AM$7,$J$66:$DK$120,ROWS($A$10:$A25)+2,FALSE)","v":1011},{"$f":"HLOOKUP(AN$7,$J$66:$DK$120,ROWS($A$10:$A25)+2,FALSE)","v":0},{"$f":"HLOOKUP(AO$7,$J$66:$DK$120,ROWS($A$10:$A25)+2,FALSE)","v":1537},{"$f":"HLOOKUP(AP$7,$J$66:$DK$120,ROWS($A$10:$A25)+2,FALSE)","v":219},{"$f":"HLOOKUP(AQ$7,$J$66:$DK$120,ROWS($A$10:$A25)+2,FALSE)","v":2316},{"$f":"HLOOKUP(AR$7,$J$66:$DK$120,ROWS($A$10:$A25)+2,FALSE)","v":2665},{"$f":"HLOOKUP(AS$7,$J$66:$DK$120,ROWS($A$10:$A25)+2,FALSE)","v":113},{"$f":"HLOOKUP(AT$7,$J$66:$DK$120,ROWS($A$10:$A25)+2,FALSE)","v":11235},{"$f":"HLOOKUP(AU$7,$J$66:$DK$120,ROWS($A$10:$A25)+2,FALSE)","v":1198},{"$f":"HLOOKUP(AV$7,$J$66:$DK$120,ROWS($A$10:$A25)+2,FALSE)","v":387},{"$f":"HLOOKUP(AW$7,$J$66:$DK$120,ROWS($A$10:$A25)+2,FALSE)","v":2419},{"$f":"HLOOKUP(AX$7,$J$66:$DK$120,ROWS($A$10:$A25)+2,FALSE)","v":0},{"$f":"HLOOKUP(AY$7,$J$66:$DK$120,ROWS($A$10:$A25)+2,FALSE)","v":1414},{"$f":"HLOOKUP(AZ$7,$J$66:$DK$120,ROWS($A$10:$A25)+2,FALSE)","v":111},{"$f":"HLOOKUP(BA$7,$J$66:$DK$120,ROWS($A$10:$A25)+2,FALSE)","v":3547},{"$f":"HLOOKUP(BB$7,$J$66:$DK$120,ROWS($A$10:$A25)+2,FALSE)","v":4490},{"$f":"HLOOKUP(BC$7,$J$66:$DK$120,ROWS($A$10:$A25)+2,FALSE)","v":105},{"$f":"HLOOKUP(BD$7,$J$66:$DK$120,ROWS($A$10:$A25)+2,FALSE)","v":0},{"$f":"HLOOKUP(BE$7,$J$66:$DK$120,ROWS($A$10:$A25)+2,FALSE)","v":1932},{"$f":"HLOOKUP(BF$7,$J$66:$DK$120,ROWS($A$10:$A25)+2,FALSE)","v":258},{"$f":"HLOOKUP(BG$7,$J$66:$DK$120,ROWS($A$10:$A25)+2,FALSE)","v":507},{"$f":"HLOOKUP(BH$7,$J$66:$DK$120,ROWS($A$10:$A25)+2,FALSE)","v":1727},{"$f":"HLOOKUP(BI$7,$J$66:$DK$120,ROWS($A$10:$A25)+2,FALSE)","v":1681},{"$f":"HLOOKUP(BJ$7,$J$66:$DK$120,ROWS($A$10:$A25)+2,FALSE)","v":136},{"$f":"HLOOKUP(BK$7+0.5,$J$66:$DK$120,ROWS($A$10:$A25)+2,FALSE)","v":9664},{"$f":"HLOOKUP(BL$7+0.5,$J$66:$DK$120,ROWS($A$10:$A25)+2,FALSE)","v":788},{"$f":"HLOOKUP(BM$7+0.5,$J$66:$DK$120,ROWS($A$10:$A25)+2,FALSE)","v":429},{"$f":"HLOOKUP(BN$7+0.5,$J$66:$DK$120,ROWS($A$10:$A25)+2,FALSE)","v":1095},{"$f":"HLOOKUP(BO$7+0.5,$J$66:$DK$120,ROWS($A$10:$A25)+2,FALSE)","v":753},{"$f":"HLOOKUP(BP$7+0.5,$J$66:$DK$120,ROWS($A$10:$A25)+2,FALSE)","v":1477},{"$f":"HLOOKUP(BQ$7+0.5,$J$66:$DK$120,ROWS($A$10:$A25)+2,FALSE)","v":531},{"$f":"HLOOKUP(BR$7+0.5,$J$66:$DK$120,ROWS($A$10:$A25)+2,FALSE)","v":595},{"$f":"HLOOKUP(BS$7+0.5,$J$66:$DK$120,ROWS($A$10:$A25)+2,FALSE)","v":831},{"$f":"HLOOKUP(BT$7+0.5,$J$66:$DK$120,ROWS($A$10:$A25)+2,FALSE)","v":733},{"$f":"HLOOKUP(BU$7+0.5,$J$66:$DK$120,ROWS($A$10:$A25)+2,FALSE)","v":2864},{"$f":"HLOOKUP(BV$7+0.5,$J$66:$DK$120,ROWS($A$10:$A25)+2,FALSE)","v":1176},{"$f":"HLOOKUP(BW$7+0.5,$J$66:$DK$120,ROWS($A$10:$A25)+2,FALSE)","v":998},{"$f":"HLOOKUP(BX$7+0.5,$J$66:$DK$120,ROWS($A$10:$A25)+2,FALSE)","v":176},{"$f":"HLOOKUP(BY$7+0.5,$J$66:$DK$120,ROWS($A$10:$A25)+2,FALSE)","v":4261},{"$f":"HLOOKUP(BZ$7+0.5,$J$66:$DK$120,ROWS($A$10:$A25)+2,FALSE)","v":"N/A"},{"$f":"HLOOKUP(CA$7+0.5,$J$66:$DK$120,ROWS($A$10:$A25)+2,FALSE)","v":860},{"$f":"HLOOKUP(CB$7+0.5,$J$66:$DK$120,ROWS($A$10:$A25)+2,FALSE)","v":785},{"$f":"HLOOKUP(CC$7+0.5,$J$66:$DK$120,ROWS($A$10:$A25)+2,FALSE)","v":2929},{"$f":"HLOOKUP(CD$7+0.5,$J$66:$DK$120,ROWS($A$10:$A25)+2,FALSE)","v":416},{"$f":"HLOOKUP(CE$7+0.5,$J$66:$DK$120,ROWS($A$10:$A25)+2,FALSE)","v":184},{"$f":"HLOOKUP(CF$7+0.5,$J$66:$DK$120,ROWS($A$10:$A25)+2,FALSE)","v":648},{"$f":"HLOOKUP(CG$7+0.5,$J$66:$DK$120,ROWS($A$10:$A25)+2,FALSE)","v":590},{"$f":"HLOOKUP(CH$7+0.5,$J$66:$DK$120,ROWS($A$10:$A25)+2,FALSE)","v":2594},{"$f":"HLOOKUP(CI$7+0.5,$J$66:$DK$120,ROWS($A$10:$A25)+2,FALSE)","v":732},{"$f":"HLOOKUP(CJ$7+0.5,$J$66:$DK$120,ROWS($A$10:$A25)+2,FALSE)","v":1655},{"$f":"HLOOKUP(CK$7+0.5,$J$66:$DK$120,ROWS($A$10:$A25)+2,FALSE)","v":1802},{"$f":"HLOOKUP(CL$7+0.5,$J$66:$DK$120,ROWS($A$10:$A25)+2,FALSE)","v":191},{"$f":"HLOOKUP(CM$7+0.5,$J$66:$DK$120,ROWS($A$10:$A25)+2,FALSE)","v":541},{"$f":"HLOOKUP(CN$7+0.5,$J$66:$DK$120,ROWS($A$10:$A25)+2,FALSE)","v":549},{"$f":"HLOOKUP(CO$7+0.5,$J$66:$DK$120,ROWS($A$10:$A25)+2,FALSE)","v":184},{"$f":"HLOOKUP(CP$7+0.5,$J$66:$DK$120,ROWS($A$10:$A25)+2,FALSE)","v":1034},{"$f":"HLOOKUP(CQ$7+0.5,$J$66:$DK$120,ROWS($A$10:$A25)+2,FALSE)","v":245},{"$f":"HLOOKUP(CR$7+0.5,$J$66:$DK$120,ROWS($A$10:$A25)+2,FALSE)","v":724},{"$f":"HLOOKUP(CS$7+0.5,$J$66:$DK$120,ROWS($A$10:$A25)+2,FALSE)","v":884},{"$f":"HLOOKUP(CT$7+0.5,$J$66:$DK$120,ROWS($A$10:$A25)+2,FALSE)","v":164},{"$f":"HLOOKUP(CU$7+0.5,$J$66:$DK$120,ROWS($A$10:$A25)+2,FALSE)","v":2192},{"$f":"HLOOKUP(CV$7+0.5,$J$66:$DK$120,ROWS($A$10:$A25)+2,FALSE)","v":725},{"$f":"HLOOKUP(CW$7+0.5,$J$66:$DK$120,ROWS($A$10:$A25)+2,FALSE)","v":239},{"$f":"HLOOKUP(CX$7+0.5,$J$66:$DK$120,ROWS($A$10:$A25)+2,FALSE)","v":1101},{"$f":"HLOOKUP(CY$7+0.5,$J$66:$DK$120,ROWS($A$10:$A25)+2,FALSE)","v":184},{"$f":"HLOOKUP(CZ$7+0.5,$J$66:$DK$120,ROWS($A$10:$A25)+2,FALSE)","v":901},{"$f":"HLOOKUP(DA$7+0.5,$J$66:$DK$120,ROWS($A$10:$A25)+2,FALSE)","v":147},{"$f":"HLOOKUP(DB$7+0.5,$J$66:$DK$120,ROWS($A$10:$A25)+2,FALSE)","v":1422},{"$f":"HLOOKUP(DC$7+0.5,$J$66:$DK$120,ROWS($A$10:$A25)+2,FALSE)","v":1562},{"$f":"HLOOKUP(DD$7+0.5,$J$66:$DK$120,ROWS($A$10:$A25)+2,FALSE)","v":124},{"$f":"HLOOKUP(DE$7+0.5,$J$66:$DK$120,ROWS($A$10:$A25)+2,FALSE)","v":184},{"$f":"HLOOKUP(DF$7+0.5,$J$66:$DK$120,ROWS($A$10:$A25)+2,FALSE)","v":1101},{"$f":"HLOOKUP(DG$7+0.5,$J$66:$DK$120,ROWS($A$10:$A25)+2,FALSE)","v":221},{"$f":"HLOOKUP(DH$7+0.5,$J$66:$DK$120,ROWS($A$10:$A25)+2,FALSE)","v":345},{"$f":"HLOOKUP(DI$7+0.5,$J$66:$DK$120,ROWS($A$10:$A25)+2,FALSE)","v":769},{"$f":"HLOOKUP(DJ$7+0.5,$J$66:$DK$120,ROWS($A$10:$A25)+2,FALSE)","v":2023},{"$f":"HLOOKUP(DK$7+0.5,$J$66:$DK$120,ROWS($A$10:$A25)+2,FALSE)","v":194}]
[null,"Iowa","Midwest",3035469,2721,2585979,14093,362938,11238,{"$f":"HLOOKUP(J$7,$J$66:$DK$120,ROWS($A$10:$A26)+2,FALSE)","v":75760},{"$f":"HLOOKUP(K$7,$J$66:$DK$120,ROWS($A$10:$A26)+2,FALSE)","v":503},{"$f":"HLOOKUP(L$7,$J$66:$DK$120,ROWS($A$10:$A26)+2,FALSE)","v":951},{"$f":"HLOOKUP(M$7,$J$66:$DK$120,ROWS($A$10:$A26)+2,FALSE)","v":1590},{"$f":"HLOOKUP(N$7,$J$66:$DK$120,ROWS($A$10:$A26)+2,FALSE)","v":451},{"$f":"HLOOKUP(O$7,$J$66:$DK$120,ROWS($A$10:$A26)+2,FALSE)","v":3268},{"$f":"HLOOKUP(P$7,$J$66:$DK$120,ROWS($A$10:$A26)+2,FALSE)","v":3252},{"$f":"HLOOKUP(Q$7,$J$66:$DK$120,ROWS($A$10:$A26)+2,FALSE)","v":112},{"$f":"HLOOKUP(R$7,$J$66:$DK$120,ROWS($A$10:$A26)+2,FALSE)","v":0},{"$f":"HLOOKUP(S$7,$J$66:$DK$120,ROWS($A$10:$A26)+2,FALSE)","v":151},{"$f":"HLOOKUP(T$7,$J$66:$DK$120,ROWS($A$10:$A26)+2,FALSE)","v":4335},{"$f":"HLOOKUP(U$7,$J$66:$DK$120,ROWS($A$10:$A26)+2,FALSE)","v":596},{"$f":"HLOOKUP(V$7,$J$66:$DK$120,ROWS($A$10:$A26)+2,FALSE)","v":521},{"$f":"HLOOKUP(W$7,$J$66:$DK$120,ROWS($A$10:$A26)+2,FALSE)","v":290},{"$f":"HLOOKUP(X$7,$J$66:$DK$120,ROWS($A$10:$A26)+2,FALSE)","v":11969},{"$f":"HLOOKUP(Y$7,$J$66:$DK$120,ROWS($A$10:$A26)+2,FALSE)","v":1716},{"$f":"HLOOKUP(Z$7,$J$66:$DK$120,ROWS($A$10:$A26)+2,FALSE)","v":"N/A"},{"$f":"HLOOKUP(AA$7,$J$66:$DK$120,ROWS($A$10:$A26)+2,FALSE)","v":918},{"$f":"HLOOKUP(AB$7,$J$66:$DK$120,ROWS($A$10:$A26)+2,FALSE)","v":819},{"$f":"HLOOKUP(AC$7,$J$66:$DK$120,ROWS($A$10:$A26)+2,FALSE)","v":763},{"$f":"HLOOKUP(AD$7,$J$66:$DK$120,ROWS($A$10:$A26)+2,FALSE)","v":78},{"$f":"HLOOKUP(AE$7,$J$66:$DK$120,ROWS($A$10:$A26)+2,FALSE)","v":419},{"$f":"HLOOKUP(AF$7,$J$66:$DK$120,ROWS($A$10:$A26)+2,FALSE)","v":585},{"$f":"HLOOKUP(AG$7,$J$66:$DK$120,ROWS($A$10:$A26)+2,FALSE)","v":946},{"$f":"HLOOKUP(AH$7,$J$66:$DK$120,ROWS($A$10:$A26)+2,FALSE)","v":7505},{"$f":"HLOOKUP(AI$7,$J$66:$DK$120,ROWS($A$10:$A26)+2,FALSE)","v":751},{"$f":"HLOOKUP(AJ$7,$J$66:$DK$120,ROWS($A$10:$A26)+2,FALSE)","v":4168},{"$f":"HLOOKUP(AK$7,$J$66:$DK$120,ROWS($A$10:$A26)+2,FALSE)","v":452},{"$f":"HLOOKUP(AL$7,$J$66:$DK$120,ROWS($A$10:$A26)+2,FALSE)","v":7698},{"$f":"HLOOKUP(AM$7,$J$66:$DK$120,ROWS($A$10:$A26)+2,FALSE)","v":681},{"$f":"HLOOKUP(AN$7,$J$66:$DK$120,ROWS($A$10:$A26)+2,FALSE)","v":56},{"$f":"HLOOKUP(AO$7,$J$66:$DK$120,ROWS($A$10:$A26)+2,FALSE)","v":1018},{"$f":"HLOOKUP(AP$7,$J$66:$DK$120,ROWS($A$10:$A26)+2,FALSE)","v":114},{"$f":"HLOOKUP(AQ$7,$J$66:$DK$120,ROWS($A$10:$A26)+2,FALSE)","v":1230},{"$f":"HLOOKUP(AR$7,$J$66:$DK$120,ROWS($A$10:$A26)+2,FALSE)","v":734},{"$f":"HLOOKUP(AS$7,$J$66:$DK$120,ROWS($A$10:$A26)+2,FALSE)","v":833},{"$f":"HLOOKUP(AT$7,$J$66:$DK$120,ROWS($A$10:$A26)+2,FALSE)","v":1127},{"$f":"HLOOKUP(AU$7,$J$66:$DK$120,ROWS($A$10:$A26)+2,FALSE)","v":1465},{"$f":"HLOOKUP(AV$7,$J$66:$DK$120,ROWS($A$10:$A26)+2,FALSE)","v":348},{"$f":"HLOOKUP(AW$7,$J$66:$DK$120,ROWS($A$10:$A26)+2,FALSE)","v":451},{"$f":"HLOOKUP(AX$7,$J$66:$DK$120,ROWS($A$10:$A26)+2,FALSE)","v":0},{"$f":"HLOOKUP(AY$7,$J$66:$DK$120,ROWS($A$10:$A26)+2,FALSE)","v":943},{"$f":"HLOOKUP(AZ$7,$J$66:$DK$120,ROWS($A$10:$A26)+2,FALSE)","v":1158},{"$f":"HLOOKUP(BA$7,$J$66:$DK$120,ROWS($A$10:$A26)+2,FALSE)","v":1148},{"$f":"HLOOKUP(BB$7,$J$66:$DK$120,ROWS($A$10:$A26)+2,FALSE)","v":3553},{"$f":"HLOOKUP(BC$7,$J$66:$DK$120,ROWS($A$10:$A26)+2,FALSE)","v":886},{"$f":"HLOOKUP(BD$7,$J$66:$DK$120,ROWS($A$10:$A26)+2,FALSE)","v":0},{"$f":"HLOOKUP(BE$7,$J$66:$DK$120,ROWS($A$10:$A26)+2,FALSE)","v":268},{"$f":"HLOOKUP(BF$7,$J$66:$DK$120,ROWS($A$10:$A26)+2,FALSE)","v":919},{"$f":"HLOOKUP(BG$7,$J$66:$DK$120,ROWS($A$10:$A26)+2,FALSE)","v":22},{"$f":"HLOOKUP(BH$7,$J$66:$DK$120,ROWS($A$10:$A26)+2,FALSE)","v":3607},{"$f":"HLOOKUP(BI$7,$J$66:$DK$120,ROWS($A$10:$A26)+2,FALSE)","v":392},{"$f":"HLOOKUP(BJ$7,$J$66:$DK$120,ROWS($A$10:$A26)+2,FALSE)","v":786},{"$f":"HLOOKUP(BK$7+0.5,$J$66:$DK$120,ROWS($A$10:$A26)+2,FALSE)","v":5982},{"$f":"HLOOKUP(BL$7+0.5,$J$66:$DK$120,ROWS($A$10:$A26)+2,FALSE)","v":400},{"$f":"HLOOKUP(BM$7+0.5,$J$66:$DK$120,ROWS($A$10:$A26)+2,FALSE)","v":814},{"$f":"HLOOKUP(BN$7+0.5,$J$66:$DK$120,ROWS($A$10:$A26)+2,FALSE)","v":803},{"$f":"HLOOKUP(BO$7+0.5,$J$66:$DK$120,ROWS($A$10:$A26)+2,FALSE)","v":237},{"$f":"HLOOKUP(BP$7+0.5,$J$66:$DK$120,ROWS($A$10:$A26)+2,FALSE)","v":1296},{"$f":"HLOOKUP(BQ$7+0.5,$J$66:$DK$120,ROWS($A$10:$A26)+2,FALSE)","v":1250},{"$f":"HLOOKUP(BR$7+0.5,$J$66:$DK$120,ROWS($A$10:$A26)+2,FALSE)","v":135},{"$f":"HLOOKUP(BS$7+0.5,$J$66:$DK$120,ROWS($A$10:$A26)+2,FALSE)","v":151},{"$f":"HLOOKUP(BT$7+0.5,$J$66:$DK$120,ROWS($A$10:$A26)+2,FALSE)","v":155},{"$f":"HLOOKUP(BU$7+0.5,$J$66:$DK$120,ROWS($A$10:$A26)+2,FALSE)","v":2060},{"$f":"HLOOKUP(BV$7+0.5,$J$66:$DK$120,ROWS($A$10:$A26)+2,FALSE)","v":481},{"$f":"HLOOKUP(BW$7+0.5,$J$66:$DK$120,ROWS($A$10:$A26)+2,FALSE)","v":476},{"$f":"HLOOKUP(BX$7+0.5,$J$66:$DK$120,ROWS($A$10:$A26)+2,FALSE)","v":218},{"$f":"HLOOKUP(BY$7+0.5,$J$66:$DK$120,ROWS($A$10:$A26)+2,FALSE)","v":2313},{"$f":"HLOOKUP(BZ$7+0.5,$J$66:$DK$120,ROWS($A$10:$A26)+2,FALSE)","v":1097},{"$f":"HLOOKUP(CA$7+0.5,$J$66:$DK$120,ROWS($A$10:$A26)+2,FALSE)","v":"N/A"},{"$f":"HLOOKUP(CB$7+0.5,$J$66:$DK$120,ROWS($A$10:$A26)+2,FALSE)","v":500},{"$f":"HLOOKUP(CC$7+0.5,$J$66:$DK$120,ROWS($A$10:$A26)+2,FALSE)","v":609},{"$f":"HLOOKUP(CD$7+0.5,$J$66:$DK$120,ROWS($A$10:$A26)+2,FALSE)","v":568},{"$f":"HLOOKUP(CE$7+0.5,$J$66:$DK$120,ROWS($A$10:$A26)+2,FALSE)","v":125},{"$f":"HLOOKUP(CF$7+0.5,$J$66:$DK$120,ROWS($A$10:$A26)+2,FALSE)","v":287},{"$f":"HLOOKUP(CG$7+0.5,$J$66:$DK$120,ROWS($A$10:$A26)+2,FALSE)","v":520},{"$f":"HLOOKUP(CH$7+0.5,$J$66:$DK$120,ROWS($A$10:$A26)+2,FALSE)","v":497},{"$f":"HLOOKUP(CI$7+0.5,$J$66:$DK$120,ROWS($A$10:$A26)+2,FALSE)","v":1826},{"$f":"HLOOKUP(CJ$7+0.5,$J$66:$DK$120,ROWS($A$10:$A26)+2,FALSE)","v":621},{"$f":"HLOOKUP(CK$7+0.5,$J$66:$DK$120,ROWS($A$10:$A26)+2,FALSE)","v":1021},{"$f":"HLOOKUP(CL$7+0.5,$J$66:$DK$120,ROWS($A$10:$A26)+2,FALSE)","v":305},{"$f":"HLOOKUP(CM$7+0.5,$J$66:$DK$120,ROWS($A$10:$A26)+2,FALSE)","v":1806},{"$f":"HLOOKUP(CN$7+0.5,$J$66:$DK$120,ROWS($A$10:$A26)+2,FALSE)","v":602},{"$f":"HLOOKUP(CO$7+0.5,$J$66:$DK$120,ROWS($A$10:$A26)+2,FALSE)","v":93},{"$f":"HLOOKUP(CP$7+0.5,$J$66:$DK$120,ROWS($A$10:$A26)+2,FALSE)","v":767},{"$f":"HLOOKUP(CQ$7+0.5,$J$66:$DK$120,ROWS($A$10:$A26)+2,FALSE)","v":188},{"$f":"HLOOKUP(CR$7+0.5,$J$66:$DK$120,ROWS($A$10:$A26)+2,FALSE)","v":819},{"$f":"HLOOKUP(CS$7+0.5,$J$66:$DK$120,ROWS($A$10:$A26)+2,FALSE)","v":428},{"$f":"HLOOKUP(CT$7+0.5,$J$66:$DK$120,ROWS($A$10:$A26)+2,FALSE)","v":617},{"$f":"HLOOKUP(CU$7+0.5,$J$66:$DK$120,ROWS($A$10:$A26)+2,FALSE)","v":692},{"$f":"HLOOKUP(CV$7+0.5,$J$66:$DK$120,ROWS($A$10:$A26)+2,FALSE)","v":974},{"$f":"HLOOKUP(CW$7+0.5,$J$66:$DK$120,ROWS($A$10:$A26)+2,FALSE)","v":302},{"$f":"HLOOKUP(CX$7+0.5,$J$66:$DK$120,ROWS($A$10:$A26)+2,FALSE)","v":353},{"$f":"HLOOKUP(CY$7+0.5,$J$66:$DK$120,ROWS($A$10:$A26)+2,FALSE)","v":151},{"$f":"HLOOKUP(CZ$7+0.5,$J$66:$DK$120,ROWS($A$10:$A26)+2,FALSE)","v":556},{"$f":"HLOOKUP(DA$7+0.5,$J$66:$DK$120,ROWS($A$10:$A26)+2,FALSE)","v":441},{"$f":"HLOOKUP(DB$7+0.5,$J$66:$DK$120,ROWS($A$10:$A26)+2,FALSE)","v":871},{"$f":"HLOOKUP(DC$7+0.5,$J$66:$DK$120,ROWS($A$10:$A26)+2,FALSE)","v":1275},{"$f":"HLOOKUP(DD$7+0.5,$J$66:$DK$120,ROWS($A$10:$A26)+2,FALSE)","v":880},{"$f":"HLOOKUP(DE$7+0.5,$J$66:$DK$120,ROWS($A$10:$A26)+2,FALSE)","v":151},{"$f":"HLOOKUP(DF$7+0.5,$J$66:$DK$120,ROWS($A$10:$A26)+2,FALSE)","v":200},{"$f":"HLOOKUP(DG$7+0.5,$J$66:$DK$120,ROWS($A$10:$A26)+2,FALSE)","v":485},{"$f":"HLOOKUP(DH$7+0.5,$J$66:$DK$120,ROWS($A$10:$A26)+2,FALSE)","v":41},{"$f":"HLOOKUP(DI$7+0.5,$J$66:$DK$120,ROWS($A$10:$A26)+2,FALSE)","v":849},{"$f":"HLOOKUP(DJ$7+0.5,$J$66:$DK$120,ROWS($A$10:$A26)+2,FALSE)","v":316},{"$f":"HLOOKUP(DK$7+0.5,$J$66:$DK$120,ROWS($A$10:$A26)+2,FALSE)","v":1190}]
[null,"Kansas","Midwest",2848708,2507,2361899,16878,381695,15902,{"$f":"HLOOKUP(J$7,$J$66:$DK$120,ROWS($A$10:$A27)+2,FALSE)","v":88284},{"$f":"HLOOKUP(K$7,$J$66:$DK$120,ROWS($A$10:$A27)+2,FALSE)","v":853},{"$f":"HLOOKUP(L$7,$J$66:$DK$120,ROWS($A$10:$A27)+2,FALSE)","v":333},{"$f":"HLOOKUP(M$7,$J$66:$DK$120,ROWS($A$10:$A27)+2,FALSE)","v":3094},{"$f":"HLOOKUP(N$7,$J$66:$DK$120,ROWS($A$10:$A27)+2,FALSE)","v":2158},{"$f":"HLOOKUP(O$7,$J$66:$DK$120,ROWS($A$10:$A27)+2,FALSE)","v":5411},{"$f":"HLOOKUP(P$7,$J$66:$DK$120,ROWS($A$10:$A27)+2,FALSE)","v":3746},{"$f":"HLOOKUP(Q$7,$J$66:$DK$120,ROWS($A$10:$A27)+2,FALSE)","v":210},{"$f":"HLOOKUP(R$7,$J$66:$DK$120,ROWS($A$10:$A27)+2,FALSE)","v":0},{"$f":"HLOOKUP(S$7,$J$66:$DK$120,ROWS($A$10:$A27)+2,FALSE)","v":456},{"$f":"HLOOKUP(T$7,$J$66:$DK$120,ROWS($A$10:$A27)+2,FALSE)","v":3118},{"$f":"HLOOKUP(U$7,$J$66:$DK$120,ROWS($A$10:$A27)+2,FALSE)","v":1896},{"$f":"HLOOKUP(V$7,$J$66:$DK$120,ROWS($A$10:$A27)+2,FALSE)","v":149},{"$f":"HLOOKUP(W$7,$J$66:$DK$120,ROWS($A$10:$A27)+2,FALSE)","v":456},{"$f":"HLOOKUP(X$7,$J$66:$DK$120,ROWS($A$10:$A27)+2,FALSE)","v":1702},{"$f":"HLOOKUP(Y$7,$J$66:$DK$120,ROWS($A$10:$A27)+2,FALSE)","v":1679},{"$f":"HLOOKUP(Z$7,$J$66:$DK$120,ROWS($A$10:$A27)+2,FALSE)","v":1527},{"$f":"HLOOKUP(AA$7,$J$66:$DK$120,ROWS($A$10:$A27)+2,FALSE)","v":"N/A"},{"$f":"HLOOKUP(AB$7,$J$66:$DK$120,ROWS($A$10:$A27)+2,FALSE)","v":617},{"$f":"HLOOKUP(AC$7,$J$66:$DK$120,ROWS($A$10:$A27)+2,FALSE)","v":438},{"$f":"HLOOKUP(AD$7,$J$66:$DK$120,ROWS($A$10:$A27)+2,FALSE)","v":211},{"$f":"HLOOKUP(AE$7,$J$66:$DK$120,ROWS($A$10:$A27)+2,FALSE)","v":282},{"$f":"HLOOKUP(AF$7,$J$66:$DK$120,ROWS($A$10:$A27)+2,FALSE)","v":187},{"$f":"HLOOKUP(AG$7,$J$66:$DK$120,ROWS($A$10:$A27)+2,FALSE)","v":1125},{"$f":"HLOOKUP(AH$7,$J$66:$DK$120,ROWS($A$10:$A27)+2,FALSE)","v":682},{"$f":"HLOOKUP(AI$7,$J$66:$DK$120,ROWS($A$10:$A27)+2,FALSE)","v":452},{"$f":"HLOOKUP(AJ$7,$J$66:$DK$120,ROWS($A$10:$A27)+2,FALSE)","v":21022},{"$f":"HLOOKUP(AK$7,$J$66:$DK$120,ROWS($A$10:$A27)+2,FALSE)","v":300},{"$f":"HLOOKUP(AL$7,$J$66:$DK$120,ROWS($A$10:$A27)+2,FALSE)","v":4126},{"$f":"HLOOKUP(AM$7,$J$66:$DK$120,ROWS($A$10:$A27)+2,FALSE)","v":851},{"$f":"HLOOKUP(AN$7,$J$66:$DK$120,ROWS($A$10:$A27)+2,FALSE)","v":0},{"$f":"HLOOKUP(AO$7,$J$66:$DK$120,ROWS($A$10:$A27)+2,FALSE)","v":267},{"$f":"HLOOKUP(AP$7,$J$66:$DK$120,ROWS($A$10:$A27)+2,FALSE)","v":1029},{"$f":"HLOOKUP(AQ$7,$J$66:$DK$120,ROWS($A$10:$A27)+2,FALSE)","v":571},{"$f":"HLOOKUP(AR$7,$J$66:$DK$120,ROWS($A$10:$A27)+2,FALSE)","v":813},{"$f":"HLOOKUP(AS$7,$J$66:$DK$120,ROWS($A$10:$A27)+2,FALSE)","v":261},{"$f":"HLOOKUP(AT$7,$J$66:$DK$120,ROWS($A$10:$A27)+2,FALSE)","v":1310},{"$f":"HLOOKUP(AU$7,$J$66:$DK$120,ROWS($A$10:$A27)+2,FALSE)","v":8408},{"$f":"HLOOKUP(AV$7,$J$66:$DK$120,ROWS($A$10:$A27)+2,FALSE)","v":848},{"$f":"HLOOKUP(AW$7,$J$66:$DK$120,ROWS($A$10:$A27)+2,FALSE)","v":918},{"$f":"HLOOKUP(AX$7,$J$66:$DK$120,ROWS($A$10:$A27)+2,FALSE)","v":18},{"$f":"HLOOKUP(AY$7,$J$66:$DK$120,ROWS($A$10:$A27)+2,FALSE)","v":556},{"$f":"HLOOKUP(AZ$7,$J$66:$DK$120,ROWS($A$10:$A27)+2,FALSE)","v":154},{"$f":"HLOOKUP(BA$7,$J$66:$DK$120,ROWS($A$10:$A27)+2,FALSE)","v":1542},{"$f":"HLOOKUP(BB$7,$J$66:$DK$120,ROWS($A$10:$A27)+2,FALSE)","v":8468},{"$f":"HLOOKUP(BC$7,$J$66:$DK$120,ROWS($A$10:$A27)+2,FALSE)","v":97},{"$f":"HLOOKUP(BD$7,$J$66:$DK$120,ROWS($A$10:$A27)+2,FALSE)","v":70},{"$f":"HLOOKUP(BE$7,$J$66:$DK$120,ROWS($A$10:$A27)+2,FALSE)","v":1705},{"$f":"HLOOKUP(BF$7,$J$66:$DK$120,ROWS($A$10:$A27)+2,FALSE)","v":3265},{"$f":"HLOOKUP(BG$7,$J$66:$DK$120,ROWS($A$10:$A27)+2,FALSE)","v":139},{"$f":"HLOOKUP(BH$7,$J$66:$DK$120,ROWS($A$10:$A27)+2,FALSE)","v":486},{"$f":"HLOOKUP(BI$7,$J$66:$DK$120,ROWS($A$10:$A27)+2,FALSE)","v":278},{"$f":"HLOOKUP(BJ$7,$J$66:$DK$120,ROWS($A$10:$A27)+2,FALSE)","v":82},{"$f":"HLOOKUP(BK$7+0.5,$J$66:$DK$120,ROWS($A$10:$A27)+2,FALSE)","v":7145},{"$f":"HLOOKUP(BL$7+0.5,$J$66:$DK$120,ROWS($A$10:$A27)+2,FALSE)","v":609},{"$f":"HLOOKUP(BM$7+0.5,$J$66:$DK$120,ROWS($A$10:$A27)+2,FALSE)","v":407},{"$f":"HLOOKUP(BN$7+0.5,$J$66:$DK$120,ROWS($A$10:$A27)+2,FALSE)","v":1630},{"$f":"HLOOKUP(BO$7+0.5,$J$66:$DK$120,ROWS($A$10:$A27)+2,FALSE)","v":890},{"$f":"HLOOKUP(BP$7+0.5,$J$66:$DK$120,ROWS($A$10:$A27)+2,FALSE)","v":2012},{"$f":"HLOOKUP(BQ$7+0.5,$J$66:$DK$120,ROWS($A$10:$A27)+2,FALSE)","v":1360},{"$f":"HLOOKUP(BR$7+0.5,$J$66:$DK$120,ROWS($A$10:$A27)+2,FALSE)","v":208},{"$f":"HLOOKUP(BS$7+0.5,$J$66:$DK$120,ROWS($A$10:$A27)+2,FALSE)","v":165},{"$f":"HLOOKUP(BT$7+0.5,$J$66:$DK$120,ROWS($A$10:$A27)+2,FALSE)","v":737},{"$f":"HLOOKUP(BU$7+0.5,$J$66:$DK$120,ROWS($A$10:$A27)+2,FALSE)","v":1380},{"$f":"HLOOKUP(BV$7+0.5,$J$66:$DK$120,ROWS($A$10:$A27)+2,FALSE)","v":1395},{"$f":"HLOOKUP(BW$7+0.5,$J$66:$DK$120,ROWS($A$10:$A27)+2,FALSE)","v":156},{"$f":"HLOOKUP(BX$7+0.5,$J$66:$DK$120,ROWS($A$10:$A27)+2,FALSE)","v":356},{"$f":"HLOOKUP(BY$7+0.5,$J$66:$DK$120,ROWS($A$10:$A27)+2,FALSE)","v":582},{"$f":"HLOOKUP(BZ$7+0.5,$J$66:$DK$120,ROWS($A$10:$A27)+2,FALSE)","v":839},{"$f":"HLOOKUP(CA$7+0.5,$J$66:$DK$120,ROWS($A$10:$A27)+2,FALSE)","v":860},{"$f":"HLOOKUP(CB$7+0.5,$J$66:$DK$120,ROWS($A$10:$A27)+2,FALSE)","v":"N/A"},{"$f":"HLOOKUP(CC$7+0.5,$J$66:$DK$120,ROWS($A$10:$A27)+2,FALSE)","v":476},{"$f":"HLOOKUP(CD$7+0.5,$J$66:$DK$120,ROWS($A$10:$A27)+2,FALSE)","v":408},{"$f":"HLOOKUP(CE$7+0.5,$J$66:$DK$120,ROWS($A$10:$A27)+2,FALSE)","v":225},{"$f":"HLOOKUP(CF$7+0.5,$J$66:$DK$120,ROWS($A$10:$A27)+2,FALSE)","v":282},{"$f":"HLOOKUP(CG$7+0.5,$J$66:$DK$120,ROWS($A$10:$A27)+2,FALSE)","v":203},{"$f":"HLOOKUP(CH$7+0.5,$J$66:$DK$120,ROWS($A$10:$A27)+2,FALSE)","v":682},{"$f":"HLOOKUP(CI$7+0.5,$J$66:$DK$120,ROWS($A$10:$A27)+2,FALSE)","v":367},{"$f":"HLOOKUP(CJ$7+0.5,$J$66:$DK$120,ROWS($A$10:$A27)+2,FALSE)","v":501},{"$f":"HLOOKUP(CK$7+0.5,$J$66:$DK$120,ROWS($A$10:$A27)+2,FALSE)","v":3073},{"$f":"HLOOKUP(CL$7+0.5,$J$66:$DK$120,ROWS($A$10:$A27)+2,FALSE)","v":326},{"$f":"HLOOKUP(CM$7+0.5,$J$66:$DK$120,ROWS($A$10:$A27)+2,FALSE)","v":1245},{"$f":"HLOOKUP(CN$7+0.5,$J$66:$DK$120,ROWS($A$10:$A27)+2,FALSE)","v":606},{"$f":"HLOOKUP(CO$7+0.5,$J$66:$DK$120,ROWS($A$10:$A27)+2,FALSE)","v":165},{"$f":"HLOOKUP(CP$7+0.5,$J$66:$DK$120,ROWS($A$10:$A27)+2,FALSE)","v":228},{"$f":"HLOOKUP(CQ$7+0.5,$J$66:$DK$120,ROWS($A$10:$A27)+2,FALSE)","v":627},{"$f":"HLOOKUP(CR$7+0.5,$J$66:$DK$120,ROWS($A$10:$A27)+2,FALSE)","v":367},{"$f":"HLOOKUP(CS$7+0.5,$J$66:$DK$120,ROWS($A$10:$A27)+2,FALSE)","v":476},{"$f":"HLOOKUP(CT$7+0.5,$J$66:$DK$120,ROWS($A$10:$A27)+2,FALSE)","v":263},{"$f":"HLOOKUP(CU$7+0.5,$J$66:$DK$120,ROWS($A$10:$A27)+2,FALSE)","v":638},{"$f":"HLOOKUP(CV$7+0.5,$J$66:$DK$120,ROWS($A$10:$A27)+2,FALSE)","v":2299},{"$f":"HLOOKUP(CW$7+0.5,$J$66:$DK$120,ROWS($A$10:$A27)+2,FALSE)","v":557},{"$f":"HLOOKUP(CX$7+0.5,$J$66:$DK$120,ROWS($A$10:$A27)+2,FALSE)","v":672},{"$f":"HLOOKUP(CY$7+0.5,$J$66:$DK$120,ROWS($A$10:$A27)+2,FALSE)","v":31},{"$f":"HLOOKUP(CZ$7+0.5,$J$66:$DK$120,ROWS($A$10:$A27)+2,FALSE)","v":375},{"$f":"HLOOKUP(DA$7+0.5,$J$66:$DK$120,ROWS($A$10:$A27)+2,FALSE)","v":195},{"$f":"HLOOKUP(DB$7+0.5,$J$66:$DK$120,ROWS($A$10:$A27)+2,FALSE)","v":825},{"$f":"HLOOKUP(DC$7+0.5,$J$66:$DK$120,ROWS($A$10:$A27)+2,FALSE)","v":2434},{"$f":"HLOOKUP(DD$7+0.5,$J$66:$DK$120,ROWS($A$10:$A27)+2,FALSE)","v":106},{"$f":"HLOOKUP(DE$7+0.5,$J$66:$DK$120,ROWS($A$10:$A27)+2,FALSE)","v":138},{"$f":"HLOOKUP(DF$7+0.5,$J$66:$DK$120,ROWS($A$10:$A27)+2,FALSE)","v":853},{"$f":"HLOOKUP(DG$7+0.5,$J$66:$DK$120,ROWS($A$10:$A27)+2,FALSE)","v":1675},{"$f":"HLOOKUP(DH$7+0.5,$J$66:$DK$120,ROWS($A$10:$A27)+2,FALSE)","v":132},{"$f":"HLOOKUP(DI$7+0.5,$J$66:$DK$120,ROWS($A$10:$A27)+2,FALSE)","v":530},{"$f":"HLOOKUP(DJ$7+0.5,$J$66:$DK$120,ROWS($A$10:$A27)+2,FALSE)","v":239},{"$f":"HLOOKUP(DK$7+0.5,$J$66:$DK$120,ROWS($A$10:$A27)+2,FALSE)","v":147}]
[null,"Kentucky","South",4328626,2851,3676472,15304,521511,14825,{"$f":"HLOOKUP(J$7,$J$66:$DK$120,ROWS($A$10:$A28)+2,FALSE)","v":112787},{"$f":"HLOOKUP(K$7,$J$66:$DK$120,ROWS($A$10:$A28)+2,FALSE)","v":4137},{"$f":"HLOOKUP(L$7,$J$66:$DK$120,ROWS($A$10:$A28)+2,FALSE)","v":304},{"$f":"HLOOKUP(M$7,$J$66:$DK$120,ROWS($A$10:$A28)+2,FALSE)","v":1103},{"$f":"HLOOKUP(N$7,$J$66:$DK$120,ROWS($A$10:$A28)+2,FALSE)","v":518},{"$f":"HLOOKUP(O$7,$J$66:$DK$120,ROWS($A$10:$A28)+2,FALSE)","v":3415},{"$f":"HLOOKUP(P$7,$J$66:$DK$120,ROWS($A$10:$A28)+2,FALSE)","v":712},{"$f":"HLOOKUP(Q$7,$J$66:$DK$120,ROWS($A$10:$A28)+2,FALSE)","v":246},{"$f":"HLOOKUP(R$7,$J$66:$DK$120,ROWS($A$10:$A28)+2,FALSE)","v":706},{"$f":"HLOOKUP(S$7,$J$66:$DK$120,ROWS($A$10:$A28)+2,FALSE)","v":254},{"$f":"HLOOKUP(T$7,$J$66:$DK$120,ROWS($A$10:$A28)+2,FALSE)","v":9232},{"$f":"HLOOKUP(U$7,$J$66:$DK$120,ROWS($A$10:$A28)+2,FALSE)","v":4173},{"$f":"HLOOKUP(V$7,$J$66:$DK$120,ROWS($A$10:$A28)+2,FALSE)","v":647},{"$f":"HLOOKUP(W$7,$J$66:$DK$120,ROWS($A$10:$A28)+2,FALSE)","v":50},{"$f":"HLOOKUP(X$7,$J$66:$DK$120,ROWS($A$10:$A28)+2,FALSE)","v":4445},{"$f":"HLOOKUP(Y$7,$J$66:$DK$120,ROWS($A$10:$A28)+2,FALSE)","v":12203},{"$f":"HLOOKUP(Z$7,$J$66:$DK$120,ROWS($A$10:$A28)+2,FALSE)","v":238},{"$f":"HLOOKUP(AA$7,$J$66:$DK$120,ROWS($A$10:$A28)+2,FALSE)","v":602},{"$f":"HLOOKUP(AB$7,$J$66:$DK$120,ROWS($A$10:$A28)+2,FALSE)","v":"N/A"},{"$f":"HLOOKUP(AC$7,$J$66:$DK$120,ROWS($A$10:$A28)+2,FALSE)","v":666},{"$f":"HLOOKUP(AD$7,$J$66:$DK$120,ROWS($A$10:$A28)+2,FALSE)","v":46},{"$f":"HLOOKUP(AE$7,$J$66:$DK$120,ROWS($A$10:$A28)+2,FALSE)","v":1120},{"$f":"HLOOKUP(AF$7,$J$66:$DK$120,ROWS($A$10:$A28)+2,FALSE)","v":419},{"$f":"HLOOKUP(AG$7,$J$66:$DK$120,ROWS($A$10:$A28)+2,FALSE)","v":7302},{"$f":"HLOOKUP(AH$7,$J$66:$DK$120,ROWS($A$10:$A28)+2,FALSE)","v":605},{"$f":"HLOOKUP(AI$7,$J$66:$DK$120,ROWS($A$10:$A28)+2,FALSE)","v":646},{"$f":"HLOOKUP(AJ$7,$J$66:$DK$120,ROWS($A$10:$A28)+2,FALSE)","v":2381},{"$f":"HLOOKUP(AK$7,$J$66:$DK$120,ROWS($A$10:$A28)+2,FALSE)","v":0},{"$f":"HLOOKUP(AL$7,$J$66:$DK$120,ROWS($A$10:$A28)+2,FALSE)","v":723},{"$f":"HLOOKUP(AM$7,$J$66:$DK$120,ROWS($A$10:$A28)+2,FALSE)","v":301},{"$f":"HLOOKUP(AN$7,$J$66:$DK$120,ROWS($A$10:$A28)+2,FALSE)","v":84},{"$f":"HLOOKUP(AO$7,$J$66:$DK$120,ROWS($A$10:$A28)+2,FALSE)","v":496},{"$f":"HLOOKUP(AP$7,$J$66:$DK$120,ROWS($A$10:$A28)+2,FALSE)","v":554},{"$f":"HLOOKUP(AQ$7,$J$66:$DK$120,ROWS($A$10:$A28)+2,FALSE)","v":5239},{"$f":"HLOOKUP(AR$7,$J$66:$DK$120,ROWS($A$10:$A28)+2,FALSE)","v":3643},{"$f":"HLOOKUP(AS$7,$J$66:$DK$120,ROWS($A$10:$A28)+2,FALSE)","v":122},{"$f":"HLOOKUP(AT$7,$J$66:$DK$120,ROWS($A$10:$A28)+2,FALSE)","v":17041},{"$f":"HLOOKUP(AU$7,$J$66:$DK$120,ROWS($A$10:$A28)+2,FALSE)","v":577},{"$f":"HLOOKUP(AV$7,$J$66:$DK$120,ROWS($A$10:$A28)+2,FALSE)","v":298},{"$f":"HLOOKUP(AW$7,$J$66:$DK$120,ROWS($A$10:$A28)+2,FALSE)","v":2226},{"$f":"HLOOKUP(AX$7,$J$66:$DK$120,ROWS($A$10:$A28)+2,FALSE)","v":0},{"$f":"HLOOKUP(AY$7,$J$66:$DK$120,ROWS($A$10:$A28)+2,FALSE)","v":1347},{"$f":"HLOOKUP(AZ$7,$J$66:$DK$120,ROWS($A$10:$A28)+2,FALSE)","v":0},{"$f":"HLOOKUP(BA$7,$J$66:$DK$120,ROWS($A$10:$A28)+2,FALSE)","v":10064},{"$f":"HLOOKUP(BB$7,$J$66:$DK$120,ROWS($A$10:$A28)+2,FALSE)","v":3345},{"$f":"HLOOKUP(BC$7,$J$66:$DK$120,ROWS($A$10:$A28)+2,FALSE)","v":464},{"$f":"HLOOKUP(BD$7,$J$66:$DK$120,ROWS($A$10:$A28)+2,FALSE)","v":45},{"$f":"HLOOKUP(BE$7,$J$66:$DK$120,ROWS($A$10:$A28)+2,FALSE)","v":3319},{"$f":"HLOOKUP(BF$7,$J$66:$DK$120,ROWS($A$10:$A28)+2,FALSE)","v":1988},{"$f":"HLOOKUP(BG$7,$J$66:$DK$120,ROWS($A$10:$A28)+2,FALSE)","v":3346},{"$f":"HLOOKUP(BH$7,$J$66:$DK$120,ROWS($A$10:$A28)+2,FALSE)","v":1395},{"$f":"HLOOKUP(BI$7,$J$66:$DK$120,ROWS($A$10:$A28)+2,FALSE)","v":0},{"$f":"HLOOKUP(BJ$7,$J$66:$DK$120,ROWS($A$10:$A28)+2,FALSE)","v":170},{"$f":"HLOOKUP(BK$7+0.5,$J$66:$DK$120,ROWS($A$10:$A28)+2,FALSE)","v":7854},{"$f":"HLOOKUP(BL$7+0.5,$J$66:$DK$120,ROWS($A$10:$A28)+2,FALSE)","v":1628},{"$f":"HLOOKUP(BM$7+0.5,$J$66:$DK$120,ROWS($A$10:$A28)+2,FALSE)","v":370},{"$f":"HLOOKUP(BN$7+0.5,$J$66:$DK$120,ROWS($A$10:$A28)+2,FALSE)","v":715},{"$f":"HLOOKUP(BO$7+0.5,$J$66:$DK$120,ROWS($A$10:$A28)+2,FALSE)","v":299},{"$f":"HLOOKUP(BP$7+0.5,$J$66:$DK$120,ROWS($A$10:$A28)+2,FALSE)","v":1157},{"$f":"HLOOKUP(BQ$7+0.5,$J$66:$DK$120,ROWS($A$10:$A28)+2,FALSE)","v":572},{"$f":"HLOOKUP(BR$7+0.5,$J$66:$DK$120,ROWS($A$10:$A28)+2,FALSE)","v":290},{"$f":"HLOOKUP(BS$7+0.5,$J$66:$DK$120,ROWS($A$10:$A28)+2,FALSE)","v":774},{"$f":"HLOOKUP(BT$7+0.5,$J$66:$DK$120,ROWS($A$10:$A28)+2,FALSE)","v":262},{"$f":"HLOOKUP(BU$7+0.5,$J$66:$DK$120,ROWS($A$10:$A28)+2,FALSE)","v":2697},{"$f":"HLOOKUP(BV$7+0.5,$J$66:$DK$120,ROWS($A$10:$A28)+2,FALSE)","v":1184},{"$f":"HLOOKUP(BW$7+0.5,$J$66:$DK$120,ROWS($A$10:$A28)+2,FALSE)","v":665},{"$f":"HLOOKUP(BX$7+0.5,$J$66:$DK$120,ROWS($A$10:$A28)+2,FALSE)","v":91},{"$f":"HLOOKUP(BY$7+0.5,$J$66:$DK$120,ROWS($A$10:$A28)+2,FALSE)","v":1359},{"$f":"HLOOKUP(BZ$7+0.5,$J$66:$DK$120,ROWS($A$10:$A28)+2,FALSE)","v":2150},{"$f":"HLOOKUP(CA$7+0.5,$J$66:$DK$120,ROWS($A$10:$A28)+2,FALSE)","v":257},{"$f":"HLOOKUP(CB$7+0.5,$J$66:$DK$120,ROWS($A$10:$A28)+2,FALSE)","v":464},{"$f":"HLOOKUP(CC$7+0.5,$J$66:$DK$120,ROWS($A$10:$A28)+2,FALSE)","v":"N/A"},{"$f":"HLOOKUP(CD$7+0.5,$J$66:$DK$120,ROWS($A$10:$A28)+2,FALSE)","v":294},{"$f":"HLOOKUP(CE$7+0.5,$J$66:$DK$120,ROWS($A$10:$A28)+2,FALSE)","v":80},{"$f":"HLOOKUP(CF$7+0.5,$J$66:$DK$120,ROWS($A$10:$A28)+2,FALSE)","v":615},{"$f":"HLOOKUP(CG$7+0.5,$J$66:$DK$120,ROWS($A$10:$A28)+2,FALSE)","v":285},{"$f":"HLOOKUP(CH$7+0.5,$J$66:$DK$120,ROWS($A$10:$A28)+2,FALSE)","v":1809},{"$f":"HLOOKUP(CI$7+0.5,$J$66:$DK$120,ROWS($A$10:$A28)+2,FALSE)","v":346},{"$f":"HLOOKUP(CJ$7+0.5,$J$66:$DK$120,ROWS($A$10:$A28)+2,FALSE)","v":467},{"$f":"HLOOKUP(CK$7+0.5,$J$66:$DK$120,ROWS($A$10:$A28)+2,FALSE)","v":1021},{"$f":"HLOOKUP(CL$7+0.5,$J$66:$DK$120,ROWS($A$10:$A28)+2,FALSE)","v":181},{"$f":"HLOOKUP(CM$7+0.5,$J$66:$DK$120,ROWS($A$10:$A28)+2,FALSE)","v":588},{"$f":"HLOOKUP(CN$7+0.5,$J$66:$DK$120,ROWS($A$10:$A28)+2,FALSE)","v":294},{"$f":"HLOOKUP(CO$7+0.5,$J$66:$DK$120,ROWS($A$10:$A28)+2,FALSE)","v":103},{"$f":"HLOOKUP(CP$7+0.5,$J$66:$DK$120,ROWS($A$10:$A28)+2,FALSE)","v":551},{"$f":"HLOOKUP(CQ$7+0.5,$J$66:$DK$120,ROWS($A$10:$A28)+2,FALSE)","v":348},{"$f":"HLOOKUP(CR$7+0.5,$J$66:$DK$120,ROWS($A$10:$A28)+2,FALSE)","v":1774},{"$f":"HLOOKUP(CS$7+0.5,$J$66:$DK$120,ROWS($A$10:$A28)+2,FALSE)","v":1903},{"$f":"HLOOKUP(CT$7+0.5,$J$66:$DK$120,ROWS($A$10:$A28)+2,FALSE)","v":192},{"$f":"HLOOKUP(CU$7+0.5,$J$66:$DK$120,ROWS($A$10:$A28)+2,FALSE)","v":3384},{"$f":"HLOOKUP(CV$7+0.5,$J$66:$DK$120,ROWS($A$10:$A28)+2,FALSE)","v":437},{"$f":"HLOOKUP(CW$7+0.5,$J$66:$DK$120,ROWS($A$10:$A28)+2,FALSE)","v":212},{"$f":"HLOOKUP(CX$7+0.5,$J$66:$DK$120,ROWS($A$10:$A28)+2,FALSE)","v":964},{"$f":"HLOOKUP(CY$7+0.5,$J$66:$DK$120,ROWS($A$10:$A28)+2,FALSE)","v":181},{"$f":"HLOOKUP(CZ$7+0.5,$J$66:$DK$120,ROWS($A$10:$A28)+2,FALSE)","v":671},{"$f":"HLOOKUP(DA$7+0.5,$J$66:$DK$120,ROWS($A$10:$A28)+2,FALSE)","v":181},{"$f":"HLOOKUP(DB$7+0.5,$J$66:$DK$120,ROWS($A$10:$A28)+2,FALSE)","v":2378},{"$f":"HLOOKUP(DC$7+0.5,$J$66:$DK$120,ROWS($A$10:$A28)+2,FALSE)","v":1420},{"$f":"HLOOKUP(DD$7+0.5,$J$66:$DK$120,ROWS($A$10:$A28)+2,FALSE)","v":360},{"$f":"HLOOKUP(DE$7+0.5,$J$66:$DK$120,ROWS($A$10:$A28)+2,FALSE)","v":81},{"$f":"HLOOKUP(DF$7+0.5,$J$66:$DK$120,ROWS($A$10:$A28)+2,FALSE)","v":1111},{"$f":"HLOOKUP(DG$7+0.5,$J$66:$DK$120,ROWS($A$10:$A28)+2,FALSE)","v":998},{"$f":"HLOOKUP(DH$7+0.5,$J$66:$DK$120,ROWS($A$10:$A28)+2,FALSE)","v":1472},{"$f":"HLOOKUP(DI$7+0.5,$J$66:$DK$120,ROWS($A$10:$A28)+2,FALSE)","v":845},{"$f":"HLOOKUP(DJ$7+0.5,$J$66:$DK$120,ROWS($A$10:$A28)+2,FALSE)","v":181},{"$f":"HLOOKUP(DK$7+0.5,$J$66:$DK$120,ROWS($A$10:$A28)+2,FALSE)","v":197}]
[null,"Louisiana","South",4545914,4612,3912023,21791,528406,20131,{"$f":"HLOOKUP(J$7,$J$66:$DK$120,ROWS($A$10:$A29)+2,FALSE)","v":91215},{"$f":"HLOOKUP(K$7,$J$66:$DK$120,ROWS($A$10:$A29)+2,FALSE)","v":2329},{"$f":"HLOOKUP(L$7,$J$66:$DK$120,ROWS($A$10:$A29)+2,FALSE)","v":403},{"$f":"HLOOKUP(M$7,$J$66:$DK$120,ROWS($A$10:$A29)+2,FALSE)","v":2021},{"$f":"HLOOKUP(N$7,$J$66:$DK$120,ROWS($A$10:$A29)+2,FALSE)","v":3645},{"$f":"HLOOKUP(O$7,$J$66:$DK$120,ROWS($A$10:$A29)+2,FALSE)","v":5139},{"$f":"HLOOKUP(P$7,$J$66:$DK$120,ROWS($A$10:$A29)+2,FALSE)","v":1433},{"$f":"HLOOKUP(Q$7,$J$66:$DK$120,ROWS($A$10:$A29)+2,FALSE)","v":164},{"$f":"HLOOKUP(R$7,$J$66:$DK$120,ROWS($A$10:$A29)+2,FALSE)","v":0},{"$f":"HLOOKUP(S$7,$J$66:$DK$120,ROWS($A$10:$A29)+2,FALSE)","v":596},{"$f":"HLOOKUP(T$7,$J$66:$DK$120,ROWS($A$10:$A29)+2,FALSE)","v":6534},{"$f":"HLOOKUP(U$7,$J$66:$DK$120,ROWS($A$10:$A29)+2,FALSE)","v":4478},{"$f":"HLOOKUP(V$7,$J$66:$DK$120,ROWS($A$10:$A29)+2,FALSE)","v":378},{"$f":"HLOOKUP(W$7,$J$66:$DK$120,ROWS($A$10:$A29)+2,FALSE)","v":265},{"$f":"HLOOKUP(X$7,$J$66:$DK$120,ROWS($A$10:$A29)+2,FALSE)","v":1229},{"$f":"HLOOKUP(Y$7,$J$66:$DK$120,ROWS($A$10:$A29)+2,FALSE)","v":1359},{"$f":"HLOOKUP(Z$7,$J$66:$DK$120,ROWS($A$10:$A29)+2,FALSE)","v":544},{"$f":"HLOOKUP(AA$7,$J$66:$DK$120,ROWS($A$10:$A29)+2,FALSE)","v":420},{"$f":"HLOOKUP(AB$7,$J$66:$DK$120,ROWS($A$10:$A29)+2,FALSE)","v":1649},{"$f":"HLOOKUP(AC$7,$J$66:$DK$120,ROWS($A$10:$A29)+2,FALSE)","v":"N/A"},{"$f":"HLOOKUP(AD$7,$J$66:$DK$120,ROWS($A$10:$A29)+2,FALSE)","v":251},{"$f":"HLOOKUP(AE$7,$J$66:$DK$120,ROWS($A$10:$A29)+2,FALSE)","v":642},{"$f":"HLOOKUP(AF$7,$J$66:$DK$120,ROWS($A$10:$A29)+2,FALSE)","v":549},{"$f":"HLOOKUP(AG$7,$J$66:$DK$120,ROWS($A$10:$A29)+2,FALSE)","v":1080},{"$f":"HLOOKUP(AH$7,$J$66:$DK$120,ROWS($A$10:$A29)+2,FALSE)","v":330},{"$f":"HLOOKUP(AI$7,$J$66:$DK$120,ROWS($A$10:$A29)+2,FALSE)","v":6791},{"$f":"HLOOKUP(AJ$7,$J$66:$DK$120,ROWS($A$10:$A29)+2,FALSE)","v":1591},{"$f":"HLOOKUP(AK$7,$J$66:$DK$120,ROWS($A$10:$A29)+2,FALSE)","v":428},{"$f":"HLOOKUP(AL$7,$J$66:$DK$120,ROWS($A$10:$A29)+2,FALSE)","v":745},{"$f":"HLOOKUP(AM$7,$J$66:$DK$120,ROWS($A$10:$A29)+2,FALSE)","v":931},{"$f":"HLOOKUP(AN$7,$J$66:$DK$120,ROWS($A$10:$A29)+2,FALSE)","v":11},{"$f":"HLOOKUP(AO$7,$J$66:$DK$120,ROWS($A$10:$A29)+2,FALSE)","v":975},{"$f":"HLOOKUP(AP$7,$J$66:$DK$120,ROWS($A$10:$A29)+2,FALSE)","v":150},{"$f":"HLOOKUP(AQ$7,$J$66:$DK$120,ROWS($A$10:$A29)+2,FALSE)","v":2786},{"$f":"HLOOKUP(AR$7,$J$66:$DK$120,ROWS($A$10:$A29)+2,FALSE)","v":2284},{"$f":"HLOOKUP(AS$7,$J$66:$DK$120,ROWS($A$10:$A29)+2,FALSE)","v":64},{"$f":"HLOOKUP(AT$7,$J$66:$DK$120,ROWS($A$10:$A29)+2,FALSE)","v":1115},{"$f":"HLOOKUP(AU$7,$J$66:$DK$120,ROWS($A$10:$A29)+2,FALSE)","v":2159},{"$f":"HLOOKUP(AV$7,$J$66:$DK$120,ROWS($A$10:$A29)+2,FALSE)","v":195},{"$f":"HLOOKUP(AW$7,$J$66:$DK$120,ROWS($A$10:$A29)+2,FALSE)","v":1239},{"$f":"HLOOKUP(AX$7,$J$66:$DK$120,ROWS($A$10:$A29)+2,FALSE)","v":737},{"$f":"HLOOKUP(AY$7,$J$66:$DK$120,ROWS($A$10:$A29)+2,FALSE)","v":1914},{"$f":"HLOOKUP(AZ$7,$J$66:$DK$120,ROWS($A$10:$A29)+2,FALSE)","v":0},{"$f":"HLOOKUP(BA$7,$J$66:$DK$120,ROWS($A$10:$A29)+2,FALSE)","v":2348},{"$f":"HLOOKUP(BB$7,$J$66:$DK$120,ROWS($A$10:$A29)+2,FALSE)","v":24488},{"$f":"HLOOKUP(BC$7,$J$66:$DK$120,ROWS($A$10:$A29)+2,FALSE)","v":277},{"$f":"HLOOKUP(BD$7,$J$66:$DK$120,ROWS($A$10:$A29)+2,FALSE)","v":45},{"$f":"HLOOKUP(BE$7,$J$66:$DK$120,ROWS($A$10:$A29)+2,FALSE)","v":1857},{"$f":"HLOOKUP(BF$7,$J$66:$DK$120,ROWS($A$10:$A29)+2,FALSE)","v":1581},{"$f":"HLOOKUP(BG$7,$J$66:$DK$120,ROWS($A$10:$A29)+2,FALSE)","v":238},{"$f":"HLOOKUP(BH$7,$J$66:$DK$120,ROWS($A$10:$A29)+2,FALSE)","v":682},{"$f":"HLOOKUP(BI$7,$J$66:$DK$120,ROWS($A$10:$A29)+2,FALSE)","v":146},{"$f":"HLOOKUP(BJ$7,$J$66:$DK$120,ROWS($A$10:$A29)+2,FALSE)","v":655},{"$f":"HLOOKUP(BK$7+0.5,$J$66:$DK$120,ROWS($A$10:$A29)+2,FALSE)","v":6941},{"$f":"HLOOKUP(BL$7+0.5,$J$66:$DK$120,ROWS($A$10:$A29)+2,FALSE)","v":1114},{"$f":"HLOOKUP(BM$7+0.5,$J$66:$DK$120,ROWS($A$10:$A29)+2,FALSE)","v":467},{"$f":"HLOOKUP(BN$7+0.5,$J$66:$DK$120,ROWS($A$10:$A29)+2,FALSE)","v":1191},{"$f":"HLOOKUP(BO$7+0.5,$J$66:$DK$120,ROWS($A$10:$A29)+2,FALSE)","v":2324},{"$f":"HLOOKUP(BP$7+0.5,$J$66:$DK$120,ROWS($A$10:$A29)+2,FALSE)","v":1438},{"$f":"HLOOKUP(BQ$7+0.5,$J$66:$DK$120,ROWS($A$10:$A29)+2,FALSE)","v":1002},{"$f":"HLOOKUP(BR$7+0.5,$J$66:$DK$120,ROWS($A$10:$A29)+2,FALSE)","v":149},{"$f":"HLOOKUP(BS$7+0.5,$J$66:$DK$120,ROWS($A$10:$A29)+2,FALSE)","v":193},{"$f":"HLOOKUP(BT$7+0.5,$J$66:$DK$120,ROWS($A$10:$A29)+2,FALSE)","v":517},{"$f":"HLOOKUP(BU$7+0.5,$J$66:$DK$120,ROWS($A$10:$A29)+2,FALSE)","v":2276},{"$f":"HLOOKUP(BV$7+0.5,$J$66:$DK$120,ROWS($A$10:$A29)+2,FALSE)","v":1559},{"$f":"HLOOKUP(BW$7+0.5,$J$66:$DK$120,ROWS($A$10:$A29)+2,FALSE)","v":283},{"$f":"HLOOKUP(BX$7+0.5,$J$66:$DK$120,ROWS($A$10:$A29)+2,FALSE)","v":242},{"$f":"HLOOKUP(BY$7+0.5,$J$66:$DK$120,ROWS($A$10:$A29)+2,FALSE)","v":466},{"$f":"HLOOKUP(BZ$7+0.5,$J$66:$DK$120,ROWS($A$10:$A29)+2,FALSE)","v":954},{"$f":"HLOOKUP(CA$7+0.5,$J$66:$DK$120,ROWS($A$10:$A29)+2,FALSE)","v":447},{"$f":"HLOOKUP(CB$7+0.5,$J$66:$DK$120,ROWS($A$10:$A29)+2,FALSE)","v":392},{"$f":"HLOOKUP(CC$7+0.5,$J$66:$DK$120,ROWS($A$10:$A29)+2,FALSE)","v":1224},{"$f":"HLOOKUP(CD$7+0.5,$J$66:$DK$120,ROWS($A$10:$A29)+2,FALSE)","v":"N/A"},{"$f":"HLOOKUP(CE$7+0.5,$J$66:$DK$120,ROWS($A$10:$A29)+2,FALSE)","v":334},{"$f":"HLOOKUP(CF$7+0.5,$J$66:$DK$120,ROWS($A$10:$A29)+2,FALSE)","v":701},{"$f":"HLOOKUP(CG$7+0.5,$J$66:$DK$120,ROWS($A$10:$A29)+2,FALSE)","v":354},{"$f":"HLOOKUP(CH$7+0.5,$J$66:$DK$120,ROWS($A$10:$A29)+2,FALSE)","v":782},{"$f":"HLOOKUP(CI$7+0.5,$J$66:$DK$120,ROWS($A$10:$A29)+2,FALSE)","v":324},{"$f":"HLOOKUP(CJ$7+0.5,$J$66:$DK$120,ROWS($A$10:$A29)+2,FALSE)","v":1938},{"$f":"HLOOKUP(CK$7+0.5,$J$66:$DK$120,ROWS($A$10:$A29)+2,FALSE)","v":684},{"$f":"HLOOKUP(CL$7+0.5,$J$66:$DK$120,ROWS($A$10:$A29)+2,FALSE)","v":524},{"$f":"HLOOKUP(CM$7+0.5,$J$66:$DK$120,ROWS($A$10:$A29)+2,FALSE)","v":538},{"$f":"HLOOKUP(CN$7+0.5,$J$66:$DK$120,ROWS($A$10:$A29)+2,FALSE)","v":682},{"$f":"HLOOKUP(CO$7+0.5,$J$66:$DK$120,ROWS($A$10:$A29)+2,FALSE)","v":21},{"$f":"HLOOKUP(CP$7+0.5,$J$66:$DK$120,ROWS($A$10:$A29)+2,FALSE)","v":575},{"$f":"HLOOKUP(CQ$7+0.5,$J$66:$DK$120,ROWS($A$10:$A29)+2,FALSE)","v":188},{"$f":"HLOOKUP(CR$7+0.5,$J$66:$DK$120,ROWS($A$10:$A29)+2,FALSE)","v":1105},{"$f":"HLOOKUP(CS$7+0.5,$J$66:$DK$120,ROWS($A$10:$A29)+2,FALSE)","v":1152},{"$f":"HLOOKUP(CT$7+0.5,$J$66:$DK$120,ROWS($A$10:$A29)+2,FALSE)","v":113},{"$f":"HLOOKUP(CU$7+0.5,$J$66:$DK$120,ROWS($A$10:$A29)+2,FALSE)","v":773},{"$f":"HLOOKUP(CV$7+0.5,$J$66:$DK$120,ROWS($A$10:$A29)+2,FALSE)","v":1365},{"$f":"HLOOKUP(CW$7+0.5,$J$66:$DK$120,ROWS($A$10:$A29)+2,FALSE)","v":232},{"$f":"HLOOKUP(CX$7+0.5,$J$66:$DK$120,ROWS($A$10:$A29)+2,FALSE)","v":616},{"$f":"HLOOKUP(CY$7+0.5,$J$66:$DK$120,ROWS($A$10:$A29)+2,FALSE)","v":695},{"$f":"HLOOKUP(CZ$7+0.5,$J$66:$DK$120,ROWS($A$10:$A29)+2,FALSE)","v":1377},{"$f":"HLOOKUP(DA$7+0.5,$J$66:$DK$120,ROWS($A$10:$A29)+2,FALSE)","v":193},{"$f":"HLOOKUP(DB$7+0.5,$J$66:$DK$120,ROWS($A$10:$A29)+2,FALSE)","v":1546},{"$f":"HLOOKUP(DC$7+0.5,$J$66:$DK$120,ROWS($A$10:$A29)+2,FALSE)","v":4076},{"$f":"HLOOKUP(DD$7+0.5,$J$66:$DK$120,ROWS($A$10:$A29)+2,FALSE)","v":288},{"$f":"HLOOKUP(DE$7+0.5,$J$66:$DK$120,ROWS($A$10:$A29)+2,FALSE)","v":72},{"$f":"HLOOKUP(DF$7+0.5,$J$66:$DK$120,ROWS($A$10:$A29)+2,FALSE)","v":1033},{"$f":"HLOOKUP(DG$7+0.5,$J$66:$DK$120,ROWS($A$10:$A29)+2,FALSE)","v":631},{"$f":"HLOOKUP(DH$7+0.5,$J$66:$DK$120,ROWS($A$10:$A29)+2,FALSE)","v":271},{"$f":"HLOOKUP(DI$7+0.5,$J$66:$DK$120,ROWS($A$10:$A29)+2,FALSE)","v":474},{"$f":"HLOOKUP(DJ$7+0.5,$J$66:$DK$120,ROWS($A$10:$A29)+2,FALSE)","v":216},{"$f":"HLOOKUP(DK$7+0.5,$J$66:$DK$120,ROWS($A$10:$A29)+2,FALSE)","v":507}]
[null,"Maine","Northeast",1315586,1384,1132344,9895,151438,9223,{"$f":"HLOOKUP(J$7,$J$66:$DK$120,ROWS($A$10:$A30)+2,FALSE)","v":27523},{"$f":"HLOOKUP(K$7,$J$66:$DK$120,ROWS($A$10:$A30)+2,FALSE)","v":129},{"$f":"HLOOKUP(L$7,$J$66:$DK$120,ROWS($A$10:$A30)+2,FALSE)","v":38},{"$f":"HLOOKUP(M$7,$J$66:$DK$120,ROWS($A$10:$A30)+2,FALSE)","v":230},{"$f":"HLOOKUP(N$7,$J$66:$DK$120,ROWS($A$10:$A30)+2,FALSE)","v":0},{"$f":"HLOOKUP(O$7,$J$66:$DK$120,ROWS($A$10:$A30)+2,FALSE)","v":1610},{"$f":"HLOOKUP(P$7,$J$66:$DK$120,ROWS($A$10:$A30)+2,FALSE)","v":314},{"$f":"HLOOKUP(Q$7,$J$66:$DK$120,ROWS($A$10:$A30)+2,FALSE)","v":1468},{"$f":"HLOOKUP(R$7,$J$66:$DK$120,ROWS($A$10:$A30)+2,FALSE)","v":234},{"$f":"HLOOKUP(S$7,$J$66:$DK$120,ROWS($A$10:$A30)+2,FALSE)","v":32},{"$f":"HLOOKUP(T$7,$J$66:$DK$120,ROWS($A$10:$A30)+2,FALSE)","v":2926},{"$f":"HLOOKUP(U$7,$J$66:$DK$120,ROWS($A$10:$A30)+2,FALSE)","v":511},{"$f":"HLOOKUP(V$7,$J$66:$DK$120,ROWS($A$10:$A30)+2,FALSE)","v":0},{"$f":"HLOOKUP(W$7,$J$66:$DK$120,ROWS($A$10:$A30)+2,FALSE)","v":143},{"$f":"HLOOKUP(X$7,$J$66:$DK$120,ROWS($A$10:$A30)+2,FALSE)","v":195},{"$f":"HLOOKUP(Y$7,$J$66:$DK$120,ROWS($A$10:$A30)+2,FALSE)","v":0},{"$f":"HLOOKUP(Z$7,$J$66:$DK$120,ROWS($A$10:$A30)+2,FALSE)","v":7},{"$f":"HLOOKUP(AA$7,$J$66:$DK$120,ROWS($A$10:$A30)+2,FALSE)","v":277},{"$f":"HLOOKUP(AB$7,$J$66:$DK$120,ROWS($A$10:$A30)+2,FALSE)","v":482},{"$f":"HLOOKUP(AC$7,$J$66:$DK$120,ROWS($A$10:$A30)+2,FALSE)","v":15},{"$f":"HLOOKUP(AD$7,$J$66:$DK$120,ROWS($A$10:$A30)+2,FALSE)","v":"N/A"},{"$f":"HLOOKUP(AE$7,$J$66:$DK$120,ROWS($A$10:$A30)+2,FALSE)","v":325},{"$f":"HLOOKUP(AF$7,$J$66:$DK$120,ROWS($A$10:$A30)+2,FALSE)","v":3887},{"$f":"HLOOKUP(AG$7,$J$66:$DK$120,ROWS($A$10:$A30)+2,FALSE)","v":116},{"$f":"HLOOKUP(AH$7,$J$66:$DK$120,ROWS($A$10:$A30)+2,FALSE)","v":430},{"$f":"HLOOKUP(AI$7,$J$66:$DK$120,ROWS($A$10:$A30)+2,FALSE)","v":79},{"$f":"HLOOKUP(AJ$7,$J$66:$DK$120,ROWS($A$10:$A30)+2,FALSE)","v":69},{"$f":"HLOOKUP(AK$7,$J$66:$DK$120,ROWS($A$10:$A30)+2,FALSE)","v":0},{"$f":"HLOOKUP(AL$7,$J$66:$DK$120,ROWS($A$10:$A30)+2,FALSE)","v":82},{"$f":"HLOOKUP(AM$7,$J$66:$DK$120,ROWS($A$10:$A30)+2,FALSE)","v":35},{"$f":"HLOOKUP(AN$7,$J$66:$DK$120,ROWS($A$10:$A30)+2,FALSE)","v":3655},{"$f":"HLOOKUP(AO$7,$J$66:$DK$120,ROWS($A$10:$A30)+2,FALSE)","v":405},{"$f":"HLOOKUP(AP$7,$J$66:$DK$120,ROWS($A$10:$A30)+2,FALSE)","v":272},{"$f":"HLOOKUP(AQ$7,$J$66:$DK$120,ROWS($A$10:$A30)+2,FALSE)","v":2519},{"$f":"HLOOKUP(AR$7,$J$66:$DK$120,ROWS($A$10:$A30)+2,FALSE)","v":1112},{"$f":"HLOOKUP(AS$7,$J$66:$DK$120,ROWS($A$10:$A30)+2,FALSE)","v":0},{"$f":"HLOOKUP(AT$7,$J$66:$DK$120,ROWS($A$10:$A30)+2,FALSE)","v":628},{"$f":"HLOOKUP(AU$7,$J$66:$DK$120,ROWS($A$10:$A30)+2,FALSE)","v":79},{"$f":"HLOOKUP(AV$7,$J$66:$DK$120,ROWS($A$10:$A30)+2,FALSE)","v":215},{"$f":"HLOOKUP(AW$7,$J$66:$DK$120,ROWS($A$10:$A30)+2,FALSE)","v":976},{"$f":"HLOOKUP(AX$7,$J$66:$DK$120,ROWS($A$10:$A30)+2,FALSE)","v":1024},{"$f":"HLOOKUP(AY$7,$J$66:$DK$120,ROWS($A$10:$A30)+2,FALSE)","v":173},{"$f":"HLOOKUP(AZ$7,$J$66:$DK$120,ROWS($A$10:$A30)+2,FALSE)","v":0},{"$f":"HLOOKUP(BA$7,$J$66:$DK$120,ROWS($A$10:$A30)+2,FALSE)","v":985},{"$f":"HLOOKUP(BB$7,$J$66:$DK$120,ROWS($A$10:$A30)+2,FALSE)","v":496},{"$f":"HLOOKUP(BC$7,$J$66:$DK$120,ROWS($A$10:$A30)+2,FALSE)","v":200},{"$f":"HLOOKUP(BD$7,$J$66:$DK$120,ROWS($A$10:$A30)+2,FALSE)","v":349},{"$f":"HLOOKUP(BE$7,$J$66:$DK$120,ROWS($A$10:$A30)+2,FALSE)","v":573},{"$f":"HLOOKUP(BF$7,$J$66:$DK$120,ROWS($A$10:$A30)+2,FALSE)","v":118},{"$f":"HLOOKUP(BG$7,$J$66:$DK$120,ROWS($A$10:$A30)+2,FALSE)","v":51},{"$f":"HLOOKUP(BH$7,$J$66:$DK$120,ROWS($A$10:$A30)+2,FALSE)","v":0},{"$f":"HLOOKUP(BI$7,$J$66:$DK$120,ROWS($A$10:$A30)+2,FALSE)","v":59},{"$f":"HLOOKUP(BJ$7,$J$66:$DK$120,ROWS($A$10:$A30)+2,FALSE)","v":38},{"$f":"HLOOKUP(BK$7+0.5,$J$66:$DK$120,ROWS($A$10:$A30)+2,FALSE)","v":3132},{"$f":"HLOOKUP(BL$7+0.5,$J$66:$DK$120,ROWS($A$10:$A30)+2,FALSE)","v":172},{"$f":"HLOOKUP(BM$7+0.5,$J$66:$DK$120,ROWS($A$10:$A30)+2,FALSE)","v":48},{"$f":"HLOOKUP(BN$7+0.5,$J$66:$DK$120,ROWS($A$10:$A30)+2,FALSE)","v":170},{"$f":"HLOOKUP(BO$7+0.5,$J$66:$DK$120,ROWS($A$10:$A30)+2,FALSE)","v":155},{"$f":"HLOOKUP(BP$7+0.5,$J$66:$DK$120,ROWS($A$10:$A30)+2,FALSE)","v":860},{"$f":"HLOOKUP(BQ$7+0.5,$J$66:$DK$120,ROWS($A$10:$A30)+2,FALSE)","v":287},{"$f":"HLOOKUP(BR$7+0.5,$J$66:$DK$120,ROWS($A$10:$A30)+2,FALSE)","v":620},{"$f":"HLOOKUP(BS$7+0.5,$J$66:$DK$120,ROWS($A$10:$A30)+2,FALSE)","v":299},{"$f":"HLOOKUP(BT$7+0.5,$J$66:$DK$120,ROWS($A$10:$A30)+2,FALSE)","v":55},{"$f":"HLOOKUP(BU$7+0.5,$J$66:$DK$120,ROWS($A$10:$A30)+2,FALSE)","v":1292},{"$f":"HLOOKUP(BV$7+0.5,$J$66:$DK$120,ROWS($A$10:$A30)+2,FALSE)","v":538},{"$f":"HLOOKUP(BW$7+0.5,$J$66:$DK$120,ROWS($A$10:$A30)+2,FALSE)","v":155},{"$f":"HLOOKUP(BX$7+0.5,$J$66:$DK$120,ROWS($A$10:$A30)+2,FALSE)","v":128},{"$f":"HLOOKUP(BY$7+0.5,$J$66:$DK$120,ROWS($A$10:$A30)+2,FALSE)","v":277},{"$f":"HLOOKUP(BZ$7+0.5,$J$66:$DK$120,ROWS($A$10:$A30)+2,FALSE)","v":155},{"$f":"HLOOKUP(CA$7+0.5,$J$66:$DK$120,ROWS($A$10:$A30)+2,FALSE)","v":16},{"$f":"HLOOKUP(CB$7+0.5,$J$66:$DK$120,ROWS($A$10:$A30)+2,FALSE)","v":401},{"$f":"HLOOKUP(CC$7+0.5,$J$66:$DK$120,ROWS($A$10:$A30)+2,FALSE)","v":521},{"$f":"HLOOKUP(CD$7+0.5,$J$66:$DK$120,ROWS($A$10:$A30)+2,FALSE)","v":30},{"$f":"HLOOKUP(CE$7+0.5,$J$66:$DK$120,ROWS($A$10:$A30)+2,FALSE)","v":"N/A"},{"$f":"HLOOKUP(CF$7+0.5,$J$66:$DK$120,ROWS($A$10:$A30)+2,FALSE)","v":263},{"$f":"HLOOKUP(CG$7+0.5,$J$66:$DK$120,ROWS($A$10:$A30)+2,FALSE)","v":1167},{"$f":"HLOOKUP(CH$7+0.5,$J$66:$DK$120,ROWS($A$10:$A30)+2,FALSE)","v":123},{"$f":"HLOOKUP(CI$7+0.5,$J$66:$DK$120,ROWS($A$10:$A30)+2,FALSE)","v":359},{"$f":"HLOOKUP(CJ$7+0.5,$J$66:$DK$120,ROWS($A$10:$A30)+2,FALSE)","v":134},{"$f":"HLOOKUP(CK$7+0.5,$J$66:$DK$120,ROWS($A$10:$A30)+2,FALSE)","v":112},{"$f":"HLOOKUP(CL$7+0.5,$J$66:$DK$120,ROWS($A$10:$A30)+2,FALSE)","v":155},{"$f":"HLOOKUP(CM$7+0.5,$J$66:$DK$120,ROWS($A$10:$A30)+2,FALSE)","v":136},{"$f":"HLOOKUP(CN$7+0.5,$J$66:$DK$120,ROWS($A$10:$A30)+2,FALSE)","v":56},{"$f":"HLOOKUP(CO$7+0.5,$J$66:$DK$120,ROWS($A$10:$A30)+2,FALSE)","v":1077},{"$f":"HLOOKUP(CP$7+0.5,$J$66:$DK$120,ROWS($A$10:$A30)+2,FALSE)","v":281},{"$f":"HLOOKUP(CQ$7+0.5,$J$66:$DK$120,ROWS($A$10:$A30)+2,FALSE)","v":320},{"$f":"HLOOKUP(CR$7+0.5,$J$66:$DK$120,ROWS($A$10:$A30)+2,FALSE)","v":1180},{"$f":"HLOOKUP(CS$7+0.5,$J$66:$DK$120,ROWS($A$10:$A30)+2,FALSE)","v":574},{"$f":"HLOOKUP(CT$7+0.5,$J$66:$DK$120,ROWS($A$10:$A30)+2,FALSE)","v":155},{"$f":"HLOOKUP(CU$7+0.5,$J$66:$DK$120,ROWS($A$10:$A30)+2,FALSE)","v":368},{"$f":"HLOOKUP(CV$7+0.5,$J$66:$DK$120,ROWS($A$10:$A30)+2,FALSE)","v":115},{"$f":"HLOOKUP(CW$7+0.5,$J$66:$DK$120,ROWS($A$10:$A30)+2,FALSE)","v":255},{"$f":"HLOOKUP(CX$7+0.5,$J$66:$DK$120,ROWS($A$10:$A30)+2,FALSE)","v":600},{"$f":"HLOOKUP(CY$7+0.5,$J$66:$DK$120,ROWS($A$10:$A30)+2,FALSE)","v":656},{"$f":"HLOOKUP(CZ$7+0.5,$J$66:$DK$120,ROWS($A$10:$A30)+2,FALSE)","v":143},{"$f":"HLOOKUP(DA$7+0.5,$J$66:$DK$120,ROWS($A$10:$A30)+2,FALSE)","v":155},{"$f":"HLOOKUP(DB$7+0.5,$J$66:$DK$120,ROWS($A$10:$A30)+2,FALSE)","v":1062},{"$f":"HLOOKUP(DC$7+0.5,$J$66:$DK$120,ROWS($A$10:$A30)+2,FALSE)","v":381},{"$f":"HLOOKUP(DD$7+0.5,$J$66:$DK$120,ROWS($A$10:$A30)+2,FALSE)","v":183},{"$f":"HLOOKUP(DE$7+0.5,$J$66:$DK$120,ROWS($A$10:$A30)+2,FALSE)","v":340},{"$f":"HLOOKUP(DF$7+0.5,$J$66:$DK$120,ROWS($A$10:$A30)+2,FALSE)","v":408},{"$f":"HLOOKUP(DG$7+0.5,$J$66:$DK$120,ROWS($A$10:$A30)+2,FALSE)","v":137},{"$f":"HLOOKUP(DH$7+0.5,$J$66:$DK$120,ROWS($A$10:$A30)+2,FALSE)","v":85},{"$f":"HLOOKUP(DI$7+0.5,$J$66:$DK$120,ROWS($A$10:$A30)+2,FALSE)","v":155},{"$f":"HLOOKUP(DJ$7+0.5,$J$66:$DK$120,ROWS($A$10:$A30)+2,FALSE)","v":81},{"$f":"HLOOKUP(DK$7+0.5,$J$66:$DK$120,ROWS($A$10:$A30)+2,FALSE)","v":69}]
[null,"Maryland","South",5816472,3717,5068457,21604,549973,20595,{"$f":"HLOOKUP(J$7,$J$66:$DK$120,ROWS($A$10:$A31)+2,FALSE)","v":154983},{"$f":"HLOOKUP(K$7,$J$66:$DK$120,ROWS($A$10:$A31)+2,FALSE)","v":1261},{"$f":"HLOOKUP(L$7,$J$66:$DK$120,ROWS($A$10:$A31)+2,FALSE)","v":1947},{"$f":"HLOOKUP(M$7,$J$66:$DK$120,ROWS($A$10:$A31)+2,FALSE)","v":760},{"$f":"HLOOKUP(N$7,$J$66:$DK$120,ROWS($A$10:$A31)+2,FALSE)","v":136},{"$f":"HLOOKUP(O$7,$J$66:$DK$120,ROWS($A$10:$A31)+2,FALSE)","v":8614},{"$f":"HLOOKUP(P$7,$J$66:$DK$120,ROWS($A$10:$A31)+2,FALSE)","v":1071},{"$f":"HLOOKUP(Q$7,$J$66:$DK$120,ROWS($A$10:$A31)+2,FALSE)","v":881},{"$f":"HLOOKUP(R$7,$J$66:$DK$120,ROWS($A$10:$A31)+2,FALSE)","v":4100},{"$f":"HLOOKUP(S$7,$J$66:$DK$120,ROWS($A$10:$A31)+2,FALSE)","v":21213},{"$f":"HLOOKUP(T$7,$J$66:$DK$120,ROWS($A$10:$A31)+2,FALSE)","v":9610},{"$f":"HLOOKUP(U$7,$J$66:$DK$120,ROWS($A$10:$A31)+2,FALSE)","v":4610},{"$f":"HLOOKUP(V$7,$J$66:$DK$120,ROWS($A$10:$A31)+2,FALSE)","v":610},{"$f":"HLOOKUP(W$7,$J$66:$DK$120,ROWS($A$10:$A31)+2,FALSE)","v":429},{"$f":"HLOOKUP(X$7,$J$66:$DK$120,ROWS($A$10:$A31)+2,FALSE)","v":3621},{"$f":"HLOOKUP(Y$7,$J$66:$DK$120,ROWS($A$10:$A31)+2,FALSE)","v":1210},{"$f":"HLOOKUP(Z$7,$J$66:$DK$120,ROWS($A$10:$A31)+2,FALSE)","v":569},{"$f":"HLOOKUP(AA$7,$J$66:$DK$120,ROWS($A$10:$A31)+2,FALSE)","v":1726},{"$f":"HLOOKUP(AB$7,$J$66:$DK$120,ROWS($A$10:$A31)+2,FALSE)","v":715},{"$f":"HLOOKUP(AC$7,$J$66:$DK$120,ROWS($A$10:$A31)+2,FALSE)","v":606},{"$f":"HLOOKUP(AD$7,$J$66:$DK$120,ROWS($A$10:$A31)+2,FALSE)","v":332},{"$f":"HLOOKUP(AE$7,$J$66:$DK$120,ROWS($A$10:$A31)+2,FALSE)","v":"N/A"},{"$f":"HLOOKUP(AF$7,$J$66:$DK$120,ROWS($A$10:$A31)+2,FALSE)","v":3977},{"$f":"HLOOKUP(AG$7,$J$66:$DK$120,ROWS($A$10:$A31)+2,FALSE)","v":2167},{"$f":"HLOOKUP(AH$7,$J$66:$DK$120,ROWS($A$10:$A31)+2,FALSE)","v":1422},{"$f":"HLOOKUP(AI$7,$J$66:$DK$120,ROWS($A$10:$A31)+2,FALSE)","v":581},{"$f":"HLOOKUP(AJ$7,$J$66:$DK$120,ROWS($A$10:$A31)+2,FALSE)","v":256},{"$f":"HLOOKUP(AK$7,$J$66:$DK$120,ROWS($A$10:$A31)+2,FALSE)","v":0},{"$f":"HLOOKUP(AL$7,$J$66:$DK$120,ROWS($A$10:$A31)+2,FALSE)","v":132},{"$f":"HLOOKUP(AM$7,$J$66:$DK$120,ROWS($A$10:$A31)+2,FALSE)","v":330},{"$f":"HLOOKUP(AN$7,$J$66:$DK$120,ROWS($A$10:$A31)+2,FALSE)","v":1124},{"$f":"HLOOKUP(AO$7,$J$66:$DK$120,ROWS($A$10:$A31)+2,FALSE)","v":6260},{"$f":"HLOOKUP(AP$7,$J$66:$DK$120,ROWS($A$10:$A31)+2,FALSE)","v":638},{"$f":"HLOOKUP(AQ$7,$J$66:$DK$120,ROWS($A$10:$A31)+2,FALSE)","v":11736},{"$f":"HLOOKUP(AR$7,$J$66:$DK$120,ROWS($A$10:$A31)+2,FALSE)","v":7507},{"$f":"HLOOKUP(AS$7,$J$66:$DK$120,ROWS($A$10:$A31)+2,FALSE)","v":116},{"$f":"HLOOKUP(AT$7,$J$66:$DK$120,ROWS($A$10:$A31)+2,FALSE)","v":2522},{"$f":"HLOOKUP(AU$7,$J$66:$DK$120,ROWS($A$10:$A31)+2,FALSE)","v":463},{"$f":"HLOOKUP(AV$7,$J$66:$DK$120,ROWS($A$10:$A31)+2,FALSE)","v":378},{"$f":"HLOOKUP(AW$7,$J$66:$DK$120,ROWS($A$10:$A31)+2,FALSE)","v":15485},{"$f":"HLOOKUP(AX$7,$J$66:$DK$120,ROWS($A$10:$A31)+2,FALSE)","v":82},{"$f":"HLOOKUP(AY$7,$J$66:$DK$120,ROWS($A$10:$A31)+2,FALSE)","v":2297},{"$f":"HLOOKUP(AZ$7,$J$66:$DK$120,ROWS($A$10:$A31)+2,FALSE)","v":0},{"$f":"HLOOKUP(BA$7,$J$66:$DK$120,ROWS($A$10:$A31)+2,FALSE)","v":1800},{"$f":"HLOOKUP(BB$7,$J$66:$DK$120,ROWS($A$10:$A31)+2,FALSE)","v":5612},{"$f":"HLOOKUP(BC$7,$J$66:$DK$120,ROWS($A$10:$A31)+2,FALSE)","v":1061},{"$f":"HLOOKUP(BD$7,$J$66:$DK$120,ROWS($A$10:$A31)+2,FALSE)","v":589},{"$f":"HLOOKUP(BE$7,$J$66:$DK$120,ROWS($A$10:$A31)+2,FALSE)","v":20579},{"$f":"HLOOKUP(BF$7,$J$66:$DK$120,ROWS($A$10:$A31)+2,FALSE)","v":1431},{"$f":"HLOOKUP(BG$7,$J$66:$DK$120,ROWS($A$10:$A31)+2,FALSE)","v":1957},{"$f":"HLOOKUP(BH$7,$J$66:$DK$120,ROWS($A$10:$A31)+2,FALSE)","v":460},{"$f":"HLOOKUP(BI$7,$J$66:$DK$120,ROWS($A$10:$A31)+2,FALSE)","v":0},{"$f":"HLOOKUP(BJ$7,$J$66:$DK$120,ROWS($A$10:$A31)+2,FALSE)","v":294},{"$f":"HLOOKUP(BK$7+0.5,$J$66:$DK$120,ROWS($A$10:$A31)+2,FALSE)","v":8958},{"$f":"HLOOKUP(BL$7+0.5,$J$66:$DK$120,ROWS($A$10:$A31)+2,FALSE)","v":713},{"$f":"HLOOKUP(BM$7+0.5,$J$66:$DK$120,ROWS($A$10:$A31)+2,FALSE)","v":1123},{"$f":"HLOOKUP(BN$7+0.5,$J$66:$DK$120,ROWS($A$10:$A31)+2,FALSE)","v":359},{"$f":"HLOOKUP(BO$7+0.5,$J$66:$DK$120,ROWS($A$10:$A31)+2,FALSE)","v":159},{"$f":"HLOOKUP(BP$7+0.5,$J$66:$DK$120,ROWS($A$10:$A31)+2,FALSE)","v":2155},{"$f":"HLOOKUP(BQ$7+0.5,$J$66:$DK$120,ROWS($A$10:$A31)+2,FALSE)","v":609},{"$f":"HLOOKUP(BR$7+0.5,$J$66:$DK$120,ROWS($A$10:$A31)+2,FALSE)","v":516},{"$f":"HLOOKUP(BS$7+0.5,$J$66:$DK$120,ROWS($A$10:$A31)+2,FALSE)","v":1303},{"$f":"HLOOKUP(BT$7+0.5,$J$66:$DK$120,ROWS($A$10:$A31)+2,FALSE)","v":3437},{"$f":"HLOOKUP(BU$7+0.5,$J$66:$DK$120,ROWS($A$10:$A31)+2,FALSE)","v":2515},{"$f":"HLOOKUP(BV$7+0.5,$J$66:$DK$120,ROWS($A$10:$A31)+2,FALSE)","v":2430},{"$f":"HLOOKUP(BW$7+0.5,$J$66:$DK$120,ROWS($A$10:$A31)+2,FALSE)","v":474},{"$f":"HLOOKUP(BX$7+0.5,$J$66:$DK$120,ROWS($A$10:$A31)+2,FALSE)","v":444},{"$f":"HLOOKUP(BY$7+0.5,$J$66:$DK$120,ROWS($A$10:$A31)+2,FALSE)","v":1647},{"$f":"HLOOKUP(BZ$7+0.5,$J$66:$DK$120,ROWS($A$10:$A31)+2,FALSE)","v":709},{"$f":"HLOOKUP(CA$7+0.5,$J$66:$DK$120,ROWS($A$10:$A31)+2,FALSE)","v":389},{"$f":"HLOOKUP(CB$7+0.5,$J$66:$DK$120,ROWS($A$10:$A31)+2,FALSE)","v":1123},{"$f":"HLOOKUP(CC$7+0.5,$J$66:$DK$120,ROWS($A$10:$A31)+2,FALSE)","v":602},{"$f":"HLOOKUP(CD$7+0.5,$J$66:$DK$120,ROWS($A$10:$A31)+2,FALSE)","v":441},{"$f":"HLOOKUP(CE$7+0.5,$J$66:$DK$120,ROWS($A$10:$A31)+2,FALSE)","v":261},{"$f":"HLOOKUP(CF$7+0.5,$J$66:$DK$120,ROWS($A$10:$A31)+2,FALSE)","v":"N/A"},{"$f":"HLOOKUP(CG$7+0.5,$J$66:$DK$120,ROWS($A$10:$A31)+2,FALSE)","v":1805},{"$f":"HLOOKUP(CH$7+0.5,$J$66:$DK$120,ROWS($A$10:$A31)+2,FALSE)","v":973},{"$f":"HLOOKUP(CI$7+0.5,$J$66:$DK$120,ROWS($A$10:$A31)+2,FALSE)","v":707},{"$f":"HLOOKUP(CJ$7+0.5,$J$66:$DK$120,ROWS($A$10:$A31)+2,FALSE)","v":706},{"$f":"HLOOKUP(CK$7+0.5,$J$66:$DK$120,ROWS($A$10:$A31)+2,FALSE)","v":199},{"$f":"HLOOKUP(CL$7+0.5,$J$66:$DK$120,ROWS($A$10:$A31)+2,FALSE)","v":190},{"$f":"HLOOKUP(CM$7+0.5,$J$66:$DK$120,ROWS($A$10:$A31)+2,FALSE)","v":152},{"$f":"HLOOKUP(CN$7+0.5,$J$66:$DK$120,ROWS($A$10:$A31)+2,FALSE)","v":258},{"$f":"HLOOKUP(CO$7+0.5,$J$66:$DK$120,ROWS($A$10:$A31)+2,FALSE)","v":820},{"$f":"HLOOKUP(CP$7+0.5,$J$66:$DK$120,ROWS($A$10:$A31)+2,FALSE)","v":2244},{"$f":"HLOOKUP(CQ$7+0.5,$J$66:$DK$120,ROWS($A$10:$A31)+2,FALSE)","v":453},{"$f":"HLOOKUP(CR$7+0.5,$J$66:$DK$120,ROWS($A$10:$A31)+2,FALSE)","v":2585},{"$f":"HLOOKUP(CS$7+0.5,$J$66:$DK$120,ROWS($A$10:$A31)+2,FALSE)","v":2284},{"$f":"HLOOKUP(CT$7+0.5,$J$66:$DK$120,ROWS($A$10:$A31)+2,FALSE)","v":94},{"$f":"HLOOKUP(CU$7+0.5,$J$66:$DK$120,ROWS($A$10:$A31)+2,FALSE)","v":1035},{"$f":"HLOOKUP(CV$7+0.5,$J$66:$DK$120,ROWS($A$10:$A31)+2,FALSE)","v":447},{"$f":"HLOOKUP(CW$7+0.5,$J$66:$DK$120,ROWS($A$10:$A31)+2,FALSE)","v":426},{"$f":"HLOOKUP(CX$7+0.5,$J$66:$DK$120,ROWS($A$10:$A31)+2,FALSE)","v":2922},{"$f":"HLOOKUP(CY$7+0.5,$J$66:$DK$120,ROWS($A$10:$A31)+2,FALSE)","v":95},{"$f":"HLOOKUP(CZ$7+0.5,$J$66:$DK$120,ROWS($A$10:$A31)+2,FALSE)","v":1139},{"$f":"HLOOKUP(DA$7+0.5,$J$66:$DK$120,ROWS($A$10:$A31)+2,FALSE)","v":190},{"$f":"HLOOKUP(DB$7+0.5,$J$66:$DK$120,ROWS($A$10:$A31)+2,FALSE)","v":986},{"$f":"HLOOKUP(DC$7+0.5,$J$66:$DK$120,ROWS($A$10:$A31)+2,FALSE)","v":1271},{"$f":"HLOOKUP(DD$7+0.5,$J$66:$DK$120,ROWS($A$10:$A31)+2,FALSE)","v":831},{"$f":"HLOOKUP(DE$7+0.5,$J$66:$DK$120,ROWS($A$10:$A31)+2,FALSE)","v":598},{"$f":"HLOOKUP(DF$7+0.5,$J$66:$DK$120,ROWS($A$10:$A31)+2,FALSE)","v":2668},{"$f":"HLOOKUP(DG$7+0.5,$J$66:$DK$120,ROWS($A$10:$A31)+2,FALSE)","v":884},{"$f":"HLOOKUP(DH$7+0.5,$J$66:$DK$120,ROWS($A$10:$A31)+2,FALSE)","v":799},{"$f":"HLOOKUP(DI$7+0.5,$J$66:$DK$120,ROWS($A$10:$A31)+2,FALSE)","v":371},{"$f":"HLOOKUP(DJ$7+0.5,$J$66:$DK$120,ROWS($A$10:$A31)+2,FALSE)","v":190},{"$f":"HLOOKUP(DK$7+0.5,$J$66:$DK$120,ROWS($A$10:$A31)+2,FALSE)","v":249}]
[null,"Massachusetts","Northeast",6580641,3587,5752166,19793,626380,17354,{"$f":"HLOOKUP(J$7,$J$66:$DK$120,ROWS($A$10:$A32)+2,FALSE)","v":142577},{"$f":"HLOOKUP(K$7,$J$66:$DK$120,ROWS($A$10:$A32)+2,FALSE)","v":636},{"$f":"HLOOKUP(L$7,$J$66:$DK$120,ROWS($A$10:$A32)+2,FALSE)","v":890},{"$f":"HLOOKUP(M$7,$J$66:$DK$120,ROWS($A$10:$A32)+2,FALSE)","v":1972},{"$f":"HLOOKUP(N$7,$J$66:$DK$120,ROWS($A$10:$A32)+2,FALSE)","v":394},{"$f":"HLOOKUP(O$7,$J$66:$DK$120,ROWS($A$10:$A32)+2,FALSE)","v":12770},{"$f":"HLOOKUP(P$7,$J$66:$DK$120,ROWS($A$10:$A32)+2,FALSE)","v":980},{"$f":"HLOOKUP(Q$7,$J$66:$DK$120,ROWS($A$10:$A32)+2,FALSE)","v":10525},{"$f":"HLOOKUP(R$7,$J$66:$DK$120,ROWS($A$10:$A32)+2,FALSE)","v":506},{"$f":"HLOOKUP(S$7,$J$66:$DK$120,ROWS($A$10:$A32)+2,FALSE)","v":379},{"$f":"HLOOKUP(T$7,$J$66:$DK$120,ROWS($A$10:$A32)+2,FALSE)","v":12890},{"$f":"HLOOKUP(U$7,$J$66:$DK$120,ROWS($A$10:$A32)+2,FALSE)","v":2789},{"$f":"HLOOKUP(V$7,$J$66:$DK$120,ROWS($A$10:$A32)+2,FALSE)","v":1108},{"$f":"HLOOKUP(W$7,$J$66:$DK$120,ROWS($A$10:$A32)+2,FALSE)","v":188},{"$f":"HLOOKUP(X$7,$J$66:$DK$120,ROWS($A$10:$A32)+2,FALSE)","v":2886},{"$f":"HLOOKUP(Y$7,$J$66:$DK$120,ROWS($A$10:$A32)+2,FALSE)","v":677},{"$f":"HLOOKUP(Z$7,$J$66:$DK$120,ROWS($A$10:$A32)+2,FALSE)","v":151},{"$f":"HLOOKUP(AA$7,$J$66:$DK$120,ROWS($A$10:$A32)+2,FALSE)","v":565},{"$f":"HLOOKUP(AB$7,$J$66:$DK$120,ROWS($A$10:$A32)+2,FALSE)","v":52},{"$f":"HLOOKUP(AC$7,$J$66:$DK$120,ROWS($A$10:$A32)+2,FALSE)","v":1556},{"$f":"HLOOKUP(AD$7,$J$66:$DK$120,ROWS($A$10:$A32)+2,FALSE)","v":3907},{"$f":"HLOOKUP(AE$7,$J$66:$DK$120,ROWS($A$10:$A32)+2,FALSE)","v":2381},{"$f":"HLOOKUP(AF$7,$J$66:$DK$120,ROWS($A$10:$A32)+2,FALSE)","v":"N/A"},{"$f":"HLOOKUP(AG$7,$J$66:$DK$120,ROWS($A$10:$A32)+2,FALSE)","v":1337},{"$f":"HLOOKUP(AH$7,$J$66:$DK$120,ROWS($A$10:$A32)+2,FALSE)","v":966},{"$f":"HLOOKUP(AI$7,$J$66:$DK$120,ROWS($A$10:$A32)+2,FALSE)","v":155},{"$f":"HLOOKUP(AJ$7,$J$66:$DK$120,ROWS($A$10:$A32)+2,FALSE)","v":453},{"$f":"HLOOKUP(AK$7,$J$66:$DK$120,ROWS($A$10:$A32)+2,FALSE)","v":49},{"$f":"HLOOKUP(AL$7,$J$66:$DK$120,ROWS($A$10:$A32)+2,FALSE)","v":182},{"$f":"HLOOKUP(AM$7,$J$66:$DK$120,ROWS($A$10:$A32)+2,FALSE)","v":787},{"$f":"HLOOKUP(AN$7,$J$66:$DK$120,ROWS($A$10:$A32)+2,FALSE)","v":13331},{"$f":"HLOOKUP(AO$7,$J$66:$DK$120,ROWS($A$10:$A32)+2,FALSE)","v":8046},{"$f":"HLOOKUP(AP$7,$J$66:$DK$120,ROWS($A$10:$A32)+2,FALSE)","v":521},{"$f":"HLOOKUP(AQ$7,$J$66:$DK$120,ROWS($A$10:$A32)+2,FALSE)","v":19467},{"$f":"HLOOKUP(AR$7,$J$66:$DK$120,ROWS($A$10:$A32)+2,FALSE)","v":2514},{"$f":"HLOOKUP(AS$7,$J$66:$DK$120,ROWS($A$10:$A32)+2,FALSE)","v":81},{"$f":"HLOOKUP(AT$7,$J$66:$DK$120,ROWS($A$10:$A32)+2,FALSE)","v":1829},{"$f":"HLOOKUP(AU$7,$J$66:$DK$120,ROWS($A$10:$A32)+2,FALSE)","v":297},{"$f":"HLOOKUP(AV$7,$J$66:$DK$120,ROWS($A$10:$A32)+2,FALSE)","v":1528},{"$f":"HLOOKUP(AW$7,$J$66:$DK$120,ROWS($A$10:$A32)+2,FALSE)","v":8236},{"$f":"HLOOKUP(AX$7,$J$66:$DK$120,ROWS($A$10:$A32)+2,FALSE)","v":6863},{"$f":"HLOOKUP(AY$7,$J$66:$DK$120,ROWS($A$10:$A32)+2,FALSE)","v":2477},{"$f":"HLOOKUP(AZ$7,$J$66:$DK$120,ROWS($A$10:$A32)+2,FALSE)","v":194},{"$f":"HLOOKUP(BA$7,$J$66:$DK$120,ROWS($A$10:$A32)+2,FALSE)","v":823},{"$f":"HLOOKUP(BB$7,$J$66:$DK$120,ROWS($A$10:$A32)+2,FALSE)","v":3694},{"$f":"HLOOKUP(BC$7,$J$66:$DK$120,ROWS($A$10:$A32)+2,FALSE)","v":1027},{"$f":"HLOOKUP(BD$7,$J$66:$DK$120,ROWS($A$10:$A32)+2,FALSE)","v":2534},{"$f":"HLOOKUP(BE$7,$J$66:$DK$120,ROWS($A$10:$A32)+2,FALSE)","v":4098},{"$f":"HLOOKUP(BF$7,$J$66:$DK$120,ROWS($A$10:$A32)+2,FALSE)","v":1653},{"$f":"HLOOKUP(BG$7,$J$66:$DK$120,ROWS($A$10:$A32)+2,FALSE)","v":385},{"$f":"HLOOKUP(BH$7,$J$66:$DK$120,ROWS($A$10:$A32)+2,FALSE)","v":584},{"$f":"HLOOKUP(BI$7,$J$66:$DK$120,ROWS($A$10:$A32)+2,FALSE)","v":264},{"$f":"HLOOKUP(BJ$7,$J$66:$DK$120,ROWS($A$10:$A32)+2,FALSE)","v":4056},{"$f":"HLOOKUP(BK$7+0.5,$J$66:$DK$120,ROWS($A$10:$A32)+2,FALSE)","v":7863},{"$f":"HLOOKUP(BL$7+0.5,$J$66:$DK$120,ROWS($A$10:$A32)+2,FALSE)","v":622},{"$f":"HLOOKUP(BM$7+0.5,$J$66:$DK$120,ROWS($A$10:$A32)+2,FALSE)","v":600},{"$f":"HLOOKUP(BN$7+0.5,$J$66:$DK$120,ROWS($A$10:$A32)+2,FALSE)","v":979},{"$f":"HLOOKUP(BO$7+0.5,$J$66:$DK$120,ROWS($A$10:$A32)+2,FALSE)","v":340},{"$f":"HLOOKUP(BP$7+0.5,$J$66:$DK$120,ROWS($A$10:$A32)+2,FALSE)","v":2994},{"$f":"HLOOKUP(BQ$7+0.5,$J$66:$DK$120,ROWS($A$10:$A32)+2,FALSE)","v":438},{"$f":"HLOOKUP(BR$7+0.5,$J$66:$DK$120,ROWS($A$10:$A32)+2,FALSE)","v":2062},{"$f":"HLOOKUP(BS$7+0.5,$J$66:$DK$120,ROWS($A$10:$A32)+2,FALSE)","v":505},{"$f":"HLOOKUP(BT$7+0.5,$J$66:$DK$120,ROWS($A$10:$A32)+2,FALSE)","v":219},{"$f":"HLOOKUP(BU$7+0.5,$J$66:$DK$120,ROWS($A$10:$A32)+2,FALSE)","v":2568},{"$f":"HLOOKUP(BV$7+0.5,$J$66:$DK$120,ROWS($A$10:$A32)+2,FALSE)","v":1129},{"$f":"HLOOKUP(BW$7+0.5,$J$66:$DK$120,ROWS($A$10:$A32)+2,FALSE)","v":564},{"$f":"HLOOKUP(BX$7+0.5,$J$66:$DK$120,ROWS($A$10:$A32)+2,FALSE)","v":164},{"$f":"HLOOKUP(BY$7+0.5,$J$66:$DK$120,ROWS($A$10:$A32)+2,FALSE)","v":1041},{"$f":"HLOOKUP(BZ$7+0.5,$J$66:$DK$120,ROWS($A$10:$A32)+2,FALSE)","v":497},{"$f":"HLOOKUP(CA$7+0.5,$J$66:$DK$120,ROWS($A$10:$A32)+2,FALSE)","v":251},{"$f":"HLOOKUP(CB$7+0.5,$J$66:$DK$120,ROWS($A$10:$A32)+2,FALSE)","v":429},{"$f":"HLOOKUP(CC$7+0.5,$J$66:$DK$120,ROWS($A$10:$A32)+2,FALSE)","v":87},{"$f":"HLOOKUP(CD$7+0.5,$J$66:$DK$120,ROWS($A$10:$A32)+2,FALSE)","v":742},{"$f":"HLOOKUP(CE$7+0.5,$J$66:$DK$120,ROWS($A$10:$A32)+2,FALSE)","v":1349},{"$f":"HLOOKUP(CF$7+0.5,$J$66:$DK$120,ROWS($A$10:$A32)+2,FALSE)","v":895},{"$f":"HLOOKUP(CG$7+0.5,$J$66:$DK$120,ROWS($A$10:$A32)+2,FALSE)","v":"N/A"},{"$f":"HLOOKUP(CH$7+0.5,$J$66:$DK$120,ROWS($A$10:$A32)+2,FALSE)","v":680},{"$f":"HLOOKUP(CI$7+0.5,$J$66:$DK$120,ROWS($A$10:$A32)+2,FALSE)","v":367},{"$f":"HLOOKUP(CJ$7+0.5,$J$66:$DK$120,ROWS($A$10:$A32)+2,FALSE)","v":186},{"$f":"HLOOKUP(CK$7+0.5,$J$66:$DK$120,ROWS($A$10:$A32)+2,FALSE)","v":218},{"$f":"HLOOKUP(CL$7+0.5,$J$66:$DK$120,ROWS($A$10:$A32)+2,FALSE)","v":81},{"$f":"HLOOKUP(CM$7+0.5,$J$66:$DK$120,ROWS($A$10:$A32)+2,FALSE)","v":189},{"$f":"HLOOKUP(CN$7+0.5,$J$66:$DK$120,ROWS($A$10:$A32)+2,FALSE)","v":544},{"$f":"HLOOKUP(CO$7+0.5,$J$66:$DK$120,ROWS($A$10:$A32)+2,FALSE)","v":2144},{"$f":"HLOOKUP(CP$7+0.5,$J$66:$DK$120,ROWS($A$10:$A32)+2,FALSE)","v":1874},{"$f":"HLOOKUP(CQ$7+0.5,$J$66:$DK$120,ROWS($A$10:$A32)+2,FALSE)","v":364},{"$f":"HLOOKUP(CR$7+0.5,$J$66:$DK$120,ROWS($A$10:$A32)+2,FALSE)","v":2432},{"$f":"HLOOKUP(CS$7+0.5,$J$66:$DK$120,ROWS($A$10:$A32)+2,FALSE)","v":1003},{"$f":"HLOOKUP(CT$7+0.5,$J$66:$DK$120,ROWS($A$10:$A32)+2,FALSE)","v":133},{"$f":"HLOOKUP(CU$7+0.5,$J$66:$DK$120,ROWS($A$10:$A32)+2,FALSE)","v":772},{"$f":"HLOOKUP(CV$7+0.5,$J$66:$DK$120,ROWS($A$10:$A32)+2,FALSE)","v":206},{"$f":"HLOOKUP(CW$7+0.5,$J$66:$DK$120,ROWS($A$10:$A32)+2,FALSE)","v":1359},{"$f":"HLOOKUP(CX$7+0.5,$J$66:$DK$120,ROWS($A$10:$A32)+2,FALSE)","v":1924},{"$f":"HLOOKUP(CY$7+0.5,$J$66:$DK$120,ROWS($A$10:$A32)+2,FALSE)","v":1317},{"$f":"HLOOKUP(CZ$7+0.5,$J$66:$DK$120,ROWS($A$10:$A32)+2,FALSE)","v":1120},{"$f":"HLOOKUP(DA$7+0.5,$J$66:$DK$120,ROWS($A$10:$A32)+2,FALSE)","v":326},{"$f":"HLOOKUP(DB$7+0.5,$J$66:$DK$120,ROWS($A$10:$A32)+2,FALSE)","v":342},{"$f":"HLOOKUP(DC$7+0.5,$J$66:$DK$120,ROWS($A$10:$A32)+2,FALSE)","v":1078},{"$f":"HLOOKUP(DD$7+0.5,$J$66:$DK$120,ROWS($A$10:$A32)+2,FALSE)","v":666},{"$f":"HLOOKUP(DE$7+0.5,$J$66:$DK$120,ROWS($A$10:$A32)+2,FALSE)","v":913},{"$f":"HLOOKUP(DF$7+0.5,$J$66:$DK$120,ROWS($A$10:$A32)+2,FALSE)","v":1470},{"$f":"HLOOKUP(DG$7+0.5,$J$66:$DK$120,ROWS($A$10:$A32)+2,FALSE)","v":696},{"$f":"HLOOKUP(DH$7+0.5,$J$66:$DK$120,ROWS($A$10:$A32)+2,FALSE)","v":569},{"$f":"HLOOKUP(DI$7+0.5,$J$66:$DK$120,ROWS($A$10:$A32)+2,FALSE)","v":445},{"$f":"HLOOKUP(DJ$7+0.5,$J$66:$DK$120,ROWS($A$10:$A32)+2,FALSE)","v":404},{"$f":"HLOOKUP(DK$7+0.5,$J$66:$DK$120,ROWS($A$10:$A32)+2,FALSE)","v":1883}]
[null,"Michigan","Midwest",9778980,4263,8330990,24803,1268105,23226,{"$f":"HLOOKUP(J$7,$J$66:$DK$120,ROWS($A$10:$A33)+2,FALSE)","v":133981},{"$f":"HLOOKUP(K$7,$J$66:$DK$120,ROWS($A$10:$A33)+2,FALSE)","v":2341},{"$f":"HLOOKUP(L$7,$J$66:$DK$120,ROWS($A$10:$A33)+2,FALSE)","v":1152},{"$f":"HLOOKUP(M$7,$J$66:$DK$120,ROWS($A$10:$A33)+2,FALSE)","v":7168},{"$f":"HLOOKUP(N$7,$J$66:$DK$120,ROWS($A$10:$A33)+2,FALSE)","v":906},{"$f":"HLOOKUP(O$7,$J$66:$DK$120,ROWS($A$10:$A33)+2,FALSE)","v":8085},{"$f":"HLOOKUP(P$7,$J$66:$DK$120,ROWS($A$10:$A33)+2,FALSE)","v":2363},{"$f":"HLOOKUP(Q$7,$J$66:$DK$120,ROWS($A$10:$A33)+2,FALSE)","v":798},{"$f":"HLOOKUP(R$7,$J$66:$DK$120,ROWS($A$10:$A33)+2,FALSE)","v":114},{"$f":"HLOOKUP(S$7,$J$66:$DK$120,ROWS($A$10:$A33)+2,FALSE)","v":274},{"$f":"HLOOKUP(T$7,$J$66:$DK$120,ROWS($A$10:$A33)+2,FALSE)","v":13146},{"$f":"HLOOKUP(U$7,$J$66:$DK$120,ROWS($A$10:$A33)+2,FALSE)","v":4270},{"$f":"HLOOKUP(V$7,$J$66:$DK$120,ROWS($A$10:$A33)+2,FALSE)","v":291},{"$f":"HLOOKUP(W$7,$J$66:$DK$120,ROWS($A$10:$A33)+2,FALSE)","v":242},{"$f":"HLOOKUP(X$7,$J$66:$DK$120,ROWS($A$10:$A33)+2,FALSE)","v":10047},{"$f":"HLOOKUP(Y$7,$J$66:$DK$120,ROWS($A$10:$A33)+2,FALSE)","v":10976},{"$f":"HLOOKUP(Z$7,$J$66:$DK$120,ROWS($A$10:$A33)+2,FALSE)","v":993},{"$f":"HLOOKUP(AA$7,$J$66:$DK$120,ROWS($A$10:$A33)+2,FALSE)","v":805},{"$f":"HLOOKUP(AB$7,$J$66:$DK$120,ROWS($A$10:$A33)+2,FALSE)","v":3409},{"$f":"HLOOKUP(AC$7,$J$66:$DK$120,ROWS($A$10:$A33)+2,FALSE)","v":1284},{"$f":"HLOOKUP(AD$7,$J$66:$DK$120,ROWS($A$10:$A33)+2,FALSE)","v":261},{"$f":"HLOOKUP(AE$7,$J$66:$DK$120,ROWS($A$10:$A33)+2,FALSE)","v":2201},{"$f":"HLOOKUP(AF$7,$J$66:$DK$120,ROWS($A$10:$A33)+2,FALSE)","v":1720},{"$f":"HLOOKUP(AG$7,$J$66:$DK$120,ROWS($A$10:$A33)+2,FALSE)","v":"N/A"},{"$f":"HLOOKUP(AH$7,$J$66:$DK$120,ROWS($A$10:$A33)+2,FALSE)","v":1127},{"$f":"HLOOKUP(AI$7,$J$66:$DK$120,ROWS($A$10:$A33)+2,FALSE)","v":922},{"$f":"HLOOKUP(AJ$7,$J$66:$DK$120,ROWS($A$10:$A33)+2,FALSE)","v":2206},{"$f":"HLOOKUP(AK$7,$J$66:$DK$120,ROWS($A$10:$A33)+2,FALSE)","v":218},{"$f":"HLOOKUP(AL$7,$J$66:$DK$120,ROWS($A$10:$A33)+2,FALSE)","v":113},{"$f":"HLOOKUP(AM$7,$J$66:$DK$120,ROWS($A$10:$A33)+2,FALSE)","v":1354},{"$f":"HLOOKUP(AN$7,$J$66:$DK$120,ROWS($A$10:$A33)+2,FALSE)","v":446},{"$f":"HLOOKUP(AO$7,$J$66:$DK$120,ROWS($A$10:$A33)+2,FALSE)","v":1617},{"$f":"HLOOKUP(AP$7,$J$66:$DK$120,ROWS($A$10:$A33)+2,FALSE)","v":1318},{"$f":"HLOOKUP(AQ$7,$J$66:$DK$120,ROWS($A$10:$A33)+2,FALSE)","v":5731},{"$f":"HLOOKUP(AR$7,$J$66:$DK$120,ROWS($A$10:$A33)+2,FALSE)","v":3912},{"$f":"HLOOKUP(AS$7,$J$66:$DK$120,ROWS($A$10:$A33)+2,FALSE)","v":265},{"$f":"HLOOKUP(AT$7,$J$66:$DK$120,ROWS($A$10:$A33)+2,FALSE)","v":11318},{"$f":"HLOOKUP(AU$7,$J$66:$DK$120,ROWS($A$10:$A33)+2,FALSE)","v":705},{"$f":"HLOOKUP(AV$7,$J$66:$DK$120,ROWS($A$10:$A33)+2,FALSE)","v":811},{"$f":"HLOOKUP(AW$7,$J$66:$DK$120,ROWS($A$10:$A33)+2,FALSE)","v":2739},{"$f":"HLOOKUP(AX$7,$J$66:$DK$120,ROWS($A$10:$A33)+2,FALSE)","v":68},{"$f":"HLOOKUP(AY$7,$J$66:$DK$120,ROWS($A$10:$A33)+2,FALSE)","v":1822},{"$f":"HLOOKUP(AZ$7,$J$66:$DK$120,ROWS($A$10:$A33)+2,FALSE)","v":66},{"$f":"HLOOKUP(BA$7,$J$66:$DK$120,ROWS($A$10:$A33)+2,FALSE)","v":3259},{"$f":"HLOOKUP(BB$7,$J$66:$DK$120,ROWS($A$10:$A33)+2,FALSE)","v":8638},{"$f":"HLOOKUP(BC$7,$J$66:$DK$120,ROWS($A$10:$A33)+2,FALSE)","v":819},{"$f":"HLOOKUP(BD$7,$J$66:$DK$120,ROWS($A$10:$A33)+2,FALSE)","v":60},{"$f":"HLOOKUP(BE$7,$J$66:$DK$120,ROWS($A$10:$A33)+2,FALSE)","v":3057},{"$f":"HLOOKUP(BF$7,$J$66:$DK$120,ROWS($A$10:$A33)+2,FALSE)","v":2146},{"$f":"HLOOKUP(BG$7,$J$66:$DK$120,ROWS($A$10:$A33)+2,FALSE)","v":353},{"$f":"HLOOKUP(BH$7,$J$66:$DK$120,ROWS($A$10:$A33)+2,FALSE)","v":4768},{"$f":"HLOOKUP(BI$7,$J$66:$DK$120,ROWS($A$10:$A33)+2,FALSE)","v":1277},{"$f":"HLOOKUP(BJ$7,$J$66:$DK$120,ROWS($A$10:$A33)+2,FALSE)","v":782},{"$f":"HLOOKUP(BK$7+0.5,$J$66:$DK$120,ROWS($A$10:$A33)+2,FALSE)","v":8566},{"$f":"HLOOKUP(BL$7+0.5,$J$66:$DK$120,ROWS($A$10:$A33)+2,FALSE)","v":1013},{"$f":"HLOOKUP(BM$7+0.5,$J$66:$DK$120,ROWS($A$10:$A33)+2,FALSE)","v":685},{"$f":"HLOOKUP(BN$7+0.5,$J$66:$DK$120,ROWS($A$10:$A33)+2,FALSE)","v":3100},{"$f":"HLOOKUP(BO$7+0.5,$J$66:$DK$120,ROWS($A$10:$A33)+2,FALSE)","v":559},{"$f":"HLOOKUP(BP$7+0.5,$J$66:$DK$120,ROWS($A$10:$A33)+2,FALSE)","v":1721},{"$f":"HLOOKUP(BQ$7+0.5,$J$66:$DK$120,ROWS($A$10:$A33)+2,FALSE)","v":967},{"$f":"HLOOKUP(BR$7+0.5,$J$66:$DK$120,ROWS($A$10:$A33)+2,FALSE)","v":506},{"$f":"HLOOKUP(BS$7+0.5,$J$66:$DK$120,ROWS($A$10:$A33)+2,FALSE)","v":164},{"$f":"HLOOKUP(BT$7+0.5,$J$66:$DK$120,ROWS($A$10:$A33)+2,FALSE)","v":282},{"$f":"HLOOKUP(BU$7+0.5,$J$66:$DK$120,ROWS($A$10:$A33)+2,FALSE)","v":3306},{"$f":"HLOOKUP(BV$7+0.5,$J$66:$DK$120,ROWS($A$10:$A33)+2,FALSE)","v":1652},{"$f":"HLOOKUP(BW$7+0.5,$J$66:$DK$120,ROWS($A$10:$A33)+2,FALSE)","v":238},{"$f":"HLOOKUP(BX$7+0.5,$J$66:$DK$120,ROWS($A$10:$A33)+2,FALSE)","v":371},{"$f":"HLOOKUP(BY$7+0.5,$J$66:$DK$120,ROWS($A$10:$A33)+2,FALSE)","v":1702},{"$f":"HLOOKUP(BZ$7+0.5,$J$66:$DK$120,ROWS($A$10:$A33)+2,FALSE)","v":2324},{"$f":"HLOOKUP(CA$7+0.5,$J$66:$DK$120,ROWS($A$10:$A33)+2,FALSE)","v":495},{"$f":"HLOOKUP(CB$7+0.5,$J$66:$DK$120,ROWS($A$10:$A33)+2,FALSE)","v":608},{"$f":"HLOOKUP(CC$7+0.5,$J$66:$DK$120,ROWS($A$10:$A33)+2,FALSE)","v":1388},{"$f":"HLOOKUP(CD$7+0.5,$J$66:$DK$120,ROWS($A$10:$A33)+2,FALSE)","v":662},{"$f":"HLOOKUP(CE$7+0.5,$J$66:$DK$120,ROWS($A$10:$A33)+2,FALSE)","v":218},{"$f":"HLOOKUP(CF$7+0.5,$J$66:$DK$120,ROWS($A$10:$A33)+2,FALSE)","v":1094},{"$f":"HLOOKUP(CG$7+0.5,$J$66:$DK$120,ROWS($A$10:$A33)+2,FALSE)","v":764},{"$f":"HLOOKUP(CH$7+0.5,$J$66:$DK$120,ROWS($A$10:$A33)+2,FALSE)","v":"N/A"},{"$f":"HLOOKUP(CI$7+0.5,$J$66:$DK$120,ROWS($A$10:$A33)+2,FALSE)","v":512},{"$f":"HLOOKUP(CJ$7+0.5,$J$66:$DK$120,ROWS($A$10:$A33)+2,FALSE)","v":671},{"$f":"HLOOKUP(CK$7+0.5,$J$66:$DK$120,ROWS($A$10:$A33)+2,FALSE)","v":695},{"$f":"HLOOKUP(CL$7+0.5,$J$66:$DK$120,ROWS($A$10:$A33)+2,FALSE)","v":171},{"$f":"HLOOKUP(CM$7+0.5,$J$66:$DK$120,ROWS($A$10:$A33)+2,FALSE)","v":137},{"$f":"HLOOKUP(CN$7+0.5,$J$66:$DK$120,ROWS($A$10:$A33)+2,FALSE)","v":715},{"$f":"HLOOKUP(CO$7+0.5,$J$66:$DK$120,ROWS($A$10:$A33)+2,FALSE)","v":342},{"$f":"HLOOKUP(CP$7+0.5,$J$66:$DK$120,ROWS($A$10:$A33)+2,FALSE)","v":721},{"$f":"HLOOKUP(CQ$7+0.5,$J$66:$DK$120,ROWS($A$10:$A33)+2,FALSE)","v":685},{"$f":"HLOOKUP(CR$7+0.5,$J$66:$DK$120,ROWS($A$10:$A33)+2,FALSE)","v":1680},{"$f":"HLOOKUP(CS$7+0.5,$J$66:$DK$120,ROWS($A$10:$A33)+2,FALSE)","v":1056},{"$f":"HLOOKUP(CT$7+0.5,$J$66:$DK$120,ROWS($A$10:$A33)+2,FALSE)","v":202},{"$f":"HLOOKUP(CU$7+0.5,$J$66:$DK$120,ROWS($A$10:$A33)+2,FALSE)","v":2251},{"$f":"HLOOKUP(CV$7+0.5,$J$66:$DK$120,ROWS($A$10:$A33)+2,FALSE)","v":307},{"$f":"HLOOKUP(CW$7+0.5,$J$66:$DK$120,ROWS($A$10:$A33)+2,FALSE)","v":440},{"$f":"HLOOKUP(CX$7+0.5,$J$66:$DK$120,ROWS($A$10:$A33)+2,FALSE)","v":686},{"$f":"HLOOKUP(CY$7+0.5,$J$66:$DK$120,ROWS($A$10:$A33)+2,FALSE)","v":114},{"$f":"HLOOKUP(CZ$7+0.5,$J$66:$DK$120,ROWS($A$10:$A33)+2,FALSE)","v":797},{"$f":"HLOOKUP(DA$7+0.5,$J$66:$DK$120,ROWS($A$10:$A33)+2,FALSE)","v":77},{"$f":"HLOOKUP(DB$7+0.5,$J$66:$DK$120,ROWS($A$10:$A33)+2,FALSE)","v":997},{"$f":"HLOOKUP(DC$7+0.5,$J$66:$DK$120,ROWS($A$10:$A33)+2,FALSE)","v":2574},{"$f":"HLOOKUP(DD$7+0.5,$J$66:$DK$120,ROWS($A$10:$A33)+2,FALSE)","v":534},{"$f":"HLOOKUP(DE$7+0.5,$J$66:$DK$120,ROWS($A$10:$A33)+2,FALSE)","v":120},{"$f":"HLOOKUP(DF$7+0.5,$J$66:$DK$120,ROWS($A$10:$A33)+2,FALSE)","v":855},{"$f":"HLOOKUP(DG$7+0.5,$J$66:$DK$120,ROWS($A$10:$A33)+2,FALSE)","v":839},{"$f":"HLOOKUP(DH$7+0.5,$J$66:$DK$120,ROWS($A$10:$A33)+2,FALSE)","v":279},{"$f":"HLOOKUP(DI$7+0.5,$J$66:$DK$120,ROWS($A$10:$A33)+2,FALSE)","v":1111},{"$f":"HLOOKUP(DJ$7+0.5,$J$66:$DK$120,ROWS($A$10:$A33)+2,FALSE)","v":862},{"$f":"HLOOKUP(DK$7+0.5,$J$66:$DK$120,ROWS($A$10:$A33)+2,FALSE)","v":797}]
[null,"Minnesota","Midwest",5315228,2787,4536303,18312,653012,17074,{"$f":"HLOOKUP(J$7,$J$66:$DK$120,ROWS($A$10:$A34)+2,FALSE)","v":101042},{"$f":"HLOOKUP(K$7,$J$66:$DK$120,ROWS($A$10:$A34)+2,FALSE)","v":1299},{"$f":"HLOOKUP(L$7,$J$66:$DK$120,ROWS($A$10:$A34)+2,FALSE)","v":523},{"$f":"HLOOKUP(M$7,$J$66:$DK$120,ROWS($A$10:$A34)+2,FALSE)","v":3065},{"$f":"HLOOKUP(N$7,$J$66:$DK$120,ROWS($A$10:$A34)+2,FALSE)","v":375},{"$f":"HLOOKUP(O$7,$J$66:$DK$120,ROWS($A$10:$A34)+2,FALSE)","v":8086},{"$f":"HLOOKUP(P$7,$J$66:$DK$120,ROWS($A$10:$A34)+2,FALSE)","v":3565},{"$f":"HLOOKUP(Q$7,$J$66:$DK$120,ROWS($A$10:$A34)+2,FALSE)","v":696},{"$f":"HLOOKUP(R$7,$J$66:$DK$120,ROWS($A$10:$A34)+2,FALSE)","v":0},{"$f":"HLOOKUP(S$7,$J$66:$DK$120,ROWS($A$10:$A34)+2,FALSE)","v":310},{"$f":"HLOOKUP(T$7,$J$66:$DK$120,ROWS($A$10:$A34)+2,FALSE)","v":2372},{"$f":"HLOOKUP(U$7,$J$66:$DK$120,ROWS($A$10:$A34)+2,FALSE)","v":2235},{"$f":"HLOOKUP(V$7,$J$66:$DK$120,ROWS($A$10:$A34)+2,FALSE)","v":1277},{"$f":"HLOOKUP(W$7,$J$66:$DK$120,ROWS($A$10:$A34)+2,FALSE)","v":575},{"$f":"HLOOKUP(X$7,$J$66:$DK$120,ROWS($A$10:$A34)+2,FALSE)","v":5896},{"$f":"HLOOKUP(Y$7,$J$66:$DK$120,ROWS($A$10:$A34)+2,FALSE)","v":2026},{"$f":"HLOOKUP(Z$7,$J$66:$DK$120,ROWS($A$10:$A34)+2,FALSE)","v":7220},{"$f":"HLOOKUP(AA$7,$J$66:$DK$120,ROWS($A$10:$A34)+2,FALSE)","v":924},{"$f":"HLOOKUP(AB$7,$J$66:$DK$120,ROWS($A$10:$A34)+2,FALSE)","v":57},{"$f":"HLOOKUP(AC$7,$J$66:$DK$120,ROWS($A$10:$A34)+2,FALSE)","v":791},{"$f":"HLOOKUP(AD$7,$J$66:$DK$120,ROWS($A$10:$A34)+2,FALSE)","v":187},{"$f":"HLOOKUP(AE$7,$J$66:$DK$120,ROWS($A$10:$A34)+2,FALSE)","v":1841},{"$f":"HLOOKUP(AF$7,$J$66:$DK$120,ROWS($A$10:$A34)+2,FALSE)","v":814},{"$f":"HLOOKUP(AG$7,$J$66:$DK$120,ROWS($A$10:$A34)+2,FALSE)","v":2212},{"$f":"HLOOKUP(AH$7,$J$66:$DK$120,ROWS($A$10:$A34)+2,FALSE)","v":"N/A"},{"$f":"HLOOKUP(AI$7,$J$66:$DK$120,ROWS($A$10:$A34)+2,FALSE)","v":202},{"$f":"HLOOKUP(AJ$7,$J$66:$DK$120,ROWS($A$10:$A34)+2,FALSE)","v":1709},{"$f":"HLOOKUP(AK$7,$J$66:$DK$120,ROWS($A$10:$A34)+2,FALSE)","v":1257},{"$f":"HLOOKUP(AL$7,$J$66:$DK$120,ROWS($A$10:$A34)+2,FALSE)","v":992},{"$f":"HLOOKUP(AM$7,$J$66:$DK$120,ROWS($A$10:$A34)+2,FALSE)","v":932},{"$f":"HLOOKUP(AN$7,$J$66:$DK$120,ROWS($A$10:$A34)+2,FALSE)","v":0},{"$f":"HLOOKUP(AO$7,$J$66:$DK$120,ROWS($A$10:$A34)+2,FALSE)","v":1038},{"$f":"HLOOKUP(AP$7,$J$66:$DK$120,ROWS($A$10:$A34)+2,FALSE)","v":322},{"$f":"HLOOKUP(AQ$7,$J$66:$DK$120,ROWS($A$10:$A34)+2,FALSE)","v":1849},{"$f":"HLOOKUP(AR$7,$J$66:$DK$120,ROWS($A$10:$A34)+2,FALSE)","v":1745},{"$f":"HLOOKUP(AS$7,$J$66:$DK$120,ROWS($A$10:$A34)+2,FALSE)","v":6672},{"$f":"HLOOKUP(AT$7,$J$66:$DK$120,ROWS($A$10:$A34)+2,FALSE)","v":2635},{"$f":"HLOOKUP(AU$7,$J$66:$DK$120,ROWS($A$10:$A34)+2,FALSE)","v":1212},{"$f":"HLOOKUP(AV$7,$J$66:$DK$120,ROWS($A$10:$A34)+2,FALSE)","v":781},{"$f":"HLOOKUP(AW$7,$J$66:$DK$120,ROWS($A$10:$A34)+2,FALSE)","v":1106},{"$f":"HLOOKUP(AX$7,$J$66:$DK$120,ROWS($A$10:$A34)+2,FALSE)","v":299},{"$f":"HLOOKUP(AY$7,$J$66:$DK$120,ROWS($A$10:$A34)+2,FALSE)","v":1705},{"$f":"HLOOKUP(AZ$7,$J$66:$DK$120,ROWS($A$10:$A34)+2,FALSE)","v":3442},{"$f":"HLOOKUP(BA$7,$J$66:$DK$120,ROWS($A$10:$A34)+2,FALSE)","v":1738},{"$f":"HLOOKUP(BB$7,$J$66:$DK$120,ROWS($A$10:$A34)+2,FALSE)","v":4001},{"$f":"HLOOKUP(BC$7,$J$66:$DK$120,ROWS($A$10:$A34)+2,FALSE)","v":429},{"$f":"HLOOKUP(BD$7,$J$66:$DK$120,ROWS($A$10:$A34)+2,FALSE)","v":77},{"$f":"HLOOKUP(BE$7,$J$66:$DK$120,ROWS($A$10:$A34)+2,FALSE)","v":1037},{"$f":"HLOOKUP(BF$7,$J$66:$DK$120,ROWS($A$10:$A34)+2,FALSE)","v":1685},{"$f":"HLOOKUP(BG$7,$J$66:$DK$120,ROWS($A$10:$A34)+2,FALSE)","v":0},{"$f":"HLOOKUP(BH$7,$J$66:$DK$120,ROWS($A$10:$A34)+2,FALSE)","v":17618},{"$f":"HLOOKUP(BI$7,$J$66:$DK$120,ROWS($A$10:$A34)+2,FALSE)","v":213},{"$f":"HLOOKUP(BJ$7,$J$66:$DK$120,ROWS($A$10:$A34)+2,FALSE)","v":134},{"$f":"HLOOKUP(BK$7+0.5,$J$66:$DK$120,ROWS($A$10:$A34)+2,FALSE)","v":6534},{"$f":"HLOOKUP(BL$7+0.5,$J$66:$DK$120,ROWS($A$10:$A34)+2,FALSE)","v":919},{"$f":"HLOOKUP(BM$7+0.5,$J$66:$DK$120,ROWS($A$10:$A34)+2,FALSE)","v":312},{"$f":"HLOOKUP(BN$7+0.5,$J$66:$DK$120,ROWS($A$10:$A34)+2,FALSE)","v":861},{"$f":"HLOOKUP(BO$7+0.5,$J$66:$DK$120,ROWS($A$10:$A34)+2,FALSE)","v":222},{"$f":"HLOOKUP(BP$7+0.5,$J$66:$DK$120,ROWS($A$10:$A34)+2,FALSE)","v":2263},{"$f":"HLOOKUP(BQ$7+0.5,$J$66:$DK$120,ROWS($A$10:$A34)+2,FALSE)","v":1095},{"$f":"HLOOKUP(BR$7+0.5,$J$66:$DK$120,ROWS($A$10:$A34)+2,FALSE)","v":360},{"$f":"HLOOKUP(BS$7+0.5,$J$66:$DK$120,ROWS($A$10:$A34)+2,FALSE)","v":139},{"$f":"HLOOKUP(BT$7+0.5,$J$66:$DK$120,ROWS($A$10:$A34)+2,FALSE)","v":353},{"$f":"HLOOKUP(BU$7+0.5,$J$66:$DK$120,ROWS($A$10:$A34)+2,FALSE)","v":752},{"$f":"HLOOKUP(BV$7+0.5,$J$66:$DK$120,ROWS($A$10:$A34)+2,FALSE)","v":1482},{"$f":"HLOOKUP(BW$7+0.5,$J$66:$DK$120,ROWS($A$10:$A34)+2,FALSE)","v":1179},{"$f":"HLOOKUP(BX$7+0.5,$J$66:$DK$120,ROWS($A$10:$A34)+2,FALSE)","v":531},{"$f":"HLOOKUP(BY$7+0.5,$J$66:$DK$120,ROWS($A$10:$A34)+2,FALSE)","v":1405},{"$f":"HLOOKUP(BZ$7+0.5,$J$66:$DK$120,ROWS($A$10:$A34)+2,FALSE)","v":1057},{"$f":"HLOOKUP(CA$7+0.5,$J$66:$DK$120,ROWS($A$10:$A34)+2,FALSE)","v":1774},{"$f":"HLOOKUP(CB$7+0.5,$J$66:$DK$120,ROWS($A$10:$A34)+2,FALSE)","v":513},{"$f":"HLOOKUP(CC$7+0.5,$J$66:$DK$120,ROWS($A$10:$A34)+2,FALSE)","v":103},{"$f":"HLOOKUP(CD$7+0.5,$J$66:$DK$120,ROWS($A$10:$A34)+2,FALSE)","v":858},{"$f":"HLOOKUP(CE$7+0.5,$J$66:$DK$120,ROWS($A$10:$A34)+2,FALSE)","v":136},{"$f":"HLOOKUP(CF$7+0.5,$J$66:$DK$120,ROWS($A$10:$A34)+2,FALSE)","v":2080},{"$f":"HLOOKUP(CG$7+0.5,$J$66:$DK$120,ROWS($A$10:$A34)+2,FALSE)","v":434},{"$f":"HLOOKUP(CH$7+0.5,$J$66:$DK$120,ROWS($A$10:$A34)+2,FALSE)","v":822},{"$f":"HLOOKUP(CI$7+0.5,$J$66:$DK$120,ROWS($A$10:$A34)+2,FALSE)","v":"N/A"},{"$f":"HLOOKUP(CJ$7+0.5,$J$66:$DK$120,ROWS($A$10:$A34)+2,FALSE)","v":323},{"$f":"HLOOKUP(CK$7+0.5,$J$66:$DK$120,ROWS($A$10:$A34)+2,FALSE)","v":750},{"$f":"HLOOKUP(CL$7+0.5,$J$66:$DK$120,ROWS($A$10:$A34)+2,FALSE)","v":900},{"$f":"HLOOKUP(CM$7+0.5,$J$66:$DK$120,ROWS($A$10:$A34)+2,FALSE)","v":477},{"$f":"HLOOKUP(CN$7+0.5,$J$66:$DK$120,ROWS($A$10:$A34)+2,FALSE)","v":542},{"$f":"HLOOKUP(CO$7+0.5,$J$66:$DK$120,ROWS($A$10:$A34)+2,FALSE)","v":139},{"$f":"HLOOKUP(CP$7+0.5,$J$66:$DK$120,ROWS($A$10:$A34)+2,FALSE)","v":546},{"$f":"HLOOKUP(CQ$7+0.5,$J$66:$DK$120,ROWS($A$10:$A34)+2,FALSE)","v":224},{"$f":"HLOOKUP(CR$7+0.5,$J$66:$DK$120,ROWS($A$10:$A34)+2,FALSE)","v":732},{"$f":"HLOOKUP(CS$7+0.5,$J$66:$DK$120,ROWS($A$10:$A34)+2,FALSE)","v":956},{"$f":"HLOOKUP(CT$7+0.5,$J$66:$DK$120,ROWS($A$10:$A34)+2,FALSE)","v":1485},{"$f":"HLOOKUP(CU$7+0.5,$J$66:$DK$120,ROWS($A$10:$A34)+2,FALSE)","v":1248},{"$f":"HLOOKUP(CV$7+0.5,$J$66:$DK$120,ROWS($A$10:$A34)+2,FALSE)","v":894},{"$f":"HLOOKUP(CW$7+0.5,$J$66:$DK$120,ROWS($A$10:$A34)+2,FALSE)","v":513},{"$f":"HLOOKUP(CX$7+0.5,$J$66:$DK$120,ROWS($A$10:$A34)+2,FALSE)","v":570},{"$f":"HLOOKUP(CY$7+0.5,$J$66:$DK$120,ROWS($A$10:$A34)+2,FALSE)","v":226},{"$f":"HLOOKUP(CZ$7+0.5,$J$66:$DK$120,ROWS($A$10:$A34)+2,FALSE)","v":1448},{"$f":"HLOOKUP(DA$7+0.5,$J$66:$DK$120,ROWS($A$10:$A34)+2,FALSE)","v":990},{"$f":"HLOOKUP(DB$7+0.5,$J$66:$DK$120,ROWS($A$10:$A34)+2,FALSE)","v":1141},{"$f":"HLOOKUP(DC$7+0.5,$J$66:$DK$120,ROWS($A$10:$A34)+2,FALSE)","v":1244},{"$f":"HLOOKUP(DD$7+0.5,$J$66:$DK$120,ROWS($A$10:$A34)+2,FALSE)","v":312},{"$f":"HLOOKUP(DE$7+0.5,$J$66:$DK$120,ROWS($A$10:$A34)+2,FALSE)","v":126},{"$f":"HLOOKUP(DF$7+0.5,$J$66:$DK$120,ROWS($A$10:$A34)+2,FALSE)","v":434},{"$f":"HLOOKUP(DG$7+0.5,$J$66:$DK$120,ROWS($A$10:$A34)+2,FALSE)","v":678},{"$f":"HLOOKUP(DH$7+0.5,$J$66:$DK$120,ROWS($A$10:$A34)+2,FALSE)","v":139},{"$f":"HLOOKUP(DI$7+0.5,$J$66:$DK$120,ROWS($A$10:$A34)+2,FALSE)","v":2358},{"$f":"HLOOKUP(DJ$7+0.5,$J$66:$DK$120,ROWS($A$10:$A34)+2,FALSE)","v":213},{"$f":"HLOOKUP(DK$7+0.5,$J$66:$DK$120,ROWS($A$10:$A34)+2,FALSE)","v":136}]
[null,"Mississippi","South",2947696,2744,2529377,17940,339807,16126,{"$f":"HLOOKUP(J$7,$J$66:$DK$120,ROWS($A$10:$A35)+2,FALSE)","v":73500},{"$f":"HLOOKUP(K$7,$J$66:$DK$120,ROWS($A$10:$A35)+2,FALSE)","v":5141},{"$f":"HLOOKUP(L$7,$J$66:$DK$120,ROWS($A$10:$A35)+2,FALSE)","v":0},{"$f":"HLOOKUP(M$7,$J$66:$DK$120,ROWS($A$10:$A35)+2,FALSE)","v":710},{"$f":"HLOOKUP(N$7,$J$66:$DK$120,ROWS($A$10:$A35)+2,FALSE)","v":2680},{"$f":"HLOOKUP(O$7,$J$66:$DK$120,ROWS($A$10:$A35)+2,FALSE)","v":4371},{"$f":"HLOOKUP(P$7,$J$66:$DK$120,ROWS($A$10:$A35)+2,FALSE)","v":799},{"$f":"HLOOKUP(Q$7,$J$66:$DK$120,ROWS($A$10:$A35)+2,FALSE)","v":106},{"$f":"HLOOKUP(R$7,$J$66:$DK$120,ROWS($A$10:$A35)+2,FALSE)","v":0},{"$f":"HLOOKUP(S$7,$J$66:$DK$120,ROWS($A$10:$A35)+2,FALSE)","v":97},{"$f":"HLOOKUP(T$7,$J$66:$DK$120,ROWS($A$10:$A35)+2,FALSE)","v":4676},{"$f":"HLOOKUP(U$7,$J$66:$DK$120,ROWS($A$10:$A35)+2,FALSE)","v":2669},{"$f":"HLOOKUP(V$7,$J$66:$DK$120,ROWS($A$10:$A35)+2,FALSE)","v":184},{"$f":"HLOOKUP(W$7,$J$66:$DK$120,ROWS($A$10:$A35)+2,FALSE)","v":586},{"$f":"HLOOKUP(X$7,$J$66:$DK$120,ROWS($A$10:$A35)+2,FALSE)","v":2703},{"$f":"HLOOKUP(Y$7,$J$66:$DK$120,ROWS($A$10:$A35)+2,FALSE)","v":1200},{"$f":"HLOOKUP(Z$7,$J$66:$DK$120,ROWS($A$10:$A35)+2,FALSE)","v":160},{"$f":"HLOOKUP(AA$7,$J$66:$DK$120,ROWS($A$10:$A35)+2,FALSE)","v":400},{"$f":"HLOOKUP(AB$7,$J$66:$DK$120,ROWS($A$10:$A35)+2,FALSE)","v":446},{"$f":"HLOOKUP(AC$7,$J$66:$DK$120,ROWS($A$10:$A35)+2,FALSE)","v":8588},{"$f":"HLOOKUP(AD$7,$J$66:$DK$120,ROWS($A$10:$A35)+2,FALSE)","v":163},{"$f":"HLOOKUP(AE$7,$J$66:$DK$120,ROWS($A$10:$A35)+2,FALSE)","v":379},{"$f":"HLOOKUP(AF$7,$J$66:$DK$120,ROWS($A$10:$A35)+2,FALSE)","v":67},{"$f":"HLOOKUP(AG$7,$J$66:$DK$120,ROWS($A$10:$A35)+2,FALSE)","v":1768},{"$f":"HLOOKUP(AH$7,$J$66:$DK$120,ROWS($A$10:$A35)+2,FALSE)","v":568},{"$f":"HLOOKUP(AI$7,$J$66:$DK$120,ROWS($A$10:$A35)+2,FALSE)","v":"N/A"},{"$f":"HLOOKUP(AJ$7,$J$66:$DK$120,ROWS($A$10:$A35)+2,FALSE)","v":2634},{"$f":"HLOOKUP(AK$7,$J$66:$DK$120,ROWS($A$10:$A35)+2,FALSE)","v":166},{"$f":"HLOOKUP(AL$7,$J$66:$DK$120,ROWS($A$10:$A35)+2,FALSE)","v":138},{"$f":"HLOOKUP(AM$7,$J$66:$DK$120,ROWS($A$10:$A35)+2,FALSE)","v":526},{"$f":"HLOOKUP(AN$7,$J$66:$DK$120,ROWS($A$10:$A35)+2,FALSE)","v":60},{"$f":"HLOOKUP(AO$7,$J$66:$DK$120,ROWS($A$10:$A35)+2,FALSE)","v":2127},{"$f":"HLOOKUP(AP$7,$J$66:$DK$120,ROWS($A$10:$A35)+2,FALSE)","v":86},{"$f":"HLOOKUP(AQ$7,$J$66:$DK$120,ROWS($A$10:$A35)+2,FALSE)","v":1492},{"$f":"HLOOKUP(AR$7,$J$66:$DK$120,ROWS($A$10:$A35)+2,FALSE)","v":1709},{"$f":"HLOOKUP(AS$7,$J$66:$DK$120,ROWS($A$10:$A35)+2,FALSE)","v":98},{"$f":"HLOOKUP(AT$7,$J$66:$DK$120,ROWS($A$10:$A35)+2,FALSE)","v":896},{"$f":"HLOOKUP(AU$7,$J$66:$DK$120,ROWS($A$10:$A35)+2,FALSE)","v":562},{"$f":"HLOOKUP(AV$7,$J$66:$DK$120,ROWS($A$10:$A35)+2,FALSE)","v":465},{"$f":"HLOOKUP(AW$7,$J$66:$DK$120,ROWS($A$10:$A35)+2,FALSE)","v":613},{"$f":"HLOOKUP(AX$7,$J$66:$DK$120,ROWS($A$10:$A35)+2,FALSE)","v":185},{"$f":"HLOOKUP(AY$7,$J$66:$DK$120,ROWS($A$10:$A35)+2,FALSE)","v":596},{"$f":"HLOOKUP(AZ$7,$J$66:$DK$120,ROWS($A$10:$A35)+2,FALSE)","v":79},{"$f":"HLOOKUP(BA$7,$J$66:$DK$120,ROWS($A$10:$A35)+2,FALSE)","v":11643},{"$f":"HLOOKUP(BB$7,$J$66:$DK$120,ROWS($A$10:$A35)+2,FALSE)","v":7230},{"$f":"HLOOKUP(BC$7,$J$66:$DK$120,ROWS($A$10:$A35)+2,FALSE)","v":454},{"$f":"HLOOKUP(BD$7,$J$66:$DK$120,ROWS($A$10:$A35)+2,FALSE)","v":0},{"$f":"HLOOKUP(BE$7,$J$66:$DK$120,ROWS($A$10:$A35)+2,FALSE)","v":1929},{"$f":"HLOOKUP(BF$7,$J$66:$DK$120,ROWS($A$10:$A35)+2,FALSE)","v":433},{"$f":"HLOOKUP(BG$7,$J$66:$DK$120,ROWS($A$10:$A35)+2,FALSE)","v":0},{"$f":"HLOOKUP(BH$7,$J$66:$DK$120,ROWS($A$10:$A35)+2,FALSE)","v":611},{"$f":"HLOOKUP(BI$7,$J$66:$DK$120,ROWS($A$10:$A35)+2,FALSE)","v":307},{"$f":"HLOOKUP(BJ$7,$J$66:$DK$120,ROWS($A$10:$A35)+2,FALSE)","v":81},{"$f":"HLOOKUP(BK$7+0.5,$J$66:$DK$120,ROWS($A$10:$A35)+2,FALSE)","v":7080},{"$f":"HLOOKUP(BL$7+0.5,$J$66:$DK$120,ROWS($A$10:$A35)+2,FALSE)","v":1870},{"$f":"HLOOKUP(BM$7+0.5,$J$66:$DK$120,ROWS($A$10:$A35)+2,FALSE)","v":198},{"$f":"HLOOKUP(BN$7+0.5,$J$66:$DK$120,ROWS($A$10:$A35)+2,FALSE)","v":509},{"$f":"HLOOKUP(BO$7+0.5,$J$66:$DK$120,ROWS($A$10:$A35)+2,FALSE)","v":1447},{"$f":"HLOOKUP(BP$7+0.5,$J$66:$DK$120,ROWS($A$10:$A35)+2,FALSE)","v":1070},{"$f":"HLOOKUP(BQ$7+0.5,$J$66:$DK$120,ROWS($A$10:$A35)+2,FALSE)","v":426},{"$f":"HLOOKUP(BR$7+0.5,$J$66:$DK$120,ROWS($A$10:$A35)+2,FALSE)","v":147},{"$f":"HLOOKUP(BS$7+0.5,$J$66:$DK$120,ROWS($A$10:$A35)+2,FALSE)","v":198},{"$f":"HLOOKUP(BT$7+0.5,$J$66:$DK$120,ROWS($A$10:$A35)+2,FALSE)","v":164},{"$f":"HLOOKUP(BU$7+0.5,$J$66:$DK$120,ROWS($A$10:$A35)+2,FALSE)","v":1396},{"$f":"HLOOKUP(BV$7+0.5,$J$66:$DK$120,ROWS($A$10:$A35)+2,FALSE)","v":865},{"$f":"HLOOKUP(BW$7+0.5,$J$66:$DK$120,ROWS($A$10:$A35)+2,FALSE)","v":191},{"$f":"HLOOKUP(BX$7+0.5,$J$66:$DK$120,ROWS($A$10:$A35)+2,FALSE)","v":597},{"$f":"HLOOKUP(BY$7+0.5,$J$66:$DK$120,ROWS($A$10:$A35)+2,FALSE)","v":933},{"$f":"HLOOKUP(BZ$7+0.5,$J$66:$DK$120,ROWS($A$10:$A35)+2,FALSE)","v":621},{"$f":"HLOOKUP(CA$7+0.5,$J$66:$DK$120,ROWS($A$10:$A35)+2,FALSE)","v":275},{"$f":"HLOOKUP(CB$7+0.5,$J$66:$DK$120,ROWS($A$10:$A35)+2,FALSE)","v":339},{"$f":"HLOOKUP(CC$7+0.5,$J$66:$DK$120,ROWS($A$10:$A35)+2,FALSE)","v":276},{"$f":"HLOOKUP(CD$7+0.5,$J$66:$DK$120,ROWS($A$10:$A35)+2,FALSE)","v":2293},{"$f":"HLOOKUP(CE$7+0.5,$J$66:$DK$120,ROWS($A$10:$A35)+2,FALSE)","v":167},{"$f":"HLOOKUP(CF$7+0.5,$J$66:$DK$120,ROWS($A$10:$A35)+2,FALSE)","v":262},{"$f":"HLOOKUP(CG$7+0.5,$J$66:$DK$120,ROWS($A$10:$A35)+2,FALSE)","v":113},{"$f":"HLOOKUP(CH$7+0.5,$J$66:$DK$120,ROWS($A$10:$A35)+2,FALSE)","v":1071},{"$f":"HLOOKUP(CI$7+0.5,$J$66:$DK$120,ROWS($A$10:$A35)+2,FALSE)","v":385},{"$f":"HLOOKUP(CJ$7+0.5,$J$66:$DK$120,ROWS($A$10:$A35)+2,FALSE)","v":"N/A"},{"$f":"HLOOKUP(CK$7+0.5,$J$66:$DK$120,ROWS($A$10:$A35)+2,FALSE)","v":1581},{"$f":"HLOOKUP(CL$7+0.5,$J$66:$DK$120,ROWS($A$10:$A35)+2,FALSE)","v":168},{"$f":"HLOOKUP(CM$7+0.5,$J$66:$DK$120,ROWS($A$10:$A35)+2,FALSE)","v":159},{"$f":"HLOOKUP(CN$7+0.5,$J$66:$DK$120,ROWS($A$10:$A35)+2,FALSE)","v":342},{"$f":"HLOOKUP(CO$7+0.5,$J$66:$DK$120,ROWS($A$10:$A35)+2,FALSE)","v":117},{"$f":"HLOOKUP(CP$7+0.5,$J$66:$DK$120,ROWS($A$10:$A35)+2,FALSE)","v":1495},{"$f":"HLOOKUP(CQ$7+0.5,$J$66:$DK$120,ROWS($A$10:$A35)+2,FALSE)","v":102},{"$f":"HLOOKUP(CR$7+0.5,$J$66:$DK$120,ROWS($A$10:$A35)+2,FALSE)","v":660},{"$f":"HLOOKUP(CS$7+0.5,$J$66:$DK$120,ROWS($A$10:$A35)+2,FALSE)","v":609},{"$f":"HLOOKUP(CT$7+0.5,$J$66:$DK$120,ROWS($A$10:$A35)+2,FALSE)","v":118},{"$f":"HLOOKUP(CU$7+0.5,$J$66:$DK$120,ROWS($A$10:$A35)+2,FALSE)","v":703},{"$f":"HLOOKUP(CV$7+0.5,$J$66:$DK$120,ROWS($A$10:$A35)+2,FALSE)","v":352},{"$f":"HLOOKUP(CW$7+0.5,$J$66:$DK$120,ROWS($A$10:$A35)+2,FALSE)","v":768},{"$f":"HLOOKUP(CX$7+0.5,$J$66:$DK$120,ROWS($A$10:$A35)+2,FALSE)","v":434},{"$f":"HLOOKUP(CY$7+0.5,$J$66:$DK$120,ROWS($A$10:$A35)+2,FALSE)","v":229},{"$f":"HLOOKUP(CZ$7+0.5,$J$66:$DK$120,ROWS($A$10:$A35)+2,FALSE)","v":469},{"$f":"HLOOKUP(DA$7+0.5,$J$66:$DK$120,ROWS($A$10:$A35)+2,FALSE)","v":129},{"$f":"HLOOKUP(DB$7+0.5,$J$66:$DK$120,ROWS($A$10:$A35)+2,FALSE)","v":2856},{"$f":"HLOOKUP(DC$7+0.5,$J$66:$DK$120,ROWS($A$10:$A35)+2,FALSE)","v":2491},{"$f":"HLOOKUP(DD$7+0.5,$J$66:$DK$120,ROWS($A$10:$A35)+2,FALSE)","v":724},{"$f":"HLOOKUP(DE$7+0.5,$J$66:$DK$120,ROWS($A$10:$A35)+2,FALSE)","v":198},{"$f":"HLOOKUP(DF$7+0.5,$J$66:$DK$120,ROWS($A$10:$A35)+2,FALSE)","v":1285},{"$f":"HLOOKUP(DG$7+0.5,$J$66:$DK$120,ROWS($A$10:$A35)+2,FALSE)","v":309},{"$f":"HLOOKUP(DH$7+0.5,$J$66:$DK$120,ROWS($A$10:$A35)+2,FALSE)","v":198},{"$f":"HLOOKUP(DI$7+0.5,$J$66:$DK$120,ROWS($A$10:$A35)+2,FALSE)","v":521},{"$f":"HLOOKUP(DJ$7+0.5,$J$66:$DK$120,ROWS($A$10:$A35)+2,FALSE)","v":287},{"$f":"HLOOKUP(DK$7+0.5,$J$66:$DK$120,ROWS($A$10:$A35)+2,FALSE)","v":108}]
[null,"Missouri","Midwest",5951913,3866,4965459,21306,801093,19635,{"$f":"HLOOKUP(J$7,$J$66:$DK$120,ROWS($A$10:$A36)+2,FALSE)","v":162930},{"$f":"HLOOKUP(K$7,$J$66:$DK$120,ROWS($A$10:$A36)+2,FALSE)","v":1333},{"$f":"HLOOKUP(L$7,$J$66:$DK$120,ROWS($A$10:$A36)+2,FALSE)","v":2186},{"$f":"HLOOKUP(M$7,$J$66:$DK$120,ROWS($A$10:$A36)+2,FALSE)","v":2297},{"$f":"HLOOKUP(N$7,$J$66:$DK$120,ROWS($A$10:$A36)+2,FALSE)","v":9434},{"$f":"HLOOKUP(O$7,$J$66:$DK$120,ROWS($A$10:$A36)+2,FALSE)","v":10717},{"$f":"HLOOKUP(P$7,$J$66:$DK$120,ROWS($A$10:$A36)+2,FALSE)","v":3798},{"$f":"HLOOKUP(Q$7,$J$66:$DK$120,ROWS($A$10:$A36)+2,FALSE)","v":410},{"$f":"HLOOKUP(R$7,$J$66:$DK$120,ROWS($A$10:$A36)+2,FALSE)","v":234},{"$f":"HLOOKUP(S$7,$J$66:$DK$120,ROWS($A$10:$A36)+2,FALSE)","v":144},{"$f":"HLOOKUP(T$7,$J$66:$DK$120,ROWS($A$10:$A36)+2,FALSE)","v":8374},{"$f":"HLOOKUP(U$7,$J$66:$DK$120,ROWS($A$10:$A36)+2,FALSE)","v":3451},{"$f":"HLOOKUP(V$7,$J$66:$DK$120,ROWS($A$10:$A36)+2,FALSE)","v":2114},{"$f":"HLOOKUP(W$7,$J$66:$DK$120,ROWS($A$10:$A36)+2,FALSE)","v":596},{"$f":"HLOOKUP(X$7,$J$66:$DK$120,ROWS($A$10:$A36)+2,FALSE)","v":22001},{"$f":"HLOOKUP(Y$7,$J$66:$DK$120,ROWS($A$10:$A36)+2,FALSE)","v":4184},{"$f":"HLOOKUP(Z$7,$J$66:$DK$120,ROWS($A$10:$A36)+2,FALSE)","v":5956},{"$f":"HLOOKUP(AA$7,$J$66:$DK$120,ROWS($A$10:$A36)+2,FALSE)","v":20218},{"$f":"HLOOKUP(AB$7,$J$66:$DK$120,ROWS($A$10:$A36)+2,FALSE)","v":2291},{"$f":"HLOOKUP(AC$7,$J$66:$DK$120,ROWS($A$10:$A36)+2,FALSE)","v":1178},{"$f":"HLOOKUP(AD$7,$J$66:$DK$120,ROWS($A$10:$A36)+2,FALSE)","v":996},{"$f":"HLOOKUP(AE$7,$J$66:$DK$120,ROWS($A$10:$A36)+2,FALSE)","v":1246},{"$f":"HLOOKUP(AF$7,$J$66:$DK$120,ROWS($A$10:$A36)+2,FALSE)","v":810},{"$f":"HLOOKUP(AG$7,$J$66:$DK$120,ROWS($A$10:$A36)+2,FALSE)","v":2964},{"$f":"HLOOKUP(AH$7,$J$66:$DK$120,ROWS($A$10:$A36)+2,FALSE)","v":2798},{"$f":"HLOOKUP(AI$7,$J$66:$DK$120,ROWS($A$10:$A36)+2,FALSE)","v":1110},{"$f":"HLOOKUP(AJ$7,$J$66:$DK$120,ROWS($A$10:$A36)+2,FALSE)","v":"N/A"},{"$f":"HLOOKUP(AK$7,$J$66:$DK$120,ROWS($A$10:$A36)+2,FALSE)","v":511},{"$f":"HLOOKUP(AL$7,$J$66:$DK$120,ROWS($A$10:$A36)+2,FALSE)","v":1999},{"$f":"HLOOKUP(AM$7,$J$66:$DK$120,ROWS($A$10:$A36)+2,FALSE)","v":836},{"$f":"HLOOKUP(AN$7,$J$66:$DK$120,ROWS($A$10:$A36)+2,FALSE)","v":35},{"$f":"HLOOKUP(AO$7,$J$66:$DK$120,ROWS($A$10:$A36)+2,FALSE)","v":960},{"$f":"HLOOKUP(AP$7,$J$66:$DK$120,ROWS($A$10:$A36)+2,FALSE)","v":451},{"$f":"HLOOKUP(AQ$7,$J$66:$DK$120,ROWS($A$10:$A36)+2,FALSE)","v":2834},{"$f":"HLOOKUP(AR$7,$J$66:$DK$120,ROWS($A$10:$A36)+2,FALSE)","v":3988},{"$f":"HLOOKUP(AS$7,$J$66:$DK$120,ROWS($A$10:$A36)+2,FALSE)","v":636},{"$f":"HLOOKUP(AT$7,$J$66:$DK$120,ROWS($A$10:$A36)+2,FALSE)","v":3557},{"$f":"HLOOKUP(AU$7,$J$66:$DK$120,ROWS($A$10:$A36)+2,FALSE)","v":5298},{"$f":"HLOOKUP(AV$7,$J$66:$DK$120,ROWS($A$10:$A36)+2,FALSE)","v":1186},{"$f":"HLOOKUP(AW$7,$J$66:$DK$120,ROWS($A$10:$A36)+2,FALSE)","v":1535},{"$f":"HLOOKUP(AX$7,$J$66:$DK$120,ROWS($A$10:$A36)+2,FALSE)","v":361},{"$f":"HLOOKUP(AY$7,$J$66:$DK$120,ROWS($A$10:$A36)+2,FALSE)","v":2856},{"$f":"HLOOKUP(AZ$7,$J$66:$DK$120,ROWS($A$10:$A36)+2,FALSE)","v":527},{"$f":"HLOOKUP(BA$7,$J$66:$DK$120,ROWS($A$10:$A36)+2,FALSE)","v":3122},{"$f":"HLOOKUP(BB$7,$J$66:$DK$120,ROWS($A$10:$A36)+2,FALSE)","v":9278},{"$f":"HLOOKUP(BC$7,$J$66:$DK$120,ROWS($A$10:$A36)+2,FALSE)","v":3287},{"$f":"HLOOKUP(BD$7,$J$66:$DK$120,ROWS($A$10:$A36)+2,FALSE)","v":318},{"$f":"HLOOKUP(BE$7,$J$66:$DK$120,ROWS($A$10:$A36)+2,FALSE)","v":2609},{"$f":"HLOOKUP(BF$7,$J$66:$DK$120,ROWS($A$10:$A36)+2,FALSE)","v":2312},{"$f":"HLOOKUP(BG$7,$J$66:$DK$120,ROWS($A$10:$A36)+2,FALSE)","v":148},{"$f":"HLOOKUP(BH$7,$J$66:$DK$120,ROWS($A$10:$A36)+2,FALSE)","v":2636},{"$f":"HLOOKUP(BI$7,$J$66:$DK$120,ROWS($A$10:$A36)+2,FALSE)","v":810},{"$f":"HLOOKUP(BJ$7,$J$66:$DK$120,ROWS($A$10:$A36)+2,FALSE)","v":826},{"$f":"HLOOKUP(BK$7+0.5,$J$66:$DK$120,ROWS($A$10:$A36)+2,FALSE)","v":8034},{"$f":"HLOOKUP(BL$7+0.5,$J$66:$DK$120,ROWS($A$10:$A36)+2,FALSE)","v":768},{"$f":"HLOOKUP(BM$7+0.5,$J$66:$DK$120,ROWS($A$10:$A36)+2,FALSE)","v":1289},{"$f":"HLOOKUP(BN$7+0.5,$J$66:$DK$120,ROWS($A$10:$A36)+2,FALSE)","v":741},{"$f":"HLOOKUP(BO$7+0.5,$J$66:$DK$120,ROWS($A$10:$A36)+2,FALSE)","v":2224},{"$f":"HLOOKUP(BP$7+0.5,$J$66:$DK$120,ROWS($A$10:$A36)+2,FALSE)","v":2409},{"$f":"HLOOKUP(BQ$7+0.5,$J$66:$DK$120,ROWS($A$10:$A36)+2,FALSE)","v":1371},{"$f":"HLOOKUP(BR$7+0.5,$J$66:$DK$120,ROWS($A$10:$A36)+2,FALSE)","v":331},{"$f":"HLOOKUP(BS$7+0.5,$J$66:$DK$120,ROWS($A$10:$A36)+2,FALSE)","v":314},{"$f":"HLOOKUP(BT$7+0.5,$J$66:$DK$120,ROWS($A$10:$A36)+2,FALSE)","v":172},{"$f":"HLOOKUP(BU$7+0.5,$J$66:$DK$120,ROWS($A$10:$A36)+2,FALSE)","v":1990},{"$f":"HLOOKUP(BV$7+0.5,$J$66:$DK$120,ROWS($A$10:$A36)+2,FALSE)","v":1391},{"$f":"HLOOKUP(BW$7+0.5,$J$66:$DK$120,ROWS($A$10:$A36)+2,FALSE)","v":1271},{"$f":"HLOOKUP(BX$7+0.5,$J$66:$DK$120,ROWS($A$10:$A36)+2,FALSE)","v":478},{"$f":"HLOOKUP(BY$7+0.5,$J$66:$DK$120,ROWS($A$10:$A36)+2,FALSE)","v":2893},{"$f":"HLOOKUP(BZ$7+0.5,$J$66:$DK$120,ROWS($A$10:$A36)+2,FALSE)","v":1267},{"$f":"HLOOKUP(CA$7+0.5,$J$66:$DK$120,ROWS($A$10:$A36)+2,FALSE)","v":1324},{"$f":"HLOOKUP(CB$7+0.5,$J$66:$DK$120,ROWS($A$10:$A36)+2,FALSE)","v":3673},{"$f":"HLOOKUP(CC$7+0.5,$J$66:$DK$120,ROWS($A$10:$A36)+2,FALSE)","v":1067},{"$f":"HLOOKUP(CD$7+0.5,$J$66:$DK$120,ROWS($A$10:$A36)+2,FALSE)","v":651},{"$f":"HLOOKUP(CE$7+0.5,$J$66:$DK$120,ROWS($A$10:$A36)+2,FALSE)","v":1247},{"$f":"HLOOKUP(CF$7+0.5,$J$66:$DK$120,ROWS($A$10:$A36)+2,FALSE)","v":717},{"$f":"HLOOKUP(CG$7+0.5,$J$66:$DK$120,ROWS($A$10:$A36)+2,FALSE)","v":486},{"$f":"HLOOKUP(CH$7+0.5,$J$66:$DK$120,ROWS($A$10:$A36)+2,FALSE)","v":1169},{"$f":"HLOOKUP(CI$7+0.5,$J$66:$DK$120,ROWS($A$10:$A36)+2,FALSE)","v":1265},{"$f":"HLOOKUP(CJ$7+0.5,$J$66:$DK$120,ROWS($A$10:$A36)+2,FALSE)","v":532},{"$f":"HLOOKUP(CK$7+0.5,$J$66:$DK$120,ROWS($A$10:$A36)+2,FALSE)","v":"N/A"},{"$f":"HLOOKUP(CL$7+0.5,$J$66:$DK$120,ROWS($A$10:$A36)+2,FALSE)","v":506},{"$f":"HLOOKUP(CM$7+0.5,$J$66:$DK$120,ROWS($A$10:$A36)+2,FALSE)","v":833},{"$f":"HLOOKUP(CN$7+0.5,$J$66:$DK$120,ROWS($A$10:$A36)+2,FALSE)","v":366},{"$f":"HLOOKUP(CO$7+0.5,$J$66:$DK$120,ROWS($A$10:$A36)+2,FALSE)","v":58},{"$f":"HLOOKUP(CP$7+0.5,$J$66:$DK$120,ROWS($A$10:$A36)+2,FALSE)","v":536},{"$f":"HLOOKUP(CQ$7+0.5,$J$66:$DK$120,ROWS($A$10:$A36)+2,FALSE)","v":309},{"$f":"HLOOKUP(CR$7+0.5,$J$66:$DK$120,ROWS($A$10:$A36)+2,FALSE)","v":918},{"$f":"HLOOKUP(CS$7+0.5,$J$66:$DK$120,ROWS($A$10:$A36)+2,FALSE)","v":1420},{"$f":"HLOOKUP(CT$7+0.5,$J$66:$DK$120,ROWS($A$10:$A36)+2,FALSE)","v":462},{"$f":"HLOOKUP(CU$7+0.5,$J$66:$DK$120,ROWS($A$10:$A36)+2,FALSE)","v":1317},{"$f":"HLOOKUP(CV$7+0.5,$J$66:$DK$120,ROWS($A$10:$A36)+2,FALSE)","v":2199},{"$f":"HLOOKUP(CW$7+0.5,$J$66:$DK$120,ROWS($A$10:$A36)+2,FALSE)","v":899},{"$f":"HLOOKUP(CX$7+0.5,$J$66:$DK$120,ROWS($A$10:$A36)+2,FALSE)","v":639},{"$f":"HLOOKUP(CY$7+0.5,$J$66:$DK$120,ROWS($A$10:$A36)+2,FALSE)","v":582},{"$f":"HLOOKUP(CZ$7+0.5,$J$66:$DK$120,ROWS($A$10:$A36)+2,FALSE)","v":1625},{"$f":"HLOOKUP(DA$7+0.5,$J$66:$DK$120,ROWS($A$10:$A36)+2,FALSE)","v":542},{"$f":"HLOOKUP(DB$7+0.5,$J$66:$DK$120,ROWS($A$10:$A36)+2,FALSE)","v":1350},{"$f":"HLOOKUP(DC$7+0.5,$J$66:$DK$120,ROWS($A$10:$A36)+2,FALSE)","v":2841},{"$f":"HLOOKUP(DD$7+0.5,$J$66:$DK$120,ROWS($A$10:$A36)+2,FALSE)","v":1733},{"$f":"HLOOKUP(DE$7+0.5,$J$66:$DK$120,ROWS($A$10:$A36)+2,FALSE)","v":413},{"$f":"HLOOKUP(DF$7+0.5,$J$66:$DK$120,ROWS($A$10:$A36)+2,FALSE)","v":1081},{"$f":"HLOOKUP(DG$7+0.5,$J$66:$DK$120,ROWS($A$10:$A36)+2,FALSE)","v":1093},{"$f":"HLOOKUP(DH$7+0.5,$J$66:$DK$120,ROWS($A$10:$A36)+2,FALSE)","v":181},{"$f":"HLOOKUP(DI$7+0.5,$J$66:$DK$120,ROWS($A$10:$A36)+2,FALSE)","v":999},{"$f":"HLOOKUP(DJ$7+0.5,$J$66:$DK$120,ROWS($A$10:$A36)+2,FALSE)","v":452},{"$f":"HLOOKUP(DK$7+0.5,$J$66:$DK$120,ROWS($A$10:$A36)+2,FALSE)","v":958}]
[null,"Montana","West",995544,947,829489,8669,126463,7466,{"$f":"HLOOKUP(J$7,$J$66:$DK$120,ROWS($A$10:$A37)+2,FALSE)","v":37690},{"$f":"HLOOKUP(K$7,$J$66:$DK$120,ROWS($A$10:$A37)+2,FALSE)","v":31},{"$f":"HLOOKUP(L$7,$J$66:$DK$120,ROWS($A$10:$A37)+2,FALSE)","v":726},{"$f":"HLOOKUP(M$7,$J$66:$DK$120,ROWS($A$10:$A37)+2,FALSE)","v":1548},{"$f":"HLOOKUP(N$7,$J$66:$DK$120,ROWS($A$10:$A37)+2,FALSE)","v":63},{"$f":"HLOOKUP(O$7,$J$66:$DK$120,ROWS($A$10:$A37)+2,FALSE)","v":5428},{"$f":"HLOOKUP(P$7,$J$66:$DK$120,ROWS($A$10:$A37)+2,FALSE)","v":2135},{"$f":"HLOOKUP(Q$7,$J$66:$DK$120,ROWS($A$10:$A37)+2,FALSE)","v":0},{"$f":"HLOOKUP(R$7,$J$66:$DK$120,ROWS($A$10:$A37)+2,FALSE)","v":0},{"$f":"HLOOKUP(S$7,$J$66:$DK$120,ROWS($A$10:$A37)+2,FALSE)","v":0},{"$f":"HLOOKUP(T$7,$J$66:$DK$120,ROWS($A$10:$A37)+2,FALSE)","v":1875},{"$f":"HLOOKUP(U$7,$J$66:$DK$120,ROWS($A$10:$A37)+2,FALSE)","v":292},{"$f":"HLOOKUP(V$7,$J$66:$DK$120,ROWS($A$10:$A37)+2,FALSE)","v":556},{"$f":"HLOOKUP(W$7,$J$66:$DK$120,ROWS($A$10:$A37)+2,FALSE)","v":3385},{"$f":"HLOOKUP(X$7,$J$66:$DK$120,ROWS($A$10:$A37)+2,FALSE)","v":542},{"$f":"HLOOKUP(Y$7,$J$66:$DK$120,ROWS($A$10:$A37)+2,FALSE)","v":163},{"$f":"HLOOKUP(Z$7,$J$66:$DK$120,ROWS($A$10:$A37)+2,FALSE)","v":415},{"$f":"HLOOKUP(AA$7,$J$66:$DK$120,ROWS($A$10:$A37)+2,FALSE)","v":224},{"$f":"HLOOKUP(AB$7,$J$66:$DK$120,ROWS($A$10:$A37)+2,FALSE)","v":367},{"$f":"HLOOKUP(AC$7,$J$66:$DK$120,ROWS($A$10:$A37)+2,FALSE)","v":0},{"$f":"HLOOKUP(AD$7,$J$66:$DK$120,ROWS($A$10:$A37)+2,FALSE)","v":225},{"$f":"HLOOKUP(AE$7,$J$66:$DK$120,ROWS($A$10:$A37)+2,FALSE)","v":33},{"$f":"HLOOKUP(AF$7,$J$66:$DK$120,ROWS($A$10:$A37)+2,FALSE)","v":97},{"$f":"HLOOKUP(AG$7,$J$66:$DK$120,ROWS($A$10:$A37)+2,FALSE)","v":822},{"$f":"HLOOKUP(AH$7,$J$66:$DK$120,ROWS($A$10:$A37)+2,FALSE)","v":481},{"$f":"HLOOKUP(AI$7,$J$66:$DK$120,ROWS($A$10:$A37)+2,FALSE)","v":32},{"$f":"HLOOKUP(AJ$7,$J$66:$DK$120,ROWS($A$10:$A37)+2,FALSE)","v":447},{"$f":"HLOOKUP(AK$7,$J$66:$DK$120,ROWS($A$10:$A37)+2,FALSE)","v":"N/A"},{"$f":"HLOOKUP(AL$7,$J$66:$DK$120,ROWS($A$10:$A37)+2,FALSE)","v":108},{"$f":"HLOOKUP(AM$7,$J$66:$DK$120,ROWS($A$10:$A37)+2,FALSE)","v":968},{"$f":"HLOOKUP(AN$7,$J$66:$DK$120,ROWS($A$10:$A37)+2,FALSE)","v":115},{"$f":"HLOOKUP(AO$7,$J$66:$DK$120,ROWS($A$10:$A37)+2,FALSE)","v":156},{"$f":"HLOOKUP(AP$7,$J$66:$DK$120,ROWS($A$10:$A37)+2,FALSE)","v":259},{"$f":"HLOOKUP(AQ$7,$J$66:$DK$120,ROWS($A$10:$A37)+2,FALSE)","v":482},{"$f":"HLOOKUP(AR$7,$J$66:$DK$120,ROWS($A$10:$A37)+2,FALSE)","v":1082},{"$f":"HLOOKUP(AS$7,$J$66:$DK$120,ROWS($A$10:$A37)+2,FALSE)","v":977},{"$f":"HLOOKUP(AT$7,$J$66:$DK$120,ROWS($A$10:$A37)+2,FALSE)","v":402},{"$f":"HLOOKUP(AU$7,$J$66:$DK$120,ROWS($A$10:$A37)+2,FALSE)","v":1018},{"$f":"HLOOKUP(AV$7,$J$66:$DK$120,ROWS($A$10:$A37)+2,FALSE)","v":2950},{"$f":"HLOOKUP(AW$7,$J$66:$DK$120,ROWS($A$10:$A37)+2,FALSE)","v":457},{"$f":"HLOOKUP(AX$7,$J$66:$DK$120,ROWS($A$10:$A37)+2,FALSE)","v":0},{"$f":"HLOOKUP(AY$7,$J$66:$DK$120,ROWS($A$10:$A37)+2,FALSE)","v":230},{"$f":"HLOOKUP(AZ$7,$J$66:$DK$120,ROWS($A$10:$A37)+2,FALSE)","v":191},{"$f":"HLOOKUP(BA$7,$J$66:$DK$120,ROWS($A$10:$A37)+2,FALSE)","v":45},{"$f":"HLOOKUP(BB$7,$J$66:$DK$120,ROWS($A$10:$A37)+2,FALSE)","v":1393},{"$f":"HLOOKUP(BC$7,$J$66:$DK$120,ROWS($A$10:$A37)+2,FALSE)","v":260},{"$f":"HLOOKUP(BD$7,$J$66:$DK$120,ROWS($A$10:$A37)+2,FALSE)","v":87},{"$f":"HLOOKUP(BE$7,$J$66:$DK$120,ROWS($A$10:$A37)+2,FALSE)","v":156},{"$f":"HLOOKUP(BF$7,$J$66:$DK$120,ROWS($A$10:$A37)+2,FALSE)","v":4783},{"$f":"HLOOKUP(BG$7,$J$66:$DK$120,ROWS($A$10:$A37)+2,FALSE)","v":0},{"$f":"HLOOKUP(BH$7,$J$66:$DK$120,ROWS($A$10:$A37)+2,FALSE)","v":750},{"$f":"HLOOKUP(BI$7,$J$66:$DK$120,ROWS($A$10:$A37)+2,FALSE)","v":934},{"$f":"HLOOKUP(BJ$7,$J$66:$DK$120,ROWS($A$10:$A37)+2,FALSE)","v":0},{"$f":"HLOOKUP(BK$7+0.5,$J$66:$DK$120,ROWS($A$10:$A37)+2,FALSE)","v":4305},{"$f":"HLOOKUP(BL$7+0.5,$J$66:$DK$120,ROWS($A$10:$A37)+2,FALSE)","v":55},{"$f":"HLOOKUP(BM$7+0.5,$J$66:$DK$120,ROWS($A$10:$A37)+2,FALSE)","v":442},{"$f":"HLOOKUP(BN$7+0.5,$J$66:$DK$120,ROWS($A$10:$A37)+2,FALSE)","v":938},{"$f":"HLOOKUP(BO$7+0.5,$J$66:$DK$120,ROWS($A$10:$A37)+2,FALSE)","v":102},{"$f":"HLOOKUP(BP$7+0.5,$J$66:$DK$120,ROWS($A$10:$A37)+2,FALSE)","v":2229},{"$f":"HLOOKUP(BQ$7+0.5,$J$66:$DK$120,ROWS($A$10:$A37)+2,FALSE)","v":896},{"$f":"HLOOKUP(BR$7+0.5,$J$66:$DK$120,ROWS($A$10:$A37)+2,FALSE)","v":157},{"$f":"HLOOKUP(BS$7+0.5,$J$66:$DK$120,ROWS($A$10:$A37)+2,FALSE)","v":157},{"$f":"HLOOKUP(BT$7+0.5,$J$66:$DK$120,ROWS($A$10:$A37)+2,FALSE)","v":157},{"$f":"HLOOKUP(BU$7+0.5,$J$66:$DK$120,ROWS($A$10:$A37)+2,FALSE)","v":1029},{"$f":"HLOOKUP(BV$7+0.5,$J$66:$DK$120,ROWS($A$10:$A37)+2,FALSE)","v":270},{"$f":"HLOOKUP(BW$7+0.5,$J$66:$DK$120,ROWS($A$10:$A37)+2,FALSE)","v":572},{"$f":"HLOOKUP(BX$7+0.5,$J$66:$DK$120,ROWS($A$10:$A37)+2,FALSE)","v":1349},{"$f":"HLOOKUP(BY$7+0.5,$J$66:$DK$120,ROWS($A$10:$A37)+2,FALSE)","v":371},{"$f":"HLOOKUP(BZ$7+0.5,$J$66:$DK$120,ROWS($A$10:$A37)+2,FALSE)","v":164},{"$f":"HLOOKUP(CA$7+0.5,$J$66:$DK$120,ROWS($A$10:$A37)+2,FALSE)","v":384},{"$f":"HLOOKUP(CB$7+0.5,$J$66:$DK$120,ROWS($A$10:$A37)+2,FALSE)","v":268},{"$f":"HLOOKUP(CC$7+0.5,$J$66:$DK$120,ROWS($A$10:$A37)+2,FALSE)","v":352},{"$f":"HLOOKUP(CD$7+0.5,$J$66:$DK$120,ROWS($A$10:$A37)+2,FALSE)","v":157},{"$f":"HLOOKUP(CE$7+0.5,$J$66:$DK$120,ROWS($A$10:$A37)+2,FALSE)","v":269},{"$f":"HLOOKUP(CF$7+0.5,$J$66:$DK$120,ROWS($A$10:$A37)+2,FALSE)","v":65},{"$f":"HLOOKUP(CG$7+0.5,$J$66:$DK$120,ROWS($A$10:$A37)+2,FALSE)","v":109},{"$f":"HLOOKUP(CH$7+0.5,$J$66:$DK$120,ROWS($A$10:$A37)+2,FALSE)","v":760},{"$f":"HLOOKUP(CI$7+0.5,$J$66:$DK$120,ROWS($A$10:$A37)+2,FALSE)","v":297},{"$f":"HLOOKUP(CJ$7+0.5,$J$66:$DK$120,ROWS($A$10:$A37)+2,FALSE)","v":58},{"$f":"HLOOKUP(CK$7+0.5,$J$66:$DK$120,ROWS($A$10:$A37)+2,FALSE)","v":385},{"$f":"HLOOKUP(CL$7+0.5,$J$66:$DK$120,ROWS($A$10:$A37)+2,FALSE)","v":"N/A"},{"$f":"HLOOKUP(CM$7+0.5,$J$66:$DK$120,ROWS($A$10:$A37)+2,FALSE)","v":149},{"$f":"HLOOKUP(CN$7+0.5,$J$66:$DK$120,ROWS($A$10:$A37)+2,FALSE)","v":499},{"$f":"HLOOKUP(CO$7+0.5,$J$66:$DK$120,ROWS($A$10:$A37)+2,FALSE)","v":177},{"$f":"HLOOKUP(CP$7+0.5,$J$66:$DK$120,ROWS($A$10:$A37)+2,FALSE)","v":198},{"$f":"HLOOKUP(CQ$7+0.5,$J$66:$DK$120,ROWS($A$10:$A37)+2,FALSE)","v":178},{"$f":"HLOOKUP(CR$7+0.5,$J$66:$DK$120,ROWS($A$10:$A37)+2,FALSE)","v":371},{"$f":"HLOOKUP(CS$7+0.5,$J$66:$DK$120,ROWS($A$10:$A37)+2,FALSE)","v":808},{"$f":"HLOOKUP(CT$7+0.5,$J$66:$DK$120,ROWS($A$10:$A37)+2,FALSE)","v":604},{"$f":"HLOOKUP(CU$7+0.5,$J$66:$DK$120,ROWS($A$10:$A37)+2,FALSE)","v":332},{"$f":"HLOOKUP(CV$7+0.5,$J$66:$DK$120,ROWS($A$10:$A37)+2,FALSE)","v":948},{"$f":"HLOOKUP(CW$7+0.5,$J$66:$DK$120,ROWS($A$10:$A37)+2,FALSE)","v":1687},{"$f":"HLOOKUP(CX$7+0.5,$J$66:$DK$120,ROWS($A$10:$A37)+2,FALSE)","v":362},{"$f":"HLOOKUP(CY$7+0.5,$J$66:$DK$120,ROWS($A$10:$A37)+2,FALSE)","v":157},{"$f":"HLOOKUP(CZ$7+0.5,$J$66:$DK$120,ROWS($A$10:$A37)+2,FALSE)","v":304},{"$f":"HLOOKUP(DA$7+0.5,$J$66:$DK$120,ROWS($A$10:$A37)+2,FALSE)","v":142},{"$f":"HLOOKUP(DB$7+0.5,$J$66:$DK$120,ROWS($A$10:$A37)+2,FALSE)","v":40},{"$f":"HLOOKUP(DC$7+0.5,$J$66:$DK$120,ROWS($A$10:$A37)+2,FALSE)","v":612},{"$f":"HLOOKUP(DD$7+0.5,$J$66:$DK$120,ROWS($A$10:$A37)+2,FALSE)","v":261},{"$f":"HLOOKUP(DE$7+0.5,$J$66:$DK$120,ROWS($A$10:$A37)+2,FALSE)","v":135},{"$f":"HLOOKUP(DF$7+0.5,$J$66:$DK$120,ROWS($A$10:$A37)+2,FALSE)","v":153},{"$f":"HLOOKUP(DG$7+0.5,$J$66:$DK$120,ROWS($A$10:$A37)+2,FALSE)","v":1555},{"$f":"HLOOKUP(DH$7+0.5,$J$66:$DK$120,ROWS($A$10:$A37)+2,FALSE)","v":157},{"$f":"HLOOKUP(DI$7+0.5,$J$66:$DK$120,ROWS($A$10:$A37)+2,FALSE)","v":425},{"$f":"HLOOKUP(DJ$7+0.5,$J$66:$DK$120,ROWS($A$10:$A37)+2,FALSE)","v":387},{"$f":"HLOOKUP(DK$7+0.5,$J$66:$DK$120,ROWS($A$10:$A37)+2,FALSE)","v":157}]
[null,"Nebraska","Midwest",1829420,2101,1540361,9074,237937,9736,{"$f":"HLOOKUP(J$7,$J$66:$DK$120,ROWS($A$10:$A38)+2,FALSE)","v":43266},{"$f":"HLOOKUP(K$7,$J$66:$DK$120,ROWS($A$10:$A38)+2,FALSE)","v":245},{"$f":"HLOOKUP(L$7,$J$66:$DK$120,ROWS($A$10:$A38)+2,FALSE)","v":626},{"$f":"HLOOKUP(M$7,$J$66:$DK$120,ROWS($A$10:$A38)+2,FALSE)","v":2406},{"$f":"HLOOKUP(N$7,$J$66:$DK$120,ROWS($A$10:$A38)+2,FALSE)","v":363},{"$f":"HLOOKUP(O$7,$J$66:$DK$120,ROWS($A$10:$A38)+2,FALSE)","v":3438},{"$f":"HLOOKUP(P$7,$J$66:$DK$120,ROWS($A$10:$A38)+2,FALSE)","v":2023},{"$f":"HLOOKUP(Q$7,$J$66:$DK$120,ROWS($A$10:$A38)+2,FALSE)","v":0},{"$f":"HLOOKUP(R$7,$J$66:$DK$120,ROWS($A$10:$A38)+2,FALSE)","v":0},{"$f":"HLOOKUP(S$7,$J$66:$DK$120,ROWS($A$10:$A38)+2,FALSE)","v":0},{"$f":"HLOOKUP(T$7,$J$66:$DK$120,ROWS($A$10:$A38)+2,FALSE)","v":1368},{"$f":"HLOOKUP(U$7,$J$66:$DK$120,ROWS($A$10:$A38)+2,FALSE)","v":786},{"$f":"HLOOKUP(V$7,$J$66:$DK$120,ROWS($A$10:$A38)+2,FALSE)","v":165},{"$f":"HLOOKUP(W$7,$J$66:$DK$120,ROWS($A$10:$A38)+2,FALSE)","v":315},{"$f":"HLOOKUP(X$7,$J$66:$DK$120,ROWS($A$10:$A38)+2,FALSE)","v":1193},{"$f":"HLOOKUP(Y$7,$J$66:$DK$120,ROWS($A$10:$A38)+2,FALSE)","v":290},{"$f":"HLOOKUP(Z$7,$J$66:$DK$120,ROWS($A$10:$A38)+2,FALSE)","v":6815},{"$f":"HLOOKUP(AA$7,$J$66:$DK$120,ROWS($A$10:$A38)+2,FALSE)","v":3103},{"$f":"HLOOKUP(AB$7,$J$66:$DK$120,ROWS($A$10:$A38)+2,FALSE)","v":131},{"$f":"HLOOKUP(AC$7,$J$66:$DK$120,ROWS($A$10:$A38)+2,FALSE)","v":411},{"$f":"HLOOKUP(AD$7,$J$66:$DK$120,ROWS($A$10:$A38)+2,FALSE)","v":68},{"$f":"HLOOKUP(AE$7,$J$66:$DK$120,ROWS($A$10:$A38)+2,FALSE)","v":129},{"$f":"HLOOKUP(AF$7,$J$66:$DK$120,ROWS($A$10:$A38)+2,FALSE)","v":195},{"$f":"HLOOKUP(AG$7,$J$66:$DK$120,ROWS($A$10:$A38)+2,FALSE)","v":258},{"$f":"HLOOKUP(AH$7,$J$66:$DK$120,ROWS($A$10:$A38)+2,FALSE)","v":1489},{"$f":"HLOOKUP(AI$7,$J$66:$DK$120,ROWS($A$10:$A38)+2,FALSE)","v":176},{"$f":"HLOOKUP(AJ$7,$J$66:$DK$120,ROWS($A$10:$A38)+2,FALSE)","v":2223},{"$f":"HLOOKUP(AK$7,$J$66:$DK$120,ROWS($A$10:$A38)+2,FALSE)","v":108},{"$f":"HLOOKUP(AL$7,$J$66:$DK$120,ROWS($A$10:$A38)+2,FALSE)","v":"N/A"},{"$f":"HLOOKUP(AM$7,$J$66:$DK$120,ROWS($A$10:$A38)+2,FALSE)","v":233},{"$f":"HLOOKUP(AN$7,$J$66:$DK$120,ROWS($A$10:$A38)+2,FALSE)","v":0},{"$f":"HLOOKUP(AO$7,$J$66:$DK$120,ROWS($A$10:$A38)+2,FALSE)","v":524},{"$f":"HLOOKUP(AP$7,$J$66:$DK$120,ROWS($A$10:$A38)+2,FALSE)","v":158},{"$f":"HLOOKUP(AQ$7,$J$66:$DK$120,ROWS($A$10:$A38)+2,FALSE)","v":318},{"$f":"HLOOKUP(AR$7,$J$66:$DK$120,ROWS($A$10:$A38)+2,FALSE)","v":874},{"$f":"HLOOKUP(AS$7,$J$66:$DK$120,ROWS($A$10:$A38)+2,FALSE)","v":497},{"$f":"HLOOKUP(AT$7,$J$66:$DK$120,ROWS($A$10:$A38)+2,FALSE)","v":563},{"$f":"HLOOKUP(AU$7,$J$66:$DK$120,ROWS($A$10:$A38)+2,FALSE)","v":587},{"$f":"HLOOKUP(AV$7,$J$66:$DK$120,ROWS($A$10:$A38)+2,FALSE)","v":106},{"$f":"HLOOKUP(AW$7,$J$66:$DK$120,ROWS($A$10:$A38)+2,FALSE)","v":702},{"$f":"HLOOKUP(AX$7,$J$66:$DK$120,ROWS($A$10:$A38)+2,FALSE)","v":0},{"$f":"HLOOKUP(AY$7,$J$66:$DK$120,ROWS($A$10:$A38)+2,FALSE)","v":456},{"$f":"HLOOKUP(AZ$7,$J$66:$DK$120,ROWS($A$10:$A38)+2,FALSE)","v":2507},{"$f":"HLOOKUP(BA$7,$J$66:$DK$120,ROWS($A$10:$A38)+2,FALSE)","v":232},{"$f":"HLOOKUP(BB$7,$J$66:$DK$120,ROWS($A$10:$A38)+2,FALSE)","v":3130},{"$f":"HLOOKUP(BC$7,$J$66:$DK$120,ROWS($A$10:$A38)+2,FALSE)","v":229},{"$f":"HLOOKUP(BD$7,$J$66:$DK$120,ROWS($A$10:$A38)+2,FALSE)","v":79},{"$f":"HLOOKUP(BE$7,$J$66:$DK$120,ROWS($A$10:$A38)+2,FALSE)","v":1076},{"$f":"HLOOKUP(BF$7,$J$66:$DK$120,ROWS($A$10:$A38)+2,FALSE)","v":1327},{"$f":"HLOOKUP(BG$7,$J$66:$DK$120,ROWS($A$10:$A38)+2,FALSE)","v":111},{"$f":"HLOOKUP(BH$7,$J$66:$DK$120,ROWS($A$10:$A38)+2,FALSE)","v":316},{"$f":"HLOOKUP(BI$7,$J$66:$DK$120,ROWS($A$10:$A38)+2,FALSE)","v":917},{"$f":"HLOOKUP(BJ$7,$J$66:$DK$120,ROWS($A$10:$A38)+2,FALSE)","v":0},{"$f":"HLOOKUP(BK$7+0.5,$J$66:$DK$120,ROWS($A$10:$A38)+2,FALSE)","v":4512},{"$f":"HLOOKUP(BL$7+0.5,$J$66:$DK$120,ROWS($A$10:$A38)+2,FALSE)","v":275},{"$f":"HLOOKUP(BM$7+0.5,$J$66:$DK$120,ROWS($A$10:$A38)+2,FALSE)","v":531},{"$f":"HLOOKUP(BN$7+0.5,$J$66:$DK$120,ROWS($A$10:$A38)+2,FALSE)","v":1120},{"$f":"HLOOKUP(BO$7+0.5,$J$66:$DK$120,ROWS($A$10:$A38)+2,FALSE)","v":317},{"$f":"HLOOKUP(BP$7+0.5,$J$66:$DK$120,ROWS($A$10:$A38)+2,FALSE)","v":1425},{"$f":"HLOOKUP(BQ$7+0.5,$J$66:$DK$120,ROWS($A$10:$A38)+2,FALSE)","v":791},{"$f":"HLOOKUP(BR$7+0.5,$J$66:$DK$120,ROWS($A$10:$A38)+2,FALSE)","v":149},{"$f":"HLOOKUP(BS$7+0.5,$J$66:$DK$120,ROWS($A$10:$A38)+2,FALSE)","v":149},{"$f":"HLOOKUP(BT$7+0.5,$J$66:$DK$120,ROWS($A$10:$A38)+2,FALSE)","v":149},{"$f":"HLOOKUP(BU$7+0.5,$J$66:$DK$120,ROWS($A$10:$A38)+2,FALSE)","v":978},{"$f":"HLOOKUP(BV$7+0.5,$J$66:$DK$120,ROWS($A$10:$A38)+2,FALSE)","v":482},{"$f":"HLOOKUP(BW$7+0.5,$J$66:$DK$120,ROWS($A$10:$A38)+2,FALSE)","v":149},{"$f":"HLOOKUP(BX$7+0.5,$J$66:$DK$120,ROWS($A$10:$A38)+2,FALSE)","v":374},{"$f":"HLOOKUP(BY$7+0.5,$J$66:$DK$120,ROWS($A$10:$A38)+2,FALSE)","v":546},{"$f":"HLOOKUP(BZ$7+0.5,$J$66:$DK$120,ROWS($A$10:$A38)+2,FALSE)","v":214},{"$f":"HLOOKUP(CA$7+0.5,$J$66:$DK$120,ROWS($A$10:$A38)+2,FALSE)","v":2803},{"$f":"HLOOKUP(CB$7+0.5,$J$66:$DK$120,ROWS($A$10:$A38)+2,FALSE)","v":822},{"$f":"HLOOKUP(CC$7+0.5,$J$66:$DK$120,ROWS($A$10:$A38)+2,FALSE)","v":133},{"$f":"HLOOKUP(CD$7+0.5,$J$66:$DK$120,ROWS($A$10:$A38)+2,FALSE)","v":371},{"$f":"HLOOKUP(CE$7+0.5,$J$66:$DK$120,ROWS($A$10:$A38)+2,FALSE)","v":90},{"$f":"HLOOKUP(CF$7+0.5,$J$66:$DK$120,ROWS($A$10:$A38)+2,FALSE)","v":126},{"$f":"HLOOKUP(CG$7+0.5,$J$66:$DK$120,ROWS($A$10:$A38)+2,FALSE)","v":112},{"$f":"HLOOKUP(CH$7+0.5,$J$66:$DK$120,ROWS($A$10:$A38)+2,FALSE)","v":197},{"$f":"HLOOKUP(CI$7+0.5,$J$66:$DK$120,ROWS($A$10:$A38)+2,FALSE)","v":1049},{"$f":"HLOOKUP(CJ$7+0.5,$J$66:$DK$120,ROWS($A$10:$A38)+2,FALSE)","v":132},{"$f":"HLOOKUP(CK$7+0.5,$J$66:$DK$120,ROWS($A$10:$A38)+2,FALSE)","v":836},{"$f":"HLOOKUP(CL$7+0.5,$J$66:$DK$120,ROWS($A$10:$A38)+2,FALSE)","v":156},{"$f":"HLOOKUP(CM$7+0.5,$J$66:$DK$120,ROWS($A$10:$A38)+2,FALSE)","v":"N/A"},{"$f":"HLOOKUP(CN$7+0.5,$J$66:$DK$120,ROWS($A$10:$A38)+2,FALSE)","v":178},{"$f":"HLOOKUP(CO$7+0.5,$J$66:$DK$120,ROWS($A$10:$A38)+2,FALSE)","v":149},{"$f":"HLOOKUP(CP$7+0.5,$J$66:$DK$120,ROWS($A$10:$A38)+2,FALSE)","v":363},{"$f":"HLOOKUP(CQ$7+0.5,$J$66:$DK$120,ROWS($A$10:$A38)+2,FALSE)","v":187},{"$f":"HLOOKUP(CR$7+0.5,$J$66:$DK$120,ROWS($A$10:$A38)+2,FALSE)","v":246},{"$f":"HLOOKUP(CS$7+0.5,$J$66:$DK$120,ROWS($A$10:$A38)+2,FALSE)","v":414},{"$f":"HLOOKUP(CT$7+0.5,$J$66:$DK$120,ROWS($A$10:$A38)+2,FALSE)","v":492},{"$f":"HLOOKUP(CU$7+0.5,$J$66:$DK$120,ROWS($A$10:$A38)+2,FALSE)","v":373},{"$f":"HLOOKUP(CV$7+0.5,$J$66:$DK$120,ROWS($A$10:$A38)+2,FALSE)","v":408},{"$f":"HLOOKUP(CW$7+0.5,$J$66:$DK$120,ROWS($A$10:$A38)+2,FALSE)","v":113},{"$f":"HLOOKUP(CX$7+0.5,$J$66:$DK$120,ROWS($A$10:$A38)+2,FALSE)","v":528},{"$f":"HLOOKUP(CY$7+0.5,$J$66:$DK$120,ROWS($A$10:$A38)+2,FALSE)","v":149},{"$f":"HLOOKUP(CZ$7+0.5,$J$66:$DK$120,ROWS($A$10:$A38)+2,FALSE)","v":381},{"$f":"HLOOKUP(DA$7+0.5,$J$66:$DK$120,ROWS($A$10:$A38)+2,FALSE)","v":677},{"$f":"HLOOKUP(DB$7+0.5,$J$66:$DK$120,ROWS($A$10:$A38)+2,FALSE)","v":184},{"$f":"HLOOKUP(DC$7+0.5,$J$66:$DK$120,ROWS($A$10:$A38)+2,FALSE)","v":1218},{"$f":"HLOOKUP(DD$7+0.5,$J$66:$DK$120,ROWS($A$10:$A38)+2,FALSE)","v":230},{"$f":"HLOOKUP(DE$7+0.5,$J$66:$DK$120,ROWS($A$10:$A38)+2,FALSE)","v":131},{"$f":"HLOOKUP(DF$7+0.5,$J$66:$DK$120,ROWS($A$10:$A38)+2,FALSE)","v":758},{"$f":"HLOOKUP(DG$7+0.5,$J$66:$DK$120,ROWS($A$10:$A38)+2,FALSE)","v":673},{"$f":"HLOOKUP(DH$7+0.5,$J$66:$DK$120,ROWS($A$10:$A38)+2,FALSE)","v":152},{"$f":"HLOOKUP(DI$7+0.5,$J$66:$DK$120,ROWS($A$10:$A38)+2,FALSE)","v":218},{"$f":"HLOOKUP(DJ$7+0.5,$J$66:$DK$120,ROWS($A$10:$A38)+2,FALSE)","v":371},{"$f":"HLOOKUP(DK$7+0.5,$J$66:$DK$120,ROWS($A$10:$A38)+2,FALSE)","v":149}]
[null,"Nevada","West",2725280,3005,2105070,21984,481496,19389,{"$f":"HLOOKUP(J$7,$J$66:$DK$120,ROWS($A$10:$A39)+2,FALSE)","v":124285},{"$f":"HLOOKUP(K$7,$J$66:$DK$120,ROWS($A$10:$A39)+2,FALSE)","v":761},{"$f":"HLOOKUP(L$7,$J$66:$DK$120,ROWS($A$10:$A39)+2,FALSE)","v":2161},{"$f":"HLOOKUP(M$7,$J$66:$DK$120,ROWS($A$10:$A39)+2,FALSE)","v":8748},{"$f":"HLOOKUP(N$7,$J$66:$DK$120,ROWS($A$10:$A39)+2,FALSE)","v":353},{"$f":"HLOOKUP(O$7,$J$66:$DK$120,ROWS($A$10:$A39)+2,FALSE)","v":49978},{"$f":"HLOOKUP(P$7,$J$66:$DK$120,ROWS($A$10:$A39)+2,FALSE)","v":6402},{"$f":"HLOOKUP(Q$7,$J$66:$DK$120,ROWS($A$10:$A39)+2,FALSE)","v":143},{"$f":"HLOOKUP(R$7,$J$66:$DK$120,ROWS($A$10:$A39)+2,FALSE)","v":373},{"$f":"HLOOKUP(S$7,$J$66:$DK$120,ROWS($A$10:$A39)+2,FALSE)","v":468},{"$f":"HLOOKUP(T$7,$J$66:$DK$120,ROWS($A$10:$A39)+2,FALSE)","v":3381},{"$f":"HLOOKUP(U$7,$J$66:$DK$120,ROWS($A$10:$A39)+2,FALSE)","v":745},{"$f":"HLOOKUP(V$7,$J$66:$DK$120,ROWS($A$10:$A39)+2,FALSE)","v":2053},{"$f":"HLOOKUP(W$7,$J$66:$DK$120,ROWS($A$10:$A39)+2,FALSE)","v":1503},{"$f":"HLOOKUP(X$7,$J$66:$DK$120,ROWS($A$10:$A39)+2,FALSE)","v":2822},{"$f":"HLOOKUP(Y$7,$J$66:$DK$120,ROWS($A$10:$A39)+2,FALSE)","v":362},{"$f":"HLOOKUP(Z$7,$J$66:$DK$120,ROWS($A$10:$A39)+2,FALSE)","v":714},{"$f":"HLOOKUP(AA$7,$J$66:$DK$120,ROWS($A$10:$A39)+2,FALSE)","v":1202},{"$f":"HLOOKUP(AB$7,$J$66:$DK$120,ROWS($A$10:$A39)+2,FALSE)","v":952},{"$f":"HLOOKUP(AC$7,$J$66:$DK$120,ROWS($A$10:$A39)+2,FALSE)","v":421},{"$f":"HLOOKUP(AD$7,$J$66:$DK$120,ROWS($A$10:$A39)+2,FALSE)","v":209},{"$f":"HLOOKUP(AE$7,$J$66:$DK$120,ROWS($A$10:$A39)+2,FALSE)","v":934},{"$f":"HLOOKUP(AF$7,$J$66:$DK$120,ROWS($A$10:$A39)+2,FALSE)","v":318},{"$f":"HLOOKUP(AG$7,$J$66:$DK$120,ROWS($A$10:$A39)+2,FALSE)","v":1235},{"$f":"HLOOKUP(AH$7,$J$66:$DK$120,ROWS($A$10:$A39)+2,FALSE)","v":1157},{"$f":"HLOOKUP(AI$7,$J$66:$DK$120,ROWS($A$10:$A39)+2,FALSE)","v":783},{"$f":"HLOOKUP(AJ$7,$J$66:$DK$120,ROWS($A$10:$A39)+2,FALSE)","v":694},{"$f":"HLOOKUP(AK$7,$J$66:$DK$120,ROWS($A$10:$A39)+2,FALSE)","v":1086},{"$f":"HLOOKUP(AL$7,$J$66:$DK$120,ROWS($A$10:$A39)+2,FALSE)","v":714},{"$f":"HLOOKUP(AM$7,$J$66:$DK$120,ROWS($A$10:$A39)+2,FALSE)","v":"N/A"},{"$f":"HLOOKUP(AN$7,$J$66:$DK$120,ROWS($A$10:$A39)+2,FALSE)","v":175},{"$f":"HLOOKUP(AO$7,$J$66:$DK$120,ROWS($A$10:$A39)+2,FALSE)","v":912},{"$f":"HLOOKUP(AP$7,$J$66:$DK$120,ROWS($A$10:$A39)+2,FALSE)","v":1138},{"$f":"HLOOKUP(AQ$7,$J$66:$DK$120,ROWS($A$10:$A39)+2,FALSE)","v":3521},{"$f":"HLOOKUP(AR$7,$J$66:$DK$120,ROWS($A$10:$A39)+2,FALSE)","v":767},{"$f":"HLOOKUP(AS$7,$J$66:$DK$120,ROWS($A$10:$A39)+2,FALSE)","v":702},{"$f":"HLOOKUP(AT$7,$J$66:$DK$120,ROWS($A$10:$A39)+2,FALSE)","v":1407},{"$f":"HLOOKUP(AU$7,$J$66:$DK$120,ROWS($A$10:$A39)+2,FALSE)","v":1520},{"$f":"HLOOKUP(AV$7,$J$66:$DK$120,ROWS($A$10:$A39)+2,FALSE)","v":3101},{"$f":"HLOOKUP(AW$7,$J$66:$DK$120,ROWS($A$10:$A39)+2,FALSE)","v":1601},{"$f":"HLOOKUP(AX$7,$J$66:$DK$120,ROWS($A$10:$A39)+2,FALSE)","v":336},{"$f":"HLOOKUP(AY$7,$J$66:$DK$120,ROWS($A$10:$A39)+2,FALSE)","v":480},{"$f":"HLOOKUP(AZ$7,$J$66:$DK$120,ROWS($A$10:$A39)+2,FALSE)","v":0},{"$f":"HLOOKUP(BA$7,$J$66:$DK$120,ROWS($A$10:$A39)+2,FALSE)","v":1699},{"$f":"HLOOKUP(BB$7,$J$66:$DK$120,ROWS($A$10:$A39)+2,FALSE)","v":5484},{"$f":"HLOOKUP(BC$7,$J$66:$DK$120,ROWS($A$10:$A39)+2,FALSE)","v":4605},{"$f":"HLOOKUP(BD$7,$J$66:$DK$120,ROWS($A$10:$A39)+2,FALSE)","v":121},{"$f":"HLOOKUP(BE$7,$J$66:$DK$120,ROWS($A$10:$A39)+2,FALSE)","v":1135},{"$f":"HLOOKUP(BF$7,$J$66:$DK$120,ROWS($A$10:$A39)+2,FALSE)","v":2997},{"$f":"HLOOKUP(BG$7,$J$66:$DK$120,ROWS($A$10:$A39)+2,FALSE)","v":100},{"$f":"HLOOKUP(BH$7,$J$66:$DK$120,ROWS($A$10:$A39)+2,FALSE)","v":1046},{"$f":"HLOOKUP(BI$7,$J$66:$DK$120,ROWS($A$10:$A39)+2,FALSE)","v":766},{"$f":"HLOOKUP(BJ$7,$J$66:$DK$120,ROWS($A$10:$A39)+2,FALSE)","v":237},{"$f":"HLOOKUP(BK$7+0.5,$J$66:$DK$120,ROWS($A$10:$A39)+2,FALSE)","v":9956},{"$f":"HLOOKUP(BL$7+0.5,$J$66:$DK$120,ROWS($A$10:$A39)+2,FALSE)","v":724},{"$f":"HLOOKUP(BM$7+0.5,$J$66:$DK$120,ROWS($A$10:$A39)+2,FALSE)","v":1047},{"$f":"HLOOKUP(BN$7+0.5,$J$66:$DK$120,ROWS($A$10:$A39)+2,FALSE)","v":2540},{"$f":"HLOOKUP(BO$7+0.5,$J$66:$DK$120,ROWS($A$10:$A39)+2,FALSE)","v":404},{"$f":"HLOOKUP(BP$7+0.5,$J$66:$DK$120,ROWS($A$10:$A39)+2,FALSE)","v":7637},{"$f":"HLOOKUP(BQ$7+0.5,$J$66:$DK$120,ROWS($A$10:$A39)+2,FALSE)","v":2736},{"$f":"HLOOKUP(BR$7+0.5,$J$66:$DK$120,ROWS($A$10:$A39)+2,FALSE)","v":181},{"$f":"HLOOKUP(BS$7+0.5,$J$66:$DK$120,ROWS($A$10:$A39)+2,FALSE)","v":521},{"$f":"HLOOKUP(BT$7+0.5,$J$66:$DK$120,ROWS($A$10:$A39)+2,FALSE)","v":759},{"$f":"HLOOKUP(BU$7+0.5,$J$66:$DK$120,ROWS($A$10:$A39)+2,FALSE)","v":1488},{"$f":"HLOOKUP(BV$7+0.5,$J$66:$DK$120,ROWS($A$10:$A39)+2,FALSE)","v":477},{"$f":"HLOOKUP(BW$7+0.5,$J$66:$DK$120,ROWS($A$10:$A39)+2,FALSE)","v":949},{"$f":"HLOOKUP(BX$7+0.5,$J$66:$DK$120,ROWS($A$10:$A39)+2,FALSE)","v":743},{"$f":"HLOOKUP(BY$7+0.5,$J$66:$DK$120,ROWS($A$10:$A39)+2,FALSE)","v":1412},{"$f":"HLOOKUP(BZ$7+0.5,$J$66:$DK$120,ROWS($A$10:$A39)+2,FALSE)","v":341},{"$f":"HLOOKUP(CA$7+0.5,$J$66:$DK$120,ROWS($A$10:$A39)+2,FALSE)","v":592},{"$f":"HLOOKUP(CB$7+0.5,$J$66:$DK$120,ROWS($A$10:$A39)+2,FALSE)","v":1085},{"$f":"HLOOKUP(CC$7+0.5,$J$66:$DK$120,ROWS($A$10:$A39)+2,FALSE)","v":651},{"$f":"HLOOKUP(CD$7+0.5,$J$66:$DK$120,ROWS($A$10:$A39)+2,FALSE)","v":296},{"$f":"HLOOKUP(CE$7+0.5,$J$66:$DK$120,ROWS($A$10:$A39)+2,FALSE)","v":286},{"$f":"HLOOKUP(CF$7+0.5,$J$66:$DK$120,ROWS($A$10:$A39)+2,FALSE)","v":689},{"$f":"HLOOKUP(CG$7+0.5,$J$66:$DK$120,ROWS($A$10:$A39)+2,FALSE)","v":267},{"$f":"HLOOKUP(CH$7+0.5,$J$66:$DK$120,ROWS($A$10:$A39)+2,FALSE)","v":574},{"$f":"HLOOKUP(CI$7+0.5,$J$66:$DK$120,ROWS($A$10:$A39)+2,FALSE)","v":718},{"$f":"HLOOKUP(CJ$7+0.5,$J$66:$DK$120,ROWS($A$10:$A39)+2,FALSE)","v":658},{"$f":"HLOOKUP(CK$7+0.5,$J$66:$DK$120,ROWS($A$10:$A39)+2,FALSE)","v":516},{"$f":"HLOOKUP(CL$7+0.5,$J$66:$DK$120,ROWS($A$10:$A39)+2,FALSE)","v":605},{"$f":"HLOOKUP(CM$7+0.5,$J$66:$DK$120,ROWS($A$10:$A39)+2,FALSE)","v":551},{"$f":"HLOOKUP(CN$7+0.5,$J$66:$DK$120,ROWS($A$10:$A39)+2,FALSE)","v":"N/A"},{"$f":"HLOOKUP(CO$7+0.5,$J$66:$DK$120,ROWS($A$10:$A39)+2,FALSE)","v":230},{"$f":"HLOOKUP(CP$7+0.5,$J$66:$DK$120,ROWS($A$10:$A39)+2,FALSE)","v":600},{"$f":"HLOOKUP(CQ$7+0.5,$J$66:$DK$120,ROWS($A$10:$A39)+2,FALSE)","v":665},{"$f":"HLOOKUP(CR$7+0.5,$J$66:$DK$120,ROWS($A$10:$A39)+2,FALSE)","v":1460},{"$f":"HLOOKUP(CS$7+0.5,$J$66:$DK$120,ROWS($A$10:$A39)+2,FALSE)","v":589},{"$f":"HLOOKUP(CT$7+0.5,$J$66:$DK$120,ROWS($A$10:$A39)+2,FALSE)","v":661},{"$f":"HLOOKUP(CU$7+0.5,$J$66:$DK$120,ROWS($A$10:$A39)+2,FALSE)","v":791},{"$f":"HLOOKUP(CV$7+0.5,$J$66:$DK$120,ROWS($A$10:$A39)+2,FALSE)","v":1384},{"$f":"HLOOKUP(CW$7+0.5,$J$66:$DK$120,ROWS($A$10:$A39)+2,FALSE)","v":1186},{"$f":"HLOOKUP(CX$7+0.5,$J$66:$DK$120,ROWS($A$10:$A39)+2,FALSE)","v":1078},{"$f":"HLOOKUP(CY$7+0.5,$J$66:$DK$120,ROWS($A$10:$A39)+2,FALSE)","v":548},{"$f":"HLOOKUP(CZ$7+0.5,$J$66:$DK$120,ROWS($A$10:$A39)+2,FALSE)","v":403},{"$f":"HLOOKUP(DA$7+0.5,$J$66:$DK$120,ROWS($A$10:$A39)+2,FALSE)","v":200},{"$f":"HLOOKUP(DB$7+0.5,$J$66:$DK$120,ROWS($A$10:$A39)+2,FALSE)","v":822},{"$f":"HLOOKUP(DC$7+0.5,$J$66:$DK$120,ROWS($A$10:$A39)+2,FALSE)","v":1772},{"$f":"HLOOKUP(DD$7+0.5,$J$66:$DK$120,ROWS($A$10:$A39)+2,FALSE)","v":1899},{"$f":"HLOOKUP(DE$7+0.5,$J$66:$DK$120,ROWS($A$10:$A39)+2,FALSE)","v":222},{"$f":"HLOOKUP(DF$7+0.5,$J$66:$DK$120,ROWS($A$10:$A39)+2,FALSE)","v":832},{"$f":"HLOOKUP(DG$7+0.5,$J$66:$DK$120,ROWS($A$10:$A39)+2,FALSE)","v":1103},{"$f":"HLOOKUP(DH$7+0.5,$J$66:$DK$120,ROWS($A$10:$A39)+2,FALSE)","v":161},{"$f":"HLOOKUP(DI$7+0.5,$J$66:$DK$120,ROWS($A$10:$A39)+2,FALSE)","v":666},{"$f":"HLOOKUP(DJ$7+0.5,$J$66:$DK$120,ROWS($A$10:$A39)+2,FALSE)","v":706},{"$f":"HLOOKUP(DK$7+0.5,$J$66:$DK$120,ROWS($A$10:$A39)+2,FALSE)","v":356}]
[null,"New Hampshire","Northeast",1309203,1504,1127376,9730,125118,9101,{"$f":"HLOOKUP(J$7,$J$66:$DK$120,ROWS($A$10:$A40)+2,FALSE)","v":50484},{"$f":"HLOOKUP(K$7,$J$66:$DK$120,ROWS($A$10:$A40)+2,FALSE)","v":0},{"$f":"HLOOKUP(L$7,$J$66:$DK$120,ROWS($A$10:$A40)+2,FALSE)","v":437},{"$f":"HLOOKUP(M$7,$J$66:$DK$120,ROWS($A$10:$A40)+2,FALSE)","v":440},{"$f":"HLOOKUP(N$7,$J$66:$DK$120,ROWS($A$10:$A40)+2,FALSE)","v":0},{"$f":"HLOOKUP(O$7,$J$66:$DK$120,ROWS($A$10:$A40)+2,FALSE)","v":1514},{"$f":"HLOOKUP(P$7,$J$66:$DK$120,ROWS($A$10:$A40)+2,FALSE)","v":572},{"$f":"HLOOKUP(Q$7,$J$66:$DK$120,ROWS($A$10:$A40)+2,FALSE)","v":1345},{"$f":"HLOOKUP(R$7,$J$66:$DK$120,ROWS($A$10:$A40)+2,FALSE)","v":0},{"$f":"HLOOKUP(S$7,$J$66:$DK$120,ROWS($A$10:$A40)+2,FALSE)","v":101},{"$f":"HLOOKUP(T$7,$J$66:$DK$120,ROWS($A$10:$A40)+2,FALSE)","v":2746},{"$f":"HLOOKUP(U$7,$J$66:$DK$120,ROWS($A$10:$A40)+2,FALSE)","v":470},{"$f":"HLOOKUP(V$7,$J$66:$DK$120,ROWS($A$10:$A40)+2,FALSE)","v":43},{"$f":"HLOOKUP(W$7,$J$66:$DK$120,ROWS($A$10:$A40)+2,FALSE)","v":20},{"$f":"HLOOKUP(X$7,$J$66:$DK$120,ROWS($A$10:$A40)+2,FALSE)","v":673},{"$f":"HLOOKUP(Y$7,$J$66:$DK$120,ROWS($A$10:$A40)+2,FALSE)","v":297},{"$f":"HLOOKUP(Z$7,$J$66:$DK$120,ROWS($A$10:$A40)+2,FALSE)","v":53},{"$f":"HLOOKUP(AA$7,$J$66:$DK$120,ROWS($A$10:$A40)+2,FALSE)","v":102},{"$f":"HLOOKUP(AB$7,$J$66:$DK$120,ROWS($A$10:$A40)+2,FALSE)","v":284},{"$f":"HLOOKUP(AC$7,$J$66:$DK$120,ROWS($A$10:$A40)+2,FALSE)","v":7},{"$f":"HLOOKUP(AD$7,$J$66:$DK$120,ROWS($A$10:$A40)+2,FALSE)","v":6118},{"$f":"HLOOKUP(AE$7,$J$66:$DK$120,ROWS($A$10:$A40)+2,FALSE)","v":33},{"$f":"HLOOKUP(AF$7,$J$66:$DK$120,ROWS($A$10:$A40)+2,FALSE)","v":18990},{"$f":"HLOOKUP(AG$7,$J$66:$DK$120,ROWS($A$10:$A40)+2,FALSE)","v":426},{"$f":"HLOOKUP(AH$7,$J$66:$DK$120,ROWS($A$10:$A40)+2,FALSE)","v":0},{"$f":"HLOOKUP(AI$7,$J$66:$DK$120,ROWS($A$10:$A40)+2,FALSE)","v":0},{"$f":"HLOOKUP(AJ$7,$J$66:$DK$120,ROWS($A$10:$A40)+2,FALSE)","v":289},{"$f":"HLOOKUP(AK$7,$J$66:$DK$120,ROWS($A$10:$A40)+2,FALSE)","v":0},{"$f":"HLOOKUP(AL$7,$J$66:$DK$120,ROWS($A$10:$A40)+2,FALSE)","v":110},{"$f":"HLOOKUP(AM$7,$J$66:$DK$120,ROWS($A$10:$A40)+2,FALSE)","v":0},{"$f":"HLOOKUP(AN$7,$J$66:$DK$120,ROWS($A$10:$A40)+2,FALSE)","v":"N/A"},{"$f":"HLOOKUP(AO$7,$J$66:$DK$120,ROWS($A$10:$A40)+2,FALSE)","v":591},{"$f":"HLOOKUP(AP$7,$J$66:$DK$120,ROWS($A$10:$A40)+2,FALSE)","v":223},{"$f":"HLOOKUP(AQ$7,$J$66:$DK$120,ROWS($A$10:$A40)+2,FALSE)","v":2905},{"$f":"HLOOKUP(AR$7,$J$66:$DK$120,ROWS($A$10:$A40)+2,FALSE)","v":1609},{"$f":"HLOOKUP(AS$7,$J$66:$DK$120,ROWS($A$10:$A40)+2,FALSE)","v":0},{"$f":"HLOOKUP(AT$7,$J$66:$DK$120,ROWS($A$10:$A40)+2,FALSE)","v":324},{"$f":"HLOOKUP(AU$7,$J$66:$DK$120,ROWS($A$10:$A40)+2,FALSE)","v":186},{"$f":"HLOOKUP(AV$7,$J$66:$DK$120,ROWS($A$10:$A40)+2,FALSE)","v":208},{"$f":"HLOOKUP(AW$7,$J$66:$DK$120,ROWS($A$10:$A40)+2,FALSE)","v":890},{"$f":"HLOOKUP(AX$7,$J$66:$DK$120,ROWS($A$10:$A40)+2,FALSE)","v":1248},{"$f":"HLOOKUP(AY$7,$J$66:$DK$120,ROWS($A$10:$A40)+2,FALSE)","v":323},{"$f":"HLOOKUP(AZ$7,$J$66:$DK$120,ROWS($A$10:$A40)+2,FALSE)","v":0},{"$f":"HLOOKUP(BA$7,$J$66:$DK$120,ROWS($A$10:$A40)+2,FALSE)","v":77},{"$f":"HLOOKUP(BB$7,$J$66:$DK$120,ROWS($A$10:$A40)+2,FALSE)","v":2150},{"$f":"HLOOKUP(BC$7,$J$66:$DK$120,ROWS($A$10:$A40)+2,FALSE)","v":557},{"$f":"HLOOKUP(BD$7,$J$66:$DK$120,ROWS($A$10:$A40)+2,FALSE)","v":2960},{"$f":"HLOOKUP(BE$7,$J$66:$DK$120,ROWS($A$10:$A40)+2,FALSE)","v":660},{"$f":"HLOOKUP(BF$7,$J$66:$DK$120,ROWS($A$10:$A40)+2,FALSE)","v":113},{"$f":"HLOOKUP(BG$7,$J$66:$DK$120,ROWS($A$10:$A40)+2,FALSE)","v":80},{"$f":"HLOOKUP(BH$7,$J$66:$DK$120,ROWS($A$10:$A40)+2,FALSE)","v":239},{"$f":"HLOOKUP(BI$7,$J$66:$DK$120,ROWS($A$10:$A40)+2,FALSE)","v":71},{"$f":"HLOOKUP(BJ$7,$J$66:$DK$120,ROWS($A$10:$A40)+2,FALSE)","v":75},{"$f":"HLOOKUP(BK$7+0.5,$J$66:$DK$120,ROWS($A$10:$A40)+2,FALSE)","v":5282},{"$f":"HLOOKUP(BL$7+0.5,$J$66:$DK$120,ROWS($A$10:$A40)+2,FALSE)","v":181},{"$f":"HLOOKUP(BM$7+0.5,$J$66:$DK$120,ROWS($A$10:$A40)+2,FALSE)","v":378},{"$f":"HLOOKUP(BN$7+0.5,$J$66:$DK$120,ROWS($A$10:$A40)+2,FALSE)","v":413},{"$f":"HLOOKUP(BO$7+0.5,$J$66:$DK$120,ROWS($A$10:$A40)+2,FALSE)","v":181},{"$f":"HLOOKUP(BP$7+0.5,$J$66:$DK$120,ROWS($A$10:$A40)+2,FALSE)","v":935},{"$f":"HLOOKUP(BQ$7+0.5,$J$66:$DK$120,ROWS($A$10:$A40)+2,FALSE)","v":637},{"$f":"HLOOKUP(BR$7+0.5,$J$66:$DK$120,ROWS($A$10:$A40)+2,FALSE)","v":478},{"$f":"HLOOKUP(BS$7+0.5,$J$66:$DK$120,ROWS($A$10:$A40)+2,FALSE)","v":181},{"$f":"HLOOKUP(BT$7+0.5,$J$66:$DK$120,ROWS($A$10:$A40)+2,FALSE)","v":131},{"$f":"HLOOKUP(BU$7+0.5,$J$66:$DK$120,ROWS($A$10:$A40)+2,FALSE)","v":1312},{"$f":"HLOOKUP(BV$7+0.5,$J$66:$DK$120,ROWS($A$10:$A40)+2,FALSE)","v":324},{"$f":"HLOOKUP(BW$7+0.5,$J$66:$DK$120,ROWS($A$10:$A40)+2,FALSE)","v":78},{"$f":"HLOOKUP(BX$7+0.5,$J$66:$DK$120,ROWS($A$10:$A40)+2,FALSE)","v":38},{"$f":"HLOOKUP(BY$7+0.5,$J$66:$DK$120,ROWS($A$10:$A40)+2,FALSE)","v":608},{"$f":"HLOOKUP(BZ$7+0.5,$J$66:$DK$120,ROWS($A$10:$A40)+2,FALSE)","v":365},{"$f":"HLOOKUP(CA$7+0.5,$J$66:$DK$120,ROWS($A$10:$A40)+2,FALSE)","v":89},{"$f":"HLOOKUP(CB$7+0.5,$J$66:$DK$120,ROWS($A$10:$A40)+2,FALSE)","v":161},{"$f":"HLOOKUP(CC$7+0.5,$J$66:$DK$120,ROWS($A$10:$A40)+2,FALSE)","v":250},{"$f":"HLOOKUP(CD$7+0.5,$J$66:$DK$120,ROWS($A$10:$A40)+2,FALSE)","v":13},{"$f":"HLOOKUP(CE$7+0.5,$J$66:$DK$120,ROWS($A$10:$A40)+2,FALSE)","v":1749},{"$f":"HLOOKUP(CF$7+0.5,$J$66:$DK$120,ROWS($A$10:$A40)+2,FALSE)","v":57},{"$f":"HLOOKUP(CG$7+0.5,$J$66:$DK$120,ROWS($A$10:$A40)+2,FALSE)","v":3350},{"$f":"HLOOKUP(CH$7+0.5,$J$66:$DK$120,ROWS($A$10:$A40)+2,FALSE)","v":441},{"$f":"HLOOKUP(CI$7+0.5,$J$66:$DK$120,ROWS($A$10:$A40)+2,FALSE)","v":181},{"$f":"HLOOKUP(CJ$7+0.5,$J$66:$DK$120,ROWS($A$10:$A40)+2,FALSE)","v":181},{"$f":"HLOOKUP(CK$7+0.5,$J$66:$DK$120,ROWS($A$10:$A40)+2,FALSE)","v":262},{"$f":"HLOOKUP(CL$7+0.5,$J$66:$DK$120,ROWS($A$10:$A40)+2,FALSE)","v":181},{"$f":"HLOOKUP(CM$7+0.5,$J$66:$DK$120,ROWS($A$10:$A40)+2,FALSE)","v":136},{"$f":"HLOOKUP(CN$7+0.5,$J$66:$DK$120,ROWS($A$10:$A40)+2,FALSE)","v":181},{"$f":"HLOOKUP(CO$7+0.5,$J$66:$DK$120,ROWS($A$10:$A40)+2,FALSE)","v":"N/A"},{"$f":"HLOOKUP(CP$7+0.5,$J$66:$DK$120,ROWS($A$10:$A40)+2,FALSE)","v":330},{"$f":"HLOOKUP(CQ$7+0.5,$J$66:$DK$120,ROWS($A$10:$A40)+2,FALSE)","v":279},{"$f":"HLOOKUP(CR$7+0.5,$J$66:$DK$120,ROWS($A$10:$A40)+2,FALSE)","v":1027},{"$f":"HLOOKUP(CS$7+0.5,$J$66:$DK$120,ROWS($A$10:$A40)+2,FALSE)","v":1456},{"$f":"HLOOKUP(CT$7+0.5,$J$66:$DK$120,ROWS($A$10:$A40)+2,FALSE)","v":181},{"$f":"HLOOKUP(CU$7+0.5,$J$66:$DK$120,ROWS($A$10:$A40)+2,FALSE)","v":240},{"$f":"HLOOKUP(CV$7+0.5,$J$66:$DK$120,ROWS($A$10:$A40)+2,FALSE)","v":266},{"$f":"HLOOKUP(CW$7+0.5,$J$66:$DK$120,ROWS($A$10:$A40)+2,FALSE)","v":299},{"$f":"HLOOKUP(CX$7+0.5,$J$66:$DK$120,ROWS($A$10:$A40)+2,FALSE)","v":561},{"$f":"HLOOKUP(CY$7+0.5,$J$66:$DK$120,ROWS($A$10:$A40)+2,FALSE)","v":819},{"$f":"HLOOKUP(CZ$7+0.5,$J$66:$DK$120,ROWS($A$10:$A40)+2,FALSE)","v":257},{"$f":"HLOOKUP(DA$7+0.5,$J$66:$DK$120,ROWS($A$10:$A40)+2,FALSE)","v":181},{"$f":"HLOOKUP(DB$7+0.5,$J$66:$DK$120,ROWS($A$10:$A40)+2,FALSE)","v":133},{"$f":"HLOOKUP(DC$7+0.5,$J$66:$DK$120,ROWS($A$10:$A40)+2,FALSE)","v":1715},{"$f":"HLOOKUP(DD$7+0.5,$J$66:$DK$120,ROWS($A$10:$A40)+2,FALSE)","v":762},{"$f":"HLOOKUP(DE$7+0.5,$J$66:$DK$120,ROWS($A$10:$A40)+2,FALSE)","v":1339},{"$f":"HLOOKUP(DF$7+0.5,$J$66:$DK$120,ROWS($A$10:$A40)+2,FALSE)","v":433},{"$f":"HLOOKUP(DG$7+0.5,$J$66:$DK$120,ROWS($A$10:$A40)+2,FALSE)","v":119},{"$f":"HLOOKUP(DH$7+0.5,$J$66:$DK$120,ROWS($A$10:$A40)+2,FALSE)","v":131},{"$f":"HLOOKUP(DI$7+0.5,$J$66:$DK$120,ROWS($A$10:$A40)+2,FALSE)","v":277},{"$f":"HLOOKUP(DJ$7+0.5,$J$66:$DK$120,ROWS($A$10:$A40)+2,FALSE)","v":120},{"$f":"HLOOKUP(DK$7+0.5,$J$66:$DK$120,ROWS($A$10:$A40)+2,FALSE)","v":123}]
[null,"New Jersey","Northeast",8772744,4541,7929570,23298,655465,21808,{"$f":"HLOOKUP(J$7,$J$66:$DK$120,ROWS($A$10:$A41)+2,FALSE)","v":130223},{"$f":"HLOOKUP(K$7,$J$66:$DK$120,ROWS($A$10:$A41)+2,FALSE)","v":779},{"$f":"HLOOKUP(L$7,$J$66:$DK$120,ROWS($A$10:$A41)+2,FALSE)","v":359},{"$f":"HLOOKUP(M$7,$J$66:$DK$120,ROWS($A$10:$A41)+2,FALSE)","v":1328},{"$f":"HLOOKUP(N$7,$J$66:$DK$120,ROWS($A$10:$A41)+2,FALSE)","v":57},{"$f":"HLOOKUP(O$7,$J$66:$DK$120,ROWS($A$10:$A41)+2,FALSE)","v":4330},{"$f":"HLOOKUP(P$7,$J$66:$DK$120,ROWS($A$10:$A41)+2,FALSE)","v":380},{"$f":"HLOOKUP(Q$7,$J$66:$DK$120,ROWS($A$10:$A41)+2,FALSE)","v":3466},{"$f":"HLOOKUP(R$7,$J$66:$DK$120,ROWS($A$10:$A41)+2,FALSE)","v":1921},{"$f":"HLOOKUP(S$7,$J$66:$DK$120,ROWS($A$10:$A41)+2,FALSE)","v":840},{"$f":"HLOOKUP(T$7,$J$66:$DK$120,ROWS($A$10:$A41)+2,FALSE)","v":10649},{"$f":"HLOOKUP(U$7,$J$66:$DK$120,ROWS($A$10:$A41)+2,FALSE)","v":3002},{"$f":"HLOOKUP(V$7,$J$66:$DK$120,ROWS($A$10:$A41)+2,FALSE)","v":22},{"$f":"HLOOKUP(W$7,$J$66:$DK$120,ROWS($A$10:$A41)+2,FALSE)","v":113},{"$f":"HLOOKUP(X$7,$J$66:$DK$120,ROWS($A$10:$A41)+2,FALSE)","v":2052},{"$f":"HLOOKUP(Y$7,$J$66:$DK$120,ROWS($A$10:$A41)+2,FALSE)","v":1039},{"$f":"HLOOKUP(Z$7,$J$66:$DK$120,ROWS($A$10:$A41)+2,FALSE)","v":357},{"$f":"HLOOKUP(AA$7,$J$66:$DK$120,ROWS($A$10:$A41)+2,FALSE)","v":426},{"$f":"HLOOKUP(AB$7,$J$66:$DK$120,ROWS($A$10:$A41)+2,FALSE)","v":631},{"$f":"HLOOKUP(AC$7,$J$66:$DK$120,ROWS($A$10:$A41)+2,FALSE)","v":339},{"$f":"HLOOKUP(AD$7,$J$66:$DK$120,ROWS($A$10:$A41)+2,FALSE)","v":430},{"$f":"HLOOKUP(AE$7,$J$66:$DK$120,ROWS($A$10:$A41)+2,FALSE)","v":3474},{"$f":"HLOOKUP(AF$7,$J$66:$DK$120,ROWS($A$10:$A41)+2,FALSE)","v":4907},{"$f":"HLOOKUP(AG$7,$J$66:$DK$120,ROWS($A$10:$A41)+2,FALSE)","v":324},{"$f":"HLOOKUP(AH$7,$J$66:$DK$120,ROWS($A$10:$A41)+2,FALSE)","v":570},{"$f":"HLOOKUP(AI$7,$J$66:$DK$120,ROWS($A$10:$A41)+2,FALSE)","v":106},{"$f":"HLOOKUP(AJ$7,$J$66:$DK$120,ROWS($A$10:$A41)+2,FALSE)","v":384},{"$f":"HLOOKUP(AK$7,$J$66:$DK$120,ROWS($A$10:$A41)+2,FALSE)","v":67},{"$f":"HLOOKUP(AL$7,$J$66:$DK$120,ROWS($A$10:$A41)+2,FALSE)","v":35},{"$f":"HLOOKUP(AM$7,$J$66:$DK$120,ROWS($A$10:$A41)+2,FALSE)","v":908},{"$f":"HLOOKUP(AN$7,$J$66:$DK$120,ROWS($A$10:$A41)+2,FALSE)","v":126},{"$f":"HLOOKUP(AO$7,$J$66:$DK$120,ROWS($A$10:$A41)+2,FALSE)","v":"N/A"},{"$f":"HLOOKUP(AP$7,$J$66:$DK$120,ROWS($A$10:$A41)+2,FALSE)","v":45},{"$f":"HLOOKUP(AQ$7,$J$66:$DK$120,ROWS($A$10:$A41)+2,FALSE)","v":40495},{"$f":"HLOOKUP(AR$7,$J$66:$DK$120,ROWS($A$10:$A41)+2,FALSE)","v":3236},{"$f":"HLOOKUP(AS$7,$J$66:$DK$120,ROWS($A$10:$A41)+2,FALSE)","v":55},{"$f":"HLOOKUP(AT$7,$J$66:$DK$120,ROWS($A$10:$A41)+2,FALSE)","v":1452},{"$f":"HLOOKUP(AU$7,$J$66:$DK$120,ROWS($A$10:$A41)+2,FALSE)","v":1540},{"$f":"HLOOKUP(AV$7,$J$66:$DK$120,ROWS($A$10:$A41)+2,FALSE)","v":760},{"$f":"HLOOKUP(AW$7,$J$66:$DK$120,ROWS($A$10:$A41)+2,FALSE)","v":23597},{"$f":"HLOOKUP(AX$7,$J$66:$DK$120,ROWS($A$10:$A41)+2,FALSE)","v":429},{"$f":"HLOOKUP(AY$7,$J$66:$DK$120,ROWS($A$10:$A41)+2,FALSE)","v":2372},{"$f":"HLOOKUP(AZ$7,$J$66:$DK$120,ROWS($A$10:$A41)+2,FALSE)","v":581},{"$f":"HLOOKUP(BA$7,$J$66:$DK$120,ROWS($A$10:$A41)+2,FALSE)","v":1400},{"$f":"HLOOKUP(BB$7,$J$66:$DK$120,ROWS($A$10:$A41)+2,FALSE)","v":2509},{"$f":"HLOOKUP(BC$7,$J$66:$DK$120,ROWS($A$10:$A41)+2,FALSE)","v":425},{"$f":"HLOOKUP(BD$7,$J$66:$DK$120,ROWS($A$10:$A41)+2,FALSE)","v":35},{"$f":"HLOOKUP(BE$7,$J$66:$DK$120,ROWS($A$10:$A41)+2,FALSE)","v":5024},{"$f":"HLOOKUP(BF$7,$J$66:$DK$120,ROWS($A$10:$A41)+2,FALSE)","v":1847},{"$f":"HLOOKUP(BG$7,$J$66:$DK$120,ROWS($A$10:$A41)+2,FALSE)","v":297},{"$f":"HLOOKUP(BH$7,$J$66:$DK$120,ROWS($A$10:$A41)+2,FALSE)","v":680},{"$f":"HLOOKUP(BI$7,$J$66:$DK$120,ROWS($A$10:$A41)+2,FALSE)","v":23},{"$f":"HLOOKUP(BJ$7,$J$66:$DK$120,ROWS($A$10:$A41)+2,FALSE)","v":2574},{"$f":"HLOOKUP(BK$7+0.5,$J$66:$DK$120,ROWS($A$10:$A41)+2,FALSE)","v":7649},{"$f":"HLOOKUP(BL$7+0.5,$J$66:$DK$120,ROWS($A$10:$A41)+2,FALSE)","v":509},{"$f":"HLOOKUP(BM$7+0.5,$J$66:$DK$120,ROWS($A$10:$A41)+2,FALSE)","v":437},{"$f":"HLOOKUP(BN$7+0.5,$J$66:$DK$120,ROWS($A$10:$A41)+2,FALSE)","v":704},{"$f":"HLOOKUP(BO$7+0.5,$J$66:$DK$120,ROWS($A$10:$A41)+2,FALSE)","v":70},{"$f":"HLOOKUP(BP$7+0.5,$J$66:$DK$120,ROWS($A$10:$A41)+2,FALSE)","v":1070},{"$f":"HLOOKUP(BQ$7+0.5,$J$66:$DK$120,ROWS($A$10:$A41)+2,FALSE)","v":264},{"$f":"HLOOKUP(BR$7+0.5,$J$66:$DK$120,ROWS($A$10:$A41)+2,FALSE)","v":1711},{"$f":"HLOOKUP(BS$7+0.5,$J$66:$DK$120,ROWS($A$10:$A41)+2,FALSE)","v":1383},{"$f":"HLOOKUP(BT$7+0.5,$J$66:$DK$120,ROWS($A$10:$A41)+2,FALSE)","v":637},{"$f":"HLOOKUP(BU$7+0.5,$J$66:$DK$120,ROWS($A$10:$A41)+2,FALSE)","v":2430},{"$f":"HLOOKUP(BV$7+0.5,$J$66:$DK$120,ROWS($A$10:$A41)+2,FALSE)","v":1032},{"$f":"HLOOKUP(BW$7+0.5,$J$66:$DK$120,ROWS($A$10:$A41)+2,FALSE)","v":41},{"$f":"HLOOKUP(BX$7+0.5,$J$66:$DK$120,ROWS($A$10:$A41)+2,FALSE)","v":134},{"$f":"HLOOKUP(BY$7+0.5,$J$66:$DK$120,ROWS($A$10:$A41)+2,FALSE)","v":874},{"$f":"HLOOKUP(BZ$7+0.5,$J$66:$DK$120,ROWS($A$10:$A41)+2,FALSE)","v":559},{"$f":"HLOOKUP(CA$7+0.5,$J$66:$DK$120,ROWS($A$10:$A41)+2,FALSE)","v":405},{"$f":"HLOOKUP(CB$7+0.5,$J$66:$DK$120,ROWS($A$10:$A41)+2,FALSE)","v":405},{"$f":"HLOOKUP(CC$7+0.5,$J$66:$DK$120,ROWS($A$10:$A41)+2,FALSE)","v":614},{"$f":"HLOOKUP(CD$7+0.5,$J$66:$DK$120,ROWS($A$10:$A41)+2,FALSE)","v":343},{"$f":"HLOOKUP(CE$7+0.5,$J$66:$DK$120,ROWS($A$10:$A41)+2,FALSE)","v":388},{"$f":"HLOOKUP(CF$7+0.5,$J$66:$DK$120,ROWS($A$10:$A41)+2,FALSE)","v":1241},{"$f":"HLOOKUP(CG$7+0.5,$J$66:$DK$120,ROWS($A$10:$A41)+2,FALSE)","v":1730},{"$f":"HLOOKUP(CH$7+0.5,$J$66:$DK$120,ROWS($A$10:$A41)+2,FALSE)","v":191},{"$f":"HLOOKUP(CI$7+0.5,$J$66:$DK$120,ROWS($A$10:$A41)+2,FALSE)","v":429},{"$f":"HLOOKUP(CJ$7+0.5,$J$66:$DK$120,ROWS($A$10:$A41)+2,FALSE)","v":165},{"$f":"HLOOKUP(CK$7+0.5,$J$66:$DK$120,ROWS($A$10:$A41)+2,FALSE)","v":363},{"$f":"HLOOKUP(CL$7+0.5,$J$66:$DK$120,ROWS($A$10:$A41)+2,FALSE)","v":112},{"$f":"HLOOKUP(CM$7+0.5,$J$66:$DK$120,ROWS($A$10:$A41)+2,FALSE)","v":58},{"$f":"HLOOKUP(CN$7+0.5,$J$66:$DK$120,ROWS($A$10:$A41)+2,FALSE)","v":526},{"$f":"HLOOKUP(CO$7+0.5,$J$66:$DK$120,ROWS($A$10:$A41)+2,FALSE)","v":219},{"$f":"HLOOKUP(CP$7+0.5,$J$66:$DK$120,ROWS($A$10:$A41)+2,FALSE)","v":"N/A"},{"$f":"HLOOKUP(CQ$7+0.5,$J$66:$DK$120,ROWS($A$10:$A41)+2,FALSE)","v":75},{"$f":"HLOOKUP(CR$7+0.5,$J$66:$DK$120,ROWS($A$10:$A41)+2,FALSE)","v":4293},{"$f":"HLOOKUP(CS$7+0.5,$J$66:$DK$120,ROWS($A$10:$A41)+2,FALSE)","v":1238},{"$f":"HLOOKUP(CT$7+0.5,$J$66:$DK$120,ROWS($A$10:$A41)+2,FALSE)","v":93},{"$f":"HLOOKUP(CU$7+0.5,$J$66:$DK$120,ROWS($A$10:$A41)+2,FALSE)","v":596},{"$f":"HLOOKUP(CV$7+0.5,$J$66:$DK$120,ROWS($A$10:$A41)+2,FALSE)","v":1537},{"$f":"HLOOKUP(CW$7+0.5,$J$66:$DK$120,ROWS($A$10:$A41)+2,FALSE)","v":587},{"$f":"HLOOKUP(CX$7+0.5,$J$66:$DK$120,ROWS($A$10:$A41)+2,FALSE)","v":2976},{"$f":"HLOOKUP(CY$7+0.5,$J$66:$DK$120,ROWS($A$10:$A41)+2,FALSE)","v":410},{"$f":"HLOOKUP(CZ$7+0.5,$J$66:$DK$120,ROWS($A$10:$A41)+2,FALSE)","v":1386},{"$f":"HLOOKUP(DA$7+0.5,$J$66:$DK$120,ROWS($A$10:$A41)+2,FALSE)","v":644},{"$f":"HLOOKUP(DB$7+0.5,$J$66:$DK$120,ROWS($A$10:$A41)+2,FALSE)","v":612},{"$f":"HLOOKUP(DC$7+0.5,$J$66:$DK$120,ROWS($A$10:$A41)+2,FALSE)","v":1335},{"$f":"HLOOKUP(DD$7+0.5,$J$66:$DK$120,ROWS($A$10:$A41)+2,FALSE)","v":341},{"$f":"HLOOKUP(DE$7+0.5,$J$66:$DK$120,ROWS($A$10:$A41)+2,FALSE)","v":57},{"$f":"HLOOKUP(DF$7+0.5,$J$66:$DK$120,ROWS($A$10:$A41)+2,FALSE)","v":1899},{"$f":"HLOOKUP(DG$7+0.5,$J$66:$DK$120,ROWS($A$10:$A41)+2,FALSE)","v":1244},{"$f":"HLOOKUP(DH$7+0.5,$J$66:$DK$120,ROWS($A$10:$A41)+2,FALSE)","v":201},{"$f":"HLOOKUP(DI$7+0.5,$J$66:$DK$120,ROWS($A$10:$A41)+2,FALSE)","v":457},{"$f":"HLOOKUP(DJ$7+0.5,$J$66:$DK$120,ROWS($A$10:$A41)+2,FALSE)","v":30},{"$f":"HLOOKUP(DK$7+0.5,$J$66:$DK$120,ROWS($A$10:$A41)+2,FALSE)","v":1462}]
[null,"New Mexico","West",2060595,2119,1769341,11461,226243,12069,{"$f":"HLOOKUP(J$7,$J$66:$DK$120,ROWS($A$10:$A42)+2,FALSE)","v":54693},{"$f":"HLOOKUP(K$7,$J$66:$DK$120,ROWS($A$10:$A42)+2,FALSE)","v":787},{"$f":"HLOOKUP(L$7,$J$66:$DK$120,ROWS($A$10:$A42)+2,FALSE)","v":320},{"$f":"HLOOKUP(M$7,$J$66:$DK$120,ROWS($A$10:$A42)+2,FALSE)","v":6391},{"$f":"HLOOKUP(N$7,$J$66:$DK$120,ROWS($A$10:$A42)+2,FALSE)","v":410},{"$f":"HLOOKUP(O$7,$J$66:$DK$120,ROWS($A$10:$A42)+2,FALSE)","v":4536},{"$f":"HLOOKUP(P$7,$J$66:$DK$120,ROWS($A$10:$A42)+2,FALSE)","v":4780},{"$f":"HLOOKUP(Q$7,$J$66:$DK$120,ROWS($A$10:$A42)+2,FALSE)","v":280},{"$f":"HLOOKUP(R$7,$J$66:$DK$120,ROWS($A$10:$A42)+2,FALSE)","v":100},{"$f":"HLOOKUP(S$7,$J$66:$DK$120,ROWS($A$10:$A42)+2,FALSE)","v":25},{"$f":"HLOOKUP(T$7,$J$66:$DK$120,ROWS($A$10:$A42)+2,FALSE)","v":4707},{"$f":"HLOOKUP(U$7,$J$66:$DK$120,ROWS($A$10:$A42)+2,FALSE)","v":192},{"$f":"HLOOKUP(V$7,$J$66:$DK$120,ROWS($A$10:$A42)+2,FALSE)","v":168},{"$f":"HLOOKUP(W$7,$J$66:$DK$120,ROWS($A$10:$A42)+2,FALSE)","v":355},{"$f":"HLOOKUP(X$7,$J$66:$DK$120,ROWS($A$10:$A42)+2,FALSE)","v":790},{"$f":"HLOOKUP(Y$7,$J$66:$DK$120,ROWS($A$10:$A42)+2,FALSE)","v":660},{"$f":"HLOOKUP(Z$7,$J$66:$DK$120,ROWS($A$10:$A42)+2,FALSE)","v":384},{"$f":"HLOOKUP(AA$7,$J$66:$DK$120,ROWS($A$10:$A42)+2,FALSE)","v":672},{"$f":"HLOOKUP(AB$7,$J$66:$DK$120,ROWS($A$10:$A42)+2,FALSE)","v":159},{"$f":"HLOOKUP(AC$7,$J$66:$DK$120,ROWS($A$10:$A42)+2,FALSE)","v":790},{"$f":"HLOOKUP(AD$7,$J$66:$DK$120,ROWS($A$10:$A42)+2,FALSE)","v":57},{"$f":"HLOOKUP(AE$7,$J$66:$DK$120,ROWS($A$10:$A42)+2,FALSE)","v":505},{"$f":"HLOOKUP(AF$7,$J$66:$DK$120,ROWS($A$10:$A42)+2,FALSE)","v":303},{"$f":"HLOOKUP(AG$7,$J$66:$DK$120,ROWS($A$10:$A42)+2,FALSE)","v":602},{"$f":"HLOOKUP(AH$7,$J$66:$DK$120,ROWS($A$10:$A42)+2,FALSE)","v":284},{"$f":"HLOOKUP(AI$7,$J$66:$DK$120,ROWS($A$10:$A42)+2,FALSE)","v":451},{"$f":"HLOOKUP(AJ$7,$J$66:$DK$120,ROWS($A$10:$A42)+2,FALSE)","v":1216},{"$f":"HLOOKUP(AK$7,$J$66:$DK$120,ROWS($A$10:$A42)+2,FALSE)","v":139},{"$f":"HLOOKUP(AL$7,$J$66:$DK$120,ROWS($A$10:$A42)+2,FALSE)","v":194},{"$f":"HLOOKUP(AM$7,$J$66:$DK$120,ROWS($A$10:$A42)+2,FALSE)","v":604},{"$f":"HLOOKUP(AN$7,$J$66:$DK$120,ROWS($A$10:$A42)+2,FALSE)","v":268},{"$f":"HLOOKUP(AO$7,$J$66:$DK$120,ROWS($A$10:$A42)+2,FALSE)","v":252},{"$f":"HLOOKUP(AP$7,$J$66:$DK$120,ROWS($A$10:$A42)+2,FALSE)","v":"N/A"},{"$f":"HLOOKUP(AQ$7,$J$66:$DK$120,ROWS($A$10:$A42)+2,FALSE)","v":1111},{"$f":"HLOOKUP(AR$7,$J$66:$DK$120,ROWS($A$10:$A42)+2,FALSE)","v":335},{"$f":"HLOOKUP(AS$7,$J$66:$DK$120,ROWS($A$10:$A42)+2,FALSE)","v":41},{"$f":"HLOOKUP(AT$7,$J$66:$DK$120,ROWS($A$10:$A42)+2,FALSE)","v":1178},{"$f":"HLOOKUP(AU$7,$J$66:$DK$120,ROWS($A$10:$A42)+2,FALSE)","v":1076},{"$f":"HLOOKUP(AV$7,$J$66:$DK$120,ROWS($A$10:$A42)+2,FALSE)","v":932},{"$f":"HLOOKUP(AW$7,$J$66:$DK$120,ROWS($A$10:$A42)+2,FALSE)","v":822},{"$f":"HLOOKUP(AX$7,$J$66:$DK$120,ROWS($A$10:$A42)+2,FALSE)","v":0},{"$f":"HLOOKUP(AY$7,$J$66:$DK$120,ROWS($A$10:$A42)+2,FALSE)","v":325},{"$f":"HLOOKUP(AZ$7,$J$66:$DK$120,ROWS($A$10:$A42)+2,FALSE)","v":509},{"$f":"HLOOKUP(BA$7,$J$66:$DK$120,ROWS($A$10:$A42)+2,FALSE)","v":338},{"$f":"HLOOKUP(BB$7,$J$66:$DK$120,ROWS($A$10:$A42)+2,FALSE)","v":11955},{"$f":"HLOOKUP(BC$7,$J$66:$DK$120,ROWS($A$10:$A42)+2,FALSE)","v":1382},{"$f":"HLOOKUP(BD$7,$J$66:$DK$120,ROWS($A$10:$A42)+2,FALSE)","v":81},{"$f":"HLOOKUP(BE$7,$J$66:$DK$120,ROWS($A$10:$A42)+2,FALSE)","v":1560},{"$f":"HLOOKUP(BF$7,$J$66:$DK$120,ROWS($A$10:$A42)+2,FALSE)","v":1251},{"$f":"HLOOKUP(BG$7,$J$66:$DK$120,ROWS($A$10:$A42)+2,FALSE)","v":0},{"$f":"HLOOKUP(BH$7,$J$66:$DK$120,ROWS($A$10:$A42)+2,FALSE)","v":321},{"$f":"HLOOKUP(BI$7,$J$66:$DK$120,ROWS($A$10:$A42)+2,FALSE)","v":95},{"$f":"HLOOKUP(BJ$7,$J$66:$DK$120,ROWS($A$10:$A42)+2,FALSE)","v":429},{"$f":"HLOOKUP(BK$7+0.5,$J$66:$DK$120,ROWS($A$10:$A42)+2,FALSE)","v":5877},{"$f":"HLOOKUP(BL$7+0.5,$J$66:$DK$120,ROWS($A$10:$A42)+2,FALSE)","v":509},{"$f":"HLOOKUP(BM$7+0.5,$J$66:$DK$120,ROWS($A$10:$A42)+2,FALSE)","v":264},{"$f":"HLOOKUP(BN$7+0.5,$J$66:$DK$120,ROWS($A$10:$A42)+2,FALSE)","v":1673},{"$f":"HLOOKUP(BO$7+0.5,$J$66:$DK$120,ROWS($A$10:$A42)+2,FALSE)","v":286},{"$f":"HLOOKUP(BP$7+0.5,$J$66:$DK$120,ROWS($A$10:$A42)+2,FALSE)","v":1440},{"$f":"HLOOKUP(BQ$7+0.5,$J$66:$DK$120,ROWS($A$10:$A42)+2,FALSE)","v":1546},{"$f":"HLOOKUP(BR$7+0.5,$J$66:$DK$120,ROWS($A$10:$A42)+2,FALSE)","v":250},{"$f":"HLOOKUP(BS$7+0.5,$J$66:$DK$120,ROWS($A$10:$A42)+2,FALSE)","v":136},{"$f":"HLOOKUP(BT$7+0.5,$J$66:$DK$120,ROWS($A$10:$A42)+2,FALSE)","v":51},{"$f":"HLOOKUP(BU$7+0.5,$J$66:$DK$120,ROWS($A$10:$A42)+2,FALSE)","v":2184},{"$f":"HLOOKUP(BV$7+0.5,$J$66:$DK$120,ROWS($A$10:$A42)+2,FALSE)","v":184},{"$f":"HLOOKUP(BW$7+0.5,$J$66:$DK$120,ROWS($A$10:$A42)+2,FALSE)","v":127},{"$f":"HLOOKUP(BX$7+0.5,$J$66:$DK$120,ROWS($A$10:$A42)+2,FALSE)","v":352},{"$f":"HLOOKUP(BY$7+0.5,$J$66:$DK$120,ROWS($A$10:$A42)+2,FALSE)","v":530},{"$f":"HLOOKUP(BZ$7+0.5,$J$66:$DK$120,ROWS($A$10:$A42)+2,FALSE)","v":524},{"$f":"HLOOKUP(CA$7+0.5,$J$66:$DK$120,ROWS($A$10:$A42)+2,FALSE)","v":331},{"$f":"HLOOKUP(CB$7+0.5,$J$66:$DK$120,ROWS($A$10:$A42)+2,FALSE)","v":537},{"$f":"HLOOKUP(CC$7+0.5,$J$66:$DK$120,ROWS($A$10:$A42)+2,FALSE)","v":160},{"$f":"HLOOKUP(CD$7+0.5,$J$66:$DK$120,ROWS($A$10:$A42)+2,FALSE)","v":883},{"$f":"HLOOKUP(CE$7+0.5,$J$66:$DK$120,ROWS($A$10:$A42)+2,FALSE)","v":80},{"$f":"HLOOKUP(CF$7+0.5,$J$66:$DK$120,ROWS($A$10:$A42)+2,FALSE)","v":355},{"$f":"HLOOKUP(CG$7+0.5,$J$66:$DK$120,ROWS($A$10:$A42)+2,FALSE)","v":298},{"$f":"HLOOKUP(CH$7+0.5,$J$66:$DK$120,ROWS($A$10:$A42)+2,FALSE)","v":490},{"$f":"HLOOKUP(CI$7+0.5,$J$66:$DK$120,ROWS($A$10:$A42)+2,FALSE)","v":428},{"$f":"HLOOKUP(CJ$7+0.5,$J$66:$DK$120,ROWS($A$10:$A42)+2,FALSE)","v":630},{"$f":"HLOOKUP(CK$7+0.5,$J$66:$DK$120,ROWS($A$10:$A42)+2,FALSE)","v":793},{"$f":"HLOOKUP(CL$7+0.5,$J$66:$DK$120,ROWS($A$10:$A42)+2,FALSE)","v":162},{"$f":"HLOOKUP(CM$7+0.5,$J$66:$DK$120,ROWS($A$10:$A42)+2,FALSE)","v":220},{"$f":"HLOOKUP(CN$7+0.5,$J$66:$DK$120,ROWS($A$10:$A42)+2,FALSE)","v":853},{"$f":"HLOOKUP(CO$7+0.5,$J$66:$DK$120,ROWS($A$10:$A42)+2,FALSE)","v":259},{"$f":"HLOOKUP(CP$7+0.5,$J$66:$DK$120,ROWS($A$10:$A42)+2,FALSE)","v":271},{"$f":"HLOOKUP(CQ$7+0.5,$J$66:$DK$120,ROWS($A$10:$A42)+2,FALSE)","v":"N/A"},{"$f":"HLOOKUP(CR$7+0.5,$J$66:$DK$120,ROWS($A$10:$A42)+2,FALSE)","v":618},{"$f":"HLOOKUP(CS$7+0.5,$J$66:$DK$120,ROWS($A$10:$A42)+2,FALSE)","v":373},{"$f":"HLOOKUP(CT$7+0.5,$J$66:$DK$120,ROWS($A$10:$A42)+2,FALSE)","v":82},{"$f":"HLOOKUP(CU$7+0.5,$J$66:$DK$120,ROWS($A$10:$A42)+2,FALSE)","v":1049},{"$f":"HLOOKUP(CV$7+0.5,$J$66:$DK$120,ROWS($A$10:$A42)+2,FALSE)","v":568},{"$f":"HLOOKUP(CW$7+0.5,$J$66:$DK$120,ROWS($A$10:$A42)+2,FALSE)","v":481},{"$f":"HLOOKUP(CX$7+0.5,$J$66:$DK$120,ROWS($A$10:$A42)+2,FALSE)","v":666},{"$f":"HLOOKUP(CY$7+0.5,$J$66:$DK$120,ROWS($A$10:$A42)+2,FALSE)","v":185},{"$f":"HLOOKUP(CZ$7+0.5,$J$66:$DK$120,ROWS($A$10:$A42)+2,FALSE)","v":260},{"$f":"HLOOKUP(DA$7+0.5,$J$66:$DK$120,ROWS($A$10:$A42)+2,FALSE)","v":547},{"$f":"HLOOKUP(DB$7+0.5,$J$66:$DK$120,ROWS($A$10:$A42)+2,FALSE)","v":274},{"$f":"HLOOKUP(DC$7+0.5,$J$66:$DK$120,ROWS($A$10:$A42)+2,FALSE)","v":2917},{"$f":"HLOOKUP(DD$7+0.5,$J$66:$DK$120,ROWS($A$10:$A42)+2,FALSE)","v":889},{"$f":"HLOOKUP(DE$7+0.5,$J$66:$DK$120,ROWS($A$10:$A42)+2,FALSE)","v":103},{"$f":"HLOOKUP(DF$7+0.5,$J$66:$DK$120,ROWS($A$10:$A42)+2,FALSE)","v":1330},{"$f":"HLOOKUP(DG$7+0.5,$J$66:$DK$120,ROWS($A$10:$A42)+2,FALSE)","v":575},{"$f":"HLOOKUP(DH$7+0.5,$J$66:$DK$120,ROWS($A$10:$A42)+2,FALSE)","v":185},{"$f":"HLOOKUP(DI$7+0.5,$J$66:$DK$120,ROWS($A$10:$A42)+2,FALSE)","v":514},{"$f":"HLOOKUP(DJ$7+0.5,$J$66:$DK$120,ROWS($A$10:$A42)+2,FALSE)","v":100},{"$f":"HLOOKUP(DK$7+0.5,$J$66:$DK$120,ROWS($A$10:$A42)+2,FALSE)","v":466}]
[null,"New York","Northeast",19352153,6112,17202134,34343,1723117,30910,{"$f":"HLOOKUP(J$7,$J$66:$DK$120,ROWS($A$10:$A43)+2,FALSE)","v":270053},{"$f":"HLOOKUP(K$7,$J$66:$DK$120,ROWS($A$10:$A43)+2,FALSE)","v":1364},{"$f":"HLOOKUP(L$7,$J$66:$DK$120,ROWS($A$10:$A43)+2,FALSE)","v":4002},{"$f":"HLOOKUP(M$7,$J$66:$DK$120,ROWS($A$10:$A43)+2,FALSE)","v":4146},{"$f":"HLOOKUP(N$7,$J$66:$DK$120,ROWS($A$10:$A43)+2,FALSE)","v":247},{"$f":"HLOOKUP(O$7,$J$66:$DK$120,ROWS($A$10:$A43)+2,FALSE)","v":24623},{"$f":"HLOOKUP(P$7,$J$66:$DK$120,ROWS($A$10:$A43)+2,FALSE)","v":3596},{"$f":"HLOOKUP(Q$7,$J$66:$DK$120,ROWS($A$10:$A43)+2,FALSE)","v":14595},{"$f":"HLOOKUP(R$7,$J$66:$DK$120,ROWS($A$10:$A43)+2,FALSE)","v":477},{"$f":"HLOOKUP(S$7,$J$66:$DK$120,ROWS($A$10:$A43)+2,FALSE)","v":3936},{"$f":"HLOOKUP(T$7,$J$66:$DK$120,ROWS($A$10:$A43)+2,FALSE)","v":27392},{"$f":"HLOOKUP(U$7,$J$66:$DK$120,ROWS($A$10:$A43)+2,FALSE)","v":7592},{"$f":"HLOOKUP(V$7,$J$66:$DK$120,ROWS($A$10:$A43)+2,FALSE)","v":1598},{"$f":"HLOOKUP(W$7,$J$66:$DK$120,ROWS($A$10:$A43)+2,FALSE)","v":607},{"$f":"HLOOKUP(X$7,$J$66:$DK$120,ROWS($A$10:$A43)+2,FALSE)","v":8017},{"$f":"HLOOKUP(Y$7,$J$66:$DK$120,ROWS($A$10:$A43)+2,FALSE)","v":3040},{"$f":"HLOOKUP(Z$7,$J$66:$DK$120,ROWS($A$10:$A43)+2,FALSE)","v":955},{"$f":"HLOOKUP(AA$7,$J$66:$DK$120,ROWS($A$10:$A43)+2,FALSE)","v":1437},{"$f":"HLOOKUP(AB$7,$J$66:$DK$120,ROWS($A$10:$A43)+2,FALSE)","v":1753},{"$f":"HLOOKUP(AC$7,$J$66:$DK$120,ROWS($A$10:$A43)+2,FALSE)","v":1083},{"$f":"HLOOKUP(AD$7,$J$66:$DK$120,ROWS($A$10:$A43)+2,FALSE)","v":1345},{"$f":"HLOOKUP(AE$7,$J$66:$DK$120,ROWS($A$10:$A43)+2,FALSE)","v":7321},{"$f":"HLOOKUP(AF$7,$J$66:$DK$120,ROWS($A$10:$A43)+2,FALSE)","v":15073},{"$f":"HLOOKUP(AG$7,$J$66:$DK$120,ROWS($A$10:$A43)+2,FALSE)","v":5191},{"$f":"HLOOKUP(AH$7,$J$66:$DK$120,ROWS($A$10:$A43)+2,FALSE)","v":1059},{"$f":"HLOOKUP(AI$7,$J$66:$DK$120,ROWS($A$10:$A43)+2,FALSE)","v":773},{"$f":"HLOOKUP(AJ$7,$J$66:$DK$120,ROWS($A$10:$A43)+2,FALSE)","v":3310},{"$f":"HLOOKUP(AK$7,$J$66:$DK$120,ROWS($A$10:$A43)+2,FALSE)","v":421},{"$f":"HLOOKUP(AL$7,$J$66:$DK$120,ROWS($A$10:$A43)+2,FALSE)","v":78},{"$f":"HLOOKUP(AM$7,$J$66:$DK$120,ROWS($A$10:$A43)+2,FALSE)","v":600},{"$f":"HLOOKUP(AN$7,$J$66:$DK$120,ROWS($A$10:$A43)+2,FALSE)","v":2760},{"$f":"HLOOKUP(AO$7,$J$66:$DK$120,ROWS($A$10:$A43)+2,FALSE)","v":42574},{"$f":"HLOOKUP(AP$7,$J$66:$DK$120,ROWS($A$10:$A43)+2,FALSE)","v":646},{"$f":"HLOOKUP(AQ$7,$J$66:$DK$120,ROWS($A$10:$A43)+2,FALSE)","v":"N/A"},{"$f":"HLOOKUP(AR$7,$J$66:$DK$120,ROWS($A$10:$A43)+2,FALSE)","v":10544},{"$f":"HLOOKUP(AS$7,$J$66:$DK$120,ROWS($A$10:$A43)+2,FALSE)","v":77},{"$f":"HLOOKUP(AT$7,$J$66:$DK$120,ROWS($A$10:$A43)+2,FALSE)","v":4625},{"$f":"HLOOKUP(AU$7,$J$66:$DK$120,ROWS($A$10:$A43)+2,FALSE)","v":1327},{"$f":"HLOOKUP(AV$7,$J$66:$DK$120,ROWS($A$10:$A43)+2,FALSE)","v":1055},{"$f":"HLOOKUP(AW$7,$J$66:$DK$120,ROWS($A$10:$A43)+2,FALSE)","v":22895},{"$f":"HLOOKUP(AX$7,$J$66:$DK$120,ROWS($A$10:$A43)+2,FALSE)","v":3222},{"$f":"HLOOKUP(AY$7,$J$66:$DK$120,ROWS($A$10:$A43)+2,FALSE)","v":5952},{"$f":"HLOOKUP(AZ$7,$J$66:$DK$120,ROWS($A$10:$A43)+2,FALSE)","v":0},{"$f":"HLOOKUP(BA$7,$J$66:$DK$120,ROWS($A$10:$A43)+2,FALSE)","v":1279},{"$f":"HLOOKUP(BB$7,$J$66:$DK$120,ROWS($A$10:$A43)+2,FALSE)","v":11231},{"$f":"HLOOKUP(BC$7,$J$66:$DK$120,ROWS($A$10:$A43)+2,FALSE)","v":622},{"$f":"HLOOKUP(BD$7,$J$66:$DK$120,ROWS($A$10:$A43)+2,FALSE)","v":2764},{"$f":"HLOOKUP(BE$7,$J$66:$DK$120,ROWS($A$10:$A43)+2,FALSE)","v":7939},{"$f":"HLOOKUP(BF$7,$J$66:$DK$120,ROWS($A$10:$A43)+2,FALSE)","v":2614},{"$f":"HLOOKUP(BG$7,$J$66:$DK$120,ROWS($A$10:$A43)+2,FALSE)","v":921},{"$f":"HLOOKUP(BH$7,$J$66:$DK$120,ROWS($A$10:$A43)+2,FALSE)","v":979},{"$f":"HLOOKUP(BI$7,$J$66:$DK$120,ROWS($A$10:$A43)+2,FALSE)","v":396},{"$f":"HLOOKUP(BJ$7,$J$66:$DK$120,ROWS($A$10:$A43)+2,FALSE)","v":7321},{"$f":"HLOOKUP(BK$7+0.5,$J$66:$DK$120,ROWS($A$10:$A43)+2,FALSE)","v":11861},{"$f":"HLOOKUP(BL$7+0.5,$J$66:$DK$120,ROWS($A$10:$A43)+2,FALSE)","v":864},{"$f":"HLOOKUP(BM$7+0.5,$J$66:$DK$120,ROWS($A$10:$A43)+2,FALSE)","v":2016},{"$f":"HLOOKUP(BN$7+0.5,$J$66:$DK$120,ROWS($A$10:$A43)+2,FALSE)","v":2468},{"$f":"HLOOKUP(BO$7+0.5,$J$66:$DK$120,ROWS($A$10:$A43)+2,FALSE)","v":203},{"$f":"HLOOKUP(BP$7+0.5,$J$66:$DK$120,ROWS($A$10:$A43)+2,FALSE)","v":2557},{"$f":"HLOOKUP(BQ$7+0.5,$J$66:$DK$120,ROWS($A$10:$A43)+2,FALSE)","v":976},{"$f":"HLOOKUP(BR$7+0.5,$J$66:$DK$120,ROWS($A$10:$A43)+2,FALSE)","v":2921},{"$f":"HLOOKUP(BS$7+0.5,$J$66:$DK$120,ROWS($A$10:$A43)+2,FALSE)","v":284},{"$f":"HLOOKUP(BT$7+0.5,$J$66:$DK$120,ROWS($A$10:$A43)+2,FALSE)","v":1392},{"$f":"HLOOKUP(BU$7+0.5,$J$66:$DK$120,ROWS($A$10:$A43)+2,FALSE)","v":3450},{"$f":"HLOOKUP(BV$7+0.5,$J$66:$DK$120,ROWS($A$10:$A43)+2,FALSE)","v":1925},{"$f":"HLOOKUP(BW$7+0.5,$J$66:$DK$120,ROWS($A$10:$A43)+2,FALSE)","v":734},{"$f":"HLOOKUP(BX$7+0.5,$J$66:$DK$120,ROWS($A$10:$A43)+2,FALSE)","v":472},{"$f":"HLOOKUP(BY$7+0.5,$J$66:$DK$120,ROWS($A$10:$A43)+2,FALSE)","v":2204},{"$f":"HLOOKUP(BZ$7+0.5,$J$66:$DK$120,ROWS($A$10:$A43)+2,FALSE)","v":1128},{"$f":"HLOOKUP(CA$7+0.5,$J$66:$DK$120,ROWS($A$10:$A43)+2,FALSE)","v":658},{"$f":"HLOOKUP(CB$7+0.5,$J$66:$DK$120,ROWS($A$10:$A43)+2,FALSE)","v":906},{"$f":"HLOOKUP(CC$7+0.5,$J$66:$DK$120,ROWS($A$10:$A43)+2,FALSE)","v":808},{"$f":"HLOOKUP(CD$7+0.5,$J$66:$DK$120,ROWS($A$10:$A43)+2,FALSE)","v":465},{"$f":"HLOOKUP(CE$7+0.5,$J$66:$DK$120,ROWS($A$10:$A43)+2,FALSE)","v":536},{"$f":"HLOOKUP(CF$7+0.5,$J$66:$DK$120,ROWS($A$10:$A43)+2,FALSE)","v":1575},{"$f":"HLOOKUP(CG$7+0.5,$J$66:$DK$120,ROWS($A$10:$A43)+2,FALSE)","v":2292},{"$f":"HLOOKUP(CH$7+0.5,$J$66:$DK$120,ROWS($A$10:$A43)+2,FALSE)","v":1445},{"$f":"HLOOKUP(CI$7+0.5,$J$66:$DK$120,ROWS($A$10:$A43)+2,FALSE)","v":631},{"$f":"HLOOKUP(CJ$7+0.5,$J$66:$DK$120,ROWS($A$10:$A43)+2,FALSE)","v":800},{"$f":"HLOOKUP(CK$7+0.5,$J$66:$DK$120,ROWS($A$10:$A43)+2,FALSE)","v":1260},{"$f":"HLOOKUP(CL$7+0.5,$J$66:$DK$120,ROWS($A$10:$A43)+2,FALSE)","v":424},{"$f":"HLOOKUP(CM$7+0.5,$J$66:$DK$120,ROWS($A$10:$A43)+2,FALSE)","v":108},{"$f":"HLOOKUP(CN$7+0.5,$J$66:$DK$120,ROWS($A$10:$A43)+2,FALSE)","v":382},{"$f":"HLOOKUP(CO$7+0.5,$J$66:$DK$120,ROWS($A$10:$A43)+2,FALSE)","v":1059},{"$f":"HLOOKUP(CP$7+0.5,$J$66:$DK$120,ROWS($A$10:$A43)+2,FALSE)","v":4802},{"$f":"HLOOKUP(CQ$7+0.5,$J$66:$DK$120,ROWS($A$10:$A43)+2,FALSE)","v":445},{"$f":"HLOOKUP(CR$7+0.5,$J$66:$DK$120,ROWS($A$10:$A43)+2,FALSE)","v":"N/A"},{"$f":"HLOOKUP(CS$7+0.5,$J$66:$DK$120,ROWS($A$10:$A43)+2,FALSE)","v":2568},{"$f":"HLOOKUP(CT$7+0.5,$J$66:$DK$120,ROWS($A$10:$A43)+2,FALSE)","v":129},{"$f":"HLOOKUP(CU$7+0.5,$J$66:$DK$120,ROWS($A$10:$A43)+2,FALSE)","v":1103},{"$f":"HLOOKUP(CV$7+0.5,$J$66:$DK$120,ROWS($A$10:$A43)+2,FALSE)","v":652},{"$f":"HLOOKUP(CW$7+0.5,$J$66:$DK$120,ROWS($A$10:$A43)+2,FALSE)","v":716},{"$f":"HLOOKUP(CX$7+0.5,$J$66:$DK$120,ROWS($A$10:$A43)+2,FALSE)","v":3206},{"$f":"HLOOKUP(CY$7+0.5,$J$66:$DK$120,ROWS($A$10:$A43)+2,FALSE)","v":1538},{"$f":"HLOOKUP(CZ$7+0.5,$J$66:$DK$120,ROWS($A$10:$A43)+2,FALSE)","v":1542},{"$f":"HLOOKUP(DA$7+0.5,$J$66:$DK$120,ROWS($A$10:$A43)+2,FALSE)","v":185},{"$f":"HLOOKUP(DB$7+0.5,$J$66:$DK$120,ROWS($A$10:$A43)+2,FALSE)","v":624},{"$f":"HLOOKUP(DC$7+0.5,$J$66:$DK$120,ROWS($A$10:$A43)+2,FALSE)","v":2384},{"$f":"HLOOKUP(DD$7+0.5,$J$66:$DK$120,ROWS($A$10:$A43)+2,FALSE)","v":489},{"$f":"HLOOKUP(DE$7+0.5,$J$66:$DK$120,ROWS($A$10:$A43)+2,FALSE)","v":1025},{"$f":"HLOOKUP(DF$7+0.5,$J$66:$DK$120,ROWS($A$10:$A43)+2,FALSE)","v":2109},{"$f":"HLOOKUP(DG$7+0.5,$J$66:$DK$120,ROWS($A$10:$A43)+2,FALSE)","v":840},{"$f":"HLOOKUP(DH$7+0.5,$J$66:$DK$120,ROWS($A$10:$A43)+2,FALSE)","v":689},{"$f":"HLOOKUP(DI$7+0.5,$J$66:$DK$120,ROWS($A$10:$A43)+2,FALSE)","v":507},{"$f":"HLOOKUP(DJ$7+0.5,$J$66:$DK$120,ROWS($A$10:$A43)+2,FALSE)","v":370},{"$f":"HLOOKUP(DK$7+0.5,$J$66:$DK$120,ROWS($A$10:$A43)+2,FALSE)","v":1791}]
[null,"North Carolina","South",9640490,5097,8167830,27074,1149080,24801,{"$f":"HLOOKUP(J$7,$J$66:$DK$120,ROWS($A$10:$A44)+2,FALSE)","v":273149},{"$f":"HLOOKUP(K$7,$J$66:$DK$120,ROWS($A$10:$A44)+2,FALSE)","v":4329},{"$f":"HLOOKUP(L$7,$J$66:$DK$120,ROWS($A$10:$A44)+2,FALSE)","v":1458},{"$f":"HLOOKUP(M$7,$J$66:$DK$120,ROWS($A$10:$A44)+2,FALSE)","v":3493},{"$f":"HLOOKUP(N$7,$J$66:$DK$120,ROWS($A$10:$A44)+2,FALSE)","v":861},{"$f":"HLOOKUP(O$7,$J$66:$DK$120,ROWS($A$10:$A44)+2,FALSE)","v":13883},{"$f":"HLOOKUP(P$7,$J$66:$DK$120,ROWS($A$10:$A44)+2,FALSE)","v":4790},{"$f":"HLOOKUP(Q$7,$J$66:$DK$120,ROWS($A$10:$A44)+2,FALSE)","v":4914},{"$f":"HLOOKUP(R$7,$J$66:$DK$120,ROWS($A$10:$A44)+2,FALSE)","v":2180},{"$f":"HLOOKUP(S$7,$J$66:$DK$120,ROWS($A$10:$A44)+2,FALSE)","v":1801},{"$f":"HLOOKUP(T$7,$J$66:$DK$120,ROWS($A$10:$A44)+2,FALSE)","v":26365},{"$f":"HLOOKUP(U$7,$J$66:$DK$120,ROWS($A$10:$A44)+2,FALSE)","v":16823},{"$f":"HLOOKUP(V$7,$J$66:$DK$120,ROWS($A$10:$A44)+2,FALSE)","v":1566},{"$f":"HLOOKUP(W$7,$J$66:$DK$120,ROWS($A$10:$A44)+2,FALSE)","v":334},{"$f":"HLOOKUP(X$7,$J$66:$DK$120,ROWS($A$10:$A44)+2,FALSE)","v":6378},{"$f":"HLOOKUP(Y$7,$J$66:$DK$120,ROWS($A$10:$A44)+2,FALSE)","v":4532},{"$f":"HLOOKUP(Z$7,$J$66:$DK$120,ROWS($A$10:$A44)+2,FALSE)","v":775},{"$f":"HLOOKUP(AA$7,$J$66:$DK$120,ROWS($A$10:$A44)+2,FALSE)","v":1595},{"$f":"HLOOKUP(AB$7,$J$66:$DK$120,ROWS($A$10:$A44)+2,FALSE)","v":1531},{"$f":"HLOOKUP(AC$7,$J$66:$DK$120,ROWS($A$10:$A44)+2,FALSE)","v":919},{"$f":"HLOOKUP(AD$7,$J$66:$DK$120,ROWS($A$10:$A44)+2,FALSE)","v":1259},{"$f":"HLOOKUP(AE$7,$J$66:$DK$120,ROWS($A$10:$A44)+2,FALSE)","v":9005},{"$f":"HLOOKUP(AF$7,$J$66:$DK$120,ROWS($A$10:$A44)+2,FALSE)","v":3710},{"$f":"HLOOKUP(AG$7,$J$66:$DK$120,ROWS($A$10:$A44)+2,FALSE)","v":6161},{"$f":"HLOOKUP(AH$7,$J$66:$DK$120,ROWS($A$10:$A44)+2,FALSE)","v":1523},{"$f":"HLOOKUP(AI$7,$J$66:$DK$120,ROWS($A$10:$A44)+2,FALSE)","v":2377},{"$f":"HLOOKUP(AJ$7,$J$66:$DK$120,ROWS($A$10:$A44)+2,FALSE)","v":2623},{"$f":"HLOOKUP(AK$7,$J$66:$DK$120,ROWS($A$10:$A44)+2,FALSE)","v":244},{"$f":"HLOOKUP(AL$7,$J$66:$DK$120,ROWS($A$10:$A44)+2,FALSE)","v":628},{"$f":"HLOOKUP(AM$7,$J$66:$DK$120,ROWS($A$10:$A44)+2,FALSE)","v":1627},{"$f":"HLOOKUP(AN$7,$J$66:$DK$120,ROWS($A$10:$A44)+2,FALSE)","v":754},{"$f":"HLOOKUP(AO$7,$J$66:$DK$120,ROWS($A$10:$A44)+2,FALSE)","v":11468},{"$f":"HLOOKUP(AP$7,$J$66:$DK$120,ROWS($A$10:$A44)+2,FALSE)","v":1138},{"$f":"HLOOKUP(AQ$7,$J$66:$DK$120,ROWS($A$10:$A44)+2,FALSE)","v":19891},{"$f":"HLOOKUP(AR$7,$J$66:$DK$120,ROWS($A$10:$A44)+2,FALSE)","v":"N/A"},{"$f":"HLOOKUP(AS$7,$J$66:$DK$120,ROWS($A$10:$A44)+2,FALSE)","v":206},{"$f":"HLOOKUP(AT$7,$J$66:$DK$120,ROWS($A$10:$A44)+2,FALSE)","v":9337},{"$f":"HLOOKUP(AU$7,$J$66:$DK$120,ROWS($A$10:$A44)+2,FALSE)","v":1263},{"$f":"HLOOKUP(AV$7,$J$66:$DK$120,ROWS($A$10:$A44)+2,FALSE)","v":1333},{"$f":"HLOOKUP(AW$7,$J$66:$DK$120,ROWS($A$10:$A44)+2,FALSE)","v":12179},{"$f":"HLOOKUP(AX$7,$J$66:$DK$120,ROWS($A$10:$A44)+2,FALSE)","v":290},{"$f":"HLOOKUP(AY$7,$J$66:$DK$120,ROWS($A$10:$A44)+2,FALSE)","v":25532},{"$f":"HLOOKUP(AZ$7,$J$66:$DK$120,ROWS($A$10:$A44)+2,FALSE)","v":351},{"$f":"HLOOKUP(BA$7,$J$66:$DK$120,ROWS($A$10:$A44)+2,FALSE)","v":9230},{"$f":"HLOOKUP(BB$7,$J$66:$DK$120,ROWS($A$10:$A44)+2,FALSE)","v":12638},{"$f":"HLOOKUP(BC$7,$J$66:$DK$120,ROWS($A$10:$A44)+2,FALSE)","v":1189},{"$f":"HLOOKUP(BD$7,$J$66:$DK$120,ROWS($A$10:$A44)+2,FALSE)","v":445},{"$f":"HLOOKUP(BE$7,$J$66:$DK$120,ROWS($A$10:$A44)+2,FALSE)","v":26759},{"$f":"HLOOKUP(BF$7,$J$66:$DK$120,ROWS($A$10:$A44)+2,FALSE)","v":5915},{"$f":"HLOOKUP(BG$7,$J$66:$DK$120,ROWS($A$10:$A44)+2,FALSE)","v":2677},{"$f":"HLOOKUP(BH$7,$J$66:$DK$120,ROWS($A$10:$A44)+2,FALSE)","v":2266},{"$f":"HLOOKUP(BI$7,$J$66:$DK$120,ROWS($A$10:$A44)+2,FALSE)","v":604},{"$f":"HLOOKUP(BJ$7,$J$66:$DK$120,ROWS($A$10:$A44)+2,FALSE)","v":2025},{"$f":"HLOOKUP(BK$7+0.5,$J$66:$DK$120,ROWS($A$10:$A44)+2,FALSE)","v":13136},{"$f":"HLOOKUP(BL$7+0.5,$J$66:$DK$120,ROWS($A$10:$A44)+2,FALSE)","v":1544},{"$f":"HLOOKUP(BM$7+0.5,$J$66:$DK$120,ROWS($A$10:$A44)+2,FALSE)","v":925},{"$f":"HLOOKUP(BN$7+0.5,$J$66:$DK$120,ROWS($A$10:$A44)+2,FALSE)","v":1189},{"$f":"HLOOKUP(BO$7+0.5,$J$66:$DK$120,ROWS($A$10:$A44)+2,FALSE)","v":649},{"$f":"HLOOKUP(BP$7+0.5,$J$66:$DK$120,ROWS($A$10:$A44)+2,FALSE)","v":2813},{"$f":"HLOOKUP(BQ$7+0.5,$J$66:$DK$120,ROWS($A$10:$A44)+2,FALSE)","v":2047},{"$f":"HLOOKUP(BR$7+0.5,$J$66:$DK$120,ROWS($A$10:$A44)+2,FALSE)","v":1990},{"$f":"HLOOKUP(BS$7+0.5,$J$66:$DK$120,ROWS($A$10:$A44)+2,FALSE)","v":1732},{"$f":"HLOOKUP(BT$7+0.5,$J$66:$DK$120,ROWS($A$10:$A44)+2,FALSE)","v":687},{"$f":"HLOOKUP(BU$7+0.5,$J$66:$DK$120,ROWS($A$10:$A44)+2,FALSE)","v":3750},{"$f":"HLOOKUP(BV$7+0.5,$J$66:$DK$120,ROWS($A$10:$A44)+2,FALSE)","v":2851},{"$f":"HLOOKUP(BW$7+0.5,$J$66:$DK$120,ROWS($A$10:$A44)+2,FALSE)","v":921},{"$f":"HLOOKUP(BX$7+0.5,$J$66:$DK$120,ROWS($A$10:$A44)+2,FALSE)","v":256},{"$f":"HLOOKUP(BY$7+0.5,$J$66:$DK$120,ROWS($A$10:$A44)+2,FALSE)","v":2177},{"$f":"HLOOKUP(BZ$7+0.5,$J$66:$DK$120,ROWS($A$10:$A44)+2,FALSE)","v":2259},{"$f":"HLOOKUP(CA$7+0.5,$J$66:$DK$120,ROWS($A$10:$A44)+2,FALSE)","v":524},{"$f":"HLOOKUP(CB$7+0.5,$J$66:$DK$120,ROWS($A$10:$A44)+2,FALSE)","v":748},{"$f":"HLOOKUP(CC$7+0.5,$J$66:$DK$120,ROWS($A$10:$A44)+2,FALSE)","v":794},{"$f":"HLOOKUP(CD$7+0.5,$J$66:$DK$120,ROWS($A$10:$A44)+2,FALSE)","v":758},{"$f":"HLOOKUP(CE$7+0.5,$J$66:$DK$120,ROWS($A$10:$A44)+2,FALSE)","v":972},{"$f":"HLOOKUP(CF$7+0.5,$J$66:$DK$120,ROWS($A$10:$A44)+2,FALSE)","v":2221},{"$f":"HLOOKUP(CG$7+0.5,$J$66:$DK$120,ROWS($A$10:$A44)+2,FALSE)","v":1158},{"$f":"HLOOKUP(CH$7+0.5,$J$66:$DK$120,ROWS($A$10:$A44)+2,FALSE)","v":2547},{"$f":"HLOOKUP(CI$7+0.5,$J$66:$DK$120,ROWS($A$10:$A44)+2,FALSE)","v":838},{"$f":"HLOOKUP(CJ$7+0.5,$J$66:$DK$120,ROWS($A$10:$A44)+2,FALSE)","v":1092},{"$f":"HLOOKUP(CK$7+0.5,$J$66:$DK$120,ROWS($A$10:$A44)+2,FALSE)","v":1742},{"$f":"HLOOKUP(CL$7+0.5,$J$66:$DK$120,ROWS($A$10:$A44)+2,FALSE)","v":306},{"$f":"HLOOKUP(CM$7+0.5,$J$66:$DK$120,ROWS($A$10:$A44)+2,FALSE)","v":628},{"$f":"HLOOKUP(CN$7+0.5,$J$66:$DK$120,ROWS($A$10:$A44)+2,FALSE)","v":807},{"$f":"HLOOKUP(CO$7+0.5,$J$66:$DK$120,ROWS($A$10:$A44)+2,FALSE)","v":525},{"$f":"HLOOKUP(CP$7+0.5,$J$66:$DK$120,ROWS($A$10:$A44)+2,FALSE)","v":4262},{"$f":"HLOOKUP(CQ$7+0.5,$J$66:$DK$120,ROWS($A$10:$A44)+2,FALSE)","v":705},{"$f":"HLOOKUP(CR$7+0.5,$J$66:$DK$120,ROWS($A$10:$A44)+2,FALSE)","v":3951},{"$f":"HLOOKUP(CS$7+0.5,$J$66:$DK$120,ROWS($A$10:$A44)+2,FALSE)","v":"N/A"},{"$f":"HLOOKUP(CT$7+0.5,$J$66:$DK$120,ROWS($A$10:$A44)+2,FALSE)","v":232},{"$f":"HLOOKUP(CU$7+0.5,$J$66:$DK$120,ROWS($A$10:$A44)+2,FALSE)","v":2484},{"$f":"HLOOKUP(CV$7+0.5,$J$66:$DK$120,ROWS($A$10:$A44)+2,FALSE)","v":753},{"$f":"HLOOKUP(CW$7+0.5,$J$66:$DK$120,ROWS($A$10:$A44)+2,FALSE)","v":772},{"$f":"HLOOKUP(CX$7+0.5,$J$66:$DK$120,ROWS($A$10:$A44)+2,FALSE)","v":2356},{"$f":"HLOOKUP(CY$7+0.5,$J$66:$DK$120,ROWS($A$10:$A44)+2,FALSE)","v":198},{"$f":"HLOOKUP(CZ$7+0.5,$J$66:$DK$120,ROWS($A$10:$A44)+2,FALSE)","v":4732},{"$f":"HLOOKUP(DA$7+0.5,$J$66:$DK$120,ROWS($A$10:$A44)+2,FALSE)","v":186},{"$f":"HLOOKUP(DB$7+0.5,$J$66:$DK$120,ROWS($A$10:$A44)+2,FALSE)","v":2122},{"$f":"HLOOKUP(DC$7+0.5,$J$66:$DK$120,ROWS($A$10:$A44)+2,FALSE)","v":2381},{"$f":"HLOOKUP(DD$7+0.5,$J$66:$DK$120,ROWS($A$10:$A44)+2,FALSE)","v":1040},{"$f":"HLOOKUP(DE$7+0.5,$J$66:$DK$120,ROWS($A$10:$A44)+2,FALSE)","v":291},{"$f":"HLOOKUP(DF$7+0.5,$J$66:$DK$120,ROWS($A$10:$A44)+2,FALSE)","v":4229},{"$f":"HLOOKUP(DG$7+0.5,$J$66:$DK$120,ROWS($A$10:$A44)+2,FALSE)","v":2630},{"$f":"HLOOKUP(DH$7+0.5,$J$66:$DK$120,ROWS($A$10:$A44)+2,FALSE)","v":985},{"$f":"HLOOKUP(DI$7+0.5,$J$66:$DK$120,ROWS($A$10:$A44)+2,FALSE)","v":980},{"$f":"HLOOKUP(DJ$7+0.5,$J$66:$DK$120,ROWS($A$10:$A44)+2,FALSE)","v":687},{"$f":"HLOOKUP(DK$7+0.5,$J$66:$DK$120,ROWS($A$10:$A44)+2,FALSE)","v":1218}]
[null,"North Dakota","Midwest",689838,1379,563978,6361,84294,5380,{"$f":"HLOOKUP(J$7,$J$66:$DK$120,ROWS($A$10:$A45)+2,FALSE)","v":38213},{"$f":"HLOOKUP(K$7,$J$66:$DK$120,ROWS($A$10:$A45)+2,FALSE)","v":83},{"$f":"HLOOKUP(L$7,$J$66:$DK$120,ROWS($A$10:$A45)+2,FALSE)","v":70},{"$f":"HLOOKUP(M$7,$J$66:$DK$120,ROWS($A$10:$A45)+2,FALSE)","v":1571},{"$f":"HLOOKUP(N$7,$J$66:$DK$120,ROWS($A$10:$A45)+2,FALSE)","v":0},{"$f":"HLOOKUP(O$7,$J$66:$DK$120,ROWS($A$10:$A45)+2,FALSE)","v":999},{"$f":"HLOOKUP(P$7,$J$66:$DK$120,ROWS($A$10:$A45)+2,FALSE)","v":546},{"$f":"HLOOKUP(Q$7,$J$66:$DK$120,ROWS($A$10:$A45)+2,FALSE)","v":65},{"$f":"HLOOKUP(R$7,$J$66:$DK$120,ROWS($A$10:$A45)+2,FALSE)","v":0},{"$f":"HLOOKUP(S$7,$J$66:$DK$120,ROWS($A$10:$A45)+2,FALSE)","v":70},{"$f":"HLOOKUP(T$7,$J$66:$DK$120,ROWS($A$10:$A45)+2,FALSE)","v":950},{"$f":"HLOOKUP(U$7,$J$66:$DK$120,ROWS($A$10:$A45)+2,FALSE)","v":98},{"$f":"HLOOKUP(V$7,$J$66:$DK$120,ROWS($A$10:$A45)+2,FALSE)","v":160},{"$f":"HLOOKUP(W$7,$J$66:$DK$120,ROWS($A$10:$A45)+2,FALSE)","v":540},{"$f":"HLOOKUP(X$7,$J$66:$DK$120,ROWS($A$10:$A45)+2,FALSE)","v":799},{"$f":"HLOOKUP(Y$7,$J$66:$DK$120,ROWS($A$10:$A45)+2,FALSE)","v":55},{"$f":"HLOOKUP(Z$7,$J$66:$DK$120,ROWS($A$10:$A45)+2,FALSE)","v":458},{"$f":"HLOOKUP(AA$7,$J$66:$DK$120,ROWS($A$10:$A45)+2,FALSE)","v":161},{"$f":"HLOOKUP(AB$7,$J$66:$DK$120,ROWS($A$10:$A45)+2,FALSE)","v":22},{"$f":"HLOOKUP(AC$7,$J$66:$DK$120,ROWS($A$10:$A45)+2,FALSE)","v":18},{"$f":"HLOOKUP(AD$7,$J$66:$DK$120,ROWS($A$10:$A45)+2,FALSE)","v":98},{"$f":"HLOOKUP(AE$7,$J$66:$DK$120,ROWS($A$10:$A45)+2,FALSE)","v":232},{"$f":"HLOOKUP(AF$7,$J$66:$DK$120,ROWS($A$10:$A45)+2,FALSE)","v":187},{"$f":"HLOOKUP(AG$7,$J$66:$DK$120,ROWS($A$10:$A45)+2,FALSE)","v":757},{"$f":"HLOOKUP(AH$7,$J$66:$DK$120,ROWS($A$10:$A45)+2,FALSE)","v":15257},{"$f":"HLOOKUP(AI$7,$J$66:$DK$120,ROWS($A$10:$A45)+2,FALSE)","v":72},{"$f":"HLOOKUP(AJ$7,$J$66:$DK$120,ROWS($A$10:$A45)+2,FALSE)","v":1490},{"$f":"HLOOKUP(AK$7,$J$66:$DK$120,ROWS($A$10:$A45)+2,FALSE)","v":1776},{"$f":"HLOOKUP(AL$7,$J$66:$DK$120,ROWS($A$10:$A45)+2,FALSE)","v":950},{"$f":"HLOOKUP(AM$7,$J$66:$DK$120,ROWS($A$10:$A45)+2,FALSE)","v":854},{"$f":"HLOOKUP(AN$7,$J$66:$DK$120,ROWS($A$10:$A45)+2,FALSE)","v":0},{"$f":"HLOOKUP(AO$7,$J$66:$DK$120,ROWS($A$10:$A45)+2,FALSE)","v":140},{"$f":"HLOOKUP(AP$7,$J$66:$DK$120,ROWS($A$10:$A45)+2,FALSE)","v":161},{"$f":"HLOOKUP(AQ$7,$J$66:$DK$120,ROWS($A$10:$A45)+2,FALSE)","v":331},{"$f":"HLOOKUP(AR$7,$J$66:$DK$120,ROWS($A$10:$A45)+2,FALSE)","v":231},{"$f":"HLOOKUP(AS$7,$J$66:$DK$120,ROWS($A$10:$A45)+2,FALSE)","v":"N/A"},{"$f":"HLOOKUP(AT$7,$J$66:$DK$120,ROWS($A$10:$A45)+2,FALSE)","v":6},{"$f":"HLOOKUP(AU$7,$J$66:$DK$120,ROWS($A$10:$A45)+2,FALSE)","v":280},{"$f":"HLOOKUP(AV$7,$J$66:$DK$120,ROWS($A$10:$A45)+2,FALSE)","v":724},{"$f":"HLOOKUP(AW$7,$J$66:$DK$120,ROWS($A$10:$A45)+2,FALSE)","v":114},{"$f":"HLOOKUP(AX$7,$J$66:$DK$120,ROWS($A$10:$A45)+2,FALSE)","v":244},{"$f":"HLOOKUP(AY$7,$J$66:$DK$120,ROWS($A$10:$A45)+2,FALSE)","v":14},{"$f":"HLOOKUP(AZ$7,$J$66:$DK$120,ROWS($A$10:$A45)+2,FALSE)","v":1754},{"$f":"HLOOKUP(BA$7,$J$66:$DK$120,ROWS($A$10:$A45)+2,FALSE)","v":746},{"$f":"HLOOKUP(BB$7,$J$66:$DK$120,ROWS($A$10:$A45)+2,FALSE)","v":1414},{"$f":"HLOOKUP(BC$7,$J$66:$DK$120,ROWS($A$10:$A45)+2,FALSE)","v":43},{"$f":"HLOOKUP(BD$7,$J$66:$DK$120,ROWS($A$10:$A45)+2,FALSE)","v":758},{"$f":"HLOOKUP(BE$7,$J$66:$DK$120,ROWS($A$10:$A45)+2,FALSE)","v":403},{"$f":"HLOOKUP(BF$7,$J$66:$DK$120,ROWS($A$10:$A45)+2,FALSE)","v":1604},{"$f":"HLOOKUP(BG$7,$J$66:$DK$120,ROWS($A$10:$A45)+2,FALSE)","v":0},{"$f":"HLOOKUP(BH$7,$J$66:$DK$120,ROWS($A$10:$A45)+2,FALSE)","v":543},{"$f":"HLOOKUP(BI$7,$J$66:$DK$120,ROWS($A$10:$A45)+2,FALSE)","v":365},{"$f":"HLOOKUP(BJ$7,$J$66:$DK$120,ROWS($A$10:$A45)+2,FALSE)","v":0},{"$f":"HLOOKUP(BK$7+0.5,$J$66:$DK$120,ROWS($A$10:$A45)+2,FALSE)","v":3616},{"$f":"HLOOKUP(BL$7+0.5,$J$66:$DK$120,ROWS($A$10:$A45)+2,FALSE)","v":142},{"$f":"HLOOKUP(BM$7+0.5,$J$66:$DK$120,ROWS($A$10:$A45)+2,FALSE)","v":105},{"$f":"HLOOKUP(BN$7+0.5,$J$66:$DK$120,ROWS($A$10:$A45)+2,FALSE)","v":788},{"$f":"HLOOKUP(BO$7+0.5,$J$66:$DK$120,ROWS($A$10:$A45)+2,FALSE)","v":141},{"$f":"HLOOKUP(BP$7+0.5,$J$66:$DK$120,ROWS($A$10:$A45)+2,FALSE)","v":460},{"$f":"HLOOKUP(BQ$7+0.5,$J$66:$DK$120,ROWS($A$10:$A45)+2,FALSE)","v":293},{"$f":"HLOOKUP(BR$7+0.5,$J$66:$DK$120,ROWS($A$10:$A45)+2,FALSE)","v":100},{"$f":"HLOOKUP(BS$7+0.5,$J$66:$DK$120,ROWS($A$10:$A45)+2,FALSE)","v":141},{"$f":"HLOOKUP(BT$7+0.5,$J$66:$DK$120,ROWS($A$10:$A45)+2,FALSE)","v":112},{"$f":"HLOOKUP(BU$7+0.5,$J$66:$DK$120,ROWS($A$10:$A45)+2,FALSE)","v":860},{"$f":"HLOOKUP(BV$7+0.5,$J$66:$DK$120,ROWS($A$10:$A45)+2,FALSE)","v":154},{"$f":"HLOOKUP(BW$7+0.5,$J$66:$DK$120,ROWS($A$10:$A45)+2,FALSE)","v":148},{"$f":"HLOOKUP(BX$7+0.5,$J$66:$DK$120,ROWS($A$10:$A45)+2,FALSE)","v":521},{"$f":"HLOOKUP(BY$7+0.5,$J$66:$DK$120,ROWS($A$10:$A45)+2,FALSE)","v":523},{"$f":"HLOOKUP(BZ$7+0.5,$J$66:$DK$120,ROWS($A$10:$A45)+2,FALSE)","v":77},{"$f":"HLOOKUP(CA$7+0.5,$J$66:$DK$120,ROWS($A$10:$A45)+2,FALSE)","v":316},{"$f":"HLOOKUP(CB$7+0.5,$J$66:$DK$120,ROWS($A$10:$A45)+2,FALSE)","v":122},{"$f":"HLOOKUP(CC$7+0.5,$J$66:$DK$120,ROWS($A$10:$A45)+2,FALSE)","v":44},{"$f":"HLOOKUP(CD$7+0.5,$J$66:$DK$120,ROWS($A$10:$A45)+2,FALSE)","v":27},{"$f":"HLOOKUP(CE$7+0.5,$J$66:$DK$120,ROWS($A$10:$A45)+2,FALSE)","v":176},{"$f":"HLOOKUP(CF$7+0.5,$J$66:$DK$120,ROWS($A$10:$A45)+2,FALSE)","v":311},{"$f":"HLOOKUP(CG$7+0.5,$J$66:$DK$120,ROWS($A$10:$A45)+2,FALSE)","v":281},{"$f":"HLOOKUP(CH$7+0.5,$J$66:$DK$120,ROWS($A$10:$A45)+2,FALSE)","v":571},{"$f":"HLOOKUP(CI$7+0.5,$J$66:$DK$120,ROWS($A$10:$A45)+2,FALSE)","v":2266},{"$f":"HLOOKUP(CJ$7+0.5,$J$66:$DK$120,ROWS($A$10:$A45)+2,FALSE)","v":109},{"$f":"HLOOKUP(CK$7+0.5,$J$66:$DK$120,ROWS($A$10:$A45)+2,FALSE)","v":1346},{"$f":"HLOOKUP(CL$7+0.5,$J$66:$DK$120,ROWS($A$10:$A45)+2,FALSE)","v":709},{"$f":"HLOOKUP(CM$7+0.5,$J$66:$DK$120,ROWS($A$10:$A45)+2,FALSE)","v":764},{"$f":"HLOOKUP(CN$7+0.5,$J$66:$DK$120,ROWS($A$10:$A45)+2,FALSE)","v":572},{"$f":"HLOOKUP(CO$7+0.5,$J$66:$DK$120,ROWS($A$10:$A45)+2,FALSE)","v":141},{"$f":"HLOOKUP(CP$7+0.5,$J$66:$DK$120,ROWS($A$10:$A45)+2,FALSE)","v":231},{"$f":"HLOOKUP(CQ$7+0.5,$J$66:$DK$120,ROWS($A$10:$A45)+2,FALSE)","v":228},{"$f":"HLOOKUP(CR$7+0.5,$J$66:$DK$120,ROWS($A$10:$A45)+2,FALSE)","v":331},{"$f":"HLOOKUP(CS$7+0.5,$J$66:$DK$120,ROWS($A$10:$A45)+2,FALSE)","v":243},{"$f":"HLOOKUP(CT$7+0.5,$J$66:$DK$120,ROWS($A$10:$A45)+2,FALSE)","v":"N/A"},{"$f":"HLOOKUP(CU$7+0.5,$J$66:$DK$120,ROWS($A$10:$A45)+2,FALSE)","v":14},{"$f":"HLOOKUP(CV$7+0.5,$J$66:$DK$120,ROWS($A$10:$A45)+2,FALSE)","v":260},{"$f":"HLOOKUP(CW$7+0.5,$J$66:$DK$120,ROWS($A$10:$A45)+2,FALSE)","v":529},{"$f":"HLOOKUP(CX$7+0.5,$J$66:$DK$120,ROWS($A$10:$A45)+2,FALSE)","v":157},{"$f":"HLOOKUP(CY$7+0.5,$J$66:$DK$120,ROWS($A$10:$A45)+2,FALSE)","v":255},{"$f":"HLOOKUP(CZ$7+0.5,$J$66:$DK$120,ROWS($A$10:$A45)+2,FALSE)","v":28},{"$f":"HLOOKUP(DA$7+0.5,$J$66:$DK$120,ROWS($A$10:$A45)+2,FALSE)","v":822},{"$f":"HLOOKUP(DB$7+0.5,$J$66:$DK$120,ROWS($A$10:$A45)+2,FALSE)","v":694},{"$f":"HLOOKUP(DC$7+0.5,$J$66:$DK$120,ROWS($A$10:$A45)+2,FALSE)","v":756},{"$f":"HLOOKUP(DD$7+0.5,$J$66:$DK$120,ROWS($A$10:$A45)+2,FALSE)","v":60},{"$f":"HLOOKUP(DE$7+0.5,$J$66:$DK$120,ROWS($A$10:$A45)+2,FALSE)","v":1014},{"$f":"HLOOKUP(DF$7+0.5,$J$66:$DK$120,ROWS($A$10:$A45)+2,FALSE)","v":309},{"$f":"HLOOKUP(DG$7+0.5,$J$66:$DK$120,ROWS($A$10:$A45)+2,FALSE)","v":796},{"$f":"HLOOKUP(DH$7+0.5,$J$66:$DK$120,ROWS($A$10:$A45)+2,FALSE)","v":141},{"$f":"HLOOKUP(DI$7+0.5,$J$66:$DK$120,ROWS($A$10:$A45)+2,FALSE)","v":327},{"$f":"HLOOKUP(DJ$7+0.5,$J$66:$DK$120,ROWS($A$10:$A45)+2,FALSE)","v":269},{"$f":"HLOOKUP(DK$7+0.5,$J$66:$DK$120,ROWS($A$10:$A45)+2,FALSE)","v":141}]
[null,"Ohio","Midwest",11414635,5725,9735390,29715,1440815,28423,{"$f":"HLOOKUP(J$7,$J$66:$DK$120,ROWS($A$10:$A46)+2,FALSE)","v":196391},{"$f":"HLOOKUP(K$7,$J$66:$DK$120,ROWS($A$10:$A46)+2,FALSE)","v":3705},{"$f":"HLOOKUP(L$7,$J$66:$DK$120,ROWS($A$10:$A46)+2,FALSE)","v":2207},{"$f":"HLOOKUP(M$7,$J$66:$DK$120,ROWS($A$10:$A46)+2,FALSE)","v":4929},{"$f":"HLOOKUP(N$7,$J$66:$DK$120,ROWS($A$10:$A46)+2,FALSE)","v":884},{"$f":"HLOOKUP(O$7,$J$66:$DK$120,ROWS($A$10:$A46)+2,FALSE)","v":8995},{"$f":"HLOOKUP(P$7,$J$66:$DK$120,ROWS($A$10:$A46)+2,FALSE)","v":3180},{"$f":"HLOOKUP(Q$7,$J$66:$DK$120,ROWS($A$10:$A46)+2,FALSE)","v":1355},{"$f":"HLOOKUP(R$7,$J$66:$DK$120,ROWS($A$10:$A46)+2,FALSE)","v":1079},{"$f":"HLOOKUP(S$7,$J$66:$DK$120,ROWS($A$10:$A46)+2,FALSE)","v":985},{"$f":"HLOOKUP(T$7,$J$66:$DK$120,ROWS($A$10:$A46)+2,FALSE)","v":16366},{"$f":"HLOOKUP(U$7,$J$66:$DK$120,ROWS($A$10:$A46)+2,FALSE)","v":8052},{"$f":"HLOOKUP(V$7,$J$66:$DK$120,ROWS($A$10:$A46)+2,FALSE)","v":1198},{"$f":"HLOOKUP(W$7,$J$66:$DK$120,ROWS($A$10:$A46)+2,FALSE)","v":412},{"$f":"HLOOKUP(X$7,$J$66:$DK$120,ROWS($A$10:$A46)+2,FALSE)","v":9510},{"$f":"HLOOKUP(Y$7,$J$66:$DK$120,ROWS($A$10:$A46)+2,FALSE)","v":13534},{"$f":"HLOOKUP(Z$7,$J$66:$DK$120,ROWS($A$10:$A46)+2,FALSE)","v":1039},{"$f":"HLOOKUP(AA$7,$J$66:$DK$120,ROWS($A$10:$A46)+2,FALSE)","v":1166},{"$f":"HLOOKUP(AB$7,$J$66:$DK$120,ROWS($A$10:$A46)+2,FALSE)","v":13227},{"$f":"HLOOKUP(AC$7,$J$66:$DK$120,ROWS($A$10:$A46)+2,FALSE)","v":2214},{"$f":"HLOOKUP(AD$7,$J$66:$DK$120,ROWS($A$10:$A46)+2,FALSE)","v":1189},{"$f":"HLOOKUP(AE$7,$J$66:$DK$120,ROWS($A$10:$A46)+2,FALSE)","v":5026},{"$f":"HLOOKUP(AF$7,$J$66:$DK$120,ROWS($A$10:$A46)+2,FALSE)","v":2189},{"$f":"HLOOKUP(AG$7,$J$66:$DK$120,ROWS($A$10:$A46)+2,FALSE)","v":16336},{"$f":"HLOOKUP(AH$7,$J$66:$DK$120,ROWS($A$10:$A46)+2,FALSE)","v":1122},{"$f":"HLOOKUP(AI$7,$J$66:$DK$120,ROWS($A$10:$A46)+2,FALSE)","v":1017},{"$f":"HLOOKUP(AJ$7,$J$66:$DK$120,ROWS($A$10:$A46)+2,FALSE)","v":3026},{"$f":"HLOOKUP(AK$7,$J$66:$DK$120,ROWS($A$10:$A46)+2,FALSE)","v":276},{"$f":"HLOOKUP(AL$7,$J$66:$DK$120,ROWS($A$10:$A46)+2,FALSE)","v":1052},{"$f":"HLOOKUP(AM$7,$J$66:$DK$120,ROWS($A$10:$A46)+2,FALSE)","v":907},{"$f":"HLOOKUP(AN$7,$J$66:$DK$120,ROWS($A$10:$A46)+2,FALSE)","v":189},{"$f":"HLOOKUP(AO$7,$J$66:$DK$120,ROWS($A$10:$A46)+2,FALSE)","v":4703},{"$f":"HLOOKUP(AP$7,$J$66:$DK$120,ROWS($A$10:$A46)+2,FALSE)","v":1361},{"$f":"HLOOKUP(AQ$7,$J$66:$DK$120,ROWS($A$10:$A46)+2,FALSE)","v":8732},{"$f":"HLOOKUP(AR$7,$J$66:$DK$120,ROWS($A$10:$A46)+2,FALSE)","v":5498},{"$f":"HLOOKUP(AS$7,$J$66:$DK$120,ROWS($A$10:$A46)+2,FALSE)","v":453},{"$f":"HLOOKUP(AT$7,$J$66:$DK$120,ROWS($A$10:$A46)+2,FALSE)","v":"N/A"},{"$f":"HLOOKUP(AU$7,$J$66:$DK$120,ROWS($A$10:$A46)+2,FALSE)","v":858},{"$f":"HLOOKUP(AV$7,$J$66:$DK$120,ROWS($A$10:$A46)+2,FALSE)","v":432},{"$f":"HLOOKUP(AW$7,$J$66:$DK$120,ROWS($A$10:$A46)+2,FALSE)","v":14147},{"$f":"HLOOKUP(AX$7,$J$66:$DK$120,ROWS($A$10:$A46)+2,FALSE)","v":435},{"$f":"HLOOKUP(AY$7,$J$66:$DK$120,ROWS($A$10:$A46)+2,FALSE)","v":2445},{"$f":"HLOOKUP(AZ$7,$J$66:$DK$120,ROWS($A$10:$A46)+2,FALSE)","v":47},{"$f":"HLOOKUP(BA$7,$J$66:$DK$120,ROWS($A$10:$A46)+2,FALSE)","v":3542},{"$f":"HLOOKUP(BB$7,$J$66:$DK$120,ROWS($A$10:$A46)+2,FALSE)","v":11760},{"$f":"HLOOKUP(BC$7,$J$66:$DK$120,ROWS($A$10:$A46)+2,FALSE)","v":197},{"$f":"HLOOKUP(BD$7,$J$66:$DK$120,ROWS($A$10:$A46)+2,FALSE)","v":364},{"$f":"HLOOKUP(BE$7,$J$66:$DK$120,ROWS($A$10:$A46)+2,FALSE)","v":3193},{"$f":"HLOOKUP(BF$7,$J$66:$DK$120,ROWS($A$10:$A46)+2,FALSE)","v":2862},{"$f":"HLOOKUP(BG$7,$J$66:$DK$120,ROWS($A$10:$A46)+2,FALSE)","v":7820},{"$f":"HLOOKUP(BH$7,$J$66:$DK$120,ROWS($A$10:$A46)+2,FALSE)","v":974},{"$f":"HLOOKUP(BI$7,$J$66:$DK$120,ROWS($A$10:$A46)+2,FALSE)","v":202},{"$f":"HLOOKUP(BJ$7,$J$66:$DK$120,ROWS($A$10:$A46)+2,FALSE)","v":1403},{"$f":"HLOOKUP(BK$7+0.5,$J$66:$DK$120,ROWS($A$10:$A46)+2,FALSE)","v":9611},{"$f":"HLOOKUP(BL$7+0.5,$J$66:$DK$120,ROWS($A$10:$A46)+2,FALSE)","v":2297},{"$f":"HLOOKUP(BM$7+0.5,$J$66:$DK$120,ROWS($A$10:$A46)+2,FALSE)","v":1757},{"$f":"HLOOKUP(BN$7+0.5,$J$66:$DK$120,ROWS($A$10:$A46)+2,FALSE)","v":1912},{"$f":"HLOOKUP(BO$7+0.5,$J$66:$DK$120,ROWS($A$10:$A46)+2,FALSE)","v":604},{"$f":"HLOOKUP(BP$7+0.5,$J$66:$DK$120,ROWS($A$10:$A46)+2,FALSE)","v":1803},{"$f":"HLOOKUP(BQ$7+0.5,$J$66:$DK$120,ROWS($A$10:$A46)+2,FALSE)","v":1230},{"$f":"HLOOKUP(BR$7+0.5,$J$66:$DK$120,ROWS($A$10:$A46)+2,FALSE)","v":887},{"$f":"HLOOKUP(BS$7+0.5,$J$66:$DK$120,ROWS($A$10:$A46)+2,FALSE)","v":696},{"$f":"HLOOKUP(BT$7+0.5,$J$66:$DK$120,ROWS($A$10:$A46)+2,FALSE)","v":722},{"$f":"HLOOKUP(BU$7+0.5,$J$66:$DK$120,ROWS($A$10:$A46)+2,FALSE)","v":2560},{"$f":"HLOOKUP(BV$7+0.5,$J$66:$DK$120,ROWS($A$10:$A46)+2,FALSE)","v":2973},{"$f":"HLOOKUP(BW$7+0.5,$J$66:$DK$120,ROWS($A$10:$A46)+2,FALSE)","v":591},{"$f":"HLOOKUP(BX$7+0.5,$J$66:$DK$120,ROWS($A$10:$A46)+2,FALSE)","v":295},{"$f":"HLOOKUP(BY$7+0.5,$J$66:$DK$120,ROWS($A$10:$A46)+2,FALSE)","v":2157},{"$f":"HLOOKUP(BZ$7+0.5,$J$66:$DK$120,ROWS($A$10:$A46)+2,FALSE)","v":2157},{"$f":"HLOOKUP(CA$7+0.5,$J$66:$DK$120,ROWS($A$10:$A46)+2,FALSE)","v":765},{"$f":"HLOOKUP(CB$7+0.5,$J$66:$DK$120,ROWS($A$10:$A46)+2,FALSE)","v":617},{"$f":"HLOOKUP(CC$7+0.5,$J$66:$DK$120,ROWS($A$10:$A46)+2,FALSE)","v":2976},{"$f":"HLOOKUP(CD$7+0.5,$J$66:$DK$120,ROWS($A$10:$A46)+2,FALSE)","v":1011},{"$f":"HLOOKUP(CE$7+0.5,$J$66:$DK$120,ROWS($A$10:$A46)+2,FALSE)","v":889},{"$f":"HLOOKUP(CF$7+0.5,$J$66:$DK$120,ROWS($A$10:$A46)+2,FALSE)","v":2570},{"$f":"HLOOKUP(CG$7+0.5,$J$66:$DK$120,ROWS($A$10:$A46)+2,FALSE)","v":808},{"$f":"HLOOKUP(CH$7+0.5,$J$66:$DK$120,ROWS($A$10:$A46)+2,FALSE)","v":2656},{"$f":"HLOOKUP(CI$7+0.5,$J$66:$DK$120,ROWS($A$10:$A46)+2,FALSE)","v":597},{"$f":"HLOOKUP(CJ$7+0.5,$J$66:$DK$120,ROWS($A$10:$A46)+2,FALSE)","v":865},{"$f":"HLOOKUP(CK$7+0.5,$J$66:$DK$120,ROWS($A$10:$A46)+2,FALSE)","v":1068},{"$f":"HLOOKUP(CL$7+0.5,$J$66:$DK$120,ROWS($A$10:$A46)+2,FALSE)","v":292},{"$f":"HLOOKUP(CM$7+0.5,$J$66:$DK$120,ROWS($A$10:$A46)+2,FALSE)","v":656},{"$f":"HLOOKUP(CN$7+0.5,$J$66:$DK$120,ROWS($A$10:$A46)+2,FALSE)","v":525},{"$f":"HLOOKUP(CO$7+0.5,$J$66:$DK$120,ROWS($A$10:$A46)+2,FALSE)","v":156},{"$f":"HLOOKUP(CP$7+0.5,$J$66:$DK$120,ROWS($A$10:$A46)+2,FALSE)","v":2119},{"$f":"HLOOKUP(CQ$7+0.5,$J$66:$DK$120,ROWS($A$10:$A46)+2,FALSE)","v":817},{"$f":"HLOOKUP(CR$7+0.5,$J$66:$DK$120,ROWS($A$10:$A46)+2,FALSE)","v":1741},{"$f":"HLOOKUP(CS$7+0.5,$J$66:$DK$120,ROWS($A$10:$A46)+2,FALSE)","v":1525},{"$f":"HLOOKUP(CT$7+0.5,$J$66:$DK$120,ROWS($A$10:$A46)+2,FALSE)","v":346},{"$f":"HLOOKUP(CU$7+0.5,$J$66:$DK$120,ROWS($A$10:$A46)+2,FALSE)","v":"N/A"},{"$f":"HLOOKUP(CV$7+0.5,$J$66:$DK$120,ROWS($A$10:$A46)+2,FALSE)","v":417},{"$f":"HLOOKUP(CW$7+0.5,$J$66:$DK$120,ROWS($A$10:$A46)+2,FALSE)","v":307},{"$f":"HLOOKUP(CX$7+0.5,$J$66:$DK$120,ROWS($A$10:$A46)+2,FALSE)","v":2612},{"$f":"HLOOKUP(CY$7+0.5,$J$66:$DK$120,ROWS($A$10:$A46)+2,FALSE)","v":384},{"$f":"HLOOKUP(CZ$7+0.5,$J$66:$DK$120,ROWS($A$10:$A46)+2,FALSE)","v":1029},{"$f":"HLOOKUP(DA$7+0.5,$J$66:$DK$120,ROWS($A$10:$A46)+2,FALSE)","v":76},{"$f":"HLOOKUP(DB$7+0.5,$J$66:$DK$120,ROWS($A$10:$A46)+2,FALSE)","v":1429},{"$f":"HLOOKUP(DC$7+0.5,$J$66:$DK$120,ROWS($A$10:$A46)+2,FALSE)","v":2739},{"$f":"HLOOKUP(DD$7+0.5,$J$66:$DK$120,ROWS($A$10:$A46)+2,FALSE)","v":211},{"$f":"HLOOKUP(DE$7+0.5,$J$66:$DK$120,ROWS($A$10:$A46)+2,FALSE)","v":350},{"$f":"HLOOKUP(DF$7+0.5,$J$66:$DK$120,ROWS($A$10:$A46)+2,FALSE)","v":1055},{"$f":"HLOOKUP(DG$7+0.5,$J$66:$DK$120,ROWS($A$10:$A46)+2,FALSE)","v":2150},{"$f":"HLOOKUP(DH$7+0.5,$J$66:$DK$120,ROWS($A$10:$A46)+2,FALSE)","v":2219},{"$f":"HLOOKUP(DI$7+0.5,$J$66:$DK$120,ROWS($A$10:$A46)+2,FALSE)","v":725},{"$f":"HLOOKUP(DJ$7+0.5,$J$66:$DK$120,ROWS($A$10:$A46)+2,FALSE)","v":210},{"$f":"HLOOKUP(DK$7+0.5,$J$66:$DK$120,ROWS($A$10:$A46)+2,FALSE)","v":910}]
[null,"Oklahoma","South",3762311,2764,3107367,14635,531347,12812,{"$f":"HLOOKUP(J$7,$J$66:$DK$120,ROWS($A$10:$A47)+2,FALSE)","v":108972},{"$f":"HLOOKUP(K$7,$J$66:$DK$120,ROWS($A$10:$A47)+2,FALSE)","v":1030},{"$f":"HLOOKUP(L$7,$J$66:$DK$120,ROWS($A$10:$A47)+2,FALSE)","v":1279},{"$f":"HLOOKUP(M$7,$J$66:$DK$120,ROWS($A$10:$A47)+2,FALSE)","v":2974},{"$f":"HLOOKUP(N$7,$J$66:$DK$120,ROWS($A$10:$A47)+2,FALSE)","v":5777},{"$f":"HLOOKUP(O$7,$J$66:$DK$120,ROWS($A$10:$A47)+2,FALSE)","v":8950},{"$f":"HLOOKUP(P$7,$J$66:$DK$120,ROWS($A$10:$A47)+2,FALSE)","v":4717},{"$f":"HLOOKUP(Q$7,$J$66:$DK$120,ROWS($A$10:$A47)+2,FALSE)","v":0},{"$f":"HLOOKUP(R$7,$J$66:$DK$120,ROWS($A$10:$A47)+2,FALSE)","v":380},{"$f":"HLOOKUP(S$7,$J$66:$DK$120,ROWS($A$10:$A47)+2,FALSE)","v":151},{"$f":"HLOOKUP(T$7,$J$66:$DK$120,ROWS($A$10:$A47)+2,FALSE)","v":5011},{"$f":"HLOOKUP(U$7,$J$66:$DK$120,ROWS($A$10:$A47)+2,FALSE)","v":2581},{"$f":"HLOOKUP(V$7,$J$66:$DK$120,ROWS($A$10:$A47)+2,FALSE)","v":189},{"$f":"HLOOKUP(W$7,$J$66:$DK$120,ROWS($A$10:$A47)+2,FALSE)","v":905},{"$f":"HLOOKUP(X$7,$J$66:$DK$120,ROWS($A$10:$A47)+2,FALSE)","v":1100},{"$f":"HLOOKUP(Y$7,$J$66:$DK$120,ROWS($A$10:$A47)+2,FALSE)","v":1490},{"$f":"HLOOKUP(Z$7,$J$66:$DK$120,ROWS($A$10:$A47)+2,FALSE)","v":1088},{"$f":"HLOOKUP(AA$7,$J$66:$DK$120,ROWS($A$10:$A47)+2,FALSE)","v":7065},{"$f":"HLOOKUP(AB$7,$J$66:$DK$120,ROWS($A$10:$A47)+2,FALSE)","v":1354},{"$f":"HLOOKUP(AC$7,$J$66:$DK$120,ROWS($A$10:$A47)+2,FALSE)","v":2562},{"$f":"HLOOKUP(AD$7,$J$66:$DK$120,ROWS($A$10:$A47)+2,FALSE)","v":167},{"$f":"HLOOKUP(AE$7,$J$66:$DK$120,ROWS($A$10:$A47)+2,FALSE)","v":750},{"$f":"HLOOKUP(AF$7,$J$66:$DK$120,ROWS($A$10:$A47)+2,FALSE)","v":1233},{"$f":"HLOOKUP(AG$7,$J$66:$DK$120,ROWS($A$10:$A47)+2,FALSE)","v":1347},{"$f":"HLOOKUP(AH$7,$J$66:$DK$120,ROWS($A$10:$A47)+2,FALSE)","v":906},{"$f":"HLOOKUP(AI$7,$J$66:$DK$120,ROWS($A$10:$A47)+2,FALSE)","v":1850},{"$f":"HLOOKUP(AJ$7,$J$66:$DK$120,ROWS($A$10:$A47)+2,FALSE)","v":5210},{"$f":"HLOOKUP(AK$7,$J$66:$DK$120,ROWS($A$10:$A47)+2,FALSE)","v":798},{"$f":"HLOOKUP(AL$7,$J$66:$DK$120,ROWS($A$10:$A47)+2,FALSE)","v":300},{"$f":"HLOOKUP(AM$7,$J$66:$DK$120,ROWS($A$10:$A47)+2,FALSE)","v":1101},{"$f":"HLOOKUP(AN$7,$J$66:$DK$120,ROWS($A$10:$A47)+2,FALSE)","v":549},{"$f":"HLOOKUP(AO$7,$J$66:$DK$120,ROWS($A$10:$A47)+2,FALSE)","v":1523},{"$f":"HLOOKUP(AP$7,$J$66:$DK$120,ROWS($A$10:$A47)+2,FALSE)","v":1244},{"$f":"HLOOKUP(AQ$7,$J$66:$DK$120,ROWS($A$10:$A47)+2,FALSE)","v":1981},{"$f":"HLOOKUP(AR$7,$J$66:$DK$120,ROWS($A$10:$A47)+2,FALSE)","v":1961},{"$f":"HLOOKUP(AS$7,$J$66:$DK$120,ROWS($A$10:$A47)+2,FALSE)","v":308},{"$f":"HLOOKUP(AT$7,$J$66:$DK$120,ROWS($A$10:$A47)+2,FALSE)","v":1148},{"$f":"HLOOKUP(AU$7,$J$66:$DK$120,ROWS($A$10:$A47)+2,FALSE)","v":"N/A"},{"$f":"HLOOKUP(AV$7,$J$66:$DK$120,ROWS($A$10:$A47)+2,FALSE)","v":1261},{"$f":"HLOOKUP(AW$7,$J$66:$DK$120,ROWS($A$10:$A47)+2,FALSE)","v":494},{"$f":"HLOOKUP(AX$7,$J$66:$DK$120,ROWS($A$10:$A47)+2,FALSE)","v":0},{"$f":"HLOOKUP(AY$7,$J$66:$DK$120,ROWS($A$10:$A47)+2,FALSE)","v":569},{"$f":"HLOOKUP(AZ$7,$J$66:$DK$120,ROWS($A$10:$A47)+2,FALSE)","v":108},{"$f":"HLOOKUP(BA$7,$J$66:$DK$120,ROWS($A$10:$A47)+2,FALSE)","v":2471},{"$f":"HLOOKUP(BB$7,$J$66:$DK$120,ROWS($A$10:$A47)+2,FALSE)","v":25508},{"$f":"HLOOKUP(BC$7,$J$66:$DK$120,ROWS($A$10:$A47)+2,FALSE)","v":2588},{"$f":"HLOOKUP(BD$7,$J$66:$DK$120,ROWS($A$10:$A47)+2,FALSE)","v":197},{"$f":"HLOOKUP(BE$7,$J$66:$DK$120,ROWS($A$10:$A47)+2,FALSE)","v":1749},{"$f":"HLOOKUP(BF$7,$J$66:$DK$120,ROWS($A$10:$A47)+2,FALSE)","v":1574},{"$f":"HLOOKUP(BG$7,$J$66:$DK$120,ROWS($A$10:$A47)+2,FALSE)","v":368},{"$f":"HLOOKUP(BH$7,$J$66:$DK$120,ROWS($A$10:$A47)+2,FALSE)","v":1061},{"$f":"HLOOKUP(BI$7,$J$66:$DK$120,ROWS($A$10:$A47)+2,FALSE)","v":45},{"$f":"HLOOKUP(BJ$7,$J$66:$DK$120,ROWS($A$10:$A47)+2,FALSE)","v":0},{"$f":"HLOOKUP(BK$7+0.5,$J$66:$DK$120,ROWS($A$10:$A47)+2,FALSE)","v":6570},{"$f":"HLOOKUP(BL$7+0.5,$J$66:$DK$120,ROWS($A$10:$A47)+2,FALSE)","v":467},{"$f":"HLOOKUP(BM$7+0.5,$J$66:$DK$120,ROWS($A$10:$A47)+2,FALSE)","v":600},{"$f":"HLOOKUP(BN$7+0.5,$J$66:$DK$120,ROWS($A$10:$A47)+2,FALSE)","v":1435},{"$f":"HLOOKUP(BO$7+0.5,$J$66:$DK$120,ROWS($A$10:$A47)+2,FALSE)","v":1187},{"$f":"HLOOKUP(BP$7+0.5,$J$66:$DK$120,ROWS($A$10:$A47)+2,FALSE)","v":2184},{"$f":"HLOOKUP(BQ$7+0.5,$J$66:$DK$120,ROWS($A$10:$A47)+2,FALSE)","v":1556},{"$f":"HLOOKUP(BR$7+0.5,$J$66:$DK$120,ROWS($A$10:$A47)+2,FALSE)","v":149},{"$f":"HLOOKUP(BS$7+0.5,$J$66:$DK$120,ROWS($A$10:$A47)+2,FALSE)","v":288},{"$f":"HLOOKUP(BT$7+0.5,$J$66:$DK$120,ROWS($A$10:$A47)+2,FALSE)","v":148},{"$f":"HLOOKUP(BU$7+0.5,$J$66:$DK$120,ROWS($A$10:$A47)+2,FALSE)","v":1525},{"$f":"HLOOKUP(BV$7+0.5,$J$66:$DK$120,ROWS($A$10:$A47)+2,FALSE)","v":935},{"$f":"HLOOKUP(BW$7+0.5,$J$66:$DK$120,ROWS($A$10:$A47)+2,FALSE)","v":295},{"$f":"HLOOKUP(BX$7+0.5,$J$66:$DK$120,ROWS($A$10:$A47)+2,FALSE)","v":600},{"$f":"HLOOKUP(BY$7+0.5,$J$66:$DK$120,ROWS($A$10:$A47)+2,FALSE)","v":487},{"$f":"HLOOKUP(BZ$7+0.5,$J$66:$DK$120,ROWS($A$10:$A47)+2,FALSE)","v":936},{"$f":"HLOOKUP(CA$7+0.5,$J$66:$DK$120,ROWS($A$10:$A47)+2,FALSE)","v":689},{"$f":"HLOOKUP(CB$7+0.5,$J$66:$DK$120,ROWS($A$10:$A47)+2,FALSE)","v":1535},{"$f":"HLOOKUP(CC$7+0.5,$J$66:$DK$120,ROWS($A$10:$A47)+2,FALSE)","v":898},{"$f":"HLOOKUP(CD$7+0.5,$J$66:$DK$120,ROWS($A$10:$A47)+2,FALSE)","v":1354},{"$f":"HLOOKUP(CE$7+0.5,$J$66:$DK$120,ROWS($A$10:$A47)+2,FALSE)","v":260},{"$f":"HLOOKUP(CF$7+0.5,$J$66:$DK$120,ROWS($A$10:$A47)+2,FALSE)","v":685},{"$f":"HLOOKUP(CG$7+0.5,$J$66:$DK$120,ROWS($A$10:$A47)+2,FALSE)","v":906},{"$f":"HLOOKUP(CH$7+0.5,$J$66:$DK$120,ROWS($A$10:$A47)+2,FALSE)","v":671},{"$f":"HLOOKUP(CI$7+0.5,$J$66:$DK$120,ROWS($A$10:$A47)+2,FALSE)","v":469},{"$f":"HLOOKUP(CJ$7+0.5,$J$66:$DK$120,ROWS($A$10:$A47)+2,FALSE)","v":752},{"$f":"HLOOKUP(CK$7+0.5,$J$66:$DK$120,ROWS($A$10:$A47)+2,FALSE)","v":1349},{"$f":"HLOOKUP(CL$7+0.5,$J$66:$DK$120,ROWS($A$10:$A47)+2,FALSE)","v":710},{"$f":"HLOOKUP(CM$7+0.5,$J$66:$DK$120,ROWS($A$10:$A47)+2,FALSE)","v":208},{"$f":"HLOOKUP(CN$7+0.5,$J$66:$DK$120,ROWS($A$10:$A47)+2,FALSE)","v":799},{"$f":"HLOOKUP(CO$7+0.5,$J$66:$DK$120,ROWS($A$10:$A47)+2,FALSE)","v":383},{"$f":"HLOOKUP(CP$7+0.5,$J$66:$DK$120,ROWS($A$10:$A47)+2,FALSE)","v":748},{"$f":"HLOOKUP(CQ$7+0.5,$J$66:$DK$120,ROWS($A$10:$A47)+2,FALSE)","v":712},{"$f":"HLOOKUP(CR$7+0.5,$J$66:$DK$120,ROWS($A$10:$A47)+2,FALSE)","v":936},{"$f":"HLOOKUP(CS$7+0.5,$J$66:$DK$120,ROWS($A$10:$A47)+2,FALSE)","v":912},{"$f":"HLOOKUP(CT$7+0.5,$J$66:$DK$120,ROWS($A$10:$A47)+2,FALSE)","v":340},{"$f":"HLOOKUP(CU$7+0.5,$J$66:$DK$120,ROWS($A$10:$A47)+2,FALSE)","v":533},{"$f":"HLOOKUP(CV$7+0.5,$J$66:$DK$120,ROWS($A$10:$A47)+2,FALSE)","v":"N/A"},{"$f":"HLOOKUP(CW$7+0.5,$J$66:$DK$120,ROWS($A$10:$A47)+2,FALSE)","v":771},{"$f":"HLOOKUP(CX$7+0.5,$J$66:$DK$120,ROWS($A$10:$A47)+2,FALSE)","v":285},{"$f":"HLOOKUP(CY$7+0.5,$J$66:$DK$120,ROWS($A$10:$A47)+2,FALSE)","v":149},{"$f":"HLOOKUP(CZ$7+0.5,$J$66:$DK$120,ROWS($A$10:$A47)+2,FALSE)","v":346},{"$f":"HLOOKUP(DA$7+0.5,$J$66:$DK$120,ROWS($A$10:$A47)+2,FALSE)","v":154},{"$f":"HLOOKUP(DB$7+0.5,$J$66:$DK$120,ROWS($A$10:$A47)+2,FALSE)","v":1035},{"$f":"HLOOKUP(DC$7+0.5,$J$66:$DK$120,ROWS($A$10:$A47)+2,FALSE)","v":2960},{"$f":"HLOOKUP(DD$7+0.5,$J$66:$DK$120,ROWS($A$10:$A47)+2,FALSE)","v":1465},{"$f":"HLOOKUP(DE$7+0.5,$J$66:$DK$120,ROWS($A$10:$A47)+2,FALSE)","v":316},{"$f":"HLOOKUP(DF$7+0.5,$J$66:$DK$120,ROWS($A$10:$A47)+2,FALSE)","v":829},{"$f":"HLOOKUP(DG$7+0.5,$J$66:$DK$120,ROWS($A$10:$A47)+2,FALSE)","v":575},{"$f":"HLOOKUP(DH$7+0.5,$J$66:$DK$120,ROWS($A$10:$A47)+2,FALSE)","v":298},{"$f":"HLOOKUP(DI$7+0.5,$J$66:$DK$120,ROWS($A$10:$A47)+2,FALSE)","v":758},{"$f":"HLOOKUP(DJ$7+0.5,$J$66:$DK$120,ROWS($A$10:$A47)+2,FALSE)","v":68},{"$f":"HLOOKUP(DK$7+0.5,$J$66:$DK$120,ROWS($A$10:$A47)+2,FALSE)","v":149}]
[null,"Oregon","West",3857465,2984,3158450,19251,560673,17729,{"$f":"HLOOKUP(J$7,$J$66:$DK$120,ROWS($A$10:$A48)+2,FALSE)","v":118925},{"$f":"HLOOKUP(K$7,$J$66:$DK$120,ROWS($A$10:$A48)+2,FALSE)","v":373},{"$f":"HLOOKUP(L$7,$J$66:$DK$120,ROWS($A$10:$A48)+2,FALSE)","v":2513},{"$f":"HLOOKUP(M$7,$J$66:$DK$120,ROWS($A$10:$A48)+2,FALSE)","v":7954},{"$f":"HLOOKUP(N$7,$J$66:$DK$120,ROWS($A$10:$A48)+2,FALSE)","v":165},{"$f":"HLOOKUP(O$7,$J$66:$DK$120,ROWS($A$10:$A48)+2,FALSE)","v":31862},{"$f":"HLOOKUP(P$7,$J$66:$DK$120,ROWS($A$10:$A48)+2,FALSE)","v":4472},{"$f":"HLOOKUP(Q$7,$J$66:$DK$120,ROWS($A$10:$A48)+2,FALSE)","v":381},{"$f":"HLOOKUP(R$7,$J$66:$DK$120,ROWS($A$10:$A48)+2,FALSE)","v":0},{"$f":"HLOOKUP(S$7,$J$66:$DK$120,ROWS($A$10:$A48)+2,FALSE)","v":696},{"$f":"HLOOKUP(T$7,$J$66:$DK$120,ROWS($A$10:$A48)+2,FALSE)","v":1660},{"$f":"HLOOKUP(U$7,$J$66:$DK$120,ROWS($A$10:$A48)+2,FALSE)","v":1032},{"$f":"HLOOKUP(V$7,$J$66:$DK$120,ROWS($A$10:$A48)+2,FALSE)","v":2501},{"$f":"HLOOKUP(W$7,$J$66:$DK$120,ROWS($A$10:$A48)+2,FALSE)","v":5093},{"$f":"HLOOKUP(X$7,$J$66:$DK$120,ROWS($A$10:$A48)+2,FALSE)","v":1676},{"$f":"HLOOKUP(Y$7,$J$66:$DK$120,ROWS($A$10:$A48)+2,FALSE)","v":1380},{"$f":"HLOOKUP(Z$7,$J$66:$DK$120,ROWS($A$10:$A48)+2,FALSE)","v":834},{"$f":"HLOOKUP(AA$7,$J$66:$DK$120,ROWS($A$10:$A48)+2,FALSE)","v":556},{"$f":"HLOOKUP(AB$7,$J$66:$DK$120,ROWS($A$10:$A48)+2,FALSE)","v":202},{"$f":"HLOOKUP(AC$7,$J$66:$DK$120,ROWS($A$10:$A48)+2,FALSE)","v":227},{"$f":"HLOOKUP(AD$7,$J$66:$DK$120,ROWS($A$10:$A48)+2,FALSE)","v":446},{"$f":"HLOOKUP(AE$7,$J$66:$DK$120,ROWS($A$10:$A48)+2,FALSE)","v":457},{"$f":"HLOOKUP(AF$7,$J$66:$DK$120,ROWS($A$10:$A48)+2,FALSE)","v":760},{"$f":"HLOOKUP(AG$7,$J$66:$DK$120,ROWS($A$10:$A48)+2,FALSE)","v":570},{"$f":"HLOOKUP(AH$7,$J$66:$DK$120,ROWS($A$10:$A48)+2,FALSE)","v":1792},{"$f":"HLOOKUP(AI$7,$J$66:$DK$120,ROWS($A$10:$A48)+2,FALSE)","v":186},{"$f":"HLOOKUP(AJ$7,$J$66:$DK$120,ROWS($A$10:$A48)+2,FALSE)","v":403},{"$f":"HLOOKUP(AK$7,$J$66:$DK$120,ROWS($A$10:$A48)+2,FALSE)","v":2192},{"$f":"HLOOKUP(AL$7,$J$66:$DK$120,ROWS($A$10:$A48)+2,FALSE)","v":570},{"$f":"HLOOKUP(AM$7,$J$66:$DK$120,ROWS($A$10:$A48)+2,FALSE)","v":5935},{"$f":"HLOOKUP(AN$7,$J$66:$DK$120,ROWS($A$10:$A48)+2,FALSE)","v":39},{"$f":"HLOOKUP(AO$7,$J$66:$DK$120,ROWS($A$10:$A48)+2,FALSE)","v":385},{"$f":"HLOOKUP(AP$7,$J$66:$DK$120,ROWS($A$10:$A48)+2,FALSE)","v":920},{"$f":"HLOOKUP(AQ$7,$J$66:$DK$120,ROWS($A$10:$A48)+2,FALSE)","v":2379},{"$f":"HLOOKUP(AR$7,$J$66:$DK$120,ROWS($A$10:$A48)+2,FALSE)","v":1482},{"$f":"HLOOKUP(AS$7,$J$66:$DK$120,ROWS($A$10:$A48)+2,FALSE)","v":42},{"$f":"HLOOKUP(AT$7,$J$66:$DK$120,ROWS($A$10:$A48)+2,FALSE)","v":1411},{"$f":"HLOOKUP(AU$7,$J$66:$DK$120,ROWS($A$10:$A48)+2,FALSE)","v":725},{"$f":"HLOOKUP(AV$7,$J$66:$DK$120,ROWS($A$10:$A48)+2,FALSE)","v":"N/A"},{"$f":"HLOOKUP(AW$7,$J$66:$DK$120,ROWS($A$10:$A48)+2,FALSE)","v":904},{"$f":"HLOOKUP(AX$7,$J$66:$DK$120,ROWS($A$10:$A48)+2,FALSE)","v":177},{"$f":"HLOOKUP(AY$7,$J$66:$DK$120,ROWS($A$10:$A48)+2,FALSE)","v":461},{"$f":"HLOOKUP(AZ$7,$J$66:$DK$120,ROWS($A$10:$A48)+2,FALSE)","v":119},{"$f":"HLOOKUP(BA$7,$J$66:$DK$120,ROWS($A$10:$A48)+2,FALSE)","v":802},{"$f":"HLOOKUP(BB$7,$J$66:$DK$120,ROWS($A$10:$A48)+2,FALSE)","v":3347},{"$f":"HLOOKUP(BC$7,$J$66:$DK$120,ROWS($A$10:$A48)+2,FALSE)","v":4793},{"$f":"HLOOKUP(BD$7,$J$66:$DK$120,ROWS($A$10:$A48)+2,FALSE)","v":367},{"$f":"HLOOKUP(BE$7,$J$66:$DK$120,ROWS($A$10:$A48)+2,FALSE)","v":676},{"$f":"HLOOKUP(BF$7,$J$66:$DK$120,ROWS($A$10:$A48)+2,FALSE)","v":21224},{"$f":"HLOOKUP(BG$7,$J$66:$DK$120,ROWS($A$10:$A48)+2,FALSE)","v":593},{"$f":"HLOOKUP(BH$7,$J$66:$DK$120,ROWS($A$10:$A48)+2,FALSE)","v":426},{"$f":"HLOOKUP(BI$7,$J$66:$DK$120,ROWS($A$10:$A48)+2,FALSE)","v":765},{"$f":"HLOOKUP(BJ$7,$J$66:$DK$120,ROWS($A$10:$A48)+2,FALSE)","v":152},{"$f":"HLOOKUP(BK$7+0.5,$J$66:$DK$120,ROWS($A$10:$A48)+2,FALSE)","v":7769},{"$f":"HLOOKUP(BL$7+0.5,$J$66:$DK$120,ROWS($A$10:$A48)+2,FALSE)","v":425},{"$f":"HLOOKUP(BM$7+0.5,$J$66:$DK$120,ROWS($A$10:$A48)+2,FALSE)","v":953},{"$f":"HLOOKUP(BN$7+0.5,$J$66:$DK$120,ROWS($A$10:$A48)+2,FALSE)","v":2060},{"$f":"HLOOKUP(BO$7+0.5,$J$66:$DK$120,ROWS($A$10:$A48)+2,FALSE)","v":158},{"$f":"HLOOKUP(BP$7+0.5,$J$66:$DK$120,ROWS($A$10:$A48)+2,FALSE)","v":3767},{"$f":"HLOOKUP(BQ$7+0.5,$J$66:$DK$120,ROWS($A$10:$A48)+2,FALSE)","v":2133},{"$f":"HLOOKUP(BR$7+0.5,$J$66:$DK$120,ROWS($A$10:$A48)+2,FALSE)","v":457},{"$f":"HLOOKUP(BS$7+0.5,$J$66:$DK$120,ROWS($A$10:$A48)+2,FALSE)","v":193},{"$f":"HLOOKUP(BT$7+0.5,$J$66:$DK$120,ROWS($A$10:$A48)+2,FALSE)","v":919},{"$f":"HLOOKUP(BU$7+0.5,$J$66:$DK$120,ROWS($A$10:$A48)+2,FALSE)","v":620},{"$f":"HLOOKUP(BV$7+0.5,$J$66:$DK$120,ROWS($A$10:$A48)+2,FALSE)","v":523},{"$f":"HLOOKUP(BW$7+0.5,$J$66:$DK$120,ROWS($A$10:$A48)+2,FALSE)","v":813},{"$f":"HLOOKUP(BX$7+0.5,$J$66:$DK$120,ROWS($A$10:$A48)+2,FALSE)","v":1880},{"$f":"HLOOKUP(BY$7+0.5,$J$66:$DK$120,ROWS($A$10:$A48)+2,FALSE)","v":1192},{"$f":"HLOOKUP(BZ$7+0.5,$J$66:$DK$120,ROWS($A$10:$A48)+2,FALSE)","v":1000},{"$f":"HLOOKUP(CA$7+0.5,$J$66:$DK$120,ROWS($A$10:$A48)+2,FALSE)","v":781},{"$f":"HLOOKUP(CB$7+0.5,$J$66:$DK$120,ROWS($A$10:$A48)+2,FALSE)","v":534},{"$f":"HLOOKUP(CC$7+0.5,$J$66:$DK$120,ROWS($A$10:$A48)+2,FALSE)","v":261},{"$f":"HLOOKUP(CD$7+0.5,$J$66:$DK$120,ROWS($A$10:$A48)+2,FALSE)","v":229},{"$f":"HLOOKUP(CE$7+0.5,$J$66:$DK$120,ROWS($A$10:$A48)+2,FALSE)","v":353},{"$f":"HLOOKUP(CF$7+0.5,$J$66:$DK$120,ROWS($A$10:$A48)+2,FALSE)","v":422},{"$f":"HLOOKUP(CG$7+0.5,$J$66:$DK$120,ROWS($A$10:$A48)+2,FALSE)","v":604},{"$f":"HLOOKUP(CH$7+0.5,$J$66:$DK$120,ROWS($A$10:$A48)+2,FALSE)","v":338},{"$f":"HLOOKUP(CI$7+0.5,$J$66:$DK$120,ROWS($A$10:$A48)+2,FALSE)","v":799},{"$f":"HLOOKUP(CJ$7+0.5,$J$66:$DK$120,ROWS($A$10:$A48)+2,FALSE)","v":237},{"$f":"HLOOKUP(CK$7+0.5,$J$66:$DK$120,ROWS($A$10:$A48)+2,FALSE)","v":269},{"$f":"HLOOKUP(CL$7+0.5,$J$66:$DK$120,ROWS($A$10:$A48)+2,FALSE)","v":968},{"$f":"HLOOKUP(CM$7+0.5,$J$66:$DK$120,ROWS($A$10:$A48)+2,FALSE)","v":448},{"$f":"HLOOKUP(CN$7+0.5,$J$66:$DK$120,ROWS($A$10:$A48)+2,FALSE)","v":2774},{"$f":"HLOOKUP(CO$7+0.5,$J$66:$DK$120,ROWS($A$10:$A48)+2,FALSE)","v":65},{"$f":"HLOOKUP(CP$7+0.5,$J$66:$DK$120,ROWS($A$10:$A48)+2,FALSE)","v":327},{"$f":"HLOOKUP(CQ$7+0.5,$J$66:$DK$120,ROWS($A$10:$A48)+2,FALSE)","v":676},{"$f":"HLOOKUP(CR$7+0.5,$J$66:$DK$120,ROWS($A$10:$A48)+2,FALSE)","v":1032},{"$f":"HLOOKUP(CS$7+0.5,$J$66:$DK$120,ROWS($A$10:$A48)+2,FALSE)","v":1046},{"$f":"HLOOKUP(CT$7+0.5,$J$66:$DK$120,ROWS($A$10:$A48)+2,FALSE)","v":85},{"$f":"HLOOKUP(CU$7+0.5,$J$66:$DK$120,ROWS($A$10:$A48)+2,FALSE)","v":789},{"$f":"HLOOKUP(CV$7+0.5,$J$66:$DK$120,ROWS($A$10:$A48)+2,FALSE)","v":546},{"$f":"HLOOKUP(CW$7+0.5,$J$66:$DK$120,ROWS($A$10:$A48)+2,FALSE)","v":"N/A"},{"$f":"HLOOKUP(CX$7+0.5,$J$66:$DK$120,ROWS($A$10:$A48)+2,FALSE)","v":535},{"$f":"HLOOKUP(CY$7+0.5,$J$66:$DK$120,ROWS($A$10:$A48)+2,FALSE)","v":214},{"$f":"HLOOKUP(CZ$7+0.5,$J$66:$DK$120,ROWS($A$10:$A48)+2,FALSE)","v":364},{"$f":"HLOOKUP(DA$7+0.5,$J$66:$DK$120,ROWS($A$10:$A48)+2,FALSE)","v":143},{"$f":"HLOOKUP(DB$7+0.5,$J$66:$DK$120,ROWS($A$10:$A48)+2,FALSE)","v":583},{"$f":"HLOOKUP(DC$7+0.5,$J$66:$DK$120,ROWS($A$10:$A48)+2,FALSE)","v":1277},{"$f":"HLOOKUP(DD$7+0.5,$J$66:$DK$120,ROWS($A$10:$A48)+2,FALSE)","v":2328},{"$f":"HLOOKUP(DE$7+0.5,$J$66:$DK$120,ROWS($A$10:$A48)+2,FALSE)","v":435},{"$f":"HLOOKUP(DF$7+0.5,$J$66:$DK$120,ROWS($A$10:$A48)+2,FALSE)","v":510},{"$f":"HLOOKUP(DG$7+0.5,$J$66:$DK$120,ROWS($A$10:$A48)+2,FALSE)","v":3153},{"$f":"HLOOKUP(DH$7+0.5,$J$66:$DK$120,ROWS($A$10:$A48)+2,FALSE)","v":502},{"$f":"HLOOKUP(DI$7+0.5,$J$66:$DK$120,ROWS($A$10:$A48)+2,FALSE)","v":284},{"$f":"HLOOKUP(DJ$7+0.5,$J$66:$DK$120,ROWS($A$10:$A48)+2,FALSE)","v":664},{"$f":"HLOOKUP(DK$7+0.5,$J$66:$DK$120,ROWS($A$10:$A48)+2,FALSE)","v":177}]
[null,"Pennsylvania","Northeast",12630082,4558,11107110,28998,1252378,26347,{"$f":"HLOOKUP(J$7,$J$66:$DK$120,ROWS($A$10:$A49)+2,FALSE)","v":215500},{"$f":"HLOOKUP(K$7,$J$66:$DK$120,ROWS($A$10:$A49)+2,FALSE)","v":1926},{"$f":"HLOOKUP(L$7,$J$66:$DK$120,ROWS($A$10:$A49)+2,FALSE)","v":1658},{"$f":"HLOOKUP(M$7,$J$66:$DK$120,ROWS($A$10:$A49)+2,FALSE)","v":3529},{"$f":"HLOOKUP(N$7,$J$66:$DK$120,ROWS($A$10:$A49)+2,FALSE)","v":573},{"$f":"HLOOKUP(O$7,$J$66:$DK$120,ROWS($A$10:$A49)+2,FALSE)","v":7772},{"$f":"HLOOKUP(P$7,$J$66:$DK$120,ROWS($A$10:$A49)+2,FALSE)","v":2574},{"$f":"HLOOKUP(Q$7,$J$66:$DK$120,ROWS($A$10:$A49)+2,FALSE)","v":3311},{"$f":"HLOOKUP(R$7,$J$66:$DK$120,ROWS($A$10:$A49)+2,FALSE)","v":4814},{"$f":"HLOOKUP(S$7,$J$66:$DK$120,ROWS($A$10:$A49)+2,FALSE)","v":2921},{"$f":"HLOOKUP(T$7,$J$66:$DK$120,ROWS($A$10:$A49)+2,FALSE)","v":14631},{"$f":"HLOOKUP(U$7,$J$66:$DK$120,ROWS($A$10:$A49)+2,FALSE)","v":4337},{"$f":"HLOOKUP(V$7,$J$66:$DK$120,ROWS($A$10:$A49)+2,FALSE)","v":245},{"$f":"HLOOKUP(W$7,$J$66:$DK$120,ROWS($A$10:$A49)+2,FALSE)","v":359},{"$f":"HLOOKUP(X$7,$J$66:$DK$120,ROWS($A$10:$A49)+2,FALSE)","v":3749},{"$f":"HLOOKUP(Y$7,$J$66:$DK$120,ROWS($A$10:$A49)+2,FALSE)","v":1599},{"$f":"HLOOKUP(Z$7,$J$66:$DK$120,ROWS($A$10:$A49)+2,FALSE)","v":125},{"$f":"HLOOKUP(AA$7,$J$66:$DK$120,ROWS($A$10:$A49)+2,FALSE)","v":967},{"$f":"HLOOKUP(AB$7,$J$66:$DK$120,ROWS($A$10:$A49)+2,FALSE)","v":1233},{"$f":"HLOOKUP(AC$7,$J$66:$DK$120,ROWS($A$10:$A49)+2,FALSE)","v":694},{"$f":"HLOOKUP(AD$7,$J$66:$DK$120,ROWS($A$10:$A49)+2,FALSE)","v":988},{"$f":"HLOOKUP(AE$7,$J$66:$DK$120,ROWS($A$10:$A49)+2,FALSE)","v":17529},{"$f":"HLOOKUP(AF$7,$J$66:$DK$120,ROWS($A$10:$A49)+2,FALSE)","v":5900},{"$f":"HLOOKUP(AG$7,$J$66:$DK$120,ROWS($A$10:$A49)+2,FALSE)","v":2642},{"$f":"HLOOKUP(AH$7,$J$66:$DK$120,ROWS($A$10:$A49)+2,FALSE)","v":1169},{"$f":"HLOOKUP(AI$7,$J$66:$DK$120,ROWS($A$10:$A49)+2,FALSE)","v":55},{"$f":"HLOOKUP(AJ$7,$J$66:$DK$120,ROWS($A$10:$A49)+2,FALSE)","v":1171},{"$f":"HLOOKUP(AK$7,$J$66:$DK$120,ROWS($A$10:$A49)+2,FALSE)","v":135},{"$f":"HLOOKUP(AL$7,$J$66:$DK$120,ROWS($A$10:$A49)+2,FALSE)","v":214},{"$f":"HLOOKUP(AM$7,$J$66:$DK$120,ROWS($A$10:$A49)+2,FALSE)","v":1600},{"$f":"HLOOKUP(AN$7,$J$66:$DK$120,ROWS($A$10:$A49)+2,FALSE)","v":1138},{"$f":"HLOOKUP(AO$7,$J$66:$DK$120,ROWS($A$10:$A49)+2,FALSE)","v":33791},{"$f":"HLOOKUP(AP$7,$J$66:$DK$120,ROWS($A$10:$A49)+2,FALSE)","v":1001},{"$f":"HLOOKUP(AQ$7,$J$66:$DK$120,ROWS($A$10:$A49)+2,FALSE)","v":32898},{"$f":"HLOOKUP(AR$7,$J$66:$DK$120,ROWS($A$10:$A49)+2,FALSE)","v":6380},{"$f":"HLOOKUP(AS$7,$J$66:$DK$120,ROWS($A$10:$A49)+2,FALSE)","v":166},{"$f":"HLOOKUP(AT$7,$J$66:$DK$120,ROWS($A$10:$A49)+2,FALSE)","v":14319},{"$f":"HLOOKUP(AU$7,$J$66:$DK$120,ROWS($A$10:$A49)+2,FALSE)","v":378},{"$f":"HLOOKUP(AV$7,$J$66:$DK$120,ROWS($A$10:$A49)+2,FALSE)","v":234},{"$f":"HLOOKUP(AW$7,$J$66:$DK$120,ROWS($A$10:$A49)+2,FALSE)","v":"N/A"},{"$f":"HLOOKUP(AX$7,$J$66:$DK$120,ROWS($A$10:$A49)+2,FALSE)","v":771},{"$f":"HLOOKUP(AY$7,$J$66:$DK$120,ROWS($A$10:$A49)+2,FALSE)","v":3023},{"$f":"HLOOKUP(AZ$7,$J$66:$DK$120,ROWS($A$10:$A49)+2,FALSE)","v":159},{"$f":"HLOOKUP(BA$7,$J$66:$DK$120,ROWS($A$10:$A49)+2,FALSE)","v":1273},{"$f":"HLOOKUP(BB$7,$J$66:$DK$120,ROWS($A$10:$A49)+2,FALSE)","v":6768},{"$f":"HLOOKUP(BC$7,$J$66:$DK$120,ROWS($A$10:$A49)+2,FALSE)","v":1276},{"$f":"HLOOKUP(BD$7,$J$66:$DK$120,ROWS($A$10:$A49)+2,FALSE)","v":1012},{"$f":"HLOOKUP(BE$7,$J$66:$DK$120,ROWS($A$10:$A49)+2,FALSE)","v":11960},{"$f":"HLOOKUP(BF$7,$J$66:$DK$120,ROWS($A$10:$A49)+2,FALSE)","v":1787},{"$f":"HLOOKUP(BG$7,$J$66:$DK$120,ROWS($A$10:$A49)+2,FALSE)","v":6762},{"$f":"HLOOKUP(BH$7,$J$66:$DK$120,ROWS($A$10:$A49)+2,FALSE)","v":1550},{"$f":"HLOOKUP(BI$7,$J$66:$DK$120,ROWS($A$10:$A49)+2,FALSE)","v":434},{"$f":"HLOOKUP(BJ$7,$J$66:$DK$120,ROWS($A$10:$A49)+2,FALSE)","v":7847},{"$f":"HLOOKUP(BK$7+0.5,$J$66:$DK$120,ROWS($A$10:$A49)+2,FALSE)","v":8872},{"$f":"HLOOKUP(BL$7+0.5,$J$66:$DK$120,ROWS($A$10:$A49)+2,FALSE)","v":1318},{"$f":"HLOOKUP(BM$7+0.5,$J$66:$DK$120,ROWS($A$10:$A49)+2,FALSE)","v":857},{"$f":"HLOOKUP(BN$7+0.5,$J$66:$DK$120,ROWS($A$10:$A49)+2,FALSE)","v":1256},{"$f":"HLOOKUP(BO$7+0.5,$J$66:$DK$120,ROWS($A$10:$A49)+2,FALSE)","v":315},{"$f":"HLOOKUP(BP$7+0.5,$J$66:$DK$120,ROWS($A$10:$A49)+2,FALSE)","v":1558},{"$f":"HLOOKUP(BQ$7+0.5,$J$66:$DK$120,ROWS($A$10:$A49)+2,FALSE)","v":1488},{"$f":"HLOOKUP(BR$7+0.5,$J$66:$DK$120,ROWS($A$10:$A49)+2,FALSE)","v":905},{"$f":"HLOOKUP(BS$7+0.5,$J$66:$DK$120,ROWS($A$10:$A49)+2,FALSE)","v":1468},{"$f":"HLOOKUP(BT$7+0.5,$J$66:$DK$120,ROWS($A$10:$A49)+2,FALSE)","v":830},{"$f":"HLOOKUP(BU$7+0.5,$J$66:$DK$120,ROWS($A$10:$A49)+2,FALSE)","v":2565},{"$f":"HLOOKUP(BV$7+0.5,$J$66:$DK$120,ROWS($A$10:$A49)+2,FALSE)","v":1703},{"$f":"HLOOKUP(BW$7+0.5,$J$66:$DK$120,ROWS($A$10:$A49)+2,FALSE)","v":180},{"$f":"HLOOKUP(BX$7+0.5,$J$66:$DK$120,ROWS($A$10:$A49)+2,FALSE)","v":350},{"$f":"HLOOKUP(BY$7+0.5,$J$66:$DK$120,ROWS($A$10:$A49)+2,FALSE)","v":1137},{"$f":"HLOOKUP(BZ$7+0.5,$J$66:$DK$120,ROWS($A$10:$A49)+2,FALSE)","v":680},{"$f":"HLOOKUP(CA$7+0.5,$J$66:$DK$120,ROWS($A$10:$A49)+2,FALSE)","v":177},{"$f":"HLOOKUP(CB$7+0.5,$J$66:$DK$120,ROWS($A$10:$A49)+2,FALSE)","v":860},{"$f":"HLOOKUP(CC$7+0.5,$J$66:$DK$120,ROWS($A$10:$A49)+2,FALSE)","v":604},{"$f":"HLOOKUP(CD$7+0.5,$J$66:$DK$120,ROWS($A$10:$A49)+2,FALSE)","v":431},{"$f":"HLOOKUP(CE$7+0.5,$J$66:$DK$120,ROWS($A$10:$A49)+2,FALSE)","v":675},{"$f":"HLOOKUP(CF$7+0.5,$J$66:$DK$120,ROWS($A$10:$A49)+2,FALSE)","v":3084},{"$f":"HLOOKUP(CG$7+0.5,$J$66:$DK$120,ROWS($A$10:$A49)+2,FALSE)","v":1368},{"$f":"HLOOKUP(CH$7+0.5,$J$66:$DK$120,ROWS($A$10:$A49)+2,FALSE)","v":1235},{"$f":"HLOOKUP(CI$7+0.5,$J$66:$DK$120,ROWS($A$10:$A49)+2,FALSE)","v":588},{"$f":"HLOOKUP(CJ$7+0.5,$J$66:$DK$120,ROWS($A$10:$A49)+2,FALSE)","v":49},{"$f":"HLOOKUP(CK$7+0.5,$J$66:$DK$120,ROWS($A$10:$A49)+2,FALSE)","v":575},{"$f":"HLOOKUP(CL$7+0.5,$J$66:$DK$120,ROWS($A$10:$A49)+2,FALSE)","v":169},{"$f":"HLOOKUP(CM$7+0.5,$J$66:$DK$120,ROWS($A$10:$A49)+2,FALSE)","v":187},{"$f":"HLOOKUP(CN$7+0.5,$J$66:$DK$120,ROWS($A$10:$A49)+2,FALSE)","v":999},{"$f":"HLOOKUP(CO$7+0.5,$J$66:$DK$120,ROWS($A$10:$A49)+2,FALSE)","v":609},{"$f":"HLOOKUP(CP$7+0.5,$J$66:$DK$120,ROWS($A$10:$A49)+2,FALSE)","v":4576},{"$f":"HLOOKUP(CQ$7+0.5,$J$66:$DK$120,ROWS($A$10:$A49)+2,FALSE)","v":740},{"$f":"HLOOKUP(CR$7+0.5,$J$66:$DK$120,ROWS($A$10:$A49)+2,FALSE)","v":4482},{"$f":"HLOOKUP(CS$7+0.5,$J$66:$DK$120,ROWS($A$10:$A49)+2,FALSE)","v":1734},{"$f":"HLOOKUP(CT$7+0.5,$J$66:$DK$120,ROWS($A$10:$A49)+2,FALSE)","v":195},{"$f":"HLOOKUP(CU$7+0.5,$J$66:$DK$120,ROWS($A$10:$A49)+2,FALSE)","v":2479},{"$f":"HLOOKUP(CV$7+0.5,$J$66:$DK$120,ROWS($A$10:$A49)+2,FALSE)","v":253},{"$f":"HLOOKUP(CW$7+0.5,$J$66:$DK$120,ROWS($A$10:$A49)+2,FALSE)","v":220},{"$f":"HLOOKUP(CX$7+0.5,$J$66:$DK$120,ROWS($A$10:$A49)+2,FALSE)","v":"N/A"},{"$f":"HLOOKUP(CY$7+0.5,$J$66:$DK$120,ROWS($A$10:$A49)+2,FALSE)","v":472},{"$f":"HLOOKUP(CZ$7+0.5,$J$66:$DK$120,ROWS($A$10:$A49)+2,FALSE)","v":869},{"$f":"HLOOKUP(DA$7+0.5,$J$66:$DK$120,ROWS($A$10:$A49)+2,FALSE)","v":206},{"$f":"HLOOKUP(DB$7+0.5,$J$66:$DK$120,ROWS($A$10:$A49)+2,FALSE)","v":533},{"$f":"HLOOKUP(DC$7+0.5,$J$66:$DK$120,ROWS($A$10:$A49)+2,FALSE)","v":1688},{"$f":"HLOOKUP(DD$7+0.5,$J$66:$DK$120,ROWS($A$10:$A49)+2,FALSE)","v":804},{"$f":"HLOOKUP(DE$7+0.5,$J$66:$DK$120,ROWS($A$10:$A49)+2,FALSE)","v":873},{"$f":"HLOOKUP(DF$7+0.5,$J$66:$DK$120,ROWS($A$10:$A49)+2,FALSE)","v":2213},{"$f":"HLOOKUP(DG$7+0.5,$J$66:$DK$120,ROWS($A$10:$A49)+2,FALSE)","v":1202},{"$f":"HLOOKUP(DH$7+0.5,$J$66:$DK$120,ROWS($A$10:$A49)+2,FALSE)","v":2075},{"$f":"HLOOKUP(DI$7+0.5,$J$66:$DK$120,ROWS($A$10:$A49)+2,FALSE)","v":722},{"$f":"HLOOKUP(DJ$7+0.5,$J$66:$DK$120,ROWS($A$10:$A49)+2,FALSE)","v":439},{"$f":"HLOOKUP(DK$7+0.5,$J$66:$DK$120,ROWS($A$10:$A49)+2,FALSE)","v":2646}]
[null,"Rhode Island","Northeast",1040527,1533,899551,9890,101165,8498,{"$f":"HLOOKUP(J$7,$J$66:$DK$120,ROWS($A$10:$A50)+2,FALSE)","v":33446},{"$f":"HLOOKUP(K$7,$J$66:$DK$120,ROWS($A$10:$A50)+2,FALSE)","v":20},{"$f":"HLOOKUP(L$7,$J$66:$DK$120,ROWS($A$10:$A50)+2,FALSE)","v":0},{"$f":"HLOOKUP(M$7,$J$66:$DK$120,ROWS($A$10:$A50)+2,FALSE)","v":93},{"$f":"HLOOKUP(N$7,$J$66:$DK$120,ROWS($A$10:$A50)+2,FALSE)","v":0},{"$f":"HLOOKUP(O$7,$J$66:$DK$120,ROWS($A$10:$A50)+2,FALSE)","v":2146},{"$f":"HLOOKUP(P$7,$J$66:$DK$120,ROWS($A$10:$A50)+2,FALSE)","v":332},{"$f":"HLOOKUP(Q$7,$J$66:$DK$120,ROWS($A$10:$A50)+2,FALSE)","v":4170},{"$f":"HLOOKUP(R$7,$J$66:$DK$120,ROWS($A$10:$A50)+2,FALSE)","v":0},{"$f":"HLOOKUP(S$7,$J$66:$DK$120,ROWS($A$10:$A50)+2,FALSE)","v":313},{"$f":"HLOOKUP(T$7,$J$66:$DK$120,ROWS($A$10:$A50)+2,FALSE)","v":2752},{"$f":"HLOOKUP(U$7,$J$66:$DK$120,ROWS($A$10:$A50)+2,FALSE)","v":168},{"$f":"HLOOKUP(V$7,$J$66:$DK$120,ROWS($A$10:$A50)+2,FALSE)","v":120},{"$f":"HLOOKUP(W$7,$J$66:$DK$120,ROWS($A$10:$A50)+2,FALSE)","v":0},{"$f":"HLOOKUP(X$7,$J$66:$DK$120,ROWS($A$10:$A50)+2,FALSE)","v":385},{"$f":"HLOOKUP(Y$7,$J$66:$DK$120,ROWS($A$10:$A50)+2,FALSE)","v":0},{"$f":"HLOOKUP(Z$7,$J$66:$DK$120,ROWS($A$10:$A50)+2,FALSE)","v":0},{"$f":"HLOOKUP(AA$7,$J$66:$DK$120,ROWS($A$10:$A50)+2,FALSE)","v":27},{"$f":"HLOOKUP(AB$7,$J$66:$DK$120,ROWS($A$10:$A50)+2,FALSE)","v":286},{"$f":"HLOOKUP(AC$7,$J$66:$DK$120,ROWS($A$10:$A50)+2,FALSE)","v":24},{"$f":"HLOOKUP(AD$7,$J$66:$DK$120,ROWS($A$10:$A50)+2,FALSE)","v":279},{"$f":"HLOOKUP(AE$7,$J$66:$DK$120,ROWS($A$10:$A50)+2,FALSE)","v":482},{"$f":"HLOOKUP(AF$7,$J$66:$DK$120,ROWS($A$10:$A50)+2,FALSE)","v":11253},{"$f":"HLOOKUP(AG$7,$J$66:$DK$120,ROWS($A$10:$A50)+2,FALSE)","v":230},{"$f":"HLOOKUP(AH$7,$J$66:$DK$120,ROWS($A$10:$A50)+2,FALSE)","v":131},{"$f":"HLOOKUP(AI$7,$J$66:$DK$120,ROWS($A$10:$A50)+2,FALSE)","v":0},{"$f":"HLOOKUP(AJ$7,$J$66:$DK$120,ROWS($A$10:$A50)+2,FALSE)","v":210},{"$f":"HLOOKUP(AK$7,$J$66:$DK$120,ROWS($A$10:$A50)+2,FALSE)","v":0},{"$f":"HLOOKUP(AL$7,$J$66:$DK$120,ROWS($A$10:$A50)+2,FALSE)","v":188},{"$f":"HLOOKUP(AM$7,$J$66:$DK$120,ROWS($A$10:$A50)+2,FALSE)","v":25},{"$f":"HLOOKUP(AN$7,$J$66:$DK$120,ROWS($A$10:$A50)+2,FALSE)","v":611},{"$f":"HLOOKUP(AO$7,$J$66:$DK$120,ROWS($A$10:$A50)+2,FALSE)","v":1219},{"$f":"HLOOKUP(AP$7,$J$66:$DK$120,ROWS($A$10:$A50)+2,FALSE)","v":36},{"$f":"HLOOKUP(AQ$7,$J$66:$DK$120,ROWS($A$10:$A50)+2,FALSE)","v":3603},{"$f":"HLOOKUP(AR$7,$J$66:$DK$120,ROWS($A$10:$A50)+2,FALSE)","v":478},{"$f":"HLOOKUP(AS$7,$J$66:$DK$120,ROWS($A$10:$A50)+2,FALSE)","v":0},{"$f":"HLOOKUP(AT$7,$J$66:$DK$120,ROWS($A$10:$A50)+2,FALSE)","v":63},{"$f":"HLOOKUP(AU$7,$J$66:$DK$120,ROWS($A$10:$A50)+2,FALSE)","v":0},{"$f":"HLOOKUP(AV$7,$J$66:$DK$120,ROWS($A$10:$A50)+2,FALSE)","v":139},{"$f":"HLOOKUP(AW$7,$J$66:$DK$120,ROWS($A$10:$A50)+2,FALSE)","v":735},{"$f":"HLOOKUP(AX$7,$J$66:$DK$120,ROWS($A$10:$A50)+2,FALSE)","v":"N/A"},{"$f":"HLOOKUP(AY$7,$J$66:$DK$120,ROWS($A$10:$A50)+2,FALSE)","v":481},{"$f":"HLOOKUP(AZ$7,$J$66:$DK$120,ROWS($A$10:$A50)+2,FALSE)","v":0},{"$f":"HLOOKUP(BA$7,$J$66:$DK$120,ROWS($A$10:$A50)+2,FALSE)","v":120},{"$f":"HLOOKUP(BB$7,$J$66:$DK$120,ROWS($A$10:$A50)+2,FALSE)","v":823},{"$f":"HLOOKUP(BC$7,$J$66:$DK$120,ROWS($A$10:$A50)+2,FALSE)","v":0},{"$f":"HLOOKUP(BD$7,$J$66:$DK$120,ROWS($A$10:$A50)+2,FALSE)","v":53},{"$f":"HLOOKUP(BE$7,$J$66:$DK$120,ROWS($A$10:$A50)+2,FALSE)","v":1008},{"$f":"HLOOKUP(BF$7,$J$66:$DK$120,ROWS($A$10:$A50)+2,FALSE)","v":287},{"$f":"HLOOKUP(BG$7,$J$66:$DK$120,ROWS($A$10:$A50)+2,FALSE)","v":0},{"$f":"HLOOKUP(BH$7,$J$66:$DK$120,ROWS($A$10:$A50)+2,FALSE)","v":135},{"$f":"HLOOKUP(BI$7,$J$66:$DK$120,ROWS($A$10:$A50)+2,FALSE)","v":21},{"$f":"HLOOKUP(BJ$7,$J$66:$DK$120,ROWS($A$10:$A50)+2,FALSE)","v":116},{"$f":"HLOOKUP(BK$7+0.5,$J$66:$DK$120,ROWS($A$10:$A50)+2,FALSE)","v":3551},{"$f":"HLOOKUP(BL$7+0.5,$J$66:$DK$120,ROWS($A$10:$A50)+2,FALSE)","v":44},{"$f":"HLOOKUP(BM$7+0.5,$J$66:$DK$120,ROWS($A$10:$A50)+2,FALSE)","v":200},{"$f":"HLOOKUP(BN$7+0.5,$J$66:$DK$120,ROWS($A$10:$A50)+2,FALSE)","v":151},{"$f":"HLOOKUP(BO$7+0.5,$J$66:$DK$120,ROWS($A$10:$A50)+2,FALSE)","v":200},{"$f":"HLOOKUP(BP$7+0.5,$J$66:$DK$120,ROWS($A$10:$A50)+2,FALSE)","v":811},{"$f":"HLOOKUP(BQ$7+0.5,$J$66:$DK$120,ROWS($A$10:$A50)+2,FALSE)","v":315},{"$f":"HLOOKUP(BR$7+0.5,$J$66:$DK$120,ROWS($A$10:$A50)+2,FALSE)","v":1101},{"$f":"HLOOKUP(BS$7+0.5,$J$66:$DK$120,ROWS($A$10:$A50)+2,FALSE)","v":200},{"$f":"HLOOKUP(BT$7+0.5,$J$66:$DK$120,ROWS($A$10:$A50)+2,FALSE)","v":381},{"$f":"HLOOKUP(BU$7+0.5,$J$66:$DK$120,ROWS($A$10:$A50)+2,FALSE)","v":1143},{"$f":"HLOOKUP(BV$7+0.5,$J$66:$DK$120,ROWS($A$10:$A50)+2,FALSE)","v":211},{"$f":"HLOOKUP(BW$7+0.5,$J$66:$DK$120,ROWS($A$10:$A50)+2,FALSE)","v":145},{"$f":"HLOOKUP(BX$7+0.5,$J$66:$DK$120,ROWS($A$10:$A50)+2,FALSE)","v":200},{"$f":"HLOOKUP(BY$7+0.5,$J$66:$DK$120,ROWS($A$10:$A50)+2,FALSE)","v":382},{"$f":"HLOOKUP(BZ$7+0.5,$J$66:$DK$120,ROWS($A$10:$A50)+2,FALSE)","v":200},{"$f":"HLOOKUP(CA$7+0.5,$J$66:$DK$120,ROWS($A$10:$A50)+2,FALSE)","v":200},{"$f":"HLOOKUP(CB$7+0.5,$J$66:$DK$120,ROWS($A$10:$A50)+2,FALSE)","v":47},{"$f":"HLOOKUP(CC$7+0.5,$J$66:$DK$120,ROWS($A$10:$A50)+2,FALSE)","v":405},{"$f":"HLOOKUP(CD$7+0.5,$J$66:$DK$120,ROWS($A$10:$A50)+2,FALSE)","v":45},{"$f":"HLOOKUP(CE$7+0.5,$J$66:$DK$120,ROWS($A$10:$A50)+2,FALSE)","v":249},{"$f":"HLOOKUP(CF$7+0.5,$J$66:$DK$120,ROWS($A$10:$A50)+2,FALSE)","v":325},{"$f":"HLOOKUP(CG$7+0.5,$J$66:$DK$120,ROWS($A$10:$A50)+2,FALSE)","v":1937},{"$f":"HLOOKUP(CH$7+0.5,$J$66:$DK$120,ROWS($A$10:$A50)+2,FALSE)","v":169},{"$f":"HLOOKUP(CI$7+0.5,$J$66:$DK$120,ROWS($A$10:$A50)+2,FALSE)","v":131},{"$f":"HLOOKUP(CJ$7+0.5,$J$66:$DK$120,ROWS($A$10:$A50)+2,FALSE)","v":200},{"$f":"HLOOKUP(CK$7+0.5,$J$66:$DK$120,ROWS($A$10:$A50)+2,FALSE)","v":158},{"$f":"HLOOKUP(CL$7+0.5,$J$66:$DK$120,ROWS($A$10:$A50)+2,FALSE)","v":200},{"$f":"HLOOKUP(CM$7+0.5,$J$66:$DK$120,ROWS($A$10:$A50)+2,FALSE)","v":250},{"$f":"HLOOKUP(CN$7+0.5,$J$66:$DK$120,ROWS($A$10:$A50)+2,FALSE)","v":48},{"$f":"HLOOKUP(CO$7+0.5,$J$66:$DK$120,ROWS($A$10:$A50)+2,FALSE)","v":385},{"$f":"HLOOKUP(CP$7+0.5,$J$66:$DK$120,ROWS($A$10:$A50)+2,FALSE)","v":641},{"$f":"HLOOKUP(CQ$7+0.5,$J$66:$DK$120,ROWS($A$10:$A50)+2,FALSE)","v":58},{"$f":"HLOOKUP(CR$7+0.5,$J$66:$DK$120,ROWS($A$10:$A50)+2,FALSE)","v":1335},{"$f":"HLOOKUP(CS$7+0.5,$J$66:$DK$120,ROWS($A$10:$A50)+2,FALSE)","v":508},{"$f":"HLOOKUP(CT$7+0.5,$J$66:$DK$120,ROWS($A$10:$A50)+2,FALSE)","v":200},{"$f":"HLOOKUP(CU$7+0.5,$J$66:$DK$120,ROWS($A$10:$A50)+2,FALSE)","v":80},{"$f":"HLOOKUP(CV$7+0.5,$J$66:$DK$120,ROWS($A$10:$A50)+2,FALSE)","v":200},{"$f":"HLOOKUP(CW$7+0.5,$J$66:$DK$120,ROWS($A$10:$A50)+2,FALSE)","v":235},{"$f":"HLOOKUP(CX$7+0.5,$J$66:$DK$120,ROWS($A$10:$A50)+2,FALSE)","v":552},{"$f":"HLOOKUP(CY$7+0.5,$J$66:$DK$120,ROWS($A$10:$A50)+2,FALSE)","v":"N/A"},{"$f":"HLOOKUP(CZ$7+0.5,$J$66:$DK$120,ROWS($A$10:$A50)+2,FALSE)","v":609},{"$f":"HLOOKUP(DA$7+0.5,$J$66:$DK$120,ROWS($A$10:$A50)+2,FALSE)","v":200},{"$f":"HLOOKUP(DB$7+0.5,$J$66:$DK$120,ROWS($A$10:$A50)+2,FALSE)","v":199},{"$f":"HLOOKUP(DC$7+0.5,$J$66:$DK$120,ROWS($A$10:$A50)+2,FALSE)","v":433},{"$f":"HLOOKUP(DD$7+0.5,$J$66:$DK$120,ROWS($A$10:$A50)+2,FALSE)","v":200},{"$f":"HLOOKUP(DE$7+0.5,$J$66:$DK$120,ROWS($A$10:$A50)+2,FALSE)","v":76},{"$f":"HLOOKUP(DF$7+0.5,$J$66:$DK$120,ROWS($A$10:$A50)+2,FALSE)","v":569},{"$f":"HLOOKUP(DG$7+0.5,$J$66:$DK$120,ROWS($A$10:$A50)+2,FALSE)","v":320},{"$f":"HLOOKUP(DH$7+0.5,$J$66:$DK$120,ROWS($A$10:$A50)+2,FALSE)","v":200},{"$f":"HLOOKUP(DI$7+0.5,$J$66:$DK$120,ROWS($A$10:$A50)+2,FALSE)","v":124},{"$f":"HLOOKUP(DJ$7+0.5,$J$66:$DK$120,ROWS($A$10:$A50)+2,FALSE)","v":32},{"$f":"HLOOKUP(DK$7+0.5,$J$66:$DK$120,ROWS($A$10:$A50)+2,FALSE)","v":186}]
[null,"South Carolina","South",4668886,3434,3929626,20572,564350,20053,{"$f":"HLOOKUP(J$7,$J$66:$DK$120,ROWS($A$10:$A51)+2,FALSE)","v":156705},{"$f":"HLOOKUP(K$7,$J$66:$DK$120,ROWS($A$10:$A51)+2,FALSE)","v":1665},{"$f":"HLOOKUP(L$7,$J$66:$DK$120,ROWS($A$10:$A51)+2,FALSE)","v":1244},{"$f":"HLOOKUP(M$7,$J$66:$DK$120,ROWS($A$10:$A51)+2,FALSE)","v":2222},{"$f":"HLOOKUP(N$7,$J$66:$DK$120,ROWS($A$10:$A51)+2,FALSE)","v":839},{"$f":"HLOOKUP(O$7,$J$66:$DK$120,ROWS($A$10:$A51)+2,FALSE)","v":5979},{"$f":"HLOOKUP(P$7,$J$66:$DK$120,ROWS($A$10:$A51)+2,FALSE)","v":1915},{"$f":"HLOOKUP(Q$7,$J$66:$DK$120,ROWS($A$10:$A51)+2,FALSE)","v":1590},{"$f":"HLOOKUP(R$7,$J$66:$DK$120,ROWS($A$10:$A51)+2,FALSE)","v":697},{"$f":"HLOOKUP(S$7,$J$66:$DK$120,ROWS($A$10:$A51)+2,FALSE)","v":435},{"$f":"HLOOKUP(T$7,$J$66:$DK$120,ROWS($A$10:$A51)+2,FALSE)","v":11552},{"$f":"HLOOKUP(U$7,$J$66:$DK$120,ROWS($A$10:$A51)+2,FALSE)","v":18570},{"$f":"HLOOKUP(V$7,$J$66:$DK$120,ROWS($A$10:$A51)+2,FALSE)","v":638},{"$f":"HLOOKUP(W$7,$J$66:$DK$120,ROWS($A$10:$A51)+2,FALSE)","v":198},{"$f":"HLOOKUP(X$7,$J$66:$DK$120,ROWS($A$10:$A51)+2,FALSE)","v":2125},{"$f":"HLOOKUP(Y$7,$J$66:$DK$120,ROWS($A$10:$A51)+2,FALSE)","v":3802},{"$f":"HLOOKUP(Z$7,$J$66:$DK$120,ROWS($A$10:$A51)+2,FALSE)","v":643},{"$f":"HLOOKUP(AA$7,$J$66:$DK$120,ROWS($A$10:$A51)+2,FALSE)","v":1064},{"$f":"HLOOKUP(AB$7,$J$66:$DK$120,ROWS($A$10:$A51)+2,FALSE)","v":1924},{"$f":"HLOOKUP(AC$7,$J$66:$DK$120,ROWS($A$10:$A51)+2,FALSE)","v":2709},{"$f":"HLOOKUP(AD$7,$J$66:$DK$120,ROWS($A$10:$A51)+2,FALSE)","v":2077},{"$f":"HLOOKUP(AE$7,$J$66:$DK$120,ROWS($A$10:$A51)+2,FALSE)","v":3565},{"$f":"HLOOKUP(AF$7,$J$66:$DK$120,ROWS($A$10:$A51)+2,FALSE)","v":2313},{"$f":"HLOOKUP(AG$7,$J$66:$DK$120,ROWS($A$10:$A51)+2,FALSE)","v":2966},{"$f":"HLOOKUP(AH$7,$J$66:$DK$120,ROWS($A$10:$A51)+2,FALSE)","v":757},{"$f":"HLOOKUP(AI$7,$J$66:$DK$120,ROWS($A$10:$A51)+2,FALSE)","v":1407},{"$f":"HLOOKUP(AJ$7,$J$66:$DK$120,ROWS($A$10:$A51)+2,FALSE)","v":1884},{"$f":"HLOOKUP(AK$7,$J$66:$DK$120,ROWS($A$10:$A51)+2,FALSE)","v":93},{"$f":"HLOOKUP(AL$7,$J$66:$DK$120,ROWS($A$10:$A51)+2,FALSE)","v":158},{"$f":"HLOOKUP(AM$7,$J$66:$DK$120,ROWS($A$10:$A51)+2,FALSE)","v":1025},{"$f":"HLOOKUP(AN$7,$J$66:$DK$120,ROWS($A$10:$A51)+2,FALSE)","v":917},{"$f":"HLOOKUP(AO$7,$J$66:$DK$120,ROWS($A$10:$A51)+2,FALSE)","v":6517},{"$f":"HLOOKUP(AP$7,$J$66:$DK$120,ROWS($A$10:$A51)+2,FALSE)","v":1052},{"$f":"HLOOKUP(AQ$7,$J$66:$DK$120,ROWS($A$10:$A51)+2,FALSE)","v":10746},{"$f":"HLOOKUP(AR$7,$J$66:$DK$120,ROWS($A$10:$A51)+2,FALSE)","v":24764},{"$f":"HLOOKUP(AS$7,$J$66:$DK$120,ROWS($A$10:$A51)+2,FALSE)","v":656},{"$f":"HLOOKUP(AT$7,$J$66:$DK$120,ROWS($A$10:$A51)+2,FALSE)","v":4388},{"$f":"HLOOKUP(AU$7,$J$66:$DK$120,ROWS($A$10:$A51)+2,FALSE)","v":555},{"$f":"HLOOKUP(AV$7,$J$66:$DK$120,ROWS($A$10:$A51)+2,FALSE)","v":255},{"$f":"HLOOKUP(AW$7,$J$66:$DK$120,ROWS($A$10:$A51)+2,FALSE)","v":6497},{"$f":"HLOOKUP(AX$7,$J$66:$DK$120,ROWS($A$10:$A51)+2,FALSE)","v":538},{"$f":"HLOOKUP(AY$7,$J$66:$DK$120,ROWS($A$10:$A51)+2,FALSE)","v":"N/A"},{"$f":"HLOOKUP(AZ$7,$J$66:$DK$120,ROWS($A$10:$A51)+2,FALSE)","v":816},{"$f":"HLOOKUP(BA$7,$J$66:$DK$120,ROWS($A$10:$A51)+2,FALSE)","v":3550},{"$f":"HLOOKUP(BB$7,$J$66:$DK$120,ROWS($A$10:$A51)+2,FALSE)","v":5351},{"$f":"HLOOKUP(BC$7,$J$66:$DK$120,ROWS($A$10:$A51)+2,FALSE)","v":566},{"$f":"HLOOKUP(BD$7,$J$66:$DK$120,ROWS($A$10:$A51)+2,FALSE)","v":298},{"$f":"HLOOKUP(BE$7,$J$66:$DK$120,ROWS($A$10:$A51)+2,FALSE)","v":9377},{"$f":"HLOOKUP(BF$7,$J$66:$DK$120,ROWS($A$10:$A51)+2,FALSE)","v":1629},{"$f":"HLOOKUP(BG$7,$J$66:$DK$120,ROWS($A$10:$A51)+2,FALSE)","v":1345},{"$f":"HLOOKUP(BH$7,$J$66:$DK$120,ROWS($A$10:$A51)+2,FALSE)","v":832},{"$f":"HLOOKUP(BI$7,$J$66:$DK$120,ROWS($A$10:$A51)+2,FALSE)","v":0},{"$f":"HLOOKUP(BJ$7,$J$66:$DK$120,ROWS($A$10:$A51)+2,FALSE)","v":1070},{"$f":"HLOOKUP(BK$7+0.5,$J$66:$DK$120,ROWS($A$10:$A51)+2,FALSE)","v":9611},{"$f":"HLOOKUP(BL$7+0.5,$J$66:$DK$120,ROWS($A$10:$A51)+2,FALSE)","v":635},{"$f":"HLOOKUP(BM$7+0.5,$J$66:$DK$120,ROWS($A$10:$A51)+2,FALSE)","v":1016},{"$f":"HLOOKUP(BN$7+0.5,$J$66:$DK$120,ROWS($A$10:$A51)+2,FALSE)","v":1160},{"$f":"HLOOKUP(BO$7+0.5,$J$66:$DK$120,ROWS($A$10:$A51)+2,FALSE)","v":526},{"$f":"HLOOKUP(BP$7+0.5,$J$66:$DK$120,ROWS($A$10:$A51)+2,FALSE)","v":1473},{"$f":"HLOOKUP(BQ$7+0.5,$J$66:$DK$120,ROWS($A$10:$A51)+2,FALSE)","v":1059},{"$f":"HLOOKUP(BR$7+0.5,$J$66:$DK$120,ROWS($A$10:$A51)+2,FALSE)","v":729},{"$f":"HLOOKUP(BS$7+0.5,$J$66:$DK$120,ROWS($A$10:$A51)+2,FALSE)","v":492},{"$f":"HLOOKUP(BT$7+0.5,$J$66:$DK$120,ROWS($A$10:$A51)+2,FALSE)","v":352},{"$f":"HLOOKUP(BU$7+0.5,$J$66:$DK$120,ROWS($A$10:$A51)+2,FALSE)","v":2367},{"$f":"HLOOKUP(BV$7+0.5,$J$66:$DK$120,ROWS($A$10:$A51)+2,FALSE)","v":3616},{"$f":"HLOOKUP(BW$7+0.5,$J$66:$DK$120,ROWS($A$10:$A51)+2,FALSE)","v":493},{"$f":"HLOOKUP(BX$7+0.5,$J$66:$DK$120,ROWS($A$10:$A51)+2,FALSE)","v":321},{"$f":"HLOOKUP(BY$7+0.5,$J$66:$DK$120,ROWS($A$10:$A51)+2,FALSE)","v":1128},{"$f":"HLOOKUP(BZ$7+0.5,$J$66:$DK$120,ROWS($A$10:$A51)+2,FALSE)","v":1911},{"$f":"HLOOKUP(CA$7+0.5,$J$66:$DK$120,ROWS($A$10:$A51)+2,FALSE)","v":437},{"$f":"HLOOKUP(CB$7+0.5,$J$66:$DK$120,ROWS($A$10:$A51)+2,FALSE)","v":855},{"$f":"HLOOKUP(CC$7+0.5,$J$66:$DK$120,ROWS($A$10:$A51)+2,FALSE)","v":991},{"$f":"HLOOKUP(CD$7+0.5,$J$66:$DK$120,ROWS($A$10:$A51)+2,FALSE)","v":2265},{"$f":"HLOOKUP(CE$7+0.5,$J$66:$DK$120,ROWS($A$10:$A51)+2,FALSE)","v":942},{"$f":"HLOOKUP(CF$7+0.5,$J$66:$DK$120,ROWS($A$10:$A51)+2,FALSE)","v":1205},{"$f":"HLOOKUP(CG$7+0.5,$J$66:$DK$120,ROWS($A$10:$A51)+2,FALSE)","v":826},{"$f":"HLOOKUP(CH$7+0.5,$J$66:$DK$120,ROWS($A$10:$A51)+2,FALSE)","v":1289},{"$f":"HLOOKUP(CI$7+0.5,$J$66:$DK$120,ROWS($A$10:$A51)+2,FALSE)","v":582},{"$f":"HLOOKUP(CJ$7+0.5,$J$66:$DK$120,ROWS($A$10:$A51)+2,FALSE)","v":802},{"$f":"HLOOKUP(CK$7+0.5,$J$66:$DK$120,ROWS($A$10:$A51)+2,FALSE)","v":724},{"$f":"HLOOKUP(CL$7+0.5,$J$66:$DK$120,ROWS($A$10:$A51)+2,FALSE)","v":127},{"$f":"HLOOKUP(CM$7+0.5,$J$66:$DK$120,ROWS($A$10:$A51)+2,FALSE)","v":165},{"$f":"HLOOKUP(CN$7+0.5,$J$66:$DK$120,ROWS($A$10:$A51)+2,FALSE)","v":834},{"$f":"HLOOKUP(CO$7+0.5,$J$66:$DK$120,ROWS($A$10:$A51)+2,FALSE)","v":696},{"$f":"HLOOKUP(CP$7+0.5,$J$66:$DK$120,ROWS($A$10:$A51)+2,FALSE)","v":2181},{"$f":"HLOOKUP(CQ$7+0.5,$J$66:$DK$120,ROWS($A$10:$A51)+2,FALSE)","v":1085},{"$f":"HLOOKUP(CR$7+0.5,$J$66:$DK$120,ROWS($A$10:$A51)+2,FALSE)","v":3642},{"$f":"HLOOKUP(CS$7+0.5,$J$66:$DK$120,ROWS($A$10:$A51)+2,FALSE)","v":3907},{"$f":"HLOOKUP(CT$7+0.5,$J$66:$DK$120,ROWS($A$10:$A51)+2,FALSE)","v":650},{"$f":"HLOOKUP(CU$7+0.5,$J$66:$DK$120,ROWS($A$10:$A51)+2,FALSE)","v":1326},{"$f":"HLOOKUP(CV$7+0.5,$J$66:$DK$120,ROWS($A$10:$A51)+2,FALSE)","v":354},{"$f":"HLOOKUP(CW$7+0.5,$J$66:$DK$120,ROWS($A$10:$A51)+2,FALSE)","v":202},{"$f":"HLOOKUP(CX$7+0.5,$J$66:$DK$120,ROWS($A$10:$A51)+2,FALSE)","v":2067},{"$f":"HLOOKUP(CY$7+0.5,$J$66:$DK$120,ROWS($A$10:$A51)+2,FALSE)","v":332},{"$f":"HLOOKUP(CZ$7+0.5,$J$66:$DK$120,ROWS($A$10:$A51)+2,FALSE)","v":"N/A"},{"$f":"HLOOKUP(DA$7+0.5,$J$66:$DK$120,ROWS($A$10:$A51)+2,FALSE)","v":1252},{"$f":"HLOOKUP(DB$7+0.5,$J$66:$DK$120,ROWS($A$10:$A51)+2,FALSE)","v":1136},{"$f":"HLOOKUP(DC$7+0.5,$J$66:$DK$120,ROWS($A$10:$A51)+2,FALSE)","v":1482},{"$f":"HLOOKUP(DD$7+0.5,$J$66:$DK$120,ROWS($A$10:$A51)+2,FALSE)","v":425},{"$f":"HLOOKUP(DE$7+0.5,$J$66:$DK$120,ROWS($A$10:$A51)+2,FALSE)","v":244},{"$f":"HLOOKUP(DF$7+0.5,$J$66:$DK$120,ROWS($A$10:$A51)+2,FALSE)","v":3040},{"$f":"HLOOKUP(DG$7+0.5,$J$66:$DK$120,ROWS($A$10:$A51)+2,FALSE)","v":1165},{"$f":"HLOOKUP(DH$7+0.5,$J$66:$DK$120,ROWS($A$10:$A51)+2,FALSE)","v":720},{"$f":"HLOOKUP(DI$7+0.5,$J$66:$DK$120,ROWS($A$10:$A51)+2,FALSE)","v":570},{"$f":"HLOOKUP(DJ$7+0.5,$J$66:$DK$120,ROWS($A$10:$A51)+2,FALSE)","v":197},{"$f":"HLOOKUP(DK$7+0.5,$J$66:$DK$120,ROWS($A$10:$A51)+2,FALSE)","v":890}]
[null,"South Dakota","Midwest",821669,1036,676014,7752,115606,7423,{"$f":"HLOOKUP(J$7,$J$66:$DK$120,ROWS($A$10:$A52)+2,FALSE)","v":26051},{"$f":"HLOOKUP(K$7,$J$66:$DK$120,ROWS($A$10:$A52)+2,FALSE)","v":0},{"$f":"HLOOKUP(L$7,$J$66:$DK$120,ROWS($A$10:$A52)+2,FALSE)","v":855},{"$f":"HLOOKUP(M$7,$J$66:$DK$120,ROWS($A$10:$A52)+2,FALSE)","v":435},{"$f":"HLOOKUP(N$7,$J$66:$DK$120,ROWS($A$10:$A52)+2,FALSE)","v":227},{"$f":"HLOOKUP(O$7,$J$66:$DK$120,ROWS($A$10:$A52)+2,FALSE)","v":1494},{"$f":"HLOOKUP(P$7,$J$66:$DK$120,ROWS($A$10:$A52)+2,FALSE)","v":1744},{"$f":"HLOOKUP(Q$7,$J$66:$DK$120,ROWS($A$10:$A52)+2,FALSE)","v":2},{"$f":"HLOOKUP(R$7,$J$66:$DK$120,ROWS($A$10:$A52)+2,FALSE)","v":0},{"$f":"HLOOKUP(S$7,$J$66:$DK$120,ROWS($A$10:$A52)+2,FALSE)","v":0},{"$f":"HLOOKUP(T$7,$J$66:$DK$120,ROWS($A$10:$A52)+2,FALSE)","v":970},{"$f":"HLOOKUP(U$7,$J$66:$DK$120,ROWS($A$10:$A52)+2,FALSE)","v":122},{"$f":"HLOOKUP(V$7,$J$66:$DK$120,ROWS($A$10:$A52)+2,FALSE)","v":8},{"$f":"HLOOKUP(W$7,$J$66:$DK$120,ROWS($A$10:$A52)+2,FALSE)","v":78},{"$f":"HLOOKUP(X$7,$J$66:$DK$120,ROWS($A$10:$A52)+2,FALSE)","v":74},{"$f":"HLOOKUP(Y$7,$J$66:$DK$120,ROWS($A$10:$A52)+2,FALSE)","v":210},{"$f":"HLOOKUP(Z$7,$J$66:$DK$120,ROWS($A$10:$A52)+2,FALSE)","v":2441},{"$f":"HLOOKUP(AA$7,$J$66:$DK$120,ROWS($A$10:$A52)+2,FALSE)","v":403},{"$f":"HLOOKUP(AB$7,$J$66:$DK$120,ROWS($A$10:$A52)+2,FALSE)","v":0},{"$f":"HLOOKUP(AC$7,$J$66:$DK$120,ROWS($A$10:$A52)+2,FALSE)","v":0},{"$f":"HLOOKUP(AD$7,$J$66:$DK$120,ROWS($A$10:$A52)+2,FALSE)","v":0},{"$f":"HLOOKUP(AE$7,$J$66:$DK$120,ROWS($A$10:$A52)+2,FALSE)","v":60},{"$f":"HLOOKUP(AF$7,$J$66:$DK$120,ROWS($A$10:$A52)+2,FALSE)","v":61},{"$f":"HLOOKUP(AG$7,$J$66:$DK$120,ROWS($A$10:$A52)+2,FALSE)","v":892},{"$f":"HLOOKUP(AH$7,$J$66:$DK$120,ROWS($A$10:$A52)+2,FALSE)","v":3568},{"$f":"HLOOKUP(AI$7,$J$66:$DK$120,ROWS($A$10:$A52)+2,FALSE)","v":34},{"$f":"HLOOKUP(AJ$7,$J$66:$DK$120,ROWS($A$10:$A52)+2,FALSE)","v":474},{"$f":"HLOOKUP(AK$7,$J$66:$DK$120,ROWS($A$10:$A52)+2,FALSE)","v":248},{"$f":"HLOOKUP(AL$7,$J$66:$DK$120,ROWS($A$10:$A52)+2,FALSE)","v":2175},{"$f":"HLOOKUP(AM$7,$J$66:$DK$120,ROWS($A$10:$A52)+2,FALSE)","v":135},{"$f":"HLOOKUP(AN$7,$J$66:$DK$120,ROWS($A$10:$A52)+2,FALSE)","v":0},{"$f":"HLOOKUP(AO$7,$J$66:$DK$120,ROWS($A$10:$A52)+2,FALSE)","v":0},{"$f":"HLOOKUP(AP$7,$J$66:$DK$120,ROWS($A$10:$A52)+2,FALSE)","v":175},{"$f":"HLOOKUP(AQ$7,$J$66:$DK$120,ROWS($A$10:$A52)+2,FALSE)","v":371},{"$f":"HLOOKUP(AR$7,$J$66:$DK$120,ROWS($A$10:$A52)+2,FALSE)","v":240},{"$f":"HLOOKUP(AS$7,$J$66:$DK$120,ROWS($A$10:$A52)+2,FALSE)","v":1725},{"$f":"HLOOKUP(AT$7,$J$66:$DK$120,ROWS($A$10:$A52)+2,FALSE)","v":64},{"$f":"HLOOKUP(AU$7,$J$66:$DK$120,ROWS($A$10:$A52)+2,FALSE)","v":21},{"$f":"HLOOKUP(AV$7,$J$66:$DK$120,ROWS($A$10:$A52)+2,FALSE)","v":667},{"$f":"HLOOKUP(AW$7,$J$66:$DK$120,ROWS($A$10:$A52)+2,FALSE)","v":515},{"$f":"HLOOKUP(AX$7,$J$66:$DK$120,ROWS($A$10:$A52)+2,FALSE)","v":0},{"$f":"HLOOKUP(AY$7,$J$66:$DK$120,ROWS($A$10:$A52)+2,FALSE)","v":158},{"$f":"HLOOKUP(AZ$7,$J$66:$DK$120,ROWS($A$10:$A52)+2,FALSE)","v":"N/A"},{"$f":"HLOOKUP(BA$7,$J$66:$DK$120,ROWS($A$10:$A52)+2,FALSE)","v":507},{"$f":"HLOOKUP(BB$7,$J$66:$DK$120,ROWS($A$10:$A52)+2,FALSE)","v":1715},{"$f":"HLOOKUP(BC$7,$J$66:$DK$120,ROWS($A$10:$A52)+2,FALSE)","v":388},{"$f":"HLOOKUP(BD$7,$J$66:$DK$120,ROWS($A$10:$A52)+2,FALSE)","v":5},{"$f":"HLOOKUP(BE$7,$J$66:$DK$120,ROWS($A$10:$A52)+2,FALSE)","v":340},{"$f":"HLOOKUP(BF$7,$J$66:$DK$120,ROWS($A$10:$A52)+2,FALSE)","v":1026},{"$f":"HLOOKUP(BG$7,$J$66:$DK$120,ROWS($A$10:$A52)+2,FALSE)","v":131},{"$f":"HLOOKUP(BH$7,$J$66:$DK$120,ROWS($A$10:$A52)+2,FALSE)","v":314},{"$f":"HLOOKUP(BI$7,$J$66:$DK$120,ROWS($A$10:$A52)+2,FALSE)","v":979},{"$f":"HLOOKUP(BJ$7,$J$66:$DK$120,ROWS($A$10:$A52)+2,FALSE)","v":134},{"$f":"HLOOKUP(BK$7+0.5,$J$66:$DK$120,ROWS($A$10:$A52)+2,FALSE)","v":2891},{"$f":"HLOOKUP(BL$7+0.5,$J$66:$DK$120,ROWS($A$10:$A52)+2,FALSE)","v":147},{"$f":"HLOOKUP(BM$7+0.5,$J$66:$DK$120,ROWS($A$10:$A52)+2,FALSE)","v":1127},{"$f":"HLOOKUP(BN$7+0.5,$J$66:$DK$120,ROWS($A$10:$A52)+2,FALSE)","v":333},{"$f":"HLOOKUP(BO$7+0.5,$J$66:$DK$120,ROWS($A$10:$A52)+2,FALSE)","v":354},{"$f":"HLOOKUP(BP$7+0.5,$J$66:$DK$120,ROWS($A$10:$A52)+2,FALSE)","v":663},{"$f":"HLOOKUP(BQ$7+0.5,$J$66:$DK$120,ROWS($A$10:$A52)+2,FALSE)","v":839},{"$f":"HLOOKUP(BR$7+0.5,$J$66:$DK$120,ROWS($A$10:$A52)+2,FALSE)","v":4},{"$f":"HLOOKUP(BS$7+0.5,$J$66:$DK$120,ROWS($A$10:$A52)+2,FALSE)","v":147},{"$f":"HLOOKUP(BT$7+0.5,$J$66:$DK$120,ROWS($A$10:$A52)+2,FALSE)","v":147},{"$f":"HLOOKUP(BU$7+0.5,$J$66:$DK$120,ROWS($A$10:$A52)+2,FALSE)","v":638},{"$f":"HLOOKUP(BV$7+0.5,$J$66:$DK$120,ROWS($A$10:$A52)+2,FALSE)","v":130},{"$f":"HLOOKUP(BW$7+0.5,$J$66:$DK$120,ROWS($A$10:$A52)+2,FALSE)","v":13},{"$f":"HLOOKUP(BX$7+0.5,$J$66:$DK$120,ROWS($A$10:$A52)+2,FALSE)","v":104},{"$f":"HLOOKUP(BY$7+0.5,$J$66:$DK$120,ROWS($A$10:$A52)+2,FALSE)","v":102},{"$f":"HLOOKUP(BZ$7+0.5,$J$66:$DK$120,ROWS($A$10:$A52)+2,FALSE)","v":289},{"$f":"HLOOKUP(CA$7+0.5,$J$66:$DK$120,ROWS($A$10:$A52)+2,FALSE)","v":932},{"$f":"HLOOKUP(CB$7+0.5,$J$66:$DK$120,ROWS($A$10:$A52)+2,FALSE)","v":295},{"$f":"HLOOKUP(CC$7+0.5,$J$66:$DK$120,ROWS($A$10:$A52)+2,FALSE)","v":147},{"$f":"HLOOKUP(CD$7+0.5,$J$66:$DK$120,ROWS($A$10:$A52)+2,FALSE)","v":147},{"$f":"HLOOKUP(CE$7+0.5,$J$66:$DK$120,ROWS($A$10:$A52)+2,FALSE)","v":147},{"$f":"HLOOKUP(CF$7+0.5,$J$66:$DK$120,ROWS($A$10:$A52)+2,FALSE)","v":65},{"$f":"HLOOKUP(CG$7+0.5,$J$66:$DK$120,ROWS($A$10:$A52)+2,FALSE)","v":101},{"$f":"HLOOKUP(CH$7+0.5,$J$66:$DK$120,ROWS($A$10:$A52)+2,FALSE)","v":747},{"$f":"HLOOKUP(CI$7+0.5,$J$66:$DK$120,ROWS($A$10:$A52)+2,FALSE)","v":1023},{"$f":"HLOOKUP(CJ$7+0.5,$J$66:$DK$120,ROWS($A$10:$A52)+2,FALSE)","v":48},{"$f":"HLOOKUP(CK$7+0.5,$J$66:$DK$120,ROWS($A$10:$A52)+2,FALSE)","v":274},{"$f":"HLOOKUP(CL$7+0.5,$J$66:$DK$120,ROWS($A$10:$A52)+2,FALSE)","v":208},{"$f":"HLOOKUP(CM$7+0.5,$J$66:$DK$120,ROWS($A$10:$A52)+2,FALSE)","v":801},{"$f":"HLOOKUP(CN$7+0.5,$J$66:$DK$120,ROWS($A$10:$A52)+2,FALSE)","v":171},{"$f":"HLOOKUP(CO$7+0.5,$J$66:$DK$120,ROWS($A$10:$A52)+2,FALSE)","v":147},{"$f":"HLOOKUP(CP$7+0.5,$J$66:$DK$120,ROWS($A$10:$A52)+2,FALSE)","v":147},{"$f":"HLOOKUP(CQ$7+0.5,$J$66:$DK$120,ROWS($A$10:$A52)+2,FALSE)","v":187},{"$f":"HLOOKUP(CR$7+0.5,$J$66:$DK$120,ROWS($A$10:$A52)+2,FALSE)","v":317},{"$f":"HLOOKUP(CS$7+0.5,$J$66:$DK$120,ROWS($A$10:$A52)+2,FALSE)","v":220},{"$f":"HLOOKUP(CT$7+0.5,$J$66:$DK$120,ROWS($A$10:$A52)+2,FALSE)","v":823},{"$f":"HLOOKUP(CU$7+0.5,$J$66:$DK$120,ROWS($A$10:$A52)+2,FALSE)","v":77},{"$f":"HLOOKUP(CV$7+0.5,$J$66:$DK$120,ROWS($A$10:$A52)+2,FALSE)","v":36},{"$f":"HLOOKUP(CW$7+0.5,$J$66:$DK$120,ROWS($A$10:$A52)+2,FALSE)","v":583},{"$f":"HLOOKUP(CX$7+0.5,$J$66:$DK$120,ROWS($A$10:$A52)+2,FALSE)","v":633},{"$f":"HLOOKUP(CY$7+0.5,$J$66:$DK$120,ROWS($A$10:$A52)+2,FALSE)","v":147},{"$f":"HLOOKUP(CZ$7+0.5,$J$66:$DK$120,ROWS($A$10:$A52)+2,FALSE)","v":159},{"$f":"HLOOKUP(DA$7+0.5,$J$66:$DK$120,ROWS($A$10:$A52)+2,FALSE)","v":"N/A"},{"$f":"HLOOKUP(DB$7+0.5,$J$66:$DK$120,ROWS($A$10:$A52)+2,FALSE)","v":346},{"$f":"HLOOKUP(DC$7+0.5,$J$66:$DK$120,ROWS($A$10:$A52)+2,FALSE)","v":1067},{"$f":"HLOOKUP(DD$7+0.5,$J$66:$DK$120,ROWS($A$10:$A52)+2,FALSE)","v":372},{"$f":"HLOOKUP(DE$7+0.5,$J$66:$DK$120,ROWS($A$10:$A52)+2,FALSE)","v":9},{"$f":"HLOOKUP(DF$7+0.5,$J$66:$DK$120,ROWS($A$10:$A52)+2,FALSE)","v":300},{"$f":"HLOOKUP(DG$7+0.5,$J$66:$DK$120,ROWS($A$10:$A52)+2,FALSE)","v":681},{"$f":"HLOOKUP(DH$7+0.5,$J$66:$DK$120,ROWS($A$10:$A52)+2,FALSE)","v":216},{"$f":"HLOOKUP(DI$7+0.5,$J$66:$DK$120,ROWS($A$10:$A52)+2,FALSE)","v":413},{"$f":"HLOOKUP(DJ$7+0.5,$J$66:$DK$120,ROWS($A$10:$A52)+2,FALSE)","v":735},{"$f":"HLOOKUP(DK$7+0.5,$J$66:$DK$120,ROWS($A$10:$A52)+2,FALSE)","v":235}]
[null,"Tennessee","South",6378278,4412,5396833,24470,783077,21860,{"$f":"HLOOKUP(J$7,$J$66:$DK$120,ROWS($A$10:$A53)+2,FALSE)","v":177098},{"$f":"HLOOKUP(K$7,$J$66:$DK$120,ROWS($A$10:$A53)+2,FALSE)","v":12116},{"$f":"HLOOKUP(L$7,$J$66:$DK$120,ROWS($A$10:$A53)+2,FALSE)","v":1281},{"$f":"HLOOKUP(M$7,$J$66:$DK$120,ROWS($A$10:$A53)+2,FALSE)","v":2250},{"$f":"HLOOKUP(N$7,$J$66:$DK$120,ROWS($A$10:$A53)+2,FALSE)","v":3306},{"$f":"HLOOKUP(O$7,$J$66:$DK$120,ROWS($A$10:$A53)+2,FALSE)","v":8396},{"$f":"HLOOKUP(P$7,$J$66:$DK$120,ROWS($A$10:$A53)+2,FALSE)","v":2473},{"$f":"HLOOKUP(Q$7,$J$66:$DK$120,ROWS($A$10:$A53)+2,FALSE)","v":936},{"$f":"HLOOKUP(R$7,$J$66:$DK$120,ROWS($A$10:$A53)+2,FALSE)","v":176},{"$f":"HLOOKUP(S$7,$J$66:$DK$120,ROWS($A$10:$A53)+2,FALSE)","v":180},{"$f":"HLOOKUP(T$7,$J$66:$DK$120,ROWS($A$10:$A53)+2,FALSE)","v":15641},{"$f":"HLOOKUP(U$7,$J$66:$DK$120,ROWS($A$10:$A53)+2,FALSE)","v":16012},{"$f":"HLOOKUP(V$7,$J$66:$DK$120,ROWS($A$10:$A53)+2,FALSE)","v":1058},{"$f":"HLOOKUP(W$7,$J$66:$DK$120,ROWS($A$10:$A53)+2,FALSE)","v":787},{"$f":"HLOOKUP(X$7,$J$66:$DK$120,ROWS($A$10:$A53)+2,FALSE)","v":7094},{"$f":"HLOOKUP(Y$7,$J$66:$DK$120,ROWS($A$10:$A53)+2,FALSE)","v":5591},{"$f":"HLOOKUP(Z$7,$J$66:$DK$120,ROWS($A$10:$A53)+2,FALSE)","v":617},{"$f":"HLOOKUP(AA$7,$J$66:$DK$120,ROWS($A$10:$A53)+2,FALSE)","v":2630},{"$f":"HLOOKUP(AB$7,$J$66:$DK$120,ROWS($A$10:$A53)+2,FALSE)","v":13202},{"$f":"HLOOKUP(AC$7,$J$66:$DK$120,ROWS($A$10:$A53)+2,FALSE)","v":2452},{"$f":"HLOOKUP(AD$7,$J$66:$DK$120,ROWS($A$10:$A53)+2,FALSE)","v":1040},{"$f":"HLOOKUP(AE$7,$J$66:$DK$120,ROWS($A$10:$A53)+2,FALSE)","v":1743},{"$f":"HLOOKUP(AF$7,$J$66:$DK$120,ROWS($A$10:$A53)+2,FALSE)","v":1525},{"$f":"HLOOKUP(AG$7,$J$66:$DK$120,ROWS($A$10:$A53)+2,FALSE)","v":4507},{"$f":"HLOOKUP(AH$7,$J$66:$DK$120,ROWS($A$10:$A53)+2,FALSE)","v":1178},{"$f":"HLOOKUP(AI$7,$J$66:$DK$120,ROWS($A$10:$A53)+2,FALSE)","v":10568},{"$f":"HLOOKUP(AJ$7,$J$66:$DK$120,ROWS($A$10:$A53)+2,FALSE)","v":2694},{"$f":"HLOOKUP(AK$7,$J$66:$DK$120,ROWS($A$10:$A53)+2,FALSE)","v":308},{"$f":"HLOOKUP(AL$7,$J$66:$DK$120,ROWS($A$10:$A53)+2,FALSE)","v":432},{"$f":"HLOOKUP(AM$7,$J$66:$DK$120,ROWS($A$10:$A53)+2,FALSE)","v":735},{"$f":"HLOOKUP(AN$7,$J$66:$DK$120,ROWS($A$10:$A53)+2,FALSE)","v":271},{"$f":"HLOOKUP(AO$7,$J$66:$DK$120,ROWS($A$10:$A53)+2,FALSE)","v":783},{"$f":"HLOOKUP(AP$7,$J$66:$DK$120,ROWS($A$10:$A53)+2,FALSE)","v":751},{"$f":"HLOOKUP(AQ$7,$J$66:$DK$120,ROWS($A$10:$A53)+2,FALSE)","v":6279},{"$f":"HLOOKUP(AR$7,$J$66:$DK$120,ROWS($A$10:$A53)+2,FALSE)","v":5904},{"$f":"HLOOKUP(AS$7,$J$66:$DK$120,ROWS($A$10:$A53)+2,FALSE)","v":7},{"$f":"HLOOKUP(AT$7,$J$66:$DK$120,ROWS($A$10:$A53)+2,FALSE)","v":6200},{"$f":"HLOOKUP(AU$7,$J$66:$DK$120,ROWS($A$10:$A53)+2,FALSE)","v":2495},{"$f":"HLOOKUP(AV$7,$J$66:$DK$120,ROWS($A$10:$A53)+2,FALSE)","v":1080},{"$f":"HLOOKUP(AW$7,$J$66:$DK$120,ROWS($A$10:$A53)+2,FALSE)","v":3329},{"$f":"HLOOKUP(AX$7,$J$66:$DK$120,ROWS($A$10:$A53)+2,FALSE)","v":26},{"$f":"HLOOKUP(AY$7,$J$66:$DK$120,ROWS($A$10:$A53)+2,FALSE)","v":4300},{"$f":"HLOOKUP(AZ$7,$J$66:$DK$120,ROWS($A$10:$A53)+2,FALSE)","v":0},{"$f":"HLOOKUP(BA$7,$J$66:$DK$120,ROWS($A$10:$A53)+2,FALSE)","v":"N/A"},{"$f":"HLOOKUP(BB$7,$J$66:$DK$120,ROWS($A$10:$A53)+2,FALSE)","v":8716},{"$f":"HLOOKUP(BC$7,$J$66:$DK$120,ROWS($A$10:$A53)+2,FALSE)","v":784},{"$f":"HLOOKUP(BD$7,$J$66:$DK$120,ROWS($A$10:$A53)+2,FALSE)","v":133},{"$f":"HLOOKUP(BE$7,$J$66:$DK$120,ROWS($A$10:$A53)+2,FALSE)","v":8008},{"$f":"HLOOKUP(BF$7,$J$66:$DK$120,ROWS($A$10:$A53)+2,FALSE)","v":1876},{"$f":"HLOOKUP(BG$7,$J$66:$DK$120,ROWS($A$10:$A53)+2,FALSE)","v":3248},{"$f":"HLOOKUP(BH$7,$J$66:$DK$120,ROWS($A$10:$A53)+2,FALSE)","v":1622},{"$f":"HLOOKUP(BI$7,$J$66:$DK$120,ROWS($A$10:$A53)+2,FALSE)","v":358},{"$f":"HLOOKUP(BJ$7,$J$66:$DK$120,ROWS($A$10:$A53)+2,FALSE)","v":717},{"$f":"HLOOKUP(BK$7+0.5,$J$66:$DK$120,ROWS($A$10:$A53)+2,FALSE)","v":10625},{"$f":"HLOOKUP(BL$7+0.5,$J$66:$DK$120,ROWS($A$10:$A53)+2,FALSE)","v":3309},{"$f":"HLOOKUP(BM$7+0.5,$J$66:$DK$120,ROWS($A$10:$A53)+2,FALSE)","v":847},{"$f":"HLOOKUP(BN$7+0.5,$J$66:$DK$120,ROWS($A$10:$A53)+2,FALSE)","v":907},{"$f":"HLOOKUP(BO$7+0.5,$J$66:$DK$120,ROWS($A$10:$A53)+2,FALSE)","v":1731},{"$f":"HLOOKUP(BP$7+0.5,$J$66:$DK$120,ROWS($A$10:$A53)+2,FALSE)","v":2447},{"$f":"HLOOKUP(BQ$7+0.5,$J$66:$DK$120,ROWS($A$10:$A53)+2,FALSE)","v":1156},{"$f":"HLOOKUP(BR$7+0.5,$J$66:$DK$120,ROWS($A$10:$A53)+2,FALSE)","v":900},{"$f":"HLOOKUP(BS$7+0.5,$J$66:$DK$120,ROWS($A$10:$A53)+2,FALSE)","v":222},{"$f":"HLOOKUP(BT$7+0.5,$J$66:$DK$120,ROWS($A$10:$A53)+2,FALSE)","v":203},{"$f":"HLOOKUP(BU$7+0.5,$J$66:$DK$120,ROWS($A$10:$A53)+2,FALSE)","v":3639},{"$f":"HLOOKUP(BV$7+0.5,$J$66:$DK$120,ROWS($A$10:$A53)+2,FALSE)","v":3114},{"$f":"HLOOKUP(BW$7+0.5,$J$66:$DK$120,ROWS($A$10:$A53)+2,FALSE)","v":1052},{"$f":"HLOOKUP(BX$7+0.5,$J$66:$DK$120,ROWS($A$10:$A53)+2,FALSE)","v":817},{"$f":"HLOOKUP(BY$7+0.5,$J$66:$DK$120,ROWS($A$10:$A53)+2,FALSE)","v":1891},{"$f":"HLOOKUP(BZ$7+0.5,$J$66:$DK$120,ROWS($A$10:$A53)+2,FALSE)","v":2209},{"$f":"HLOOKUP(CA$7+0.5,$J$66:$DK$120,ROWS($A$10:$A53)+2,FALSE)","v":556},{"$f":"HLOOKUP(CB$7+0.5,$J$66:$DK$120,ROWS($A$10:$A53)+2,FALSE)","v":1972},{"$f":"HLOOKUP(CC$7+0.5,$J$66:$DK$120,ROWS($A$10:$A53)+2,FALSE)","v":2695},{"$f":"HLOOKUP(CD$7+0.5,$J$66:$DK$120,ROWS($A$10:$A53)+2,FALSE)","v":1206},{"$f":"HLOOKUP(CE$7+0.5,$J$66:$DK$120,ROWS($A$10:$A53)+2,FALSE)","v":589},{"$f":"HLOOKUP(CF$7+0.5,$J$66:$DK$120,ROWS($A$10:$A53)+2,FALSE)","v":867},{"$f":"HLOOKUP(CG$7+0.5,$J$66:$DK$120,ROWS($A$10:$A53)+2,FALSE)","v":706},{"$f":"HLOOKUP(CH$7+0.5,$J$66:$DK$120,ROWS($A$10:$A53)+2,FALSE)","v":1434},{"$f":"HLOOKUP(CI$7+0.5,$J$66:$DK$120,ROWS($A$10:$A53)+2,FALSE)","v":896},{"$f":"HLOOKUP(CJ$7+0.5,$J$66:$DK$120,ROWS($A$10:$A53)+2,FALSE)","v":2321},{"$f":"HLOOKUP(CK$7+0.5,$J$66:$DK$120,ROWS($A$10:$A53)+2,FALSE)","v":1254},{"$f":"HLOOKUP(CL$7+0.5,$J$66:$DK$120,ROWS($A$10:$A53)+2,FALSE)","v":278},{"$f":"HLOOKUP(CM$7+0.5,$J$66:$DK$120,ROWS($A$10:$A53)+2,FALSE)","v":389},{"$f":"HLOOKUP(CN$7+0.5,$J$66:$DK$120,ROWS($A$10:$A53)+2,FALSE)","v":443},{"$f":"HLOOKUP(CO$7+0.5,$J$66:$DK$120,ROWS($A$10:$A53)+2,FALSE)","v":287},{"$f":"HLOOKUP(CP$7+0.5,$J$66:$DK$120,ROWS($A$10:$A53)+2,FALSE)","v":507},{"$f":"HLOOKUP(CQ$7+0.5,$J$66:$DK$120,ROWS($A$10:$A53)+2,FALSE)","v":640},{"$f":"HLOOKUP(CR$7+0.5,$J$66:$DK$120,ROWS($A$10:$A53)+2,FALSE)","v":2008},{"$f":"HLOOKUP(CS$7+0.5,$J$66:$DK$120,ROWS($A$10:$A53)+2,FALSE)","v":1834},{"$f":"HLOOKUP(CT$7+0.5,$J$66:$DK$120,ROWS($A$10:$A53)+2,FALSE)","v":16},{"$f":"HLOOKUP(CU$7+0.5,$J$66:$DK$120,ROWS($A$10:$A53)+2,FALSE)","v":1742},{"$f":"HLOOKUP(CV$7+0.5,$J$66:$DK$120,ROWS($A$10:$A53)+2,FALSE)","v":1410},{"$f":"HLOOKUP(CW$7+0.5,$J$66:$DK$120,ROWS($A$10:$A53)+2,FALSE)","v":589},{"$f":"HLOOKUP(CX$7+0.5,$J$66:$DK$120,ROWS($A$10:$A53)+2,FALSE)","v":999},{"$f":"HLOOKUP(CY$7+0.5,$J$66:$DK$120,ROWS($A$10:$A53)+2,FALSE)","v":55},{"$f":"HLOOKUP(CZ$7+0.5,$J$66:$DK$120,ROWS($A$10:$A53)+2,FALSE)","v":1280},{"$f":"HLOOKUP(DA$7+0.5,$J$66:$DK$120,ROWS($A$10:$A53)+2,FALSE)","v":193},{"$f":"HLOOKUP(DB$7+0.5,$J$66:$DK$120,ROWS($A$10:$A53)+2,FALSE)","v":"N/A"},{"$f":"HLOOKUP(DC$7+0.5,$J$66:$DK$120,ROWS($A$10:$A53)+2,FALSE)","v":2938},{"$f":"HLOOKUP(DD$7+0.5,$J$66:$DK$120,ROWS($A$10:$A53)+2,FALSE)","v":1131},{"$f":"HLOOKUP(DE$7+0.5,$J$66:$DK$120,ROWS($A$10:$A53)+2,FALSE)","v":133},{"$f":"HLOOKUP(DF$7+0.5,$J$66:$DK$120,ROWS($A$10:$A53)+2,FALSE)","v":2159},{"$f":"HLOOKUP(DG$7+0.5,$J$66:$DK$120,ROWS($A$10:$A53)+2,FALSE)","v":852},{"$f":"HLOOKUP(DH$7+0.5,$J$66:$DK$120,ROWS($A$10:$A53)+2,FALSE)","v":1760},{"$f":"HLOOKUP(DI$7+0.5,$J$66:$DK$120,ROWS($A$10:$A53)+2,FALSE)","v":727},{"$f":"HLOOKUP(DJ$7+0.5,$J$66:$DK$120,ROWS($A$10:$A53)+2,FALSE)","v":382},{"$f":"HLOOKUP(DK$7+0.5,$J$66:$DK$120,ROWS($A$10:$A53)+2,FALSE)","v":499}]
[null,"Texas","South",25711791,10124,21354247,60947,3656070,53747,{"$f":"HLOOKUP(J$7,$J$66:$DK$120,ROWS($A$10:$A54)+2,FALSE)","v":507752},{"$f":"HLOOKUP(K$7,$J$66:$DK$120,ROWS($A$10:$A54)+2,FALSE)","v":9993},{"$f":"HLOOKUP(L$7,$J$66:$DK$120,ROWS($A$10:$A54)+2,FALSE)","v":6759},{"$f":"HLOOKUP(M$7,$J$66:$DK$120,ROWS($A$10:$A54)+2,FALSE)","v":18908},{"$f":"HLOOKUP(N$7,$J$66:$DK$120,ROWS($A$10:$A54)+2,FALSE)","v":13781},{"$f":"HLOOKUP(O$7,$J$66:$DK$120,ROWS($A$10:$A54)+2,FALSE)","v":62702},{"$f":"HLOOKUP(P$7,$J$66:$DK$120,ROWS($A$10:$A54)+2,FALSE)","v":16616},{"$f":"HLOOKUP(Q$7,$J$66:$DK$120,ROWS($A$10:$A54)+2,FALSE)","v":2769},{"$f":"HLOOKUP(R$7,$J$66:$DK$120,ROWS($A$10:$A54)+2,FALSE)","v":181},{"$f":"HLOOKUP(S$7,$J$66:$DK$120,ROWS($A$10:$A54)+2,FALSE)","v":1189},{"$f":"HLOOKUP(T$7,$J$66:$DK$120,ROWS($A$10:$A54)+2,FALSE)","v":31259},{"$f":"HLOOKUP(U$7,$J$66:$DK$120,ROWS($A$10:$A54)+2,FALSE)","v":20362},{"$f":"HLOOKUP(V$7,$J$66:$DK$120,ROWS($A$10:$A54)+2,FALSE)","v":5040},{"$f":"HLOOKUP(W$7,$J$66:$DK$120,ROWS($A$10:$A54)+2,FALSE)","v":2387},{"$f":"HLOOKUP(X$7,$J$66:$DK$120,ROWS($A$10:$A54)+2,FALSE)","v":19672},{"$f":"HLOOKUP(Y$7,$J$66:$DK$120,ROWS($A$10:$A54)+2,FALSE)","v":8264},{"$f":"HLOOKUP(Z$7,$J$66:$DK$120,ROWS($A$10:$A54)+2,FALSE)","v":4934},{"$f":"HLOOKUP(AA$7,$J$66:$DK$120,ROWS($A$10:$A54)+2,FALSE)","v":12699},{"$f":"HLOOKUP(AB$7,$J$66:$DK$120,ROWS($A$10:$A54)+2,FALSE)","v":6040},{"$f":"HLOOKUP(AC$7,$J$66:$DK$120,ROWS($A$10:$A54)+2,FALSE)","v":29348},{"$f":"HLOOKUP(AD$7,$J$66:$DK$120,ROWS($A$10:$A54)+2,FALSE)","v":1293},{"$f":"HLOOKUP(AE$7,$J$66:$DK$120,ROWS($A$10:$A54)+2,FALSE)","v":4969},{"$f":"HLOOKUP(AF$7,$J$66:$DK$120,ROWS($A$10:$A54)+2,FALSE)","v":4813},{"$f":"HLOOKUP(AG$7,$J$66:$DK$120,ROWS($A$10:$A54)+2,FALSE)","v":9501},{"$f":"HLOOKUP(AH$7,$J$66:$DK$120,ROWS($A$10:$A54)+2,FALSE)","v":2803},{"$f":"HLOOKUP(AI$7,$J$66:$DK$120,ROWS($A$10:$A54)+2,FALSE)","v":6402},{"$f":"HLOOKUP(AJ$7,$J$66:$DK$120,ROWS($A$10:$A54)+2,FALSE)","v":12319},{"$f":"HLOOKUP(AK$7,$J$66:$DK$120,ROWS($A$10:$A54)+2,FALSE)","v":1813},{"$f":"HLOOKUP(AL$7,$J$66:$DK$120,ROWS($A$10:$A54)+2,FALSE)","v":4794},{"$f":"HLOOKUP(AM$7,$J$66:$DK$120,ROWS($A$10:$A54)+2,FALSE)","v":8266},{"$f":"HLOOKUP(AN$7,$J$66:$DK$120,ROWS($A$10:$A54)+2,FALSE)","v":761},{"$f":"HLOOKUP(AO$7,$J$66:$DK$120,ROWS($A$10:$A54)+2,FALSE)","v":6797},{"$f":"HLOOKUP(AP$7,$J$66:$DK$120,ROWS($A$10:$A54)+2,FALSE)","v":16762},{"$f":"HLOOKUP(AQ$7,$J$66:$DK$120,ROWS($A$10:$A54)+2,FALSE)","v":20274},{"$f":"HLOOKUP(AR$7,$J$66:$DK$120,ROWS($A$10:$A54)+2,FALSE)","v":22660},{"$f":"HLOOKUP(AS$7,$J$66:$DK$120,ROWS($A$10:$A54)+2,FALSE)","v":989},{"$f":"HLOOKUP(AT$7,$J$66:$DK$120,ROWS($A$10:$A54)+2,FALSE)","v":8728},{"$f":"HLOOKUP(AU$7,$J$66:$DK$120,ROWS($A$10:$A54)+2,FALSE)","v":26284},{"$f":"HLOOKUP(AV$7,$J$66:$DK$120,ROWS($A$10:$A54)+2,FALSE)","v":3827},{"$f":"HLOOKUP(AW$7,$J$66:$DK$120,ROWS($A$10:$A54)+2,FALSE)","v":10449},{"$f":"HLOOKUP(AX$7,$J$66:$DK$120,ROWS($A$10:$A54)+2,FALSE)","v":1763},{"$f":"HLOOKUP(AY$7,$J$66:$DK$120,ROWS($A$10:$A54)+2,FALSE)","v":4470},{"$f":"HLOOKUP(AZ$7,$J$66:$DK$120,ROWS($A$10:$A54)+2,FALSE)","v":1264},{"$f":"HLOOKUP(BA$7,$J$66:$DK$120,ROWS($A$10:$A54)+2,FALSE)","v":10368},{"$f":"HLOOKUP(BB$7,$J$66:$DK$120,ROWS($A$10:$A54)+2,FALSE)","v":"N/A"},{"$f":"HLOOKUP(BC$7,$J$66:$DK$120,ROWS($A$10:$A54)+2,FALSE)","v":4610},{"$f":"HLOOKUP(BD$7,$J$66:$DK$120,ROWS($A$10:$A54)+2,FALSE)","v":113},{"$f":"HLOOKUP(BE$7,$J$66:$DK$120,ROWS($A$10:$A54)+2,FALSE)","v":17734},{"$f":"HLOOKUP(BF$7,$J$66:$DK$120,ROWS($A$10:$A54)+2,FALSE)","v":11630},{"$f":"HLOOKUP(BG$7,$J$66:$DK$120,ROWS($A$10:$A54)+2,FALSE)","v":1729},{"$f":"HLOOKUP(BH$7,$J$66:$DK$120,ROWS($A$10:$A54)+2,FALSE)","v":4192},{"$f":"HLOOKUP(BI$7,$J$66:$DK$120,ROWS($A$10:$A54)+2,FALSE)","v":2472},{"$f":"HLOOKUP(BJ$7,$J$66:$DK$120,ROWS($A$10:$A54)+2,FALSE)","v":4435},{"$f":"HLOOKUP(BK$7+0.5,$J$66:$DK$120,ROWS($A$10:$A54)+2,FALSE)","v":20202},{"$f":"HLOOKUP(BL$7+0.5,$J$66:$DK$120,ROWS($A$10:$A54)+2,FALSE)","v":3132},{"$f":"HLOOKUP(BM$7+0.5,$J$66:$DK$120,ROWS($A$10:$A54)+2,FALSE)","v":2614},{"$f":"HLOOKUP(BN$7+0.5,$J$66:$DK$120,ROWS($A$10:$A54)+2,FALSE)","v":3870},{"$f":"HLOOKUP(BO$7+0.5,$J$66:$DK$120,ROWS($A$10:$A54)+2,FALSE)","v":3771},{"$f":"HLOOKUP(BP$7+0.5,$J$66:$DK$120,ROWS($A$10:$A54)+2,FALSE)","v":8792},{"$f":"HLOOKUP(BQ$7+0.5,$J$66:$DK$120,ROWS($A$10:$A54)+2,FALSE)","v":3638},{"$f":"HLOOKUP(BR$7+0.5,$J$66:$DK$120,ROWS($A$10:$A54)+2,FALSE)","v":1124},{"$f":"HLOOKUP(BS$7+0.5,$J$66:$DK$120,ROWS($A$10:$A54)+2,FALSE)","v":168},{"$f":"HLOOKUP(BT$7+0.5,$J$66:$DK$120,ROWS($A$10:$A54)+2,FALSE)","v":610},{"$f":"HLOOKUP(BU$7+0.5,$J$66:$DK$120,ROWS($A$10:$A54)+2,FALSE)","v":6252},{"$f":"HLOOKUP(BV$7+0.5,$J$66:$DK$120,ROWS($A$10:$A54)+2,FALSE)","v":3365},{"$f":"HLOOKUP(BW$7+0.5,$J$66:$DK$120,ROWS($A$10:$A54)+2,FALSE)","v":2386},{"$f":"HLOOKUP(BX$7+0.5,$J$66:$DK$120,ROWS($A$10:$A54)+2,FALSE)","v":1190},{"$f":"HLOOKUP(BY$7+0.5,$J$66:$DK$120,ROWS($A$10:$A54)+2,FALSE)","v":3645},{"$f":"HLOOKUP(BZ$7+0.5,$J$66:$DK$120,ROWS($A$10:$A54)+2,FALSE)","v":2734},{"$f":"HLOOKUP(CA$7+0.5,$J$66:$DK$120,ROWS($A$10:$A54)+2,FALSE)","v":2063},{"$f":"HLOOKUP(CB$7+0.5,$J$66:$DK$120,ROWS($A$10:$A54)+2,FALSE)","v":3202},{"$f":"HLOOKUP(CC$7+0.5,$J$66:$DK$120,ROWS($A$10:$A54)+2,FALSE)","v":2224},{"$f":"HLOOKUP(CD$7+0.5,$J$66:$DK$120,ROWS($A$10:$A54)+2,FALSE)","v":5712},{"$f":"HLOOKUP(CE$7+0.5,$J$66:$DK$120,ROWS($A$10:$A54)+2,FALSE)","v":1284},{"$f":"HLOOKUP(CF$7+0.5,$J$66:$DK$120,ROWS($A$10:$A54)+2,FALSE)","v":2026},{"$f":"HLOOKUP(CG$7+0.5,$J$66:$DK$120,ROWS($A$10:$A54)+2,FALSE)","v":1584},{"$f":"HLOOKUP(CH$7+0.5,$J$66:$DK$120,ROWS($A$10:$A54)+2,FALSE)","v":2273},{"$f":"HLOOKUP(CI$7+0.5,$J$66:$DK$120,ROWS($A$10:$A54)+2,FALSE)","v":948},{"$f":"HLOOKUP(CJ$7+0.5,$J$66:$DK$120,ROWS($A$10:$A54)+2,FALSE)","v":2032},{"$f":"HLOOKUP(CK$7+0.5,$J$66:$DK$120,ROWS($A$10:$A54)+2,FALSE)","v":2205},{"$f":"HLOOKUP(CL$7+0.5,$J$66:$DK$120,ROWS($A$10:$A54)+2,FALSE)","v":986},{"$f":"HLOOKUP(CM$7+0.5,$J$66:$DK$120,ROWS($A$10:$A54)+2,FALSE)","v":2045},{"$f":"HLOOKUP(CN$7+0.5,$J$66:$DK$120,ROWS($A$10:$A54)+2,FALSE)","v":4162},{"$f":"HLOOKUP(CO$7+0.5,$J$66:$DK$120,ROWS($A$10:$A54)+2,FALSE)","v":749},{"$f":"HLOOKUP(CP$7+0.5,$J$66:$DK$120,ROWS($A$10:$A54)+2,FALSE)","v":2141},{"$f":"HLOOKUP(CQ$7+0.5,$J$66:$DK$120,ROWS($A$10:$A54)+2,FALSE)","v":3127},{"$f":"HLOOKUP(CR$7+0.5,$J$66:$DK$120,ROWS($A$10:$A54)+2,FALSE)","v":4211},{"$f":"HLOOKUP(CS$7+0.5,$J$66:$DK$120,ROWS($A$10:$A54)+2,FALSE)","v":6953},{"$f":"HLOOKUP(CT$7+0.5,$J$66:$DK$120,ROWS($A$10:$A54)+2,FALSE)","v":542},{"$f":"HLOOKUP(CU$7+0.5,$J$66:$DK$120,ROWS($A$10:$A54)+2,FALSE)","v":1739},{"$f":"HLOOKUP(CV$7+0.5,$J$66:$DK$120,ROWS($A$10:$A54)+2,FALSE)","v":4418},{"$f":"HLOOKUP(CW$7+0.5,$J$66:$DK$120,ROWS($A$10:$A54)+2,FALSE)","v":1684},{"$f":"HLOOKUP(CX$7+0.5,$J$66:$DK$120,ROWS($A$10:$A54)+2,FALSE)","v":2158},{"$f":"HLOOKUP(CY$7+0.5,$J$66:$DK$120,ROWS($A$10:$A54)+2,FALSE)","v":1605},{"$f":"HLOOKUP(CZ$7+0.5,$J$66:$DK$120,ROWS($A$10:$A54)+2,FALSE)","v":1665},{"$f":"HLOOKUP(DA$7+0.5,$J$66:$DK$120,ROWS($A$10:$A54)+2,FALSE)","v":757},{"$f":"HLOOKUP(DB$7+0.5,$J$66:$DK$120,ROWS($A$10:$A54)+2,FALSE)","v":2623},{"$f":"HLOOKUP(DC$7+0.5,$J$66:$DK$120,ROWS($A$10:$A54)+2,FALSE)","v":"N/A"},{"$f":"HLOOKUP(DD$7+0.5,$J$66:$DK$120,ROWS($A$10:$A54)+2,FALSE)","v":2045},{"$f":"HLOOKUP(DE$7+0.5,$J$66:$DK$120,ROWS($A$10:$A54)+2,FALSE)","v":135},{"$f":"HLOOKUP(DF$7+0.5,$J$66:$DK$120,ROWS($A$10:$A54)+2,FALSE)","v":4904},{"$f":"HLOOKUP(DG$7+0.5,$J$66:$DK$120,ROWS($A$10:$A54)+2,FALSE)","v":2741},{"$f":"HLOOKUP(DH$7+0.5,$J$66:$DK$120,ROWS($A$10:$A54)+2,FALSE)","v":938},{"$f":"HLOOKUP(DI$7+0.5,$J$66:$DK$120,ROWS($A$10:$A54)+2,FALSE)","v":1322},{"$f":"HLOOKUP(DJ$7+0.5,$J$66:$DK$120,ROWS($A$10:$A54)+2,FALSE)","v":1676},{"$f":"HLOOKUP(DK$7+0.5,$J$66:$DK$120,ROWS($A$10:$A54)+2,FALSE)","v":1611}]
[null,"Utah","West",2805440,2571,2324019,16852,373980,16586,{"$f":"HLOOKUP(J$7,$J$66:$DK$120,ROWS($A$10:$A55)+2,FALSE)","v":87870},{"$f":"HLOOKUP(K$7,$J$66:$DK$120,ROWS($A$10:$A55)+2,FALSE)","v":126},{"$f":"HLOOKUP(L$7,$J$66:$DK$120,ROWS($A$10:$A55)+2,FALSE)","v":2819},{"$f":"HLOOKUP(M$7,$J$66:$DK$120,ROWS($A$10:$A55)+2,FALSE)","v":7966},{"$f":"HLOOKUP(N$7,$J$66:$DK$120,ROWS($A$10:$A55)+2,FALSE)","v":361},{"$f":"HLOOKUP(O$7,$J$66:$DK$120,ROWS($A$10:$A55)+2,FALSE)","v":15286},{"$f":"HLOOKUP(P$7,$J$66:$DK$120,ROWS($A$10:$A55)+2,FALSE)","v":5350},{"$f":"HLOOKUP(Q$7,$J$66:$DK$120,ROWS($A$10:$A55)+2,FALSE)","v":142},{"$f":"HLOOKUP(R$7,$J$66:$DK$120,ROWS($A$10:$A55)+2,FALSE)","v":0},{"$f":"HLOOKUP(S$7,$J$66:$DK$120,ROWS($A$10:$A55)+2,FALSE)","v":0},{"$f":"HLOOKUP(T$7,$J$66:$DK$120,ROWS($A$10:$A55)+2,FALSE)","v":2428},{"$f":"HLOOKUP(U$7,$J$66:$DK$120,ROWS($A$10:$A55)+2,FALSE)","v":1142},{"$f":"HLOOKUP(V$7,$J$66:$DK$120,ROWS($A$10:$A55)+2,FALSE)","v":1436},{"$f":"HLOOKUP(W$7,$J$66:$DK$120,ROWS($A$10:$A55)+2,FALSE)","v":5129},{"$f":"HLOOKUP(X$7,$J$66:$DK$120,ROWS($A$10:$A55)+2,FALSE)","v":1588},{"$f":"HLOOKUP(Y$7,$J$66:$DK$120,ROWS($A$10:$A55)+2,FALSE)","v":475},{"$f":"HLOOKUP(Z$7,$J$66:$DK$120,ROWS($A$10:$A55)+2,FALSE)","v":2791},{"$f":"HLOOKUP(AA$7,$J$66:$DK$120,ROWS($A$10:$A55)+2,FALSE)","v":398},{"$f":"HLOOKUP(AB$7,$J$66:$DK$120,ROWS($A$10:$A55)+2,FALSE)","v":217},{"$f":"HLOOKUP(AC$7,$J$66:$DK$120,ROWS($A$10:$A55)+2,FALSE)","v":345},{"$f":"HLOOKUP(AD$7,$J$66:$DK$120,ROWS($A$10:$A55)+2,FALSE)","v":380},{"$f":"HLOOKUP(AE$7,$J$66:$DK$120,ROWS($A$10:$A55)+2,FALSE)","v":613},{"$f":"HLOOKUP(AF$7,$J$66:$DK$120,ROWS($A$10:$A55)+2,FALSE)","v":1503},{"$f":"HLOOKUP(AG$7,$J$66:$DK$120,ROWS($A$10:$A55)+2,FALSE)","v":1670},{"$f":"HLOOKUP(AH$7,$J$66:$DK$120,ROWS($A$10:$A55)+2,FALSE)","v":385},{"$f":"HLOOKUP(AI$7,$J$66:$DK$120,ROWS($A$10:$A55)+2,FALSE)","v":284},{"$f":"HLOOKUP(AJ$7,$J$66:$DK$120,ROWS($A$10:$A55)+2,FALSE)","v":1553},{"$f":"HLOOKUP(AK$7,$J$66:$DK$120,ROWS($A$10:$A55)+2,FALSE)","v":1057},{"$f":"HLOOKUP(AL$7,$J$66:$DK$120,ROWS($A$10:$A55)+2,FALSE)","v":489},{"$f":"HLOOKUP(AM$7,$J$66:$DK$120,ROWS($A$10:$A55)+2,FALSE)","v":5391},{"$f":"HLOOKUP(AN$7,$J$66:$DK$120,ROWS($A$10:$A55)+2,FALSE)","v":507},{"$f":"HLOOKUP(AO$7,$J$66:$DK$120,ROWS($A$10:$A55)+2,FALSE)","v":437},{"$f":"HLOOKUP(AP$7,$J$66:$DK$120,ROWS($A$10:$A55)+2,FALSE)","v":686},{"$f":"HLOOKUP(AQ$7,$J$66:$DK$120,ROWS($A$10:$A55)+2,FALSE)","v":2129},{"$f":"HLOOKUP(AR$7,$J$66:$DK$120,ROWS($A$10:$A55)+2,FALSE)","v":842},{"$f":"HLOOKUP(AS$7,$J$66:$DK$120,ROWS($A$10:$A55)+2,FALSE)","v":175},{"$f":"HLOOKUP(AT$7,$J$66:$DK$120,ROWS($A$10:$A55)+2,FALSE)","v":1875},{"$f":"HLOOKUP(AU$7,$J$66:$DK$120,ROWS($A$10:$A55)+2,FALSE)","v":1338},{"$f":"HLOOKUP(AV$7,$J$66:$DK$120,ROWS($A$10:$A55)+2,FALSE)","v":4089},{"$f":"HLOOKUP(AW$7,$J$66:$DK$120,ROWS($A$10:$A55)+2,FALSE)","v":944},{"$f":"HLOOKUP(AX$7,$J$66:$DK$120,ROWS($A$10:$A55)+2,FALSE)","v":351},{"$f":"HLOOKUP(AY$7,$J$66:$DK$120,ROWS($A$10:$A55)+2,FALSE)","v":60},{"$f":"HLOOKUP(AZ$7,$J$66:$DK$120,ROWS($A$10:$A55)+2,FALSE)","v":47},{"$f":"HLOOKUP(BA$7,$J$66:$DK$120,ROWS($A$10:$A55)+2,FALSE)","v":863},{"$f":"HLOOKUP(BB$7,$J$66:$DK$120,ROWS($A$10:$A55)+2,FALSE)","v":3605},{"$f":"HLOOKUP(BC$7,$J$66:$DK$120,ROWS($A$10:$A55)+2,FALSE)","v":"N/A"},{"$f":"HLOOKUP(BD$7,$J$66:$DK$120,ROWS($A$10:$A55)+2,FALSE)","v":39},{"$f":"HLOOKUP(BE$7,$J$66:$DK$120,ROWS($A$10:$A55)+2,FALSE)","v":1369},{"$f":"HLOOKUP(BF$7,$J$66:$DK$120,ROWS($A$10:$A55)+2,FALSE)","v":3529},{"$f":"HLOOKUP(BG$7,$J$66:$DK$120,ROWS($A$10:$A55)+2,FALSE)","v":0},{"$f":"HLOOKUP(BH$7,$J$66:$DK$120,ROWS($A$10:$A55)+2,FALSE)","v":1445},{"$f":"HLOOKUP(BI$7,$J$66:$DK$120,ROWS($A$10:$A55)+2,FALSE)","v":2216},{"$f":"HLOOKUP(BJ$7,$J$66:$DK$120,ROWS($A$10:$A55)+2,FALSE)","v":239},{"$f":"HLOOKUP(BK$7+0.5,$J$66:$DK$120,ROWS($A$10:$A55)+2,FALSE)","v":7490},{"$f":"HLOOKUP(BL$7+0.5,$J$66:$DK$120,ROWS($A$10:$A55)+2,FALSE)","v":171},{"$f":"HLOOKUP(BM$7+0.5,$J$66:$DK$120,ROWS($A$10:$A55)+2,FALSE)","v":1292},{"$f":"HLOOKUP(BN$7+0.5,$J$66:$DK$120,ROWS($A$10:$A55)+2,FALSE)","v":2419},{"$f":"HLOOKUP(BO$7+0.5,$J$66:$DK$120,ROWS($A$10:$A55)+2,FALSE)","v":402},{"$f":"HLOOKUP(BP$7+0.5,$J$66:$DK$120,ROWS($A$10:$A55)+2,FALSE)","v":2837},{"$f":"HLOOKUP(BQ$7+0.5,$J$66:$DK$120,ROWS($A$10:$A55)+2,FALSE)","v":1845},{"$f":"HLOOKUP(BR$7+0.5,$J$66:$DK$120,ROWS($A$10:$A55)+2,FALSE)","v":168},{"$f":"HLOOKUP(BS$7+0.5,$J$66:$DK$120,ROWS($A$10:$A55)+2,FALSE)","v":181},{"$f":"HLOOKUP(BT$7+0.5,$J$66:$DK$120,ROWS($A$10:$A55)+2,FALSE)","v":181},{"$f":"HLOOKUP(BU$7+0.5,$J$66:$DK$120,ROWS($A$10:$A55)+2,FALSE)","v":1105},{"$f":"HLOOKUP(BV$7+0.5,$J$66:$DK$120,ROWS($A$10:$A55)+2,FALSE)","v":622},{"$f":"HLOOKUP(BW$7+0.5,$J$66:$DK$120,ROWS($A$10:$A55)+2,FALSE)","v":876},{"$f":"HLOOKUP(BX$7+0.5,$J$66:$DK$120,ROWS($A$10:$A55)+2,FALSE)","v":1135},{"$f":"HLOOKUP(BY$7+0.5,$J$66:$DK$120,ROWS($A$10:$A55)+2,FALSE)","v":802},{"$f":"HLOOKUP(BZ$7+0.5,$J$66:$DK$120,ROWS($A$10:$A55)+2,FALSE)","v":296},{"$f":"HLOOKUP(CA$7+0.5,$J$66:$DK$120,ROWS($A$10:$A55)+2,FALSE)","v":2779},{"$f":"HLOOKUP(CB$7+0.5,$J$66:$DK$120,ROWS($A$10:$A55)+2,FALSE)","v":333},{"$f":"HLOOKUP(CC$7+0.5,$J$66:$DK$120,ROWS($A$10:$A55)+2,FALSE)","v":221},{"$f":"HLOOKUP(CD$7+0.5,$J$66:$DK$120,ROWS($A$10:$A55)+2,FALSE)","v":313},{"$f":"HLOOKUP(CE$7+0.5,$J$66:$DK$120,ROWS($A$10:$A55)+2,FALSE)","v":339},{"$f":"HLOOKUP(CF$7+0.5,$J$66:$DK$120,ROWS($A$10:$A55)+2,FALSE)","v":361},{"$f":"HLOOKUP(CG$7+0.5,$J$66:$DK$120,ROWS($A$10:$A55)+2,FALSE)","v":1343},{"$f":"HLOOKUP(CH$7+0.5,$J$66:$DK$120,ROWS($A$10:$A55)+2,FALSE)","v":1210},{"$f":"HLOOKUP(CI$7+0.5,$J$66:$DK$120,ROWS($A$10:$A55)+2,FALSE)","v":300},{"$f":"HLOOKUP(CJ$7+0.5,$J$66:$DK$120,ROWS($A$10:$A55)+2,FALSE)","v":229},{"$f":"HLOOKUP(CK$7+0.5,$J$66:$DK$120,ROWS($A$10:$A55)+2,FALSE)","v":769},{"$f":"HLOOKUP(CL$7+0.5,$J$66:$DK$120,ROWS($A$10:$A55)+2,FALSE)","v":729},{"$f":"HLOOKUP(CM$7+0.5,$J$66:$DK$120,ROWS($A$10:$A55)+2,FALSE)","v":384},{"$f":"HLOOKUP(CN$7+0.5,$J$66:$DK$120,ROWS($A$10:$A55)+2,FALSE)","v":1743},{"$f":"HLOOKUP(CO$7+0.5,$J$66:$DK$120,ROWS($A$10:$A55)+2,FALSE)","v":442},{"$f":"HLOOKUP(CP$7+0.5,$J$66:$DK$120,ROWS($A$10:$A55)+2,FALSE)","v":322},{"$f":"HLOOKUP(CQ$7+0.5,$J$66:$DK$120,ROWS($A$10:$A55)+2,FALSE)","v":505},{"$f":"HLOOKUP(CR$7+0.5,$J$66:$DK$120,ROWS($A$10:$A55)+2,FALSE)","v":924},{"$f":"HLOOKUP(CS$7+0.5,$J$66:$DK$120,ROWS($A$10:$A55)+2,FALSE)","v":611},{"$f":"HLOOKUP(CT$7+0.5,$J$66:$DK$120,ROWS($A$10:$A55)+2,FALSE)","v":218},{"$f":"HLOOKUP(CU$7+0.5,$J$66:$DK$120,ROWS($A$10:$A55)+2,FALSE)","v":881},{"$f":"HLOOKUP(CV$7+0.5,$J$66:$DK$120,ROWS($A$10:$A55)+2,FALSE)","v":691},{"$f":"HLOOKUP(CW$7+0.5,$J$66:$DK$120,ROWS($A$10:$A55)+2,FALSE)","v":2693},{"$f":"HLOOKUP(CX$7+0.5,$J$66:$DK$120,ROWS($A$10:$A55)+2,FALSE)","v":450},{"$f":"HLOOKUP(CY$7+0.5,$J$66:$DK$120,ROWS($A$10:$A55)+2,FALSE)","v":571},{"$f":"HLOOKUP(CZ$7+0.5,$J$66:$DK$120,ROWS($A$10:$A55)+2,FALSE)","v":100},{"$f":"HLOOKUP(DA$7+0.5,$J$66:$DK$120,ROWS($A$10:$A55)+2,FALSE)","v":74},{"$f":"HLOOKUP(DB$7+0.5,$J$66:$DK$120,ROWS($A$10:$A55)+2,FALSE)","v":529},{"$f":"HLOOKUP(DC$7+0.5,$J$66:$DK$120,ROWS($A$10:$A55)+2,FALSE)","v":1278},{"$f":"HLOOKUP(DD$7+0.5,$J$66:$DK$120,ROWS($A$10:$A55)+2,FALSE)","v":"N/A"},{"$f":"HLOOKUP(DE$7+0.5,$J$66:$DK$120,ROWS($A$10:$A55)+2,FALSE)","v":63},{"$f":"HLOOKUP(DF$7+0.5,$J$66:$DK$120,ROWS($A$10:$A55)+2,FALSE)","v":668},{"$f":"HLOOKUP(DG$7+0.5,$J$66:$DK$120,ROWS($A$10:$A55)+2,FALSE)","v":1319},{"$f":"HLOOKUP(DH$7+0.5,$J$66:$DK$120,ROWS($A$10:$A55)+2,FALSE)","v":181},{"$f":"HLOOKUP(DI$7+0.5,$J$66:$DK$120,ROWS($A$10:$A55)+2,FALSE)","v":1512},{"$f":"HLOOKUP(DJ$7+0.5,$J$66:$DK$120,ROWS($A$10:$A55)+2,FALSE)","v":715},{"$f":"HLOOKUP(DK$7+0.5,$J$66:$DK$120,ROWS($A$10:$A55)+2,FALSE)","v":190}]
[null,"Vermont","Northeast",620224,821,532237,5326,61242,5294,{"$f":"HLOOKUP(J$7,$J$66:$DK$120,ROWS($A$10:$A56)+2,FALSE)","v":24431},{"$f":"HLOOKUP(K$7,$J$66:$DK$120,ROWS($A$10:$A56)+2,FALSE)","v":16},{"$f":"HLOOKUP(L$7,$J$66:$DK$120,ROWS($A$10:$A56)+2,FALSE)","v":93},{"$f":"HLOOKUP(M$7,$J$66:$DK$120,ROWS($A$10:$A56)+2,FALSE)","v":127},{"$f":"HLOOKUP(N$7,$J$66:$DK$120,ROWS($A$10:$A56)+2,FALSE)","v":0},{"$f":"HLOOKUP(O$7,$J$66:$DK$120,ROWS($A$10:$A56)+2,FALSE)","v":1112},{"$f":"HLOOKUP(P$7,$J$66:$DK$120,ROWS($A$10:$A56)+2,FALSE)","v":382},{"$f":"HLOOKUP(Q$7,$J$66:$DK$120,ROWS($A$10:$A56)+2,FALSE)","v":1626},{"$f":"HLOOKUP(R$7,$J$66:$DK$120,ROWS($A$10:$A56)+2,FALSE)","v":0},{"$f":"HLOOKUP(S$7,$J$66:$DK$120,ROWS($A$10:$A56)+2,FALSE)","v":116},{"$f":"HLOOKUP(T$7,$J$66:$DK$120,ROWS($A$10:$A56)+2,FALSE)","v":966},{"$f":"HLOOKUP(U$7,$J$66:$DK$120,ROWS($A$10:$A56)+2,FALSE)","v":56},{"$f":"HLOOKUP(V$7,$J$66:$DK$120,ROWS($A$10:$A56)+2,FALSE)","v":6},{"$f":"HLOOKUP(W$7,$J$66:$DK$120,ROWS($A$10:$A56)+2,FALSE)","v":0},{"$f":"HLOOKUP(X$7,$J$66:$DK$120,ROWS($A$10:$A56)+2,FALSE)","v":230},{"$f":"HLOOKUP(Y$7,$J$66:$DK$120,ROWS($A$10:$A56)+2,FALSE)","v":68},{"$f":"HLOOKUP(Z$7,$J$66:$DK$120,ROWS($A$10:$A56)+2,FALSE)","v":30},{"$f":"HLOOKUP(AA$7,$J$66:$DK$120,ROWS($A$10:$A56)+2,FALSE)","v":0},{"$f":"HLOOKUP(AB$7,$J$66:$DK$120,ROWS($A$10:$A56)+2,FALSE)","v":1243},{"$f":"HLOOKUP(AC$7,$J$66:$DK$120,ROWS($A$10:$A56)+2,FALSE)","v":73},{"$f":"HLOOKUP(AD$7,$J$66:$DK$120,ROWS($A$10:$A56)+2,FALSE)","v":883},{"$f":"HLOOKUP(AE$7,$J$66:$DK$120,ROWS($A$10:$A56)+2,FALSE)","v":862},{"$f":"HLOOKUP(AF$7,$J$66:$DK$120,ROWS($A$10:$A56)+2,FALSE)","v":3318},{"$f":"HLOOKUP(AG$7,$J$66:$DK$120,ROWS($A$10:$A56)+2,FALSE)","v":284},{"$f":"HLOOKUP(AH$7,$J$66:$DK$120,ROWS($A$10:$A56)+2,FALSE)","v":315},{"$f":"HLOOKUP(AI$7,$J$66:$DK$120,ROWS($A$10:$A56)+2,FALSE)","v":0},{"$f":"HLOOKUP(AJ$7,$J$66:$DK$120,ROWS($A$10:$A56)+2,FALSE)","v":23},{"$f":"HLOOKUP(AK$7,$J$66:$DK$120,ROWS($A$10:$A56)+2,FALSE)","v":147},{"$f":"HLOOKUP(AL$7,$J$66:$DK$120,ROWS($A$10:$A56)+2,FALSE)","v":0},{"$f":"HLOOKUP(AM$7,$J$66:$DK$120,ROWS($A$10:$A56)+2,FALSE)","v":17},{"$f":"HLOOKUP(AN$7,$J$66:$DK$120,ROWS($A$10:$A56)+2,FALSE)","v":2893},{"$f":"HLOOKUP(AO$7,$J$66:$DK$120,ROWS($A$10:$A56)+2,FALSE)","v":833},{"$f":"HLOOKUP(AP$7,$J$66:$DK$120,ROWS($A$10:$A56)+2,FALSE)","v":74},{"$f":"HLOOKUP(AQ$7,$J$66:$DK$120,ROWS($A$10:$A56)+2,FALSE)","v":4780},{"$f":"HLOOKUP(AR$7,$J$66:$DK$120,ROWS($A$10:$A56)+2,FALSE)","v":328},{"$f":"HLOOKUP(AS$7,$J$66:$DK$120,ROWS($A$10:$A56)+2,FALSE)","v":0},{"$f":"HLOOKUP(AT$7,$J$66:$DK$120,ROWS($A$10:$A56)+2,FALSE)","v":214},{"$f":"HLOOKUP(AU$7,$J$66:$DK$120,ROWS($A$10:$A56)+2,FALSE)","v":11},{"$f":"HLOOKUP(AV$7,$J$66:$DK$120,ROWS($A$10:$A56)+2,FALSE)","v":26},{"$f":"HLOOKUP(AW$7,$J$66:$DK$120,ROWS($A$10:$A56)+2,FALSE)","v":935},{"$f":"HLOOKUP(AX$7,$J$66:$DK$120,ROWS($A$10:$A56)+2,FALSE)","v":341},{"$f":"HLOOKUP(AY$7,$J$66:$DK$120,ROWS($A$10:$A56)+2,FALSE)","v":124},{"$f":"HLOOKUP(AZ$7,$J$66:$DK$120,ROWS($A$10:$A56)+2,FALSE)","v":39},{"$f":"HLOOKUP(BA$7,$J$66:$DK$120,ROWS($A$10:$A56)+2,FALSE)","v":193},{"$f":"HLOOKUP(BB$7,$J$66:$DK$120,ROWS($A$10:$A56)+2,FALSE)","v":493},{"$f":"HLOOKUP(BC$7,$J$66:$DK$120,ROWS($A$10:$A56)+2,FALSE)","v":81},{"$f":"HLOOKUP(BD$7,$J$66:$DK$120,ROWS($A$10:$A56)+2,FALSE)","v":"N/A"},{"$f":"HLOOKUP(BE$7,$J$66:$DK$120,ROWS($A$10:$A56)+2,FALSE)","v":728},{"$f":"HLOOKUP(BF$7,$J$66:$DK$120,ROWS($A$10:$A56)+2,FALSE)","v":98},{"$f":"HLOOKUP(BG$7,$J$66:$DK$120,ROWS($A$10:$A56)+2,FALSE)","v":0},{"$f":"HLOOKUP(BH$7,$J$66:$DK$120,ROWS($A$10:$A56)+2,FALSE)","v":151},{"$f":"HLOOKUP(BI$7,$J$66:$DK$120,ROWS($A$10:$A56)+2,FALSE)","v":96},{"$f":"HLOOKUP(BJ$7,$J$66:$DK$120,ROWS($A$10:$A56)+2,FALSE)","v":0},{"$f":"HLOOKUP(BK$7+0.5,$J$66:$DK$120,ROWS($A$10:$A56)+2,FALSE)","v":2713},{"$f":"HLOOKUP(BL$7+0.5,$J$66:$DK$120,ROWS($A$10:$A56)+2,FALSE)","v":23},{"$f":"HLOOKUP(BM$7+0.5,$J$66:$DK$120,ROWS($A$10:$A56)+2,FALSE)","v":153},{"$f":"HLOOKUP(BN$7+0.5,$J$66:$DK$120,ROWS($A$10:$A56)+2,FALSE)","v":165},{"$f":"HLOOKUP(BO$7+0.5,$J$66:$DK$120,ROWS($A$10:$A56)+2,FALSE)","v":143},{"$f":"HLOOKUP(BP$7+0.5,$J$66:$DK$120,ROWS($A$10:$A56)+2,FALSE)","v":537},{"$f":"HLOOKUP(BQ$7+0.5,$J$66:$DK$120,ROWS($A$10:$A56)+2,FALSE)","v":296},{"$f":"HLOOKUP(BR$7+0.5,$J$66:$DK$120,ROWS($A$10:$A56)+2,FALSE)","v":540},{"$f":"HLOOKUP(BS$7+0.5,$J$66:$DK$120,ROWS($A$10:$A56)+2,FALSE)","v":143},{"$f":"HLOOKUP(BT$7+0.5,$J$66:$DK$120,ROWS($A$10:$A56)+2,FALSE)","v":134},{"$f":"HLOOKUP(BU$7+0.5,$J$66:$DK$120,ROWS($A$10:$A56)+2,FALSE)","v":519},{"$f":"HLOOKUP(BV$7+0.5,$J$66:$DK$120,ROWS($A$10:$A56)+2,FALSE)","v":81},{"$f":"HLOOKUP(BW$7+0.5,$J$66:$DK$120,ROWS($A$10:$A56)+2,FALSE)","v":10},{"$f":"HLOOKUP(BX$7+0.5,$J$66:$DK$120,ROWS($A$10:$A56)+2,FALSE)","v":143},{"$f":"HLOOKUP(BY$7+0.5,$J$66:$DK$120,ROWS($A$10:$A56)+2,FALSE)","v":221},{"$f":"HLOOKUP(BZ$7+0.5,$J$66:$DK$120,ROWS($A$10:$A56)+2,FALSE)","v":81},{"$f":"HLOOKUP(CA$7+0.5,$J$66:$DK$120,ROWS($A$10:$A56)+2,FALSE)","v":43},{"$f":"HLOOKUP(CB$7+0.5,$J$66:$DK$120,ROWS($A$10:$A56)+2,FALSE)","v":143},{"$f":"HLOOKUP(CC$7+0.5,$J$66:$DK$120,ROWS($A$10:$A56)+2,FALSE)","v":1690},{"$f":"HLOOKUP(CD$7+0.5,$J$66:$DK$120,ROWS($A$10:$A56)+2,FALSE)","v":105},{"$f":"HLOOKUP(CE$7+0.5,$J$66:$DK$120,ROWS($A$10:$A56)+2,FALSE)","v":546},{"$f":"HLOOKUP(CF$7+0.5,$J$66:$DK$120,ROWS($A$10:$A56)+2,FALSE)","v":396},{"$f":"HLOOKUP(CG$7+0.5,$J$66:$DK$120,ROWS($A$10:$A56)+2,FALSE)","v":657},{"$f":"HLOOKUP(CH$7+0.5,$J$66:$DK$120,ROWS($A$10:$A56)+2,FALSE)","v":246},{"$f":"HLOOKUP(CI$7+0.5,$J$66:$DK$120,ROWS($A$10:$A56)+2,FALSE)","v":349},{"$f":"HLOOKUP(CJ$7+0.5,$J$66:$DK$120,ROWS($A$10:$A56)+2,FALSE)","v":143},{"$f":"HLOOKUP(CK$7+0.5,$J$66:$DK$120,ROWS($A$10:$A56)+2,FALSE)","v":26},{"$f":"HLOOKUP(CL$7+0.5,$J$66:$DK$120,ROWS($A$10:$A56)+2,FALSE)","v":189},{"$f":"HLOOKUP(CM$7+0.5,$J$66:$DK$120,ROWS($A$10:$A56)+2,FALSE)","v":143},{"$f":"HLOOKUP(CN$7+0.5,$J$66:$DK$120,ROWS($A$10:$A56)+2,FALSE)","v":37},{"$f":"HLOOKUP(CO$7+0.5,$J$66:$DK$120,ROWS($A$10:$A56)+2,FALSE)","v":812},{"$f":"HLOOKUP(CP$7+0.5,$J$66:$DK$120,ROWS($A$10:$A56)+2,FALSE)","v":364},{"$f":"HLOOKUP(CQ$7+0.5,$J$66:$DK$120,ROWS($A$10:$A56)+2,FALSE)","v":89},{"$f":"HLOOKUP(CR$7+0.5,$J$66:$DK$120,ROWS($A$10:$A56)+2,FALSE)","v":921},{"$f":"HLOOKUP(CS$7+0.5,$J$66:$DK$120,ROWS($A$10:$A56)+2,FALSE)","v":248},{"$f":"HLOOKUP(CT$7+0.5,$J$66:$DK$120,ROWS($A$10:$A56)+2,FALSE)","v":143},{"$f":"HLOOKUP(CU$7+0.5,$J$66:$DK$120,ROWS($A$10:$A56)+2,FALSE)","v":247},{"$f":"HLOOKUP(CV$7+0.5,$J$66:$DK$120,ROWS($A$10:$A56)+2,FALSE)","v":13},{"$f":"HLOOKUP(CW$7+0.5,$J$66:$DK$120,ROWS($A$10:$A56)+2,FALSE)","v":38},{"$f":"HLOOKUP(CX$7+0.5,$J$66:$DK$120,ROWS($A$10:$A56)+2,FALSE)","v":525},{"$f":"HLOOKUP(CY$7+0.5,$J$66:$DK$120,ROWS($A$10:$A56)+2,FALSE)","v":220},{"$f":"HLOOKUP(CZ$7+0.5,$J$66:$DK$120,ROWS($A$10:$A56)+2,FALSE)","v":208},{"$f":"HLOOKUP(DA$7+0.5,$J$66:$DK$120,ROWS($A$10:$A56)+2,FALSE)","v":66},{"$f":"HLOOKUP(DB$7+0.5,$J$66:$DK$120,ROWS($A$10:$A56)+2,FALSE)","v":185},{"$f":"HLOOKUP(DC$7+0.5,$J$66:$DK$120,ROWS($A$10:$A56)+2,FALSE)","v":334},{"$f":"HLOOKUP(DD$7+0.5,$J$66:$DK$120,ROWS($A$10:$A56)+2,FALSE)","v":96},{"$f":"HLOOKUP(DE$7+0.5,$J$66:$DK$120,ROWS($A$10:$A56)+2,FALSE)","v":"N/A"},{"$f":"HLOOKUP(DF$7+0.5,$J$66:$DK$120,ROWS($A$10:$A56)+2,FALSE)","v":427},{"$f":"HLOOKUP(DG$7+0.5,$J$66:$DK$120,ROWS($A$10:$A56)+2,FALSE)","v":109},{"$f":"HLOOKUP(DH$7+0.5,$J$66:$DK$120,ROWS($A$10:$A56)+2,FALSE)","v":143},{"$f":"HLOOKUP(DI$7+0.5,$J$66:$DK$120,ROWS($A$10:$A56)+2,FALSE)","v":115},{"$f":"HLOOKUP(DJ$7+0.5,$J$66:$DK$120,ROWS($A$10:$A56)+2,FALSE)","v":102},{"$f":"HLOOKUP(DK$7+0.5,$J$66:$DK$120,ROWS($A$10:$A56)+2,FALSE)","v":143}]
[null,"Virginia","South",8085389,4754,6857430,25550,915242,24032,{"$f":"HLOOKUP(J$7,$J$66:$DK$120,ROWS($A$10:$A57)+2,FALSE)","v":250653},{"$f":"HLOOKUP(K$7,$J$66:$DK$120,ROWS($A$10:$A57)+2,FALSE)","v":2515},{"$f":"HLOOKUP(L$7,$J$66:$DK$120,ROWS($A$10:$A57)+2,FALSE)","v":1906},{"$f":"HLOOKUP(M$7,$J$66:$DK$120,ROWS($A$10:$A57)+2,FALSE)","v":2420},{"$f":"HLOOKUP(N$7,$J$66:$DK$120,ROWS($A$10:$A57)+2,FALSE)","v":445},{"$f":"HLOOKUP(O$7,$J$66:$DK$120,ROWS($A$10:$A57)+2,FALSE)","v":14780},{"$f":"HLOOKUP(P$7,$J$66:$DK$120,ROWS($A$10:$A57)+2,FALSE)","v":5352},{"$f":"HLOOKUP(Q$7,$J$66:$DK$120,ROWS($A$10:$A57)+2,FALSE)","v":2725},{"$f":"HLOOKUP(R$7,$J$66:$DK$120,ROWS($A$10:$A57)+2,FALSE)","v":2279},{"$f":"HLOOKUP(S$7,$J$66:$DK$120,ROWS($A$10:$A57)+2,FALSE)","v":10964},{"$f":"HLOOKUP(T$7,$J$66:$DK$120,ROWS($A$10:$A57)+2,FALSE)","v":19574},{"$f":"HLOOKUP(U$7,$J$66:$DK$120,ROWS($A$10:$A57)+2,FALSE)","v":9535},{"$f":"HLOOKUP(V$7,$J$66:$DK$120,ROWS($A$10:$A57)+2,FALSE)","v":3823},{"$f":"HLOOKUP(W$7,$J$66:$DK$120,ROWS($A$10:$A57)+2,FALSE)","v":652},{"$f":"HLOOKUP(X$7,$J$66:$DK$120,ROWS($A$10:$A57)+2,FALSE)","v":7089},{"$f":"HLOOKUP(Y$7,$J$66:$DK$120,ROWS($A$10:$A57)+2,FALSE)","v":2663},{"$f":"HLOOKUP(Z$7,$J$66:$DK$120,ROWS($A$10:$A57)+2,FALSE)","v":221},{"$f":"HLOOKUP(AA$7,$J$66:$DK$120,ROWS($A$10:$A57)+2,FALSE)","v":1144},{"$f":"HLOOKUP(AB$7,$J$66:$DK$120,ROWS($A$10:$A57)+2,FALSE)","v":3908},{"$f":"HLOOKUP(AC$7,$J$66:$DK$120,ROWS($A$10:$A57)+2,FALSE)","v":1638},{"$f":"HLOOKUP(AD$7,$J$66:$DK$120,ROWS($A$10:$A57)+2,FALSE)","v":1144},{"$f":"HLOOKUP(AE$7,$J$66:$DK$120,ROWS($A$10:$A57)+2,FALSE)","v":23925},{"$f":"HLOOKUP(AF$7,$J$66:$DK$120,ROWS($A$10:$A57)+2,FALSE)","v":3767},{"$f":"HLOOKUP(AG$7,$J$66:$DK$120,ROWS($A$10:$A57)+2,FALSE)","v":2982},{"$f":"HLOOKUP(AH$7,$J$66:$DK$120,ROWS($A$10:$A57)+2,FALSE)","v":2294},{"$f":"HLOOKUP(AI$7,$J$66:$DK$120,ROWS($A$10:$A57)+2,FALSE)","v":1344},{"$f":"HLOOKUP(AJ$7,$J$66:$DK$120,ROWS($A$10:$A57)+2,FALSE)","v":1914},{"$f":"HLOOKUP(AK$7,$J$66:$DK$120,ROWS($A$10:$A57)+2,FALSE)","v":658},{"$f":"HLOOKUP(AL$7,$J$66:$DK$120,ROWS($A$10:$A57)+2,FALSE)","v":357},{"$f":"HLOOKUP(AM$7,$J$66:$DK$120,ROWS($A$10:$A57)+2,FALSE)","v":973},{"$f":"HLOOKUP(AN$7,$J$66:$DK$120,ROWS($A$10:$A57)+2,FALSE)","v":535},{"$f":"HLOOKUP(AO$7,$J$66:$DK$120,ROWS($A$10:$A57)+2,FALSE)","v":9073},{"$f":"HLOOKUP(AP$7,$J$66:$DK$120,ROWS($A$10:$A57)+2,FALSE)","v":947},{"$f":"HLOOKUP(AQ$7,$J$66:$DK$120,ROWS($A$10:$A57)+2,FALSE)","v":15893},{"$f":"HLOOKUP(AR$7,$J$66:$DK$120,ROWS($A$10:$A57)+2,FALSE)","v":25575},{"$f":"HLOOKUP(AS$7,$J$66:$DK$120,ROWS($A$10:$A57)+2,FALSE)","v":852},{"$f":"HLOOKUP(AT$7,$J$66:$DK$120,ROWS($A$10:$A57)+2,FALSE)","v":5622},{"$f":"HLOOKUP(AU$7,$J$66:$DK$120,ROWS($A$10:$A57)+2,FALSE)","v":2810},{"$f":"HLOOKUP(AV$7,$J$66:$DK$120,ROWS($A$10:$A57)+2,FALSE)","v":1541},{"$f":"HLOOKUP(AW$7,$J$66:$DK$120,ROWS($A$10:$A57)+2,FALSE)","v":14190},{"$f":"HLOOKUP(AX$7,$J$66:$DK$120,ROWS($A$10:$A57)+2,FALSE)","v":1605},{"$f":"HLOOKUP(AY$7,$J$66:$DK$120,ROWS($A$10:$A57)+2,FALSE)","v":7936},{"$f":"HLOOKUP(AZ$7,$J$66:$DK$120,ROWS($A$10:$A57)+2,FALSE)","v":35},{"$f":"HLOOKUP(BA$7,$J$66:$DK$120,ROWS($A$10:$A57)+2,FALSE)","v":6189},{"$f":"HLOOKUP(BB$7,$J$66:$DK$120,ROWS($A$10:$A57)+2,FALSE)","v":12944},{"$f":"HLOOKUP(BC$7,$J$66:$DK$120,ROWS($A$10:$A57)+2,FALSE)","v":2092},{"$f":"HLOOKUP(BD$7,$J$66:$DK$120,ROWS($A$10:$A57)+2,FALSE)","v":423},{"$f":"HLOOKUP(BE$7,$J$66:$DK$120,ROWS($A$10:$A57)+2,FALSE)","v":"N/A"},{"$f":"HLOOKUP(BF$7,$J$66:$DK$120,ROWS($A$10:$A57)+2,FALSE)","v":4160},{"$f":"HLOOKUP(BG$7,$J$66:$DK$120,ROWS($A$10:$A57)+2,FALSE)","v":3839},{"$f":"HLOOKUP(BH$7,$J$66:$DK$120,ROWS($A$10:$A57)+2,FALSE)","v":1258},{"$f":"HLOOKUP(BI$7,$J$66:$DK$120,ROWS($A$10:$A57)+2,FALSE)","v":143},{"$f":"HLOOKUP(BJ$7,$J$66:$DK$120,ROWS($A$10:$A57)+2,FALSE)","v":516},{"$f":"HLOOKUP(BK$7+0.5,$J$66:$DK$120,ROWS($A$10:$A57)+2,FALSE)","v":11997},{"$f":"HLOOKUP(BL$7+0.5,$J$66:$DK$120,ROWS($A$10:$A57)+2,FALSE)","v":990},{"$f":"HLOOKUP(BM$7+0.5,$J$66:$DK$120,ROWS($A$10:$A57)+2,FALSE)","v":1287},{"$f":"HLOOKUP(BN$7+0.5,$J$66:$DK$120,ROWS($A$10:$A57)+2,FALSE)","v":1030},{"$f":"HLOOKUP(BO$7+0.5,$J$66:$DK$120,ROWS($A$10:$A57)+2,FALSE)","v":319},{"$f":"HLOOKUP(BP$7+0.5,$J$66:$DK$120,ROWS($A$10:$A57)+2,FALSE)","v":2760},{"$f":"HLOOKUP(BQ$7+0.5,$J$66:$DK$120,ROWS($A$10:$A57)+2,FALSE)","v":1834},{"$f":"HLOOKUP(BR$7+0.5,$J$66:$DK$120,ROWS($A$10:$A57)+2,FALSE)","v":1001},{"$f":"HLOOKUP(BS$7+0.5,$J$66:$DK$120,ROWS($A$10:$A57)+2,FALSE)","v":1465},{"$f":"HLOOKUP(BT$7+0.5,$J$66:$DK$120,ROWS($A$10:$A57)+2,FALSE)","v":4084},{"$f":"HLOOKUP(BU$7+0.5,$J$66:$DK$120,ROWS($A$10:$A57)+2,FALSE)","v":3694},{"$f":"HLOOKUP(BV$7+0.5,$J$66:$DK$120,ROWS($A$10:$A57)+2,FALSE)","v":1889},{"$f":"HLOOKUP(BW$7+0.5,$J$66:$DK$120,ROWS($A$10:$A57)+2,FALSE)","v":1460},{"$f":"HLOOKUP(BX$7+0.5,$J$66:$DK$120,ROWS($A$10:$A57)+2,FALSE)","v":411},{"$f":"HLOOKUP(BY$7+0.5,$J$66:$DK$120,ROWS($A$10:$A57)+2,FALSE)","v":3237},{"$f":"HLOOKUP(BZ$7+0.5,$J$66:$DK$120,ROWS($A$10:$A57)+2,FALSE)","v":1228},{"$f":"HLOOKUP(CA$7+0.5,$J$66:$DK$120,ROWS($A$10:$A57)+2,FALSE)","v":209},{"$f":"HLOOKUP(CB$7+0.5,$J$66:$DK$120,ROWS($A$10:$A57)+2,FALSE)","v":669},{"$f":"HLOOKUP(CC$7+0.5,$J$66:$DK$120,ROWS($A$10:$A57)+2,FALSE)","v":1422},{"$f":"HLOOKUP(CD$7+0.5,$J$66:$DK$120,ROWS($A$10:$A57)+2,FALSE)","v":936},{"$f":"HLOOKUP(CE$7+0.5,$J$66:$DK$120,ROWS($A$10:$A57)+2,FALSE)","v":689},{"$f":"HLOOKUP(CF$7+0.5,$J$66:$DK$120,ROWS($A$10:$A57)+2,FALSE)","v":4264},{"$f":"HLOOKUP(CG$7+0.5,$J$66:$DK$120,ROWS($A$10:$A57)+2,FALSE)","v":1503},{"$f":"HLOOKUP(CH$7+0.5,$J$66:$DK$120,ROWS($A$10:$A57)+2,FALSE)","v":1136},{"$f":"HLOOKUP(CI$7+0.5,$J$66:$DK$120,ROWS($A$10:$A57)+2,FALSE)","v":1414},{"$f":"HLOOKUP(CJ$7+0.5,$J$66:$DK$120,ROWS($A$10:$A57)+2,FALSE)","v":730},{"$f":"HLOOKUP(CK$7+0.5,$J$66:$DK$120,ROWS($A$10:$A57)+2,FALSE)","v":837},{"$f":"HLOOKUP(CL$7+0.5,$J$66:$DK$120,ROWS($A$10:$A57)+2,FALSE)","v":433},{"$f":"HLOOKUP(CM$7+0.5,$J$66:$DK$120,ROWS($A$10:$A57)+2,FALSE)","v":313},{"$f":"HLOOKUP(CN$7+0.5,$J$66:$DK$120,ROWS($A$10:$A57)+2,FALSE)","v":522},{"$f":"HLOOKUP(CO$7+0.5,$J$66:$DK$120,ROWS($A$10:$A57)+2,FALSE)","v":398},{"$f":"HLOOKUP(CP$7+0.5,$J$66:$DK$120,ROWS($A$10:$A57)+2,FALSE)","v":2029},{"$f":"HLOOKUP(CQ$7+0.5,$J$66:$DK$120,ROWS($A$10:$A57)+2,FALSE)","v":637},{"$f":"HLOOKUP(CR$7+0.5,$J$66:$DK$120,ROWS($A$10:$A57)+2,FALSE)","v":3260},{"$f":"HLOOKUP(CS$7+0.5,$J$66:$DK$120,ROWS($A$10:$A57)+2,FALSE)","v":4182},{"$f":"HLOOKUP(CT$7+0.5,$J$66:$DK$120,ROWS($A$10:$A57)+2,FALSE)","v":1019},{"$f":"HLOOKUP(CU$7+0.5,$J$66:$DK$120,ROWS($A$10:$A57)+2,FALSE)","v":1519},{"$f":"HLOOKUP(CV$7+0.5,$J$66:$DK$120,ROWS($A$10:$A57)+2,FALSE)","v":1873},{"$f":"HLOOKUP(CW$7+0.5,$J$66:$DK$120,ROWS($A$10:$A57)+2,FALSE)","v":1069},{"$f":"HLOOKUP(CX$7+0.5,$J$66:$DK$120,ROWS($A$10:$A57)+2,FALSE)","v":2998},{"$f":"HLOOKUP(CY$7+0.5,$J$66:$DK$120,ROWS($A$10:$A57)+2,FALSE)","v":731},{"$f":"HLOOKUP(CZ$7+0.5,$J$66:$DK$120,ROWS($A$10:$A57)+2,FALSE)","v":2435},{"$f":"HLOOKUP(DA$7+0.5,$J$66:$DK$120,ROWS($A$10:$A57)+2,FALSE)","v":57},{"$f":"HLOOKUP(DB$7+0.5,$J$66:$DK$120,ROWS($A$10:$A57)+2,FALSE)","v":1858},{"$f":"HLOOKUP(DC$7+0.5,$J$66:$DK$120,ROWS($A$10:$A57)+2,FALSE)","v":2828},{"$f":"HLOOKUP(DD$7+0.5,$J$66:$DK$120,ROWS($A$10:$A57)+2,FALSE)","v":994},{"$f":"HLOOKUP(DE$7+0.5,$J$66:$DK$120,ROWS($A$10:$A57)+2,FALSE)","v":437},{"$f":"HLOOKUP(DF$7+0.5,$J$66:$DK$120,ROWS($A$10:$A57)+2,FALSE)","v":"N/A"},{"$f":"HLOOKUP(DG$7+0.5,$J$66:$DK$120,ROWS($A$10:$A57)+2,FALSE)","v":1420},{"$f":"HLOOKUP(DH$7+0.5,$J$66:$DK$120,ROWS($A$10:$A57)+2,FALSE)","v":1234},{"$f":"HLOOKUP(DI$7+0.5,$J$66:$DK$120,ROWS($A$10:$A57)+2,FALSE)","v":880},{"$f":"HLOOKUP(DJ$7+0.5,$J$66:$DK$120,ROWS($A$10:$A57)+2,FALSE)","v":166},{"$f":"HLOOKUP(DK$7+0.5,$J$66:$DK$120,ROWS($A$10:$A57)+2,FALSE)","v":466}]
[null,"Washington","West",6815763,3864,5648199,25225,904695,24285,{"$f":"HLOOKUP(J$7,$J$66:$DK$120,ROWS($A$10:$A58)+2,FALSE)","v":215494},{"$f":"HLOOKUP(K$7,$J$66:$DK$120,ROWS($A$10:$A58)+2,FALSE)","v":1507},{"$f":"HLOOKUP(L$7,$J$66:$DK$120,ROWS($A$10:$A58)+2,FALSE)","v":4328},{"$f":"HLOOKUP(M$7,$J$66:$DK$120,ROWS($A$10:$A58)+2,FALSE)","v":8362},{"$f":"HLOOKUP(N$7,$J$66:$DK$120,ROWS($A$10:$A58)+2,FALSE)","v":1413},{"$f":"HLOOKUP(O$7,$J$66:$DK$120,ROWS($A$10:$A58)+2,FALSE)","v":45597},{"$f":"HLOOKUP(P$7,$J$66:$DK$120,ROWS($A$10:$A58)+2,FALSE)","v":5195},{"$f":"HLOOKUP(Q$7,$J$66:$DK$120,ROWS($A$10:$A58)+2,FALSE)","v":2901},{"$f":"HLOOKUP(R$7,$J$66:$DK$120,ROWS($A$10:$A58)+2,FALSE)","v":100},{"$f":"HLOOKUP(S$7,$J$66:$DK$120,ROWS($A$10:$A58)+2,FALSE)","v":773},{"$f":"HLOOKUP(T$7,$J$66:$DK$120,ROWS($A$10:$A58)+2,FALSE)","v":9370},{"$f":"HLOOKUP(U$7,$J$66:$DK$120,ROWS($A$10:$A58)+2,FALSE)","v":6363},{"$f":"HLOOKUP(V$7,$J$66:$DK$120,ROWS($A$10:$A58)+2,FALSE)","v":5239},{"$f":"HLOOKUP(W$7,$J$66:$DK$120,ROWS($A$10:$A58)+2,FALSE)","v":10604},{"$f":"HLOOKUP(X$7,$J$66:$DK$120,ROWS($A$10:$A58)+2,FALSE)","v":4298},{"$f":"HLOOKUP(Y$7,$J$66:$DK$120,ROWS($A$10:$A58)+2,FALSE)","v":1089},{"$f":"HLOOKUP(Z$7,$J$66:$DK$120,ROWS($A$10:$A58)+2,FALSE)","v":1159},{"$f":"HLOOKUP(AA$7,$J$66:$DK$120,ROWS($A$10:$A58)+2,FALSE)","v":2544},{"$f":"HLOOKUP(AB$7,$J$66:$DK$120,ROWS($A$10:$A58)+2,FALSE)","v":1368},{"$f":"HLOOKUP(AC$7,$J$66:$DK$120,ROWS($A$10:$A58)+2,FALSE)","v":1646},{"$f":"HLOOKUP(AD$7,$J$66:$DK$120,ROWS($A$10:$A58)+2,FALSE)","v":532},{"$f":"HLOOKUP(AE$7,$J$66:$DK$120,ROWS($A$10:$A58)+2,FALSE)","v":1191},{"$f":"HLOOKUP(AF$7,$J$66:$DK$120,ROWS($A$10:$A58)+2,FALSE)","v":2911},{"$f":"HLOOKUP(AG$7,$J$66:$DK$120,ROWS($A$10:$A58)+2,FALSE)","v":3470},{"$f":"HLOOKUP(AH$7,$J$66:$DK$120,ROWS($A$10:$A58)+2,FALSE)","v":2703},{"$f":"HLOOKUP(AI$7,$J$66:$DK$120,ROWS($A$10:$A58)+2,FALSE)","v":615},{"$f":"HLOOKUP(AJ$7,$J$66:$DK$120,ROWS($A$10:$A58)+2,FALSE)","v":2802},{"$f":"HLOOKUP(AK$7,$J$66:$DK$120,ROWS($A$10:$A58)+2,FALSE)","v":2919},{"$f":"HLOOKUP(AL$7,$J$66:$DK$120,ROWS($A$10:$A58)+2,FALSE)","v":682},{"$f":"HLOOKUP(AM$7,$J$66:$DK$120,ROWS($A$10:$A58)+2,FALSE)","v":5671},{"$f":"HLOOKUP(AN$7,$J$66:$DK$120,ROWS($A$10:$A58)+2,FALSE)","v":309},{"$f":"HLOOKUP(AO$7,$J$66:$DK$120,ROWS($A$10:$A58)+2,FALSE)","v":2300},{"$f":"HLOOKUP(AP$7,$J$66:$DK$120,ROWS($A$10:$A58)+2,FALSE)","v":872},{"$f":"HLOOKUP(AQ$7,$J$66:$DK$120,ROWS($A$10:$A58)+2,FALSE)","v":5562},{"$f":"HLOOKUP(AR$7,$J$66:$DK$120,ROWS($A$10:$A58)+2,FALSE)","v":4088},{"$f":"HLOOKUP(AS$7,$J$66:$DK$120,ROWS($A$10:$A58)+2,FALSE)","v":217},{"$f":"HLOOKUP(AT$7,$J$66:$DK$120,ROWS($A$10:$A58)+2,FALSE)","v":3192},{"$f":"HLOOKUP(AU$7,$J$66:$DK$120,ROWS($A$10:$A58)+2,FALSE)","v":1223},{"$f":"HLOOKUP(AV$7,$J$66:$DK$120,ROWS($A$10:$A58)+2,FALSE)","v":25525},{"$f":"HLOOKUP(AW$7,$J$66:$DK$120,ROWS($A$10:$A58)+2,FALSE)","v":3397},{"$f":"HLOOKUP(AX$7,$J$66:$DK$120,ROWS($A$10:$A58)+2,FALSE)","v":97},{"$f":"HLOOKUP(AY$7,$J$66:$DK$120,ROWS($A$10:$A58)+2,FALSE)","v":2727},{"$f":"HLOOKUP(AZ$7,$J$66:$DK$120,ROWS($A$10:$A58)+2,FALSE)","v":94},{"$f":"HLOOKUP(BA$7,$J$66:$DK$120,ROWS($A$10:$A58)+2,FALSE)","v":3206},{"$f":"HLOOKUP(BB$7,$J$66:$DK$120,ROWS($A$10:$A58)+2,FALSE)","v":14196},{"$f":"HLOOKUP(BC$7,$J$66:$DK$120,ROWS($A$10:$A58)+2,FALSE)","v":5298},{"$f":"HLOOKUP(BD$7,$J$66:$DK$120,ROWS($A$10:$A58)+2,FALSE)","v":223},{"$f":"HLOOKUP(BE$7,$J$66:$DK$120,ROWS($A$10:$A58)+2,FALSE)","v":3839},{"$f":"HLOOKUP(BF$7,$J$66:$DK$120,ROWS($A$10:$A58)+2,FALSE)","v":"N/A"},{"$f":"HLOOKUP(BG$7,$J$66:$DK$120,ROWS($A$10:$A58)+2,FALSE)","v":215},{"$f":"HLOOKUP(BH$7,$J$66:$DK$120,ROWS($A$10:$A58)+2,FALSE)","v":1168},{"$f":"HLOOKUP(BI$7,$J$66:$DK$120,ROWS($A$10:$A58)+2,FALSE)","v":394},{"$f":"HLOOKUP(BJ$7,$J$66:$DK$120,ROWS($A$10:$A58)+2,FALSE)","v":1025},{"$f":"HLOOKUP(BK$7+0.5,$J$66:$DK$120,ROWS($A$10:$A58)+2,FALSE)","v":12552},{"$f":"HLOOKUP(BL$7+0.5,$J$66:$DK$120,ROWS($A$10:$A58)+2,FALSE)","v":730},{"$f":"HLOOKUP(BM$7+0.5,$J$66:$DK$120,ROWS($A$10:$A58)+2,FALSE)","v":1682},{"$f":"HLOOKUP(BN$7+0.5,$J$66:$DK$120,ROWS($A$10:$A58)+2,FALSE)","v":2641},{"$f":"HLOOKUP(BO$7+0.5,$J$66:$DK$120,ROWS($A$10:$A58)+2,FALSE)","v":1121},{"$f":"HLOOKUP(BP$7+0.5,$J$66:$DK$120,ROWS($A$10:$A58)+2,FALSE)","v":5884},{"$f":"HLOOKUP(BQ$7+0.5,$J$66:$DK$120,ROWS($A$10:$A58)+2,FALSE)","v":2150},{"$f":"HLOOKUP(BR$7+0.5,$J$66:$DK$120,ROWS($A$10:$A58)+2,FALSE)","v":1138},{"$f":"HLOOKUP(BS$7+0.5,$J$66:$DK$120,ROWS($A$10:$A58)+2,FALSE)","v":164},{"$f":"HLOOKUP(BT$7+0.5,$J$66:$DK$120,ROWS($A$10:$A58)+2,FALSE)","v":528},{"$f":"HLOOKUP(BU$7+0.5,$J$66:$DK$120,ROWS($A$10:$A58)+2,FALSE)","v":2417},{"$f":"HLOOKUP(BV$7+0.5,$J$66:$DK$120,ROWS($A$10:$A58)+2,FALSE)","v":2288},{"$f":"HLOOKUP(BW$7+0.5,$J$66:$DK$120,ROWS($A$10:$A58)+2,FALSE)","v":2393},{"$f":"HLOOKUP(BX$7+0.5,$J$66:$DK$120,ROWS($A$10:$A58)+2,FALSE)","v":2191},{"$f":"HLOOKUP(BY$7+0.5,$J$66:$DK$120,ROWS($A$10:$A58)+2,FALSE)","v":1727},{"$f":"HLOOKUP(BZ$7+0.5,$J$66:$DK$120,ROWS($A$10:$A58)+2,FALSE)","v":521},{"$f":"HLOOKUP(CA$7+0.5,$J$66:$DK$120,ROWS($A$10:$A58)+2,FALSE)","v":845},{"$f":"HLOOKUP(CB$7+0.5,$J$66:$DK$120,ROWS($A$10:$A58)+2,FALSE)","v":1029},{"$f":"HLOOKUP(CC$7+0.5,$J$66:$DK$120,ROWS($A$10:$A58)+2,FALSE)","v":911},{"$f":"HLOOKUP(CD$7+0.5,$J$66:$DK$120,ROWS($A$10:$A58)+2,FALSE)","v":915},{"$f":"HLOOKUP(CE$7+0.5,$J$66:$DK$120,ROWS($A$10:$A58)+2,FALSE)","v":655},{"$f":"HLOOKUP(CF$7+0.5,$J$66:$DK$120,ROWS($A$10:$A58)+2,FALSE)","v":923},{"$f":"HLOOKUP(CG$7+0.5,$J$66:$DK$120,ROWS($A$10:$A58)+2,FALSE)","v":1011},{"$f":"HLOOKUP(CH$7+0.5,$J$66:$DK$120,ROWS($A$10:$A58)+2,FALSE)","v":1605},{"$f":"HLOOKUP(CI$7+0.5,$J$66:$DK$120,ROWS($A$10:$A58)+2,FALSE)","v":1971},{"$f":"HLOOKUP(CJ$7+0.5,$J$66:$DK$120,ROWS($A$10:$A58)+2,FALSE)","v":444},{"$f":"HLOOKUP(CK$7+0.5,$J$66:$DK$120,ROWS($A$10:$A58)+2,FALSE)","v":1017},{"$f":"HLOOKUP(CL$7+0.5,$J$66:$DK$120,ROWS($A$10:$A58)+2,FALSE)","v":1013},{"$f":"HLOOKUP(CM$7+0.5,$J$66:$DK$120,ROWS($A$10:$A58)+2,FALSE)","v":456},{"$f":"HLOOKUP(CN$7+0.5,$J$66:$DK$120,ROWS($A$10:$A58)+2,FALSE)","v":2919},{"$f":"HLOOKUP(CO$7+0.5,$J$66:$DK$120,ROWS($A$10:$A58)+2,FALSE)","v":248},{"$f":"HLOOKUP(CP$7+0.5,$J$66:$DK$120,ROWS($A$10:$A58)+2,FALSE)","v":1441},{"$f":"HLOOKUP(CQ$7+0.5,$J$66:$DK$120,ROWS($A$10:$A58)+2,FALSE)","v":527},{"$f":"HLOOKUP(CR$7+0.5,$J$66:$DK$120,ROWS($A$10:$A58)+2,FALSE)","v":1947},{"$f":"HLOOKUP(CS$7+0.5,$J$66:$DK$120,ROWS($A$10:$A58)+2,FALSE)","v":1854},{"$f":"HLOOKUP(CT$7+0.5,$J$66:$DK$120,ROWS($A$10:$A58)+2,FALSE)","v":200},{"$f":"HLOOKUP(CU$7+0.5,$J$66:$DK$120,ROWS($A$10:$A58)+2,FALSE)","v":1400},{"$f":"HLOOKUP(CV$7+0.5,$J$66:$DK$120,ROWS($A$10:$A58)+2,FALSE)","v":768},{"$f":"HLOOKUP(CW$7+0.5,$J$66:$DK$120,ROWS($A$10:$A58)+2,FALSE)","v":4052},{"$f":"HLOOKUP(CX$7+0.5,$J$66:$DK$120,ROWS($A$10:$A58)+2,FALSE)","v":1799},{"$f":"HLOOKUP(CY$7+0.5,$J$66:$DK$120,ROWS($A$10:$A58)+2,FALSE)","v":162},{"$f":"HLOOKUP(CZ$7+0.5,$J$66:$DK$120,ROWS($A$10:$A58)+2,FALSE)","v":1542},{"$f":"HLOOKUP(DA$7+0.5,$J$66:$DK$120,ROWS($A$10:$A58)+2,FALSE)","v":155},{"$f":"HLOOKUP(DB$7+0.5,$J$66:$DK$120,ROWS($A$10:$A58)+2,FALSE)","v":1819},{"$f":"HLOOKUP(DC$7+0.5,$J$66:$DK$120,ROWS($A$10:$A58)+2,FALSE)","v":3417},{"$f":"HLOOKUP(DD$7+0.5,$J$66:$DK$120,ROWS($A$10:$A58)+2,FALSE)","v":1995},{"$f":"HLOOKUP(DE$7+0.5,$J$66:$DK$120,ROWS($A$10:$A58)+2,FALSE)","v":216},{"$f":"HLOOKUP(DF$7+0.5,$J$66:$DK$120,ROWS($A$10:$A58)+2,FALSE)","v":1320},{"$f":"HLOOKUP(DG$7+0.5,$J$66:$DK$120,ROWS($A$10:$A58)+2,FALSE)","v":"N/A"},{"$f":"HLOOKUP(DH$7+0.5,$J$66:$DK$120,ROWS($A$10:$A58)+2,FALSE)","v":271},{"$f":"HLOOKUP(DI$7+0.5,$J$66:$DK$120,ROWS($A$10:$A58)+2,FALSE)","v":638},{"$f":"HLOOKUP(DJ$7+0.5,$J$66:$DK$120,ROWS($A$10:$A58)+2,FALSE)","v":495},{"$f":"HLOOKUP(DK$7+0.5,$J$66:$DK$120,ROWS($A$10:$A58)+2,FALSE)","v":878}]
[null,"West Virginia","South",1837518,2090,1613322,11785,174112,11396,{"$f":"HLOOKUP(J$7,$J$66:$DK$120,ROWS($A$10:$A59)+2,FALSE)","v":47125},{"$f":"HLOOKUP(K$7,$J$66:$DK$120,ROWS($A$10:$A59)+2,FALSE)","v":477},{"$f":"HLOOKUP(L$7,$J$66:$DK$120,ROWS($A$10:$A59)+2,FALSE)","v":306},{"$f":"HLOOKUP(M$7,$J$66:$DK$120,ROWS($A$10:$A59)+2,FALSE)","v":79},{"$f":"HLOOKUP(N$7,$J$66:$DK$120,ROWS($A$10:$A59)+2,FALSE)","v":0},{"$f":"HLOOKUP(O$7,$J$66:$DK$120,ROWS($A$10:$A59)+2,FALSE)","v":1231},{"$f":"HLOOKUP(P$7,$J$66:$DK$120,ROWS($A$10:$A59)+2,FALSE)","v":104},{"$f":"HLOOKUP(Q$7,$J$66:$DK$120,ROWS($A$10:$A59)+2,FALSE)","v":143},{"$f":"HLOOKUP(R$7,$J$66:$DK$120,ROWS($A$10:$A59)+2,FALSE)","v":674},{"$f":"HLOOKUP(S$7,$J$66:$DK$120,ROWS($A$10:$A59)+2,FALSE)","v":294},{"$f":"HLOOKUP(T$7,$J$66:$DK$120,ROWS($A$10:$A59)+2,FALSE)","v":1919},{"$f":"HLOOKUP(U$7,$J$66:$DK$120,ROWS($A$10:$A59)+2,FALSE)","v":1108},{"$f":"HLOOKUP(V$7,$J$66:$DK$120,ROWS($A$10:$A59)+2,FALSE)","v":166},{"$f":"HLOOKUP(W$7,$J$66:$DK$120,ROWS($A$10:$A59)+2,FALSE)","v":181},{"$f":"HLOOKUP(X$7,$J$66:$DK$120,ROWS($A$10:$A59)+2,FALSE)","v":220},{"$f":"HLOOKUP(Y$7,$J$66:$DK$120,ROWS($A$10:$A59)+2,FALSE)","v":328},{"$f":"HLOOKUP(Z$7,$J$66:$DK$120,ROWS($A$10:$A59)+2,FALSE)","v":68},{"$f":"HLOOKUP(AA$7,$J$66:$DK$120,ROWS($A$10:$A59)+2,FALSE)","v":39},{"$f":"HLOOKUP(AB$7,$J$66:$DK$120,ROWS($A$10:$A59)+2,FALSE)","v":2249},{"$f":"HLOOKUP(AC$7,$J$66:$DK$120,ROWS($A$10:$A59)+2,FALSE)","v":90},{"$f":"HLOOKUP(AD$7,$J$66:$DK$120,ROWS($A$10:$A59)+2,FALSE)","v":35},{"$f":"HLOOKUP(AE$7,$J$66:$DK$120,ROWS($A$10:$A59)+2,FALSE)","v":5352},{"$f":"HLOOKUP(AF$7,$J$66:$DK$120,ROWS($A$10:$A59)+2,FALSE)","v":164},{"$f":"HLOOKUP(AG$7,$J$66:$DK$120,ROWS($A$10:$A59)+2,FALSE)","v":778},{"$f":"HLOOKUP(AH$7,$J$66:$DK$120,ROWS($A$10:$A59)+2,FALSE)","v":20},{"$f":"HLOOKUP(AI$7,$J$66:$DK$120,ROWS($A$10:$A59)+2,FALSE)","v":0},{"$f":"HLOOKUP(AJ$7,$J$66:$DK$120,ROWS($A$10:$A59)+2,FALSE)","v":59},{"$f":"HLOOKUP(AK$7,$J$66:$DK$120,ROWS($A$10:$A59)+2,FALSE)","v":0},{"$f":"HLOOKUP(AL$7,$J$66:$DK$120,ROWS($A$10:$A59)+2,FALSE)","v":0},{"$f":"HLOOKUP(AM$7,$J$66:$DK$120,ROWS($A$10:$A59)+2,FALSE)","v":229},{"$f":"HLOOKUP(AN$7,$J$66:$DK$120,ROWS($A$10:$A59)+2,FALSE)","v":129},{"$f":"HLOOKUP(AO$7,$J$66:$DK$120,ROWS($A$10:$A59)+2,FALSE)","v":1213},{"$f":"HLOOKUP(AP$7,$J$66:$DK$120,ROWS($A$10:$A59)+2,FALSE)","v":81},{"$f":"HLOOKUP(AQ$7,$J$66:$DK$120,ROWS($A$10:$A59)+2,FALSE)","v":1721},{"$f":"HLOOKUP(AR$7,$J$66:$DK$120,ROWS($A$10:$A59)+2,FALSE)","v":4683},{"$f":"HLOOKUP(AS$7,$J$66:$DK$120,ROWS($A$10:$A59)+2,FALSE)","v":175},{"$f":"HLOOKUP(AT$7,$J$66:$DK$120,ROWS($A$10:$A59)+2,FALSE)","v":6757},{"$f":"HLOOKUP(AU$7,$J$66:$DK$120,ROWS($A$10:$A59)+2,FALSE)","v":520},{"$f":"HLOOKUP(AV$7,$J$66:$DK$120,ROWS($A$10:$A59)+2,FALSE)","v":118},{"$f":"HLOOKUP(AW$7,$J$66:$DK$120,ROWS($A$10:$A59)+2,FALSE)","v":5208},{"$f":"HLOOKUP(AX$7,$J$66:$DK$120,ROWS($A$10:$A59)+2,FALSE)","v":0},{"$f":"HLOOKUP(AY$7,$J$66:$DK$120,ROWS($A$10:$A59)+2,FALSE)","v":1098},{"$f":"HLOOKUP(AZ$7,$J$66:$DK$120,ROWS($A$10:$A59)+2,FALSE)","v":36},{"$f":"HLOOKUP(BA$7,$J$66:$DK$120,ROWS($A$10:$A59)+2,FALSE)","v":1061},{"$f":"HLOOKUP(BB$7,$J$66:$DK$120,ROWS($A$10:$A59)+2,FALSE)","v":622},{"$f":"HLOOKUP(BC$7,$J$66:$DK$120,ROWS($A$10:$A59)+2,FALSE)","v":0},{"$f":"HLOOKUP(BD$7,$J$66:$DK$120,ROWS($A$10:$A59)+2,FALSE)","v":54},{"$f":"HLOOKUP(BE$7,$J$66:$DK$120,ROWS($A$10:$A59)+2,FALSE)","v":6317},{"$f":"HLOOKUP(BF$7,$J$66:$DK$120,ROWS($A$10:$A59)+2,FALSE)","v":297},{"$f":"HLOOKUP(BG$7,$J$66:$DK$120,ROWS($A$10:$A59)+2,FALSE)","v":"N/A"},{"$f":"HLOOKUP(BH$7,$J$66:$DK$120,ROWS($A$10:$A59)+2,FALSE)","v":470},{"$f":"HLOOKUP(BI$7,$J$66:$DK$120,ROWS($A$10:$A59)+2,FALSE)","v":252},{"$f":"HLOOKUP(BJ$7,$J$66:$DK$120,ROWS($A$10:$A59)+2,FALSE)","v":79},{"$f":"HLOOKUP(BK$7+0.5,$J$66:$DK$120,ROWS($A$10:$A59)+2,FALSE)","v":4317},{"$f":"HLOOKUP(BL$7+0.5,$J$66:$DK$120,ROWS($A$10:$A59)+2,FALSE)","v":339},{"$f":"HLOOKUP(BM$7+0.5,$J$66:$DK$120,ROWS($A$10:$A59)+2,FALSE)","v":455},{"$f":"HLOOKUP(BN$7+0.5,$J$66:$DK$120,ROWS($A$10:$A59)+2,FALSE)","v":129},{"$f":"HLOOKUP(BO$7+0.5,$J$66:$DK$120,ROWS($A$10:$A59)+2,FALSE)","v":182},{"$f":"HLOOKUP(BP$7+0.5,$J$66:$DK$120,ROWS($A$10:$A59)+2,FALSE)","v":516},{"$f":"HLOOKUP(BQ$7+0.5,$J$66:$DK$120,ROWS($A$10:$A59)+2,FALSE)","v":114},{"$f":"HLOOKUP(BR$7+0.5,$J$66:$DK$120,ROWS($A$10:$A59)+2,FALSE)","v":177},{"$f":"HLOOKUP(BS$7+0.5,$J$66:$DK$120,ROWS($A$10:$A59)+2,FALSE)","v":525},{"$f":"HLOOKUP(BT$7+0.5,$J$66:$DK$120,ROWS($A$10:$A59)+2,FALSE)","v":194},{"$f":"HLOOKUP(BU$7+0.5,$J$66:$DK$120,ROWS($A$10:$A59)+2,FALSE)","v":666},{"$f":"HLOOKUP(BV$7+0.5,$J$66:$DK$120,ROWS($A$10:$A59)+2,FALSE)","v":483},{"$f":"HLOOKUP(BW$7+0.5,$J$66:$DK$120,ROWS($A$10:$A59)+2,FALSE)","v":277},{"$f":"HLOOKUP(BX$7+0.5,$J$66:$DK$120,ROWS($A$10:$A59)+2,FALSE)","v":250},{"$f":"HLOOKUP(BY$7+0.5,$J$66:$DK$120,ROWS($A$10:$A59)+2,FALSE)","v":190},{"$f":"HLOOKUP(BZ$7+0.5,$J$66:$DK$120,ROWS($A$10:$A59)+2,FALSE)","v":406},{"$f":"HLOOKUP(CA$7+0.5,$J$66:$DK$120,ROWS($A$10:$A59)+2,FALSE)","v":111},{"$f":"HLOOKUP(CB$7+0.5,$J$66:$DK$120,ROWS($A$10:$A59)+2,FALSE)","v":64},{"$f":"HLOOKUP(CC$7+0.5,$J$66:$DK$120,ROWS($A$10:$A59)+2,FALSE)","v":1019},{"$f":"HLOOKUP(CD$7+0.5,$J$66:$DK$120,ROWS($A$10:$A59)+2,FALSE)","v":88},{"$f":"HLOOKUP(CE$7+0.5,$J$66:$DK$120,ROWS($A$10:$A59)+2,FALSE)","v":74},{"$f":"HLOOKUP(CF$7+0.5,$J$66:$DK$120,ROWS($A$10:$A59)+2,FALSE)","v":1897},{"$f":"HLOOKUP(CG$7+0.5,$J$66:$DK$120,ROWS($A$10:$A59)+2,FALSE)","v":191},{"$f":"HLOOKUP(CH$7+0.5,$J$66:$DK$120,ROWS($A$10:$A59)+2,FALSE)","v":581},{"$f":"HLOOKUP(CI$7+0.5,$J$66:$DK$120,ROWS($A$10:$A59)+2,FALSE)","v":37},{"$f":"HLOOKUP(CJ$7+0.5,$J$66:$DK$120,ROWS($A$10:$A59)+2,FALSE)","v":182},{"$f":"HLOOKUP(CK$7+0.5,$J$66:$DK$120,ROWS($A$10:$A59)+2,FALSE)","v":76},{"$f":"HLOOKUP(CL$7+0.5,$J$66:$DK$120,ROWS($A$10:$A59)+2,FALSE)","v":182},{"$f":"HLOOKUP(CM$7+0.5,$J$66:$DK$120,ROWS($A$10:$A59)+2,FALSE)","v":182},{"$f":"HLOOKUP(CN$7+0.5,$J$66:$DK$120,ROWS($A$10:$A59)+2,FALSE)","v":268},{"$f":"HLOOKUP(CO$7+0.5,$J$66:$DK$120,ROWS($A$10:$A59)+2,FALSE)","v":147},{"$f":"HLOOKUP(CP$7+0.5,$J$66:$DK$120,ROWS($A$10:$A59)+2,FALSE)","v":679},{"$f":"HLOOKUP(CQ$7+0.5,$J$66:$DK$120,ROWS($A$10:$A59)+2,FALSE)","v":90},{"$f":"HLOOKUP(CR$7+0.5,$J$66:$DK$120,ROWS($A$10:$A59)+2,FALSE)","v":965},{"$f":"HLOOKUP(CS$7+0.5,$J$66:$DK$120,ROWS($A$10:$A59)+2,FALSE)","v":1933},{"$f":"HLOOKUP(CT$7+0.5,$J$66:$DK$120,ROWS($A$10:$A59)+2,FALSE)","v":215},{"$f":"HLOOKUP(CU$7+0.5,$J$66:$DK$120,ROWS($A$10:$A59)+2,FALSE)","v":1474},{"$f":"HLOOKUP(CV$7+0.5,$J$66:$DK$120,ROWS($A$10:$A59)+2,FALSE)","v":447},{"$f":"HLOOKUP(CW$7+0.5,$J$66:$DK$120,ROWS($A$10:$A59)+2,FALSE)","v":207},{"$f":"HLOOKUP(CX$7+0.5,$J$66:$DK$120,ROWS($A$10:$A59)+2,FALSE)","v":1699},{"$f":"HLOOKUP(CY$7+0.5,$J$66:$DK$120,ROWS($A$10:$A59)+2,FALSE)","v":182},{"$f":"HLOOKUP(CZ$7+0.5,$J$66:$DK$120,ROWS($A$10:$A59)+2,FALSE)","v":671},{"$f":"HLOOKUP(DA$7+0.5,$J$66:$DK$120,ROWS($A$10:$A59)+2,FALSE)","v":65},{"$f":"HLOOKUP(DB$7+0.5,$J$66:$DK$120,ROWS($A$10:$A59)+2,FALSE)","v":513},{"$f":"HLOOKUP(DC$7+0.5,$J$66:$DK$120,ROWS($A$10:$A59)+2,FALSE)","v":415},{"$f":"HLOOKUP(DD$7+0.5,$J$66:$DK$120,ROWS($A$10:$A59)+2,FALSE)","v":182},{"$f":"HLOOKUP(DE$7+0.5,$J$66:$DK$120,ROWS($A$10:$A59)+2,FALSE)","v":89},{"$f":"HLOOKUP(DF$7+0.5,$J$66:$DK$120,ROWS($A$10:$A59)+2,FALSE)","v":1774},{"$f":"HLOOKUP(DG$7+0.5,$J$66:$DK$120,ROWS($A$10:$A59)+2,FALSE)","v":285},{"$f":"HLOOKUP(DH$7+0.5,$J$66:$DK$120,ROWS($A$10:$A59)+2,FALSE)","v":"N/A"},{"$f":"HLOOKUP(DI$7+0.5,$J$66:$DK$120,ROWS($A$10:$A59)+2,FALSE)","v":555},{"$f":"HLOOKUP(DJ$7+0.5,$J$66:$DK$120,ROWS($A$10:$A59)+2,FALSE)","v":395},{"$f":"HLOOKUP(DK$7+0.5,$J$66:$DK$120,ROWS($A$10:$A59)+2,FALSE)","v":123}]
[null,"Wisconsin","Midwest",5660677,3351,4849945,15530,693737,15440,{"$f":"HLOOKUP(J$7,$J$66:$DK$120,ROWS($A$10:$A60)+2,FALSE)","v":99192},{"$f":"HLOOKUP(K$7,$J$66:$DK$120,ROWS($A$10:$A60)+2,FALSE)","v":323},{"$f":"HLOOKUP(L$7,$J$66:$DK$120,ROWS($A$10:$A60)+2,FALSE)","v":236},{"$f":"HLOOKUP(M$7,$J$66:$DK$120,ROWS($A$10:$A60)+2,FALSE)","v":3257},{"$f":"HLOOKUP(N$7,$J$66:$DK$120,ROWS($A$10:$A60)+2,FALSE)","v":253},{"$f":"HLOOKUP(O$7,$J$66:$DK$120,ROWS($A$10:$A60)+2,FALSE)","v":5347},{"$f":"HLOOKUP(P$7,$J$66:$DK$120,ROWS($A$10:$A60)+2,FALSE)","v":1600},{"$f":"HLOOKUP(Q$7,$J$66:$DK$120,ROWS($A$10:$A60)+2,FALSE)","v":657},{"$f":"HLOOKUP(R$7,$J$66:$DK$120,ROWS($A$10:$A60)+2,FALSE)","v":296},{"$f":"HLOOKUP(S$7,$J$66:$DK$120,ROWS($A$10:$A60)+2,FALSE)","v":15},{"$f":"HLOOKUP(T$7,$J$66:$DK$120,ROWS($A$10:$A60)+2,FALSE)","v":4937},{"$f":"HLOOKUP(U$7,$J$66:$DK$120,ROWS($A$10:$A60)+2,FALSE)","v":970},{"$f":"HLOOKUP(V$7,$J$66:$DK$120,ROWS($A$10:$A60)+2,FALSE)","v":333},{"$f":"HLOOKUP(W$7,$J$66:$DK$120,ROWS($A$10:$A60)+2,FALSE)","v":360},{"$f":"HLOOKUP(X$7,$J$66:$DK$120,ROWS($A$10:$A60)+2,FALSE)","v":22285},{"$f":"HLOOKUP(Y$7,$J$66:$DK$120,ROWS($A$10:$A60)+2,FALSE)","v":2480},{"$f":"HLOOKUP(Z$7,$J$66:$DK$120,ROWS($A$10:$A60)+2,FALSE)","v":4161},{"$f":"HLOOKUP(AA$7,$J$66:$DK$120,ROWS($A$10:$A60)+2,FALSE)","v":1160},{"$f":"HLOOKUP(AB$7,$J$66:$DK$120,ROWS($A$10:$A60)+2,FALSE)","v":635},{"$f":"HLOOKUP(AC$7,$J$66:$DK$120,ROWS($A$10:$A60)+2,FALSE)","v":598},{"$f":"HLOOKUP(AD$7,$J$66:$DK$120,ROWS($A$10:$A60)+2,FALSE)","v":233},{"$f":"HLOOKUP(AE$7,$J$66:$DK$120,ROWS($A$10:$A60)+2,FALSE)","v":1306},{"$f":"HLOOKUP(AF$7,$J$66:$DK$120,ROWS($A$10:$A60)+2,FALSE)","v":489},{"$f":"HLOOKUP(AG$7,$J$66:$DK$120,ROWS($A$10:$A60)+2,FALSE)","v":3917},{"$f":"HLOOKUP(AH$7,$J$66:$DK$120,ROWS($A$10:$A60)+2,FALSE)","v":18965},{"$f":"HLOOKUP(AI$7,$J$66:$DK$120,ROWS($A$10:$A60)+2,FALSE)","v":238},{"$f":"HLOOKUP(AJ$7,$J$66:$DK$120,ROWS($A$10:$A60)+2,FALSE)","v":1263},{"$f":"HLOOKUP(AK$7,$J$66:$DK$120,ROWS($A$10:$A60)+2,FALSE)","v":784},{"$f":"HLOOKUP(AL$7,$J$66:$DK$120,ROWS($A$10:$A60)+2,FALSE)","v":324},{"$f":"HLOOKUP(AM$7,$J$66:$DK$120,ROWS($A$10:$A60)+2,FALSE)","v":1163},{"$f":"HLOOKUP(AN$7,$J$66:$DK$120,ROWS($A$10:$A60)+2,FALSE)","v":3},{"$f":"HLOOKUP(AO$7,$J$66:$DK$120,ROWS($A$10:$A60)+2,FALSE)","v":606},{"$f":"HLOOKUP(AP$7,$J$66:$DK$120,ROWS($A$10:$A60)+2,FALSE)","v":526},{"$f":"HLOOKUP(AQ$7,$J$66:$DK$120,ROWS($A$10:$A60)+2,FALSE)","v":2033},{"$f":"HLOOKUP(AR$7,$J$66:$DK$120,ROWS($A$10:$A60)+2,FALSE)","v":2939},{"$f":"HLOOKUP(AS$7,$J$66:$DK$120,ROWS($A$10:$A60)+2,FALSE)","v":284},{"$f":"HLOOKUP(AT$7,$J$66:$DK$120,ROWS($A$10:$A60)+2,FALSE)","v":2610},{"$f":"HLOOKUP(AU$7,$J$66:$DK$120,ROWS($A$10:$A60)+2,FALSE)","v":289},{"$f":"HLOOKUP(AV$7,$J$66:$DK$120,ROWS($A$10:$A60)+2,FALSE)","v":945},{"$f":"HLOOKUP(AW$7,$J$66:$DK$120,ROWS($A$10:$A60)+2,FALSE)","v":1563},{"$f":"HLOOKUP(AX$7,$J$66:$DK$120,ROWS($A$10:$A60)+2,FALSE)","v":144},{"$f":"HLOOKUP(AY$7,$J$66:$DK$120,ROWS($A$10:$A60)+2,FALSE)","v":1053},{"$f":"HLOOKUP(AZ$7,$J$66:$DK$120,ROWS($A$10:$A60)+2,FALSE)","v":329},{"$f":"HLOOKUP(BA$7,$J$66:$DK$120,ROWS($A$10:$A60)+2,FALSE)","v":1051},{"$f":"HLOOKUP(BB$7,$J$66:$DK$120,ROWS($A$10:$A60)+2,FALSE)","v":2765},{"$f":"HLOOKUP(BC$7,$J$66:$DK$120,ROWS($A$10:$A60)+2,FALSE)","v":900},{"$f":"HLOOKUP(BD$7,$J$66:$DK$120,ROWS($A$10:$A60)+2,FALSE)","v":62},{"$f":"HLOOKUP(BE$7,$J$66:$DK$120,ROWS($A$10:$A60)+2,FALSE)","v":1267},{"$f":"HLOOKUP(BF$7,$J$66:$DK$120,ROWS($A$10:$A60)+2,FALSE)","v":1208},{"$f":"HLOOKUP(BG$7,$J$66:$DK$120,ROWS($A$10:$A60)+2,FALSE)","v":0},{"$f":"HLOOKUP(BH$7,$J$66:$DK$120,ROWS($A$10:$A60)+2,FALSE)","v":"N/A"},{"$f":"HLOOKUP(BI$7,$J$66:$DK$120,ROWS($A$10:$A60)+2,FALSE)","v":30},{"$f":"HLOOKUP(BJ$7,$J$66:$DK$120,ROWS($A$10:$A60)+2,FALSE)","v":975},{"$f":"HLOOKUP(BK$7+0.5,$J$66:$DK$120,ROWS($A$10:$A60)+2,FALSE)","v":6959},{"$f":"HLOOKUP(BL$7+0.5,$J$66:$DK$120,ROWS($A$10:$A60)+2,FALSE)","v":262},{"$f":"HLOOKUP(BM$7+0.5,$J$66:$DK$120,ROWS($A$10:$A60)+2,FALSE)","v":193},{"$f":"HLOOKUP(BN$7+0.5,$J$66:$DK$120,ROWS($A$10:$A60)+2,FALSE)","v":1696},{"$f":"HLOOKUP(BO$7+0.5,$J$66:$DK$120,ROWS($A$10:$A60)+2,FALSE)","v":216},{"$f":"HLOOKUP(BP$7+0.5,$J$66:$DK$120,ROWS($A$10:$A60)+2,FALSE)","v":2126},{"$f":"HLOOKUP(BQ$7+0.5,$J$66:$DK$120,ROWS($A$10:$A60)+2,FALSE)","v":604},{"$f":"HLOOKUP(BR$7+0.5,$J$66:$DK$120,ROWS($A$10:$A60)+2,FALSE)","v":432},{"$f":"HLOOKUP(BS$7+0.5,$J$66:$DK$120,ROWS($A$10:$A60)+2,FALSE)","v":475},{"$f":"HLOOKUP(BT$7+0.5,$J$66:$DK$120,ROWS($A$10:$A60)+2,FALSE)","v":25},{"$f":"HLOOKUP(BU$7+0.5,$J$66:$DK$120,ROWS($A$10:$A60)+2,FALSE)","v":1590},{"$f":"HLOOKUP(BV$7+0.5,$J$66:$DK$120,ROWS($A$10:$A60)+2,FALSE)","v":396},{"$f":"HLOOKUP(BW$7+0.5,$J$66:$DK$120,ROWS($A$10:$A60)+2,FALSE)","v":416},{"$f":"HLOOKUP(BX$7+0.5,$J$66:$DK$120,ROWS($A$10:$A60)+2,FALSE)","v":231},{"$f":"HLOOKUP(BY$7+0.5,$J$66:$DK$120,ROWS($A$10:$A60)+2,FALSE)","v":3020},{"$f":"HLOOKUP(BZ$7+0.5,$J$66:$DK$120,ROWS($A$10:$A60)+2,FALSE)","v":1136},{"$f":"HLOOKUP(CA$7+0.5,$J$66:$DK$120,ROWS($A$10:$A60)+2,FALSE)","v":1283},{"$f":"HLOOKUP(CB$7+0.5,$J$66:$DK$120,ROWS($A$10:$A60)+2,FALSE)","v":1199},{"$f":"HLOOKUP(CC$7+0.5,$J$66:$DK$120,ROWS($A$10:$A60)+2,FALSE)","v":502},{"$f":"HLOOKUP(CD$7+0.5,$J$66:$DK$120,ROWS($A$10:$A60)+2,FALSE)","v":403},{"$f":"HLOOKUP(CE$7+0.5,$J$66:$DK$120,ROWS($A$10:$A60)+2,FALSE)","v":195},{"$f":"HLOOKUP(CF$7+0.5,$J$66:$DK$120,ROWS($A$10:$A60)+2,FALSE)","v":586},{"$f":"HLOOKUP(CG$7+0.5,$J$66:$DK$120,ROWS($A$10:$A60)+2,FALSE)","v":356},{"$f":"HLOOKUP(CH$7+0.5,$J$66:$DK$120,ROWS($A$10:$A60)+2,FALSE)","v":1160},{"$f":"HLOOKUP(CI$7+0.5,$J$66:$DK$120,ROWS($A$10:$A60)+2,FALSE)","v":2405},{"$f":"HLOOKUP(CJ$7+0.5,$J$66:$DK$120,ROWS($A$10:$A60)+2,FALSE)","v":211},{"$f":"HLOOKUP(CK$7+0.5,$J$66:$DK$120,ROWS($A$10:$A60)+2,FALSE)","v":681},{"$f":"HLOOKUP(CL$7+0.5,$J$66:$DK$120,ROWS($A$10:$A60)+2,FALSE)","v":512},{"$f":"HLOOKUP(CM$7+0.5,$J$66:$DK$120,ROWS($A$10:$A60)+2,FALSE)","v":240},{"$f":"HLOOKUP(CN$7+0.5,$J$66:$DK$120,ROWS($A$10:$A60)+2,FALSE)","v":682},{"$f":"HLOOKUP(CO$7+0.5,$J$66:$DK$120,ROWS($A$10:$A60)+2,FALSE)","v":7},{"$f":"HLOOKUP(CP$7+0.5,$J$66:$DK$120,ROWS($A$10:$A60)+2,FALSE)","v":477},{"$f":"HLOOKUP(CQ$7+0.5,$J$66:$DK$120,ROWS($A$10:$A60)+2,FALSE)","v":553},{"$f":"HLOOKUP(CR$7+0.5,$J$66:$DK$120,ROWS($A$10:$A60)+2,FALSE)","v":980},{"$f":"HLOOKUP(CS$7+0.5,$J$66:$DK$120,ROWS($A$10:$A60)+2,FALSE)","v":1454},{"$f":"HLOOKUP(CT$7+0.5,$J$66:$DK$120,ROWS($A$10:$A60)+2,FALSE)","v":318},{"$f":"HLOOKUP(CU$7+0.5,$J$66:$DK$120,ROWS($A$10:$A60)+2,FALSE)","v":1053},{"$f":"HLOOKUP(CV$7+0.5,$J$66:$DK$120,ROWS($A$10:$A60)+2,FALSE)","v":204},{"$f":"HLOOKUP(CW$7+0.5,$J$66:$DK$120,ROWS($A$10:$A60)+2,FALSE)","v":601},{"$f":"HLOOKUP(CX$7+0.5,$J$66:$DK$120,ROWS($A$10:$A60)+2,FALSE)","v":750},{"$f":"HLOOKUP(CY$7+0.5,$J$66:$DK$120,ROWS($A$10:$A60)+2,FALSE)","v":157},{"$f":"HLOOKUP(CZ$7+0.5,$J$66:$DK$120,ROWS($A$10:$A60)+2,FALSE)","v":675},{"$f":"HLOOKUP(DA$7+0.5,$J$66:$DK$120,ROWS($A$10:$A60)+2,FALSE)","v":220},{"$f":"HLOOKUP(DB$7+0.5,$J$66:$DK$120,ROWS($A$10:$A60)+2,FALSE)","v":638},{"$f":"HLOOKUP(DC$7+0.5,$J$66:$DK$120,ROWS($A$10:$A60)+2,FALSE)","v":1112},{"$f":"HLOOKUP(DD$7+0.5,$J$66:$DK$120,ROWS($A$10:$A60)+2,FALSE)","v":1091},{"$f":"HLOOKUP(DE$7+0.5,$J$66:$DK$120,ROWS($A$10:$A60)+2,FALSE)","v":88},{"$f":"HLOOKUP(DF$7+0.5,$J$66:$DK$120,ROWS($A$10:$A60)+2,FALSE)","v":916},{"$f":"HLOOKUP(DG$7+0.5,$J$66:$DK$120,ROWS($A$10:$A60)+2,FALSE)","v":416},{"$f":"HLOOKUP(DH$7+0.5,$J$66:$DK$120,ROWS($A$10:$A60)+2,FALSE)","v":145},{"$f":"HLOOKUP(DI$7+0.5,$J$66:$DK$120,ROWS($A$10:$A60)+2,FALSE)","v":"N/A"},{"$f":"HLOOKUP(DJ$7+0.5,$J$66:$DK$120,ROWS($A$10:$A60)+2,FALSE)","v":46},{"$f":"HLOOKUP(DK$7+0.5,$J$66:$DK$120,ROWS($A$10:$A60)+2,FALSE)","v":943}]
[null,"Wyoming","West",569734,1083,459226,7512,77324,6960,{"$f":"HLOOKUP(J$7,$J$66:$DK$120,ROWS($A$10:$A61)+2,FALSE)","v":31149},{"$f":"HLOOKUP(K$7,$J$66:$DK$120,ROWS($A$10:$A61)+2,FALSE)","v":260},{"$f":"HLOOKUP(L$7,$J$66:$DK$120,ROWS($A$10:$A61)+2,FALSE)","v":590},{"$f":"HLOOKUP(M$7,$J$66:$DK$120,ROWS($A$10:$A61)+2,FALSE)","v":2014},{"$f":"HLOOKUP(N$7,$J$66:$DK$120,ROWS($A$10:$A61)+2,FALSE)","v":244},{"$f":"HLOOKUP(O$7,$J$66:$DK$120,ROWS($A$10:$A61)+2,FALSE)","v":2035},{"$f":"HLOOKUP(P$7,$J$66:$DK$120,ROWS($A$10:$A61)+2,FALSE)","v":5599},{"$f":"HLOOKUP(Q$7,$J$66:$DK$120,ROWS($A$10:$A61)+2,FALSE)","v":0},{"$f":"HLOOKUP(R$7,$J$66:$DK$120,ROWS($A$10:$A61)+2,FALSE)","v":0},{"$f":"HLOOKUP(S$7,$J$66:$DK$120,ROWS($A$10:$A61)+2,FALSE)","v":0},{"$f":"HLOOKUP(T$7,$J$66:$DK$120,ROWS($A$10:$A61)+2,FALSE)","v":733},{"$f":"HLOOKUP(U$7,$J$66:$DK$120,ROWS($A$10:$A61)+2,FALSE)","v":166},{"$f":"HLOOKUP(V$7,$J$66:$DK$120,ROWS($A$10:$A61)+2,FALSE)","v":0},{"$f":"HLOOKUP(W$7,$J$66:$DK$120,ROWS($A$10:$A61)+2,FALSE)","v":745},{"$f":"HLOOKUP(X$7,$J$66:$DK$120,ROWS($A$10:$A61)+2,FALSE)","v":905},{"$f":"HLOOKUP(Y$7,$J$66:$DK$120,ROWS($A$10:$A61)+2,FALSE)","v":179},{"$f":"HLOOKUP(Z$7,$J$66:$DK$120,ROWS($A$10:$A61)+2,FALSE)","v":259},{"$f":"HLOOKUP(AA$7,$J$66:$DK$120,ROWS($A$10:$A61)+2,FALSE)","v":539},{"$f":"HLOOKUP(AB$7,$J$66:$DK$120,ROWS($A$10:$A61)+2,FALSE)","v":4},{"$f":"HLOOKUP(AC$7,$J$66:$DK$120,ROWS($A$10:$A61)+2,FALSE)","v":88},{"$f":"HLOOKUP(AD$7,$J$66:$DK$120,ROWS($A$10:$A61)+2,FALSE)","v":0},{"$f":"HLOOKUP(AE$7,$J$66:$DK$120,ROWS($A$10:$A61)+2,FALSE)","v":294},{"$f":"HLOOKUP(AF$7,$J$66:$DK$120,ROWS($A$10:$A61)+2,FALSE)","v":548},{"$f":"HLOOKUP(AG$7,$J$66:$DK$120,ROWS($A$10:$A61)+2,FALSE)","v":965},{"$f":"HLOOKUP(AH$7,$J$66:$DK$120,ROWS($A$10:$A61)+2,FALSE)","v":290},{"$f":"HLOOKUP(AI$7,$J$66:$DK$120,ROWS($A$10:$A61)+2,FALSE)","v":136},{"$f":"HLOOKUP(AJ$7,$J$66:$DK$120,ROWS($A$10:$A61)+2,FALSE)","v":244},{"$f":"HLOOKUP(AK$7,$J$66:$DK$120,ROWS($A$10:$A61)+2,FALSE)","v":1901},{"$f":"HLOOKUP(AL$7,$J$66:$DK$120,ROWS($A$10:$A61)+2,FALSE)","v":1216},{"$f":"HLOOKUP(AM$7,$J$66:$DK$120,ROWS($A$10:$A61)+2,FALSE)","v":355},{"$f":"HLOOKUP(AN$7,$J$66:$DK$120,ROWS($A$10:$A61)+2,FALSE)","v":0},{"$f":"HLOOKUP(AO$7,$J$66:$DK$120,ROWS($A$10:$A61)+2,FALSE)","v":121},{"$f":"HLOOKUP(AP$7,$J$66:$DK$120,ROWS($A$10:$A61)+2,FALSE)","v":604},{"$f":"HLOOKUP(AQ$7,$J$66:$DK$120,ROWS($A$10:$A61)+2,FALSE)","v":231},{"$f":"HLOOKUP(AR$7,$J$66:$DK$120,ROWS($A$10:$A61)+2,FALSE)","v":459},{"$f":"HLOOKUP(AS$7,$J$66:$DK$120,ROWS($A$10:$A61)+2,FALSE)","v":338},{"$f":"HLOOKUP(AT$7,$J$66:$DK$120,ROWS($A$10:$A61)+2,FALSE)","v":819},{"$f":"HLOOKUP(AU$7,$J$66:$DK$120,ROWS($A$10:$A61)+2,FALSE)","v":964},{"$f":"HLOOKUP(AV$7,$J$66:$DK$120,ROWS($A$10:$A61)+2,FALSE)","v":893},{"$f":"HLOOKUP(AW$7,$J$66:$DK$120,ROWS($A$10:$A61)+2,FALSE)","v":230},{"$f":"HLOOKUP(AX$7,$J$66:$DK$120,ROWS($A$10:$A61)+2,FALSE)","v":0},{"$f":"HLOOKUP(AY$7,$J$66:$DK$120,ROWS($A$10:$A61)+2,FALSE)","v":122},{"$f":"HLOOKUP(AZ$7,$J$66:$DK$120,ROWS($A$10:$A61)+2,FALSE)","v":1175},{"$f":"HLOOKUP(BA$7,$J$66:$DK$120,ROWS($A$10:$A61)+2,FALSE)","v":4},{"$f":"HLOOKUP(BB$7,$J$66:$DK$120,ROWS($A$10:$A61)+2,FALSE)","v":1427},{"$f":"HLOOKUP(BC$7,$J$66:$DK$120,ROWS($A$10:$A61)+2,FALSE)","v":1710},{"$f":"HLOOKUP(BD$7,$J$66:$DK$120,ROWS($A$10:$A61)+2,FALSE)","v":0},{"$f":"HLOOKUP(BE$7,$J$66:$DK$120,ROWS($A$10:$A61)+2,FALSE)","v":138},{"$f":"HLOOKUP(BF$7,$J$66:$DK$120,ROWS($A$10:$A61)+2,FALSE)","v":1323},{"$f":"HLOOKUP(BG$7,$J$66:$DK$120,ROWS($A$10:$A61)+2,FALSE)","v":0},{"$f":"HLOOKUP(BH$7,$J$66:$DK$120,ROWS($A$10:$A61)+2,FALSE)","v":282},{"$f":"HLOOKUP(BI$7,$J$66:$DK$120,ROWS($A$10:$A61)+2,FALSE)","v":"N/A"},{"$f":"HLOOKUP(BJ$7,$J$66:$DK$120,ROWS($A$10:$A61)+2,FALSE)","v":16},{"$f":"HLOOKUP(BK$7+0.5,$J$66:$DK$120,ROWS($A$10:$A61)+2,FALSE)","v":3430},{"$f":"HLOOKUP(BL$7+0.5,$J$66:$DK$120,ROWS($A$10:$A61)+2,FALSE)","v":284},{"$f":"HLOOKUP(BM$7+0.5,$J$66:$DK$120,ROWS($A$10:$A61)+2,FALSE)","v":661},{"$f":"HLOOKUP(BN$7+0.5,$J$66:$DK$120,ROWS($A$10:$A61)+2,FALSE)","v":1234},{"$f":"HLOOKUP(BO$7+0.5,$J$66:$DK$120,ROWS($A$10:$A61)+2,FALSE)","v":405},{"$f":"HLOOKUP(BP$7+0.5,$J$66:$DK$120,ROWS($A$10:$A61)+2,FALSE)","v":720},{"$f":"HLOOKUP(BQ$7+0.5,$J$66:$DK$120,ROWS($A$10:$A61)+2,FALSE)","v":1618},{"$f":"HLOOKUP(BR$7+0.5,$J$66:$DK$120,ROWS($A$10:$A61)+2,FALSE)","v":185},{"$f":"HLOOKUP(BS$7+0.5,$J$66:$DK$120,ROWS($A$10:$A61)+2,FALSE)","v":185},{"$f":"HLOOKUP(BT$7+0.5,$J$66:$DK$120,ROWS($A$10:$A61)+2,FALSE)","v":185},{"$f":"HLOOKUP(BU$7+0.5,$J$66:$DK$120,ROWS($A$10:$A61)+2,FALSE)","v":572},{"$f":"HLOOKUP(BV$7+0.5,$J$66:$DK$120,ROWS($A$10:$A61)+2,FALSE)","v":173},{"$f":"HLOOKUP(BW$7+0.5,$J$66:$DK$120,ROWS($A$10:$A61)+2,FALSE)","v":185},{"$f":"HLOOKUP(BX$7+0.5,$J$66:$DK$120,ROWS($A$10:$A61)+2,FALSE)","v":481},{"$f":"HLOOKUP(BY$7+0.5,$J$66:$DK$120,ROWS($A$10:$A61)+2,FALSE)","v":823},{"$f":"HLOOKUP(BZ$7+0.5,$J$66:$DK$120,ROWS($A$10:$A61)+2,FALSE)","v":179},{"$f":"HLOOKUP(CA$7+0.5,$J$66:$DK$120,ROWS($A$10:$A61)+2,FALSE)","v":273},{"$f":"HLOOKUP(CB$7+0.5,$J$66:$DK$120,ROWS($A$10:$A61)+2,FALSE)","v":412},{"$f":"HLOOKUP(CC$7+0.5,$J$66:$DK$120,ROWS($A$10:$A61)+2,FALSE)","v":10},{"$f":"HLOOKUP(CD$7+0.5,$J$66:$DK$120,ROWS($A$10:$A61)+2,FALSE)","v":100},{"$f":"HLOOKUP(CE$7+0.5,$J$66:$DK$120,ROWS($A$10:$A61)+2,FALSE)","v":185},{"$f":"HLOOKUP(CF$7+0.5,$J$66:$DK$120,ROWS($A$10:$A61)+2,FALSE)","v":304},{"$f":"HLOOKUP(CG$7+0.5,$J$66:$DK$120,ROWS($A$10:$A61)+2,FALSE)","v":638},{"$f":"HLOOKUP(CH$7+0.5,$J$66:$DK$120,ROWS($A$10:$A61)+2,FALSE)","v":730},{"$f":"HLOOKUP(CI$7+0.5,$J$66:$DK$120,ROWS($A$10:$A61)+2,FALSE)","v":240},{"$f":"HLOOKUP(CJ$7+0.5,$J$66:$DK$120,ROWS($A$10:$A61)+2,FALSE)","v":229},{"$f":"HLOOKUP(CK$7+0.5,$J$66:$DK$120,ROWS($A$10:$A61)+2,FALSE)","v":257},{"$f":"HLOOKUP(CL$7+0.5,$J$66:$DK$120,ROWS($A$10:$A61)+2,FALSE)","v":789},{"$f":"HLOOKUP(CM$7+0.5,$J$66:$DK$120,ROWS($A$10:$A61)+2,FALSE)","v":559},{"$f":"HLOOKUP(CN$7+0.5,$J$66:$DK$120,ROWS($A$10:$A61)+2,FALSE)","v":304},{"$f":"HLOOKUP(CO$7+0.5,$J$66:$DK$120,ROWS($A$10:$A61)+2,FALSE)","v":185},{"$f":"HLOOKUP(CP$7+0.5,$J$66:$DK$120,ROWS($A$10:$A61)+2,FALSE)","v":147},{"$f":"HLOOKUP(CQ$7+0.5,$J$66:$DK$120,ROWS($A$10:$A61)+2,FALSE)","v":658},{"$f":"HLOOKUP(CR$7+0.5,$J$66:$DK$120,ROWS($A$10:$A61)+2,FALSE)","v":252},{"$f":"HLOOKUP(CS$7+0.5,$J$66:$DK$120,ROWS($A$10:$A61)+2,FALSE)","v":399},{"$f":"HLOOKUP(CT$7+0.5,$J$66:$DK$120,ROWS($A$10:$A61)+2,FALSE)","v":300},{"$f":"HLOOKUP(CU$7+0.5,$J$66:$DK$120,ROWS($A$10:$A61)+2,FALSE)","v":447},{"$f":"HLOOKUP(CV$7+0.5,$J$66:$DK$120,ROWS($A$10:$A61)+2,FALSE)","v":670},{"$f":"HLOOKUP(CW$7+0.5,$J$66:$DK$120,ROWS($A$10:$A61)+2,FALSE)","v":605},{"$f":"HLOOKUP(CX$7+0.5,$J$66:$DK$120,ROWS($A$10:$A61)+2,FALSE)","v":254},{"$f":"HLOOKUP(CY$7+0.5,$J$66:$DK$120,ROWS($A$10:$A61)+2,FALSE)","v":185},{"$f":"HLOOKUP(CZ$7+0.5,$J$66:$DK$120,ROWS($A$10:$A61)+2,FALSE)","v":201},{"$f":"HLOOKUP(DA$7+0.5,$J$66:$DK$120,ROWS($A$10:$A61)+2,FALSE)","v":730},{"$f":"HLOOKUP(DB$7+0.5,$J$66:$DK$120,ROWS($A$10:$A61)+2,FALSE)","v":7},{"$f":"HLOOKUP(DC$7+0.5,$J$66:$DK$120,ROWS($A$10:$A61)+2,FALSE)","v":920},{"$f":"HLOOKUP(DD$7+0.5,$J$66:$DK$120,ROWS($A$10:$A61)+2,FALSE)","v":948},{"$f":"HLOOKUP(DE$7+0.5,$J$66:$DK$120,ROWS($A$10:$A61)+2,FALSE)","v":185},{"$f":"HLOOKUP(DF$7+0.5,$J$66:$DK$120,ROWS($A$10:$A61)+2,FALSE)","v":169},{"$f":"HLOOKUP(DG$7+0.5,$J$66:$DK$120,ROWS($A$10:$A61)+2,FALSE)","v":785},{"$f":"HLOOKUP(DH$7+0.5,$J$66:$DK$120,ROWS($A$10:$A61)+2,FALSE)","v":185},{"$f":"HLOOKUP(DI$7+0.5,$J$66:$DK$120,ROWS($A$10:$A61)+2,FALSE)","v":210},{"$f":"HLOOKUP(DJ$7+0.5,$J$66:$DK$120,ROWS($A$10:$A61)+2,FALSE)","v":"N/A"},{"$f":"HLOOKUP(DK$7+0.5,$J$66:$DK$120,ROWS($A$10:$A61)+2,FALSE)","v":27}]
[null,"Puerto Rico",null,3628402,2934,3366593,12125,238042,11523,{"$f":"HLOOKUP(J$7,$J$66:$DK$120,ROWS($A$10:$A62)+2,FALSE)","v":20044},{"$f":"HLOOKUP(K$7,$J$66:$DK$120,ROWS($A$10:$A62)+2,FALSE)","v":8},{"$f":"HLOOKUP(L$7,$J$66:$DK$120,ROWS($A$10:$A62)+2,FALSE)","v":57},{"$f":"HLOOKUP(M$7,$J$66:$DK$120,ROWS($A$10:$A62)+2,FALSE)","v":54},{"$f":"HLOOKUP(N$7,$J$66:$DK$120,ROWS($A$10:$A62)+2,FALSE)","v":93},{"$f":"HLOOKUP(O$7,$J$66:$DK$120,ROWS($A$10:$A62)+2,FALSE)","v":519},{"$f":"HLOOKUP(P$7,$J$66:$DK$120,ROWS($A$10:$A62)+2,FALSE)","v":0},{"$f":"HLOOKUP(Q$7,$J$66:$DK$120,ROWS($A$10:$A62)+2,FALSE)","v":370},{"$f":"HLOOKUP(R$7,$J$66:$DK$120,ROWS($A$10:$A62)+2,FALSE)","v":0},{"$f":"HLOOKUP(S$7,$J$66:$DK$120,ROWS($A$10:$A62)+2,FALSE)","v":0},{"$f":"HLOOKUP(T$7,$J$66:$DK$120,ROWS($A$10:$A62)+2,FALSE)","v":4192},{"$f":"HLOOKUP(U$7,$J$66:$DK$120,ROWS($A$10:$A62)+2,FALSE)","v":232},{"$f":"HLOOKUP(V$7,$J$66:$DK$120,ROWS($A$10:$A62)+2,FALSE)","v":110},{"$f":"HLOOKUP(W$7,$J$66:$DK$120,ROWS($A$10:$A62)+2,FALSE)","v":0},{"$f":"HLOOKUP(X$7,$J$66:$DK$120,ROWS($A$10:$A62)+2,FALSE)","v":1021},{"$f":"HLOOKUP(Y$7,$J$66:$DK$120,ROWS($A$10:$A62)+2,FALSE)","v":121},{"$f":"HLOOKUP(Z$7,$J$66:$DK$120,ROWS($A$10:$A62)+2,FALSE)","v":0},{"$f":"HLOOKUP(AA$7,$J$66:$DK$120,ROWS($A$10:$A62)+2,FALSE)","v":143},{"$f":"HLOOKUP(AB$7,$J$66:$DK$120,ROWS($A$10:$A62)+2,FALSE)","v":37},{"$f":"HLOOKUP(AC$7,$J$66:$DK$120,ROWS($A$10:$A62)+2,FALSE)","v":59},{"$f":"HLOOKUP(AD$7,$J$66:$DK$120,ROWS($A$10:$A62)+2,FALSE)","v":0},{"$f":"HLOOKUP(AE$7,$J$66:$DK$120,ROWS($A$10:$A62)+2,FALSE)","v":108},{"$f":"HLOOKUP(AF$7,$J$66:$DK$120,ROWS($A$10:$A62)+2,FALSE)","v":2258},{"$f":"HLOOKUP(AG$7,$J$66:$DK$120,ROWS($A$10:$A62)+2,FALSE)","v":435},{"$f":"HLOOKUP(AH$7,$J$66:$DK$120,ROWS($A$10:$A62)+2,FALSE)","v":0},{"$f":"HLOOKUP(AI$7,$J$66:$DK$120,ROWS($A$10:$A62)+2,FALSE)","v":0},{"$f":"HLOOKUP(AJ$7,$J$66:$DK$120,ROWS($A$10:$A62)+2,FALSE)","v":0},{"$f":"HLOOKUP(AK$7,$J$66:$DK$120,ROWS($A$10:$A62)+2,FALSE)","v":0},{"$f":"HLOOKUP(AL$7,$J$66:$DK$120,ROWS($A$10:$A62)+2,FALSE)","v":0},{"$f":"HLOOKUP(AM$7,$J$66:$DK$120,ROWS($A$10:$A62)+2,FALSE)","v":0},{"$f":"HLOOKUP(AN$7,$J$66:$DK$120,ROWS($A$10:$A62)+2,FALSE)","v":0},{"$f":"HLOOKUP(AO$7,$J$66:$DK$120,ROWS($A$10:$A62)+2,FALSE)","v":1922},{"$f":"HLOOKUP(AP$7,$J$66:$DK$120,ROWS($A$10:$A62)+2,FALSE)","v":28},{"$f":"HLOOKUP(AQ$7,$J$66:$DK$120,ROWS($A$10:$A62)+2,FALSE)","v":2314},{"$f":"HLOOKUP(AR$7,$J$66:$DK$120,ROWS($A$10:$A62)+2,FALSE)","v":638},{"$f":"HLOOKUP(AS$7,$J$66:$DK$120,ROWS($A$10:$A62)+2,FALSE)","v":0},{"$f":"HLOOKUP(AT$7,$J$66:$DK$120,ROWS($A$10:$A62)+2,FALSE)","v":328},{"$f":"HLOOKUP(AU$7,$J$66:$DK$120,ROWS($A$10:$A62)+2,FALSE)","v":0},{"$f":"HLOOKUP(AV$7,$J$66:$DK$120,ROWS($A$10:$A62)+2,FALSE)","v":0},{"$f":"HLOOKUP(AW$7,$J$66:$DK$120,ROWS($A$10:$A62)+2,FALSE)","v":2313},{"$f":"HLOOKUP(AX$7,$J$66:$DK$120,ROWS($A$10:$A62)+2,FALSE)","v":624},{"$f":"HLOOKUP(AY$7,$J$66:$DK$120,ROWS($A$10:$A62)+2,FALSE)","v":4},{"$f":"HLOOKUP(AZ$7,$J$66:$DK$120,ROWS($A$10:$A62)+2,FALSE)","v":0},{"$f":"HLOOKUP(BA$7,$J$66:$DK$120,ROWS($A$10:$A62)+2,FALSE)","v":15},{"$f":"HLOOKUP(BB$7,$J$66:$DK$120,ROWS($A$10:$A62)+2,FALSE)","v":360},{"$f":"HLOOKUP(BC$7,$J$66:$DK$120,ROWS($A$10:$A62)+2,FALSE)","v":0},{"$f":"HLOOKUP(BD$7,$J$66:$DK$120,ROWS($A$10:$A62)+2,FALSE)","v":0},{"$f":"HLOOKUP(BE$7,$J$66:$DK$120,ROWS($A$10:$A62)+2,FALSE)","v":684},{"$f":"HLOOKUP(BF$7,$J$66:$DK$120,ROWS($A$10:$A62)+2,FALSE)","v":0},{"$f":"HLOOKUP(BG$7,$J$66:$DK$120,ROWS($A$10:$A62)+2,FALSE)","v":8},{"$f":"HLOOKUP(BH$7,$J$66:$DK$120,ROWS($A$10:$A62)+2,FALSE)","v":989},{"$f":"HLOOKUP(BI$7,$J$66:$DK$120,ROWS($A$10:$A62)+2,FALSE)","v":0},{"$f":"HLOOKUP(BJ$7,$J$66:$DK$120,ROWS($A$10:$A62)+2,FALSE)","v":"N/A"},{"$f":"HLOOKUP(BK$7+0.5,$J$66:$DK$120,ROWS($A$10:$A62)+2,FALSE)","v":2902},{"$f":"HLOOKUP(BL$7+0.5,$J$66:$DK$120,ROWS($A$10:$A62)+2,FALSE)","v":15},{"$f":"HLOOKUP(BM$7+0.5,$J$66:$DK$120,ROWS($A$10:$A62)+2,FALSE)","v":94},{"$f":"HLOOKUP(BN$7+0.5,$J$66:$DK$120,ROWS($A$10:$A62)+2,FALSE)","v":90},{"$f":"HLOOKUP(BO$7+0.5,$J$66:$DK$120,ROWS($A$10:$A62)+2,FALSE)","v":158},{"$f":"HLOOKUP(BP$7+0.5,$J$66:$DK$120,ROWS($A$10:$A62)+2,FALSE)","v":484},{"$f":"HLOOKUP(BQ$7+0.5,$J$66:$DK$120,ROWS($A$10:$A62)+2,FALSE)","v":214},{"$f":"HLOOKUP(BR$7+0.5,$J$66:$DK$120,ROWS($A$10:$A62)+2,FALSE)","v":365},{"$f":"HLOOKUP(BS$7+0.5,$J$66:$DK$120,ROWS($A$10:$A62)+2,FALSE)","v":214},{"$f":"HLOOKUP(BT$7+0.5,$J$66:$DK$120,ROWS($A$10:$A62)+2,FALSE)","v":214},{"$f":"HLOOKUP(BU$7+0.5,$J$66:$DK$120,ROWS($A$10:$A62)+2,FALSE)","v":1203},{"$f":"HLOOKUP(BV$7+0.5,$J$66:$DK$120,ROWS($A$10:$A62)+2,FALSE)","v":300},{"$f":"HLOOKUP(BW$7+0.5,$J$66:$DK$120,ROWS($A$10:$A62)+2,FALSE)","v":172},{"$f":"HLOOKUP(BX$7+0.5,$J$66:$DK$120,ROWS($A$10:$A62)+2,FALSE)","v":214},{"$f":"HLOOKUP(BY$7+0.5,$J$66:$DK$120,ROWS($A$10:$A62)+2,FALSE)","v":602},{"$f":"HLOOKUP(BZ$7+0.5,$J$66:$DK$120,ROWS($A$10:$A62)+2,FALSE)","v":153},{"$f":"HLOOKUP(CA$7+0.5,$J$66:$DK$120,ROWS($A$10:$A62)+2,FALSE)","v":214},{"$f":"HLOOKUP(CB$7+0.5,$J$66:$DK$120,ROWS($A$10:$A62)+2,FALSE)","v":240},{"$f":"HLOOKUP(CC$7+0.5,$J$66:$DK$120,ROWS($A$10:$A62)+2,FALSE)","v":72},{"$f":"HLOOKUP(CD$7+0.5,$J$66:$DK$120,ROWS($A$10:$A62)+2,FALSE)","v":101},{"$f":"HLOOKUP(CE$7+0.5,$J$66:$DK$120,ROWS($A$10:$A62)+2,FALSE)","v":214},{"$f":"HLOOKUP(CF$7+0.5,$J$66:$DK$120,ROWS($A$10:$A62)+2,FALSE)","v":177},{"$f":"HLOOKUP(CG$7+0.5,$J$66:$DK$120,ROWS($A$10:$A62)+2,FALSE)","v":1289},{"$f":"HLOOKUP(CH$7+0.5,$J$66:$DK$120,ROWS($A$10:$A62)+2,FALSE)","v":451},{"$f":"HLOOKUP(CI$7+0.5,$J$66:$DK$120,ROWS($A$10:$A62)+2,FALSE)","v":214},{"$f":"HLOOKUP(CJ$7+0.5,$J$66:$DK$120,ROWS($A$10:$A62)+2,FALSE)","v":214},{"$f":"HLOOKUP(CK$7+0.5,$J$66:$DK$120,ROWS($A$10:$A62)+2,FALSE)","v":214},{"$f":"HLOOKUP(CL$7+0.5,$J$66:$DK$120,ROWS($A$10:$A62)+2,FALSE)","v":214},{"$f":"HLOOKUP(CM$7+0.5,$J$66:$DK$120,ROWS($A$10:$A62)+2,FALSE)","v":214},{"$f":"HLOOKUP(CN$7+0.5,$J$66:$DK$120,ROWS($A$10:$A62)+2,FALSE)","v":214},{"$f":"HLOOKUP(CO$7+0.5,$J$66:$DK$120,ROWS($A$10:$A62)+2,FALSE)","v":214},{"$f":"HLOOKUP(CP$7+0.5,$J$66:$DK$120,ROWS($A$10:$A62)+2,FALSE)","v":1129},{"$f":"HLOOKUP(CQ$7+0.5,$J$66:$DK$120,ROWS($A$10:$A62)+2,FALSE)","v":48},{"$f":"HLOOKUP(CR$7+0.5,$J$66:$DK$120,ROWS($A$10:$A62)+2,FALSE)","v":761},{"$f":"HLOOKUP(CS$7+0.5,$J$66:$DK$120,ROWS($A$10:$A62)+2,FALSE)","v":565},{"$f":"HLOOKUP(CT$7+0.5,$J$66:$DK$120,ROWS($A$10:$A62)+2,FALSE)","v":214},{"$f":"HLOOKUP(CU$7+0.5,$J$66:$DK$120,ROWS($A$10:$A62)+2,FALSE)","v":499},{"$f":"HLOOKUP(CV$7+0.5,$J$66:$DK$120,ROWS($A$10:$A62)+2,FALSE)","v":214},{"$f":"HLOOKUP(CW$7+0.5,$J$66:$DK$120,ROWS($A$10:$A62)+2,FALSE)","v":214},{"$f":"HLOOKUP(CX$7+0.5,$J$66:$DK$120,ROWS($A$10:$A62)+2,FALSE)","v":1063},{"$f":"HLOOKUP(CY$7+0.5,$J$66:$DK$120,ROWS($A$10:$A62)+2,FALSE)","v":688},{"$f":"HLOOKUP(CZ$7+0.5,$J$66:$DK$120,ROWS($A$10:$A62)+2,FALSE)","v":7},{"$f":"HLOOKUP(DA$7+0.5,$J$66:$DK$120,ROWS($A$10:$A62)+2,FALSE)","v":214},{"$f":"HLOOKUP(DB$7+0.5,$J$66:$DK$120,ROWS($A$10:$A62)+2,FALSE)","v":31},{"$f":"HLOOKUP(DC$7+0.5,$J$66:$DK$120,ROWS($A$10:$A62)+2,FALSE)","v":291},{"$f":"HLOOKUP(DD$7+0.5,$J$66:$DK$120,ROWS($A$10:$A62)+2,FALSE)","v":214},{"$f":"HLOOKUP(DE$7+0.5,$J$66:$DK$120,ROWS($A$10:$A62)+2,FALSE)","v":214},{"$f":"HLOOKUP(DF$7+0.5,$J$66:$DK$120,ROWS($A$10:$A62)+2,FALSE)","v":777},{"$f":"HLOOKUP(DG$7+0.5,$J$66:$DK$120,ROWS($A$10:$A62)+2,FALSE)","v":214},{"$f":"HLOOKUP(DH$7+0.5,$J$66:$DK$120,ROWS($A$10:$A62)+2,FALSE)","v":15},{"$f":"HLOOKUP(DI$7+0.5,$J$66:$DK$120,ROWS($A$10:$A62)+2,FALSE)","v":654},{"$f":"HLOOKUP(DJ$7+0.5,$J$66:$DK$120,ROWS($A$10:$A62)+2,FALSE)","v":214},{"$f":"HLOOKUP(DK$7+0.5,$J$66:$DK$120,ROWS($A$10:$A62)+2,FALSE)","v":"N/A"}]
[null,null,null,null,null,null,null,null,null,null,{"$f":"SUM(K11:K62)","v":109218},{"$f":"SUM(L11:L62)","v":84125},206896,65060,567505,161530,87393,25149,59513,432517,252494,61619,55191,278974,144718,73325,93277,103041,96015,38574,157772,160414,176168,115946,66947,142754,33832,48816,98882,38696,221124,63949,408178,239301,23959,199530,102572,108182,239469,31122,127422,22534,163858,402547,82165,20056,239224,180462,47433,98713,32228,74500,424547,44869,46645,70153,30020,114058,61077,32722,19799,26130,101611,70075,33710,{"$f":"SUM(BX11:BX62)","v":27524},68874,49255,34629,39793,42484,39059,23937,52477,48315,57535,42175,33887,48885,23160,26232,41975,18245,60050,29355,91027,73041,17393,59193,42935,41095,62231,21330,47237,18171,56969,97370,41440,15814,67105,55363,25830,36989,24895,36592]
[]
[]
[null,null,null,null,null,null,null,null,null,1,1.5,2,2.5,3,3.5,4,4.5,5,5.5,6,6.5,7,7.5,8,8.5,9,9.5,10,10.5,11,11.5,12,12.5,13,13.5,14,14.5,15,15.5,16,16.5,17,17.5,18,18.5,19,19.5,20,20.5,21,21.5,22,22.5,23,23.5,24,24.5,25,25.5,26,26.5,27,27.5,28,28.5,29,29.5,30,30.5,31,31.5,32,32.5,33,33.5,34,34.5,35,35.5,36,36.5,37,37.5,38,38.5,39,39.5,40,40.5,41,41.5,42,42.5,43,43.5,44,44.5,45,45.5,46,46.5,47,47.5,48,48.5,49,49.5,50,50.5,51,51.5,52,52.5,53,53.5]
[null,null,null,null,null,null,null,null,null,"Estimate","MOE","Estimate","MOE","Estimate","MOE","Estimate","MOE","Estimate","MOE","Estimate","MOE","Estimate","MOE","Estimate","MOE","Estimate","MOE","Estimate","MOE","Estimate","MOE","Estimate","MOE","Estimate","MOE","Estimate","MOE","Estimate","MOE","Estimate","MOE","Estimate","MOE","Estimate","MOE","Estimate","MOE","Estimate","MOE","Estimate","MOE","Estimate","MOE","Estimate","MOE","Estimate","MOE","Estimate","MOE","Estimate","MOE","Estimate","MOE","Estimate","MOE","Estimate","MOE","Estimate","MOE","Estimate","MOE","Estimate","MOE","Estimate","MOE","Estimate","MOE","Estimate","MOE","Estimate","MOE","Estimate","MOE","Estimate","MOE","Estimate","MOE","Estimate","MOE","Estimate","MOE","Estimate","MOE","Estimate","MOE","Estimate","MOE","Estimate","MOE","Estimate","MOE","Estimate","MOE","Estimate","MOE","Estimate","MOE","Estimate","MOE","Estimate","MOE","Estimate","MOE","Estimate","MOE"]
[null,null,null,null,null,null,null,null,null,7070345,58599,109210,9027,84068,7600,206842,12859,64967,6563,566986,19755,161530,10348,87023,5968,25149,3775,59513,6154,428325,18406,252262,12868,61509,6100,55191,6257,277953,12722,144597,8929,73325,6129,93134,7286,103004,7490,95956,7745,38574,5351,157664,9686,158156,10755,175733,9302,115946,8402,66947,7206,142754,9402,33832,4879,48816,4967,98882,9332,38696,3364,219202,11087,63921,5867,405864,15692,238663,13414,23959,3373,199202,10288,102572,9213,108182,7867,237156,10246,30498,3414,127418,8502,22534,2998,163843,8717,402187,15471,82165,8304,20056,2967,238540,11611,180462,9674,47425,5262,97724,5859,32228,5150,74500,8156]
[null,null,null,null,null,null,null,null,null,104600,8482,"N/A","N/A",1004,829,962,583,660,382,3077,1037,1386,1393,284,256,42,68,162,195,11244,2476,19920,3636,627,477,493,456,2722,1030,1347,536,345,337,865,760,2495,981,3104,1216,67,82,1513,847,334,272,2298,881,752,716,4952,1703,1555,836,101,132,151,167,1009,824,161,166,1702,1200,459,576,2709,1188,5133,1788,228,194,1411,576,194,157,200,169,1837,736,0,184,2811,1951,518,758,10539,2731,7468,2136,579,713,0,184,3170,1577,1034,684,128,156,760,605,88,107,619,551]
[null,null,null,null,null,null,null,null,null,33415,4385,1097,825,"N/A","N/A",1520,1441,196,202,3494,1643,556,279,0,143,0,143,356,459,1991,942,928,894,1376,805,538,387,58,118,260,235,13,24,221,272,161,196,120,145,66,62,508,591,297,289,563,426,192,191,56,76,819,628,371,334,1195,1128,803,382,118,206,116,156,263,219,736,576,920,784,264,359,1316,757,335,252,3174,1510,255,240,0,143,384,394,99,123,451,413,1488,760,330,347,79,108,1265,674,3725,1488,0,143,206,261,136,217,25,43]
[null,null,null,null,null,null,null,null,null,232457,14183,1331,1286,3717,1505,"N/A","N/A",1214,659,44889,5435,13790,6133,417,309,246,215,36,60,5553,2160,2263,961,2491,1285,2934,1362,10744,2614,2930,1447,2702,1000,2498,852,1328,997,724,442,616,593,3007,1288,1961,1083,9598,3471,8570,3050,293,215,2595,1099,1118,536,2293,1037,6712,2202,510,443,2564,1085,6946,1907,7402,2615,2721,939,877,444,7906,2239,1626,838,8587,3200,4280,1395,614,687,1070,573,1472,776,5075,1919,14788,3541,5916,1789,207,291,2763,1031,13247,2448,765,734,3765,1168,2786,1401,1791,1662]
[null,null,null,null,null,null,null,null,null,76948,7223,374,293,855,906,1677,954,"N/A","N/A",3525,1202,603,369,185,264,0,184,205,232,2682,1052,1525,1006,0,184,0,184,3576,1286,1172,587,409,330,1033,539,1310,884,3953,1340,17,39,169,209,254,262,1283,607,295,285,3689,2537,9105,2916,258,293,166,201,121,161,0,184,157,171,547,482,2262,1559,3057,2173,0,184,1135,626,9938,2371,193,179,516,475,59,103,52,71,673,588,4195,1127,11767,2841,269,216,0,184,1159,824,251,226,84,148,695,467,1498,2098,0,184]
[null,null,null,null,null,null,null,null,null,493641,19652,2509,983,6995,1948,38916,5726,3472,1354,"N/A","N/A",15150,2598,6764,2194,474,413,3199,1061,21004,3394,10790,2458,11906,2720,5331,1519,21251,3521,5891,1629,2284,987,2790,984,3763,1292,5180,1525,1256,951,7902,2347,14356,2682,8921,2069,8539,1942,2556,993,6729,1595,3060,1275,3302,2007,27968,3857,1327,615,12057,2447,5921,2240,31261,5136,11195,2366,1827,1272,10653,2869,6671,1795,22724,3271,10466,2392,1648,697,4110,1492,826,674,5802,1880,43005,5519,12172,2457,544,345,15625,3457,34569,4540,1413,1135,5681,1716,1886,1117,2323,1076]
[null,null,null,null,null,null,null,null,null,205060,11855,3108,1610,3457,1695,10589,2218,1043,580,22152,4260,"N/A","N/A",1317,677,70,133,488,387,8615,1907,5834,2086,2536,1020,2660,1468,6374,1617,4336,2128,2776,1486,5283,1843,2500,2135,5048,2468,20,40,2844,1196,5939,2238,3343,1293,2992,909,835,522,3771,1262,2021,923,4472,1729,3789,1433,679,308,2464,1179,6520,1851,7250,2604,4378,1678,1918,1071,4533,2214,4582,2102,2419,836,3950,1530,137,153,2383,1479,756,553,2535,1135,17355,3352,6398,2035,503,371,3796,1568,4853,1401,837,429,3000,1006,5602,2808,1144,903]
[null,null,null,null,null,null,null,null,null,80311,6574,46,103,439,511,3167,3028,200,228,3161,1015,367,341,"N/A","N/A",22,36,288,230,6578,1844,1702,971,408,476,97,155,912,583,53,90,0,193,0,193,124,159,909,733,1224,696,1752,748,8743,1587,753,539,605,564,276,293,358,330,50,91,45,74,172,166,1009,551,5665,1490,444,450,23310,3774,3379,1609,0,193,287,254,415,411,35,58,2214,1037,1558,689,940,665,0,193,260,216,3279,1568,45,69,709,556,1729,707,1593,1274,174,293,711,684,104,120,3228,1540]
[null,null,null,null,null,null,null,null,null,34757,4691,119,164,692,920,188,227,0,182,2221,2189,0,182,1489,679,"N/A","N/A",11,21,715,481,179,224,0,182,32,51,567,468,62,80,30,49,113,190,0,182,178,266,0,182,5649,1598,157,131,227,233,351,390,58,110,80,138,0,182,91,116,572,474,99,127,5846,2122,85,136,3566,1751,1349,809,0,182,191,201,0,182,0,182,6828,1815,135,185,298,235,0,182,344,440,133,158,166,279,0,182,1746,910,29,49,161,205,0,182,0,182,56,90]
[null,null,null,null,null,null,null,null,null,53830,5001,79,138,1247,715,902,646,35,59,4999,2108,677,546,618,439,78,127,"N/A","N/A",1705,661,1079,470,38,87,46,75,795,446,469,379,133,221,164,267,112,136,283,295,194,244,14120,2487,1524,717,944,670,393,240,44,74,337,354,0,197,172,182,42,69,197,183,1451,792,116,139,3085,851,985,503,0,197,651,429,0,197,157,182,1494,608,635,596,150,140,0,197,577,478,1473,826,116,145,267,250,9537,1762,481,358,293,219,721,420,215,303,0,197]
[null,null,null,null,null,null,null,null,null,537148,19784,18599,4762,10704,4327,6473,1865,3321,1136,20386,4221,8766,2537,8975,1882,1099,608,780,481,"N/A","N/A",42754,6205,3177,2730,1268,923,22565,3828,13803,2852,3864,1332,5661,3133,6912,1607,5550,2266,7348,3032,10442,2378,15159,2747,23400,3519,5460,2185,5490,3345,10666,3498,1758,2104,945,713,1241,515,2362,922,27606,4242,2853,1004,53009,5886,23133,3843,239,203,22927,4305,3142,1301,2919,1736,25659,4174,3050,1458,11366,2719,1070,762,16275,3583,28564,4750,2499,1348,2747,1190,25697,3965,4943,1710,3533,1587,6216,1993,773,567,21638,4641]
[null,null,null,null,null,null,null,null,null,277466,14075,13864,2903,2654,1444,6657,2675,1041,519,14174,3182,4710,2093,1829,824,226,246,1352,994,42870,5472,"N/A","N/A",1409,831,936,797,7143,1833,5972,2678,1687,1036,1497,707,6172,1972,4100,1490,222,178,3619,1621,4153,1720,9949,3100,2237,2164,3280,1372,3377,1479,251,224,1283,1001,3783,2622,15,27,4920,1544,915,512,13957,3960,16009,2963,207,250,7501,2501,3299,1818,453,472,9076,2622,440,620,18611,3871,257,291,17606,4620,16198,3367,20,35,84,142,10702,2094,1965,826,1237,625,3441,1725,106,154,1730,1190]
[null,null,null,null,null,null,null,null,null,55145,5749,608,479,1417,869,1865,695,24,54,9756,1508,1216,574,191,222,278,253,230,253,2780,1227,1448,639,"N/A","N/A",404,431,318,194,292,261,84,98,1135,709,485,630,207,183,91,147,2491,1610,1266,962,321,189,192,240,44,52,944,630,131,172,75,125,760,424,85,119,410,435,284,243,2382,1279,2241,1274,0,177,884,995,1095,933,1763,764,1087,770,106,176,644,460,459,726,1314,675,3300,1887,2183,1283,0,177,1393,755,5920,1901,197,330,295,234,50,66,336,436]
[null,null,null,null,null,null,null,null,null,59283,6040,575,838,1198,790,2424,1307,291,268,10280,2708,1186,614,44,81,120,199,116,124,2014,1608,583,848,206,194,"N/A","N/A",532,469,283,282,90,170,63,69,83,128,54,92,0,187,107,161,338,391,683,777,637,528,87,170,214,259,3800,2162,35,60,2535,1031,0,187,214,206,675,554,938,554,817,843,0,187,1018,753,93,108,4963,1377,169,181,0,187,205,238,118,192,1957,1539,1352,714,6617,3016,0,187,269,388,10398,1919,0,187,225,272,677,406,136,228]
[null,null,null,null,null,null,null,null,null,208755,10844,883,478,2250,1511,7139,2314,1587,643,14940,2770,3036,1235,955,634,234,228,1066,615,12687,2735,8745,3894,869,593,1384,868,"N/A","N/A",16907,2654,8529,1959,2009,988,2923,1049,1229,561,526,347,1865,755,3296,1088,12583,3412,6537,1781,2744,1178,13264,3449,228,183,1302,637,1478,817,283,255,2366,1097,1359,1078,7561,2307,3761,1150,196,184,6872,1834,1491,860,954,517,4588,1506,462,478,1583,875,394,444,4648,1468,16780,3035,1154,495,156,133,4311,1212,2704,971,1221,1224,14414,2249,302,309,2049,1480]
[null,null,null,null,null,null,null,null,null,134137,9664,1625,788,479,429,2763,1095,564,753,6033,1477,1225,531,823,595,639,831,1045,733,11472,2864,2258,1176,856,998,186,176,28436,4261,"N/A","N/A",1678,860,1624,785,11177,2929,736,416,0,184,1050,648,837,590,11017,2594,1543,732,1948,1655,4526,1802,134,191,591,541,1011,549,0,184,1537,1034,219,245,2316,724,2665,884,113,164,11235,2192,1198,725,387,239,2419,1101,0,184,1414,901,111,147,3547,1422,4490,1562,105,124,0,184,1932,1101,258,221,507,345,1727,769,1681,2023,136,194]
[null,null,null,null,null,null,null,null,null,75760,5982,503,400,951,814,1590,803,451,237,3268,1296,3252,1250,112,135,0,151,151,155,4335,2060,596,481,521,476,290,218,11969,2313,1716,1097,"N/A","N/A",918,500,819,609,763,568,78,125,419,287,585,520,946,497,7505,1826,751,621,4168,1021,452,305,7698,1806,681,602,56,93,1018,767,114,188,1230,819,734,428,833,617,1127,692,1465,974,348,302,451,353,0,151,943,556,1158,441,1148,871,3553,1275,886,880,0,151,268,200,919,485,22,41,3607,849,392,316,786,1190]
[null,null,null,null,null,null,null,null,null,88284,7145,853,609,333,407,3094,1630,2158,890,5411,2012,3746,1360,210,208,0,165,456,737,3118,1380,1896,1395,149,156,456,356,1702,582,1679,839,1527,860,"N/A","N/A",617,476,438,408,211,225,282,282,187,203,1125,682,682,367,452,501,21022,3073,300,326,4126,1245,851,606,0,165,267,228,1029,627,571,367,813,476,261,263,1310,638,8408,2299,848,557,918,672,18,31,556,375,154,195,1542,825,8468,2434,97,106,70,138,1705,853,3265,1675,139,132,486,530,278,239,82,147]
[null,null,null,null,null,null,null,null,null,112787,7854,4137,1628,304,370,1103,715,518,299,3415,1157,712,572,246,290,706,774,254,262,9232,2697,4173,1184,647,665,50,91,4445,1359,12203,2150,238,257,602,464,"N/A","N/A",666,294,46,80,1120,615,419,285,7302,1809,605,346,646,467,2381,1021,0,181,723,588,301,294,84,103,496,551,554,348,5239,1774,3643,1903,122,192,17041,3384,577,437,298,212,2226,964,0,181,1347,671,0,181,10064,2378,3345,1420,464,360,45,81,3319,1111,1988,998,3346,1472,1395,845,0,181,170,197]
[null,null,null,null,null,null,null,null,null,91215,6941,2329,1114,403,467,2021,1191,3645,2324,5139,1438,1433,1002,164,149,0,193,596,517,6534,2276,4478,1559,378,283,265,242,1229,466,1359,954,544,447,420,392,1649,1224,"N/A","N/A",251,334,642,701,549,354,1080,782,330,324,6791,1938,1591,684,428,524,745,538,931,682,11,21,975,575,150,188,2786,1105,2284,1152,64,113,1115,773,2159,1365,195,232,1239,616,737,695,1914,1377,0,193,2348,1546,24488,4076,277,288,45,72,1857,1033,1581,631,238,271,682,474,146,216,655,507]
[null,null,null,null,null,null,null,null,null,27523,3132,129,172,38,48,230,170,0,155,1610,860,314,287,1468,620,234,299,32,55,2926,1292,511,538,0,155,143,128,195,277,0,155,7,16,277,401,482,521,15,30,"N/A","N/A",325,263,3887,1167,116,123,430,359,79,134,69,112,0,155,82,136,35,56,3655,1077,405,281,272,320,2519,1180,1112,574,0,155,628,368,79,115,215,255,976,600,1024,656,173,143,0,155,985,1062,496,381,200,183,349,340,573,408,118,137,51,85,0,155,59,81,38,69]
[null,null,null,null,null,null,null,null,null,154983,8958,1261,713,1947,1123,760,359,136,159,8614,2155,1071,609,881,516,4100,1303,21213,3437,9610,2515,4610,2430,610,474,429,444,3621,1647,1210,709,569,389,1726,1123,715,602,606,441,332,261,"N/A","N/A",3977,1805,2167,973,1422,707,581,706,256,199,0,190,132,152,330,258,1124,820,6260,2244,638,453,11736,2585,7507,2284,116,94,2522,1035,463,447,378,426,15485,2922,82,95,2297,1139,0,190,1800,986,5612,1271,1061,831,589,598,20579,2668,1431,884,1957,799,460,371,0,190,294,249]
[null,null,null,null,null,null,null,null,null,142577,7863,636,622,890,600,1972,979,394,340,12770,2994,980,438,10525,2062,506,505,379,219,12890,2568,2789,1129,1108,564,188,164,2886,1041,677,497,151,251,565,429,52,87,1556,742,3907,1349,2381,895,"N/A","N/A",1337,680,966,367,155,186,453,218,49,81,182,189,787,544,13331,2144,8046,1874,521,364,19467,2432,2514,1003,81,133,1829,772,297,206,1528,1359,8236,1924,6863,1317,2477,1120,194,326,823,342,3694,1078,1027,666,2534,913,4098,1470,1653,696,385,569,584,445,264,404,4056,1883]
[null,null,null,null,null,null,null,null,null,133981,8566,2341,1013,1152,685,7168,3100,906,559,8085,1721,2363,967,798,506,114,164,274,282,13146,3306,4270,1652,291,238,242,371,10047,1702,10976,2324,993,495,805,608,3409,1388,1284,662,261,218,2201,1094,1720,764,"N/A","N/A",1127,512,922,671,2206,695,218,171,113,137,1354,715,446,342,1617,721,1318,685,5731,1680,3912,1056,265,202,11318,2251,705,307,811,440,2739,686,68,114,1822,797,66,77,3259,997,8638,2574,819,534,60,120,3057,855,2146,839,353,279,4768,1111,1277,862,782,797]
[null,null,null,null,null,null,null,null,null,101042,6534,1299,919,523,312,3065,861,375,222,8086,2263,3565,1095,696,360,0,139,310,353,2372,752,2235,1482,1277,1179,575,531,5896,1405,2026,1057,7220,1774,924,513,57,103,791,858,187,136,1841,2080,814,434,2212,822,"N/A","N/A",202,323,1709,750,1257,900,992,477,932,542,0,139,1038,546,322,224,1849,732,1745,956,6672,1485,2635,1248,1212,894,781,513,1106,570,299,226,1705,1448,3442,990,1738,1141,4001,1244,429,312,77,126,1037,434,1685,678,0,139,17618,2358,213,213,134,136]
[null,null,null,null,null,null,null,null,null,73500,7080,5141,1870,0,198,710,509,2680,1447,4371,1070,799,426,106,147,0,198,97,164,4676,1396,2669,865,184,191,586,597,2703,933,1200,621,160,275,400,339,446,276,8588,2293,163,167,379,262,67,113,1768,1071,568,385,"N/A","N/A",2634,1581,166,168,138,159,526,342,60,117,2127,1495,86,102,1492,660,1709,609,98,118,896,703,562,352,465,768,613,434,185,229,596,469,79,129,11643,2856,7230,2491,454,724,0,198,1929,1285,433,309,0,198,611,521,307,287,81,108]
[null,null,null,null,null,null,null,null,null,162930,8034,1333,768,2186,1289,2297,741,9434,2224,10717,2409,3798,1371,410,331,234,314,144,172,8374,1990,3451,1391,2114,1271,596,478,22001,2893,4184,1267,5956,1324,20218,3673,2291,1067,1178,651,996,1247,1246,717,810,486,2964,1169,2798,1265,1110,532,"N/A","N/A",511,506,1999,833,836,366,35,58,960,536,451,309,2834,918,3988,1420,636,462,3557,1317,5298,2199,1186,899,1535,639,361,582,2856,1625,527,542,3122,1350,9278,2841,3287,1733,318,413,2609,1081,2312,1093,148,181,2636,999,810,452,826,958]
[null,null,null,null,null,null,null,null,null,37690,4305,31,55,726,442,1548,938,63,102,5428,2229,2135,896,0,157,0,157,0,157,1875,1029,292,270,556,572,3385,1349,542,371,163,164,415,384,224,268,367,352,0,157,225,269,33,65,97,109,822,760,481,297,32,58,447,385,"N/A","N/A",108,149,968,499,115,177,156,198,259,178,482,371,1082,808,977,604,402,332,1018,948,2950,1687,457,362,0,157,230,304,191,142,45,40,1393,612,260,261,87,135,156,153,4783,1555,0,157,750,425,934,387,0,157]
[null,null,null,null,null,null,null,null,null,43266,4512,245,275,626,531,2406,1120,363,317,3438,1425,2023,791,0,149,0,149,0,149,1368,978,786,482,165,149,315,374,1193,546,290,214,6815,2803,3103,822,131,133,411,371,68,90,129,126,195,112,258,197,1489,1049,176,132,2223,836,108,156,"N/A","N/A",233,178,0,149,524,363,158,187,318,246,874,414,497,492,563,373,587,408,106,113,702,528,0,149,456,381,2507,677,232,184,3130,1218,229,230,79,131,1076,758,1327,673,111,152,316,218,917,371,0,149]
[null,null,null,null,null,null,null,null,null,124285,9956,761,724,2161,1047,8748,2540,353,404,49978,7637,6402,2736,143,181,373,521,468,759,3381,1488,745,477,2053,949,1503,743,2822,1412,362,341,714,592,1202,1085,952,651,421,296,209,286,934,689,318,267,1235,574,1157,718,783,658,694,516,1086,605,714,551,"N/A","N/A",175,230,912,600,1138,665,3521,1460,767,589,702,661,1407,791,1520,1384,3101,1186,1601,1078,336,548,480,403,0,200,1699,822,5484,1772,4605,1899,121,222,1135,832,2997,1103,100,161,1046,666,766,706,237,356]
[null,null,null,null,null,null,null,null,null,50484,5282,0,181,437,378,440,413,0,181,1514,935,572,637,1345,478,0,181,101,131,2746,1312,470,324,43,78,20,38,673,608,297,365,53,89,102,161,284,250,7,13,6118,1749,33,57,18990,3350,426,441,0,181,0,181,289,262,0,181,110,136,0,181,"N/A","N/A",591,330,223,279,2905,1027,1609,1456,0,181,324,240,186,266,208,299,890,561,1248,819,323,257,0,181,77,133,2150,1715,557,762,2960,1339,660,433,113,119,80,131,239,277,71,120,75,123]
[null,null,null,null,null,null,null,null,null,130223,7649,779,509,359,437,1328,704,57,70,4330,1070,380,264,3466,1711,1921,1383,840,637,10649,2430,3002,1032,22,41,113,134,2052,874,1039,559,357,405,426,405,631,614,339,343,430,388,3474,1241,4907,1730,324,191,570,429,106,165,384,363,67,112,35,58,908,526,126,219,"N/A","N/A",45,75,40495,4293,3236,1238,55,93,1452,596,1540,1537,760,587,23597,2976,429,410,2372,1386,581,644,1400,612,2509,1335,425,341,35,57,5024,1899,1847,1244,297,201,680,457,23,30,2574,1462]
[null,null,null,null,null,null,null,null,null,54693,5877,787,509,320,264,6391,1673,410,286,4536,1440,4780,1546,280,250,100,136,25,51,4707,2184,192,184,168,127,355,352,790,530,660,524,384,331,672,537,159,160,790,883,57,80,505,355,303,298,602,490,284,428,451,630,1216,793,139,162,194,220,604,853,268,259,252,271,"N/A","N/A",1111,618,335,373,41,82,1178,1049,1076,568,932,481,822,666,0,185,325,260,509,547,338,274,11955,2917,1382,889,81,103,1560,1330,1251,575,0,185,321,514,95,100,429,466]
[null,null,null,null,null,null,null,null,null,270053,11861,1364,864,4002,2016,4146,2468,247,203,24623,2557,3596,976,14595,2921,477,284,3936,1392,27392,3450,7592,1925,1598,734,607,472,8017,2204,3040,1128,955,658,1437,906,1753,808,1083,465,1345,536,7321,1575,15073,2292,5191,1445,1059,631,773,800,3310,1260,421,424,78,108,600,382,2760,1059,42574,4802,646,445,"N/A","N/A",10544,2568,77,129,4625,1103,1327,652,1055,716,22895,3206,3222,1538,5952,1542,0,185,1279,624,11231,2384,622,489,2764,1025,7939,2109,2614,840,921,689,979,507,396,370,7321,1791]
[null,null,null,null,null,null,null,null,null,273149,13136,4329,1544,1458,925,3493,1189,861,649,13883,2813,4790,2047,4914,1990,2180,1732,1801,687,26365,3750,16823,2851,1566,921,334,256,6378,2177,4532,2259,775,524,1595,748,1531,794,919,758,1259,972,9005,2221,3710,1158,6161,2547,1523,838,2377,1092,2623,1742,244,306,628,628,1627,807,754,525,11468,4262,1138,705,19891,3951,"N/A","N/A",206,232,9337,2484,1263,753,1333,772,12179,2356,290,198,25532,4732,351,186,9230,2122,12638,2381,1189,1040,445,291,26759,4229,5915,2630,2677,985,2266,980,604,687,2025,1218]
[null,null,null,null,null,null,null,null,null,38213,3616,83,142,70,105,1571,788,0,141,999,460,546,293,65,100,0,141,70,112,950,860,98,154,160,148,540,521,799,523,55,77,458,316,161,122,22,44,18,27,98,176,232,311,187,281,757,571,15257,2266,72,109,1490,1346,1776,709,950,764,854,572,0,141,140,231,161,228,331,331,231,243,"N/A","N/A",6,14,280,260,724,529,114,157,244,255,14,28,1754,822,746,694,1414,756,43,60,758,1014,403,309,1604,796,0,141,543,327,365,269,0,141]
[null,null,null,null,null,null,null,null,null,196391,9611,3705,2297,2207,1757,4929,1912,884,604,8995,1803,3180,1230,1355,887,1079,696,985,722,16366,2560,8052,2973,1198,591,412,295,9510,2157,13534,2157,1039,765,1166,617,13227,2976,2214,1011,1189,889,5026,2570,2189,808,16336,2656,1122,597,1017,865,3026,1068,276,292,1052,656,907,525,189,156,4703,2119,1361,817,8732,1741,5498,1525,453,346,"N/A","N/A",858,417,432,307,14147,2612,435,384,2445,1029,47,76,3542,1429,11760,2739,197,211,364,350,3193,1055,2862,2150,7820,2219,974,725,202,210,1403,910]
[null,null,null,null,null,null,null,null,null,108972,6570,1030,467,1279,600,2974,1435,5777,1187,8950,2184,4717,1556,0,149,380,288,151,148,5011,1525,2581,935,189,295,905,600,1100,487,1490,936,1088,689,7065,1535,1354,898,2562,1354,167,260,750,685,1233,906,1347,671,906,469,1850,752,5210,1349,798,710,300,208,1101,799,549,383,1523,748,1244,712,1981,936,1961,912,308,340,1148,533,"N/A","N/A",1261,771,494,285,0,149,569,346,108,154,2471,1035,25508,2960,2588,1465,197,316,1749,829,1574,575,368,298,1061,758,45,68,0,149]
[null,null,null,null,null,null,null,null,null,118925,7769,373,425,2513,953,7954,2060,165,158,31862,3767,4472,2133,381,457,0,193,696,919,1660,620,1032,523,2501,813,5093,1880,1676,1192,1380,1000,834,781,556,534,202,261,227,229,446,353,457,422,760,604,570,338,1792,799,186,237,403,269,2192,968,570,448,5935,2774,39,65,385,327,920,676,2379,1032,1482,1046,42,85,1411,789,725,546,"N/A","N/A",904,535,177,214,461,364,119,143,802,583,3347,1277,4793,2328,367,435,676,510,21224,3153,593,502,426,284,765,664,152,177]
[null,null,null,null,null,null,null,null,null,215500,8872,1926,1318,1658,857,3529,1256,573,315,7772,1558,2574,1488,3311,905,4814,1468,2921,830,14631,2565,4337,1703,245,180,359,350,3749,1137,1599,680,125,177,967,860,1233,604,694,431,988,675,17529,3084,5900,1368,2642,1235,1169,588,55,49,1171,575,135,169,214,187,1600,999,1138,609,33791,4576,1001,740,32898,4482,6380,1734,166,195,14319,2479,378,253,234,220,"N/A","N/A",771,472,3023,869,159,206,1273,533,6768,1688,1276,804,1012,873,11960,2213,1787,1202,6762,2075,1550,722,434,439,7847,2646]
[null,null,null,null,null,null,null,null,null,33446,3551,20,44,0,200,93,151,0,200,2146,811,332,315,4170,1101,0,200,313,381,2752,1143,168,211,120,145,0,200,385,382,0,200,0,200,27,47,286,405,24,45,279,249,482,325,11253,1937,230,169,131,131,0,200,210,158,0,200,188,250,25,48,611,385,1219,641,36,58,3603,1335,478,508,0,200,63,80,0,200,139,235,735,552,"N/A","N/A",481,609,0,200,120,199,823,433,0,200,53,76,1008,569,287,320,0,200,135,124,21,32,116,186]
[null,null,null,null,null,null,null,null,null,156705,9611,1665,635,1244,1016,2222,1160,839,526,5979,1473,1915,1059,1590,729,697,492,435,352,11552,2367,18570,3616,638,493,198,321,2125,1128,3802,1911,643,437,1064,855,1924,991,2709,2265,2077,942,3565,1205,2313,826,2966,1289,757,582,1407,802,1884,724,93,127,158,165,1025,834,917,696,6517,2181,1052,1085,10746,3642,24764,3907,656,650,4388,1326,555,354,255,202,6497,2067,538,332,"N/A","N/A",816,1252,3550,1136,5351,1482,566,425,298,244,9377,3040,1629,1165,1345,720,832,570,0,197,1070,890]
[null,null,null,null,null,null,null,null,null,26051,2891,0,147,855,1127,435,333,227,354,1494,663,1744,839,2,4,0,147,0,147,970,638,122,130,8,13,78,104,74,102,210,289,2441,932,403,295,0,147,0,147,0,147,60,65,61,101,892,747,3568,1023,34,48,474,274,248,208,2175,801,135,171,0,147,0,147,175,187,371,317,240,220,1725,823,64,77,21,36,667,583,515,633,0,147,158,159,"N/A","N/A",507,346,1715,1067,388,372,5,9,340,300,1026,681,131,216,314,413,979,735,134,235]
[null,null,null,null,null,null,null,null,null,177098,10625,12116,3309,1281,847,2250,907,3306,1731,8396,2447,2473,1156,936,900,176,222,180,203,15641,3639,16012,3114,1058,1052,787,817,7094,1891,5591,2209,617,556,2630,1972,13202,2695,2452,1206,1040,589,1743,867,1525,706,4507,1434,1178,896,10568,2321,2694,1254,308,278,432,389,735,443,271,287,783,507,751,640,6279,2008,5904,1834,7,16,6200,1742,2495,1410,1080,589,3329,999,26,55,4300,1280,0,193,"N/A","N/A",8716,2938,784,1131,133,133,8008,2159,1876,852,3248,1760,1622,727,358,382,717,499]
[null,null,null,null,null,null,null,null,null,507752,20202,9993,3132,6759,2614,18908,3870,13781,3771,62702,8792,16616,3638,2769,1124,181,168,1189,610,31259,6252,20362,3365,5040,2386,2387,1190,19672,3645,8264,2734,4934,2063,12699,3202,6040,2224,29348,5712,1293,1284,4969,2026,4813,1584,9501,2273,2803,948,6402,2032,12319,2205,1813,986,4794,2045,8266,4162,761,749,6797,2141,16762,3127,20274,4211,22660,6953,989,542,8728,1739,26284,4418,3827,1684,10449,2158,1763,1605,4470,1665,1264,757,10368,2623,"N/A","N/A",4610,2045,113,135,17734,4904,11630,2741,1729,938,4192,1322,2472,1676,4435,1611]
[null,null,null,null,null,null,null,null,null,87870,7490,126,171,2819,1292,7966,2419,361,402,15286,2837,5350,1845,142,168,0,181,0,181,2428,1105,1142,622,1436,876,5129,1135,1588,802,475,296,2791,2779,398,333,217,221,345,313,380,339,613,361,1503,1343,1670,1210,385,300,284,229,1553,769,1057,729,489,384,5391,1743,507,442,437,322,686,505,2129,924,842,611,175,218,1875,881,1338,691,4089,2693,944,450,351,571,60,100,47,74,863,529,3605,1278,"N/A","N/A",39,63,1369,668,3529,1319,0,181,1445,1512,2216,715,239,190]
[null,null,null,null,null,null,null,null,null,24431,2713,16,23,93,153,127,165,0,143,1112,537,382,296,1626,540,0,143,116,134,966,519,56,81,6,10,0,143,230,221,68,81,30,43,0,143,1243,1690,73,105,883,546,862,396,3318,657,284,246,315,349,0,143,23,26,147,189,0,143,17,37,2893,812,833,364,74,89,4780,921,328,248,0,143,214,247,11,13,26,38,935,525,341,220,124,208,39,66,193,185,493,334,81,96,"N/A","N/A",728,427,98,109,0,143,151,115,96,102,0,143]
[null,null,null,null,null,null,null,null,null,250653,11997,2515,990,1906,1287,2420,1030,445,319,14780,2760,5352,1834,2725,1001,2279,1465,10964,4084,19574,3694,9535,1889,3823,1460,652,411,7089,3237,2663,1228,221,209,1144,669,3908,1422,1638,936,1144,689,23925,4264,3767,1503,2982,1136,2294,1414,1344,730,1914,837,658,433,357,313,973,522,535,398,9073,2029,947,637,15893,3260,25575,4182,852,1019,5622,1519,2810,1873,1541,1069,14190,2998,1605,731,7936,2435,35,57,6189,1858,12944,2828,2092,994,423,437,"N/A","N/A",4160,1420,3839,1234,1258,880,143,166,516,466]
[null,null,null,null,null,null,null,null,null,215494,12552,1507,730,4328,1682,8362,2641,1413,1121,45597,5884,5195,2150,2901,1138,100,164,773,528,9370,2417,6363,2288,5239,2393,10604,2191,4298,1727,1089,521,1159,845,2544,1029,1368,911,1646,915,532,655,1191,923,2911,1011,3470,1605,2703,1971,615,444,2802,1017,2919,1013,682,456,5671,2919,309,248,2300,1441,872,527,5562,1947,4088,1854,217,200,3192,1400,1223,768,25525,4052,3397,1799,97,162,2727,1542,94,155,3206,1819,14196,3417,5298,1995,223,216,3839,1320,"N/A","N/A",215,271,1168,638,394,495,1025,878]
[null,null,null,null,null,null,null,null,null,47125,4317,477,339,306,455,79,129,0,182,1231,516,104,114,143,177,674,525,294,194,1919,666,1108,483,166,277,181,250,220,190,328,406,68,111,39,64,2249,1019,90,88,35,74,5352,1897,164,191,778,581,20,37,0,182,59,76,0,182,0,182,229,268,129,147,1213,679,81,90,1721,965,4683,1933,175,215,6757,1474,520,447,118,207,5208,1699,0,182,1098,671,36,65,1061,513,622,415,0,182,54,89,6317,1774,297,285,"N/A","N/A",470,555,252,395,79,123]
[null,null,null,null,null,null,null,null,null,99192,6959,323,262,236,193,3257,1696,253,216,5347,2126,1600,604,657,432,296,475,15,25,4937,1590,970,396,333,416,360,231,22285,3020,2480,1136,4161,1283,1160,1199,635,502,598,403,233,195,1306,586,489,356,3917,1160,18965,2405,238,211,1263,681,784,512,324,240,1163,682,3,7,606,477,526,553,2033,980,2939,1454,284,318,2610,1053,289,204,945,601,1563,750,144,157,1053,675,329,220,1051,638,2765,1112,900,1091,62,88,1267,916,1208,416,0,145,"N/A","N/A",30,46,975,943]
[null,null,null,null,null,null,null,null,null,31149,3430,260,284,590,661,2014,1234,244,405,2035,720,5599,1618,0,185,0,185,0,185,733,572,166,173,0,185,745,481,905,823,179,179,259,273,539,412,4,10,88,100,0,185,294,304,548,638,965,730,290,240,136,229,244,257,1901,789,1216,559,355,304,0,185,121,147,604,658,231,252,459,399,338,300,819,447,964,670,893,605,230,254,0,185,122,201,1175,730,4,7,1427,920,1710,948,0,185,138,169,1323,785,0,185,282,210,"N/A","N/A",16,27]
[null,null,null,null,null,null,null,null,null,20044,2902,8,15,57,94,54,90,93,158,519,484,0,214,370,365,0,214,0,214,4192,1203,232,300,110,172,0,214,1021,602,121,153,0,214,143,240,37,72,59,101,0,214,108,177,2258,1289,435,451,0,214,0,214,0,214,0,214,0,214,0,214,0,214,1922,1129,28,48,2314,761,638,565,0,214,328,499,0,214,0,214,2313,1063,624,688,4,7,0,214,15,31,360,291,0,214,0,214,684,777,0,214,8,15,989,654,0,214,"N/A","N/A"]

{"sheet":"Working ","index":4,"n_rows":2713,"n_cols":14,"rows_kept":2713,"cut":false,"hidden":false,"merged":[]}
[]
[]
[null,null,"State","Population 2012","Non Movers","Intra state movements","Migrants into the state","Maine","Maine","Population 2010","Minnesota","Minnesota"]
[null,"United States",null,310212755,263612596,37696597,7070345,{"$f":"D4-I4","v":2312436},307900319,305628607]
[null,"Alabama","South",4764428,4054260,590326,104600,109218,4745278,4729509,{"$f":"G5/SUM(G5:H5)","v":0.48920109625943559},{"$f":"G5-H5","v":-4618}]
[null,"Alaska","West",721186,592551,90613,33415,84125,1401,702974,{"$f":"G6/SUM(G6:H6)","v":0.2842862004424026},{"$f":"G6-H6","v":-50710}]
[null,"Arizona","West",6468907,5242674,953789,232457,206896,5660,6332786,0.52908936549881302,25561]
[null,"Arkansas","South",2912680,2453347,373046,76948,65060,2928,2888304,0.54185679680018028,11888]
[null,"California","West",37572738,31777868,5046618,493641,567505,9999,36907897,0.46519611815904693,-73864]
[null,"Colorado","West",5123944,4131357,751921,205060,161530,4037,4988190,0.55937150495103527,43530]
[null,"Connecticut","Northeast",3555319,3114940,334918,80311,87393,2644,3541146,0.47888541716357391,-7082]
[null,"Delaware","South",906576,782216,86003,34757,25149,1369,889812,0.58019230127199284,9608]
[null,"District of Columbia ","South",624847,500267,61992,53830,59513,1403,596747,0.47493007949321969,-5683]
[null,"Florida","South",19114620,16032617,2380288,537148,432517,8536,18647600,0.55395213810955335,104631]
[null,"Georgia","South",9796547,8231384,1236302,277466,252494,5580,9587237,0.52356026869952454,24972]
[null,"Hawaii","West",1374852,1164145,134827,55145,61619,1803,1346274,0.47227741427152203,-6474]
[null,"Idaho","West",1573036,1296975,210151,59283,55191,2674,1550967,0.51787305414329887,4092]
[null,"Illinois","Midwest",12725119,11009321,1441191,208755,278974,5792,12680126,0.42801432762866265,-70219]
[null,"Indiana","Midwest",6457067,5493090,805228,134137,144718,3841,6414862,0.48102777429129834,-10581]
[null,"Iowa","Midwest",3035469,2585979,362938,75760,73325,2514,3013053,0.50816648220813632,2435]
[null,"Kansas","Midwest",2848708,2361899,381695,88284,93277,2851,2820894,0.48624980034258458,-4993]
[null,"Kentucky","South",4328626,3676472,521511,112787,103041,3382,4296639,0.52257816409363012,9746]
[null,"Louisiana","South",4545914,3912023,528406,91215,96015,3250,4483529,0.48718154141964432,-4800]
[null,"Maine","Northeast",1315586,1132344,151438,27523,38574,1456,1313902,0.41640316504531222,-11051]
[null,"Maryland","South",5816472,5068457,549973,154983,157772,4326,5716785,0.49554123834950681,-2789]
[null,"Massachusetts","Northeast",6580641,5752166,626380,142577,160414,3680,6489250,0.47056513229765901,-17837]
[null,"Michigan","Midwest",9778980,8330990,1268105,133981,176168,4376,9762127,0.43198914070333938,-42187]
[null,"Minnesota","Midwest",5315228,4536303,653012,101042,115946,3380,5244256,0.46565708702785408,-14904]
[null,"Mississippi","South",2947696,2529377,339807,73500,66947,3088,2931228,0.52332908499291553,6553]
[null,"Missouri","Midwest",5951913,4965459,801093,162930,142754,4110,5920858,0.53300140013870534,20176]
[null,"Montana","West",995544,829489,126463,37690,33832,1359,978507,0.52697072229523778,3858]
[null,"Nebraska","Midwest",1829420,1540361,237937,43266,48816,2304,1802697,0.46986381703264479,-5550]
[null,"Nevada","West",2725280,2105070,481496,124285,98882,3578,2667364,0.55691477682632284,25403]
[null,"New Hampshire","Northeast",1309203,1127376,125118,50484,38696,2046,1303865,0.56609105180533748,11788]
[null,"New Jersey","Northeast",8772744,7929570,655465,130223,221124,4595,8709933,0.37063928253265288,-90901]
[null,"New Mexico","West",2060595,1769341,226243,54693,63949,2718,2039549,0.46099189157296744,-9256]
[null,"New York","Northeast",19352153,17202134,1723117,270053,408178,7023,19171916,0.39817259901125135,-138125]
[null,"North Carolina","South",9640490,8167830,1149080,273149,239301,5364,9443000,0.53302566104010152,33848]
[null,"North Dakota","Midwest",689838,563978,84294,38213,23959,1047,665654,0.61463359711767351,14254]
[null,"Ohio","Midwest",11414635,9735390,1440815,196391,199530,4418,11405101,0.49603582532879031,-3139]
[null,"Oklahoma","South",3762311,3107367,531347,108972,102572,2585,3716264,0.51512687667813783,6400]
[null,"Oregon","West",3857465,3158450,560673,118925,108182,3857,3794008,0.52365184692677902,10743]
[null,"Pennsylvania","Northeast",12630082,11107110,1252378,215500,239469,5092,12577555,0.47365864487470577,-23969]
[null,"Rhode Island","Northeast",1040527,899551,101165,33446,31122,1440,1042240,0.51799653078924546,2324]
[null,"South Carolina","South",4668886,3929626,564350,156705,127422,3871,4577399,0.55153153343399253,29283]
[null,"South Dakota","Midwest",821669,676014,115606,26051,22534,1297,805616,0.53619429865184731,3517]
[null,"Tennessee","South",6378278,5396833,783077,177098,163858,4450,6282706,0.51941599502575109,13240]
[null,"Texas","South",25711791,21354247,3656070,507752,402547,10987,24899075,0.55778595824009469,105205]
[null,"Utah","West",2805440,2324019,373980,87870,82165,2949,2724064,0.51677595789102249,5705]
[null,"Vermont","Northeast",620224,532237,61242,24431,20056,940,619363,0.54917166812776763,4375]
[null,"Virginia","South",8085389,6857430,915242,250653,239224,5256,7930773,0.51166517309447068,11429]
[null,"Washington","West",6815763,5648199,904695,215494,180462,4248,6661321,0.54423723848104333,35032]
[null,"West Virginia","South",1837518,1613322,174112,47125,47433,1681,1833535,0.49837136995283315,-308]
[null,"Wisconsin","Midwest",5660677,4849945,693737,99192,98713,2653,5623196,0.50121017659988376,479]
[null,"Wyoming","West",569734,459226,77324,31149,32228,1021,556954,0.49148744812786971,-1079]
[null,"Puerto Rico",null,3628402,3366593,238042,20044,74500,3034,3676493,0.21200710780165849,-54456]
[]
[]
[null,"Data of inter state migration"]
[]
[null,"State 1","Crime Index","Tax Index","Cost Of living Index","State 2","Crime Index","Tax Index","Cost Of living Index","Concat 1","State 1 to State 2","Crime Index difference","Tax Index difference","Cost of Living difference"]
[null,"Alabama",2.2202899776411697E-2,0.05,83,"Alaska",3.2055585214628916E-2,0,117,"AlabamaAlaska",1097,{"$f":"G62-C62","v":9.8526854382172194E-3},{"$f":"H62-D62","v":-0.05},{"$f":"I62-E62","v":34}]
[null,"Alabama",2.2202899776411697E-2,0.05,83,"Arizona",2.1452319662556094E-2,4.4999999999999998E-2,87,"AlabamaArizona",1331,{"$f":"G63-C63","v":-7.5058011385560272E-4},{"$f":"H63-D63","v":-5.0000000000000044E-3},{"$f":"I63-E63","v":4}]
[null,"Alabama",2.2202899776411697E-2,0.05,83,"Arkansas",2.5419294137546445E-2,7.0000000000000007E-2,79,"AlabamaArkansas",374,3.216394361134748E-3,2.0000000000000004E-2,-4]
[null,"Alabama",2.2202899776411697E-2,0.05,83,"California",2.1729822873664682E-2,9.6000000000000002E-2,92,"AlabamaCalifornia",2509,-4.7307690274701539E-4,4.5999999999999999E-2,9]
[null,"Alabama",2.2202899776411697E-2,0.05,83,"Colorado",1.6922410102174039E-2,4.5999999999999999E-2,106,"AlabamaColorado",3108,-5.2804896742376581E-3,-4.0000000000000036E-3,23]
[null,"Alabama",2.2202899776411697E-2,0.05,83,"Connecticut",1.4419595426747081E-2,0.05,105,"AlabamaConnecticut",46,-7.7833043496646163E-3,0,22]
[null,"Alabama",2.2202899776411697E-2,0.05,83,"Delaware",2.9571270753275862E-2,7.0000000000000007E-2,100,"AlabamaDelaware",119,7.368370976864165E-3,2.0000000000000004E-2,17]
[null,"Alabama",2.2202899776411697E-2,0.05,83,"District of Columbia ",6.3540306680691577E-2,8.5000000000000006E-2,148,"AlabamaDistrict of Columbia ",79,4.133740690427988E-2,3.5000000000000003E-2,65]
[null,"Alabama",2.2202899776411697E-2,0.05,83,"Florida",2.7237600892238891E-2,0,89,"AlabamaFlorida",18599,5.0347011158271941E-3,-0.05,6]
[null,"Alabama",2.2202899776411697E-2,0.05,83,"Georgia",1.9726513978233176E-2,0.06,95,"AlabamaGeorgia",13864,-2.4763857981785209E-3,9.999999999999995E-3,12]
[null,"Alabama",2.2202899776411697E-2,0.05,83,"Hawaii",1.5418606986737988E-2,8.3000000000000004E-2,149,"AlabamaHawaii",608,-6.7842927896737092E-3,3.3000000000000002E-2,66]
[null,"Alabama",2.2202899776411697E-2,0.05,83,"Idaho",1.0619122878421879E-2,7.8E-2,98,"AlabamaIdaho",575,-1.1583776897989818E-2,2.7999999999999997E-2,15]
[null,"Alabama",2.2202899776411697E-2,0.05,83,"Illinois",2.2681262454608404E-2,0.03,91,"AlabamaIllinois",883,4.7836267819670666E-4,-2.0000000000000004E-2,8]
[null,"Alabama",2.2202899776411697E-2,0.05,83,"Indiana",1.754084582978746E-2,3.4000000000000002E-2,88,"AlabamaIndiana",1625,-4.6620539466242367E-3,-1.6E-2,5]
[null,"Alabama",2.2202899776411697E-2,0.05,83,"Iowa",1.3507799161676014E-2,0.09,90,"AlabamaIowa",503,-8.6951006147356832E-3,3.9999999999999994E-2,7]
[null,"Alabama",2.2202899776411697E-2,0.05,83,"Kansas",1.8706359316443516E-2,6.5000000000000002E-2,84,"AlabamaKansas",853,-3.496540459968181E-3,1.4999999999999999E-2,1]
[null,"Alabama",2.2202899776411697E-2,0.05,83,"Kentucky",1.6652835554239985E-2,5.8000000000000003E-2,92,"AlabamaKentucky",4137,-5.550064222171712E-3,8.0000000000000002E-3,9]
[null,"Alabama",2.2202899776411697E-2,0.05,83,"Louisiana",2.935191107211383E-2,0.06,88,"AlabamaLouisiana",2329,7.1490112957021332E-3,9.999999999999995E-3,5]
[null,"Alabama",2.2202899776411697E-2,0.05,83,"Maine",6.5120753540148114E-3,6.9000000000000006E-2,104,"AlabamaMaine",129,-1.5690824422396887E-2,1.9000000000000003E-2,21]
[null,"Alabama",2.2202899776411697E-2,0.05,83,"Maryland",2.611701649690518E-2,0.05,103,"AlabamaMaryland",1261,3.9141167204934831E-3,0,20]
[null,"Alabama",2.2202899776411697E-2,0.05,83,"Massachusetts",2.2641619138735747E-2,5.2999999999999999E-2,126,"AlabamaMassachusetts",636,4.3871936232404984E-4,2.9999999999999957E-3,43]
[null,"Alabama",2.2202899776411697E-2,0.05,83,"Michigan",2.3537558077457752E-2,4.3999999999999997E-2,82,"AlabamaMichigan",2341,1.3346583010460551E-3,-6.0000000000000053E-3,-1]
[null,"Alabama",2.2202899776411697E-2,0.05,83,"Minnesota",1.1694778182433254E-2,7.9000000000000001E-2,121,"AlabamaMinnesota",1299,-1.0508121593978443E-2,2.8999999999999998E-2,38]
[null,"Alabama",2.2202899776411697E-2,0.05,83,"Mississippi",1.426102216325646E-2,0.05,76,"AlabamaMississippi",5141,-7.9418776131552366E-3,0,-7]
[null,"Alabama",2.2202899776411697E-2,0.05,83,"Missouri",2.3569272730155875E-2,0.06,81,"AlabamaMissouri",1333,1.3663729537441785E-3,9.999999999999995E-3,-2]
[null,"Alabama",2.2202899776411697E-2,0.05,83,"Montana",1.4139449327913651E-2,6.9000000000000006E-2,93,"AlabamaMontana",31,-8.0634504484980458E-3,1.9000000000000003E-2,10]
[null,"Alabama",2.2202899776411697E-2,0.05,83,"Nebraska",1.3380940550883517E-2,6.8000000000000005E-2,77,"AlabamaNebraska",245,-8.8219592255281802E-3,1.8000000000000002E-2,-6]
[null,"Alabama",2.2202899776411697E-2,0.05,83,"Nevada",2.9713986690417422E-2,0,99,"AlabamaNevada",761,7.5110869140057254E-3,-0.05,16]
[null,"Alabama",2.2202899776411697E-2,0.05,83,"New Hampshire",9.9372578454122104E-3,0,120,"AlabamaNew Hampshire",0,-1.2265641930999487E-2,-0.05,37]
[null,"Alabama",2.2202899776411697E-2,0.05,83,"New Jersey",1.6301331486835775E-2,6.4000000000000001E-2,103,"AlabamaNew Jersey",779,-5.9015682895759217E-3,1.3999999999999999E-2,20]
[null,"Alabama",2.2202899776411697E-2,0.05,83,"New Mexico",2.9999418564700536E-2,4.9000000000000002E-2,105,"AlabamaNew Mexico",787,7.7965187882888393E-3,-1.0000000000000009E-3,22]
[null,"Alabama",2.2202899776411697E-2,0.05,83,"New York",2.1042672065205326E-2,7.9000000000000001E-2,114,"AlabamaNew York",1364,-1.1602277112063714E-3,2.8999999999999998E-2,31]
[null,"Alabama",2.2202899776411697E-2,0.05,83,"North Carolina",1.8489642523006337E-2,7.0000000000000007E-2,81,"AlabamaNorth Carolina",4329,-3.7132572534053603E-3,2.0000000000000004E-2,-2]
[null,"Alabama",2.2202899776411697E-2,0.05,83,"North Dakota",1.3055865360727744E-2,3.7999999999999999E-2,89,"AlabamaNorth Dakota",83,-9.1470344156839526E-3,-1.2000000000000004E-2,6]
[null,"Alabama",2.2202899776411697E-2,0.05,83,"Ohio",1.6248473732338901E-2,4.7E-2,106,"AlabamaOhio",3705,-5.9544260440727963E-3,-3.0000000000000027E-3,23]
[null,"Alabama",2.2202899776411697E-2,0.05,83,"Oklahoma",2.4039706745178049E-2,5.5E-2,84,"AlabamaOklahoma",1030,1.8368069687663517E-3,4.9999999999999975E-3,1]
[null,"Alabama",2.2202899776411697E-2,0.05,83,"Oregon",1.3084937125701024E-2,0.108,107,"AlabamaOregon",373,-9.1179626507106731E-3,5.7999999999999996E-2,24]
[null,"Alabama",2.2202899776411697E-2,0.05,83,"Pennsylvania",1.8764502846390078E-2,0.03,96,"AlabamaPennsylvania",1926,-3.4383969300216186E-3,-2.0000000000000004E-2,13]
[null,"Alabama",2.2202899776411697E-2,0.05,83,"Rhode Island",1.3082294237976182E-2,7.8E-2,118,"AlabamaRhode Island",20,-9.1206055384355153E-3,2.7999999999999997E-2,35]
[null,"Alabama",2.2202899776411697E-2,0.05,83,"South Carolina",3.0229349796761933E-2,7.0000000000000007E-2,88,"AlabamaSouth Carolina",1665,8.0264500203502363E-3,2.0000000000000004E-2,5]
[null,"Alabama",2.2202899776411697E-2,0.05,83,"South Dakota",1.3431155417655547E-2,0,79,"AlabamaSouth Dakota",0,-8.7717443587561495E-3,-0.05,-4]
[null,"Alabama",2.2202899776411697E-2,0.05,83,"Tennessee",3.2145443397273599E-2,0,82,"AlabamaTennessee",12116,9.9425436208619017E-3,-0.05,-1]
[null,"Alabama",2.2202899776411697E-2,0.05,83,"Texas",2.1592392711972809E-2,0,83,"AlabamaTexas",9993,-6.1050706443888797E-4,-0.05,0]
[null,"Alabama",2.2202899776411697E-2,0.05,83,"Utah",1.0307262126890326E-2,0.05,84,"AlabamaUtah",126,-1.1895637649521371E-2,0,1]
[null,"Alabama",2.2202899776411697E-2,0.05,83,"Vermont",7.1490112957021358E-3,8.3000000000000004E-2,110,"AlabamaVermont",16,-1.505388848070956E-2,3.3000000000000002E-2,27]
[null,"Alabama",2.2202899776411697E-2,0.05,83,"Virginia",1.039712030953501E-2,5.8000000000000003E-2,87,"AlabamaVirginia",2515,-1.1805779466876687E-2,8.0000000000000002E-3,4]
[null,"Alabama",2.2202899776411697E-2,0.05,83,"Washington",1.5569251587054078E-2,0,102,"AlabamaWashington",1507,-6.6336481893576188E-3,-0.05,19]
[null,"Alabama",2.2202899776411697E-2,0.05,83,"West Virginia",1.6695121757837481E-2,6.5000000000000002E-2,91,"AlabamaWest Virginia",477,-5.5077780185742164E-3,1.4999999999999999E-2,8]
[null,"Alabama",2.2202899776411697E-2,0.05,83,"Wisconsin",1.2522002040309323E-2,6.8000000000000005E-2,105,"AlabamaWisconsin",323,-9.6808977361023743E-3,1.8000000000000002E-2,22]
[null,"Alabama",2.2202899776411697E-2,0.05,83,"Wyoming",1.159170556116435E-2,0,76,"AlabamaWyoming",260,-1.0611194215247347E-2,-0.05,-7]
[null,"Alabama",2.2202899776411697E-2,0.05,83,"Rico",0,0,0,"AlabamaRico",8,-2.2202899776411697E-2,-0.05,-83]
[null,"Alaska",3.2055585214628916E-2,0,117,"Alabama",2.2202899776411697E-2,0.05,83,"AlaskaAlabama",1004,-9.8526854382172194E-3,0.05,-34]
[null,"Alaska",3.2055585214628916E-2,0,117,"Arizona",2.1452319662556094E-2,4.4999999999999998E-2,87,"AlaskaArizona",3717,-1.0603265552072822E-2,4.4999999999999998E-2,-30]
[null,"Alaska",3.2055585214628916E-2,0,117,"Arkansas",2.5419294137546445E-2,7.0000000000000007E-2,79,"AlaskaArkansas",855,-6.6362910770824714E-3,7.0000000000000007E-2,-38]
[null,"Alaska",3.2055585214628916E-2,0,117,"California",2.1729822873664682E-2,9.6000000000000002E-2,92,"AlaskaCalifornia",6995,-1.0325762340964235E-2,9.6000000000000002E-2,-25]
[null,"Alaska",3.2055585214628916E-2,0,117,"Colorado",1.6922410102174039E-2,4.5999999999999999E-2,106,"AlaskaColorado",3457,-1.5133175112454877E-2,4.5999999999999999E-2,-11]
[null,"Alaska",3.2055585214628916E-2,0,117,"Connecticut",1.4419595426747081E-2,0.05,105,"AlaskaConnecticut",439,-1.7635989787881834E-2,0.05,-12]
[null,"Alaska",3.2055585214628916E-2,0,117,"Delaware",2.9571270753275862E-2,7.0000000000000007E-2,100,"AlaskaDelaware",692,-2.4843144613530543E-3,7.0000000000000007E-2,-17]
[null,"Alaska",3.2055585214628916E-2,0,117,"District of Columbia ",6.3540306680691577E-2,8.5000000000000006E-2,148,"AlaskaDistrict of Columbia ",1247,3.1484721466062661E-2,8.5000000000000006E-2,31]
[null,"Alaska",3.2055585214628916E-2,0,117,"Florida",2.7237600892238891E-2,0,89,"AlaskaFlorida",10704,-4.8179843223900252E-3,0,-28]
[null,"Alaska",3.2055585214628916E-2,0,117,"Georgia",1.9726513978233176E-2,0.06,95,"AlaskaGeorgia",2654,-1.232907123639574E-2,0.06,-22]
[null,"Alaska",3.2055585214628916E-2,0,117,"Hawaii",1.5418606986737988E-2,8.3000000000000004E-2,149,"AlaskaHawaii",1417,-1.6636978227890929E-2,8.3000000000000004E-2,32]
[null,"Alaska",3.2055585214628916E-2,0,117,"Idaho",1.0619122878421879E-2,7.8E-2,98,"AlaskaIdaho",1198,-2.1436462336207038E-2,7.8E-2,-19]
[null,"Alaska",3.2055585214628916E-2,0,117,"Illinois",2.2681262454608404E-2,0.03,91,"AlaskaIllinois",2250,-9.3743227600205127E-3,0.03,-26]
[null,"Alaska",3.2055585214628916E-2,0,117,"Indiana",1.754084582978746E-2,3.4000000000000002E-2,88,"AlaskaIndiana",479,-1.4514739384841456E-2,3.4000000000000002E-2,-29]
[null,"Alaska",3.2055585214628916E-2,0,117,"Iowa",1.3507799161676014E-2,0.09,90,"AlaskaIowa",951,{"$f":"G127-C127","v":-1.8547786052952903E-2},{"$f":"H127-D127","v":0.09},{"$f":"I127-E127","v":-27}]
[null,"Alaska",3.2055585214628916E-2,0,117,"Kansas",1.8706359316443516E-2,6.5000000000000002E-2,84,"AlaskaKansas",333,-1.33492258981854E-2,6.5000000000000002E-2,-33]
[null,"Alaska",3.2055585214628916E-2,0,117,"Kentucky",1.6652835554239985E-2,5.8000000000000003E-2,92,"AlaskaKentucky",304,-1.5402749660388931E-2,5.8000000000000003E-2,-25]
[null,"Alaska",3.2055585214628916E-2,0,117,"Louisiana",2.935191107211383E-2,0.06,88,"AlaskaLouisiana",403,-2.7036741425150862E-3,0.06,-29]
[null,"Alaska",3.2055585214628916E-2,0,117,"Maine",6.5120753540148114E-3,6.9000000000000006E-2,104,"AlaskaMaine",38,-2.5543509860614107E-2,6.9000000000000006E-2,-13]
[null,"Alaska",3.2055585214628916E-2,0,117,"Maryland",2.611701649690518E-2,0.05,103,"AlaskaMaryland",1947,-5.9385687177237363E-3,0.05,-14]
[null,"Alaska",3.2055585214628916E-2,0,117,"Massachusetts",2.2641619138735747E-2,5.2999999999999999E-2,126,"AlaskaMassachusetts",890,-9.4139660758931695E-3,5.2999999999999999E-2,9]
[null,"Alaska",3.2055585214628916E-2,0,117,"Michigan",2.3537558077457752E-2,4.3999999999999997E-2,82,"AlaskaMichigan",1152,-8.5180271371711642E-3,4.3999999999999997E-2,-35]
[null,"Alaska",3.2055585214628916E-2,0,117,"Minnesota",1.1694778182433254E-2,7.9000000000000001E-2,121,"AlaskaMinnesota",523,-2.0360807032195664E-2,7.9000000000000001E-2,4]
[null,"Alaska",3.2055585214628916E-2,0,117,"Mississippi",1.426102216325646E-2,0.05,76,"AlaskaMississippi",0,-1.7794563051372454E-2,0.05,-41]
[null,"Alaska",3.2055585214628916E-2,0,117,"Missouri",2.3569272730155875E-2,0.06,81,"AlaskaMissouri",2186,-8.4863124844730409E-3,0.06,-36]
[null,"Alaska",3.2055585214628916E-2,0,117,"Montana",1.4139449327913651E-2,6.9000000000000006E-2,93,"AlaskaMontana",726,-1.7916135886715263E-2,6.9000000000000006E-2,-24]
[null,"Alaska",3.2055585214628916E-2,0,117,"Nebraska",1.3380940550883517E-2,6.8000000000000005E-2,77,"AlaskaNebraska",626,-1.86746446637454E-2,6.8000000000000005E-2,-40]
[null,"Alaska",3.2055585214628916E-2,0,117,"Nevada",2.9713986690417422E-2,0,99,"AlaskaNevada",2161,-2.3415985242114939E-3,0,-18]
[null,"Alaska",3.2055585214628916E-2,0,117,"New Hampshire",9.9372578454122104E-3,0,120,"AlaskaNew Hampshire",437,-2.2118327369216706E-2,0,3]
[null,"Alaska",3.2055585214628916E-2,0,117,"New Jersey",1.6301331486835775E-2,6.4000000000000001E-2,103,"AlaskaNew Jersey",359,-1.5754253727793141E-2,6.4000000000000001E-2,-14]
[null,"Alaska",3.2055585214628916E-2,0,117,"New Mexico",2.9999418564700536E-2,4.9000000000000002E-2,105,"AlaskaNew Mexico",320,-2.0561666499283801E-3,4.9000000000000002E-2,-12]
[null,"Alaska",3.2055585214628916E-2,0,117,"New York",2.1042672065205326E-2,7.9000000000000001E-2,114,"AlaskaNew York",4002,-1.1012913149423591E-2,7.9000000000000001E-2,-3]
[null,"Alaska",3.2055585214628916E-2,0,117,"North Carolina",1.8489642523006337E-2,7.0000000000000007E-2,81,"AlaskaNorth Carolina",1458,-1.356594269162258E-2,7.0000000000000007E-2,-36]
[null,"Alaska",3.2055585214628916E-2,0,117,"North Dakota",1.3055865360727744E-2,3.7999999999999999E-2,89,"AlaskaNorth Dakota",70,-1.899971985390117E-2,3.7999999999999999E-2,-28]
[null,"Alaska",3.2055585214628916E-2,0,117,"Ohio",1.6248473732338901E-2,4.7E-2,106,"AlaskaOhio",2207,-1.5807111482290016E-2,4.7E-2,-11]
[null,"Alaska",3.2055585214628916E-2,0,117,"Oklahoma",2.4039706745178049E-2,5.5E-2,84,"AlaskaOklahoma",1279,-8.0158784694508677E-3,5.5E-2,-33]
[null,"Alaska",3.2055585214628916E-2,0,117,"Oregon",1.3084937125701024E-2,0.108,107,"AlaskaOregon",2513,-1.8970648088927893E-2,0.108,-10]
[null,"Alaska",3.2055585214628916E-2,0,117,"Pennsylvania",1.8764502846390078E-2,0.03,96,"AlaskaPennsylvania",1658,-1.3291082368238838E-2,0.03,-21]
[null,"Alaska",3.2055585214628916E-2,0,117,"Rhode Island",1.3082294237976182E-2,7.8E-2,118,"AlaskaRhode Island",0,-1.8973290976652735E-2,7.8E-2,1]
[null,"Alaska",3.2055585214628916E-2,0,117,"South Carolina",3.0229349796761933E-2,7.0000000000000007E-2,88,"AlaskaSouth Carolina",1244,-1.826235417866983E-3,7.0000000000000007E-2,-29]
[null,"Alaska",3.2055585214628916E-2,0,117,"South Dakota",1.3431155417655547E-2,0,79,"AlaskaSouth Dakota",855,-1.8624429796973367E-2,0,-38]
[null,"Alaska",3.2055585214628916E-2,0,117,"Tennessee",3.2145443397273599E-2,0,82,"AlaskaTennessee",1281,8.9858182644682316E-5,0,-35]
[null,"Alaska",3.2055585214628916E-2,0,117,"Texas",2.1592392711972809E-2,0,83,"AlaskaTexas",6759,-1.0463192502656107E-2,0,-34]
[null,"Alaska",3.2055585214628916E-2,0,117,"Utah",1.0307262126890326E-2,0.05,84,"AlaskaUtah",2819,-2.1748323087738591E-2,0.05,-33]
[null,"Alaska",3.2055585214628916E-2,0,117,"Vermont",7.1490112957021358E-3,8.3000000000000004E-2,110,"AlaskaVermont",93,-2.490657391892678E-2,8.3000000000000004E-2,-7]
[null,"Alaska",3.2055585214628916E-2,0,117,"Virginia",1.039712030953501E-2,5.8000000000000003E-2,87,"AlaskaVirginia",1906,-2.1658464905093905E-2,5.8000000000000003E-2,-30]
[null,"Alaska",3.2055585214628916E-2,0,117,"Washington",1.5569251587054078E-2,0,102,"AlaskaWashington",4328,-1.6486333627574838E-2,0,-15]
[null,"Alaska",3.2055585214628916E-2,0,117,"West Virginia",1.6695121757837481E-2,6.5000000000000002E-2,91,"AlaskaWest Virginia",306,-1.5360463456791436E-2,6.5000000000000002E-2,-26]
[null,"Alaska",3.2055585214628916E-2,0,117,"Wisconsin",1.2522002040309323E-2,6.8000000000000005E-2,105,"AlaskaWisconsin",236,-1.9533583174319594E-2,6.8000000000000005E-2,-12]
[null,"Alaska",3.2055585214628916E-2,0,117,"Wyoming",1.159170556116435E-2,0,76,"AlaskaWyoming",590,-2.0463879653464565E-2,0,-41]
[null,"Alaska",3.2055585214628916E-2,0,117,"Puerto Rico",0,0,0,"AlaskaPuerto Rico",57,-3.2055585214628916E-2,0,-117]
[null,"Arizona",2.1452319662556094E-2,4.4999999999999998E-2,87,"Alabama",2.2202899776411697E-2,0.05,83,"ArizonaAlabama",962,7.5058011385560272E-4,5.0000000000000044E-3,-4]
[null,"Arizona",2.1452319662556094E-2,4.4999999999999998E-2,87,"Alaska",3.2055585214628916E-2,0,117,"ArizonaAlaska",1520,1.0603265552072822E-2,-4.4999999999999998E-2,30]
[null,"Arizona",2.1452319662556094E-2,4.4999999999999998E-2,87,"Arkansas",2.5419294137546445E-2,7.0000000000000007E-2,79,"ArizonaArkansas",1677,3.9669744749903507E-3,2.5000000000000008E-2,-8]
[null,"Arizona",2.1452319662556094E-2,4.4999999999999998E-2,87,"California",2.1729822873664682E-2,9.6000000000000002E-2,92,"ArizonaCalifornia",38916,2.7750321110858733E-4,5.1000000000000004E-2,5]
[null,"Arizona",2.1452319662556094E-2,4.4999999999999998E-2,87,"Colorado",1.6922410102174039E-2,4.5999999999999999E-2,106,"ArizonaColorado",10589,-4.5299095603820554E-3,1.0000000000000009E-3,19]
[null,"Arizona",2.1452319662556094E-2,4.4999999999999998E-2,87,"Connecticut",1.4419595426747081E-2,0.05,105,"ArizonaConnecticut",3167,-7.0327242358090136E-3,5.0000000000000044E-3,18]
[null,"Arizona",2.1452319662556094E-2,4.4999999999999998E-2,87,"Delaware",2.9571270753275862E-2,7.0000000000000007E-2,100,"ArizonaDelaware",188,8.1189510907197678E-3,2.5000000000000008E-2,13]
[null,"Arizona",2.1452319662556094E-2,4.4999999999999998E-2,87,"District of Columbia ",6.3540306680691577E-2,8.5000000000000006E-2,148,"ArizonaDistrict of Columbia ",902,4.2087987018135486E-2,4.0000000000000008E-2,61]
[null,"Arizona",2.1452319662556094E-2,4.4999999999999998E-2,87,"Florida",2.7237600892238891E-2,0,89,"ArizonaFlorida",6473,5.7852812296827968E-3,-4.4999999999999998E-2,2]
[null,"Arizona",2.1452319662556094E-2,4.4999999999999998E-2,87,"Georgia",1.9726513978233176E-2,0.06,95,"ArizonaGeorgia",6657,-1.7258056843229182E-3,1.4999999999999999E-2,8]
[null,"Arizona",2.1452319662556094E-2,4.4999999999999998E-2,87,"Hawaii",1.5418606986737988E-2,8.3000000000000004E-2,149,"ArizonaHawaii",1865,-6.0337126758181064E-3,3.8000000000000006E-2,62]
[null,"Arizona",2.1452319662556094E-2,4.4999999999999998E-2,87,"Idaho",1.0619122878421879E-2,7.8E-2,98,"ArizonaIdaho",2424,-1.0833196784134216E-2,3.3000000000000002E-2,11]
[null,"Arizona",2.1452319662556094E-2,4.4999999999999998E-2,87,"Illinois",2.2681262454608404E-2,0.03,91,"ArizonaIllinois",7139,1.2289427920523094E-3,-1.4999999999999999E-2,4]
[null,"Arizona",2.1452319662556094E-2,4.4999999999999998E-2,87,"Indiana",1.754084582978746E-2,3.4000000000000002E-2,88,"ArizonaIndiana",2763,-3.9114738327686339E-3,-1.0999999999999996E-2,1]
[null,"Arizona",2.1452319662556094E-2,4.4999999999999998E-2,87,"Iowa",1.3507799161676014E-2,0.09,90,"ArizonaIowa",1590,-7.9445205008800805E-3,4.4999999999999998E-2,3]
[null,"Arizona",2.1452319662556094E-2,4.4999999999999998E-2,87,"Kansas",1.8706359316443516E-2,6.5000000000000002E-2,84,"ArizonaKansas",3094,-2.7459603461125782E-3,2.0000000000000004E-2,-3]
[null,"Arizona",2.1452319662556094E-2,4.4999999999999998E-2,87,"Kentucky",1.6652835554239985E-2,5.8000000000000003E-2,92,"ArizonaKentucky",1103,-4.7994841083161092E-3,1.3000000000000005E-2,5]
[null,"Arizona",2.1452319662556094E-2,4.4999999999999998E-2,87,"Louisiana",2.935191107211383E-2,0.06,88,"ArizonaLouisiana",2021,7.8995914095577359E-3,1.4999999999999999E-2,1]
[null,"Arizona",2.1452319662556094E-2,4.4999999999999998E-2,87,"Maine",6.5120753540148114E-3,6.9000000000000006E-2,104,"ArizonaMaine",230,-1.4940244308541283E-2,2.4000000000000007E-2,17]
[null,"Arizona",2.1452319662556094E-2,4.4999999999999998E-2,87,"Maryland",2.611701649690518E-2,0.05,103,"ArizonaMaryland",760,4.6646968343490858E-3,5.0000000000000044E-3,16]
[null,"Arizona",2.1452319662556094E-2,4.4999999999999998E-2,87,"Massachusetts",2.2641619138735747E-2,5.2999999999999999E-2,126,"ArizonaMassachusetts",1972,1.1892994761796526E-3,8.0000000000000002E-3,39]
[null,"Arizona",2.1452319662556094E-2,4.4999999999999998E-2,87,"Michigan",2.3537558077457752E-2,4.3999999999999997E-2,82,"ArizonaMichigan",7168,2.0852384149016578E-3,-1.0000000000000009E-3,-5]
[null,"Arizona",2.1452319662556094E-2,4.4999999999999998E-2,87,"Minnesota",1.1694778182433254E-2,7.9000000000000001E-2,121,"ArizonaMinnesota",3065,-9.7575414801228406E-3,3.4000000000000002E-2,34]
[null,"Arizona",2.1452319662556094E-2,4.4999999999999998E-2,87,"Mississippi",1.426102216325646E-2,0.05,76,"ArizonaMississippi",710,-7.1912974992996339E-3,5.0000000000000044E-3,-11]
[null,"Arizona",2.1452319662556094E-2,4.4999999999999998E-2,87,"Missouri",2.3569272730155875E-2,0.06,81,"ArizonaMissouri",2297,2.1169530675997812E-3,1.4999999999999999E-2,-6]
[null,"Arizona",2.1452319662556094E-2,4.4999999999999998E-2,87,"Montana",1.4139449327913651E-2,6.9000000000000006E-2,93,"ArizonaMontana",1548,-7.3128703346424431E-3,2.4000000000000007E-2,6]
[null,"Arizona",2.1452319662556094E-2,4.4999999999999998E-2,87,"Nebraska",1.3380940550883517E-2,6.8000000000000005E-2,77,"ArizonaNebraska",2406,-8.0713791116725775E-3,2.3000000000000007E-2,-10]
[null,"Arizona",2.1452319662556094E-2,4.4999999999999998E-2,87,"Nevada",2.9713986690417422E-2,0,99,"ArizonaNevada",8748,{"$f":"G191-C191","v":8.2616670278613281E-3},{"$f":"H191-D191","v":-4.4999999999999998E-2},{"$f":"I191-E191","v":12}]
[null,"Arizona",2.1452319662556094E-2,4.4999999999999998E-2,87,"New Hampshire",9.9372578454122104E-3,0,120,"ArizonaNew Hampshire",440,-1.1515061817143884E-2,-4.4999999999999998E-2,33]
[null,"Arizona",2.1452319662556094E-2,4.4999999999999998E-2,87,"New Jersey",1.6301331486835775E-2,6.4000000000000001E-2,103,"ArizonaNew Jersey",1328,-5.1509881757203189E-3,1.9000000000000003E-2,16]
[null,"Arizona",2.1452319662556094E-2,4.4999999999999998E-2,87,"New Mexico",2.9999418564700536E-2,4.9000000000000002E-2,105,"ArizonaNew Mexico",6391,8.547098902144442E-3,4.0000000000000036E-3,18]
[null,"Arizona",2.1452319662556094E-2,4.4999999999999998E-2,87,"New York",2.1042672065205326E-2,7.9000000000000001E-2,114,"ArizonaNew York",4146,-4.0964759735076864E-4,3.4000000000000002E-2,27]
[null,"Arizona",2.1452319662556094E-2,4.4999999999999998E-2,87,"North Carolina",1.8489642523006337E-2,7.0000000000000007E-2,81,"ArizonaNorth Carolina",3493,-2.9626771395497575E-3,2.5000000000000008E-2,-6]
[null,"Arizona",2.1452319662556094E-2,4.4999999999999998E-2,87,"North Dakota",1.3055865360727744E-2,3.7999999999999999E-2,89,"ArizonaNorth Dakota",1571,-8.3964543018283499E-3,-6.9999999999999993E-3,2]
[null,"Arizona",2.1452319662556094E-2,4.4999999999999998E-2,87,"Ohio",1.6248473732338901E-2,4.7E-2,106,"ArizonaOhio",4929,-5.2038459302171935E-3,2.0000000000000018E-3,19]
[null,"Arizona",2.1452319662556094E-2,4.4999999999999998E-2,87,"Oklahoma",2.4039706745178049E-2,5.5E-2,84,"ArizonaOklahoma",2974,2.5873870826219544E-3,1.0000000000000002E-2,-3]
[null,"Arizona",2.1452319662556094E-2,4.4999999999999998E-2,87,"Oregon",1.3084937125701024E-2,0.108,107,"ArizonaOregon",7954,-8.3673825368550704E-3,6.3E-2,20]
[null,"Arizona",2.1452319662556094E-2,4.4999999999999998E-2,87,"Pennsylvania",1.8764502846390078E-2,0.03,96,"ArizonaPennsylvania",3529,-2.6878168161660158E-3,-1.4999999999999999E-2,9]
[null,"Arizona",2.1452319662556094E-2,4.4999999999999998E-2,87,"Rhode Island",1.3082294237976182E-2,7.8E-2,118,"ArizonaRhode Island",93,-8.3700254245799126E-3,3.3000000000000002E-2,31]
[null,"Arizona",2.1452319662556094E-2,4.4999999999999998E-2,87,"South Carolina",3.0229349796761933E-2,7.0000000000000007E-2,88,"ArizonaSouth Carolina",2222,8.7770301342058391E-3,2.5000000000000008E-2,1]
[null,"Arizona",2.1452319662556094E-2,4.4999999999999998E-2,87,"South Dakota",1.3431155417655547E-2,0,79,"ArizonaSouth Dakota",435,-8.0211642449005468E-3,-4.4999999999999998E-2,-8]
[null,"Arizona",2.1452319662556094E-2,4.4999999999999998E-2,87,"Tennessee",3.2145443397273599E-2,0,82,"ArizonaTennessee",2250,1.0693123734717504E-2,-4.4999999999999998E-2,-5]
[null,"Arizona",2.1452319662556094E-2,4.4999999999999998E-2,87,"Texas",2.1592392711972809E-2,0,83,"ArizonaTexas",18908,1.4007304941671475E-4,-4.4999999999999998E-2,-4]
[null,"Arizona",2.1452319662556094E-2,4.4999999999999998E-2,87,"Utah",1.0307262126890326E-2,0.05,84,"ArizonaUtah",7966,-1.1145057535665769E-2,5.0000000000000044E-3,-3]
[null,"Arizona",2.1452319662556094E-2,4.4999999999999998E-2,87,"Vermont",7.1490112957021358E-3,8.3000000000000004E-2,110,"ArizonaVermont",127,-1.4303308366853958E-2,3.8000000000000006E-2,23]
[null,"Arizona",2.1452319662556094E-2,4.4999999999999998E-2,87,"Virginia",1.039712030953501E-2,5.8000000000000003E-2,87,"ArizonaVirginia",2420,-1.1055199353021085E-2,1.3000000000000005E-2,0]
[null,"Arizona",2.1452319662556094E-2,4.4999999999999998E-2,87,"Washington",1.5569251587054078E-2,0,102,"ArizonaWashington",8362,-5.8830680755020161E-3,-4.4999999999999998E-2,15]
[null,"Arizona",2.1452319662556094E-2,4.4999999999999998E-2,87,"West Virginia",1.6695121757837481E-2,6.5000000000000002E-2,91,"ArizonaWest Virginia",79,-4.7571979047186137E-3,2.0000000000000004E-2,4]
[null,"Arizona",2.1452319662556094E-2,4.4999999999999998E-2,87,"Wisconsin",1.2522002040309323E-2,6.8000000000000005E-2,105,"ArizonaWisconsin",3257,-8.9303176222467716E-3,2.3000000000000007E-2,18]
[null,"Arizona",2.1452319662556094E-2,4.4999999999999998E-2,87,"Wyoming",1.159170556116435E-2,0,76,"ArizonaWyoming",2014,-9.8606141013917441E-3,-4.4999999999999998E-2,-11]
[null,"Arizona",2.1452319662556094E-2,4.4999999999999998E-2,87,"Puerto Rico",0,0,0,"ArizonaPuerto Rico",54,-2.1452319662556094E-2,-4.4999999999999998E-2,-87]
[null,"Arkansas",2.5419294137546445E-2,7.0000000000000007E-2,79,"Alabama",2.2202899776411697E-2,0.05,83,"ArkansasAlabama",660,-3.216394361134748E-3,-2.0000000000000004E-2,4]
[null,"Arkansas",2.5419294137546445E-2,7.0000000000000007E-2,79,"Alaska",3.2055585214628916E-2,0,117,"ArkansasAlaska",196,6.6362910770824714E-3,-7.0000000000000007E-2,38]
[null,"Arkansas",2.5419294137546445E-2,7.0000000000000007E-2,79,"Arizona",2.1452319662556094E-2,4.4999999999999998E-2,87,"ArkansasArizona",1214,-3.9669744749903507E-3,-2.5000000000000008E-2,8]
[null,"Arkansas",2.5419294137546445E-2,7.0000000000000007E-2,79,"California",2.1729822873664682E-2,9.6000000000000002E-2,92,"ArkansasCalifornia",3472,-3.6894712638817634E-3,2.5999999999999995E-2,13]
[null,"Arkansas",2.5419294137546445E-2,7.0000000000000007E-2,79,"Colorado",1.6922410102174039E-2,4.5999999999999999E-2,106,"ArkansasColorado",1043,-8.4968840353724061E-3,-2.4000000000000007E-2,27]
[null,"Arkansas",2.5419294137546445E-2,7.0000000000000007E-2,79,"Connecticut",1.4419595426747081E-2,0.05,105,"ArkansasConnecticut",200,-1.0999698710799364E-2,-2.0000000000000004E-2,26]
[null,"Arkansas",2.5419294137546445E-2,7.0000000000000007E-2,79,"Delaware",2.9571270753275862E-2,7.0000000000000007E-2,100,"ArkansasDelaware",0,4.151976615729417E-3,0,21]
[null,"Arkansas",2.5419294137546445E-2,7.0000000000000007E-2,79,"District of Columbia ",6.3540306680691577E-2,8.5000000000000006E-2,148,"ArkansasDistrict of Columbia ",35,3.8121012543145136E-2,1.4999999999999999E-2,69]
[null,"Arkansas",2.5419294137546445E-2,7.0000000000000007E-2,79,"Florida",2.7237600892238891E-2,0,89,"ArkansasFlorida",3321,1.8183067546924461E-3,-7.0000000000000007E-2,10]
[null,"Arkansas",2.5419294137546445E-2,7.0000000000000007E-2,79,"Georgia",1.9726513978233176E-2,0.06,95,"ArkansasGeorgia",1041,-5.6927801593132689E-3,-1.0000000000000009E-2,16]
[null,"Arkansas",2.5419294137546445E-2,7.0000000000000007E-2,79,"Hawaii",1.5418606986737988E-2,8.3000000000000004E-2,149,"ArkansasHawaii",24,-1.0000687150808457E-2,1.2999999999999998E-2,70]
[null,"Arkansas",2.5419294137546445E-2,7.0000000000000007E-2,79,"Idaho",1.0619122878421879E-2,7.8E-2,98,"ArkansasIdaho",291,-1.4800171259124566E-2,7.9999999999999932E-3,19]
[null,"Arkansas",2.5419294137546445E-2,7.0000000000000007E-2,79,"Illinois",2.2681262454608404E-2,0.03,91,"ArkansasIllinois",1587,-2.7380316829380413E-3,-4.0000000000000008E-2,12]
[null,"Arkansas",2.5419294137546445E-2,7.0000000000000007E-2,79,"Indiana",1.754084582978746E-2,3.4000000000000002E-2,88,"ArkansasIndiana",564,-7.8784483077589847E-3,-3.6000000000000004E-2,9]
[null,"Arkansas",2.5419294137546445E-2,7.0000000000000007E-2,79,"Iowa",1.3507799161676014E-2,0.09,90,"ArkansasIowa",451,-1.1911494975870431E-2,1.999999999999999E-2,11]
[null,"Arkansas",2.5419294137546445E-2,7.0000000000000007E-2,79,"Kansas",1.8706359316443516E-2,6.5000000000000002E-2,84,"ArkansasKansas",2158,-6.712934821102929E-3,-5.0000000000000044E-3,5]
[null,"Arkansas",2.5419294137546445E-2,7.0000000000000007E-2,79,"Kentucky",1.6652835554239985E-2,5.8000000000000003E-2,92,"ArkansasKentucky",518,-8.76645858330646E-3,-1.2000000000000004E-2,13]
[null,"Arkansas",2.5419294137546445E-2,7.0000000000000007E-2,79,"Louisiana",2.935191107211383E-2,0.06,88,"ArkansasLouisiana",3645,3.9326169345673852E-3,-1.0000000000000009E-2,9]
[null,"Arkansas",2.5419294137546445E-2,7.0000000000000007E-2,79,"Maine",6.5120753540148114E-3,6.9000000000000006E-2,104,"ArkansasMaine",0,-1.8907218783531632E-2,-1.0000000000000009E-3,25]
[null,"Arkansas",2.5419294137546445E-2,7.0000000000000007E-2,79,"Maryland",2.611701649690518E-2,0.05,103,"ArkansasMaryland",136,6.9772235935873506E-4,-2.0000000000000004E-2,24]
[null,"Arkansas",2.5419294137546445E-2,7.0000000000000007E-2,79,"Massachusetts",2.2641619138735747E-2,5.2999999999999999E-2,126,"ArkansasMassachusetts",394,-2.7776749988106982E-3,-1.7000000000000008E-2,47]
[null,"Arkansas",2.5419294137546445E-2,7.0000000000000007E-2,79,"Michigan",2.3537558077457752E-2,4.3999999999999997E-2,82,"ArkansasMichigan",906,-1.8817360600886929E-3,-2.6000000000000009E-2,3]
[null,"Arkansas",2.5419294137546445E-2,7.0000000000000007E-2,79,"Minnesota",1.1694778182433254E-2,7.9000000000000001E-2,121,"ArkansasMinnesota",375,-1.3724515955113191E-2,8.9999999999999941E-3,42]
[null,"Arkansas",2.5419294137546445E-2,7.0000000000000007E-2,79,"Mississippi",1.426102216325646E-2,0.05,76,"ArkansasMississippi",2680,-1.1158271974289985E-2,-2.0000000000000004E-2,-3]
[null,"Arkansas",2.5419294137546445E-2,7.0000000000000007E-2,79,"Missouri",2.3569272730155875E-2,0.06,81,"ArkansasMissouri",9434,-1.8500214073905695E-3,-1.0000000000000009E-2,2]
[null,"Arkansas",2.5419294137546445E-2,7.0000000000000007E-2,79,"Montana",1.4139449327913651E-2,6.9000000000000006E-2,93,"ArkansasMontana",63,-1.1279844809632794E-2,-1.0000000000000009E-3,14]
[null,"Arkansas",2.5419294137546445E-2,7.0000000000000007E-2,79,"Nebraska",1.3380940550883517E-2,6.8000000000000005E-2,77,"ArkansasNebraska",363,-1.2038353586662928E-2,-2.0000000000000018E-3,-2]
[null,"Arkansas",2.5419294137546445E-2,7.0000000000000007E-2,79,"Nevada",2.9713986690417422E-2,0,99,"ArkansasNevada",353,4.2946925528709774E-3,-7.0000000000000007E-2,20]
[null,"Arkansas",2.5419294137546445E-2,7.0000000000000007E-2,79,"New Hampshire",9.9372578454122104E-3,0,120,"ArkansasNew Hampshire",0,-1.5482036292134235E-2,-7.0000000000000007E-2,41]
[null,"Arkansas",2.5419294137546445E-2,7.0000000000000007E-2,79,"New Jersey",1.6301331486835775E-2,6.4000000000000001E-2,103,"ArkansasNew Jersey",57,-9.1179626507106697E-3,-6.0000000000000053E-3,24]
[null,"Arkansas",2.5419294137546445E-2,7.0000000000000007E-2,79,"New Mexico",2.9999418564700536E-2,4.9000000000000002E-2,105,"ArkansasNew Mexico",410,4.5801244271540913E-3,-2.1000000000000005E-2,26]
[null,"Arkansas",2.5419294137546445E-2,7.0000000000000007E-2,79,"New York",2.1042672065205326E-2,7.9000000000000001E-2,114,"ArkansasNew York",247,-4.3766220723411194E-3,8.9999999999999941E-3,35]
[null,"Arkansas",2.5419294137546445E-2,7.0000000000000007E-2,79,"North Carolina",1.8489642523006337E-2,7.0000000000000007E-2,81,"ArkansasNorth Carolina",861,-6.9296516145401083E-3,0,2]
[null,"Arkansas",2.5419294137546445E-2,7.0000000000000007E-2,79,"North Dakota",1.3055865360727744E-2,3.7999999999999999E-2,89,"ArkansasNorth Dakota",0,-1.2363428776818701E-2,-3.2000000000000008E-2,10]
[null,"Arkansas",2.5419294137546445E-2,7.0000000000000007E-2,79,"Ohio",1.6248473732338901E-2,4.7E-2,106,"ArkansasOhio",884,-9.1708204052075443E-3,-2.3000000000000007E-2,27]
[null,"Arkansas",2.5419294137546445E-2,7.0000000000000007E-2,79,"Oklahoma",2.4039706745178049E-2,5.5E-2,84,"ArkansasOklahoma",5777,-1.3795873923683963E-3,-1.5000000000000006E-2,5]
[null,"Arkansas",2.5419294137546445E-2,7.0000000000000007E-2,79,"Oregon",1.3084937125701024E-2,0.108,107,"ArkansasOregon",165,-1.2334357011845421E-2,3.7999999999999992E-2,28]
[null,"Arkansas",2.5419294137546445E-2,7.0000000000000007E-2,79,"Pennsylvania",1.8764502846390078E-2,0.03,96,"ArkansasPennsylvania",573,-6.6547912911563666E-3,-4.0000000000000008E-2,17]
[null,"Arkansas",2.5419294137546445E-2,7.0000000000000007E-2,79,"Rhode Island",1.3082294237976182E-2,7.8E-2,118,"ArkansasRhode Island",0,-1.2336999899570263E-2,7.9999999999999932E-3,39]
[null,"Arkansas",2.5419294137546445E-2,7.0000000000000007E-2,79,"South Carolina",3.0229349796761933E-2,7.0000000000000007E-2,88,"ArkansasSouth Carolina",839,4.8100556592154883E-3,0,9]
[null,"Arkansas",2.5419294137546445E-2,7.0000000000000007E-2,79,"South Dakota",1.3431155417655547E-2,0,79,"ArkansasSouth Dakota",227,{"$f":"G255-C255","v":-1.1988138719890898E-2},{"$f":"H255-D255","v":-7.0000000000000007E-2},{"$f":"I255-E255","v":0}]
[null,"Arkansas",2.5419294137546445E-2,7.0000000000000007E-2,79,"Tennessee",3.2145443397273599E-2,0,82,"ArkansasTennessee",3306,6.7261492597271537E-3,-7.0000000000000007E-2,3]
[null,"Arkansas",2.5419294137546445E-2,7.0000000000000007E-2,79,"Texas",2.1592392711972809E-2,0,83,"ArkansasTexas",13781,-3.826901425573636E-3,-7.0000000000000007E-2,4]
[null,"Arkansas",2.5419294137546445E-2,7.0000000000000007E-2,79,"Utah",1.0307262126890326E-2,0.05,84,"ArkansasUtah",361,-1.5112032010656119E-2,-2.0000000000000004E-2,5]
[null,"Arkansas",2.5419294137546445E-2,7.0000000000000007E-2,79,"Vermont",7.1490112957021358E-3,8.3000000000000004E-2,110,"ArkansasVermont",0,-1.8270282841844308E-2,1.2999999999999998E-2,31]
[null,"Arkansas",2.5419294137546445E-2,7.0000000000000007E-2,79,"Virginia",1.039712030953501E-2,5.8000000000000003E-2,87,"ArkansasVirginia",445,-1.5022173828011435E-2,-1.2000000000000004E-2,8]
[null,"Arkansas",2.5419294137546445E-2,7.0000000000000007E-2,79,"Washington",1.5569251587054078E-2,0,102,"ArkansasWashington",1413,-9.8500425504923668E-3,-7.0000000000000007E-2,23]
[null,"Arkansas",2.5419294137546445E-2,7.0000000000000007E-2,79,"West Virginia",1.6695121757837481E-2,6.5000000000000002E-2,91,"ArkansasWest Virginia",0,-8.7241723797089644E-3,-5.0000000000000044E-3,12]
[null,"Arkansas",2.5419294137546445E-2,7.0000000000000007E-2,79,"Wisconsin",1.2522002040309323E-2,6.8000000000000005E-2,105,"ArkansasWisconsin",253,-1.2897292097237122E-2,-2.0000000000000018E-3,26]
[null,"Arkansas",2.5419294137546445E-2,7.0000000000000007E-2,79,"Wyoming",1.159170556116435E-2,0,76,"ArkansasWyoming",244,-1.3827588576382095E-2,-7.0000000000000007E-2,-3]
[null,"Arkansas",2.5419294137546445E-2,7.0000000000000007E-2,79,"Puerto Rico",0,0,0,"ArkansasPuerto Rico",93,-2.5419294137546445E-2,-7.0000000000000007E-2,-79]
[null,"California",2.1729822873664682E-2,9.6000000000000002E-2,92,"Alabama",2.2202899776411697E-2,0.05,83,"CaliforniaAlabama",3077,4.7307690274701539E-4,-4.5999999999999999E-2,-9]
[null,"California",2.1729822873664682E-2,9.6000000000000002E-2,92,"Alaska",3.2055585214628916E-2,0,117,"CaliforniaAlaska",3494,1.0325762340964235E-2,-9.6000000000000002E-2,25]
[null,"California",2.1729822873664682E-2,9.6000000000000002E-2,92,"Arizona",2.1452319662556094E-2,4.4999999999999998E-2,87,"CaliforniaArizona",44889,-2.7750321110858733E-4,-5.1000000000000004E-2,-5]
[null,"California",2.1729822873664682E-2,9.6000000000000002E-2,92,"Arkansas",2.5419294137546445E-2,7.0000000000000007E-2,79,"CaliforniaArkansas",3525,3.6894712638817634E-3,-2.5999999999999995E-2,-13]
[null,"California",2.1729822873664682E-2,9.6000000000000002E-2,92,"Colorado",1.6922410102174039E-2,4.5999999999999999E-2,106,"CaliforniaColorado",22152,-4.8074127714906427E-3,-0.05,14]
[null,"California",2.1729822873664682E-2,9.6000000000000002E-2,92,"Connecticut",1.4419595426747081E-2,0.05,105,"CaliforniaConnecticut",3161,-7.3102274469176009E-3,-4.5999999999999999E-2,13]
[null,"California",2.1729822873664682E-2,9.6000000000000002E-2,92,"Delaware",2.9571270753275862E-2,7.0000000000000007E-2,100,"CaliforniaDelaware",2221,7.8414478796111804E-3,-2.5999999999999995E-2,8]
[null,"California",2.1729822873664682E-2,9.6000000000000002E-2,92,"District of Columbia ",6.3540306680691577E-2,8.5000000000000006E-2,148,"CaliforniaDistrict of Columbia ",4999,4.1810483807026899E-2,-1.0999999999999996E-2,56]
[null,"California",2.1729822873664682E-2,9.6000000000000002E-2,92,"Florida",2.7237600892238891E-2,0,89,"CaliforniaFlorida",20386,5.5077780185742095E-3,-9.6000000000000002E-2,-3]
[null,"California",2.1729822873664682E-2,9.6000000000000002E-2,92,"Georgia",1.9726513978233176E-2,0.06,95,"CaliforniaGeorgia",14174,-2.0033088954315055E-3,-3.6000000000000004E-2,3]
[null,"California",2.1729822873664682E-2,9.6000000000000002E-2,92,"Hawaii",1.5418606986737988E-2,8.3000000000000004E-2,149,"CaliforniaHawaii",9756,-6.3112158869266938E-3,-1.2999999999999998E-2,57]
[null,"California",2.1729822873664682E-2,9.6000000000000002E-2,92,"Idaho",1.0619122878421879E-2,7.8E-2,98,"CaliforniaIdaho",10280,-1.1110699995242803E-2,-1.8000000000000002E-2,6]
[null,"California",2.1729822873664682E-2,9.6000000000000002E-2,92,"Illinois",2.2681262454608404E-2,0.03,91,"CaliforniaIllinois",14940,9.5143958094372205E-4,-6.6000000000000003E-2,-1]
[null,"California",2.1729822873664682E-2,9.6000000000000002E-2,92,"Indiana",1.754084582978746E-2,3.4000000000000002E-2,88,"CaliforniaIndiana",6033,-4.1889770438772213E-3,-6.2E-2,-4]
[null,"California",2.1729822873664682E-2,9.6000000000000002E-2,92,"Iowa",1.3507799161676014E-2,0.09,90,"CaliforniaIowa",3268,-8.2220237119886679E-3,-6.0000000000000053E-3,-2]
[null,"California",2.1729822873664682E-2,9.6000000000000002E-2,92,"Kansas",1.8706359316443516E-2,6.5000000000000002E-2,84,"CaliforniaKansas",5411,-3.0234635572211656E-3,-3.1E-2,-8]
[null,"California",2.1729822873664682E-2,9.6000000000000002E-2,92,"Kentucky",1.6652835554239985E-2,5.8000000000000003E-2,92,"CaliforniaKentucky",3415,-5.0769873194246966E-3,-3.7999999999999999E-2,0]
[null,"California",2.1729822873664682E-2,9.6000000000000002E-2,92,"Louisiana",2.935191107211383E-2,0.06,88,"CaliforniaLouisiana",5139,7.6220881984491486E-3,-3.6000000000000004E-2,-4]
[null,"California",2.1729822873664682E-2,9.6000000000000002E-2,92,"Maine",6.5120753540148114E-3,6.9000000000000006E-2,104,"CaliforniaMaine",1610,-1.521774751964987E-2,-2.6999999999999996E-2,12]
[null,"California",2.1729822873664682E-2,9.6000000000000002E-2,92,"Maryland",2.611701649690518E-2,0.05,103,"CaliforniaMaryland",8614,4.3871936232404984E-3,-4.5999999999999999E-2,11]
[null,"California",2.1729822873664682E-2,9.6000000000000002E-2,92,"Massachusetts",2.2641619138735747E-2,5.2999999999999999E-2,126,"CaliforniaMassachusetts",12770,9.1179626507106523E-4,-4.3000000000000003E-2,34]
[null,"California",2.1729822873664682E-2,9.6000000000000002E-2,92,"Michigan",2.3537558077457752E-2,4.3999999999999997E-2,82,"CaliforniaMichigan",8085,1.8077352037930705E-3,-5.2000000000000005E-2,-10]
[null,"California",2.1729822873664682E-2,9.6000000000000002E-2,92,"Minnesota",1.1694778182433254E-2,7.9000000000000001E-2,121,"CaliforniaMinnesota",8086,-1.0035044691231428E-2,-1.7000000000000001E-2,29]
[null,"California",2.1729822873664682E-2,9.6000000000000002E-2,92,"Mississippi",1.426102216325646E-2,0.05,76,"CaliforniaMississippi",4371,-7.4688007104082212E-3,-4.5999999999999999E-2,-16]
[null,"California",2.1729822873664682E-2,9.6000000000000002E-2,92,"Missouri",2.3569272730155875E-2,0.06,81,"CaliforniaMissouri",10717,1.8394498564911939E-3,-3.6000000000000004E-2,-11]
[null,"California",2.1729822873664682E-2,9.6000000000000002E-2,92,"Montana",1.4139449327913651E-2,6.9000000000000006E-2,93,"CaliforniaMontana",5428,-7.5903735457510304E-3,-2.6999999999999996E-2,1]
[null,"California",2.1729822873664682E-2,9.6000000000000002E-2,92,"Nebraska",1.3380940550883517E-2,6.8000000000000005E-2,77,"CaliforniaNebraska",3438,-8.3488823227811648E-3,-2.7999999999999997E-2,-15]
[null,"California",2.1729822873664682E-2,9.6000000000000002E-2,92,"Nevada",2.9713986690417422E-2,0,99,"CaliforniaNevada",49978,7.9841638167527408E-3,-9.6000000000000002E-2,7]
[null,"California",2.1729822873664682E-2,9.6000000000000002E-2,92,"New Hampshire",9.9372578454122104E-3,0,120,"CaliforniaNew Hampshire",1514,-1.1792565028252471E-2,-9.6000000000000002E-2,28]
[null,"California",2.1729822873664682E-2,9.6000000000000002E-2,92,"New Jersey",1.6301331486835775E-2,6.4000000000000001E-2,103,"CaliforniaNew Jersey",4330,-5.4284913868289063E-3,-3.2000000000000001E-2,11]
[null,"California",2.1729822873664682E-2,9.6000000000000002E-2,92,"New Mexico",2.9999418564700536E-2,4.9000000000000002E-2,105,"CaliforniaNew Mexico",4536,8.2695956910358547E-3,-4.7E-2,13]
[null,"California",2.1729822873664682E-2,9.6000000000000002E-2,92,"New York",2.1042672065205326E-2,7.9000000000000001E-2,114,"CaliforniaNew York",24623,-6.8715080845935597E-4,-1.7000000000000001E-2,22]
[null,"California",2.1729822873664682E-2,9.6000000000000002E-2,92,"North Carolina",1.8489642523006337E-2,7.0000000000000007E-2,81,"CaliforniaNorth Carolina",13883,-3.2401803506583449E-3,-2.5999999999999995E-2,-11]
[null,"California",2.1729822873664682E-2,9.6000000000000002E-2,92,"North Dakota",1.3055865360727744E-2,3.7999999999999999E-2,89,"CaliforniaNorth Dakota",999,-8.6739575129369372E-3,-5.8000000000000003E-2,-3]
[null,"California",2.1729822873664682E-2,9.6000000000000002E-2,92,"Ohio",1.6248473732338901E-2,4.7E-2,106,"CaliforniaOhio",8995,-5.4813491413257809E-3,-4.9000000000000002E-2,14]
[null,"California",2.1729822873664682E-2,9.6000000000000002E-2,92,"Oklahoma",2.4039706745178049E-2,5.5E-2,84,"CaliforniaOklahoma",8950,2.3098838715133671E-3,-4.1000000000000002E-2,-8]
[null,"California",2.1729822873664682E-2,9.6000000000000002E-2,92,"Oregon",1.3084937125701024E-2,0.108,107,"CaliforniaOregon",31862,-8.6448857479636577E-3,1.1999999999999997E-2,15]
[null,"California",2.1729822873664682E-2,9.6000000000000002E-2,92,"Pennsylvania",1.8764502846390078E-2,0.03,96,"CaliforniaPennsylvania",7772,-2.9653200272746032E-3,-6.6000000000000003E-2,4]
[null,"California",2.1729822873664682E-2,9.6000000000000002E-2,92,"Rhode Island",1.3082294237976182E-2,7.8E-2,118,"CaliforniaRhode Island",2146,-8.6475286356884999E-3,-1.8000000000000002E-2,26]
[null,"California",2.1729822873664682E-2,9.6000000000000002E-2,92,"South Carolina",3.0229349796761933E-2,7.0000000000000007E-2,88,"CaliforniaSouth Carolina",5979,8.4995269230972517E-3,-2.5999999999999995E-2,-4]
[null,"California",2.1729822873664682E-2,9.6000000000000002E-2,92,"South Dakota",1.3431155417655547E-2,0,79,"CaliforniaSouth Dakota",1494,-8.2986674560091341E-3,-9.6000000000000002E-2,-13]
[null,"California",2.1729822873664682E-2,9.6000000000000002E-2,92,"Tennessee",3.2145443397273599E-2,0,82,"CaliforniaTennessee",8396,1.0415620523608917E-2,-9.6000000000000002E-2,-10]
[null,"California",2.1729822873664682E-2,9.6000000000000002E-2,92,"Texas",2.1592392711972809E-2,0,83,"CaliforniaTexas",62702,-1.3743016169187258E-4,-9.6000000000000002E-2,-9]
[null,"California",2.1729822873664682E-2,9.6000000000000002E-2,92,"Utah",1.0307262126890326E-2,0.05,84,"CaliforniaUtah",15286,-1.1422560746774356E-2,-4.5999999999999999E-2,-8]
[null,"California",2.1729822873664682E-2,9.6000000000000002E-2,92,"Vermont",7.1490112957021358E-3,8.3000000000000004E-2,110,"CaliforniaVermont",1112,-1.4580811577962545E-2,-1.2999999999999998E-2,18]
[null,"California",2.1729822873664682E-2,9.6000000000000002E-2,92,"Virginia",1.039712030953501E-2,5.8000000000000003E-2,87,"CaliforniaVirginia",14780,-1.1332702564129672E-2,-3.7999999999999999E-2,-5]
[null,"California",2.1729822873664682E-2,9.6000000000000002E-2,92,"Washington",1.5569251587054078E-2,0,102,"CaliforniaWashington",45597,-6.1605712866106034E-3,-9.6000000000000002E-2,10]
[null,"California",2.1729822873664682E-2,9.6000000000000002E-2,92,"West Virginia",1.6695121757837481E-2,6.5000000000000002E-2,91,"CaliforniaWest Virginia",1231,-5.0347011158272011E-3,-3.1E-2,-1]
[null,"California",2.1729822873664682E-2,9.6000000000000002E-2,92,"Wisconsin",1.2522002040309323E-2,6.8000000000000005E-2,105,"CaliforniaWisconsin",5347,-9.2078208333553589E-3,-2.7999999999999997E-2,13]
[null,"California",2.1729822873664682E-2,9.6000000000000002E-2,92,"Wyoming",1.159170556116435E-2,0,76,"CaliforniaWyoming",2035,-1.0138117312500331E-2,-9.6000000000000002E-2,-16]
[null,"California",2.1729822873664682E-2,9.6000000000000002E-2,92,"Puerto Rico",0,0,0,"CaliforniaPuerto Rico",519,-2.1729822873664682E-2,-9.6000000000000002E-2,-92]
[null,"Colorado",1.6922410102174039E-2,4.5999999999999999E-2,106,"Alabama",2.2202899776411697E-2,0.05,83,"ColoradoAlabama",1386,5.2804896742376581E-3,4.0000000000000036E-3,-23]
[null,"Colorado",1.6922410102174039E-2,4.5999999999999999E-2,106,"Alaska",3.2055585214628916E-2,0,117,"ColoradoAlaska",556,1.5133175112454877E-2,-4.5999999999999999E-2,11]
[null,"Colorado",1.6922410102174039E-2,4.5999999999999999E-2,106,"Arizona",2.1452319662556094E-2,4.4999999999999998E-2,87,"ColoradoArizona",13790,{"$f":"G319-C319","v":4.5299095603820554E-3},{"$f":"H319-D319","v":-1.0000000000000009E-3},{"$f":"I319-E319","v":-19}]
[null,"Colorado",1.6922410102174039E-2,4.5999999999999999E-2,106,"Arkansas",2.5419294137546445E-2,7.0000000000000007E-2,79,"ColoradoArkansas",603,8.4968840353724061E-3,2.4000000000000007E-2,-27]
[null,"Colorado",1.6922410102174039E-2,4.5999999999999999E-2,106,"California",2.1729822873664682E-2,9.6000000000000002E-2,92,"ColoradoCalifornia",15150,4.8074127714906427E-3,0.05,-14]
[null,"Colorado",1.6922410102174039E-2,4.5999999999999999E-2,106,"Connecticut",1.4419595426747081E-2,0.05,105,"ColoradoConnecticut",367,-2.5028146754269582E-3,4.0000000000000036E-3,-1]
[null,"Colorado",1.6922410102174039E-2,4.5999999999999999E-2,106,"Delaware",2.9571270753275862E-2,7.0000000000000007E-2,100,"ColoradoDelaware",0,1.2648860651101823E-2,2.4000000000000007E-2,-6]
[null,"Colorado",1.6922410102174039E-2,4.5999999999999999E-2,106,"District of Columbia ",6.3540306680691577E-2,8.5000000000000006E-2,148,"ColoradoDistrict of Columbia ",677,4.6617896578517538E-2,3.9000000000000007E-2,42]
[null,"Colorado",1.6922410102174039E-2,4.5999999999999999E-2,106,"Florida",2.7237600892238891E-2,0,89,"ColoradoFlorida",8766,1.0315190790064852E-2,-4.5999999999999999E-2,-17]
[null,"Colorado",1.6922410102174039E-2,4.5999999999999999E-2,106,"Georgia",1.9726513978233176E-2,0.06,95,"ColoradoGeorgia",4710,2.8041038760591372E-3,1.3999999999999999E-2,-11]
[null,"Colorado",1.6922410102174039E-2,4.5999999999999999E-2,106,"Hawaii",1.5418606986737988E-2,8.3000000000000004E-2,149,"ColoradoHawaii",1216,-1.5038031154360511E-3,3.7000000000000005E-2,43]
[null,"Colorado",1.6922410102174039E-2,4.5999999999999999E-2,106,"Idaho",1.0619122878421879E-2,7.8E-2,98,"ColoradoIdaho",1186,-6.3032872237521603E-3,3.2000000000000001E-2,-8]
[null,"Colorado",1.6922410102174039E-2,4.5999999999999999E-2,106,"Illinois",2.2681262454608404E-2,0.03,91,"ColoradoIllinois",3036,5.7588523524343647E-3,-1.6E-2,-15]
[null,"Colorado",1.6922410102174039E-2,4.5999999999999999E-2,106,"Indiana",1.754084582978746E-2,3.4000000000000002E-2,88,"ColoradoIndiana",1225,6.1843572761342142E-4,-1.1999999999999997E-2,-18]
[null,"Colorado",1.6922410102174039E-2,4.5999999999999999E-2,106,"Iowa",1.3507799161676014E-2,0.09,90,"ColoradoIowa",3252,-3.4146109404980252E-3,4.3999999999999997E-2,-16]
[null,"Colorado",1.6922410102174039E-2,4.5999999999999999E-2,106,"Kansas",1.8706359316443516E-2,6.5000000000000002E-2,84,"ColoradoKansas",3746,1.7839492142694771E-3,1.9000000000000003E-2,-22]
[null,"Colorado",1.6922410102174039E-2,4.5999999999999999E-2,106,"Kentucky",1.6652835554239985E-2,5.8000000000000003E-2,92,"ColoradoKentucky",712,-2.6957454793405389E-4,1.2000000000000004E-2,-14]
[null,"Colorado",1.6922410102174039E-2,4.5999999999999999E-2,106,"Louisiana",2.935191107211383E-2,0.06,88,"ColoradoLouisiana",1433,1.2429500969939791E-2,1.3999999999999999E-2,-18]
[null,"Colorado",1.6922410102174039E-2,4.5999999999999999E-2,106,"Maine",6.5120753540148114E-3,6.9000000000000006E-2,104,"ColoradoMaine",314,-1.0410334748159228E-2,2.3000000000000007E-2,-2]
[null,"Colorado",1.6922410102174039E-2,4.5999999999999999E-2,106,"Maryland",2.611701649690518E-2,0.05,103,"ColoradoMaryland",1071,9.1946063947311411E-3,4.0000000000000036E-3,-3]
[null,"Colorado",1.6922410102174039E-2,4.5999999999999999E-2,106,"Massachusetts",2.2641619138735747E-2,5.2999999999999999E-2,126,"ColoradoMassachusetts",980,5.7192090365617079E-3,6.9999999999999993E-3,20]
[null,"Colorado",1.6922410102174039E-2,4.5999999999999999E-2,106,"Michigan",2.3537558077457752E-2,4.3999999999999997E-2,82,"ColoradoMichigan",2363,6.6151479752837132E-3,-2.0000000000000018E-3,-24]
[null,"Colorado",1.6922410102174039E-2,4.5999999999999999E-2,106,"Minnesota",1.1694778182433254E-2,7.9000000000000001E-2,121,"ColoradoMinnesota",3565,-5.2276319197407852E-3,3.3000000000000002E-2,15]
[null,"Colorado",1.6922410102174039E-2,4.5999999999999999E-2,106,"Mississippi",1.426102216325646E-2,0.05,76,"ColoradoMississippi",799,-2.6613879389175785E-3,4.0000000000000036E-3,-30]
[null,"Colorado",1.6922410102174039E-2,4.5999999999999999E-2,106,"Missouri",2.3569272730155875E-2,0.06,81,"ColoradoMissouri",3798,6.6468626279818366E-3,1.3999999999999999E-2,-25]
[null,"Colorado",1.6922410102174039E-2,4.5999999999999999E-2,106,"Montana",1.4139449327913651E-2,6.9000000000000006E-2,93,"ColoradoMontana",2135,-2.7829607742603877E-3,2.3000000000000007E-2,-13]
[null,"Colorado",1.6922410102174039E-2,4.5999999999999999E-2,106,"Nebraska",1.3380940550883517E-2,6.8000000000000005E-2,77,"ColoradoNebraska",2023,-3.5414695512905221E-3,2.2000000000000006E-2,-29]
[null,"Colorado",1.6922410102174039E-2,4.5999999999999999E-2,106,"Nevada",2.9713986690417422E-2,0,99,"ColoradoNevada",6402,1.2791576588243384E-2,-4.5999999999999999E-2,-7]
[null,"Colorado",1.6922410102174039E-2,4.5999999999999999E-2,106,"New Hampshire",9.9372578454122104E-3,0,120,"ColoradoNew Hampshire",572,-6.9851522567618285E-3,-4.5999999999999999E-2,14]
[null,"Colorado",1.6922410102174039E-2,4.5999999999999999E-2,106,"New Jersey",1.6301331486835775E-2,6.4000000000000001E-2,103,"ColoradoNew Jersey",380,-6.2107861533826358E-4,1.8000000000000002E-2,-3]
[null,"Colorado",1.6922410102174039E-2,4.5999999999999999E-2,106,"New Mexico",2.9999418564700536E-2,4.9000000000000002E-2,105,"ColoradoNew Mexico",4780,1.3077008462526497E-2,3.0000000000000027E-3,-1]
[null,"Colorado",1.6922410102174039E-2,4.5999999999999999E-2,106,"New York",2.1042672065205326E-2,7.9000000000000001E-2,114,"ColoradoNew York",3596,4.1202619630312867E-3,3.3000000000000002E-2,8]
[null,"Colorado",1.6922410102174039E-2,4.5999999999999999E-2,106,"North Carolina",1.8489642523006337E-2,7.0000000000000007E-2,81,"ColoradoNorth Carolina",4790,1.5672324208322978E-3,2.4000000000000007E-2,-25]
[null,"Colorado",1.6922410102174039E-2,4.5999999999999999E-2,106,"North Dakota",1.3055865360727744E-2,3.7999999999999999E-2,89,"ColoradoNorth Dakota",546,-3.8665447414462945E-3,-8.0000000000000002E-3,-17]
[null,"Colorado",1.6922410102174039E-2,4.5999999999999999E-2,106,"Ohio",1.6248473732338901E-2,4.7E-2,106,"ColoradoOhio",3180,-6.7393636983513819E-4,1.0000000000000009E-3,0]
[null,"Colorado",1.6922410102174039E-2,4.5999999999999999E-2,106,"Oklahoma",2.4039706745178049E-2,5.5E-2,84,"ColoradoOklahoma",4717,7.1172966430040098E-3,9.0000000000000011E-3,-22]
[null,"Colorado",1.6922410102174039E-2,4.5999999999999999E-2,106,"Oregon",1.3084937125701024E-2,0.108,107,"ColoradoOregon",4472,-3.8374729764730151E-3,6.2E-2,1]
[null,"Colorado",1.6922410102174039E-2,4.5999999999999999E-2,106,"Pennsylvania",1.8764502846390078E-2,0.03,96,"ColoradoPennsylvania",2574,1.8420927442160395E-3,-1.6E-2,-10]
[null,"Colorado",1.6922410102174039E-2,4.5999999999999999E-2,106,"Rhode Island",1.3082294237976182E-2,7.8E-2,118,"ColoradoRhode Island",332,-3.8401158641978572E-3,3.2000000000000001E-2,12]
[null,"Colorado",1.6922410102174039E-2,4.5999999999999999E-2,106,"South Carolina",3.0229349796761933E-2,7.0000000000000007E-2,88,"ColoradoSouth Carolina",1915,1.3306939694587894E-2,2.4000000000000007E-2,-18]
[null,"Colorado",1.6922410102174039E-2,4.5999999999999999E-2,106,"South Dakota",1.3431155417655547E-2,0,79,"ColoradoSouth Dakota",1744,-3.4912546845184914E-3,-4.5999999999999999E-2,-27]
[null,"Colorado",1.6922410102174039E-2,4.5999999999999999E-2,106,"Tennessee",3.2145443397273599E-2,0,82,"ColoradoTennessee",2473,1.522303329509956E-2,-4.5999999999999999E-2,-24]
[null,"Colorado",1.6922410102174039E-2,4.5999999999999999E-2,106,"Texas",2.1592392711972809E-2,0,83,"ColoradoTexas",16616,4.6699826097987701E-3,-4.5999999999999999E-2,-23]
[null,"Colorado",1.6922410102174039E-2,4.5999999999999999E-2,106,"Utah",1.0307262126890326E-2,0.05,84,"ColoradoUtah",5350,-6.6151479752837132E-3,4.0000000000000036E-3,-22]
[null,"Colorado",1.6922410102174039E-2,4.5999999999999999E-2,106,"Vermont",7.1490112957021358E-3,8.3000000000000004E-2,110,"ColoradoVermont",382,-9.7733988064719023E-3,3.7000000000000005E-2,4]
[null,"Colorado",1.6922410102174039E-2,4.5999999999999999E-2,106,"Virginia",1.039712030953501E-2,5.8000000000000003E-2,87,"ColoradoVirginia",5352,-6.5252897926390292E-3,1.2000000000000004E-2,-19]
[null,"Colorado",1.6922410102174039E-2,4.5999999999999999E-2,106,"Washington",1.5569251587054078E-2,0,102,"ColoradoWashington",5195,-1.3531585151199607E-3,-4.5999999999999999E-2,-4]
[null,"Colorado",1.6922410102174039E-2,4.5999999999999999E-2,106,"West Virginia",1.6695121757837481E-2,6.5000000000000002E-2,91,"ColoradoWest Virginia",104,-2.2728834433655837E-4,1.9000000000000003E-2,-15]
[null,"Colorado",1.6922410102174039E-2,4.5999999999999999E-2,106,"Wisconsin",1.2522002040309323E-2,6.8000000000000005E-2,105,"ColoradoWisconsin",1600,-4.4004080618647162E-3,2.2000000000000006E-2,-1]
[null,"Colorado",1.6922410102174039E-2,4.5999999999999999E-2,106,"Wyoming",1.159170556116435E-2,0,76,"ColoradoWyoming",5599,-5.3307045410096888E-3,-4.5999999999999999E-2,-30]
[null,"Colorado",1.6922410102174039E-2,4.5999999999999999E-2,106,"Puerto Rico",0,0,0,"ColoradoPuerto Rico",0,-1.6922410102174039E-2,-4.5999999999999999E-2,-106]
[null,"Connecticut",1.4419595426747081E-2,0.05,105,"Alabama",2.2202899776411697E-2,0.05,83,"ConnecticutAlabama",284,7.7833043496646163E-3,0,-22]
[null,"Connecticut",1.4419595426747081E-2,0.05,105,"Alaska",3.2055585214628916E-2,0,117,"ConnecticutAlaska",0,1.7635989787881834E-2,-0.05,12]
[null,"Connecticut",1.4419595426747081E-2,0.05,105,"Arizona",2.1452319662556094E-2,4.4999999999999998E-2,87,"ConnecticutArizona",417,7.0327242358090136E-3,-5.0000000000000044E-3,-18]
[null,"Connecticut",1.4419595426747081E-2,0.05,105,"Arkansas",2.5419294137546445E-2,7.0000000000000007E-2,79,"ConnecticutArkansas",185,1.0999698710799364E-2,2.0000000000000004E-2,-26]
[null,"Connecticut",1.4419595426747081E-2,0.05,105,"California",2.1729822873664682E-2,9.6000000000000002E-2,92,"ConnecticutCalifornia",6764,7.3102274469176009E-3,4.5999999999999999E-2,-13]
[null,"Connecticut",1.4419595426747081E-2,0.05,105,"Colorado",1.6922410102174039E-2,4.5999999999999999E-2,106,"ConnecticutColorado",1317,2.5028146754269582E-3,-4.0000000000000036E-3,1]
[null,"Connecticut",1.4419595426747081E-2,0.05,105,"Delaware",2.9571270753275862E-2,7.0000000000000007E-2,100,"ConnecticutDelaware",1489,1.5151675326528781E-2,2.0000000000000004E-2,-5]
[null,"Connecticut",1.4419595426747081E-2,0.05,105,"District of Columbia ",6.3540306680691577E-2,8.5000000000000006E-2,148,"ConnecticutDistrict of Columbia ",618,4.9120711253944495E-2,3.5000000000000003E-2,43]
[null,"Connecticut",1.4419595426747081E-2,0.05,105,"Florida",2.7237600892238891E-2,0,89,"ConnecticutFlorida",8975,1.281800546549181E-2,-0.05,-16]
[null,"Connecticut",1.4419595426747081E-2,0.05,105,"Georgia",1.9726513978233176E-2,0.06,95,"ConnecticutGeorgia",1829,5.3069185514860954E-3,9.999999999999995E-3,-10]
[null,"Connecticut",1.4419595426747081E-2,0.05,105,"Hawaii",1.5418606986737988E-2,8.3000000000000004E-2,149,"ConnecticutHawaii",191,9.9901155999090711E-4,3.3000000000000002E-2,44]
[null,"Connecticut",1.4419595426747081E-2,0.05,105,"Idaho",1.0619122878421879E-2,7.8E-2,98,"ConnecticutIdaho",44,-3.8004725483252021E-3,2.7999999999999997E-2,-7]
[null,"Connecticut",1.4419595426747081E-2,0.05,105,"Illinois",2.2681262454608404E-2,0.03,91,"ConnecticutIllinois",955,8.2616670278613229E-3,-2.0000000000000004E-2,-14]
[null,"Connecticut",1.4419595426747081E-2,0.05,105,"Indiana",1.754084582978746E-2,3.4000000000000002E-2,88,"ConnecticutIndiana",823,3.1212504030403796E-3,-1.6E-2,-17]
[null,"Connecticut",1.4419595426747081E-2,0.05,105,"Iowa",1.3507799161676014E-2,0.09,90,"ConnecticutIowa",112,-9.1179626507106697E-4,3.9999999999999994E-2,-15]
[null,"Connecticut",1.4419595426747081E-2,0.05,105,"Kansas",1.8706359316443516E-2,6.5000000000000002E-2,84,"ConnecticutKansas",210,{"$f":"G383-C383","v":4.2867638896964353E-3},{"$f":"H383-D383","v":1.4999999999999999E-2},{"$f":"I383-E383","v":-21}]
[null,"Connecticut",1.4419595426747081E-2,0.05,105,"Kentucky",1.6652835554239985E-2,5.8000000000000003E-2,92,"ConnecticutKentucky",246,2.2332401274929043E-3,8.0000000000000002E-3,-13]
[null,"Connecticut",1.4419595426747081E-2,0.05,105,"Louisiana",2.935191107211383E-2,0.06,88,"ConnecticutLouisiana",164,1.4932315645366749E-2,9.999999999999995E-3,-17]
[null,"Connecticut",1.4419595426747081E-2,0.05,105,"Maine",6.5120753540148114E-3,6.9000000000000006E-2,104,"ConnecticutMaine",1468,-7.9075200727322693E-3,1.9000000000000003E-2,-1]
[null,"Connecticut",1.4419595426747081E-2,0.05,105,"Maryland",2.611701649690518E-2,0.05,103,"ConnecticutMaryland",881,1.1697421070158099E-2,0,-2]
[null,"Connecticut",1.4419595426747081E-2,0.05,105,"Massachusetts",2.2641619138735747E-2,5.2999999999999999E-2,126,"ConnecticutMassachusetts",10525,8.2220237119886661E-3,2.9999999999999957E-3,21]
[null,"Connecticut",1.4419595426747081E-2,0.05,105,"Michigan",2.3537558077457752E-2,4.3999999999999997E-2,82,"ConnecticutMichigan",798,9.1179626507106714E-3,-6.0000000000000053E-3,-23]
[null,"Connecticut",1.4419595426747081E-2,0.05,105,"Minnesota",1.1694778182433254E-2,7.9000000000000001E-2,121,"ConnecticutMinnesota",696,-2.724817244313827E-3,2.8999999999999998E-2,16]
[null,"Connecticut",1.4419595426747081E-2,0.05,105,"Mississippi",1.426102216325646E-2,0.05,76,"ConnecticutMississippi",106,-1.5857326349062034E-4,0,-29]
[null,"Connecticut",1.4419595426747081E-2,0.05,105,"Missouri",2.3569272730155875E-2,0.06,81,"ConnecticutMissouri",410,9.1496773034087948E-3,9.999999999999995E-3,-24]
[null,"Connecticut",1.4419595426747081E-2,0.05,105,"Montana",1.4139449327913651E-2,6.9000000000000006E-2,93,"ConnecticutMontana",0,-2.801460988334295E-4,1.9000000000000003E-2,-12]
[null,"Connecticut",1.4419595426747081E-2,0.05,105,"Nebraska",1.3380940550883517E-2,6.8000000000000005E-2,77,"ConnecticutNebraska",0,-1.0386548758635639E-3,1.8000000000000002E-2,-28]
[null,"Connecticut",1.4419595426747081E-2,0.05,105,"Nevada",2.9713986690417422E-2,0,99,"ConnecticutNevada",143,1.5294391263670342E-2,-0.05,-6]
[null,"Connecticut",1.4419595426747081E-2,0.05,105,"New Hampshire",9.9372578454122104E-3,0,120,"ConnecticutNew Hampshire",1345,-4.4823375813348703E-3,-0.05,15]
[null,"Connecticut",1.4419595426747081E-2,0.05,105,"New Jersey",1.6301331486835775E-2,6.4000000000000001E-2,103,"ConnecticutNew Jersey",3466,1.8817360600886946E-3,1.3999999999999999E-2,-2]
[null,"Connecticut",1.4419595426747081E-2,0.05,105,"New Mexico",2.9999418564700536E-2,4.9000000000000002E-2,105,"ConnecticutNew Mexico",280,1.5579823137953456E-2,-1.0000000000000009E-3,0]
[null,"Connecticut",1.4419595426747081E-2,0.05,105,"New York",2.1042672065205326E-2,7.9000000000000001E-2,114,"ConnecticutNew York",14595,6.6230766384582449E-3,2.8999999999999998E-2,9]
[null,"Connecticut",1.4419595426747081E-2,0.05,105,"North Carolina",1.8489642523006337E-2,7.0000000000000007E-2,81,"ConnecticutNorth Carolina",4914,4.070047096259256E-3,2.0000000000000004E-2,-24]
[null,"Connecticut",1.4419595426747081E-2,0.05,105,"North Dakota",1.3055865360727744E-2,3.7999999999999999E-2,89,"ConnecticutNorth Dakota",65,-1.3637300660193363E-3,-1.2000000000000004E-2,-16]
[null,"Connecticut",1.4419595426747081E-2,0.05,105,"Ohio",1.6248473732338901E-2,4.7E-2,106,"ConnecticutOhio",1355,1.82887830559182E-3,-3.0000000000000027E-3,1]
[null,"Connecticut",1.4419595426747081E-2,0.05,105,"Oklahoma",2.4039706745178049E-2,5.5E-2,84,"ConnecticutOklahoma",0,9.620111318430968E-3,4.9999999999999975E-3,-21]
[null,"Connecticut",1.4419595426747081E-2,0.05,105,"Oregon",1.3084937125701024E-2,0.108,107,"ConnecticutOregon",381,-1.3346583010460569E-3,5.7999999999999996E-2,2]
[null,"Connecticut",1.4419595426747081E-2,0.05,105,"Pennsylvania",1.8764502846390078E-2,0.03,96,"ConnecticutPennsylvania",3311,4.3449074196429977E-3,-2.0000000000000004E-2,-9]
[null,"Connecticut",1.4419595426747081E-2,0.05,105,"Rhode Island",1.3082294237976182E-2,7.8E-2,118,"ConnecticutRhode Island",4170,-1.337301188770899E-3,2.7999999999999997E-2,13]
[null,"Connecticut",1.4419595426747081E-2,0.05,105,"South Carolina",3.0229349796761933E-2,7.0000000000000007E-2,88,"ConnecticutSouth Carolina",1590,1.5809754370014854E-2,2.0000000000000004E-2,-17]
[null,"Connecticut",1.4419595426747081E-2,0.05,105,"South Dakota",1.3431155417655547E-2,0,79,"ConnecticutSouth Dakota",2,-9.8844000909153323E-4,-0.05,-26]
[null,"Connecticut",1.4419595426747081E-2,0.05,105,"Tennessee",3.2145443397273599E-2,0,82,"ConnecticutTennessee",936,1.7725847970526516E-2,-0.05,-23]
[null,"Connecticut",1.4419595426747081E-2,0.05,105,"Texas",2.1592392711972809E-2,0,83,"ConnecticutTexas",2769,7.1727972852257283E-3,-0.05,-22]
[null,"Connecticut",1.4419595426747081E-2,0.05,105,"Utah",1.0307262126890326E-2,0.05,84,"ConnecticutUtah",142,-4.112333299856755E-3,0,-21]
[null,"Connecticut",1.4419595426747081E-2,0.05,105,"Vermont",7.1490112957021358E-3,8.3000000000000004E-2,110,"ConnecticutVermont",1626,-7.2705841310449449E-3,3.3000000000000002E-2,5]
[null,"Connecticut",1.4419595426747081E-2,0.05,105,"Virginia",1.039712030953501E-2,5.8000000000000003E-2,87,"ConnecticutVirginia",2725,-4.022475117212071E-3,8.0000000000000002E-3,-18]
[null,"Connecticut",1.4419595426747081E-2,0.05,105,"Washington",1.5569251587054078E-2,0,102,"ConnecticutWashington",2901,1.1496561603069975E-3,-0.05,-3]
[null,"Connecticut",1.4419595426747081E-2,0.05,105,"West Virginia",1.6695121757837481E-2,6.5000000000000002E-2,91,"ConnecticutWest Virginia",143,2.2755263310903998E-3,1.4999999999999999E-2,-14]
[null,"Connecticut",1.4419595426747081E-2,0.05,105,"Wisconsin",1.2522002040309323E-2,6.8000000000000005E-2,105,"ConnecticutWisconsin",657,-1.897593386437758E-3,1.8000000000000002E-2,0]
[null,"Connecticut",1.4419595426747081E-2,0.05,105,"Wyoming",1.159170556116435E-2,0,76,"ConnecticutWyoming",0,-2.8278898655827306E-3,-0.05,-29]
[null,"Connecticut",1.4419595426747081E-2,0.05,105,"Puerto Rico",0,0,0,"ConnecticutPuerto Rico",370,-1.4419595426747081E-2,-0.05,-105]
[null,"Delaware",2.9571270753275862E-2,7.0000000000000007E-2,100,"Alabama",2.2202899776411697E-2,0.05,83,"DelawareAlabama",42,-7.368370976864165E-3,-2.0000000000000004E-2,-17]
[null,"Delaware",2.9571270753275862E-2,7.0000000000000007E-2,100,"Alaska",3.2055585214628916E-2,0,117,"DelawareAlaska",0,2.4843144613530543E-3,-7.0000000000000007E-2,17]
[null,"Delaware",2.9571270753275862E-2,7.0000000000000007E-2,100,"Arizona",2.1452319662556094E-2,4.4999999999999998E-2,87,"DelawareArizona",246,-8.1189510907197678E-3,-2.5000000000000008E-2,-13]
[null,"Delaware",2.9571270753275862E-2,7.0000000000000007E-2,100,"Arkansas",2.5419294137546445E-2,7.0000000000000007E-2,79,"DelawareArkansas",0,-4.151976615729417E-3,0,-21]
[null,"Delaware",2.9571270753275862E-2,7.0000000000000007E-2,100,"California",2.1729822873664682E-2,9.6000000000000002E-2,92,"DelawareCalifornia",474,-7.8414478796111804E-3,2.5999999999999995E-2,-8]
[null,"Delaware",2.9571270753275862E-2,7.0000000000000007E-2,100,"Colorado",1.6922410102174039E-2,4.5999999999999999E-2,106,"DelawareColorado",70,-1.2648860651101823E-2,-2.4000000000000007E-2,6]
[null,"Delaware",2.9571270753275862E-2,7.0000000000000007E-2,100,"Connecticut",1.4419595426747081E-2,0.05,105,"DelawareConnecticut",22,-1.5151675326528781E-2,-2.0000000000000004E-2,5]
[null,"Delaware",2.9571270753275862E-2,7.0000000000000007E-2,100,"District of Columbia ",6.3540306680691577E-2,8.5000000000000006E-2,148,"DelawareDistrict of Columbia ",78,3.3969035927415715E-2,1.4999999999999999E-2,48]
[null,"Delaware",2.9571270753275862E-2,7.0000000000000007E-2,100,"Florida",2.7237600892238891E-2,0,89,"DelawareFlorida",1099,-2.3336698610369709E-3,-7.0000000000000007E-2,-11]
[null,"Delaware",2.9571270753275862E-2,7.0000000000000007E-2,100,"Georgia",1.9726513978233176E-2,0.06,95,"DelawareGeorgia",226,-9.8447567750426859E-3,-1.0000000000000009E-2,-5]
[null,"Delaware",2.9571270753275862E-2,7.0000000000000007E-2,100,"Hawaii",1.5418606986737988E-2,8.3000000000000004E-2,149,"DelawareHawaii",278,-1.4152663766537874E-2,1.2999999999999998E-2,49]
[null,"Delaware",2.9571270753275862E-2,7.0000000000000007E-2,100,"Idaho",1.0619122878421879E-2,7.8E-2,98,"DelawareIdaho",120,-1.8952147874853983E-2,7.9999999999999932E-3,-2]
[null,"Delaware",2.9571270753275862E-2,7.0000000000000007E-2,100,"Illinois",2.2681262454608404E-2,0.03,91,"DelawareIllinois",234,-6.8900082986674584E-3,-4.0000000000000008E-2,-9]
[null,"Delaware",2.9571270753275862E-2,7.0000000000000007E-2,100,"Indiana",1.754084582978746E-2,3.4000000000000002E-2,88,"DelawareIndiana",639,-1.2030424923488402E-2,-3.6000000000000004E-2,-12]
[null,"Delaware",2.9571270753275862E-2,7.0000000000000007E-2,100,"Iowa",1.3507799161676014E-2,0.09,90,"DelawareIowa",0,-1.6063471591599848E-2,1.999999999999999E-2,-10]
[null,"Delaware",2.9571270753275862E-2,7.0000000000000007E-2,100,"Kansas",1.8706359316443516E-2,6.5000000000000002E-2,84,"DelawareKansas",0,-1.0864911436832346E-2,-5.0000000000000044E-3,-16]
[null,"Delaware",2.9571270753275862E-2,7.0000000000000007E-2,100,"Kentucky",1.6652835554239985E-2,5.8000000000000003E-2,92,"DelawareKentucky",706,-1.2918435199035877E-2,-1.2000000000000004E-2,-8]
[null,"Delaware",2.9571270753275862E-2,7.0000000000000007E-2,100,"Louisiana",2.935191107211383E-2,0.06,88,"DelawareLouisiana",0,-2.1935968116203186E-4,-1.0000000000000009E-2,-12]
[null,"Delaware",2.9571270753275862E-2,7.0000000000000007E-2,100,"Maine",6.5120753540148114E-3,6.9000000000000006E-2,104,"DelawareMaine",234,-2.3059195399261052E-2,-1.0000000000000009E-3,4]
[null,"Delaware",2.9571270753275862E-2,7.0000000000000007E-2,100,"Maryland",2.611701649690518E-2,0.05,103,"DelawareMaryland",4100,-3.454254256370682E-3,-2.0000000000000004E-2,3]
[null,"Delaware",2.9571270753275862E-2,7.0000000000000007E-2,100,"Massachusetts",2.2641619138735747E-2,5.2999999999999999E-2,126,"DelawareMassachusetts",506,-6.9296516145401152E-3,-1.7000000000000008E-2,26]
[null,"Delaware",2.9571270753275862E-2,7.0000000000000007E-2,100,"Michigan",2.3537558077457752E-2,4.3999999999999997E-2,82,"DelawareMichigan",114,-6.0337126758181099E-3,-2.6000000000000009E-2,-18]
[null,"Delaware",2.9571270753275862E-2,7.0000000000000007E-2,100,"Minnesota",1.1694778182433254E-2,7.9000000000000001E-2,121,"DelawareMinnesota",0,-1.787649257084261E-2,8.9999999999999941E-3,21]
[null,"Delaware",2.9571270753275862E-2,7.0000000000000007E-2,100,"Mississippi",1.426102216325646E-2,0.05,76,"DelawareMississippi",0,-1.5310248590019402E-2,-2.0000000000000004E-2,-24]
[null,"Delaware",2.9571270753275862E-2,7.0000000000000007E-2,100,"Missouri",2.3569272730155875E-2,0.06,81,"DelawareMissouri",234,-6.0019980231199865E-3,-1.0000000000000009E-2,-19]
[null,"Delaware",2.9571270753275862E-2,7.0000000000000007E-2,100,"Montana",1.4139449327913651E-2,6.9000000000000006E-2,93,"DelawareMontana",0,-1.5431821425362211E-2,-1.0000000000000009E-3,-7]
[null,"Delaware",2.9571270753275862E-2,7.0000000000000007E-2,100,"Nebraska",1.3380940550883517E-2,6.8000000000000005E-2,77,"DelawareNebraska",0,-1.6190330202392345E-2,-2.0000000000000018E-3,-23]
[null,"Delaware",2.9571270753275862E-2,7.0000000000000007E-2,100,"Nevada",2.9713986690417422E-2,0,99,"DelawareNevada",373,1.4271593714156039E-4,-7.0000000000000007E-2,-1]
[null,"Delaware",2.9571270753275862E-2,7.0000000000000007E-2,100,"New Hampshire",9.9372578454122104E-3,0,120,"DelawareNew Hampshire",0,{"$f":"G447-C447","v":-1.9634012907863652E-2},{"$f":"H447-D447","v":-7.0000000000000007E-2},{"$f":"I447-E447","v":20}]
[null,"Delaware",2.9571270753275862E-2,7.0000000000000007E-2,100,"New Jersey",1.6301331486835775E-2,6.4000000000000001E-2,103,"DelawareNew Jersey",1921,-1.3269939266440087E-2,-6.0000000000000053E-3,3]
[null,"Delaware",2.9571270753275862E-2,7.0000000000000007E-2,100,"New Mexico",2.9999418564700536E-2,4.9000000000000002E-2,105,"DelawareNew Mexico",100,4.2814781142467423E-4,-2.1000000000000005E-2,5]
[null,"Delaware",2.9571270753275862E-2,7.0000000000000007E-2,100,"New York",2.1042672065205326E-2,7.9000000000000001E-2,114,"DelawareNew York",477,-8.5285986880705364E-3,8.9999999999999941E-3,14]
[null,"Delaware",2.9571270753275862E-2,7.0000000000000007E-2,100,"North Carolina",1.8489642523006337E-2,7.0000000000000007E-2,81,"DelawareNorth Carolina",2180,-1.1081628230269525E-2,0,-19]
[null,"Delaware",2.9571270753275862E-2,7.0000000000000007E-2,100,"North Dakota",1.3055865360727744E-2,3.7999999999999999E-2,89,"DelawareNorth Dakota",0,-1.6515405392548116E-2,-3.2000000000000008E-2,-11]
[null,"Delaware",2.9571270753275862E-2,7.0000000000000007E-2,100,"Ohio",1.6248473732338901E-2,4.7E-2,106,"DelawareOhio",1079,-1.3322797020936961E-2,-2.3000000000000007E-2,6]
[null,"Delaware",2.9571270753275862E-2,7.0000000000000007E-2,100,"Oklahoma",2.4039706745178049E-2,5.5E-2,84,"DelawareOklahoma",380,-5.5315640080978133E-3,-1.5000000000000006E-2,-16]
[null,"Delaware",2.9571270753275862E-2,7.0000000000000007E-2,100,"Oregon",1.3084937125701024E-2,0.108,107,"DelawareOregon",0,-1.6486333627574838E-2,3.7999999999999992E-2,7]
[null,"Delaware",2.9571270753275862E-2,7.0000000000000007E-2,100,"Pennsylvania",1.8764502846390078E-2,0.03,96,"DelawarePennsylvania",4814,-1.0806767906885784E-2,-4.0000000000000008E-2,-4]
[null,"Delaware",2.9571270753275862E-2,7.0000000000000007E-2,100,"Rhode Island",1.3082294237976182E-2,7.8E-2,118,"DelawareRhode Island",0,-1.648897651529968E-2,7.9999999999999932E-3,18]
[null,"Delaware",2.9571270753275862E-2,7.0000000000000007E-2,100,"South Carolina",3.0229349796761933E-2,7.0000000000000007E-2,88,"DelawareSouth Carolina",697,6.580790434860713E-4,0,-12]
[null,"Delaware",2.9571270753275862E-2,7.0000000000000007E-2,100,"South Dakota",1.3431155417655547E-2,0,79,"DelawareSouth Dakota",0,-1.6140115335620313E-2,-7.0000000000000007E-2,-21]
[null,"Delaware",2.9571270753275862E-2,7.0000000000000007E-2,100,"Tennessee",3.2145443397273599E-2,0,82,"DelawareTennessee",176,2.5741726439977367E-3,-7.0000000000000007E-2,-18]
[null,"Delaware",2.9571270753275862E-2,7.0000000000000007E-2,100,"Texas",2.1592392711972809E-2,0,83,"DelawareTexas",181,-7.978878041303053E-3,-7.0000000000000007E-2,-17]
[null,"Delaware",2.9571270753275862E-2,7.0000000000000007E-2,100,"Utah",1.0307262126890326E-2,0.05,84,"DelawareUtah",0,-1.9264008626385536E-2,-2.0000000000000004E-2,-16]
[null,"Delaware",2.9571270753275862E-2,7.0000000000000007E-2,100,"Vermont",7.1490112957021358E-3,8.3000000000000004E-2,110,"DelawareVermont",0,-2.2422259457573725E-2,1.2999999999999998E-2,10]
[null,"Delaware",2.9571270753275862E-2,7.0000000000000007E-2,100,"Virginia",1.039712030953501E-2,5.8000000000000003E-2,87,"DelawareVirginia",2279,-1.9174150443740851E-2,-1.2000000000000004E-2,-13]
[null,"Delaware",2.9571270753275862E-2,7.0000000000000007E-2,100,"Washington",1.5569251587054078E-2,0,102,"DelawareWashington",100,-1.4002019166221784E-2,-7.0000000000000007E-2,2]
[null,"Delaware",2.9571270753275862E-2,7.0000000000000007E-2,100,"West Virginia",1.6695121757837481E-2,6.5000000000000002E-2,91,"DelawareWest Virginia",674,-1.2876148995438381E-2,-5.0000000000000044E-3,-9]
[null,"Delaware",2.9571270753275862E-2,7.0000000000000007E-2,100,"Wisconsin",1.2522002040309323E-2,6.8000000000000005E-2,105,"DelawareWisconsin",296,-1.7049268712966539E-2,-2.0000000000000018E-3,5]
[null,"Delaware",2.9571270753275862E-2,7.0000000000000007E-2,100,"Wyoming",1.159170556116435E-2,0,76,"DelawareWyoming",0,-1.797956519211151E-2,-7.0000000000000007E-2,-24]
[null,"Delaware",2.9571270753275862E-2,7.0000000000000007E-2,100,"Puerto Rico",0,0,0,"DelawarePuerto Rico",0,-2.9571270753275862E-2,-7.0000000000000007E-2,-100]
[null,"District of Columbia ",6.3540306680691577E-2,8.5000000000000006E-2,148,"Alabama",2.2202899776411697E-2,0.05,83,"District of Columbia Alabama",162,-4.133740690427988E-2,-3.5000000000000003E-2,-65]
[null,"District of Columbia ",6.3540306680691577E-2,8.5000000000000006E-2,148,"Alaska",3.2055585214628916E-2,0,117,"District of Columbia Alaska",356,-3.1484721466062661E-2,-8.5000000000000006E-2,-31]
[null,"District of Columbia ",6.3540306680691577E-2,8.5000000000000006E-2,148,"Arizona",2.1452319662556094E-2,4.4999999999999998E-2,87,"District of Columbia Arizona",36,-4.2087987018135486E-2,-4.0000000000000008E-2,-61]
[null,"District of Columbia ",6.3540306680691577E-2,8.5000000000000006E-2,148,"Arkansas",2.5419294137546445E-2,7.0000000000000007E-2,79,"District of Columbia Arkansas",205,-3.8121012543145136E-2,-1.4999999999999999E-2,-69]
[null,"District of Columbia ",6.3540306680691577E-2,8.5000000000000006E-2,148,"California",2.1729822873664682E-2,9.6000000000000002E-2,92,"District of Columbia California",3199,-4.1810483807026899E-2,1.0999999999999996E-2,-56]
[null,"District of Columbia ",6.3540306680691577E-2,8.5000000000000006E-2,148,"Colorado",1.6922410102174039E-2,4.5999999999999999E-2,106,"District of Columbia Colorado",488,-4.6617896578517538E-2,-3.9000000000000007E-2,-42]
[null,"District of Columbia ",6.3540306680691577E-2,8.5000000000000006E-2,148,"Connecticut",1.4419595426747081E-2,0.05,105,"District of Columbia Connecticut",288,-4.9120711253944495E-2,-3.5000000000000003E-2,-43]
[null,"District of Columbia ",6.3540306680691577E-2,8.5000000000000006E-2,148,"Delaware",2.9571270753275862E-2,7.0000000000000007E-2,100,"District of Columbia Delaware",11,-3.3969035927415715E-2,-1.4999999999999999E-2,-48]
[null,"District of Columbia ",6.3540306680691577E-2,8.5000000000000006E-2,148,"Florida",2.7237600892238891E-2,0,89,"District of Columbia Florida",780,-3.6302705788452683E-2,-8.5000000000000006E-2,-59]
[null,"District of Columbia ",6.3540306680691577E-2,8.5000000000000006E-2,148,"Georgia",1.9726513978233176E-2,0.06,95,"District of Columbia Georgia",1352,-4.3813792702458401E-2,-2.5000000000000008E-2,-53]
[null,"District of Columbia ",6.3540306680691577E-2,8.5000000000000006E-2,148,"Hawaii",1.5418606986737988E-2,8.3000000000000004E-2,149,"District of Columbia Hawaii",230,-4.8121699693953593E-2,-2.0000000000000018E-3,1]
[null,"District of Columbia ",6.3540306680691577E-2,8.5000000000000006E-2,148,"Idaho",1.0619122878421879E-2,7.8E-2,98,"District of Columbia Idaho",116,-5.2921183802269699E-2,-7.0000000000000062E-3,-50]
[null,"District of Columbia ",6.3540306680691577E-2,8.5000000000000006E-2,148,"Illinois",2.2681262454608404E-2,0.03,91,"District of Columbia Illinois",1066,-4.0859044226083177E-2,-5.5000000000000007E-2,-57]
[null,"District of Columbia ",6.3540306680691577E-2,8.5000000000000006E-2,148,"Indiana",1.754084582978746E-2,3.4000000000000002E-2,88,"District of Columbia Indiana",1045,-4.5999460850904117E-2,-5.1000000000000004E-2,-60]
[null,"District of Columbia ",6.3540306680691577E-2,8.5000000000000006E-2,148,"Iowa",1.3507799161676014E-2,0.09,90,"District of Columbia Iowa",151,-5.0032507519015564E-2,4.9999999999999906E-3,-58]
[null,"District of Columbia ",6.3540306680691577E-2,8.5000000000000006E-2,148,"Kansas",1.8706359316443516E-2,6.5000000000000002E-2,84,"District of Columbia Kansas",456,-4.4833947364248061E-2,-2.0000000000000004E-2,-64]
[null,"District of Columbia ",6.3540306680691577E-2,8.5000000000000006E-2,148,"Kentucky",1.6652835554239985E-2,5.8000000000000003E-2,92,"District of Columbia Kentucky",254,-4.6887471126451592E-2,-2.7000000000000003E-2,-56]
[null,"District of Columbia ",6.3540306680691577E-2,8.5000000000000006E-2,148,"Louisiana",2.935191107211383E-2,0.06,88,"District of Columbia Louisiana",596,-3.4188395608577747E-2,-2.5000000000000008E-2,-60]
[null,"District of Columbia ",6.3540306680691577E-2,8.5000000000000006E-2,148,"Maine",6.5120753540148114E-3,6.9000000000000006E-2,104,"District of Columbia Maine",32,-5.7028231326676768E-2,-1.6E-2,-44]
[null,"District of Columbia ",6.3540306680691577E-2,8.5000000000000006E-2,148,"Maryland",2.611701649690518E-2,0.05,103,"District of Columbia Maryland",21213,-3.7423290183786401E-2,-3.5000000000000003E-2,-45]
[null,"District of Columbia ",6.3540306680691577E-2,8.5000000000000006E-2,148,"Massachusetts",2.2641619138735747E-2,5.2999999999999999E-2,126,"District of Columbia Massachusetts",379,-4.089868754195583E-2,-3.2000000000000008E-2,-22]
[null,"District of Columbia ",6.3540306680691577E-2,8.5000000000000006E-2,148,"Michigan",2.3537558077457752E-2,4.3999999999999997E-2,82,"District of Columbia Michigan",274,-4.0002748603233829E-2,-4.1000000000000009E-2,-66]
[null,"District of Columbia ",6.3540306680691577E-2,8.5000000000000006E-2,148,"Minnesota",1.1694778182433254E-2,7.9000000000000001E-2,121,"District of Columbia Minnesota",310,-5.1845528498258325E-2,-6.0000000000000053E-3,-27]
[null,"District of Columbia ",6.3540306680691577E-2,8.5000000000000006E-2,148,"Mississippi",1.426102216325646E-2,0.05,76,"District of Columbia Mississippi",97,-4.9279284517435115E-2,-3.5000000000000003E-2,-72]
[null,"District of Columbia ",6.3540306680691577E-2,8.5000000000000006E-2,148,"Missouri",2.3569272730155875E-2,0.06,81,"District of Columbia Missouri",144,-3.9971033950535702E-2,-2.5000000000000008E-2,-67]
[null,"District of Columbia ",6.3540306680691577E-2,8.5000000000000006E-2,148,"Montana",1.4139449327913651E-2,6.9000000000000006E-2,93,"District of Columbia Montana",0,-4.9400857352777924E-2,-1.6E-2,-55]
[null,"District of Columbia ",6.3540306680691577E-2,8.5000000000000006E-2,148,"Nebraska",1.3380940550883517E-2,6.8000000000000005E-2,77,"District of Columbia Nebraska",0,-5.0159366129808064E-2,-1.7000000000000001E-2,-71]
[null,"District of Columbia ",6.3540306680691577E-2,8.5000000000000006E-2,148,"Nevada",2.9713986690417422E-2,0,99,"District of Columbia Nevada",468,-3.3826319990274155E-2,-8.5000000000000006E-2,-49]
[null,"District of Columbia ",6.3540306680691577E-2,8.5000000000000006E-2,148,"New Hampshire",9.9372578454122104E-3,0,120,"District of Columbia New Hampshire",101,-5.3603048835279367E-2,-8.5000000000000006E-2,-28]
[null,"District of Columbia ",6.3540306680691577E-2,8.5000000000000006E-2,148,"New Jersey",1.6301331486835775E-2,6.4000000000000001E-2,103,"District of Columbia New Jersey",840,-4.7238975193855802E-2,-2.1000000000000005E-2,-45]
[null,"District of Columbia ",6.3540306680691577E-2,8.5000000000000006E-2,148,"New Mexico",2.9999418564700536E-2,4.9000000000000002E-2,105,"District of Columbia New Mexico",25,-3.3540888115991041E-2,-3.6000000000000004E-2,-43]
[null,"District of Columbia ",6.3540306680691577E-2,8.5000000000000006E-2,148,"New York",2.1042672065205326E-2,7.9000000000000001E-2,114,"District of Columbia New York",3936,-4.2497634615486252E-2,-6.0000000000000053E-3,-34]
[null,"District of Columbia ",6.3540306680691577E-2,8.5000000000000006E-2,148,"North Carolina",1.8489642523006337E-2,7.0000000000000007E-2,81,"District of Columbia North Carolina",1801,-4.5050664157685244E-2,-1.4999999999999999E-2,-67]
[null,"District of Columbia ",6.3540306680691577E-2,8.5000000000000006E-2,148,"North Dakota",1.3055865360727744E-2,3.7999999999999999E-2,89,"District of Columbia North Dakota",70,-5.0484441319963831E-2,-4.7000000000000007E-2,-59]
[null,"District of Columbia ",6.3540306680691577E-2,8.5000000000000006E-2,148,"Ohio",1.6248473732338901E-2,4.7E-2,106,"District of Columbia Ohio",985,-4.729183294835268E-2,-3.8000000000000006E-2,-42]
[null,"District of Columbia ",6.3540306680691577E-2,8.5000000000000006E-2,148,"Oklahoma",2.4039706745178049E-2,5.5E-2,84,"District of Columbia Oklahoma",151,-3.9500599935513525E-2,-3.0000000000000006E-2,-64]
[null,"District of Columbia ",6.3540306680691577E-2,8.5000000000000006E-2,148,"Oregon",1.3084937125701024E-2,0.108,107,"District of Columbia Oregon",696,-5.0455369554990553E-2,2.2999999999999993E-2,-41]
[null,"District of Columbia ",6.3540306680691577E-2,8.5000000000000006E-2,148,"Pennsylvania",1.8764502846390078E-2,0.03,96,"District of Columbia Pennsylvania",2921,-4.4775803834301499E-2,-5.5000000000000007E-2,-52]
[null,"District of Columbia ",6.3540306680691577E-2,8.5000000000000006E-2,148,"Rhode Island",1.3082294237976182E-2,7.8E-2,118,"District of Columbia Rhode Island",313,-5.0458012442715396E-2,-7.0000000000000062E-3,-30]
[null,"District of Columbia ",6.3540306680691577E-2,8.5000000000000006E-2,148,"South Carolina",3.0229349796761933E-2,7.0000000000000007E-2,88,"District of Columbia South Carolina",435,-3.331095688392964E-2,-1.4999999999999999E-2,-60]
[null,"District of Columbia ",6.3540306680691577E-2,8.5000000000000006E-2,148,"South Dakota",1.3431155417655547E-2,0,79,"District of Columbia South Dakota",0,-5.0109151263036028E-2,-8.5000000000000006E-2,-69]
[null,"District of Columbia ",6.3540306680691577E-2,8.5000000000000006E-2,148,"Tennessee",3.2145443397273599E-2,0,82,"District of Columbia Tennessee",180,{"$f":"G511-C511","v":-3.1394863283417979E-2},{"$f":"H511-D511","v":-8.5000000000000006E-2},{"$f":"I511-E511","v":-66}]
[null,"District of Columbia ",6.3540306680691577E-2,8.5000000000000006E-2,148,"Texas",2.1592392711972809E-2,0,83,"District of Columbia Texas",1189,-4.1947913968718768E-2,-8.5000000000000006E-2,-65]
[null,"District of Columbia ",6.3540306680691577E-2,8.5000000000000006E-2,148,"Utah",1.0307262126890326E-2,0.05,84,"District of Columbia Utah",0,-5.3233044553801248E-2,-3.5000000000000003E-2,-64]
[null,"District of Columbia ",6.3540306680691577E-2,8.5000000000000006E-2,148,"Vermont",7.1490112957021358E-3,8.3000000000000004E-2,110,"District of Columbia Vermont",116,-5.6391295384989444E-2,-2.0000000000000018E-3,-38]
[null,"District of Columbia ",6.3540306680691577E-2,8.5000000000000006E-2,148,"Virginia",1.039712030953501E-2,5.8000000000000003E-2,87,"District of Columbia Virginia",10964,-5.3143186371156566E-2,-2.7000000000000003E-2,-61]
[null,"District of Columbia ",6.3540306680691577E-2,8.5000000000000006E-2,148,"Washington",1.5569251587054078E-2,0,102,"District of Columbia Washington",773,-4.7971055093637499E-2,-8.5000000000000006E-2,-46]
[null,"District of Columbia ",6.3540306680691577E-2,8.5000000000000006E-2,148,"West Virginia",1.6695121757837481E-2,6.5000000000000002E-2,91,"District of Columbia West Virginia",294,-4.6845184922854097E-2,-2.0000000000000004E-2,-57]
[null,"District of Columbia ",6.3540306680691577E-2,8.5000000000000006E-2,148,"Wisconsin",1.2522002040309323E-2,6.8000000000000005E-2,105,"District of Columbia Wisconsin",15,-5.1018304640382255E-2,-1.7000000000000001E-2,-43]
[null,"District of Columbia ",6.3540306680691577E-2,8.5000000000000006E-2,148,"Wyoming",1.159170556116435E-2,0,76,"District of Columbia Wyoming",0,-5.1948601119527225E-2,-8.5000000000000006E-2,-72]
[null,"District of Columbia ",6.3540306680691577E-2,8.5000000000000006E-2,148,"Puerto Rico",0,0,0,"District of Columbia Puerto Rico",0,-6.3540306680691577E-2,-8.5000000000000006E-2,-148]
[null,"Florida",2.7237600892238891E-2,0,89,"Alabama",2.2202899776411697E-2,0.05,83,"FloridaAlabama",11244,-5.0347011158271941E-3,0.05,-6]
[null,"Florida",2.7237600892238891E-2,0,89,"Alaska",3.2055585214628916E-2,0,117,"FloridaAlaska",1991,4.8179843223900252E-3,0,28]
[null,"Florida",2.7237600892238891E-2,0,89,"Arizona",2.1452319662556094E-2,4.4999999999999998E-2,87,"FloridaArizona",5553,-5.7852812296827968E-3,4.4999999999999998E-2,-2]
[null,"Florida",2.7237600892238891E-2,0,89,"Arkansas",2.5419294137546445E-2,7.0000000000000007E-2,79,"FloridaArkansas",2682,-1.8183067546924461E-3,7.0000000000000007E-2,-10]
[null,"Florida",2.7237600892238891E-2,0,89,"California",2.1729822873664682E-2,9.6000000000000002E-2,92,"FloridaCalifornia",21004,-5.5077780185742095E-3,9.6000000000000002E-2,3]
[null,"Florida",2.7237600892238891E-2,0,89,"Colorado",1.6922410102174039E-2,4.5999999999999999E-2,106,"FloridaColorado",8615,-1.0315190790064852E-2,4.5999999999999999E-2,17]
[null,"Florida",2.7237600892238891E-2,0,89,"Connecticut",1.4419595426747081E-2,0.05,105,"FloridaConnecticut",6578,-1.281800546549181E-2,0.05,16]
[null,"Florida",2.7237600892238891E-2,0,89,"Delaware",2.9571270753275862E-2,7.0000000000000007E-2,100,"FloridaDelaware",715,2.3336698610369709E-3,7.0000000000000007E-2,11]
[null,"Florida",2.7237600892238891E-2,0,89,"District of Columbia ",6.3540306680691577E-2,8.5000000000000006E-2,148,"FloridaDistrict of Columbia ",1705,3.6302705788452683E-2,8.5000000000000006E-2,59]
[null,"Florida",2.7237600892238891E-2,0,89,"Georgia",1.9726513978233176E-2,0.06,95,"FloridaGeorgia",42870,-7.511086914005715E-3,0.06,6]
[null,"Florida",2.7237600892238891E-2,0,89,"Hawaii",1.5418606986737988E-2,8.3000000000000004E-2,149,"FloridaHawaii",2780,-1.1818993905500903E-2,8.3000000000000004E-2,60]
[null,"Florida",2.7237600892238891E-2,0,89,"Idaho",1.0619122878421879E-2,7.8E-2,98,"FloridaIdaho",2014,-1.6618478013817013E-2,7.8E-2,9]
[null,"Florida",2.7237600892238891E-2,0,89,"Illinois",2.2681262454608404E-2,0.03,91,"FloridaIllinois",12687,-4.5563384376304875E-3,0.03,2]
[null,"Florida",2.7237600892238891E-2,0,89,"Indiana",1.754084582978746E-2,3.4000000000000002E-2,88,"FloridaIndiana",11472,-9.6967550624514308E-3,3.4000000000000002E-2,-1]
[null,"Florida",2.7237600892238891E-2,0,89,"Iowa",1.3507799161676014E-2,0.09,90,"FloridaIowa",4335,-1.3729801730562877E-2,0.09,1]
[null,"Florida",2.7237600892238891E-2,0,89,"Kansas",1.8706359316443516E-2,6.5000000000000002E-2,84,"FloridaKansas",3118,-8.5312415757953751E-3,6.5000000000000002E-2,-5]
[null,"Florida",2.7237600892238891E-2,0,89,"Kentucky",1.6652835554239985E-2,5.8000000000000003E-2,92,"FloridaKentucky",9232,-1.0584765337998906E-2,5.8000000000000003E-2,3]
[null,"Florida",2.7237600892238891E-2,0,89,"Louisiana",2.935191107211383E-2,0.06,88,"FloridaLouisiana",6534,2.114310179874939E-3,0.06,-1]
[null,"Florida",2.7237600892238891E-2,0,89,"Maine",6.5120753540148114E-3,6.9000000000000006E-2,104,"FloridaMaine",2926,-2.0725525538224078E-2,6.9000000000000006E-2,15]
[null,"Florida",2.7237600892238891E-2,0,89,"Maryland",2.611701649690518E-2,0.05,103,"FloridaMaryland",9610,-1.1205843953337111E-3,0.05,14]
[null,"Florida",2.7237600892238891E-2,0,89,"Massachusetts",2.2641619138735747E-2,5.2999999999999999E-2,126,"FloridaMassachusetts",12890,-4.5959817535031443E-3,5.2999999999999999E-2,37]
[null,"Florida",2.7237600892238891E-2,0,89,"Michigan",2.3537558077457752E-2,4.3999999999999997E-2,82,"FloridaMichigan",13146,-3.700042814781139E-3,4.3999999999999997E-2,-7]
[null,"Florida",2.7237600892238891E-2,0,89,"Minnesota",1.1694778182433254E-2,7.9000000000000001E-2,121,"FloridaMinnesota",2372,-1.5542822709805637E-2,7.9000000000000001E-2,32]
[null,"Florida",2.7237600892238891E-2,0,89,"Mississippi",1.426102216325646E-2,0.05,76,"FloridaMississippi",4676,-1.2976578728982431E-2,0.05,-13]
[null,"Florida",2.7237600892238891E-2,0,89,"Missouri",2.3569272730155875E-2,0.06,81,"FloridaMissouri",8374,-3.6683281620830156E-3,0.06,-8]
[null,"Florida",2.7237600892238891E-2,0,89,"Montana",1.4139449327913651E-2,6.9000000000000006E-2,93,"FloridaMontana",1875,-1.309815156432524E-2,6.9000000000000006E-2,4]
[null,"Florida",2.7237600892238891E-2,0,89,"Nebraska",1.3380940550883517E-2,6.8000000000000005E-2,77,"FloridaNebraska",1368,-1.3856660341355374E-2,6.8000000000000005E-2,-12]
[null,"Florida",2.7237600892238891E-2,0,89,"Nevada",2.9713986690417422E-2,0,99,"FloridaNevada",3381,2.4763857981785313E-3,0,10]
[null,"Florida",2.7237600892238891E-2,0,89,"New Hampshire",9.9372578454122104E-3,0,120,"FloridaNew Hampshire",2746,-1.7300343046826681E-2,0,31]
[null,"Florida",2.7237600892238891E-2,0,89,"New Jersey",1.6301331486835775E-2,6.4000000000000001E-2,103,"FloridaNew Jersey",10649,-1.0936269405403116E-2,6.4000000000000001E-2,14]
[null,"Florida",2.7237600892238891E-2,0,89,"New Mexico",2.9999418564700536E-2,4.9000000000000002E-2,105,"FloridaNew Mexico",4707,2.7618176724616451E-3,4.9000000000000002E-2,16]
[null,"Florida",2.7237600892238891E-2,0,89,"New York",2.1042672065205326E-2,7.9000000000000001E-2,114,"FloridaNew York",27392,-6.1949288270335655E-3,7.9000000000000001E-2,25]
[null,"Florida",2.7237600892238891E-2,0,89,"North Carolina",1.8489642523006337E-2,7.0000000000000007E-2,81,"FloridaNorth Carolina",26365,-8.7479583692325544E-3,7.0000000000000007E-2,-8]
[null,"Florida",2.7237600892238891E-2,0,89,"North Dakota",1.3055865360727744E-2,3.7999999999999999E-2,89,"FloridaNorth Dakota",950,-1.4181735531511147E-2,3.7999999999999999E-2,0]
[null,"Florida",2.7237600892238891E-2,0,89,"Ohio",1.6248473732338901E-2,4.7E-2,106,"FloridaOhio",16366,-1.098912715989999E-2,4.7E-2,17]
[null,"Florida",2.7237600892238891E-2,0,89,"Oklahoma",2.4039706745178049E-2,5.5E-2,84,"FloridaOklahoma",5011,-3.1978941470608424E-3,5.5E-2,-5]
[null,"Florida",2.7237600892238891E-2,0,89,"Oregon",1.3084937125701024E-2,0.108,107,"FloridaOregon",1660,-1.4152663766537867E-2,0.108,18]
[null,"Florida",2.7237600892238891E-2,0,89,"Pennsylvania",1.8764502846390078E-2,0.03,96,"FloridaPennsylvania",14631,-8.4730980458488127E-3,0.03,7]
[null,"Florida",2.7237600892238891E-2,0,89,"Rhode Island",1.3082294237976182E-2,7.8E-2,118,"FloridaRhode Island",2752,-1.4155306654262709E-2,7.8E-2,29]
[null,"Florida",2.7237600892238891E-2,0,89,"South Carolina",3.0229349796761933E-2,7.0000000000000007E-2,88,"FloridaSouth Carolina",11552,2.9917489045230422E-3,7.0000000000000007E-2,-1]
[null,"Florida",2.7237600892238891E-2,0,89,"South Dakota",1.3431155417655547E-2,0,79,"FloridaSouth Dakota",970,-1.3806445474583344E-2,0,-10]
[null,"Florida",2.7237600892238891E-2,0,89,"Tennessee",3.2145443397273599E-2,0,82,"FloridaTennessee",15641,4.9078425050347076E-3,0,-7]
[null,"Florida",2.7237600892238891E-2,0,89,"Texas",2.1592392711972809E-2,0,83,"FloridaTexas",31259,-5.6452081802660821E-3,0,-6]
[null,"Florida",2.7237600892238891E-2,0,89,"Utah",1.0307262126890326E-2,0.05,84,"FloridaUtah",2428,-1.6930338765348565E-2,0.05,-5]
[null,"Florida",2.7237600892238891E-2,0,89,"Vermont",7.1490112957021358E-3,8.3000000000000004E-2,110,"FloridaVermont",966,-2.0088589596536754E-2,8.3000000000000004E-2,21]
[null,"Florida",2.7237600892238891E-2,0,89,"Virginia",1.039712030953501E-2,5.8000000000000003E-2,87,"FloridaVirginia",19574,-1.6840480582703883E-2,5.8000000000000003E-2,-2]
[null,"Florida",2.7237600892238891E-2,0,89,"Washington",1.5569251587054078E-2,0,102,"FloridaWashington",9370,-1.1668349305184813E-2,0,13]
[null,"Florida",2.7237600892238891E-2,0,89,"West Virginia",1.6695121757837481E-2,6.5000000000000002E-2,91,"FloridaWest Virginia",1919,-1.0542479134401411E-2,6.5000000000000002E-2,2]
[null,"Florida",2.7237600892238891E-2,0,89,"Wisconsin",1.2522002040309323E-2,6.8000000000000005E-2,105,"FloridaWisconsin",4937,-1.4715598851929568E-2,6.8000000000000005E-2,16]
[null,"Florida",2.7237600892238891E-2,0,89,"Wyoming",1.159170556116435E-2,0,76,"FloridaWyoming",733,-1.5645895331074543E-2,0,-13]
[null,"Florida",2.7237600892238891E-2,0,89,"Puerto Rico",0,0,0,"FloridaPuerto Rico",4192,-2.7237600892238891E-2,0,-89]
[null,"Georgia",1.9726513978233176E-2,0.06,95,"Alabama",2.2202899776411697E-2,0.05,83,"GeorgiaAlabama",19920,2.4763857981785209E-3,-9.999999999999995E-3,-12]
[null,"Georgia",1.9726513978233176E-2,0.06,95,"Alaska",3.2055585214628916E-2,0,117,"GeorgiaAlaska",928,1.232907123639574E-2,-0.06,22]
[null,"Georgia",1.9726513978233176E-2,0.06,95,"Arizona",2.1452319662556094E-2,4.4999999999999998E-2,87,"GeorgiaArizona",2263,1.7258056843229182E-3,-1.4999999999999999E-2,-8]
[null,"Georgia",1.9726513978233176E-2,0.06,95,"Arkansas",2.5419294137546445E-2,7.0000000000000007E-2,79,"GeorgiaArkansas",1525,{"$f":"G575-C575","v":5.6927801593132689E-3},{"$f":"H575-D575","v":1.0000000000000009E-2},{"$f":"I575-E575","v":-16}]
[null,"Georgia",1.9726513978233176E-2,0.06,95,"California",2.1729822873664682E-2,9.6000000000000002E-2,92,"GeorgiaCalifornia",10790,2.0033088954315055E-3,3.6000000000000004E-2,-3]
[null,"Georgia",1.9726513978233176E-2,0.06,95,"Colorado",1.6922410102174039E-2,4.5999999999999999E-2,106,"GeorgiaColorado",5834,-2.8041038760591372E-3,-1.3999999999999999E-2,11]
[null,"Georgia",1.9726513978233176E-2,0.06,95,"Connecticut",1.4419595426747081E-2,0.05,105,"GeorgiaConnecticut",1702,-5.3069185514860954E-3,-9.999999999999995E-3,10]
[null,"Georgia",1.9726513978233176E-2,0.06,95,"Delaware",2.9571270753275862E-2,7.0000000000000007E-2,100,"GeorgiaDelaware",179,9.8447567750426859E-3,1.0000000000000009E-2,5]
[null,"Georgia",1.9726513978233176E-2,0.06,95,"District of Columbia ",6.3540306680691577E-2,8.5000000000000006E-2,148,"GeorgiaDistrict of Columbia ",1079,4.3813792702458401E-2,2.5000000000000008E-2,53]
[null,"Georgia",1.9726513978233176E-2,0.06,95,"Florida",2.7237600892238891E-2,0,89,"GeorgiaFlorida",42754,7.511086914005715E-3,-0.06,-6]
[null,"Georgia",1.9726513978233176E-2,0.06,95,"Hawaii",1.5418606986737988E-2,8.3000000000000004E-2,149,"GeorgiaHawaii",1448,-4.3079069914951883E-3,2.3000000000000007E-2,54]
[null,"Georgia",1.9726513978233176E-2,0.06,95,"Idaho",1.0619122878421879E-2,7.8E-2,98,"GeorgiaIdaho",583,-9.1073910998112975E-3,1.8000000000000002E-2,3]
[null,"Georgia",1.9726513978233176E-2,0.06,95,"Illinois",2.2681262454608404E-2,0.03,91,"GeorgiaIllinois",8745,2.9547484763752276E-3,-0.03,-4]
[null,"Georgia",1.9726513978233176E-2,0.06,95,"Indiana",1.754084582978746E-2,3.4000000000000002E-2,88,"GeorgiaIndiana",2258,-2.1856681484457158E-3,-2.5999999999999995E-2,-7]
[null,"Georgia",1.9726513978233176E-2,0.06,95,"Iowa",1.3507799161676014E-2,0.09,90,"GeorgiaIowa",596,-6.2187148165571624E-3,0.03,-5]
[null,"Georgia",1.9726513978233176E-2,0.06,95,"Kansas",1.8706359316443516E-2,6.5000000000000002E-2,84,"GeorgiaKansas",1896,-1.0201546617896601E-3,5.0000000000000044E-3,-11]
[null,"Georgia",1.9726513978233176E-2,0.06,95,"Kentucky",1.6652835554239985E-2,5.8000000000000003E-2,92,"GeorgiaKentucky",4173,-3.0736784239931911E-3,-1.9999999999999948E-3,-3]
[null,"Georgia",1.9726513978233176E-2,0.06,95,"Louisiana",2.935191107211383E-2,0.06,88,"GeorgiaLouisiana",4478,9.6253970938806541E-3,0,-7]
[null,"Georgia",1.9726513978233176E-2,0.06,95,"Maine",6.5120753540148114E-3,6.9000000000000006E-2,104,"GeorgiaMaine",511,-1.3214438624218365E-2,9.000000000000008E-3,9]
[null,"Georgia",1.9726513978233176E-2,0.06,95,"Maryland",2.611701649690518E-2,0.05,103,"GeorgiaMaryland",4610,6.3905025186720039E-3,-9.999999999999995E-3,8]
[null,"Georgia",1.9726513978233176E-2,0.06,95,"Massachusetts",2.2641619138735747E-2,5.2999999999999999E-2,126,"GeorgiaMassachusetts",2789,2.9151051605025707E-3,-6.9999999999999993E-3,31]
[null,"Georgia",1.9726513978233176E-2,0.06,95,"Michigan",2.3537558077457752E-2,4.3999999999999997E-2,82,"GeorgiaMichigan",4270,3.811044099224576E-3,-1.6E-2,-13]
[null,"Georgia",1.9726513978233176E-2,0.06,95,"Minnesota",1.1694778182433254E-2,7.9000000000000001E-2,121,"GeorgiaMinnesota",2235,-8.0317357957999224E-3,1.9000000000000003E-2,26]
[null,"Georgia",1.9726513978233176E-2,0.06,95,"Mississippi",1.426102216325646E-2,0.05,76,"GeorgiaMississippi",2669,-5.4654918149767157E-3,-9.999999999999995E-3,-19]
[null,"Georgia",1.9726513978233176E-2,0.06,95,"Missouri",2.3569272730155875E-2,0.06,81,"GeorgiaMissouri",3451,3.8427587519226994E-3,0,-14]
[null,"Georgia",1.9726513978233176E-2,0.06,95,"Montana",1.4139449327913651E-2,6.9000000000000006E-2,93,"GeorgiaMontana",292,-5.5870646503195249E-3,9.000000000000008E-3,-2]
[null,"Georgia",1.9726513978233176E-2,0.06,95,"Nebraska",1.3380940550883517E-2,6.8000000000000005E-2,77,"GeorgiaNebraska",786,-6.3455734273496593E-3,8.0000000000000071E-3,-18]
[null,"Georgia",1.9726513978233176E-2,0.06,95,"Nevada",2.9713986690417422E-2,0,99,"GeorgiaNevada",745,9.9874727121842463E-3,-0.06,4]
[null,"Georgia",1.9726513978233176E-2,0.06,95,"New Hampshire",9.9372578454122104E-3,0,120,"GeorgiaNew Hampshire",470,-9.7892561328209657E-3,-0.06,25]
[null,"Georgia",1.9726513978233176E-2,0.06,95,"New Jersey",1.6301331486835775E-2,6.4000000000000001E-2,103,"GeorgiaNew Jersey",3002,-3.4251824913974008E-3,4.0000000000000036E-3,8]
[null,"Georgia",1.9726513978233176E-2,0.06,95,"New Mexico",2.9999418564700536E-2,4.9000000000000002E-2,105,"GeorgiaNew Mexico",192,1.027290458646736E-2,-1.0999999999999996E-2,10]
[null,"Georgia",1.9726513978233176E-2,0.06,95,"New York",2.1042672065205326E-2,7.9000000000000001E-2,114,"GeorgiaNew York",7592,1.3161580869721495E-3,1.9000000000000003E-2,19]
[null,"Georgia",1.9726513978233176E-2,0.06,95,"North Carolina",1.8489642523006337E-2,7.0000000000000007E-2,81,"GeorgiaNorth Carolina",16823,-1.2368714552268394E-3,1.0000000000000009E-2,-14]
[null,"Georgia",1.9726513978233176E-2,0.06,95,"North Dakota",1.3055865360727744E-2,3.7999999999999999E-2,89,"GeorgiaNorth Dakota",98,-6.6706486175054317E-3,-2.1999999999999999E-2,-6]
[null,"Georgia",1.9726513978233176E-2,0.06,95,"Ohio",1.6248473732338901E-2,4.7E-2,106,"GeorgiaOhio",8052,-3.4780402458942754E-3,-1.2999999999999998E-2,11]
[null,"Georgia",1.9726513978233176E-2,0.06,95,"Oklahoma",2.4039706745178049E-2,5.5E-2,84,"GeorgiaOklahoma",2581,4.3131927669448726E-3,-4.9999999999999975E-3,-11]
[null,"Georgia",1.9726513978233176E-2,0.06,95,"Oregon",1.3084937125701024E-2,0.108,107,"GeorgiaOregon",1032,-6.6415768525321522E-3,4.8000000000000001E-2,12]
[null,"Georgia",1.9726513978233176E-2,0.06,95,"Pennsylvania",1.8764502846390078E-2,0.03,96,"GeorgiaPennsylvania",4337,-9.6201113184309767E-4,-0.03,1]
[null,"Georgia",1.9726513978233176E-2,0.06,95,"Rhode Island",1.3082294237976182E-2,7.8E-2,118,"GeorgiaRhode Island",168,-6.6442197402569944E-3,1.8000000000000002E-2,23]
[null,"Georgia",1.9726513978233176E-2,0.06,95,"South Carolina",3.0229349796761933E-2,7.0000000000000007E-2,88,"GeorgiaSouth Carolina",18570,1.0502835818528757E-2,1.0000000000000009E-2,-7]
[null,"Georgia",1.9726513978233176E-2,0.06,95,"South Dakota",1.3431155417655547E-2,0,79,"GeorgiaSouth Dakota",122,-6.2953585605776286E-3,-0.06,-16]
[null,"Georgia",1.9726513978233176E-2,0.06,95,"Tennessee",3.2145443397273599E-2,0,82,"GeorgiaTennessee",16012,1.2418929419040423E-2,-0.06,-13]
[null,"Georgia",1.9726513978233176E-2,0.06,95,"Texas",2.1592392711972809E-2,0,83,"GeorgiaTexas",20362,1.8658787337396329E-3,-0.06,-12]
[null,"Georgia",1.9726513978233176E-2,0.06,95,"Utah",1.0307262126890326E-2,0.05,84,"GeorgiaUtah",1142,-9.4192518513428504E-3,-9.999999999999995E-3,-11]
[null,"Georgia",1.9726513978233176E-2,0.06,95,"Vermont",7.1490112957021358E-3,8.3000000000000004E-2,110,"GeorgiaVermont",56,-1.2577502682531039E-2,2.3000000000000007E-2,15]
[null,"Georgia",1.9726513978233176E-2,0.06,95,"Virginia",1.039712030953501E-2,5.8000000000000003E-2,87,"GeorgiaVirginia",9535,-9.3293936686981663E-3,-1.9999999999999948E-3,-8]
[null,"Georgia",1.9726513978233176E-2,0.06,95,"Washington",1.5569251587054078E-2,0,102,"GeorgiaWashington",6363,-4.1572623911790979E-3,-0.06,7]
[null,"Georgia",1.9726513978233176E-2,0.06,95,"West Virginia",1.6695121757837481E-2,6.5000000000000002E-2,91,"GeorgiaWest Virginia",1108,-3.0313922203956956E-3,5.0000000000000044E-3,-4]
[null,"Georgia",1.9726513978233176E-2,0.06,95,"Wisconsin",1.2522002040309323E-2,6.8000000000000005E-2,105,"GeorgiaWisconsin",970,-7.2045119379238534E-3,8.0000000000000071E-3,10]
[null,"Georgia",1.9726513978233176E-2,0.06,95,"Wyoming",1.159170556116435E-2,0,76,"GeorgiaWyoming",166,-8.134808417068826E-3,-0.06,-19]
[null,"Georgia",1.9726513978233176E-2,0.06,95,"Puerto Rico",0,0,0,"GeorgiaPuerto Rico",232,-1.9726513978233176E-2,-0.06,-95]
[null,"Hawaii",1.5418606986737988E-2,8.3000000000000004E-2,149,"Alabama",2.2202899776411697E-2,0.05,83,"HawaiiAlabama",627,6.7842927896737092E-3,-3.3000000000000002E-2,-66]
[null,"Hawaii",1.5418606986737988E-2,8.3000000000000004E-2,149,"Alaska",3.2055585214628916E-2,0,117,"HawaiiAlaska",1376,1.6636978227890929E-2,-8.3000000000000004E-2,-32]
[null,"Hawaii",1.5418606986737988E-2,8.3000000000000004E-2,149,"Arizona",2.1452319662556094E-2,4.4999999999999998E-2,87,"HawaiiArizona",2491,6.0337126758181064E-3,-3.8000000000000006E-2,-62]
[null,"Hawaii",1.5418606986737988E-2,8.3000000000000004E-2,149,"Arkansas",2.5419294137546445E-2,7.0000000000000007E-2,79,"HawaiiArkansas",0,1.0000687150808457E-2,-1.2999999999999998E-2,-70]
[null,"Hawaii",1.5418606986737988E-2,8.3000000000000004E-2,149,"California",2.1729822873664682E-2,9.6000000000000002E-2,92,"HawaiiCalifornia",11906,6.3112158869266938E-3,1.2999999999999998E-2,-57]
[null,"Hawaii",1.5418606986737988E-2,8.3000000000000004E-2,149,"Colorado",1.6922410102174039E-2,4.5999999999999999E-2,106,"HawaiiColorado",2536,1.5038031154360511E-3,-3.7000000000000005E-2,-43]
[null,"Hawaii",1.5418606986737988E-2,8.3000000000000004E-2,149,"Connecticut",1.4419595426747081E-2,0.05,105,"HawaiiConnecticut",408,-9.9901155999090711E-4,-3.3000000000000002E-2,-44]
[null,"Hawaii",1.5418606986737988E-2,8.3000000000000004E-2,149,"Delaware",2.9571270753275862E-2,7.0000000000000007E-2,100,"HawaiiDelaware",0,1.4152663766537874E-2,-1.2999999999999998E-2,-49]
[null,"Hawaii",1.5418606986737988E-2,8.3000000000000004E-2,149,"District of Columbia ",6.3540306680691577E-2,8.5000000000000006E-2,148,"HawaiiDistrict of Columbia ",38,4.8121699693953593E-2,2.0000000000000018E-3,-1]
[null,"Hawaii",1.5418606986737988E-2,8.3000000000000004E-2,149,"Florida",2.7237600892238891E-2,0,89,"HawaiiFlorida",3177,1.1818993905500903E-2,-8.3000000000000004E-2,-60]
[null,"Hawaii",1.5418606986737988E-2,8.3000000000000004E-2,149,"Georgia",1.9726513978233176E-2,0.06,95,"HawaiiGeorgia",1409,4.3079069914951883E-3,-2.3000000000000007E-2,-54]
[null,"Hawaii",1.5418606986737988E-2,8.3000000000000004E-2,149,"Idaho",1.0619122878421879E-2,7.8E-2,98,"HawaiiIdaho",206,-4.7994841083161092E-3,-5.0000000000000044E-3,-51]
[null,"Hawaii",1.5418606986737988E-2,8.3000000000000004E-2,149,"Illinois",2.2681262454608404E-2,0.03,91,"HawaiiIllinois",869,7.2626554678704158E-3,-5.3000000000000005E-2,-58]
[null,"Hawaii",1.5418606986737988E-2,8.3000000000000004E-2,149,"Indiana",1.754084582978746E-2,3.4000000000000002E-2,88,"HawaiiIndiana",856,2.1222388430494725E-3,-4.9000000000000002E-2,-61]
[null,"Hawaii",1.5418606986737988E-2,8.3000000000000004E-2,149,"Iowa",1.3507799161676014E-2,0.09,90,"HawaiiIowa",521,-1.9108078250619741E-3,6.9999999999999923E-3,-59]
[null,"Hawaii",1.5418606986737988E-2,8.3000000000000004E-2,149,"Kansas",1.8706359316443516E-2,6.5000000000000002E-2,84,"HawaiiKansas",149,3.2877523297055282E-3,-1.8000000000000002E-2,-65]
[null,"Hawaii",1.5418606986737988E-2,8.3000000000000004E-2,149,"Kentucky",1.6652835554239985E-2,5.8000000000000003E-2,92,"HawaiiKentucky",647,{"$f":"G639-C639","v":1.2342285675019972E-3},{"$f":"H639-D639","v":-2.5000000000000001E-2},{"$f":"I639-E639","v":-57}]
[null,"Hawaii",1.5418606986737988E-2,8.3000000000000004E-2,149,"Louisiana",2.935191107211383E-2,0.06,88,"HawaiiLouisiana",378,1.3933304085375842E-2,-2.3000000000000007E-2,-61]
[null,"Hawaii",1.5418606986737988E-2,8.3000000000000004E-2,149,"Maine",6.5120753540148114E-3,6.9000000000000006E-2,104,"HawaiiMaine",0,-8.9065316327231765E-3,-1.3999999999999999E-2,-45]
[null,"Hawaii",1.5418606986737988E-2,8.3000000000000004E-2,149,"Maryland",2.611701649690518E-2,0.05,103,"HawaiiMaryland",610,1.0698409510167192E-2,-3.3000000000000002E-2,-46]
[null,"Hawaii",1.5418606986737988E-2,8.3000000000000004E-2,149,"Massachusetts",2.2641619138735747E-2,5.2999999999999999E-2,126,"HawaiiMassachusetts",1108,7.223012151997759E-3,-3.0000000000000006E-2,-23]
[null,"Hawaii",1.5418606986737988E-2,8.3000000000000004E-2,149,"Michigan",2.3537558077457752E-2,4.3999999999999997E-2,82,"HawaiiMichigan",291,8.1189510907197643E-3,-3.9000000000000007E-2,-67]
[null,"Hawaii",1.5418606986737988E-2,8.3000000000000004E-2,149,"Minnesota",1.1694778182433254E-2,7.9000000000000001E-2,121,"HawaiiMinnesota",1277,-3.7238288043047341E-3,-4.0000000000000036E-3,-28]
[null,"Hawaii",1.5418606986737988E-2,8.3000000000000004E-2,149,"Mississippi",1.426102216325646E-2,0.05,76,"HawaiiMississippi",184,-1.1575848234815275E-3,-3.3000000000000002E-2,-73]
[null,"Hawaii",1.5418606986737988E-2,8.3000000000000004E-2,149,"Missouri",2.3569272730155875E-2,0.06,81,"HawaiiMissouri",2114,8.1506657434178877E-3,-2.3000000000000007E-2,-68]
[null,"Hawaii",1.5418606986737988E-2,8.3000000000000004E-2,149,"Montana",1.4139449327913651E-2,6.9000000000000006E-2,93,"HawaiiMontana",556,-1.2791576588243366E-3,-1.3999999999999999E-2,-56]
[null,"Hawaii",1.5418606986737988E-2,8.3000000000000004E-2,149,"Nebraska",1.3380940550883517E-2,6.8000000000000005E-2,77,"HawaiiNebraska",165,-2.037666435854471E-3,-1.4999999999999999E-2,-72]
[null,"Hawaii",1.5418606986737988E-2,8.3000000000000004E-2,149,"Nevada",2.9713986690417422E-2,0,99,"HawaiiNevada",2053,1.4295379703679435E-2,-8.3000000000000004E-2,-50]
[null,"Hawaii",1.5418606986737988E-2,8.3000000000000004E-2,149,"New Hampshire",9.9372578454122104E-3,0,120,"HawaiiNew Hampshire",43,-5.4813491413257774E-3,-8.3000000000000004E-2,-29]
[null,"Hawaii",1.5418606986737988E-2,8.3000000000000004E-2,149,"New Jersey",1.6301331486835775E-2,6.4000000000000001E-2,103,"HawaiiNew Jersey",22,8.827245000977875E-4,-1.9000000000000003E-2,-46]
[null,"Hawaii",1.5418606986737988E-2,8.3000000000000004E-2,149,"New Mexico",2.9999418564700536E-2,4.9000000000000002E-2,105,"HawaiiNew Mexico",168,1.4580811577962548E-2,-3.4000000000000002E-2,-44]
[null,"Hawaii",1.5418606986737988E-2,8.3000000000000004E-2,149,"New York",2.1042672065205326E-2,7.9000000000000001E-2,114,"HawaiiNew York",1598,5.6240650784673378E-3,-4.0000000000000036E-3,-35]
[null,"Hawaii",1.5418606986737988E-2,8.3000000000000004E-2,149,"North Carolina",1.8489642523006337E-2,7.0000000000000007E-2,81,"HawaiiNorth Carolina",1566,3.0710355362683489E-3,-1.2999999999999998E-2,-68]
[null,"Hawaii",1.5418606986737988E-2,8.3000000000000004E-2,149,"North Dakota",1.3055865360727744E-2,3.7999999999999999E-2,89,"HawaiiNorth Dakota",160,-2.3627416260102434E-3,-4.5000000000000005E-2,-60]
[null,"Hawaii",1.5418606986737988E-2,8.3000000000000004E-2,149,"Ohio",1.6248473732338901E-2,4.7E-2,106,"HawaiiOhio",1198,8.2986674560091289E-4,-3.6000000000000004E-2,-43]
[null,"Hawaii",1.5418606986737988E-2,8.3000000000000004E-2,149,"Oklahoma",2.4039706745178049E-2,5.5E-2,84,"HawaiiOklahoma",189,8.6210997584400609E-3,-2.8000000000000004E-2,-65]
[null,"Hawaii",1.5418606986737988E-2,8.3000000000000004E-2,149,"Oregon",1.3084937125701024E-2,0.108,107,"HawaiiOregon",2501,-2.333669861036964E-3,2.4999999999999994E-2,-42]
[null,"Hawaii",1.5418606986737988E-2,8.3000000000000004E-2,149,"Pennsylvania",1.8764502846390078E-2,0.03,96,"HawaiiPennsylvania",245,3.3458958596520906E-3,-5.3000000000000005E-2,-53]
[null,"Hawaii",1.5418606986737988E-2,8.3000000000000004E-2,149,"Rhode Island",1.3082294237976182E-2,7.8E-2,118,"HawaiiRhode Island",120,-2.3363127487618061E-3,-5.0000000000000044E-3,-31]
[null,"Hawaii",1.5418606986737988E-2,8.3000000000000004E-2,149,"South Carolina",3.0229349796761933E-2,7.0000000000000007E-2,88,"HawaiiSouth Carolina",638,1.4810742810023945E-2,-1.2999999999999998E-2,-61]
[null,"Hawaii",1.5418606986737988E-2,8.3000000000000004E-2,149,"South Dakota",1.3431155417655547E-2,0,79,"HawaiiSouth Dakota",8,-1.9874515690824403E-3,-8.3000000000000004E-2,-70]
[null,"Hawaii",1.5418606986737988E-2,8.3000000000000004E-2,149,"Tennessee",3.2145443397273599E-2,0,82,"HawaiiTennessee",1058,1.6726836410535611E-2,-8.3000000000000004E-2,-67]
[null,"Hawaii",1.5418606986737988E-2,8.3000000000000004E-2,149,"Texas",2.1592392711972809E-2,0,83,"HawaiiTexas",5040,6.1737857252348212E-3,-8.3000000000000004E-2,-66]
[null,"Hawaii",1.5418606986737988E-2,8.3000000000000004E-2,149,"Utah",1.0307262126890326E-2,0.05,84,"HawaiiUtah",1436,-5.1113448598476621E-3,-3.3000000000000002E-2,-65]
[null,"Hawaii",1.5418606986737988E-2,8.3000000000000004E-2,149,"Vermont",7.1490112957021358E-3,8.3000000000000004E-2,110,"HawaiiVermont",6,-8.2695956910358512E-3,0,-39]
[null,"Hawaii",1.5418606986737988E-2,8.3000000000000004E-2,149,"Virginia",1.039712030953501E-2,5.8000000000000003E-2,87,"HawaiiVirginia",3823,-5.0214866772029781E-3,-2.5000000000000001E-2,-62]
[null,"Hawaii",1.5418606986737988E-2,8.3000000000000004E-2,149,"Washington",1.5569251587054078E-2,0,102,"HawaiiWashington",5239,1.5064460031609037E-4,-8.3000000000000004E-2,-47]
[null,"Hawaii",1.5418606986737988E-2,8.3000000000000004E-2,149,"West Virginia",1.6695121757837481E-2,6.5000000000000002E-2,91,"HawaiiWest Virginia",166,1.2765147710994927E-3,-1.8000000000000002E-2,-58]
[null,"Hawaii",1.5418606986737988E-2,8.3000000000000004E-2,149,"Wisconsin",1.2522002040309323E-2,6.8000000000000005E-2,105,"HawaiiWisconsin",333,-2.8966049464286651E-3,-1.4999999999999999E-2,-44]
[null,"Hawaii",1.5418606986737988E-2,8.3000000000000004E-2,149,"Wyoming",1.159170556116435E-2,0,76,"HawaiiWyoming",0,-3.8269014255736377E-3,-8.3000000000000004E-2,-73]
[null,"Hawaii",1.5418606986737988E-2,8.3000000000000004E-2,149,"Puerto Rico",0,0,0,"HawaiiPuerto Rico",110,-1.5418606986737988E-2,-8.3000000000000004E-2,-149]
[null,"Idaho",1.0619122878421879E-2,7.8E-2,98,"Alabama",2.2202899776411697E-2,0.05,83,"IdahoAlabama",493,1.1583776897989818E-2,-2.7999999999999997E-2,-15]
[null,"Idaho",1.0619122878421879E-2,7.8E-2,98,"Alaska",3.2055585214628916E-2,0,117,"IdahoAlaska",538,2.1436462336207038E-2,-7.8E-2,19]
[null,"Idaho",1.0619122878421879E-2,7.8E-2,98,"Arizona",2.1452319662556094E-2,4.4999999999999998E-2,87,"IdahoArizona",2934,1.0833196784134216E-2,-3.3000000000000002E-2,-11]
[null,"Idaho",1.0619122878421879E-2,7.8E-2,98,"Arkansas",2.5419294137546445E-2,7.0000000000000007E-2,79,"IdahoArkansas",0,1.4800171259124566E-2,-7.9999999999999932E-3,-19]
[null,"Idaho",1.0619122878421879E-2,7.8E-2,98,"California",2.1729822873664682E-2,9.6000000000000002E-2,92,"IdahoCalifornia",5331,1.1110699995242803E-2,1.8000000000000002E-2,-6]
[null,"Idaho",1.0619122878421879E-2,7.8E-2,98,"Colorado",1.6922410102174039E-2,4.5999999999999999E-2,106,"IdahoColorado",2660,6.3032872237521603E-3,-3.2000000000000001E-2,8]
[null,"Idaho",1.0619122878421879E-2,7.8E-2,98,"Connecticut",1.4419595426747081E-2,0.05,105,"IdahoConnecticut",97,3.8004725483252021E-3,-2.7999999999999997E-2,7]
[null,"Idaho",1.0619122878421879E-2,7.8E-2,98,"Delaware",2.9571270753275862E-2,7.0000000000000007E-2,100,"IdahoDelaware",32,1.8952147874853983E-2,-7.9999999999999932E-3,2]
[null,"Idaho",1.0619122878421879E-2,7.8E-2,98,"District of Columbia ",6.3540306680691577E-2,8.5000000000000006E-2,148,"IdahoDistrict of Columbia ",46,5.2921183802269699E-2,7.0000000000000062E-3,50]
[null,"Idaho",1.0619122878421879E-2,7.8E-2,98,"Florida",2.7237600892238891E-2,0,89,"IdahoFlorida",1268,1.6618478013817013E-2,-7.8E-2,-9]
[null,"Idaho",1.0619122878421879E-2,7.8E-2,98,"Georgia",1.9726513978233176E-2,0.06,95,"IdahoGeorgia",936,9.1073910998112975E-3,-1.8000000000000002E-2,-3]
[null,"Idaho",1.0619122878421879E-2,7.8E-2,98,"Hawaii",1.5418606986737988E-2,8.3000000000000004E-2,149,"IdahoHawaii",404,4.7994841083161092E-3,5.0000000000000044E-3,51]
[null,"Idaho",1.0619122878421879E-2,7.8E-2,98,"Illinois",2.2681262454608404E-2,0.03,91,"IdahoIllinois",1384,1.2062139576186525E-2,-4.8000000000000001E-2,-7]
[null,"Idaho",1.0619122878421879E-2,7.8E-2,98,"Indiana",1.754084582978746E-2,3.4000000000000002E-2,88,"IdahoIndiana",186,6.9217229513655817E-3,-4.3999999999999997E-2,-10]
[null,"Idaho",1.0619122878421879E-2,7.8E-2,98,"Iowa",1.3507799161676014E-2,0.09,90,"IdahoIowa",290,2.8886762832541352E-3,1.1999999999999997E-2,-8]
[null,"Idaho",1.0619122878421879E-2,7.8E-2,98,"Kansas",1.8706359316443516E-2,6.5000000000000002E-2,84,"IdahoKansas",456,8.0872364380216374E-3,-1.2999999999999998E-2,-14]
[null,"Idaho",1.0619122878421879E-2,7.8E-2,98,"Kentucky",1.6652835554239985E-2,5.8000000000000003E-2,92,"IdahoKentucky",50,6.0337126758181064E-3,-1.9999999999999997E-2,-6]
[null,"Idaho",1.0619122878421879E-2,7.8E-2,98,"Louisiana",2.935191107211383E-2,0.06,88,"IdahoLouisiana",265,1.8732788193691952E-2,-1.8000000000000002E-2,-10]
[null,"Idaho",1.0619122878421879E-2,7.8E-2,98,"Maine",6.5120753540148114E-3,6.9000000000000006E-2,104,"IdahoMaine",143,-4.1070475244070672E-3,-8.9999999999999941E-3,6]
[null,"Idaho",1.0619122878421879E-2,7.8E-2,98,"Maryland",2.611701649690518E-2,0.05,103,"IdahoMaryland",429,1.5497893618483301E-2,-2.7999999999999997E-2,5]
[null,"Idaho",1.0619122878421879E-2,7.8E-2,98,"Massachusetts",2.2641619138735747E-2,5.2999999999999999E-2,126,"IdahoMassachusetts",188,1.2022496260313868E-2,-2.5000000000000001E-2,28]
[null,"Idaho",1.0619122878421879E-2,7.8E-2,98,"Michigan",2.3537558077457752E-2,4.3999999999999997E-2,82,"IdahoMichigan",242,1.2918435199035874E-2,-3.4000000000000002E-2,-16]
[null,"Idaho",1.0619122878421879E-2,7.8E-2,98,"Minnesota",1.1694778182433254E-2,7.9000000000000001E-2,121,"IdahoMinnesota",575,1.0756553040113751E-3,1.0000000000000009E-3,23]
[null,"Idaho",1.0619122878421879E-2,7.8E-2,98,"Mississippi",1.426102216325646E-2,0.05,76,"IdahoMississippi",586,3.6418992848345818E-3,-2.7999999999999997E-2,-22]
[null,"Idaho",1.0619122878421879E-2,7.8E-2,98,"Missouri",2.3569272730155875E-2,0.06,81,"IdahoMissouri",596,1.2950149851733997E-2,-1.8000000000000002E-2,-17]
[null,"Idaho",1.0619122878421879E-2,7.8E-2,98,"Montana",1.4139449327913651E-2,6.9000000000000006E-2,93,"IdahoMontana",3385,3.5203264494917726E-3,-8.9999999999999941E-3,-5]
[null,"Idaho",1.0619122878421879E-2,7.8E-2,98,"Nebraska",1.3380940550883517E-2,6.8000000000000005E-2,77,"IdahoNebraska",315,2.7618176724616382E-3,-9.999999999999995E-3,-21]
[null,"Idaho",1.0619122878421879E-2,7.8E-2,98,"Nevada",2.9713986690417422E-2,0,99,"IdahoNevada",1503,1.9094863811995544E-2,-7.8E-2,1]
[null,"Idaho",1.0619122878421879E-2,7.8E-2,98,"New Hampshire",9.9372578454122104E-3,0,120,"IdahoNew Hampshire",20,-6.8186503300966816E-4,-7.8E-2,22]
[null,"Idaho",1.0619122878421879E-2,7.8E-2,98,"New Jersey",1.6301331486835775E-2,6.4000000000000001E-2,103,"IdahoNew Jersey",113,{"$f":"G703-C703","v":5.6822086084138967E-3},{"$f":"H703-D703","v":-1.3999999999999999E-2},{"$f":"I703-E703","v":5}]
[null,"Idaho",1.0619122878421879E-2,7.8E-2,98,"New Mexico",2.9999418564700536E-2,4.9000000000000002E-2,105,"IdahoNew Mexico",355,1.9380295686278658E-2,-2.8999999999999998E-2,7]
[null,"Idaho",1.0619122878421879E-2,7.8E-2,98,"New York",2.1042672065205326E-2,7.9000000000000001E-2,114,"IdahoNew York",607,1.0423549186783447E-2,1.0000000000000009E-3,16]
[null,"Idaho",1.0619122878421879E-2,7.8E-2,98,"North Carolina",1.8489642523006337E-2,7.0000000000000007E-2,81,"IdahoNorth Carolina",334,7.8705196445844582E-3,-7.9999999999999932E-3,-17]
[null,"Idaho",1.0619122878421879E-2,7.8E-2,98,"North Dakota",1.3055865360727744E-2,3.7999999999999999E-2,89,"IdahoNorth Dakota",540,2.4367424823058658E-3,-0.04,-9]
[null,"Idaho",1.0619122878421879E-2,7.8E-2,98,"Ohio",1.6248473732338901E-2,4.7E-2,106,"IdahoOhio",412,5.6293508539170221E-3,-3.1E-2,8]
[null,"Idaho",1.0619122878421879E-2,7.8E-2,98,"Oklahoma",2.4039706745178049E-2,5.5E-2,84,"IdahoOklahoma",905,1.342058386675617E-2,-2.3E-2,-14]
[null,"Idaho",1.0619122878421879E-2,7.8E-2,98,"Oregon",1.3084937125701024E-2,0.108,107,"IdahoOregon",5093,2.4658142472791453E-3,0.03,9]
[null,"Idaho",1.0619122878421879E-2,7.8E-2,98,"Pennsylvania",1.8764502846390078E-2,0.03,96,"IdahoPennsylvania",359,8.1453799679681999E-3,-4.8000000000000001E-2,-2]
[null,"Idaho",1.0619122878421879E-2,7.8E-2,98,"Rhode Island",1.3082294237976182E-2,7.8E-2,118,"IdahoRhode Island",0,2.4631713595543031E-3,0,20]
[null,"Idaho",1.0619122878421879E-2,7.8E-2,98,"South Carolina",3.0229349796761933E-2,7.0000000000000007E-2,88,"IdahoSouth Carolina",198,1.9610226918340055E-2,-7.9999999999999932E-3,-10]
[null,"Idaho",1.0619122878421879E-2,7.8E-2,98,"South Dakota",1.3431155417655547E-2,0,79,"IdahoSouth Dakota",78,2.8120325392336689E-3,-7.8E-2,-19]
[null,"Idaho",1.0619122878421879E-2,7.8E-2,98,"Tennessee",3.2145443397273599E-2,0,82,"IdahoTennessee",787,2.152632051885172E-2,-7.8E-2,-16]
[null,"Idaho",1.0619122878421879E-2,7.8E-2,98,"Texas",2.1592392711972809E-2,0,83,"IdahoTexas",2387,1.097326983355093E-2,-7.8E-2,-15]
[null,"Idaho",1.0619122878421879E-2,7.8E-2,98,"Utah",1.0307262126890326E-2,0.05,84,"IdahoUtah",5129,-3.1186075153155288E-4,-2.7999999999999997E-2,-14]
[null,"Idaho",1.0619122878421879E-2,7.8E-2,98,"Vermont",7.1490112957021358E-3,8.3000000000000004E-2,110,"IdahoVermont",0,-3.4701115827197428E-3,5.0000000000000044E-3,12]
[null,"Idaho",1.0619122878421879E-2,7.8E-2,98,"Virginia",1.039712030953501E-2,5.8000000000000003E-2,87,"IdahoVirginia",652,-2.2200256888686883E-4,-1.9999999999999997E-2,-11]
[null,"Idaho",1.0619122878421879E-2,7.8E-2,98,"Washington",1.5569251587054078E-2,0,102,"IdahoWashington",10604,4.9501287086321996E-3,-7.8E-2,4]
[null,"Idaho",1.0619122878421879E-2,7.8E-2,98,"West Virginia",1.6695121757837481E-2,6.5000000000000002E-2,91,"IdahoWest Virginia",181,6.075998879415602E-3,-1.2999999999999998E-2,-7]
[null,"Idaho",1.0619122878421879E-2,7.8E-2,98,"Wisconsin",1.2522002040309323E-2,6.8000000000000005E-2,105,"IdahoWisconsin",360,1.9028791618874441E-3,-9.999999999999995E-3,7]
[null,"Idaho",1.0619122878421879E-2,7.8E-2,98,"Wyoming",1.159170556116435E-2,0,76,"IdahoWyoming",745,9.7258268274247155E-4,-7.8E-2,-22]
[null,"Idaho",1.0619122878421879E-2,7.8E-2,98,"Puerto Rico",0,0,0,"IdahoPuerto Rico",0,-1.0619122878421879E-2,-7.8E-2,-98]
[null,"Illinois",2.2681262454608404E-2,0.03,91,"Alabama",2.2202899776411697E-2,0.05,83,"IllinoisAlabama",2722,-4.7836267819670666E-4,2.0000000000000004E-2,-8]
[null,"Illinois",2.2681262454608404E-2,0.03,91,"Alaska",3.2055585214628916E-2,0,117,"IllinoisAlaska",58,9.3743227600205127E-3,-0.03,26]
[null,"Illinois",2.2681262454608404E-2,0.03,91,"Arizona",2.1452319662556094E-2,4.4999999999999998E-2,87,"IllinoisArizona",10744,-1.2289427920523094E-3,1.4999999999999999E-2,-4]
[null,"Illinois",2.2681262454608404E-2,0.03,91,"Arkansas",2.5419294137546445E-2,7.0000000000000007E-2,79,"IllinoisArkansas",3576,2.7380316829380413E-3,4.0000000000000008E-2,-12]
[null,"Illinois",2.2681262454608404E-2,0.03,91,"California",2.1729822873664682E-2,9.6000000000000002E-2,92,"IllinoisCalifornia",21251,-9.5143958094372205E-4,6.6000000000000003E-2,1]
[null,"Illinois",2.2681262454608404E-2,0.03,91,"Colorado",1.6922410102174039E-2,4.5999999999999999E-2,106,"IllinoisColorado",6374,-5.7588523524343647E-3,1.6E-2,15]
[null,"Illinois",2.2681262454608404E-2,0.03,91,"Connecticut",1.4419595426747081E-2,0.05,105,"IllinoisConnecticut",912,-8.2616670278613229E-3,2.0000000000000004E-2,14]
[null,"Illinois",2.2681262454608404E-2,0.03,91,"Delaware",2.9571270753275862E-2,7.0000000000000007E-2,100,"IllinoisDelaware",567,6.8900082986674584E-3,4.0000000000000008E-2,9]
[null,"Illinois",2.2681262454608404E-2,0.03,91,"District of Columbia ",6.3540306680691577E-2,8.5000000000000006E-2,148,"IllinoisDistrict of Columbia ",795,4.0859044226083177E-2,5.5000000000000007E-2,57]
[null,"Illinois",2.2681262454608404E-2,0.03,91,"Florida",2.7237600892238891E-2,0,89,"IllinoisFlorida",22565,4.5563384376304875E-3,-0.03,-2]
[null,"Illinois",2.2681262454608404E-2,0.03,91,"Georgia",1.9726513978233176E-2,0.06,95,"IllinoisGeorgia",7143,-2.9547484763752276E-3,0.03,4]
[null,"Illinois",2.2681262454608404E-2,0.03,91,"Hawaii",1.5418606986737988E-2,8.3000000000000004E-2,149,"IllinoisHawaii",318,-7.2626554678704158E-3,5.3000000000000005E-2,58]
[null,"Illinois",2.2681262454608404E-2,0.03,91,"Idaho",1.0619122878421879E-2,7.8E-2,98,"IllinoisIdaho",532,-1.2062139576186525E-2,4.8000000000000001E-2,7]
[null,"Illinois",2.2681262454608404E-2,0.03,91,"Indiana",1.754084582978746E-2,3.4000000000000002E-2,88,"IllinoisIndiana",28436,-5.1404166248209433E-3,4.0000000000000036E-3,-3]
[null,"Illinois",2.2681262454608404E-2,0.03,91,"Iowa",1.3507799161676014E-2,0.09,90,"IllinoisIowa",11969,-9.1734632929323899E-3,0.06,-1]
[null,"Illinois",2.2681262454608404E-2,0.03,91,"Kansas",1.8706359316443516E-2,6.5000000000000002E-2,84,"IllinoisKansas",1702,-3.9749031381648876E-3,3.5000000000000003E-2,-7]
[null,"Illinois",2.2681262454608404E-2,0.03,91,"Kentucky",1.6652835554239985E-2,5.8000000000000003E-2,92,"IllinoisKentucky",4445,-6.0284269003684186E-3,2.8000000000000004E-2,1]
[null,"Illinois",2.2681262454608404E-2,0.03,91,"Louisiana",2.935191107211383E-2,0.06,88,"IllinoisLouisiana",1229,6.6706486175054265E-3,0.03,-3]
[null,"Illinois",2.2681262454608404E-2,0.03,91,"Maine",6.5120753540148114E-3,6.9000000000000006E-2,104,"IllinoisMaine",195,-1.6169187100593591E-2,3.9000000000000007E-2,13]
[null,"Illinois",2.2681262454608404E-2,0.03,91,"Maryland",2.611701649690518E-2,0.05,103,"IllinoisMaryland",3621,3.4357540422967764E-3,2.0000000000000004E-2,12]
[null,"Illinois",2.2681262454608404E-2,0.03,91,"Massachusetts",2.2641619138735747E-2,5.2999999999999999E-2,126,"IllinoisMassachusetts",2886,-3.964331587265682E-5,2.3E-2,35]
[null,"Illinois",2.2681262454608404E-2,0.03,91,"Michigan",2.3537558077457752E-2,4.3999999999999997E-2,82,"IllinoisMichigan",10047,8.5629562284934846E-4,1.3999999999999999E-2,-9]
[null,"Illinois",2.2681262454608404E-2,0.03,91,"Minnesota",1.1694778182433254E-2,7.9000000000000001E-2,121,"IllinoisMinnesota",5896,-1.098648427217515E-2,4.9000000000000002E-2,30]
[null,"Illinois",2.2681262454608404E-2,0.03,91,"Mississippi",1.426102216325646E-2,0.05,76,"IllinoisMississippi",2703,-8.4202402913519433E-3,2.0000000000000004E-2,-15]
[null,"Illinois",2.2681262454608404E-2,0.03,91,"Missouri",2.3569272730155875E-2,0.06,81,"IllinoisMissouri",22001,8.8801027554747183E-4,0.03,-10]
[null,"Illinois",2.2681262454608404E-2,0.03,91,"Montana",1.4139449327913651E-2,6.9000000000000006E-2,93,"IllinoisMontana",542,-8.5418131266947524E-3,3.9000000000000007E-2,2]
[null,"Illinois",2.2681262454608404E-2,0.03,91,"Nebraska",1.3380940550883517E-2,6.8000000000000005E-2,77,"IllinoisNebraska",1193,-9.3003219037248869E-3,3.8000000000000006E-2,-14]
[null,"Illinois",2.2681262454608404E-2,0.03,91,"Nevada",2.9713986690417422E-2,0,99,"IllinoisNevada",2822,7.0327242358090188E-3,-0.03,8]
[null,"Illinois",2.2681262454608404E-2,0.03,91,"New Hampshire",9.9372578454122104E-3,0,120,"IllinoisNew Hampshire",673,-1.2744004609196193E-2,-0.03,29]
[null,"Illinois",2.2681262454608404E-2,0.03,91,"New Jersey",1.6301331486835775E-2,6.4000000000000001E-2,103,"IllinoisNew Jersey",2052,-6.3799309677726283E-3,3.4000000000000002E-2,12]
[null,"Illinois",2.2681262454608404E-2,0.03,91,"New Mexico",2.9999418564700536E-2,4.9000000000000002E-2,105,"IllinoisNew Mexico",790,7.3181561100921326E-3,1.9000000000000003E-2,14]
[null,"Illinois",2.2681262454608404E-2,0.03,91,"New York",2.1042672065205326E-2,7.9000000000000001E-2,114,"IllinoisNew York",8017,-1.638590389403078E-3,4.9000000000000002E-2,23]
[null,"Illinois",2.2681262454608404E-2,0.03,91,"North Carolina",1.8489642523006337E-2,7.0000000000000007E-2,81,"IllinoisNorth Carolina",6378,-4.1916199316020669E-3,4.0000000000000008E-2,-10]
[null,"Illinois",2.2681262454608404E-2,0.03,91,"North Dakota",1.3055865360727744E-2,3.7999999999999999E-2,89,"IllinoisNorth Dakota",799,-9.6253970938806593E-3,8.0000000000000002E-3,-2]
[null,"Illinois",2.2681262454608404E-2,0.03,91,"Ohio",1.6248473732338901E-2,4.7E-2,106,"IllinoisOhio",9510,-6.4327887222695029E-3,1.7000000000000001E-2,15]
[null,"Illinois",2.2681262454608404E-2,0.03,91,"Oklahoma",2.4039706745178049E-2,5.5E-2,84,"IllinoisOklahoma",1100,1.3584442905696451E-3,2.5000000000000001E-2,-7]
[null,"Illinois",2.2681262454608404E-2,0.03,91,"Oregon",1.3084937125701024E-2,0.108,107,"IllinoisOregon",1676,-9.5963253289073798E-3,7.8E-2,16]
[null,"Illinois",2.2681262454608404E-2,0.03,91,"Pennsylvania",1.8764502846390078E-2,0.03,96,"IllinoisPennsylvania",3749,-3.9167596082183252E-3,0,5]
[null,"Illinois",2.2681262454608404E-2,0.03,91,"Rhode Island",1.3082294237976182E-2,7.8E-2,118,"IllinoisRhode Island",385,-9.598968216632222E-3,4.8000000000000001E-2,27]
[null,"Illinois",2.2681262454608404E-2,0.03,91,"South Carolina",3.0229349796761933E-2,7.0000000000000007E-2,88,"IllinoisSouth Carolina",2125,7.5480873421535297E-3,4.0000000000000008E-2,-3]
[null,"Illinois",2.2681262454608404E-2,0.03,91,"South Dakota",1.3431155417655547E-2,0,79,"IllinoisSouth Dakota",74,-9.2501070369528562E-3,-0.03,-12]
[null,"Illinois",2.2681262454608404E-2,0.03,91,"Tennessee",3.2145443397273599E-2,0,82,"IllinoisTennessee",7094,9.464180942665195E-3,-0.03,-9]
[null,"Illinois",2.2681262454608404E-2,0.03,91,"Texas",2.1592392711972809E-2,0,83,"IllinoisTexas",19672,{"$f":"G767-C767","v":-1.0888697426355946E-3},{"$f":"H767-D767","v":-0.03},{"$f":"I767-E767","v":-8}]
[null,"Illinois",2.2681262454608404E-2,0.03,91,"Utah",1.0307262126890326E-2,0.05,84,"IllinoisUtah",1588,-1.2374000327718078E-2,2.0000000000000004E-2,-7]
[null,"Illinois",2.2681262454608404E-2,0.03,91,"Vermont",7.1490112957021358E-3,8.3000000000000004E-2,110,"IllinoisVermont",230,-1.5532251158906267E-2,5.3000000000000005E-2,19]
[null,"Illinois",2.2681262454608404E-2,0.03,91,"Virginia",1.039712030953501E-2,5.8000000000000003E-2,87,"IllinoisVirginia",7089,-1.2284142145073394E-2,2.8000000000000004E-2,-4]
[null,"Illinois",2.2681262454608404E-2,0.03,91,"Washington",1.5569251587054078E-2,0,102,"IllinoisWashington",4298,-7.1120108675543255E-3,-0.03,11]
[null,"Illinois",2.2681262454608404E-2,0.03,91,"West Virginia",1.6695121757837481E-2,6.5000000000000002E-2,91,"IllinoisWest Virginia",220,-5.9861406967709231E-3,3.5000000000000003E-2,0]
[null,"Illinois",2.2681262454608404E-2,0.03,91,"Wisconsin",1.2522002040309323E-2,6.8000000000000005E-2,105,"IllinoisWisconsin",22285,-1.0159260414299081E-2,3.8000000000000006E-2,14]
[null,"Illinois",2.2681262454608404E-2,0.03,91,"Wyoming",1.159170556116435E-2,0,76,"IllinoisWyoming",905,-1.1089556893444054E-2,-0.03,-15]
[null,"Illinois",2.2681262454608404E-2,0.03,91,"Puerto Rico",0,0,0,"IllinoisPuerto Rico",1021,-2.2681262454608404E-2,-0.03,-91]
[null,"Indiana",1.754084582978746E-2,3.4000000000000002E-2,88,"Alabama",2.2202899776411697E-2,0.05,83,"IndianaAlabama",1347,4.6620539466242367E-3,1.6E-2,-5]
[null,"Indiana",1.754084582978746E-2,3.4000000000000002E-2,88,"Alaska",3.2055585214628916E-2,0,117,"IndianaAlaska",260,1.4514739384841456E-2,-3.4000000000000002E-2,29]
[null,"Indiana",1.754084582978746E-2,3.4000000000000002E-2,88,"Arizona",2.1452319662556094E-2,4.4999999999999998E-2,87,"IndianaArizona",2930,3.9114738327686339E-3,1.0999999999999996E-2,-1]
[null,"Indiana",1.754084582978746E-2,3.4000000000000002E-2,88,"Arkansas",2.5419294137546445E-2,7.0000000000000007E-2,79,"IndianaArkansas",1172,7.8784483077589847E-3,3.6000000000000004E-2,-9]
[null,"Indiana",1.754084582978746E-2,3.4000000000000002E-2,88,"California",2.1729822873664682E-2,9.6000000000000002E-2,92,"IndianaCalifornia",5891,4.1889770438772213E-3,6.2E-2,4]
[null,"Indiana",1.754084582978746E-2,3.4000000000000002E-2,88,"Colorado",1.6922410102174039E-2,4.5999999999999999E-2,106,"IndianaColorado",4336,-6.1843572761342142E-4,1.1999999999999997E-2,18]
[null,"Indiana",1.754084582978746E-2,3.4000000000000002E-2,88,"Connecticut",1.4419595426747081E-2,0.05,105,"IndianaConnecticut",53,-3.1212504030403796E-3,1.6E-2,17]
[null,"Indiana",1.754084582978746E-2,3.4000000000000002E-2,88,"Delaware",2.9571270753275862E-2,7.0000000000000007E-2,100,"IndianaDelaware",62,1.2030424923488402E-2,3.6000000000000004E-2,12]
[null,"Indiana",1.754084582978746E-2,3.4000000000000002E-2,88,"District of Columbia ",6.3540306680691577E-2,8.5000000000000006E-2,148,"IndianaDistrict of Columbia ",469,4.5999460850904117E-2,5.1000000000000004E-2,60]
[null,"Indiana",1.754084582978746E-2,3.4000000000000002E-2,88,"Florida",2.7237600892238891E-2,0,89,"IndianaFlorida",13803,9.6967550624514308E-3,-3.4000000000000002E-2,1]
[null,"Indiana",1.754084582978746E-2,3.4000000000000002E-2,88,"Georgia",1.9726513978233176E-2,0.06,95,"IndianaGeorgia",5972,2.1856681484457158E-3,2.5999999999999995E-2,7]
[null,"Indiana",1.754084582978746E-2,3.4000000000000002E-2,88,"Hawaii",1.5418606986737988E-2,8.3000000000000004E-2,149,"IndianaHawaii",292,-2.1222388430494725E-3,4.9000000000000002E-2,61]
[null,"Indiana",1.754084582978746E-2,3.4000000000000002E-2,88,"Idaho",1.0619122878421879E-2,7.8E-2,98,"IndianaIdaho",283,-6.9217229513655817E-3,4.3999999999999997E-2,10]
[null,"Indiana",1.754084582978746E-2,3.4000000000000002E-2,88,"Illinois",2.2681262454608404E-2,0.03,91,"IndianaIllinois",16907,5.1404166248209433E-3,-4.0000000000000036E-3,3]
[null,"Indiana",1.754084582978746E-2,3.4000000000000002E-2,88,"Iowa",1.3507799161676014E-2,0.09,90,"IndianaIowa",1716,-4.0330466681114466E-3,5.5999999999999994E-2,2]
[null,"Indiana",1.754084582978746E-2,3.4000000000000002E-2,88,"Kansas",1.8706359316443516E-2,6.5000000000000002E-2,84,"IndianaKansas",1679,1.1655134866560557E-3,3.1E-2,-4]
[null,"Indiana",1.754084582978746E-2,3.4000000000000002E-2,88,"Kentucky",1.6652835554239985E-2,5.8000000000000003E-2,92,"IndianaKentucky",12203,-8.880102755474753E-4,2.4E-2,4]
[null,"Indiana",1.754084582978746E-2,3.4000000000000002E-2,88,"Louisiana",2.935191107211383E-2,0.06,88,"IndianaLouisiana",1359,1.181106524232637E-2,2.5999999999999995E-2,0]
[null,"Indiana",1.754084582978746E-2,3.4000000000000002E-2,88,"Maine",6.5120753540148114E-3,6.9000000000000006E-2,104,"IndianaMaine",0,-1.1028770475772649E-2,3.5000000000000003E-2,16]
[null,"Indiana",1.754084582978746E-2,3.4000000000000002E-2,88,"Maryland",2.611701649690518E-2,0.05,103,"IndianaMaryland",1210,8.5761706671177197E-3,1.6E-2,15]
[null,"Indiana",1.754084582978746E-2,3.4000000000000002E-2,88,"Massachusetts",2.2641619138735747E-2,5.2999999999999999E-2,126,"IndianaMassachusetts",677,5.1007733089482865E-3,1.8999999999999996E-2,38]
[null,"Indiana",1.754084582978746E-2,3.4000000000000002E-2,88,"Michigan",2.3537558077457752E-2,4.3999999999999997E-2,82,"IndianaMichigan",10976,5.9967122476702918E-3,9.999999999999995E-3,-6]
[null,"Indiana",1.754084582978746E-2,3.4000000000000002E-2,88,"Minnesota",1.1694778182433254E-2,7.9000000000000001E-2,121,"IndianaMinnesota",2026,-5.8460676473542066E-3,4.4999999999999998E-2,33]
[null,"Indiana",1.754084582978746E-2,3.4000000000000002E-2,88,"Mississippi",1.426102216325646E-2,0.05,76,"IndianaMississippi",1200,-3.279823666531E-3,1.6E-2,-12]
[null,"Indiana",1.754084582978746E-2,3.4000000000000002E-2,88,"Missouri",2.3569272730155875E-2,0.06,81,"IndianaMissouri",4184,6.0284269003684152E-3,2.5999999999999995E-2,-7]
[null,"Indiana",1.754084582978746E-2,3.4000000000000002E-2,88,"Montana",1.4139449327913651E-2,6.9000000000000006E-2,93,"IndianaMontana",163,-3.4013965018738091E-3,3.5000000000000003E-2,5]
[null,"Indiana",1.754084582978746E-2,3.4000000000000002E-2,88,"Nebraska",1.3380940550883517E-2,6.8000000000000005E-2,77,"IndianaNebraska",290,-4.1599052789039435E-3,3.4000000000000002E-2,-11]
[null,"Indiana",1.754084582978746E-2,3.4000000000000002E-2,88,"Nevada",2.9713986690417422E-2,0,99,"IndianaNevada",362,1.2173140860629962E-2,-3.4000000000000002E-2,11]
[null,"Indiana",1.754084582978746E-2,3.4000000000000002E-2,88,"New Hampshire",9.9372578454122104E-3,0,120,"IndianaNew Hampshire",297,-7.6035879843752499E-3,-3.4000000000000002E-2,32]
[null,"Indiana",1.754084582978746E-2,3.4000000000000002E-2,88,"New Jersey",1.6301331486835775E-2,6.4000000000000001E-2,103,"IndianaNew Jersey",1039,-1.239514342951685E-3,0.03,15]
[null,"Indiana",1.754084582978746E-2,3.4000000000000002E-2,88,"New Mexico",2.9999418564700536E-2,4.9000000000000002E-2,105,"IndianaNew Mexico",660,1.2458572734913076E-2,1.4999999999999999E-2,17]
[null,"Indiana",1.754084582978746E-2,3.4000000000000002E-2,88,"New York",2.1042672065205326E-2,7.9000000000000001E-2,114,"IndianaNew York",3040,3.5018262354178653E-3,4.4999999999999998E-2,26]
[null,"Indiana",1.754084582978746E-2,3.4000000000000002E-2,88,"North Carolina",1.8489642523006337E-2,7.0000000000000007E-2,81,"IndianaNorth Carolina",4532,9.4879669321887641E-4,3.6000000000000004E-2,-7]
[null,"Indiana",1.754084582978746E-2,3.4000000000000002E-2,88,"North Dakota",1.3055865360727744E-2,3.7999999999999999E-2,89,"IndianaNorth Dakota",55,-4.4849804690597159E-3,3.9999999999999966E-3,1]
[null,"Indiana",1.754084582978746E-2,3.4000000000000002E-2,88,"Ohio",1.6248473732338901E-2,4.7E-2,106,"IndianaOhio",13534,-1.2923720974485596E-3,1.2999999999999998E-2,18]
[null,"Indiana",1.754084582978746E-2,3.4000000000000002E-2,88,"Oklahoma",2.4039706745178049E-2,5.5E-2,84,"IndianaOklahoma",1490,6.4988609153905884E-3,2.0999999999999998E-2,-4]
[null,"Indiana",1.754084582978746E-2,3.4000000000000002E-2,88,"Oregon",1.3084937125701024E-2,0.108,107,"IndianaOregon",1380,-4.4559087040864365E-3,7.3999999999999996E-2,19]
[null,"Indiana",1.754084582978746E-2,3.4000000000000002E-2,88,"Pennsylvania",1.8764502846390078E-2,0.03,96,"IndianaPennsylvania",1599,1.2236570166026181E-3,-4.0000000000000036E-3,8]
[null,"Indiana",1.754084582978746E-2,3.4000000000000002E-2,88,"Rhode Island",1.3082294237976182E-2,7.8E-2,118,"IndianaRhode Island",0,-4.4585515918112786E-3,4.3999999999999997E-2,30]
[null,"Indiana",1.754084582978746E-2,3.4000000000000002E-2,88,"South Carolina",3.0229349796761933E-2,7.0000000000000007E-2,88,"IndianaSouth Carolina",3802,1.2688503966974473E-2,3.6000000000000004E-2,0]
[null,"Indiana",1.754084582978746E-2,3.4000000000000002E-2,88,"South Dakota",1.3431155417655547E-2,0,79,"IndianaSouth Dakota",210,-4.1096904121319128E-3,-3.4000000000000002E-2,-9]
[null,"Indiana",1.754084582978746E-2,3.4000000000000002E-2,88,"Tennessee",3.2145443397273599E-2,0,82,"IndianaTennessee",5591,1.4604597567486138E-2,-3.4000000000000002E-2,-6]
[null,"Indiana",1.754084582978746E-2,3.4000000000000002E-2,88,"Texas",2.1592392711972809E-2,0,83,"IndianaTexas",8264,4.0515468821853487E-3,-3.4000000000000002E-2,-5]
[null,"Indiana",1.754084582978746E-2,3.4000000000000002E-2,88,"Utah",1.0307262126890326E-2,0.05,84,"IndianaUtah",475,-7.2335837028971346E-3,1.6E-2,-4]
[null,"Indiana",1.754084582978746E-2,3.4000000000000002E-2,88,"Vermont",7.1490112957021358E-3,8.3000000000000004E-2,110,"IndianaVermont",68,-1.0391834534085324E-2,4.9000000000000002E-2,22]
[null,"Indiana",1.754084582978746E-2,3.4000000000000002E-2,88,"Virginia",1.039712030953501E-2,5.8000000000000003E-2,87,"IndianaVirginia",2663,-7.1437255202524506E-3,2.4E-2,-1]
[null,"Indiana",1.754084582978746E-2,3.4000000000000002E-2,88,"Washington",1.5569251587054078E-2,0,102,"IndianaWashington",1089,-1.9715942427333821E-3,-3.4000000000000002E-2,14]
[null,"Indiana",1.754084582978746E-2,3.4000000000000002E-2,88,"West Virginia",1.6695121757837481E-2,6.5000000000000002E-2,91,"IndianaWest Virginia",328,-8.4572407194997978E-4,3.1E-2,3]
[null,"Indiana",1.754084582978746E-2,3.4000000000000002E-2,88,"Wisconsin",1.2522002040309323E-2,6.8000000000000005E-2,105,"IndianaWisconsin",2480,-5.0188437894781376E-3,3.4000000000000002E-2,17]
[null,"Indiana",1.754084582978746E-2,3.4000000000000002E-2,88,"Wyoming",1.159170556116435E-2,0,76,"IndianaWyoming",179,-5.9491402686231102E-3,-3.4000000000000002E-2,-12]
[null,"Indiana",1.754084582978746E-2,3.4000000000000002E-2,88,"Puerto Rico",0,0,0,"IndianaPuerto Rico",121,-1.754084582978746E-2,-3.4000000000000002E-2,-88]
[null,"Iowa",1.3507799161676014E-2,0.09,90,"Alabama",2.2202899776411697E-2,0.05,83,"IowaAlabama",345,8.6951006147356832E-3,-3.9999999999999994E-2,-7]
[null,"Iowa",1.3507799161676014E-2,0.09,90,"Alaska",3.2055585214628916E-2,0,117,"IowaAlaska",13,1.8547786052952903E-2,-0.09,27]
[null,"Iowa",1.3507799161676014E-2,0.09,90,"Arizona",2.1452319662556094E-2,4.4999999999999998E-2,87,"IowaArizona",2702,7.9445205008800805E-3,-4.4999999999999998E-2,-3]
[null,"Iowa",1.3507799161676014E-2,0.09,90,"Arkansas",2.5419294137546445E-2,7.0000000000000007E-2,79,"IowaArkansas",409,1.1911494975870431E-2,-1.999999999999999E-2,-11]
[null,"Iowa",1.3507799161676014E-2,0.09,90,"California",2.1729822873664682E-2,9.6000000000000002E-2,92,"IowaCalifornia",2284,{"$f":"G831-C831","v":8.2220237119886679E-3},{"$f":"H831-D831","v":6.0000000000000053E-3},{"$f":"I831-E831","v":2}]
[null,"Iowa",1.3507799161676014E-2,0.09,90,"Colorado",1.6922410102174039E-2,4.5999999999999999E-2,106,"IowaColorado",2776,3.4146109404980252E-3,-4.3999999999999997E-2,16]
[null,"Iowa",1.3507799161676014E-2,0.09,90,"Connecticut",1.4419595426747081E-2,0.05,105,"IowaConnecticut",0,9.1179626507106697E-4,-3.9999999999999994E-2,15]
[null,"Iowa",1.3507799161676014E-2,0.09,90,"Delaware",2.9571270753275862E-2,7.0000000000000007E-2,100,"IowaDelaware",30,1.6063471591599848E-2,-1.999999999999999E-2,10]
[null,"Iowa",1.3507799161676014E-2,0.09,90,"District of Columbia ",6.3540306680691577E-2,8.5000000000000006E-2,148,"IowaDistrict of Columbia ",133,5.0032507519015564E-2,-4.9999999999999906E-3,58]
[null,"Iowa",1.3507799161676014E-2,0.09,90,"Florida",2.7237600892238891E-2,0,89,"IowaFlorida",3864,1.3729801730562877E-2,-0.09,-1]
[null,"Iowa",1.3507799161676014E-2,0.09,90,"Georgia",1.9726513978233176E-2,0.06,95,"IowaGeorgia",1687,6.2187148165571624E-3,-0.03,5]
[null,"Iowa",1.3507799161676014E-2,0.09,90,"Hawaii",1.5418606986737988E-2,8.3000000000000004E-2,149,"IowaHawaii",84,1.9108078250619741E-3,-6.9999999999999923E-3,59]
[null,"Iowa",1.3507799161676014E-2,0.09,90,"Idaho",1.0619122878421879E-2,7.8E-2,98,"IowaIdaho",90,-2.8886762832541352E-3,-1.1999999999999997E-2,8]
[null,"Iowa",1.3507799161676014E-2,0.09,90,"Illinois",2.2681262454608404E-2,0.03,91,"IowaIllinois",8529,9.1734632929323899E-3,-0.06,1]
[null,"Iowa",1.3507799161676014E-2,0.09,90,"Indiana",1.754084582978746E-2,3.4000000000000002E-2,88,"IowaIndiana",1678,4.0330466681114466E-3,-5.5999999999999994E-2,-2]
[null,"Iowa",1.3507799161676014E-2,0.09,90,"Kansas",1.8706359316443516E-2,6.5000000000000002E-2,84,"IowaKansas",1527,5.1985601547675023E-3,-2.4999999999999994E-2,-6]
[null,"Iowa",1.3507799161676014E-2,0.09,90,"Kentucky",1.6652835554239985E-2,5.8000000000000003E-2,92,"IowaKentucky",238,3.1450363925639713E-3,-3.1999999999999994E-2,2]
[null,"Iowa",1.3507799161676014E-2,0.09,90,"Louisiana",2.935191107211383E-2,0.06,88,"IowaLouisiana",544,1.5844111910437816E-2,-0.03,-2]
[null,"Iowa",1.3507799161676014E-2,0.09,90,"Maine",6.5120753540148114E-3,6.9000000000000006E-2,104,"IowaMaine",7,-6.9957238076612024E-3,-2.0999999999999991E-2,14]
[null,"Iowa",1.3507799161676014E-2,0.09,90,"Maryland",2.611701649690518E-2,0.05,103,"IowaMaryland",569,1.2609217335229166E-2,-3.9999999999999994E-2,13]
[null,"Iowa",1.3507799161676014E-2,0.09,90,"Massachusetts",2.2641619138735747E-2,5.2999999999999999E-2,126,"IowaMassachusetts",151,9.1338199770597331E-3,-3.6999999999999998E-2,36]
[null,"Iowa",1.3507799161676014E-2,0.09,90,"Michigan",2.3537558077457752E-2,4.3999999999999997E-2,82,"IowaMichigan",993,1.0029758915781738E-2,-4.5999999999999999E-2,-8]
[null,"Iowa",1.3507799161676014E-2,0.09,90,"Minnesota",1.1694778182433254E-2,7.9000000000000001E-2,121,"IowaMinnesota",7220,-1.8130209792427601E-3,-1.0999999999999996E-2,31]
[null,"Iowa",1.3507799161676014E-2,0.09,90,"Mississippi",1.426102216325646E-2,0.05,76,"IowaMississippi",160,7.5322300158044662E-4,-3.9999999999999994E-2,-14]
[null,"Iowa",1.3507799161676014E-2,0.09,90,"Missouri",2.3569272730155875E-2,0.06,81,"IowaMissouri",5956,1.0061473568479862E-2,-0.03,-9]
[null,"Iowa",1.3507799161676014E-2,0.09,90,"Montana",1.4139449327913651E-2,6.9000000000000006E-2,93,"IowaMontana",415,6.3165016623763746E-4,-2.0999999999999991E-2,3]
[null,"Iowa",1.3507799161676014E-2,0.09,90,"Nebraska",1.3380940550883517E-2,6.8000000000000005E-2,77,"IowaNebraska",6815,-1.2685861079249697E-4,-2.1999999999999992E-2,-13]
[null,"Iowa",1.3507799161676014E-2,0.09,90,"Nevada",2.9713986690417422E-2,0,99,"IowaNevada",714,1.6206187528741409E-2,-0.09,9]
[null,"Iowa",1.3507799161676014E-2,0.09,90,"New Hampshire",9.9372578454122104E-3,0,120,"IowaNew Hampshire",53,-3.5705413162638033E-3,-0.09,30]
[null,"Iowa",1.3507799161676014E-2,0.09,90,"New Jersey",1.6301331486835775E-2,6.4000000000000001E-2,103,"IowaNew Jersey",357,2.7935323251597616E-3,-2.5999999999999995E-2,13]
[null,"Iowa",1.3507799161676014E-2,0.09,90,"New Mexico",2.9999418564700536E-2,4.9000000000000002E-2,105,"IowaNew Mexico",384,1.6491619403024523E-2,-4.0999999999999995E-2,15]
[null,"Iowa",1.3507799161676014E-2,0.09,90,"New York",2.1042672065205326E-2,7.9000000000000001E-2,114,"IowaNew York",955,7.5348729035293119E-3,-1.0999999999999996E-2,24]
[null,"Iowa",1.3507799161676014E-2,0.09,90,"North Carolina",1.8489642523006337E-2,7.0000000000000007E-2,81,"IowaNorth Carolina",775,4.981843361330323E-3,-1.999999999999999E-2,-9]
[null,"Iowa",1.3507799161676014E-2,0.09,90,"North Dakota",1.3055865360727744E-2,3.7999999999999999E-2,89,"IowaNorth Dakota",458,-4.5193380094826936E-4,-5.1999999999999998E-2,-1]
[null,"Iowa",1.3507799161676014E-2,0.09,90,"Ohio",1.6248473732338901E-2,4.7E-2,106,"IowaOhio",1039,2.740674570662887E-3,-4.2999999999999997E-2,16]
[null,"Iowa",1.3507799161676014E-2,0.09,90,"Oklahoma",2.4039706745178049E-2,5.5E-2,84,"IowaOklahoma",1088,1.0531907583502035E-2,-3.4999999999999996E-2,-6]
[null,"Iowa",1.3507799161676014E-2,0.09,90,"Oregon",1.3084937125701024E-2,0.108,107,"IowaOregon",834,-4.2286203597498989E-4,1.8000000000000002E-2,17]
[null,"Iowa",1.3507799161676014E-2,0.09,90,"Pennsylvania",1.8764502846390078E-2,0.03,96,"IowaPennsylvania",125,5.2567036847140647E-3,-0.06,6]
[null,"Iowa",1.3507799161676014E-2,0.09,90,"Rhode Island",1.3082294237976182E-2,7.8E-2,118,"IowaRhode Island",0,-4.2550492369983206E-4,-1.1999999999999997E-2,28]
[null,"Iowa",1.3507799161676014E-2,0.09,90,"South Carolina",3.0229349796761933E-2,7.0000000000000007E-2,88,"IowaSouth Carolina",643,1.672155063508592E-2,-1.999999999999999E-2,-2]
[null,"Iowa",1.3507799161676014E-2,0.09,90,"South Dakota",1.3431155417655547E-2,0,79,"IowaSouth Dakota",2441,-7.6643744020466267E-5,-0.09,-11]
[null,"Iowa",1.3507799161676014E-2,0.09,90,"Tennessee",3.2145443397273599E-2,0,82,"IowaTennessee",617,1.8637644235597585E-2,-0.09,-8]
[null,"Iowa",1.3507799161676014E-2,0.09,90,"Texas",2.1592392711972809E-2,0,83,"IowaTexas",4934,8.0845935502967953E-3,-0.09,-7]
[null,"Iowa",1.3507799161676014E-2,0.09,90,"Utah",1.0307262126890326E-2,0.05,84,"IowaUtah",2791,-3.200537034785688E-3,-3.9999999999999994E-2,-6]
[null,"Iowa",1.3507799161676014E-2,0.09,90,"Vermont",7.1490112957021358E-3,8.3000000000000004E-2,110,"IowaVermont",30,-6.358787865973878E-3,-6.9999999999999923E-3,20]
[null,"Iowa",1.3507799161676014E-2,0.09,90,"Virginia",1.039712030953501E-2,5.8000000000000003E-2,87,"IowaVirginia",221,-3.110678852141004E-3,-3.1999999999999994E-2,-3]
[null,"Iowa",1.3507799161676014E-2,0.09,90,"Washington",1.5569251587054078E-2,0,102,"IowaWashington",1159,2.0614524253780644E-3,-0.09,12]
[null,"Iowa",1.3507799161676014E-2,0.09,90,"West Virginia",1.6695121757837481E-2,6.5000000000000002E-2,91,"IowaWest Virginia",68,3.1873225961614668E-3,-2.4999999999999994E-2,1]
[null,"Iowa",1.3507799161676014E-2,0.09,90,"Wisconsin",1.2522002040309323E-2,6.8000000000000005E-2,105,"IowaWisconsin",4161,-9.8579712136669106E-4,-2.1999999999999992E-2,15]
[null,"Iowa",1.3507799161676014E-2,0.09,90,"Wyoming",1.159170556116435E-2,0,76,"IowaWyoming",259,-1.9160936005116636E-3,-0.09,-14]
[null,"Iowa",1.3507799161676014E-2,0.09,90,"Puerto Rico",0,0,0,"IowaPuerto Rico",0,-1.3507799161676014E-2,-0.09,-90]
[null,"Kansas",1.8706359316443516E-2,6.5000000000000002E-2,84,"Alabama",2.2202899776411697E-2,0.05,83,"KansasAlabama",865,3.496540459968181E-3,-1.4999999999999999E-2,-1]
[null,"Kansas",1.8706359316443516E-2,6.5000000000000002E-2,84,"Alaska",3.2055585214628916E-2,0,117,"KansasAlaska",221,1.33492258981854E-2,-6.5000000000000002E-2,33]
[null,"Kansas",1.8706359316443516E-2,6.5000000000000002E-2,84,"Arizona",2.1452319662556094E-2,4.4999999999999998E-2,87,"KansasArizona",2498,2.7459603461125782E-3,-2.0000000000000004E-2,3]
[null,"Kansas",1.8706359316443516E-2,6.5000000000000002E-2,84,"Arkansas",2.5419294137546445E-2,7.0000000000000007E-2,79,"KansasArkansas",1033,6.712934821102929E-3,5.0000000000000044E-3,-5]
[null,"Kansas",1.8706359316443516E-2,6.5000000000000002E-2,84,"California",2.1729822873664682E-2,9.6000000000000002E-2,92,"KansasCalifornia",2790,3.0234635572211656E-3,3.1E-2,8]
[null,"Kansas",1.8706359316443516E-2,6.5000000000000002E-2,84,"Colorado",1.6922410102174039E-2,4.5999999999999999E-2,106,"KansasColorado",5283,-1.7839492142694771E-3,-1.9000000000000003E-2,22]
[null,"Kansas",1.8706359316443516E-2,6.5000000000000002E-2,84,"Connecticut",1.4419595426747081E-2,0.05,105,"KansasConnecticut",0,-4.2867638896964353E-3,-1.4999999999999999E-2,21]
[null,"Kansas",1.8706359316443516E-2,6.5000000000000002E-2,84,"Delaware",2.9571270753275862E-2,7.0000000000000007E-2,100,"KansasDelaware",113,1.0864911436832346E-2,5.0000000000000044E-3,16]
[null,"Kansas",1.8706359316443516E-2,6.5000000000000002E-2,84,"District of Columbia ",6.3540306680691577E-2,8.5000000000000006E-2,148,"KansasDistrict of Columbia ",164,4.4833947364248061E-2,2.0000000000000004E-2,64]
[null,"Kansas",1.8706359316443516E-2,6.5000000000000002E-2,84,"Florida",2.7237600892238891E-2,0,89,"KansasFlorida",5661,8.5312415757953751E-3,-6.5000000000000002E-2,5]
[null,"Kansas",1.8706359316443516E-2,6.5000000000000002E-2,84,"Georgia",1.9726513978233176E-2,0.06,95,"KansasGeorgia",1497,1.0201546617896601E-3,-5.0000000000000044E-3,11]
[null,"Kansas",1.8706359316443516E-2,6.5000000000000002E-2,84,"Hawaii",1.5418606986737988E-2,8.3000000000000004E-2,149,"KansasHawaii",1135,-3.2877523297055282E-3,1.8000000000000002E-2,65]
[null,"Kansas",1.8706359316443516E-2,6.5000000000000002E-2,84,"Idaho",1.0619122878421879E-2,7.8E-2,98,"KansasIdaho",63,-8.0872364380216374E-3,1.2999999999999998E-2,14]
[null,"Kansas",1.8706359316443516E-2,6.5000000000000002E-2,84,"Illinois",2.2681262454608404E-2,0.03,91,"KansasIllinois",2009,3.9749031381648876E-3,-3.5000000000000003E-2,7]
[null,"Kansas",1.8706359316443516E-2,6.5000000000000002E-2,84,"Indiana",1.754084582978746E-2,3.4000000000000002E-2,88,"KansasIndiana",1624,-1.1655134866560557E-3,-3.1E-2,4]
[null,"Kansas",1.8706359316443516E-2,6.5000000000000002E-2,84,"Iowa",1.3507799161676014E-2,0.09,90,"KansasIowa",918,-5.1985601547675023E-3,2.4999999999999994E-2,6]
[null,"Kansas",1.8706359316443516E-2,6.5000000000000002E-2,84,"Kentucky",1.6652835554239985E-2,5.8000000000000003E-2,92,"KansasKentucky",602,-2.053523762203531E-3,-6.9999999999999993E-3,8]
[null,"Kansas",1.8706359316443516E-2,6.5000000000000002E-2,84,"Louisiana",2.935191107211383E-2,0.06,88,"KansasLouisiana",420,{"$f":"G895-C895","v":1.0645551755670314E-2},{"$f":"H895-D895","v":-5.0000000000000044E-3},{"$f":"I895-E895","v":4}]
[null,"Kansas",1.8706359316443516E-2,6.5000000000000002E-2,84,"Maine",6.5120753540148114E-3,6.9000000000000006E-2,104,"KansasMaine",277,-1.2194283962428705E-2,4.0000000000000036E-3,20]
[null,"Kansas",1.8706359316443516E-2,6.5000000000000002E-2,84,"Maryland",2.611701649690518E-2,0.05,103,"KansasMaryland",1726,7.410657180461664E-3,-1.4999999999999999E-2,19]
[null,"Kansas",1.8706359316443516E-2,6.5000000000000002E-2,84,"Massachusetts",2.2641619138735747E-2,5.2999999999999999E-2,126,"KansasMassachusetts",565,3.9352598222922308E-3,-1.2000000000000004E-2,42]
[null,"Kansas",1.8706359316443516E-2,6.5000000000000002E-2,84,"Michigan",2.3537558077457752E-2,4.3999999999999997E-2,82,"KansasMichigan",805,4.8311987610142361E-3,-2.1000000000000005E-2,-2]
[null,"Kansas",1.8706359316443516E-2,6.5000000000000002E-2,84,"Minnesota",1.1694778182433254E-2,7.9000000000000001E-2,121,"KansasMinnesota",924,-7.0115811340102623E-3,1.3999999999999999E-2,37]
[null,"Kansas",1.8706359316443516E-2,6.5000000000000002E-2,84,"Mississippi",1.426102216325646E-2,0.05,76,"KansasMississippi",400,-4.4453371531870556E-3,-1.4999999999999999E-2,-8]
[null,"Kansas",1.8706359316443516E-2,6.5000000000000002E-2,84,"Missouri",2.3569272730155875E-2,0.06,81,"KansasMissouri",20218,4.8629134137123595E-3,-5.0000000000000044E-3,-3]
[null,"Kansas",1.8706359316443516E-2,6.5000000000000002E-2,84,"Montana",1.4139449327913651E-2,6.9000000000000006E-2,93,"KansasMontana",224,-4.5669099885298648E-3,4.0000000000000036E-3,9]
[null,"Kansas",1.8706359316443516E-2,6.5000000000000002E-2,84,"Nebraska",1.3380940550883517E-2,6.8000000000000005E-2,77,"KansasNebraska",3103,-5.3254187655599992E-3,3.0000000000000027E-3,-7]
[null,"Kansas",1.8706359316443516E-2,6.5000000000000002E-2,84,"Nevada",2.9713986690417422E-2,0,99,"KansasNevada",1202,1.1007627373973906E-2,-6.5000000000000002E-2,15]
[null,"Kansas",1.8706359316443516E-2,6.5000000000000002E-2,84,"New Hampshire",9.9372578454122104E-3,0,120,"KansasNew Hampshire",102,-8.7691014710313056E-3,-6.5000000000000002E-2,36]
[null,"Kansas",1.8706359316443516E-2,6.5000000000000002E-2,84,"New Jersey",1.6301331486835775E-2,6.4000000000000001E-2,103,"KansasNew Jersey",426,-2.4050278296077407E-3,-1.0000000000000009E-3,19]
[null,"Kansas",1.8706359316443516E-2,6.5000000000000002E-2,84,"New Mexico",2.9999418564700536E-2,4.9000000000000002E-2,105,"KansasNew Mexico",672,1.129305924825702E-2,-1.6E-2,21]
[null,"Kansas",1.8706359316443516E-2,6.5000000000000002E-2,84,"New York",2.1042672065205326E-2,7.9000000000000001E-2,114,"KansasNew York",1437,2.3363127487618096E-3,1.3999999999999999E-2,30]
[null,"Kansas",1.8706359316443516E-2,6.5000000000000002E-2,84,"North Carolina",1.8489642523006337E-2,7.0000000000000007E-2,81,"KansasNorth Carolina",1595,-2.1671679343717928E-4,5.0000000000000044E-3,-3]
[null,"Kansas",1.8706359316443516E-2,6.5000000000000002E-2,84,"North Dakota",1.3055865360727744E-2,3.7999999999999999E-2,89,"KansasNorth Dakota",161,-5.6504939557157716E-3,-2.7000000000000003E-2,5]
[null,"Kansas",1.8706359316443516E-2,6.5000000000000002E-2,84,"Ohio",1.6248473732338901E-2,4.7E-2,106,"KansasOhio",1166,-2.4578855841046153E-3,-1.8000000000000002E-2,22]
[null,"Kansas",1.8706359316443516E-2,6.5000000000000002E-2,84,"Oklahoma",2.4039706745178049E-2,5.5E-2,84,"KansasOklahoma",7065,5.3333474287345327E-3,-1.0000000000000002E-2,0]
[null,"Kansas",1.8706359316443516E-2,6.5000000000000002E-2,84,"Oregon",1.3084937125701024E-2,0.108,107,"KansasOregon",556,-5.6214221907424922E-3,4.2999999999999997E-2,23]
[null,"Kansas",1.8706359316443516E-2,6.5000000000000002E-2,84,"Pennsylvania",1.8764502846390078E-2,0.03,96,"KansasPennsylvania",967,5.8143529946562411E-5,-3.5000000000000003E-2,12]
[null,"Kansas",1.8706359316443516E-2,6.5000000000000002E-2,84,"Rhode Island",1.3082294237976182E-2,7.8E-2,118,"KansasRhode Island",27,-5.6240650784673343E-3,1.2999999999999998E-2,34]
[null,"Kansas",1.8706359316443516E-2,6.5000000000000002E-2,84,"South Carolina",3.0229349796761933E-2,7.0000000000000007E-2,88,"KansasSouth Carolina",1064,1.1522990480318417E-2,5.0000000000000044E-3,4]
[null,"Kansas",1.8706359316443516E-2,6.5000000000000002E-2,84,"South Dakota",1.3431155417655547E-2,0,79,"KansasSouth Dakota",403,-5.2752038987879685E-3,-6.5000000000000002E-2,-5]
[null,"Kansas",1.8706359316443516E-2,6.5000000000000002E-2,84,"Tennessee",3.2145443397273599E-2,0,82,"KansasTennessee",2630,1.3439084080830083E-2,-6.5000000000000002E-2,-2]
[null,"Kansas",1.8706359316443516E-2,6.5000000000000002E-2,84,"Texas",2.1592392711972809E-2,0,83,"KansasTexas",12699,2.886033395529293E-3,-6.5000000000000002E-2,-1]
[null,"Kansas",1.8706359316443516E-2,6.5000000000000002E-2,84,"Utah",1.0307262126890326E-2,0.05,84,"KansasUtah",398,-8.3990971895531903E-3,-1.4999999999999999E-2,0]
[null,"Kansas",1.8706359316443516E-2,6.5000000000000002E-2,84,"Vermont",7.1490112957021358E-3,8.3000000000000004E-2,110,"KansasVermont",0,-1.1557348020741379E-2,1.8000000000000002E-2,26]
[null,"Kansas",1.8706359316443516E-2,6.5000000000000002E-2,84,"Virginia",1.039712030953501E-2,5.8000000000000003E-2,87,"KansasVirginia",1144,-8.3092390069085063E-3,-6.9999999999999993E-3,3]
[null,"Kansas",1.8706359316443516E-2,6.5000000000000002E-2,84,"Washington",1.5569251587054078E-2,0,102,"KansasWashington",2544,-3.1371077293894378E-3,-6.5000000000000002E-2,18]
[null,"Kansas",1.8706359316443516E-2,6.5000000000000002E-2,84,"West Virginia",1.6695121757837481E-2,6.5000000000000002E-2,91,"KansasWest Virginia",39,-2.0112375586060355E-3,0,7]
[null,"Kansas",1.8706359316443516E-2,6.5000000000000002E-2,84,"Wisconsin",1.2522002040309323E-2,6.8000000000000005E-2,105,"KansasWisconsin",1160,-6.1843572761341933E-3,3.0000000000000027E-3,21]
[null,"Kansas",1.8706359316443516E-2,6.5000000000000002E-2,84,"Wyoming",1.159170556116435E-2,0,76,"KansasWyoming",539,-7.1146537552791659E-3,-6.5000000000000002E-2,-8]
[null,"Kansas",1.8706359316443516E-2,6.5000000000000002E-2,84,"Puerto Rico",0,0,0,"KansasPuerto Rico",143,-1.8706359316443516E-2,-6.5000000000000002E-2,-84]
[null,"Kentucky",1.6652835554239985E-2,5.8000000000000003E-2,92,"Alabama",2.2202899776411697E-2,0.05,83,"KentuckyAlabama",2495,5.550064222171712E-3,-8.0000000000000002E-3,-9]
[null,"Kentucky",1.6652835554239985E-2,5.8000000000000003E-2,92,"Alaska",3.2055585214628916E-2,0,117,"KentuckyAlaska",161,1.5402749660388931E-2,-5.8000000000000003E-2,25]
[null,"Kentucky",1.6652835554239985E-2,5.8000000000000003E-2,92,"Arizona",2.1452319662556094E-2,4.4999999999999998E-2,87,"KentuckyArizona",1328,4.7994841083161092E-3,-1.3000000000000005E-2,-5]
[null,"Kentucky",1.6652835554239985E-2,5.8000000000000003E-2,92,"Arkansas",2.5419294137546445E-2,7.0000000000000007E-2,79,"KentuckyArkansas",1310,8.76645858330646E-3,1.2000000000000004E-2,-13]
[null,"Kentucky",1.6652835554239985E-2,5.8000000000000003E-2,92,"California",2.1729822873664682E-2,9.6000000000000002E-2,92,"KentuckyCalifornia",3763,5.0769873194246966E-3,3.7999999999999999E-2,0]
[null,"Kentucky",1.6652835554239985E-2,5.8000000000000003E-2,92,"Colorado",1.6922410102174039E-2,4.5999999999999999E-2,106,"KentuckyColorado",2500,2.6957454793405389E-4,-1.2000000000000004E-2,14]
[null,"Kentucky",1.6652835554239985E-2,5.8000000000000003E-2,92,"Connecticut",1.4419595426747081E-2,0.05,105,"KentuckyConnecticut",124,-2.2332401274929043E-3,-8.0000000000000002E-3,13]
[null,"Kentucky",1.6652835554239985E-2,5.8000000000000003E-2,92,"Delaware",2.9571270753275862E-2,7.0000000000000007E-2,100,"KentuckyDelaware",0,1.2918435199035877E-2,1.2000000000000004E-2,8]
[null,"Kentucky",1.6652835554239985E-2,5.8000000000000003E-2,92,"District of Columbia ",6.3540306680691577E-2,8.5000000000000006E-2,148,"KentuckyDistrict of Columbia ",112,4.6887471126451592E-2,2.7000000000000003E-2,56]
[null,"Kentucky",1.6652835554239985E-2,5.8000000000000003E-2,92,"Florida",2.7237600892238891E-2,0,89,"KentuckyFlorida",6912,1.0584765337998906E-2,-5.8000000000000003E-2,-3]
[null,"Kentucky",1.6652835554239985E-2,5.8000000000000003E-2,92,"Georgia",1.9726513978233176E-2,0.06,95,"KentuckyGeorgia",6172,3.0736784239931911E-3,1.9999999999999948E-3,3]
[null,"Kentucky",1.6652835554239985E-2,5.8000000000000003E-2,92,"Hawaii",1.5418606986737988E-2,8.3000000000000004E-2,149,"KentuckyHawaii",485,-1.2342285675019972E-3,2.5000000000000001E-2,57]
[null,"Kentucky",1.6652835554239985E-2,5.8000000000000003E-2,92,"Idaho",1.0619122878421879E-2,7.8E-2,98,"KentuckyIdaho",83,-6.0337126758181064E-3,1.9999999999999997E-2,6]
[null,"Kentucky",1.6652835554239985E-2,5.8000000000000003E-2,92,"Illinois",2.2681262454608404E-2,0.03,91,"KentuckyIllinois",2923,6.0284269003684186E-3,-2.8000000000000004E-2,-1]
[null,"Kentucky",1.6652835554239985E-2,5.8000000000000003E-2,92,"Indiana",1.754084582978746E-2,3.4000000000000002E-2,88,"KentuckyIndiana",11177,8.880102755474753E-4,-2.4E-2,-4]
[null,"Kentucky",1.6652835554239985E-2,5.8000000000000003E-2,92,"Iowa",1.3507799161676014E-2,0.09,90,"KentuckyIowa",819,-3.1450363925639713E-3,3.1999999999999994E-2,-2]
[null,"Kentucky",1.6652835554239985E-2,5.8000000000000003E-2,92,"Kansas",1.8706359316443516E-2,6.5000000000000002E-2,84,"KentuckyKansas",617,2.053523762203531E-3,6.9999999999999993E-3,-8]
[null,"Kentucky",1.6652835554239985E-2,5.8000000000000003E-2,92,"Louisiana",2.935191107211383E-2,0.06,88,"KentuckyLouisiana",1649,1.2699075517873845E-2,1.9999999999999948E-3,-4]
[null,"Kentucky",1.6652835554239985E-2,5.8000000000000003E-2,92,"Maine",6.5120753540148114E-3,6.9000000000000006E-2,104,"KentuckyMaine",482,-1.0140760200225174E-2,1.1000000000000003E-2,12]
[null,"Kentucky",1.6652835554239985E-2,5.8000000000000003E-2,92,"Maryland",2.611701649690518E-2,0.05,103,"KentuckyMaryland",715,9.464180942665195E-3,-8.0000000000000002E-3,11]
[null,"Kentucky",1.6652835554239985E-2,5.8000000000000003E-2,92,"Massachusetts",2.2641619138735747E-2,5.2999999999999999E-2,126,"KentuckyMassachusetts",52,5.9887835844957618E-3,-5.0000000000000044E-3,34]
[null,"Kentucky",1.6652835554239985E-2,5.8000000000000003E-2,92,"Michigan",2.3537558077457752E-2,4.3999999999999997E-2,82,"KentuckyMichigan",3409,6.8847225232177671E-3,-1.4000000000000005E-2,-10]
[null,"Kentucky",1.6652835554239985E-2,5.8000000000000003E-2,92,"Minnesota",1.1694778182433254E-2,7.9000000000000001E-2,121,"KentuckyMinnesota",57,-4.9580573718067313E-3,2.0999999999999998E-2,29]
[null,"Kentucky",1.6652835554239985E-2,5.8000000000000003E-2,92,"Mississippi",1.426102216325646E-2,0.05,76,"KentuckyMississippi",446,-2.3918133909835246E-3,-8.0000000000000002E-3,-16]
[null,"Kentucky",1.6652835554239985E-2,5.8000000000000003E-2,92,"Missouri",2.3569272730155875E-2,0.06,81,"KentuckyMissouri",2291,6.9164371759158905E-3,1.9999999999999948E-3,-11]
[null,"Kentucky",1.6652835554239985E-2,5.8000000000000003E-2,92,"Montana",1.4139449327913651E-2,6.9000000000000006E-2,93,"KentuckyMontana",367,-2.5133862263263338E-3,1.1000000000000003E-2,1]
[null,"Kentucky",1.6652835554239985E-2,5.8000000000000003E-2,92,"Nebraska",1.3380940550883517E-2,6.8000000000000005E-2,77,"KentuckyNebraska",131,-3.2718950033564682E-3,1.0000000000000002E-2,-15]
[null,"Kentucky",1.6652835554239985E-2,5.8000000000000003E-2,92,"Nevada",2.9713986690417422E-2,0,99,"KentuckyNevada",952,1.3061151136177437E-2,-5.8000000000000003E-2,7]
[null,"Kentucky",1.6652835554239985E-2,5.8000000000000003E-2,92,"New Hampshire",9.9372578454122104E-3,0,120,"KentuckyNew Hampshire",284,-6.7155777088277746E-3,-5.8000000000000003E-2,28]
[null,"Kentucky",1.6652835554239985E-2,5.8000000000000003E-2,92,"New Jersey",1.6301331486835775E-2,6.4000000000000001E-2,103,"KentuckyNew Jersey",631,-3.515040674042097E-4,5.9999999999999984E-3,11]
[null,"Kentucky",1.6652835554239985E-2,5.8000000000000003E-2,92,"New Mexico",2.9999418564700536E-2,4.9000000000000002E-2,105,"KentuckyNew Mexico",159,{"$f":"G959-C959","v":1.3346583010460551E-2},{"$f":"H959-D959","v":-9.0000000000000011E-3},{"$f":"I959-E959","v":13}]
[null,"Kentucky",1.6652835554239985E-2,5.8000000000000003E-2,92,"New York",2.1042672065205326E-2,7.9000000000000001E-2,114,"KentuckyNew York",1753,4.3898365109653406E-3,2.0999999999999998E-2,22]
[null,"Kentucky",1.6652835554239985E-2,5.8000000000000003E-2,92,"North Carolina",1.8489642523006337E-2,7.0000000000000007E-2,81,"KentuckyNorth Carolina",1531,1.8368069687663517E-3,1.2000000000000004E-2,-11]
[null,"Kentucky",1.6652835554239985E-2,5.8000000000000003E-2,92,"North Dakota",1.3055865360727744E-2,3.7999999999999999E-2,89,"KentuckyNorth Dakota",22,-3.5969701935122406E-3,-2.0000000000000004E-2,-3]
[null,"Kentucky",1.6652835554239985E-2,5.8000000000000003E-2,92,"Ohio",1.6248473732338901E-2,4.7E-2,106,"KentuckyOhio",13227,-4.043618219010843E-4,-1.1000000000000003E-2,14]
[null,"Kentucky",1.6652835554239985E-2,5.8000000000000003E-2,92,"Oklahoma",2.4039706745178049E-2,5.5E-2,84,"KentuckyOklahoma",1354,7.3868711909380637E-3,-3.0000000000000027E-3,-8]
[null,"Kentucky",1.6652835554239985E-2,5.8000000000000003E-2,92,"Oregon",1.3084937125701024E-2,0.108,107,"KentuckyOregon",202,-3.5678984285389612E-3,4.9999999999999996E-2,15]
[null,"Kentucky",1.6652835554239985E-2,5.8000000000000003E-2,92,"Pennsylvania",1.8764502846390078E-2,0.03,96,"KentuckyPennsylvania",1233,2.1116672921500934E-3,-2.8000000000000004E-2,4]
[null,"Kentucky",1.6652835554239985E-2,5.8000000000000003E-2,92,"Rhode Island",1.3082294237976182E-2,7.8E-2,118,"KentuckyRhode Island",286,-3.5705413162638033E-3,1.9999999999999997E-2,26]
[null,"Kentucky",1.6652835554239985E-2,5.8000000000000003E-2,92,"South Carolina",3.0229349796761933E-2,7.0000000000000007E-2,88,"KentuckySouth Carolina",1924,1.3576514242521948E-2,1.2000000000000004E-2,-4]
[null,"Kentucky",1.6652835554239985E-2,5.8000000000000003E-2,92,"South Dakota",1.3431155417655547E-2,0,79,"KentuckySouth Dakota",0,-3.2216801365844375E-3,-5.8000000000000003E-2,-13]
[null,"Kentucky",1.6652835554239985E-2,5.8000000000000003E-2,92,"Tennessee",3.2145443397273599E-2,0,82,"KentuckyTennessee",13202,1.5492607843033614E-2,-5.8000000000000003E-2,-10]
[null,"Kentucky",1.6652835554239985E-2,5.8000000000000003E-2,92,"Texas",2.1592392711972809E-2,0,83,"KentuckyTexas",6040,4.939557157732824E-3,-5.8000000000000003E-2,-9]
[null,"Kentucky",1.6652835554239985E-2,5.8000000000000003E-2,92,"Utah",1.0307262126890326E-2,0.05,84,"KentuckyUtah",217,-6.3455734273496593E-3,-8.0000000000000002E-3,-8]
[null,"Kentucky",1.6652835554239985E-2,5.8000000000000003E-2,92,"Vermont",7.1490112957021358E-3,8.3000000000000004E-2,110,"KentuckyVermont",1243,-9.5038242585378484E-3,2.5000000000000001E-2,18]
[null,"Kentucky",1.6652835554239985E-2,5.8000000000000003E-2,92,"Virginia",1.039712030953501E-2,5.8000000000000003E-2,87,"KentuckyVirginia",3908,-6.2557152447049753E-3,0,-5]
[null,"Kentucky",1.6652835554239985E-2,5.8000000000000003E-2,92,"Washington",1.5569251587054078E-2,0,102,"KentuckyWashington",1368,-1.0835839671859068E-3,-5.8000000000000003E-2,10]
[null,"Kentucky",1.6652835554239985E-2,5.8000000000000003E-2,92,"West Virginia",1.6695121757837481E-2,6.5000000000000002E-2,91,"KentuckyWest Virginia",2249,4.228620359749552E-5,6.9999999999999993E-3,-1]
[null,"Kentucky",1.6652835554239985E-2,5.8000000000000003E-2,92,"Wisconsin",1.2522002040309323E-2,6.8000000000000005E-2,105,"KentuckyWisconsin",635,-4.1308335139306623E-3,1.0000000000000002E-2,13]
[null,"Kentucky",1.6652835554239985E-2,5.8000000000000003E-2,92,"Wyoming",1.159170556116435E-2,0,76,"KentuckyWyoming",4,-5.0611299930756349E-3,-5.8000000000000003E-2,-16]
[null,"Kentucky",1.6652835554239985E-2,5.8000000000000003E-2,92,"Puerto Rico",0,0,0,"KentuckyPuerto Rico",37,-1.6652835554239985E-2,-5.8000000000000003E-2,-92]
[null,"Louisiana",2.935191107211383E-2,0.06,88,"Alabama",2.2202899776411697E-2,0.05,83,"LouisianaAlabama",3104,-7.1490112957021332E-3,-9.999999999999995E-3,-5]
[null,"Louisiana",2.935191107211383E-2,0.06,88,"Alaska",3.2055585214628916E-2,0,117,"LouisianaAlaska",120,2.7036741425150862E-3,-0.06,29]
[null,"Louisiana",2.935191107211383E-2,0.06,88,"Arizona",2.1452319662556094E-2,4.4999999999999998E-2,87,"LouisianaArizona",724,-7.8995914095577359E-3,-1.4999999999999999E-2,-1]
[null,"Louisiana",2.935191107211383E-2,0.06,88,"Arkansas",2.5419294137546445E-2,7.0000000000000007E-2,79,"LouisianaArkansas",3953,-3.9326169345673852E-3,1.0000000000000009E-2,-9]
[null,"Louisiana",2.935191107211383E-2,0.06,88,"California",2.1729822873664682E-2,9.6000000000000002E-2,92,"LouisianaCalifornia",5180,-7.6220881984491486E-3,3.6000000000000004E-2,4]
[null,"Louisiana",2.935191107211383E-2,0.06,88,"Colorado",1.6922410102174039E-2,4.5999999999999999E-2,106,"LouisianaColorado",5048,-1.2429500969939791E-2,-1.3999999999999999E-2,18]
[null,"Louisiana",2.935191107211383E-2,0.06,88,"Connecticut",1.4419595426747081E-2,0.05,105,"LouisianaConnecticut",909,-1.4932315645366749E-2,-9.999999999999995E-3,17]
[null,"Louisiana",2.935191107211383E-2,0.06,88,"Delaware",2.9571270753275862E-2,7.0000000000000007E-2,100,"LouisianaDelaware",178,2.1935968116203186E-4,1.0000000000000009E-2,12]
[null,"Louisiana",2.935191107211383E-2,0.06,88,"District of Columbia ",6.3540306680691577E-2,8.5000000000000006E-2,148,"LouisianaDistrict of Columbia ",283,3.4188395608577747E-2,2.5000000000000008E-2,60]
[null,"Louisiana",2.935191107211383E-2,0.06,88,"Florida",2.7237600892238891E-2,0,89,"LouisianaFlorida",5550,-2.114310179874939E-3,-0.06,1]
[null,"Louisiana",2.935191107211383E-2,0.06,88,"Georgia",1.9726513978233176E-2,0.06,95,"LouisianaGeorgia",4100,-9.6253970938806541E-3,0,7]
[null,"Louisiana",2.935191107211383E-2,0.06,88,"Hawaii",1.5418606986737988E-2,8.3000000000000004E-2,149,"LouisianaHawaii",207,-1.3933304085375842E-2,2.3000000000000007E-2,61]
[null,"Louisiana",2.935191107211383E-2,0.06,88,"Idaho",1.0619122878421879E-2,7.8E-2,98,"LouisianaIdaho",54,-1.8732788193691952E-2,1.8000000000000002E-2,10]
[null,"Louisiana",2.935191107211383E-2,0.06,88,"Illinois",2.2681262454608404E-2,0.03,91,"LouisianaIllinois",1229,-6.6706486175054265E-3,-0.03,3]
[null,"Louisiana",2.935191107211383E-2,0.06,88,"Indiana",1.754084582978746E-2,3.4000000000000002E-2,88,"LouisianaIndiana",736,-1.181106524232637E-2,-2.5999999999999995E-2,0]
[null,"Louisiana",2.935191107211383E-2,0.06,88,"Iowa",1.3507799161676014E-2,0.09,90,"LouisianaIowa",763,-1.5844111910437816E-2,0.03,2]
[null,"Louisiana",2.935191107211383E-2,0.06,88,"Kansas",1.8706359316443516E-2,6.5000000000000002E-2,84,"LouisianaKansas",438,-1.0645551755670314E-2,5.0000000000000044E-3,-4]
[null,"Louisiana",2.935191107211383E-2,0.06,88,"Kentucky",1.6652835554239985E-2,5.8000000000000003E-2,92,"LouisianaKentucky",666,-1.2699075517873845E-2,-1.9999999999999948E-3,4]
[null,"Louisiana",2.935191107211383E-2,0.06,88,"Maine",6.5120753540148114E-3,6.9000000000000006E-2,104,"LouisianaMaine",15,-2.2839835718099021E-2,9.000000000000008E-3,16]
[null,"Louisiana",2.935191107211383E-2,0.06,88,"Maryland",2.611701649690518E-2,0.05,103,"LouisianaMaryland",606,-3.2348945752086501E-3,-9.999999999999995E-3,15]
[null,"Louisiana",2.935191107211383E-2,0.06,88,"Massachusetts",2.2641619138735747E-2,5.2999999999999999E-2,126,"LouisianaMassachusetts",1556,-6.7102919333780833E-3,-6.9999999999999993E-3,38]
[null,"Louisiana",2.935191107211383E-2,0.06,88,"Michigan",2.3537558077457752E-2,4.3999999999999997E-2,82,"LouisianaMichigan",1284,-5.814352994656078E-3,-1.6E-2,-6]
[null,"Louisiana",2.935191107211383E-2,0.06,88,"Minnesota",1.1694778182433254E-2,7.9000000000000001E-2,121,"LouisianaMinnesota",791,-1.7657132889680578E-2,1.9000000000000003E-2,33]
[null,"Louisiana",2.935191107211383E-2,0.06,88,"Mississippi",1.426102216325646E-2,0.05,76,"LouisianaMississippi",8588,-1.509088890885737E-2,-9.999999999999995E-3,-12]
[null,"Louisiana",2.935191107211383E-2,0.06,88,"Missouri",2.3569272730155875E-2,0.06,81,"LouisianaMissouri",1178,-5.7826383419579547E-3,0,-7]
[null,"Louisiana",2.935191107211383E-2,0.06,88,"Montana",1.4139449327913651E-2,6.9000000000000006E-2,93,"LouisianaMontana",0,-1.5212461744200179E-2,9.000000000000008E-3,5]
[null,"Louisiana",2.935191107211383E-2,0.06,88,"Nebraska",1.3380940550883517E-2,6.8000000000000005E-2,77,"LouisianaNebraska",411,-1.5970970521230313E-2,8.0000000000000071E-3,-11]
[null,"Louisiana",2.935191107211383E-2,0.06,88,"Nevada",2.9713986690417422E-2,0,99,"LouisianaNevada",421,3.6207561830359225E-4,-0.06,11]
[null,"Louisiana",2.935191107211383E-2,0.06,88,"New Hampshire",9.9372578454122104E-3,0,120,"LouisianaNew Hampshire",7,-1.941465322670162E-2,-0.06,32]
[null,"Louisiana",2.935191107211383E-2,0.06,88,"New Jersey",1.6301331486835775E-2,6.4000000000000001E-2,103,"LouisianaNew Jersey",339,-1.3050579585278055E-2,4.0000000000000036E-3,15]
[null,"Louisiana",2.935191107211383E-2,0.06,88,"New Mexico",2.9999418564700536E-2,4.9000000000000002E-2,105,"LouisianaNew Mexico",790,6.4750749258670609E-4,-1.0999999999999996E-2,17]
[null,"Louisiana",2.935191107211383E-2,0.06,88,"New York",2.1042672065205326E-2,7.9000000000000001E-2,114,"LouisianaNew York",1083,-8.3092390069085045E-3,1.9000000000000003E-2,26]
[null,"Louisiana",2.935191107211383E-2,0.06,88,"North Carolina",1.8489642523006337E-2,7.0000000000000007E-2,81,"LouisianaNorth Carolina",919,-1.0862268549107493E-2,1.0000000000000009E-2,-7]
[null,"Louisiana",2.935191107211383E-2,0.06,88,"North Dakota",1.3055865360727744E-2,3.7999999999999999E-2,89,"LouisianaNorth Dakota",18,-1.6296045711386084E-2,-2.1999999999999999E-2,1]
[null,"Louisiana",2.935191107211383E-2,0.06,88,"Ohio",1.6248473732338901E-2,4.7E-2,106,"LouisianaOhio",2214,-1.3103437339774929E-2,-1.2999999999999998E-2,18]
[null,"Louisiana",2.935191107211383E-2,0.06,88,"Oklahoma",2.4039706745178049E-2,5.5E-2,84,"LouisianaOklahoma",2562,-5.3122043269357815E-3,-4.9999999999999975E-3,-4]
[null,"Louisiana",2.935191107211383E-2,0.06,88,"Oregon",1.3084937125701024E-2,0.108,107,"LouisianaOregon",227,-1.6266973946412806E-2,4.8000000000000001E-2,19]
[null,"Louisiana",2.935191107211383E-2,0.06,88,"Pennsylvania",1.8764502846390078E-2,0.03,96,"LouisianaPennsylvania",694,-1.0587408225723752E-2,-0.03,8]
[null,"Louisiana",2.935191107211383E-2,0.06,88,"Rhode Island",1.3082294237976182E-2,7.8E-2,118,"LouisianaRhode Island",24,-1.6269616834137648E-2,1.8000000000000002E-2,30]
[null,"Louisiana",2.935191107211383E-2,0.06,88,"South Carolina",3.0229349796761933E-2,7.0000000000000007E-2,88,"LouisianaSouth Carolina",2709,8.7743872464810316E-4,1.0000000000000009E-2,0]
[null,"Louisiana",2.935191107211383E-2,0.06,88,"South Dakota",1.3431155417655547E-2,0,79,"LouisianaSouth Dakota",0,-1.5920755654458281E-2,-0.06,-9]
[null,"Louisiana",2.935191107211383E-2,0.06,88,"Tennessee",3.2145443397273599E-2,0,82,"LouisianaTennessee",2452,2.7935323251597685E-3,-0.06,-6]
[null,"Louisiana",2.935191107211383E-2,0.06,88,"Texas",2.1592392711972809E-2,0,83,"LouisianaTexas",29348,-7.7595183601410211E-3,-0.06,-5]
[null,"Louisiana",2.935191107211383E-2,0.06,88,"Utah",1.0307262126890326E-2,0.05,84,"LouisianaUtah",345,{"$f":"G1023-C1023","v":-1.9044648945223504E-2},{"$f":"H1023-D1023","v":-9.999999999999995E-3},{"$f":"I1023-E1023","v":-4}]
[null,"Louisiana",2.935191107211383E-2,0.06,88,"Vermont",7.1490112957021358E-3,8.3000000000000004E-2,110,"LouisianaVermont",73,-2.2202899776411694E-2,2.3000000000000007E-2,22]
[null,"Louisiana",2.935191107211383E-2,0.06,88,"Virginia",1.039712030953501E-2,5.8000000000000003E-2,87,"LouisianaVirginia",1638,-1.8954790762578819E-2,-1.9999999999999948E-3,-1]
[null,"Louisiana",2.935191107211383E-2,0.06,88,"Washington",1.5569251587054078E-2,0,102,"LouisianaWashington",1646,-1.3782659485059752E-2,-0.06,14]
[null,"Louisiana",2.935191107211383E-2,0.06,88,"West Virginia",1.6695121757837481E-2,6.5000000000000002E-2,91,"LouisianaWest Virginia",90,-1.265678931427635E-2,5.0000000000000044E-3,3]
[null,"Louisiana",2.935191107211383E-2,0.06,88,"Wisconsin",1.2522002040309323E-2,6.8000000000000005E-2,105,"LouisianaWisconsin",598,-1.6829909031804507E-2,8.0000000000000071E-3,17]
[null,"Louisiana",2.935191107211383E-2,0.06,88,"Wyoming",1.159170556116435E-2,0,76,"LouisianaWyoming",88,-1.7760205510949478E-2,-0.06,-12]
[null,"Louisiana",2.935191107211383E-2,0.06,88,"Puerto Rico",0,0,0,"LouisianaPuerto Rico",59,-2.935191107211383E-2,-0.06,-88]
[null,"Maine",6.5120753540148114E-3,6.9000000000000006E-2,104,"Alabama",2.2202899776411697E-2,0.05,83,"MaineAlabama",67,1.5690824422396887E-2,-1.9000000000000003E-2,-21]
[null,"Maine",6.5120753540148114E-3,6.9000000000000006E-2,104,"Alaska",3.2055585214628916E-2,0,117,"MaineAlaska",66,2.5543509860614107E-2,-6.9000000000000006E-2,13]
[null,"Maine",6.5120753540148114E-3,6.9000000000000006E-2,104,"Arizona",2.1452319662556094E-2,4.4999999999999998E-2,87,"MaineArizona",616,1.4940244308541283E-2,-2.4000000000000007E-2,-17]
[null,"Maine",6.5120753540148114E-3,6.9000000000000006E-2,104,"Arkansas",2.5419294137546445E-2,7.0000000000000007E-2,79,"MaineArkansas",17,1.8907218783531632E-2,1.0000000000000009E-3,-25]
[null,"Maine",6.5120753540148114E-3,6.9000000000000006E-2,104,"California",2.1729822873664682E-2,9.6000000000000002E-2,92,"MaineCalifornia",1256,1.521774751964987E-2,2.6999999999999996E-2,-12]
[null,"Maine",6.5120753540148114E-3,6.9000000000000006E-2,104,"Colorado",1.6922410102174039E-2,4.5999999999999999E-2,106,"MaineColorado",20,1.0410334748159228E-2,-2.3000000000000007E-2,2]
[null,"Maine",6.5120753540148114E-3,6.9000000000000006E-2,104,"Connecticut",1.4419595426747081E-2,0.05,105,"MaineConnecticut",1224,7.9075200727322693E-3,-1.9000000000000003E-2,1]
[null,"Maine",6.5120753540148114E-3,6.9000000000000006E-2,104,"Delaware",2.9571270753275862E-2,7.0000000000000007E-2,100,"MaineDelaware",0,2.3059195399261052E-2,1.0000000000000009E-3,-4]
[null,"Maine",6.5120753540148114E-3,6.9000000000000006E-2,104,"District of Columbia ",6.3540306680691577E-2,8.5000000000000006E-2,148,"MaineDistrict of Columbia ",194,5.7028231326676768E-2,1.6E-2,44]
[null,"Maine",6.5120753540148114E-3,6.9000000000000006E-2,104,"Florida",2.7237600892238891E-2,0,89,"MaineFlorida",7348,2.0725525538224078E-2,-6.9000000000000006E-2,-15]
[null,"Maine",6.5120753540148114E-3,6.9000000000000006E-2,104,"Georgia",1.9726513978233176E-2,0.06,95,"MaineGeorgia",222,1.3214438624218365E-2,-9.000000000000008E-3,-9]
[null,"Maine",6.5120753540148114E-3,6.9000000000000006E-2,104,"Hawaii",1.5418606986737988E-2,8.3000000000000004E-2,149,"MaineHawaii",91,8.9065316327231765E-3,1.3999999999999999E-2,45]
[null,"Maine",6.5120753540148114E-3,6.9000000000000006E-2,104,"Idaho",1.0619122878421879E-2,7.8E-2,98,"MaineIdaho",0,4.1070475244070672E-3,8.9999999999999941E-3,-6]
[null,"Maine",6.5120753540148114E-3,6.9000000000000006E-2,104,"Illinois",2.2681262454608404E-2,0.03,91,"MaineIllinois",526,1.6169187100593591E-2,-3.9000000000000007E-2,-13]
[null,"Maine",6.5120753540148114E-3,6.9000000000000006E-2,104,"Indiana",1.754084582978746E-2,3.4000000000000002E-2,88,"MaineIndiana",0,1.1028770475772649E-2,-3.5000000000000003E-2,-16]
[null,"Maine",6.5120753540148114E-3,6.9000000000000006E-2,104,"Iowa",1.3507799161676014E-2,0.09,90,"MaineIowa",78,6.9957238076612024E-3,2.0999999999999991E-2,-14]
[null,"Maine",6.5120753540148114E-3,6.9000000000000006E-2,104,"Kansas",1.8706359316443516E-2,6.5000000000000002E-2,84,"MaineKansas",211,1.2194283962428705E-2,-4.0000000000000036E-3,-20]
[null,"Maine",6.5120753540148114E-3,6.9000000000000006E-2,104,"Kentucky",1.6652835554239985E-2,5.8000000000000003E-2,92,"MaineKentucky",46,1.0140760200225174E-2,-1.1000000000000003E-2,-12]
[null,"Maine",6.5120753540148114E-3,6.9000000000000006E-2,104,"Louisiana",2.935191107211383E-2,0.06,88,"MaineLouisiana",251,2.2839835718099021E-2,-9.000000000000008E-3,-16]
[null,"Maine",6.5120753540148114E-3,6.9000000000000006E-2,104,"Maryland",2.611701649690518E-2,0.05,103,"MaineMaryland",332,1.9604941142890367E-2,-1.9000000000000003E-2,-1]
[null,"Maine",6.5120753540148114E-3,6.9000000000000006E-2,104,"Massachusetts",2.2641619138735747E-2,5.2999999999999999E-2,126,"MaineMassachusetts",3907,1.6129543784720937E-2,-1.6000000000000007E-2,22]
[null,"Maine",6.5120753540148114E-3,6.9000000000000006E-2,104,"Michigan",2.3537558077457752E-2,4.3999999999999997E-2,82,"MaineMichigan",261,1.7025482723442939E-2,-2.5000000000000008E-2,-22]
[null,"Maine",6.5120753540148114E-3,6.9000000000000006E-2,104,"Minnesota",1.1694778182433254E-2,7.9000000000000001E-2,121,"MaineMinnesota",187,5.1827028284184423E-3,9.999999999999995E-3,17]
[null,"Maine",6.5120753540148114E-3,6.9000000000000006E-2,104,"Mississippi",1.426102216325646E-2,0.05,76,"MaineMississippi",163,7.748946809241649E-3,-1.9000000000000003E-2,-28]
[null,"Maine",6.5120753540148114E-3,6.9000000000000006E-2,104,"Missouri",2.3569272730155875E-2,0.06,81,"MaineMissouri",996,1.7057197376141066E-2,-9.000000000000008E-3,-23]
[null,"Maine",6.5120753540148114E-3,6.9000000000000006E-2,104,"Montana",1.4139449327913651E-2,6.9000000000000006E-2,93,"MaineMontana",225,7.6273739738988398E-3,0,-11]
[null,"Maine",6.5120753540148114E-3,6.9000000000000006E-2,104,"Nebraska",1.3380940550883517E-2,6.8000000000000005E-2,77,"MaineNebraska",68,6.8688651968687054E-3,-1.0000000000000009E-3,-27]
[null,"Maine",6.5120753540148114E-3,6.9000000000000006E-2,104,"Nevada",2.9713986690417422E-2,0,99,"MaineNevada",209,2.3201911336402613E-2,-6.9000000000000006E-2,-5]
[null,"Maine",6.5120753540148114E-3,6.9000000000000006E-2,104,"New Hampshire",9.9372578454122104E-3,0,120,"MaineNew Hampshire",6118,3.425182491397399E-3,-6.9000000000000006E-2,16]
[null,"Maine",6.5120753540148114E-3,6.9000000000000006E-2,104,"New Jersey",1.6301331486835775E-2,6.4000000000000001E-2,103,"MaineNew Jersey",430,9.7892561328209639E-3,-5.0000000000000044E-3,-1]
[null,"Maine",6.5120753540148114E-3,6.9000000000000006E-2,104,"New Mexico",2.9999418564700536E-2,4.9000000000000002E-2,105,"MaineNew Mexico",57,2.3487343210685727E-2,-2.0000000000000004E-2,1]
[null,"Maine",6.5120753540148114E-3,6.9000000000000006E-2,104,"New York",2.1042672065205326E-2,7.9000000000000001E-2,114,"MaineNew York",1345,1.4530596711190514E-2,9.999999999999995E-3,10]
[null,"Maine",6.5120753540148114E-3,6.9000000000000006E-2,104,"North Carolina",1.8489642523006337E-2,7.0000000000000007E-2,81,"MaineNorth Carolina",1259,1.1977567168991525E-2,1.0000000000000009E-3,-23]
[null,"Maine",6.5120753540148114E-3,6.9000000000000006E-2,104,"North Dakota",1.3055865360727744E-2,3.7999999999999999E-2,89,"MaineNorth Dakota",98,6.543790006712933E-3,-3.1000000000000007E-2,-15]
[null,"Maine",6.5120753540148114E-3,6.9000000000000006E-2,104,"Ohio",1.6248473732338901E-2,4.7E-2,106,"MaineOhio",1189,9.7363983783240893E-3,-2.2000000000000006E-2,2]
[null,"Maine",6.5120753540148114E-3,6.9000000000000006E-2,104,"Oklahoma",2.4039706745178049E-2,5.5E-2,84,"MaineOklahoma",167,1.7527631391163236E-2,-1.4000000000000005E-2,-20]
[null,"Maine",6.5120753540148114E-3,6.9000000000000006E-2,104,"Oregon",1.3084937125701024E-2,0.108,107,"MaineOregon",446,6.5728617716862125E-3,3.8999999999999993E-2,3]
[null,"Maine",6.5120753540148114E-3,6.9000000000000006E-2,104,"Pennsylvania",1.8764502846390078E-2,0.03,96,"MainePennsylvania",988,1.2252427492375267E-2,-3.9000000000000007E-2,-8]
[null,"Maine",6.5120753540148114E-3,6.9000000000000006E-2,104,"Rhode Island",1.3082294237976182E-2,7.8E-2,118,"MaineRhode Island",279,6.5702188839613703E-3,8.9999999999999941E-3,14]
[null,"Maine",6.5120753540148114E-3,6.9000000000000006E-2,104,"South Carolina",3.0229349796761933E-2,7.0000000000000007E-2,88,"MaineSouth Carolina",2077,2.371727444274712E-2,1.0000000000000009E-3,-16]
[null,"Maine",6.5120753540148114E-3,6.9000000000000006E-2,104,"South Dakota",1.3431155417655547E-2,0,79,"MaineSouth Dakota",0,6.9190800636407361E-3,-6.9000000000000006E-2,-25]
[null,"Maine",6.5120753540148114E-3,6.9000000000000006E-2,104,"Tennessee",3.2145443397273599E-2,0,82,"MaineTennessee",1040,2.5633368043258789E-2,-6.9000000000000006E-2,-22]
[null,"Maine",6.5120753540148114E-3,6.9000000000000006E-2,104,"Texas",2.1592392711972809E-2,0,83,"MaineTexas",1293,1.5080317357957998E-2,-6.9000000000000006E-2,-21]
[null,"Maine",6.5120753540148114E-3,6.9000000000000006E-2,104,"Utah",1.0307262126890326E-2,0.05,84,"MaineUtah",380,3.7951867728755143E-3,-1.9000000000000003E-2,-20]
[null,"Maine",6.5120753540148114E-3,6.9000000000000006E-2,104,"Vermont",7.1490112957021358E-3,8.3000000000000004E-2,110,"MaineVermont",883,6.369359416873244E-4,1.3999999999999999E-2,6]
[null,"Maine",6.5120753540148114E-3,6.9000000000000006E-2,104,"Virginia",1.039712030953501E-2,5.8000000000000003E-2,87,"MaineVirginia",1144,3.8850449555201984E-3,-1.1000000000000003E-2,-17]
[null,"Maine",6.5120753540148114E-3,6.9000000000000006E-2,104,"Washington",1.5569251587054078E-2,0,102,"MaineWashington",532,9.0571762330392668E-3,-6.9000000000000006E-2,-2]
[null,"Maine",6.5120753540148114E-3,6.9000000000000006E-2,104,"West Virginia",1.6695121757837481E-2,6.5000000000000002E-2,91,"MaineWest Virginia",35,1.0183046403822669E-2,-4.0000000000000036E-3,-13]
[null,"Maine",6.5120753540148114E-3,6.9000000000000006E-2,104,"Wisconsin",1.2522002040309323E-2,6.8000000000000005E-2,105,"MaineWisconsin",233,6.0099266862945113E-3,-1.0000000000000009E-3,1]
[null,"Maine",6.5120753540148114E-3,6.9000000000000006E-2,104,"Wyoming",1.159170556116435E-2,0,76,"MaineWyoming",0,5.0796302071495388E-3,-6.9000000000000006E-2,-28]
[null,"Maine",6.5120753540148114E-3,6.9000000000000006E-2,104,"Puerto Rico",0,0,0,"MainePuerto Rico",0,-6.5120753540148114E-3,-6.9000000000000006E-2,-104]
[null,"Maryland",2.611701649690518E-2,0.05,103,"Alabama",2.2202899776411697E-2,0.05,83,"MarylandAlabama",1513,-3.9141167204934831E-3,0,-20]
[null,"Maryland",2.611701649690518E-2,0.05,103,"Alaska",3.2055585214628916E-2,0,117,"MarylandAlaska",508,5.9385687177237363E-3,-0.05,14]
[null,"Maryland",2.611701649690518E-2,0.05,103,"Arizona",2.1452319662556094E-2,4.4999999999999998E-2,87,"MarylandArizona",3007,-4.6646968343490858E-3,-5.0000000000000044E-3,-16]
[null,"Maryland",2.611701649690518E-2,0.05,103,"Arkansas",2.5419294137546445E-2,7.0000000000000007E-2,79,"MarylandArkansas",169,-6.9772235935873506E-4,2.0000000000000004E-2,-24]
[null,"Maryland",2.611701649690518E-2,0.05,103,"California",2.1729822873664682E-2,9.6000000000000002E-2,92,"MarylandCalifornia",7902,-4.3871936232404984E-3,4.5999999999999999E-2,-11]
[null,"Maryland",2.611701649690518E-2,0.05,103,"Colorado",1.6922410102174039E-2,4.5999999999999999E-2,106,"MarylandColorado",2844,{"$f":"G1087-C1087","v":-9.1946063947311411E-3},{"$f":"H1087-D1087","v":-4.0000000000000036E-3},{"$f":"I1087-E1087","v":3}]
[null,"Maryland",2.611701649690518E-2,0.05,103,"Connecticut",1.4419595426747081E-2,0.05,105,"MarylandConnecticut",1752,-1.1697421070158099E-2,0,2]
[null,"Maryland",2.611701649690518E-2,0.05,103,"Delaware",2.9571270753275862E-2,7.0000000000000007E-2,100,"MarylandDelaware",5649,3.454254256370682E-3,2.0000000000000004E-2,-3]
[null,"Maryland",2.611701649690518E-2,0.05,103,"District of Columbia ",6.3540306680691577E-2,8.5000000000000006E-2,148,"MarylandDistrict of Columbia ",14120,3.7423290183786401E-2,3.5000000000000003E-2,45]
[null,"Maryland",2.611701649690518E-2,0.05,103,"Florida",2.7237600892238891E-2,0,89,"MarylandFlorida",10442,1.1205843953337111E-3,-0.05,-14]
[null,"Maryland",2.611701649690518E-2,0.05,103,"Georgia",1.9726513978233176E-2,0.06,95,"MarylandGeorgia",3619,-6.3905025186720039E-3,9.999999999999995E-3,-8]
[null,"Maryland",2.611701649690518E-2,0.05,103,"Hawaii",1.5418606986737988E-2,8.3000000000000004E-2,149,"MarylandHawaii",2491,-1.0698409510167192E-2,3.3000000000000002E-2,46]
[null,"Maryland",2.611701649690518E-2,0.05,103,"Idaho",1.0619122878421879E-2,7.8E-2,98,"MarylandIdaho",107,-1.5497893618483301E-2,2.7999999999999997E-2,-5]
[null,"Maryland",2.611701649690518E-2,0.05,103,"Illinois",2.2681262454608404E-2,0.03,91,"MarylandIllinois",1865,-3.4357540422967764E-3,-2.0000000000000004E-2,-12]
[null,"Maryland",2.611701649690518E-2,0.05,103,"Indiana",1.754084582978746E-2,3.4000000000000002E-2,88,"MarylandIndiana",1050,-8.5761706671177197E-3,-1.6E-2,-15]
[null,"Maryland",2.611701649690518E-2,0.05,103,"Iowa",1.3507799161676014E-2,0.09,90,"MarylandIowa",419,-1.2609217335229166E-2,3.9999999999999994E-2,-13]
[null,"Maryland",2.611701649690518E-2,0.05,103,"Kansas",1.8706359316443516E-2,6.5000000000000002E-2,84,"MarylandKansas",282,-7.410657180461664E-3,1.4999999999999999E-2,-19]
[null,"Maryland",2.611701649690518E-2,0.05,103,"Kentucky",1.6652835554239985E-2,5.8000000000000003E-2,92,"MarylandKentucky",1120,-9.464180942665195E-3,8.0000000000000002E-3,-11]
[null,"Maryland",2.611701649690518E-2,0.05,103,"Louisiana",2.935191107211383E-2,0.06,88,"MarylandLouisiana",642,3.2348945752086501E-3,9.999999999999995E-3,-15]
[null,"Maryland",2.611701649690518E-2,0.05,103,"Maine",6.5120753540148114E-3,6.9000000000000006E-2,104,"MarylandMaine",325,-1.9604941142890367E-2,1.9000000000000003E-2,1]
[null,"Maryland",2.611701649690518E-2,0.05,103,"Massachusetts",2.2641619138735747E-2,5.2999999999999999E-2,126,"MarylandMassachusetts",2381,-3.4753973581694332E-3,2.9999999999999957E-3,23]
[null,"Maryland",2.611701649690518E-2,0.05,103,"Michigan",2.3537558077457752E-2,4.3999999999999997E-2,82,"MarylandMichigan",2201,-2.5794584194474279E-3,-6.0000000000000053E-3,-21]
[null,"Maryland",2.611701649690518E-2,0.05,103,"Minnesota",1.1694778182433254E-2,7.9000000000000001E-2,121,"MarylandMinnesota",1841,-1.4422238314471926E-2,2.8999999999999998E-2,18]
[null,"Maryland",2.611701649690518E-2,0.05,103,"Mississippi",1.426102216325646E-2,0.05,76,"MarylandMississippi",379,-1.185599433364872E-2,0,-27]
[null,"Maryland",2.611701649690518E-2,0.05,103,"Missouri",2.3569272730155875E-2,0.06,81,"MarylandMissouri",1246,-2.5477437667493046E-3,9.999999999999995E-3,-22]
[null,"Maryland",2.611701649690518E-2,0.05,103,"Montana",1.4139449327913651E-2,6.9000000000000006E-2,93,"MarylandMontana",33,-1.1977567168991529E-2,1.9000000000000003E-2,-10]
[null,"Maryland",2.611701649690518E-2,0.05,103,"Nebraska",1.3380940550883517E-2,6.8000000000000005E-2,77,"MarylandNebraska",129,-1.2736075946021663E-2,1.8000000000000002E-2,-26]
[null,"Maryland",2.611701649690518E-2,0.05,103,"Nevada",2.9713986690417422E-2,0,99,"MarylandNevada",934,3.5969701935122424E-3,-0.05,-4]
[null,"Maryland",2.611701649690518E-2,0.05,103,"New Hampshire",9.9372578454122104E-3,0,120,"MarylandNew Hampshire",33,-1.617975865149297E-2,-0.05,17]
[null,"Maryland",2.611701649690518E-2,0.05,103,"New Jersey",1.6301331486835775E-2,6.4000000000000001E-2,103,"MarylandNew Jersey",3474,-9.8156850100694047E-3,1.3999999999999999E-2,0]
[null,"Maryland",2.611701649690518E-2,0.05,103,"New Mexico",2.9999418564700536E-2,4.9000000000000002E-2,105,"MarylandNew Mexico",505,3.8824020677953562E-3,-1.0000000000000009E-3,2]
[null,"Maryland",2.611701649690518E-2,0.05,103,"New York",2.1042672065205326E-2,7.9000000000000001E-2,114,"MarylandNew York",7321,-5.0743444316998544E-3,2.8999999999999998E-2,11]
[null,"Maryland",2.611701649690518E-2,0.05,103,"North Carolina",1.8489642523006337E-2,7.0000000000000007E-2,81,"MarylandNorth Carolina",9005,-7.6273739738988433E-3,2.0000000000000004E-2,-22]
[null,"Maryland",2.611701649690518E-2,0.05,103,"North Dakota",1.3055865360727744E-2,3.7999999999999999E-2,89,"MarylandNorth Dakota",232,-1.3061151136177436E-2,-1.2000000000000004E-2,-14]
[null,"Maryland",2.611701649690518E-2,0.05,103,"Ohio",1.6248473732338901E-2,4.7E-2,106,"MarylandOhio",5026,-9.8685427645662793E-3,-3.0000000000000027E-3,3]
[null,"Maryland",2.611701649690518E-2,0.05,103,"Oklahoma",2.4039706745178049E-2,5.5E-2,84,"MarylandOklahoma",750,-2.0773097517271313E-3,4.9999999999999975E-3,-19]
[null,"Maryland",2.611701649690518E-2,0.05,103,"Oregon",1.3084937125701024E-2,0.108,107,"MarylandOregon",457,-1.3032079371204156E-2,5.7999999999999996E-2,4]
[null,"Maryland",2.611701649690518E-2,0.05,103,"Pennsylvania",1.8764502846390078E-2,0.03,96,"MarylandPennsylvania",17529,-7.3525136505151016E-3,-2.0000000000000004E-2,-7]
[null,"Maryland",2.611701649690518E-2,0.05,103,"Rhode Island",1.3082294237976182E-2,7.8E-2,118,"MarylandRhode Island",482,-1.3034722258928998E-2,2.7999999999999997E-2,15]
[null,"Maryland",2.611701649690518E-2,0.05,103,"South Carolina",3.0229349796761933E-2,7.0000000000000007E-2,88,"MarylandSouth Carolina",3565,4.1123332998567533E-3,2.0000000000000004E-2,-15]
[null,"Maryland",2.611701649690518E-2,0.05,103,"South Dakota",1.3431155417655547E-2,0,79,"MarylandSouth Dakota",60,-1.2685861079249633E-2,-0.05,-24]
[null,"Maryland",2.611701649690518E-2,0.05,103,"Tennessee",3.2145443397273599E-2,0,82,"MarylandTennessee",1743,6.0284269003684186E-3,-0.05,-21]
[null,"Maryland",2.611701649690518E-2,0.05,103,"Texas",2.1592392711972809E-2,0,83,"MarylandTexas",4969,-4.524623784932371E-3,-0.05,-20]
[null,"Maryland",2.611701649690518E-2,0.05,103,"Utah",1.0307262126890326E-2,0.05,84,"MarylandUtah",613,-1.5809754370014854E-2,0,-19]
[null,"Maryland",2.611701649690518E-2,0.05,103,"Vermont",7.1490112957021358E-3,8.3000000000000004E-2,110,"MarylandVermont",862,-1.8968005201203043E-2,3.3000000000000002E-2,7]
[null,"Maryland",2.611701649690518E-2,0.05,103,"Virginia",1.039712030953501E-2,5.8000000000000003E-2,87,"MarylandVirginia",23925,-1.5719896187370172E-2,8.0000000000000002E-3,-16]
[null,"Maryland",2.611701649690518E-2,0.05,103,"Washington",1.5569251587054078E-2,0,102,"MarylandWashington",1191,-1.0547764909851102E-2,-0.05,-1]
[null,"Maryland",2.611701649690518E-2,0.05,103,"West Virginia",1.6695121757837481E-2,6.5000000000000002E-2,91,"MarylandWest Virginia",5352,-9.4218947390676995E-3,1.4999999999999999E-2,-12]
[null,"Maryland",2.611701649690518E-2,0.05,103,"Wisconsin",1.2522002040309323E-2,6.8000000000000005E-2,105,"MarylandWisconsin",1306,-1.3595014456595857E-2,1.8000000000000002E-2,2]
[null,"Maryland",2.611701649690518E-2,0.05,103,"Wyoming",1.159170556116435E-2,0,76,"MarylandWyoming",294,-1.452531093574083E-2,-0.05,-27]
[null,"Maryland",2.611701649690518E-2,0.05,103,"Puerto Rico",0,0,0,"MarylandPuerto Rico",108,-2.611701649690518E-2,-0.05,-103]
[null,"Massachusetts",2.2641619138735747E-2,5.2999999999999999E-2,126,"Alabama",2.2202899776411697E-2,0.05,83,"MassachusettsAlabama",334,-4.3871936232404984E-4,-2.9999999999999957E-3,-43]
[null,"Massachusetts",2.2641619138735747E-2,5.2999999999999999E-2,126,"Alaska",3.2055585214628916E-2,0,117,"MassachusettsAlaska",297,9.4139660758931695E-3,-5.2999999999999999E-2,-9]
[null,"Massachusetts",2.2641619138735747E-2,5.2999999999999999E-2,126,"Arizona",2.1452319662556094E-2,4.4999999999999998E-2,87,"MassachusettsArizona",1961,-1.1892994761796526E-3,-8.0000000000000002E-3,-39]
[null,"Massachusetts",2.2641619138735747E-2,5.2999999999999999E-2,126,"Arkansas",2.5419294137546445E-2,7.0000000000000007E-2,79,"MassachusettsArkansas",254,2.7776749988106982E-3,1.7000000000000008E-2,-47]
[null,"Massachusetts",2.2641619138735747E-2,5.2999999999999999E-2,126,"California",2.1729822873664682E-2,9.6000000000000002E-2,92,"MassachusettsCalifornia",14356,-9.1179626507106523E-4,4.3000000000000003E-2,-34]
[null,"Massachusetts",2.2641619138735747E-2,5.2999999999999999E-2,126,"Colorado",1.6922410102174039E-2,4.5999999999999999E-2,106,"MassachusettsColorado",5939,-5.7192090365617079E-3,-6.9999999999999993E-3,-20]
[null,"Massachusetts",2.2641619138735747E-2,5.2999999999999999E-2,126,"Connecticut",1.4419595426747081E-2,0.05,105,"MassachusettsConnecticut",8743,-8.2220237119886661E-3,-2.9999999999999957E-3,-21]
[null,"Massachusetts",2.2641619138735747E-2,5.2999999999999999E-2,126,"Delaware",2.9571270753275862E-2,7.0000000000000007E-2,100,"MassachusettsDelaware",157,6.9296516145401152E-3,1.7000000000000008E-2,-26]
[null,"Massachusetts",2.2641619138735747E-2,5.2999999999999999E-2,126,"District of Columbia ",6.3540306680691577E-2,8.5000000000000006E-2,148,"MassachusettsDistrict of Columbia ",1524,4.089868754195583E-2,3.2000000000000008E-2,22]
[null,"Massachusetts",2.2641619138735747E-2,5.2999999999999999E-2,126,"Florida",2.7237600892238891E-2,0,89,"MassachusettsFlorida",15159,4.5959817535031443E-3,-5.2999999999999999E-2,-37]
[null,"Massachusetts",2.2641619138735747E-2,5.2999999999999999E-2,126,"Georgia",1.9726513978233176E-2,0.06,95,"MassachusettsGeorgia",4153,-2.9151051605025707E-3,6.9999999999999993E-3,-31]
[null,"Massachusetts",2.2641619138735747E-2,5.2999999999999999E-2,126,"Hawaii",1.5418606986737988E-2,8.3000000000000004E-2,149,"MassachusettsHawaii",1266,-7.223012151997759E-3,3.0000000000000006E-2,23]
[null,"Massachusetts",2.2641619138735747E-2,5.2999999999999999E-2,126,"Idaho",1.0619122878421879E-2,7.8E-2,98,"MassachusettsIdaho",338,-1.2022496260313868E-2,2.5000000000000001E-2,-28]
[null,"Massachusetts",2.2641619138735747E-2,5.2999999999999999E-2,126,"Illinois",2.2681262454608404E-2,0.03,91,"MassachusettsIllinois",3296,3.964331587265682E-5,-2.3E-2,-35]
[null,"Massachusetts",2.2641619138735747E-2,5.2999999999999999E-2,126,"Indiana",1.754084582978746E-2,3.4000000000000002E-2,88,"MassachusettsIndiana",837,-5.1007733089482865E-3,-1.8999999999999996E-2,-38]
[null,"Massachusetts",2.2641619138735747E-2,5.2999999999999999E-2,126,"Iowa",1.3507799161676014E-2,0.09,90,"MassachusettsIowa",585,-9.1338199770597331E-3,3.6999999999999998E-2,-36]
[null,"Massachusetts",2.2641619138735747E-2,5.2999999999999999E-2,126,"Kansas",1.8706359316443516E-2,6.5000000000000002E-2,84,"MassachusettsKansas",187,-3.9352598222922308E-3,1.2000000000000004E-2,-42]
[null,"Massachusetts",2.2641619138735747E-2,5.2999999999999999E-2,126,"Kentucky",1.6652835554239985E-2,5.8000000000000003E-2,92,"MassachusettsKentucky",419,-5.9887835844957618E-3,5.0000000000000044E-3,-34]
[null,"Massachusetts",2.2641619138735747E-2,5.2999999999999999E-2,126,"Louisiana",2.935191107211383E-2,0.06,88,"MassachusettsLouisiana",549,{"$f":"G1151-C1151","v":6.7102919333780833E-3},{"$f":"H1151-D1151","v":6.9999999999999993E-3},{"$f":"I1151-E1151","v":-38}]
[null,"Massachusetts",2.2641619138735747E-2,5.2999999999999999E-2,126,"Maine",6.5120753540148114E-3,6.9000000000000006E-2,104,"MassachusettsMaine",3887,-1.6129543784720937E-2,1.6000000000000007E-2,-22]
[null,"Massachusetts",2.2641619138735747E-2,5.2999999999999999E-2,126,"Maryland",2.611701649690518E-2,0.05,103,"MassachusettsMaryland",3977,3.4753973581694332E-3,-2.9999999999999957E-3,-23]
[null,"Massachusetts",2.2641619138735747E-2,5.2999999999999999E-2,126,"Michigan",2.3537558077457752E-2,4.3999999999999997E-2,82,"MassachusettsMichigan",1720,8.9593893872200528E-4,-9.0000000000000011E-3,-44]
[null,"Massachusetts",2.2641619138735747E-2,5.2999999999999999E-2,126,"Minnesota",1.1694778182433254E-2,7.9000000000000001E-2,121,"MassachusettsMinnesota",814,-1.0946840956302493E-2,2.6000000000000002E-2,-5]
[null,"Massachusetts",2.2641619138735747E-2,5.2999999999999999E-2,126,"Mississippi",1.426102216325646E-2,0.05,76,"MassachusettsMississippi",67,-8.3805969754792865E-3,-2.9999999999999957E-3,-50]
[null,"Massachusetts",2.2641619138735747E-2,5.2999999999999999E-2,126,"Missouri",2.3569272730155875E-2,0.06,81,"MassachusettsMissouri",810,9.2765359142012865E-4,6.9999999999999993E-3,-45]
[null,"Massachusetts",2.2641619138735747E-2,5.2999999999999999E-2,126,"Montana",1.4139449327913651E-2,6.9000000000000006E-2,93,"MassachusettsMontana",97,-8.5021698108220956E-3,1.6000000000000007E-2,-33]
[null,"Massachusetts",2.2641619138735747E-2,5.2999999999999999E-2,126,"Nebraska",1.3380940550883517E-2,6.8000000000000005E-2,77,"MassachusettsNebraska",195,-9.2606785878522301E-3,1.5000000000000006E-2,-49]
[null,"Massachusetts",2.2641619138735747E-2,5.2999999999999999E-2,126,"Nevada",2.9713986690417422E-2,0,99,"MassachusettsNevada",318,7.0723675516816756E-3,-5.2999999999999999E-2,-27]
[null,"Massachusetts",2.2641619138735747E-2,5.2999999999999999E-2,126,"New Hampshire",9.9372578454122104E-3,0,120,"MassachusettsNew Hampshire",18990,-1.2704361293323536E-2,-5.2999999999999999E-2,-6]
[null,"Massachusetts",2.2641619138735747E-2,5.2999999999999999E-2,126,"New Jersey",1.6301331486835775E-2,6.4000000000000001E-2,103,"MassachusettsNew Jersey",4907,-6.3402876518999715E-3,1.1000000000000003E-2,-23]
[null,"Massachusetts",2.2641619138735747E-2,5.2999999999999999E-2,126,"New Mexico",2.9999418564700536E-2,4.9000000000000002E-2,105,"MassachusettsNew Mexico",303,7.3577994259647894E-3,-3.9999999999999966E-3,-21]
[null,"Massachusetts",2.2641619138735747E-2,5.2999999999999999E-2,126,"New York",2.1042672065205326E-2,7.9000000000000001E-2,114,"MassachusettsNew York",15073,-1.5989470735304212E-3,2.6000000000000002E-2,-12]
[null,"Massachusetts",2.2641619138735747E-2,5.2999999999999999E-2,126,"North Carolina",1.8489642523006337E-2,7.0000000000000007E-2,81,"MassachusettsNorth Carolina",3710,-4.1519766157294101E-3,1.7000000000000008E-2,-45]
[null,"Massachusetts",2.2641619138735747E-2,5.2999999999999999E-2,126,"North Dakota",1.3055865360727744E-2,3.7999999999999999E-2,89,"MassachusettsNorth Dakota",187,-9.5857537780080024E-3,-1.4999999999999999E-2,-37]
[null,"Massachusetts",2.2641619138735747E-2,5.2999999999999999E-2,126,"Ohio",1.6248473732338901E-2,4.7E-2,106,"MassachusettsOhio",2189,-6.3931454063968461E-3,-5.9999999999999984E-3,-20]
[null,"Massachusetts",2.2641619138735747E-2,5.2999999999999999E-2,126,"Oklahoma",2.4039706745178049E-2,5.5E-2,84,"MassachusettsOklahoma",1233,1.3980876064423019E-3,2.0000000000000018E-3,-42]
[null,"Massachusetts",2.2641619138735747E-2,5.2999999999999999E-2,126,"Oregon",1.3084937125701024E-2,0.108,107,"MassachusettsOregon",760,-9.556682013034723E-3,5.5E-2,-19]
[null,"Massachusetts",2.2641619138735747E-2,5.2999999999999999E-2,126,"Pennsylvania",1.8764502846390078E-2,0.03,96,"MassachusettsPennsylvania",5900,-3.8771162923456684E-3,-2.3E-2,-30]
[null,"Massachusetts",2.2641619138735747E-2,5.2999999999999999E-2,126,"Rhode Island",1.3082294237976182E-2,7.8E-2,118,"MassachusettsRhode Island",11253,-9.5593249007595651E-3,2.5000000000000001E-2,-8]
[null,"Massachusetts",2.2641619138735747E-2,5.2999999999999999E-2,126,"South Carolina",3.0229349796761933E-2,7.0000000000000007E-2,88,"MassachusettsSouth Carolina",2313,7.5877306580261865E-3,1.7000000000000008E-2,-38]
[null,"Massachusetts",2.2641619138735747E-2,5.2999999999999999E-2,126,"South Dakota",1.3431155417655547E-2,0,79,"MassachusettsSouth Dakota",61,-9.2104637210801994E-3,-5.2999999999999999E-2,-47]
[null,"Massachusetts",2.2641619138735747E-2,5.2999999999999999E-2,126,"Tennessee",3.2145443397273599E-2,0,82,"MassachusettsTennessee",1525,9.5038242585378518E-3,-5.2999999999999999E-2,-44]
[null,"Massachusetts",2.2641619138735747E-2,5.2999999999999999E-2,126,"Texas",2.1592392711972809E-2,0,83,"MassachusettsTexas",4813,-1.0492264267629378E-3,-5.2999999999999999E-2,-43]
[null,"Massachusetts",2.2641619138735747E-2,5.2999999999999999E-2,126,"Utah",1.0307262126890326E-2,0.05,84,"MassachusettsUtah",1503,-1.2334357011845421E-2,-2.9999999999999957E-3,-42]
[null,"Massachusetts",2.2641619138735747E-2,5.2999999999999999E-2,126,"Vermont",7.1490112957021358E-3,8.3000000000000004E-2,110,"MassachusettsVermont",3318,-1.549260784303361E-2,3.0000000000000006E-2,-16]
[null,"Massachusetts",2.2641619138735747E-2,5.2999999999999999E-2,126,"Virginia",1.039712030953501E-2,5.8000000000000003E-2,87,"MassachusettsVirginia",3767,-1.2244498829200737E-2,5.0000000000000044E-3,-39]
[null,"Massachusetts",2.2641619138735747E-2,5.2999999999999999E-2,126,"Washington",1.5569251587054078E-2,0,102,"MassachusettsWashington",2911,-7.0723675516816686E-3,-5.2999999999999999E-2,-24]
[null,"Massachusetts",2.2641619138735747E-2,5.2999999999999999E-2,126,"West Virginia",1.6695121757837481E-2,6.5000000000000002E-2,91,"MassachusettsWest Virginia",164,-5.9464973808982663E-3,1.2000000000000004E-2,-35]
[null,"Massachusetts",2.2641619138735747E-2,5.2999999999999999E-2,126,"Wisconsin",1.2522002040309323E-2,6.8000000000000005E-2,105,"MassachusettsWisconsin",489,-1.0119617098426424E-2,1.5000000000000006E-2,-21]
[null,"Massachusetts",2.2641619138735747E-2,5.2999999999999999E-2,126,"Wyoming",1.159170556116435E-2,0,76,"MassachusettsWyoming",548,-1.1049913577571397E-2,-5.2999999999999999E-2,-50]
[null,"Massachusetts",2.2641619138735747E-2,5.2999999999999999E-2,126,"Puerto Rico",0,0,0,"MassachusettsPuerto Rico",2258,-2.2641619138735747E-2,-5.2999999999999999E-2,-126]
[null,"Michigan",2.3537558077457752E-2,4.3999999999999997E-2,82,"Alabama",2.2202899776411697E-2,0.05,83,"MichiganAlabama",2298,-1.3346583010460551E-3,6.0000000000000053E-3,1]
[null,"Michigan",2.3537558077457752E-2,4.3999999999999997E-2,82,"Alaska",3.2055585214628916E-2,0,117,"MichiganAlaska",563,8.5180271371711642E-3,-4.3999999999999997E-2,35]
[null,"Michigan",2.3537558077457752E-2,4.3999999999999997E-2,82,"Arizona",2.1452319662556094E-2,4.4999999999999998E-2,87,"MichiganArizona",9598,-2.0852384149016578E-3,1.0000000000000009E-3,5]
[null,"Michigan",2.3537558077457752E-2,4.3999999999999997E-2,82,"Arkansas",2.5419294137546445E-2,7.0000000000000007E-2,79,"MichiganArkansas",1283,1.8817360600886929E-3,2.6000000000000009E-2,-3]
[null,"Michigan",2.3537558077457752E-2,4.3999999999999997E-2,82,"California",2.1729822873664682E-2,9.6000000000000002E-2,92,"MichiganCalifornia",8921,-1.8077352037930705E-3,5.2000000000000005E-2,10]
[null,"Michigan",2.3537558077457752E-2,4.3999999999999997E-2,82,"Colorado",1.6922410102174039E-2,4.5999999999999999E-2,106,"MichiganColorado",3343,-6.6151479752837132E-3,2.0000000000000018E-3,24]
[null,"Michigan",2.3537558077457752E-2,4.3999999999999997E-2,82,"Connecticut",1.4419595426747081E-2,0.05,105,"MichiganConnecticut",753,-9.1179626507106714E-3,6.0000000000000053E-3,23]
[null,"Michigan",2.3537558077457752E-2,4.3999999999999997E-2,82,"Delaware",2.9571270753275862E-2,7.0000000000000007E-2,100,"MichiganDelaware",227,6.0337126758181099E-3,2.6000000000000009E-2,18]
[null,"Michigan",2.3537558077457752E-2,4.3999999999999997E-2,82,"District of Columbia ",6.3540306680691577E-2,8.5000000000000006E-2,148,"MichiganDistrict of Columbia ",944,4.0002748603233829E-2,4.1000000000000009E-2,66]
[null,"Michigan",2.3537558077457752E-2,4.3999999999999997E-2,82,"Florida",2.7237600892238891E-2,0,89,"MichiganFlorida",23400,3.700042814781139E-3,-4.3999999999999997E-2,7]
[null,"Michigan",2.3537558077457752E-2,4.3999999999999997E-2,82,"Georgia",1.9726513978233176E-2,0.06,95,"MichiganGeorgia",9949,-3.811044099224576E-3,1.6E-2,13]
[null,"Michigan",2.3537558077457752E-2,4.3999999999999997E-2,82,"Hawaii",1.5418606986737988E-2,8.3000000000000004E-2,149,"MichiganHawaii",321,-8.1189510907197643E-3,3.9000000000000007E-2,67]
[null,"Michigan",2.3537558077457752E-2,4.3999999999999997E-2,82,"Idaho",1.0619122878421879E-2,7.8E-2,98,"MichiganIdaho",683,-1.2918435199035874E-2,3.4000000000000002E-2,16]
[null,"Michigan",2.3537558077457752E-2,4.3999999999999997E-2,82,"Illinois",2.2681262454608404E-2,0.03,91,"MichiganIllinois",12583,-8.5629562284934846E-4,-1.3999999999999999E-2,9]
[null,"Michigan",2.3537558077457752E-2,4.3999999999999997E-2,82,"Indiana",1.754084582978746E-2,3.4000000000000002E-2,88,"MichiganIndiana",11017,-5.9967122476702918E-3,-9.999999999999995E-3,6]
[null,"Michigan",2.3537558077457752E-2,4.3999999999999997E-2,82,"Iowa",1.3507799161676014E-2,0.09,90,"MichiganIowa",946,-1.0029758915781738E-2,4.5999999999999999E-2,8]
[null,"Michigan",2.3537558077457752E-2,4.3999999999999997E-2,82,"Kansas",1.8706359316443516E-2,6.5000000000000002E-2,84,"MichiganKansas",1125,-4.8311987610142361E-3,2.1000000000000005E-2,2]
[null,"Michigan",2.3537558077457752E-2,4.3999999999999997E-2,82,"Kentucky",1.6652835554239985E-2,5.8000000000000003E-2,92,"MichiganKentucky",7302,-6.8847225232177671E-3,1.4000000000000005E-2,10]
[null,"Michigan",2.3537558077457752E-2,4.3999999999999997E-2,82,"Louisiana",2.935191107211383E-2,0.06,88,"MichiganLouisiana",1080,5.814352994656078E-3,1.6E-2,6]
[null,"Michigan",2.3537558077457752E-2,4.3999999999999997E-2,82,"Maine",6.5120753540148114E-3,6.9000000000000006E-2,104,"MichiganMaine",116,-1.7025482723442939E-2,2.5000000000000008E-2,22]
[null,"Michigan",2.3537558077457752E-2,4.3999999999999997E-2,82,"Maryland",2.611701649690518E-2,0.05,103,"MichiganMaryland",2167,2.5794584194474279E-3,6.0000000000000053E-3,21]
[null,"Michigan",2.3537558077457752E-2,4.3999999999999997E-2,82,"Massachusetts",2.2641619138735747E-2,5.2999999999999999E-2,126,"MichiganMassachusetts",1337,-8.9593893872200528E-4,9.0000000000000011E-3,44]
[null,"Michigan",2.3537558077457752E-2,4.3999999999999997E-2,82,"Minnesota",1.1694778182433254E-2,7.9000000000000001E-2,121,"MichiganMinnesota",2212,-1.1842779895024498E-2,3.5000000000000003E-2,39]
[null,"Michigan",2.3537558077457752E-2,4.3999999999999997E-2,82,"Mississippi",1.426102216325646E-2,0.05,76,"MichiganMississippi",1768,-9.2765359142012917E-3,6.0000000000000053E-3,-6]
[null,"Michigan",2.3537558077457752E-2,4.3999999999999997E-2,82,"Missouri",2.3569272730155875E-2,0.06,81,"MichiganMissouri",2964,3.1714652698123375E-5,1.6E-2,-1]
[null,"Michigan",2.3537558077457752E-2,4.3999999999999997E-2,82,"Montana",1.4139449327913651E-2,6.9000000000000006E-2,93,"MichiganMontana",822,-9.3981087495441009E-3,2.5000000000000008E-2,11]
[null,"Michigan",2.3537558077457752E-2,4.3999999999999997E-2,82,"Nebraska",1.3380940550883517E-2,6.8000000000000005E-2,77,"MichiganNebraska",258,-1.0156617526574235E-2,2.4000000000000007E-2,-5]
[null,"Michigan",2.3537558077457752E-2,4.3999999999999997E-2,82,"Nevada",2.9713986690417422E-2,0,99,"MichiganNevada",1235,6.1764286129596703E-3,-4.3999999999999997E-2,17]
[null,"Michigan",2.3537558077457752E-2,4.3999999999999997E-2,82,"New Hampshire",9.9372578454122104E-3,0,120,"MichiganNew Hampshire",426,-1.3600300232045542E-2,-4.3999999999999997E-2,38]
[null,"Michigan",2.3537558077457752E-2,4.3999999999999997E-2,82,"New Jersey",1.6301331486835775E-2,6.4000000000000001E-2,103,"MichiganNew Jersey",324,-7.2362265906219768E-3,2.0000000000000004E-2,21]
[null,"Michigan",2.3537558077457752E-2,4.3999999999999997E-2,82,"New Mexico",2.9999418564700536E-2,4.9000000000000002E-2,105,"MichiganNew Mexico",602,6.4618604872427841E-3,5.0000000000000044E-3,23]
[null,"Michigan",2.3537558077457752E-2,4.3999999999999997E-2,82,"New York",2.1042672065205326E-2,7.9000000000000001E-2,114,"MichiganNew York",5191,{"$f":"G1215-C1215","v":-2.4948860122524265E-3},{"$f":"H1215-D1215","v":3.5000000000000003E-2},{"$f":"I1215-E1215","v":32}]
[null,"Michigan",2.3537558077457752E-2,4.3999999999999997E-2,82,"North Carolina",1.8489642523006337E-2,7.0000000000000007E-2,81,"MichiganNorth Carolina",6161,-5.0479155544514154E-3,2.6000000000000009E-2,-1]
[null,"Michigan",2.3537558077457752E-2,4.3999999999999997E-2,82,"North Dakota",1.3055865360727744E-2,3.7999999999999999E-2,89,"MichiganNorth Dakota",757,-1.0481692716730008E-2,-5.9999999999999984E-3,7]
[null,"Michigan",2.3537558077457752E-2,4.3999999999999997E-2,82,"Ohio",1.6248473732338901E-2,4.7E-2,106,"MichiganOhio",16336,-7.2890843451188514E-3,3.0000000000000027E-3,24]
[null,"Michigan",2.3537558077457752E-2,4.3999999999999997E-2,82,"Oklahoma",2.4039706745178049E-2,5.5E-2,84,"MichiganOklahoma",1347,5.0214866772029659E-4,1.1000000000000003E-2,2]
[null,"Michigan",2.3537558077457752E-2,4.3999999999999997E-2,82,"Oregon",1.3084937125701024E-2,0.108,107,"MichiganOregon",570,-1.0452620951756728E-2,6.4000000000000001E-2,25]
[null,"Michigan",2.3537558077457752E-2,4.3999999999999997E-2,82,"Pennsylvania",1.8764502846390078E-2,0.03,96,"MichiganPennsylvania",2642,-4.7730552310676737E-3,-1.3999999999999999E-2,14]
[null,"Michigan",2.3537558077457752E-2,4.3999999999999997E-2,82,"Rhode Island",1.3082294237976182E-2,7.8E-2,118,"MichiganRhode Island",230,-1.045526383948157E-2,3.4000000000000002E-2,36]
[null,"Michigan",2.3537558077457752E-2,4.3999999999999997E-2,82,"South Carolina",3.0229349796761933E-2,7.0000000000000007E-2,88,"MichiganSouth Carolina",2966,6.6917917193041812E-3,2.6000000000000009E-2,6]
[null,"Michigan",2.3537558077457752E-2,4.3999999999999997E-2,82,"South Dakota",1.3431155417655547E-2,0,79,"MichiganSouth Dakota",892,-1.0106402659802205E-2,-4.3999999999999997E-2,-3]
[null,"Michigan",2.3537558077457752E-2,4.3999999999999997E-2,82,"Tennessee",3.2145443397273599E-2,0,82,"MichiganTennessee",4507,8.6078853198158466E-3,-4.3999999999999997E-2,0]
[null,"Michigan",2.3537558077457752E-2,4.3999999999999997E-2,82,"Texas",2.1592392711972809E-2,0,83,"MichiganTexas",9501,-1.9451653654849431E-3,-4.3999999999999997E-2,1]
[null,"Michigan",2.3537558077457752E-2,4.3999999999999997E-2,82,"Utah",1.0307262126890326E-2,0.05,84,"MichiganUtah",1670,-1.3230295950567426E-2,6.0000000000000053E-3,2]
[null,"Michigan",2.3537558077457752E-2,4.3999999999999997E-2,82,"Vermont",7.1490112957021358E-3,8.3000000000000004E-2,110,"MichiganVermont",284,-1.6388546781755615E-2,3.9000000000000007E-2,28]
[null,"Michigan",2.3537558077457752E-2,4.3999999999999997E-2,82,"Virginia",1.039712030953501E-2,5.8000000000000003E-2,87,"MichiganVirginia",2982,-1.3140437767922742E-2,1.4000000000000005E-2,5]
[null,"Michigan",2.3537558077457752E-2,4.3999999999999997E-2,82,"Washington",1.5569251587054078E-2,0,102,"MichiganWashington",3470,-7.9683064904036739E-3,-4.3999999999999997E-2,20]
[null,"Michigan",2.3537558077457752E-2,4.3999999999999997E-2,82,"West Virginia",1.6695121757837481E-2,6.5000000000000002E-2,91,"MichiganWest Virginia",778,-6.8424363196202716E-3,2.1000000000000005E-2,9]
[null,"Michigan",2.3537558077457752E-2,4.3999999999999997E-2,82,"Wisconsin",1.2522002040309323E-2,6.8000000000000005E-2,105,"MichiganWisconsin",3917,-1.1015556037148429E-2,2.4000000000000007E-2,23]
[null,"Michigan",2.3537558077457752E-2,4.3999999999999997E-2,82,"Wyoming",1.159170556116435E-2,0,76,"MichiganWyoming",965,-1.1945852516293402E-2,-4.3999999999999997E-2,-6]
[null,"Michigan",2.3537558077457752E-2,4.3999999999999997E-2,82,"Puerto Rico",0,0,0,"MichiganPuerto Rico",435,-2.3537558077457752E-2,-4.3999999999999997E-2,-82]
[null,"Minnesota",1.1694778182433254E-2,7.9000000000000001E-2,121,"Alabama",2.2202899776411697E-2,0.05,83,"MinnesotaAlabama",752,1.0508121593978443E-2,-2.8999999999999998E-2,-38]
[null,"Minnesota",1.1694778182433254E-2,7.9000000000000001E-2,121,"Alaska",3.2055585214628916E-2,0,117,"MinnesotaAlaska",192,2.0360807032195664E-2,-7.9000000000000001E-2,-4]
[null,"Minnesota",1.1694778182433254E-2,7.9000000000000001E-2,121,"Arizona",2.1452319662556094E-2,4.4999999999999998E-2,87,"MinnesotaArizona",8570,9.7575414801228406E-3,-3.4000000000000002E-2,-34]
[null,"Minnesota",1.1694778182433254E-2,7.9000000000000001E-2,121,"Arkansas",2.5419294137546445E-2,7.0000000000000007E-2,79,"MinnesotaArkansas",295,1.3724515955113191E-2,-8.9999999999999941E-3,-42]
[null,"Minnesota",1.1694778182433254E-2,7.9000000000000001E-2,121,"California",2.1729822873664682E-2,9.6000000000000002E-2,92,"MinnesotaCalifornia",8539,1.0035044691231428E-2,1.7000000000000001E-2,-29]
[null,"Minnesota",1.1694778182433254E-2,7.9000000000000001E-2,121,"Colorado",1.6922410102174039E-2,4.5999999999999999E-2,106,"MinnesotaColorado",2992,5.2276319197407852E-3,-3.3000000000000002E-2,-15]
[null,"Minnesota",1.1694778182433254E-2,7.9000000000000001E-2,121,"Connecticut",1.4419595426747081E-2,0.05,105,"MinnesotaConnecticut",605,2.724817244313827E-3,-2.8999999999999998E-2,-16]
[null,"Minnesota",1.1694778182433254E-2,7.9000000000000001E-2,121,"Delaware",2.9571270753275862E-2,7.0000000000000007E-2,100,"MinnesotaDelaware",351,1.787649257084261E-2,-8.9999999999999941E-3,-21]
[null,"Minnesota",1.1694778182433254E-2,7.9000000000000001E-2,121,"District of Columbia ",6.3540306680691577E-2,8.5000000000000006E-2,148,"MinnesotaDistrict of Columbia ",393,5.1845528498258325E-2,6.0000000000000053E-3,27]
[null,"Minnesota",1.1694778182433254E-2,7.9000000000000001E-2,121,"Florida",2.7237600892238891E-2,0,89,"MinnesotaFlorida",5460,1.5542822709805637E-2,-7.9000000000000001E-2,-32]
[null,"Minnesota",1.1694778182433254E-2,7.9000000000000001E-2,121,"Georgia",1.9726513978233176E-2,0.06,95,"MinnesotaGeorgia",2237,8.0317357957999224E-3,-1.9000000000000003E-2,-26]
[null,"Minnesota",1.1694778182433254E-2,7.9000000000000001E-2,121,"Hawaii",1.5418606986737988E-2,8.3000000000000004E-2,149,"MinnesotaHawaii",192,3.7238288043047341E-3,4.0000000000000036E-3,28]
[null,"Minnesota",1.1694778182433254E-2,7.9000000000000001E-2,121,"Idaho",1.0619122878421879E-2,7.8E-2,98,"MinnesotaIdaho",637,-1.0756553040113751E-3,-1.0000000000000009E-3,-23]
[null,"Minnesota",1.1694778182433254E-2,7.9000000000000001E-2,121,"Illinois",2.2681262454608404E-2,0.03,91,"MinnesotaIllinois",6537,1.098648427217515E-2,-4.9000000000000002E-2,-30]
[null,"Minnesota",1.1694778182433254E-2,7.9000000000000001E-2,121,"Indiana",1.754084582978746E-2,3.4000000000000002E-2,88,"MinnesotaIndiana",1543,5.8460676473542066E-3,-4.4999999999999998E-2,-33]
[null,"Minnesota",1.1694778182433254E-2,7.9000000000000001E-2,121,"Iowa",1.3507799161676014E-2,0.09,90,"MinnesotaIowa",7505,1.8130209792427601E-3,1.0999999999999996E-2,-31]
[null,"Minnesota",1.1694778182433254E-2,7.9000000000000001E-2,121,"Kansas",1.8706359316443516E-2,6.5000000000000002E-2,84,"MinnesotaKansas",682,7.0115811340102623E-3,-1.3999999999999999E-2,-37]
[null,"Minnesota",1.1694778182433254E-2,7.9000000000000001E-2,121,"Kentucky",1.6652835554239985E-2,5.8000000000000003E-2,92,"MinnesotaKentucky",605,4.9580573718067313E-3,-2.0999999999999998E-2,-29]
[null,"Minnesota",1.1694778182433254E-2,7.9000000000000001E-2,121,"Louisiana",2.935191107211383E-2,0.06,88,"MinnesotaLouisiana",330,1.7657132889680578E-2,-1.9000000000000003E-2,-33]
[null,"Minnesota",1.1694778182433254E-2,7.9000000000000001E-2,121,"Maine",6.5120753540148114E-3,6.9000000000000006E-2,104,"MinnesotaMaine",430,-5.1827028284184423E-3,-9.999999999999995E-3,-17]
[null,"Minnesota",1.1694778182433254E-2,7.9000000000000001E-2,121,"Maryland",2.611701649690518E-2,0.05,103,"MinnesotaMaryland",1422,1.4422238314471926E-2,-2.8999999999999998E-2,-18]
[null,"Minnesota",1.1694778182433254E-2,7.9000000000000001E-2,121,"Massachusetts",2.2641619138735747E-2,5.2999999999999999E-2,126,"MinnesotaMassachusetts",966,1.0946840956302493E-2,-2.6000000000000002E-2,5]
[null,"Minnesota",1.1694778182433254E-2,7.9000000000000001E-2,121,"Michigan",2.3537558077457752E-2,4.3999999999999997E-2,82,"MinnesotaMichigan",1127,1.1842779895024498E-2,-3.5000000000000003E-2,-39]
[null,"Minnesota",1.1694778182433254E-2,7.9000000000000001E-2,121,"Mississippi",1.426102216325646E-2,0.05,76,"MinnesotaMississippi",568,2.5662439808232067E-3,-2.8999999999999998E-2,-45]
[null,"Minnesota",1.1694778182433254E-2,7.9000000000000001E-2,121,"Missouri",2.3569272730155875E-2,0.06,81,"MinnesotaMissouri",2798,1.1874494547722622E-2,-1.9000000000000003E-2,-40]
[null,"Minnesota",1.1694778182433254E-2,7.9000000000000001E-2,121,"Montana",1.4139449327913651E-2,6.9000000000000006E-2,93,"MinnesotaMontana",481,2.4446711454803975E-3,-9.999999999999995E-3,-28]
[null,"Minnesota",1.1694778182433254E-2,7.9000000000000001E-2,121,"Nebraska",1.3380940550883517E-2,6.8000000000000005E-2,77,"MinnesotaNebraska",1489,1.6861623684502631E-3,-1.0999999999999996E-2,-44]
[null,"Minnesota",1.1694778182433254E-2,7.9000000000000001E-2,121,"Nevada",2.9713986690417422E-2,0,99,"MinnesotaNevada",1157,1.801920850798417E-2,-7.9000000000000001E-2,-22]
[null,"Minnesota",1.1694778182433254E-2,7.9000000000000001E-2,121,"New Hampshire",9.9372578454122104E-3,0,120,"MinnesotaNew Hampshire",0,-1.7575203370210433E-3,-7.9000000000000001E-2,-1]
[null,"Minnesota",1.1694778182433254E-2,7.9000000000000001E-2,121,"New Jersey",1.6301331486835775E-2,6.4000000000000001E-2,103,"MinnesotaNew Jersey",570,4.6065533044025216E-3,-1.4999999999999999E-2,-18]
[null,"Minnesota",1.1694778182433254E-2,7.9000000000000001E-2,121,"New Mexico",2.9999418564700536E-2,4.9000000000000002E-2,105,"MinnesotaNew Mexico",284,1.8304640382267284E-2,-0.03,-16]
[null,"Minnesota",1.1694778182433254E-2,7.9000000000000001E-2,121,"New York",2.1042672065205326E-2,7.9000000000000001E-2,114,"MinnesotaNew York",1059,9.3478938827720719E-3,0,-7]
[null,"Minnesota",1.1694778182433254E-2,7.9000000000000001E-2,121,"North Carolina",1.8489642523006337E-2,7.0000000000000007E-2,81,"MinnesotaNorth Carolina",1523,6.794864340573083E-3,-8.9999999999999941E-3,-40]
[null,"Minnesota",1.1694778182433254E-2,7.9000000000000001E-2,121,"North Dakota",1.3055865360727744E-2,3.7999999999999999E-2,89,"MinnesotaNorth Dakota",15257,1.3610871782944907E-3,-4.1000000000000002E-2,-32]
[null,"Minnesota",1.1694778182433254E-2,7.9000000000000001E-2,121,"Ohio",1.6248473732338901E-2,4.7E-2,106,"MinnesotaOhio",1122,4.553695549905647E-3,-3.2000000000000001E-2,-15]
[null,"Minnesota",1.1694778182433254E-2,7.9000000000000001E-2,121,"Oklahoma",2.4039706745178049E-2,5.5E-2,84,"MinnesotaOklahoma",906,1.2344928562744795E-2,-2.4E-2,-37]
[null,"Minnesota",1.1694778182433254E-2,7.9000000000000001E-2,121,"Oregon",1.3084937125701024E-2,0.108,107,"MinnesotaOregon",1792,1.3901589432677702E-3,2.8999999999999998E-2,-14]
[null,"Minnesota",1.1694778182433254E-2,7.9000000000000001E-2,121,"Pennsylvania",1.8764502846390078E-2,0.03,96,"MinnesotaPennsylvania",1169,7.0697246639568247E-3,-4.9000000000000002E-2,-25]
[null,"Minnesota",1.1694778182433254E-2,7.9000000000000001E-2,121,"Rhode Island",1.3082294237976182E-2,7.8E-2,118,"MinnesotaRhode Island",131,1.387516055542928E-3,-1.0000000000000009E-3,-3]
[null,"Minnesota",1.1694778182433254E-2,7.9000000000000001E-2,121,"South Carolina",3.0229349796761933E-2,7.0000000000000007E-2,88,"MinnesotaSouth Carolina",757,1.8534571614328678E-2,-8.9999999999999941E-3,-33]
[null,"Minnesota",1.1694778182433254E-2,7.9000000000000001E-2,121,"South Dakota",1.3431155417655547E-2,0,79,"MinnesotaSouth Dakota",3568,1.7363772352222938E-3,-7.9000000000000001E-2,-42]
[null,"Minnesota",1.1694778182433254E-2,7.9000000000000001E-2,121,"Tennessee",3.2145443397273599E-2,0,82,"MinnesotaTennessee",1178,2.0450665214840347E-2,-7.9000000000000001E-2,-39]
[null,"Minnesota",1.1694778182433254E-2,7.9000000000000001E-2,121,"Texas",2.1592392711972809E-2,0,83,"MinnesotaTexas",2803,9.8976145295395553E-3,-7.9000000000000001E-2,-38]
[null,"Minnesota",1.1694778182433254E-2,7.9000000000000001E-2,121,"Utah",1.0307262126890326E-2,0.05,84,"MinnesotaUtah",385,-1.387516055542928E-3,-2.8999999999999998E-2,-37]
[null,"Minnesota",1.1694778182433254E-2,7.9000000000000001E-2,121,"Vermont",7.1490112957021358E-3,8.3000000000000004E-2,110,"MinnesotaVermont",315,{"$f":"G1279-C1279","v":-4.5457668867311179E-3},{"$f":"H1279-D1279","v":4.0000000000000036E-3},{"$f":"I1279-E1279","v":-11}]
[null,"Minnesota",1.1694778182433254E-2,7.9000000000000001E-2,121,"Virginia",1.039712030953501E-2,5.8000000000000003E-2,87,"MinnesotaVirginia",2294,-1.2976578728982439E-3,-2.0999999999999998E-2,-34]
[null,"Minnesota",1.1694778182433254E-2,7.9000000000000001E-2,121,"Washington",1.5569251587054078E-2,0,102,"MinnesotaWashington",2703,3.8744734046208245E-3,-7.9000000000000001E-2,-19]
[null,"Minnesota",1.1694778182433254E-2,7.9000000000000001E-2,121,"West Virginia",1.6695121757837481E-2,6.5000000000000002E-2,91,"MinnesotaWest Virginia",20,5.0003435754042268E-3,-1.3999999999999999E-2,-30]
[null,"Minnesota",1.1694778182433254E-2,7.9000000000000001E-2,121,"Wisconsin",1.2522002040309323E-2,6.8000000000000005E-2,105,"MinnesotaWisconsin",18965,8.2722385787606899E-4,-1.0999999999999996E-2,-16]
[null,"Minnesota",1.1694778182433254E-2,7.9000000000000001E-2,121,"Wyoming",1.159170556116435E-2,0,76,"MinnesotaWyoming",290,-1.0307262126890357E-4,-7.9000000000000001E-2,-45]
[null,"Minnesota",1.1694778182433254E-2,7.9000000000000001E-2,121,"Puerto Rico",0,0,0,"MinnesotaPuerto Rico",0,-1.1694778182433254E-2,-7.9000000000000001E-2,-121]
[null,"Mississippi",1.426102216325646E-2,0.05,76,"Alabama",2.2202899776411697E-2,0.05,83,"MississippiAlabama",4952,7.9418776131552366E-3,0,7]
[null,"Mississippi",1.426102216325646E-2,0.05,76,"Alaska",3.2055585214628916E-2,0,117,"MississippiAlaska",56,1.7794563051372454E-2,-0.05,41]
[null,"Mississippi",1.426102216325646E-2,0.05,76,"Arizona",2.1452319662556094E-2,4.4999999999999998E-2,87,"MississippiArizona",293,7.1912974992996339E-3,-5.0000000000000044E-3,11]
[null,"Mississippi",1.426102216325646E-2,0.05,76,"Arkansas",2.5419294137546445E-2,7.0000000000000007E-2,79,"MississippiArkansas",3689,1.1158271974289985E-2,2.0000000000000004E-2,3]
[null,"Mississippi",1.426102216325646E-2,0.05,76,"California",2.1729822873664682E-2,9.6000000000000002E-2,92,"MississippiCalifornia",2556,7.4688007104082212E-3,4.5999999999999999E-2,16]
[null,"Mississippi",1.426102216325646E-2,0.05,76,"Colorado",1.6922410102174039E-2,4.5999999999999999E-2,106,"MississippiColorado",835,2.6613879389175785E-3,-4.0000000000000036E-3,30]
[null,"Mississippi",1.426102216325646E-2,0.05,76,"Connecticut",1.4419595426747081E-2,0.05,105,"MississippiConnecticut",276,1.5857326349062034E-4,0,29]
[null,"Mississippi",1.426102216325646E-2,0.05,76,"Delaware",2.9571270753275862E-2,7.0000000000000007E-2,100,"MississippiDelaware",58,1.5310248590019402E-2,2.0000000000000004E-2,24]
[null,"Mississippi",1.426102216325646E-2,0.05,76,"District of Columbia ",6.3540306680691577E-2,8.5000000000000006E-2,148,"MississippiDistrict of Columbia ",44,4.9279284517435115E-2,3.5000000000000003E-2,72]
[null,"Mississippi",1.426102216325646E-2,0.05,76,"Florida",2.7237600892238891E-2,0,89,"MississippiFlorida",5490,1.2976578728982431E-2,-0.05,13]
[null,"Mississippi",1.426102216325646E-2,0.05,76,"Georgia",1.9726513978233176E-2,0.06,95,"MississippiGeorgia",3280,5.4654918149767157E-3,9.999999999999995E-3,19]
[null,"Mississippi",1.426102216325646E-2,0.05,76,"Hawaii",1.5418606986737988E-2,8.3000000000000004E-2,149,"MississippiHawaii",44,1.1575848234815275E-3,3.3000000000000002E-2,73]
[null,"Mississippi",1.426102216325646E-2,0.05,76,"Idaho",1.0619122878421879E-2,7.8E-2,98,"MississippiIdaho",87,-3.6418992848345818E-3,2.7999999999999997E-2,22]
[null,"Mississippi",1.426102216325646E-2,0.05,76,"Illinois",2.2681262454608404E-2,0.03,91,"MississippiIllinois",2744,8.4202402913519433E-3,-2.0000000000000004E-2,15]
[null,"Mississippi",1.426102216325646E-2,0.05,76,"Indiana",1.754084582978746E-2,3.4000000000000002E-2,88,"MississippiIndiana",1948,3.279823666531E-3,-1.6E-2,12]
[null,"Mississippi",1.426102216325646E-2,0.05,76,"Iowa",1.3507799161676014E-2,0.09,90,"MississippiIowa",751,-7.5322300158044662E-4,3.9999999999999994E-2,14]
[null,"Mississippi",1.426102216325646E-2,0.05,76,"Kansas",1.8706359316443516E-2,6.5000000000000002E-2,84,"MississippiKansas",452,4.4453371531870556E-3,1.4999999999999999E-2,8]
[null,"Mississippi",1.426102216325646E-2,0.05,76,"Kentucky",1.6652835554239985E-2,5.8000000000000003E-2,92,"MississippiKentucky",646,2.3918133909835246E-3,8.0000000000000002E-3,16]
[null,"Mississippi",1.426102216325646E-2,0.05,76,"Louisiana",2.935191107211383E-2,0.06,88,"MississippiLouisiana",6791,1.509088890885737E-2,9.999999999999995E-3,12]
[null,"Mississippi",1.426102216325646E-2,0.05,76,"Maine",6.5120753540148114E-3,6.9000000000000006E-2,104,"MississippiMaine",79,-7.748946809241649E-3,1.9000000000000003E-2,28]
[null,"Mississippi",1.426102216325646E-2,0.05,76,"Maryland",2.611701649690518E-2,0.05,103,"MississippiMaryland",581,1.185599433364872E-2,0,27]
[null,"Mississippi",1.426102216325646E-2,0.05,76,"Massachusetts",2.2641619138735747E-2,5.2999999999999999E-2,126,"MississippiMassachusetts",155,8.3805969754792865E-3,2.9999999999999957E-3,50]
[null,"Mississippi",1.426102216325646E-2,0.05,76,"Michigan",2.3537558077457752E-2,4.3999999999999997E-2,82,"MississippiMichigan",922,9.2765359142012917E-3,-6.0000000000000053E-3,6]
[null,"Mississippi",1.426102216325646E-2,0.05,76,"Minnesota",1.1694778182433254E-2,7.9000000000000001E-2,121,"MississippiMinnesota",202,-2.5662439808232067E-3,2.8999999999999998E-2,45]
[null,"Mississippi",1.426102216325646E-2,0.05,76,"Missouri",2.3569272730155875E-2,0.06,81,"MississippiMissouri",1110,9.3082505668994151E-3,9.999999999999995E-3,5]
[null,"Mississippi",1.426102216325646E-2,0.05,76,"Montana",1.4139449327913651E-2,6.9000000000000006E-2,93,"MississippiMontana",32,-1.2157283534280916E-4,1.9000000000000003E-2,17]
[null,"Mississippi",1.426102216325646E-2,0.05,76,"Nebraska",1.3380940550883517E-2,6.8000000000000005E-2,77,"MississippiNebraska",176,-8.8008161237294359E-4,1.8000000000000002E-2,1]
[null,"Mississippi",1.426102216325646E-2,0.05,76,"Nevada",2.9713986690417422E-2,0,99,"MississippiNevada",783,1.5452964527160962E-2,-0.05,23]
[null,"Mississippi",1.426102216325646E-2,0.05,76,"New Hampshire",9.9372578454122104E-3,0,120,"MississippiNew Hampshire",0,-4.32376431784425E-3,-0.05,44]
[null,"Mississippi",1.426102216325646E-2,0.05,76,"New Jersey",1.6301331486835775E-2,6.4000000000000001E-2,103,"MississippiNew Jersey",106,2.040309323579315E-3,1.3999999999999999E-2,27]
[null,"Mississippi",1.426102216325646E-2,0.05,76,"New Mexico",2.9999418564700536E-2,4.9000000000000002E-2,105,"MississippiNew Mexico",451,1.5738396401444074E-2,-1.0000000000000009E-3,29]
[null,"Mississippi",1.426102216325646E-2,0.05,76,"New York",2.1042672065205326E-2,7.9000000000000001E-2,114,"MississippiNew York",773,6.7816499019488653E-3,2.8999999999999998E-2,38]
[null,"Mississippi",1.426102216325646E-2,0.05,76,"North Carolina",1.8489642523006337E-2,7.0000000000000007E-2,81,"MississippiNorth Carolina",2377,4.2286203597498764E-3,2.0000000000000004E-2,5]
[null,"Mississippi",1.426102216325646E-2,0.05,76,"North Dakota",1.3055865360727744E-2,3.7999999999999999E-2,89,"MississippiNorth Dakota",72,-1.205156802528716E-3,-1.2000000000000004E-2,13]
[null,"Mississippi",1.426102216325646E-2,0.05,76,"Ohio",1.6248473732338901E-2,4.7E-2,106,"MississippiOhio",1017,1.9874515690824403E-3,-3.0000000000000027E-3,30]
[null,"Mississippi",1.426102216325646E-2,0.05,76,"Oklahoma",2.4039706745178049E-2,5.5E-2,84,"MississippiOklahoma",1850,9.7786845819215883E-3,4.9999999999999975E-3,8]
[null,"Mississippi",1.426102216325646E-2,0.05,76,"Oregon",1.3084937125701024E-2,0.108,107,"MississippiOregon",186,-1.1760850375554365E-3,5.7999999999999996E-2,31]
[null,"Mississippi",1.426102216325646E-2,0.05,76,"Pennsylvania",1.8764502846390078E-2,0.03,96,"MississippiPennsylvania",55,4.5034806831336181E-3,-2.0000000000000004E-2,20]
[null,"Mississippi",1.426102216325646E-2,0.05,76,"Rhode Island",1.3082294237976182E-2,7.8E-2,118,"MississippiRhode Island",0,-1.1787279252802787E-3,2.7999999999999997E-2,42]
[null,"Mississippi",1.426102216325646E-2,0.05,76,"South Carolina",3.0229349796761933E-2,7.0000000000000007E-2,88,"MississippiSouth Carolina",1407,1.5968327633505475E-2,2.0000000000000004E-2,12]
[null,"Mississippi",1.426102216325646E-2,0.05,76,"South Dakota",1.3431155417655547E-2,0,79,"MississippiSouth Dakota",34,-8.2986674560091289E-4,-0.05,3]
[null,"Mississippi",1.426102216325646E-2,0.05,76,"Tennessee",3.2145443397273599E-2,0,82,"MississippiTennessee",10568,1.7884421234017137E-2,-0.05,6]
[null,"Mississippi",1.426102216325646E-2,0.05,76,"Texas",2.1592392711972809E-2,0,83,"MississippiTexas",6402,7.3313705487163486E-3,-0.05,7]
[null,"Mississippi",1.426102216325646E-2,0.05,76,"Utah",1.0307262126890326E-2,0.05,84,"MississippiUtah",284,-3.9537600363661347E-3,0,8]
[null,"Mississippi",1.426102216325646E-2,0.05,76,"Vermont",7.1490112957021358E-3,8.3000000000000004E-2,110,"MississippiVermont",0,-7.1120108675543246E-3,3.3000000000000002E-2,34]
[null,"Mississippi",1.426102216325646E-2,0.05,76,"Virginia",1.039712030953501E-2,5.8000000000000003E-2,87,"MississippiVirginia",1344,-3.8639018537214506E-3,8.0000000000000002E-3,11]
[null,"Mississippi",1.426102216325646E-2,0.05,76,"Washington",1.5569251587054078E-2,0,102,"MississippiWashington",615,1.3082294237976178E-3,-0.05,26]
[null,"Mississippi",1.426102216325646E-2,0.05,76,"West Virginia",1.6695121757837481E-2,6.5000000000000002E-2,91,"MississippiWest Virginia",0,2.4340995945810202E-3,1.4999999999999999E-2,15]
[null,"Mississippi",1.426102216325646E-2,0.05,76,"Wisconsin",1.2522002040309323E-2,6.8000000000000005E-2,105,"MississippiWisconsin",238,-1.7390201229471377E-3,1.8000000000000002E-2,29]
[null,"Mississippi",1.426102216325646E-2,0.05,76,"Wyoming",1.159170556116435E-2,0,76,"MississippiWyoming",136,-2.6693166020921102E-3,-0.05,0]
[null,"Mississippi",1.426102216325646E-2,0.05,76,"Puerto Rico",0,0,0,"MississippiPuerto Rico",0,-1.426102216325646E-2,-0.05,-76]
[null,"Missouri",2.3569272730155875E-2,0.06,81,"Alabama",2.2202899776411697E-2,0.05,83,"MissouriAlabama",1555,-1.3663729537441785E-3,-9.999999999999995E-3,2]
[null,"Missouri",2.3569272730155875E-2,0.06,81,"Alaska",3.2055585214628916E-2,0,117,"MissouriAlaska",819,8.4863124844730409E-3,-0.06,36]
[null,"Missouri",2.3569272730155875E-2,0.06,81,"Arizona",2.1452319662556094E-2,4.4999999999999998E-2,87,"MissouriArizona",2595,-2.1169530675997812E-3,-1.4999999999999999E-2,6]
[null,"Missouri",2.3569272730155875E-2,0.06,81,"Arkansas",2.5419294137546445E-2,7.0000000000000007E-2,79,"MissouriArkansas",9105,1.8500214073905695E-3,1.0000000000000009E-2,-2]
[null,"Missouri",2.3569272730155875E-2,0.06,81,"California",2.1729822873664682E-2,9.6000000000000002E-2,92,"MissouriCalifornia",6729,-1.8394498564911939E-3,3.6000000000000004E-2,11]
[null,"Missouri",2.3569272730155875E-2,0.06,81,"Colorado",1.6922410102174039E-2,4.5999999999999999E-2,106,"MissouriColorado",3771,-6.6468626279818366E-3,-1.3999999999999999E-2,25]
[null,"Missouri",2.3569272730155875E-2,0.06,81,"Connecticut",1.4419595426747081E-2,0.05,105,"MissouriConnecticut",358,{"$f":"G1343-C1343","v":-9.1496773034087948E-3},{"$f":"H1343-D1343","v":-9.999999999999995E-3},{"$f":"I1343-E1343","v":24}]
[null,"Missouri",2.3569272730155875E-2,0.06,81,"Delaware",2.9571270753275862E-2,7.0000000000000007E-2,100,"MissouriDelaware",80,6.0019980231199865E-3,1.0000000000000009E-2,19]
[null,"Missouri",2.3569272730155875E-2,0.06,81,"District of Columbia ",6.3540306680691577E-2,8.5000000000000006E-2,148,"MissouriDistrict of Columbia ",337,3.9971033950535702E-2,2.5000000000000008E-2,67]
[null,"Missouri",2.3569272730155875E-2,0.06,81,"Florida",2.7237600892238891E-2,0,89,"MissouriFlorida",10666,3.6683281620830156E-3,-0.06,8]
[null,"Missouri",2.3569272730155875E-2,0.06,81,"Georgia",1.9726513978233176E-2,0.06,95,"MissouriGeorgia",3377,-3.8427587519226994E-3,0,14]
[null,"Missouri",2.3569272730155875E-2,0.06,81,"Hawaii",1.5418606986737988E-2,8.3000000000000004E-2,149,"MissouriHawaii",944,-8.1506657434178877E-3,2.3000000000000007E-2,68]
[null,"Missouri",2.3569272730155875E-2,0.06,81,"Idaho",1.0619122878421879E-2,7.8E-2,98,"MissouriIdaho",214,-1.2950149851733997E-2,1.8000000000000002E-2,17]
[null,"Missouri",2.3569272730155875E-2,0.06,81,"Illinois",2.2681262454608404E-2,0.03,91,"MissouriIllinois",13264,-8.8801027554747183E-4,-0.03,10]
[null,"Missouri",2.3569272730155875E-2,0.06,81,"Indiana",1.754084582978746E-2,3.4000000000000002E-2,88,"MissouriIndiana",4526,-6.0284269003684152E-3,-2.5999999999999995E-2,7]
[null,"Missouri",2.3569272730155875E-2,0.06,81,"Iowa",1.3507799161676014E-2,0.09,90,"MissouriIowa",4168,-1.0061473568479862E-2,0.03,9]
[null,"Missouri",2.3569272730155875E-2,0.06,81,"Kansas",1.8706359316443516E-2,6.5000000000000002E-2,84,"MissouriKansas",21022,-4.8629134137123595E-3,5.0000000000000044E-3,3]
[null,"Missouri",2.3569272730155875E-2,0.06,81,"Kentucky",1.6652835554239985E-2,5.8000000000000003E-2,92,"MissouriKentucky",2381,-6.9164371759158905E-3,-1.9999999999999948E-3,11]
[null,"Missouri",2.3569272730155875E-2,0.06,81,"Louisiana",2.935191107211383E-2,0.06,88,"MissouriLouisiana",1591,5.7826383419579547E-3,0,7]
[null,"Missouri",2.3569272730155875E-2,0.06,81,"Maine",6.5120753540148114E-3,6.9000000000000006E-2,104,"MissouriMaine",69,-1.7057197376141066E-2,9.000000000000008E-3,23]
[null,"Missouri",2.3569272730155875E-2,0.06,81,"Maryland",2.611701649690518E-2,0.05,103,"MissouriMaryland",256,2.5477437667493046E-3,-9.999999999999995E-3,22]
[null,"Missouri",2.3569272730155875E-2,0.06,81,"Massachusetts",2.2641619138735747E-2,5.2999999999999999E-2,126,"MissouriMassachusetts",453,-9.2765359142012865E-4,-6.9999999999999993E-3,45]
[null,"Missouri",2.3569272730155875E-2,0.06,81,"Michigan",2.3537558077457752E-2,4.3999999999999997E-2,82,"MissouriMichigan",2206,-3.1714652698123375E-5,-1.6E-2,1]
[null,"Missouri",2.3569272730155875E-2,0.06,81,"Minnesota",1.1694778182433254E-2,7.9000000000000001E-2,121,"MissouriMinnesota",1709,-1.1874494547722622E-2,1.9000000000000003E-2,40]
[null,"Missouri",2.3569272730155875E-2,0.06,81,"Mississippi",1.426102216325646E-2,0.05,76,"MissouriMississippi",2634,-9.3082505668994151E-3,-9.999999999999995E-3,-5]
[null,"Missouri",2.3569272730155875E-2,0.06,81,"Montana",1.4139449327913651E-2,6.9000000000000006E-2,93,"MissouriMontana",447,-9.4298234022422243E-3,9.000000000000008E-3,12]
[null,"Missouri",2.3569272730155875E-2,0.06,81,"Nebraska",1.3380940550883517E-2,6.8000000000000005E-2,77,"MissouriNebraska",2223,-1.0188332179272359E-2,8.0000000000000071E-3,-4]
[null,"Missouri",2.3569272730155875E-2,0.06,81,"Nevada",2.9713986690417422E-2,0,99,"MissouriNevada",694,6.1447139602615469E-3,-0.06,18]
[null,"Missouri",2.3569272730155875E-2,0.06,81,"New Hampshire",9.9372578454122104E-3,0,120,"MissouriNew Hampshire",289,-1.3632014884743665E-2,-0.06,39]
[null,"Missouri",2.3569272730155875E-2,0.06,81,"New Jersey",1.6301331486835775E-2,6.4000000000000001E-2,103,"MissouriNew Jersey",384,-7.2679412433201002E-3,4.0000000000000036E-3,22]
[null,"Missouri",2.3569272730155875E-2,0.06,81,"New Mexico",2.9999418564700536E-2,4.9000000000000002E-2,105,"MissouriNew Mexico",1216,6.4301458345446608E-3,-1.0999999999999996E-2,24]
[null,"Missouri",2.3569272730155875E-2,0.06,81,"New York",2.1042672065205326E-2,7.9000000000000001E-2,114,"MissouriNew York",3310,-2.5266006649505499E-3,1.9000000000000003E-2,33]
[null,"Missouri",2.3569272730155875E-2,0.06,81,"North Carolina",1.8489642523006337E-2,7.0000000000000007E-2,81,"MissouriNorth Carolina",2623,-5.0796302071495388E-3,1.0000000000000009E-2,0]
[null,"Missouri",2.3569272730155875E-2,0.06,81,"North Dakota",1.3055865360727744E-2,3.7999999999999999E-2,89,"MissouriNorth Dakota",1490,-1.0513407369428131E-2,-2.1999999999999999E-2,8]
[null,"Missouri",2.3569272730155875E-2,0.06,81,"Ohio",1.6248473732338901E-2,4.7E-2,106,"MissouriOhio",3026,-7.3207989978169748E-3,-1.2999999999999998E-2,25]
[null,"Missouri",2.3569272730155875E-2,0.06,81,"Oklahoma",2.4039706745178049E-2,5.5E-2,84,"MissouriOklahoma",5210,4.7043401502217322E-4,-4.9999999999999975E-3,3]
[null,"Missouri",2.3569272730155875E-2,0.06,81,"Oregon",1.3084937125701024E-2,0.108,107,"MissouriOregon",403,-1.0484335604454852E-2,4.8000000000000001E-2,26]
[null,"Missouri",2.3569272730155875E-2,0.06,81,"Pennsylvania",1.8764502846390078E-2,0.03,96,"MissouriPennsylvania",1171,-4.8047698837657971E-3,-0.03,15]
[null,"Missouri",2.3569272730155875E-2,0.06,81,"Rhode Island",1.3082294237976182E-2,7.8E-2,118,"MissouriRhode Island",210,-1.0486978492179694E-2,1.8000000000000002E-2,37]
[null,"Missouri",2.3569272730155875E-2,0.06,81,"South Carolina",3.0229349796761933E-2,7.0000000000000007E-2,88,"MissouriSouth Carolina",1884,6.6600770666060578E-3,1.0000000000000009E-2,7]
[null,"Missouri",2.3569272730155875E-2,0.06,81,"South Dakota",1.3431155417655547E-2,0,79,"MissouriSouth Dakota",474,-1.0138117312500328E-2,-0.06,-2]
[null,"Missouri",2.3569272730155875E-2,0.06,81,"Tennessee",3.2145443397273599E-2,0,82,"MissouriTennessee",2694,8.5761706671177232E-3,-0.06,1]
[null,"Missouri",2.3569272730155875E-2,0.06,81,"Texas",2.1592392711972809E-2,0,83,"MissouriTexas",12319,-1.9768800181830665E-3,-0.06,2]
[null,"Missouri",2.3569272730155875E-2,0.06,81,"Utah",1.0307262126890326E-2,0.05,84,"MissouriUtah",1553,-1.326201060326555E-2,-9.999999999999995E-3,3]
[null,"Missouri",2.3569272730155875E-2,0.06,81,"Vermont",7.1490112957021358E-3,8.3000000000000004E-2,110,"MissouriVermont",23,-1.6420261434453739E-2,2.3000000000000007E-2,29]
[null,"Missouri",2.3569272730155875E-2,0.06,81,"Virginia",1.039712030953501E-2,5.8000000000000003E-2,87,"MissouriVirginia",1914,-1.3172152420620866E-2,-1.9999999999999948E-3,6]
[null,"Missouri",2.3569272730155875E-2,0.06,81,"Washington",1.5569251587054078E-2,0,102,"MissouriWashington",2802,-8.0000211431017973E-3,-0.06,21]
[null,"Missouri",2.3569272730155875E-2,0.06,81,"West Virginia",1.6695121757837481E-2,6.5000000000000002E-2,91,"MissouriWest Virginia",59,-6.8741509723183949E-3,5.0000000000000044E-3,10]
[null,"Missouri",2.3569272730155875E-2,0.06,81,"Wisconsin",1.2522002040309323E-2,6.8000000000000005E-2,105,"MissouriWisconsin",1263,-1.1047270689846553E-2,8.0000000000000071E-3,24]
[null,"Missouri",2.3569272730155875E-2,0.06,81,"Wyoming",1.159170556116435E-2,0,76,"MissouriWyoming",244,-1.1977567168991525E-2,-0.06,-5]
[null,"Missouri",2.3569272730155875E-2,0.06,81,"Puerto Rico",0,0,0,"MissouriPuerto Rico",0,-2.3569272730155875E-2,-0.06,-81]
[null,"Montana",1.4139449327913651E-2,6.9000000000000006E-2,93,"Alabama",2.2202899776411697E-2,0.05,83,"MontanaAlabama",101,8.0634504484980458E-3,-1.9000000000000003E-2,-10]
[null,"Montana",1.4139449327913651E-2,6.9000000000000006E-2,93,"Alaska",3.2055585214628916E-2,0,117,"MontanaAlaska",371,1.7916135886715263E-2,-6.9000000000000006E-2,24]
[null,"Montana",1.4139449327913651E-2,6.9000000000000006E-2,93,"Arizona",2.1452319662556094E-2,4.4999999999999998E-2,87,"MontanaArizona",1118,7.3128703346424431E-3,-2.4000000000000007E-2,-6]
[null,"Montana",1.4139449327913651E-2,6.9000000000000006E-2,93,"Arkansas",2.5419294137546445E-2,7.0000000000000007E-2,79,"MontanaArkansas",258,1.1279844809632794E-2,1.0000000000000009E-3,-14]
[null,"Montana",1.4139449327913651E-2,6.9000000000000006E-2,93,"California",2.1729822873664682E-2,9.6000000000000002E-2,92,"MontanaCalifornia",3060,7.5903735457510304E-3,2.6999999999999996E-2,-1]
[null,"Montana",1.4139449327913651E-2,6.9000000000000006E-2,93,"Colorado",1.6922410102174039E-2,4.5999999999999999E-2,106,"MontanaColorado",2021,2.7829607742603877E-3,-2.3000000000000007E-2,13]
[null,"Montana",1.4139449327913651E-2,6.9000000000000006E-2,93,"Connecticut",1.4419595426747081E-2,0.05,105,"MontanaConnecticut",50,2.801460988334295E-4,-1.9000000000000003E-2,12]
[null,"Montana",1.4139449327913651E-2,6.9000000000000006E-2,93,"Delaware",2.9571270753275862E-2,7.0000000000000007E-2,100,"MontanaDelaware",0,1.5431821425362211E-2,1.0000000000000009E-3,7]
[null,"Montana",1.4139449327913651E-2,6.9000000000000006E-2,93,"District of Columbia ",6.3540306680691577E-2,8.5000000000000006E-2,148,"MontanaDistrict of Columbia ",0,4.9400857352777924E-2,1.6E-2,55]
[null,"Montana",1.4139449327913651E-2,6.9000000000000006E-2,93,"Florida",2.7237600892238891E-2,0,89,"MontanaFlorida",1758,1.309815156432524E-2,-6.9000000000000006E-2,-4]
[null,"Montana",1.4139449327913651E-2,6.9000000000000006E-2,93,"Georgia",1.9726513978233176E-2,0.06,95,"MontanaGeorgia",251,5.5870646503195249E-3,-9.000000000000008E-3,2]
[null,"Montana",1.4139449327913651E-2,6.9000000000000006E-2,93,"Hawaii",1.5418606986737988E-2,8.3000000000000004E-2,149,"MontanaHawaii",131,1.2791576588243366E-3,1.3999999999999999E-2,56]
[null,"Montana",1.4139449327913651E-2,6.9000000000000006E-2,93,"Idaho",1.0619122878421879E-2,7.8E-2,98,"MontanaIdaho",3800,-3.5203264494917726E-3,8.9999999999999941E-3,5]
[null,"Montana",1.4139449327913651E-2,6.9000000000000006E-2,93,"Illinois",2.2681262454608404E-2,0.03,91,"MontanaIllinois",228,8.5418131266947524E-3,-3.9000000000000007E-2,-2]
[null,"Montana",1.4139449327913651E-2,6.9000000000000006E-2,93,"Indiana",1.754084582978746E-2,3.4000000000000002E-2,88,"MontanaIndiana",134,3.4013965018738091E-3,-3.5000000000000003E-2,-5]
[null,"Montana",1.4139449327913651E-2,6.9000000000000006E-2,93,"Iowa",1.3507799161676014E-2,0.09,90,"MontanaIowa",452,-6.3165016623763746E-4,2.0999999999999991E-2,-3]
[null,"Montana",1.4139449327913651E-2,6.9000000000000006E-2,93,"Kansas",1.8706359316443516E-2,6.5000000000000002E-2,84,"MontanaKansas",300,4.5669099885298648E-3,-4.0000000000000036E-3,-9]
[null,"Montana",1.4139449327913651E-2,6.9000000000000006E-2,93,"Kentucky",1.6652835554239985E-2,5.8000000000000003E-2,92,"MontanaKentucky",0,2.5133862263263338E-3,-1.1000000000000003E-2,-1]
[null,"Montana",1.4139449327913651E-2,6.9000000000000006E-2,93,"Louisiana",2.935191107211383E-2,0.06,88,"MontanaLouisiana",428,1.5212461744200179E-2,-9.000000000000008E-3,-5]
[null,"Montana",1.4139449327913651E-2,6.9000000000000006E-2,93,"Maine",6.5120753540148114E-3,6.9000000000000006E-2,104,"MontanaMaine",0,{"$f":"G1407-C1407","v":-7.6273739738988398E-3},{"$f":"H1407-D1407","v":0},{"$f":"I1407-E1407","v":11}]
[null,"Montana",1.4139449327913651E-2,6.9000000000000006E-2,93,"Maryland",2.611701649690518E-2,0.05,103,"MontanaMaryland",0,1.1977567168991529E-2,-1.9000000000000003E-2,10]
[null,"Montana",1.4139449327913651E-2,6.9000000000000006E-2,93,"Massachusetts",2.2641619138735747E-2,5.2999999999999999E-2,126,"MontanaMassachusetts",49,8.5021698108220956E-3,-1.6000000000000007E-2,33]
[null,"Montana",1.4139449327913651E-2,6.9000000000000006E-2,93,"Michigan",2.3537558077457752E-2,4.3999999999999997E-2,82,"MontanaMichigan",218,9.3981087495441009E-3,-2.5000000000000008E-2,-11]
[null,"Montana",1.4139449327913651E-2,6.9000000000000006E-2,93,"Minnesota",1.1694778182433254E-2,7.9000000000000001E-2,121,"MontanaMinnesota",1257,-2.4446711454803975E-3,9.999999999999995E-3,28]
[null,"Montana",1.4139449327913651E-2,6.9000000000000006E-2,93,"Mississippi",1.426102216325646E-2,0.05,76,"MontanaMississippi",166,1.2157283534280916E-4,-1.9000000000000003E-2,-17]
[null,"Montana",1.4139449327913651E-2,6.9000000000000006E-2,93,"Missouri",2.3569272730155875E-2,0.06,81,"MontanaMissouri",511,9.4298234022422243E-3,-9.000000000000008E-3,-12]
[null,"Montana",1.4139449327913651E-2,6.9000000000000006E-2,93,"Nebraska",1.3380940550883517E-2,6.8000000000000005E-2,77,"MontanaNebraska",108,-7.5850877703013443E-4,-1.0000000000000009E-3,-16]
[null,"Montana",1.4139449327913651E-2,6.9000000000000006E-2,93,"Nevada",2.9713986690417422E-2,0,99,"MontanaNevada",1086,1.5574537362503771E-2,-6.9000000000000006E-2,6]
[null,"Montana",1.4139449327913651E-2,6.9000000000000006E-2,93,"New Hampshire",9.9372578454122104E-3,0,120,"MontanaNew Hampshire",0,-4.2021914825014408E-3,-6.9000000000000006E-2,27]
[null,"Montana",1.4139449327913651E-2,6.9000000000000006E-2,93,"New Jersey",1.6301331486835775E-2,6.4000000000000001E-2,103,"MontanaNew Jersey",67,2.1618821589221241E-3,-5.0000000000000044E-3,10]
[null,"Montana",1.4139449327913651E-2,6.9000000000000006E-2,93,"New Mexico",2.9999418564700536E-2,4.9000000000000002E-2,105,"MontanaNew Mexico",139,1.5859969236786883E-2,-2.0000000000000004E-2,12]
[null,"Montana",1.4139449327913651E-2,6.9000000000000006E-2,93,"New York",2.1042672065205326E-2,7.9000000000000001E-2,114,"MontanaNew York",421,6.9032227372916744E-3,9.999999999999995E-3,21]
[null,"Montana",1.4139449327913651E-2,6.9000000000000006E-2,93,"North Carolina",1.8489642523006337E-2,7.0000000000000007E-2,81,"MontanaNorth Carolina",244,4.3501931950926855E-3,1.0000000000000009E-3,-12]
[null,"Montana",1.4139449327913651E-2,6.9000000000000006E-2,93,"North Dakota",1.3055865360727744E-2,3.7999999999999999E-2,89,"MontanaNorth Dakota",1776,-1.0835839671859068E-3,-3.1000000000000007E-2,-4]
[null,"Montana",1.4139449327913651E-2,6.9000000000000006E-2,93,"Ohio",1.6248473732338901E-2,4.7E-2,106,"MontanaOhio",276,2.1090244044252495E-3,-2.2000000000000006E-2,13]
[null,"Montana",1.4139449327913651E-2,6.9000000000000006E-2,93,"Oklahoma",2.4039706745178049E-2,5.5E-2,84,"MontanaOklahoma",798,9.9002574172643975E-3,-1.4000000000000005E-2,-9]
[null,"Montana",1.4139449327913651E-2,6.9000000000000006E-2,93,"Oregon",1.3084937125701024E-2,0.108,107,"MontanaOregon",2192,-1.0545122022126274E-3,3.8999999999999993E-2,14]
[null,"Montana",1.4139449327913651E-2,6.9000000000000006E-2,93,"Pennsylvania",1.8764502846390078E-2,0.03,96,"MontanaPennsylvania",135,4.6250535184764272E-3,-3.9000000000000007E-2,3]
[null,"Montana",1.4139449327913651E-2,6.9000000000000006E-2,93,"Rhode Island",1.3082294237976182E-2,7.8E-2,118,"MontanaRhode Island",0,-1.0571550899374695E-3,8.9999999999999941E-3,25]
[null,"Montana",1.4139449327913651E-2,6.9000000000000006E-2,93,"South Carolina",3.0229349796761933E-2,7.0000000000000007E-2,88,"MontanaSouth Carolina",93,1.6089900468848284E-2,1.0000000000000009E-3,-5]
[null,"Montana",1.4139449327913651E-2,6.9000000000000006E-2,93,"South Dakota",1.3431155417655547E-2,0,79,"MontanaSouth Dakota",248,-7.0829391025810373E-4,-6.9000000000000006E-2,-14]
[null,"Montana",1.4139449327913651E-2,6.9000000000000006E-2,93,"Tennessee",3.2145443397273599E-2,0,82,"MontanaTennessee",308,1.8005994069359946E-2,-6.9000000000000006E-2,-11]
[null,"Montana",1.4139449327913651E-2,6.9000000000000006E-2,93,"Texas",2.1592392711972809E-2,0,83,"MontanaTexas",1813,7.4529433840591578E-3,-6.9000000000000006E-2,-10]
[null,"Montana",1.4139449327913651E-2,6.9000000000000006E-2,93,"Utah",1.0307262126890326E-2,0.05,84,"MontanaUtah",1057,-3.8321872010233255E-3,-1.9000000000000003E-2,-9]
[null,"Montana",1.4139449327913651E-2,6.9000000000000006E-2,93,"Vermont",7.1490112957021358E-3,8.3000000000000004E-2,110,"MontanaVermont",147,-6.9904380322115154E-3,1.3999999999999999E-2,17]
[null,"Montana",1.4139449327913651E-2,6.9000000000000006E-2,93,"Virginia",1.039712030953501E-2,5.8000000000000003E-2,87,"MontanaVirginia",658,-3.7423290183786415E-3,-1.1000000000000003E-2,-6]
[null,"Montana",1.4139449327913651E-2,6.9000000000000006E-2,93,"Washington",1.5569251587054078E-2,0,102,"MontanaWashington",2919,1.429802259140427E-3,-6.9000000000000006E-2,9]
[null,"Montana",1.4139449327913651E-2,6.9000000000000006E-2,93,"West Virginia",1.6695121757837481E-2,6.5000000000000002E-2,91,"MontanaWest Virginia",0,2.5556724299238293E-3,-4.0000000000000036E-3,-2]
[null,"Montana",1.4139449327913651E-2,6.9000000000000006E-2,93,"Wisconsin",1.2522002040309323E-2,6.8000000000000005E-2,105,"MontanaWisconsin",784,-1.6174472876043285E-3,-1.0000000000000009E-3,12]
[null,"Montana",1.4139449327913651E-2,6.9000000000000006E-2,93,"Wyoming",1.159170556116435E-2,0,76,"MontanaWyoming",1901,-2.5477437667493011E-3,-6.9000000000000006E-2,-17]
[null,"Montana",1.4139449327913651E-2,6.9000000000000006E-2,93,"Puerto Rico",0,0,0,"MontanaPuerto Rico",0,-1.4139449327913651E-2,-6.9000000000000006E-2,-93]
[null,"Nebraska",1.3380940550883517E-2,6.8000000000000005E-2,77,"Alabama",2.2202899776411697E-2,0.05,83,"NebraskaAlabama",151,8.8219592255281802E-3,-1.8000000000000002E-2,6]
[null,"Nebraska",1.3380940550883517E-2,6.8000000000000005E-2,77,"Alaska",3.2055585214628916E-2,0,117,"NebraskaAlaska",1195,1.86746446637454E-2,-6.8000000000000005E-2,40]
[null,"Nebraska",1.3380940550883517E-2,6.8000000000000005E-2,77,"Arizona",2.1452319662556094E-2,4.4999999999999998E-2,87,"NebraskaArizona",2293,8.0713791116725775E-3,-2.3000000000000007E-2,10]
[null,"Nebraska",1.3380940550883517E-2,6.8000000000000005E-2,77,"Arkansas",2.5419294137546445E-2,7.0000000000000007E-2,79,"NebraskaArkansas",166,1.2038353586662928E-2,2.0000000000000018E-3,2]
[null,"Nebraska",1.3380940550883517E-2,6.8000000000000005E-2,77,"California",2.1729822873664682E-2,9.6000000000000002E-2,92,"NebraskaCalifornia",3302,8.3488823227811648E-3,2.7999999999999997E-2,15]
[null,"Nebraska",1.3380940550883517E-2,6.8000000000000005E-2,77,"Colorado",1.6922410102174039E-2,4.5999999999999999E-2,106,"NebraskaColorado",4472,3.5414695512905221E-3,-2.2000000000000006E-2,29]
[null,"Nebraska",1.3380940550883517E-2,6.8000000000000005E-2,77,"Connecticut",1.4419595426747081E-2,0.05,105,"NebraskaConnecticut",45,1.0386548758635639E-3,-1.8000000000000002E-2,28]
[null,"Nebraska",1.3380940550883517E-2,6.8000000000000005E-2,77,"Delaware",2.9571270753275862E-2,7.0000000000000007E-2,100,"NebraskaDelaware",91,1.6190330202392345E-2,2.0000000000000018E-3,23]
[null,"Nebraska",1.3380940550883517E-2,6.8000000000000005E-2,77,"District of Columbia ",6.3540306680691577E-2,8.5000000000000006E-2,148,"NebraskaDistrict of Columbia ",172,5.0159366129808064E-2,1.7000000000000001E-2,71]
[null,"Nebraska",1.3380940550883517E-2,6.8000000000000005E-2,77,"Florida",2.7237600892238891E-2,0,89,"NebraskaFlorida",945,1.3856660341355374E-2,-6.8000000000000005E-2,12]
[null,"Nebraska",1.3380940550883517E-2,6.8000000000000005E-2,77,"Georgia",1.9726513978233176E-2,0.06,95,"NebraskaGeorgia",1283,6.3455734273496593E-3,-8.0000000000000071E-3,18]
[null,"Nebraska",1.3380940550883517E-2,6.8000000000000005E-2,77,"Hawaii",1.5418606986737988E-2,8.3000000000000004E-2,149,"NebraskaHawaii",75,2.037666435854471E-3,1.4999999999999999E-2,72]
[null,"Nebraska",1.3380940550883517E-2,6.8000000000000005E-2,77,"Idaho",1.0619122878421879E-2,7.8E-2,98,"NebraskaIdaho",35,-2.7618176724616382E-3,9.999999999999995E-3,21]
[null,"Nebraska",1.3380940550883517E-2,6.8000000000000005E-2,77,"Illinois",2.2681262454608404E-2,0.03,91,"NebraskaIllinois",1302,9.3003219037248869E-3,-3.8000000000000006E-2,14]
[null,"Nebraska",1.3380940550883517E-2,6.8000000000000005E-2,77,"Indiana",1.754084582978746E-2,3.4000000000000002E-2,88,"NebraskaIndiana",591,4.1599052789039435E-3,-3.4000000000000002E-2,11]
[null,"Nebraska",1.3380940550883517E-2,6.8000000000000005E-2,77,"Iowa",1.3507799161676014E-2,0.09,90,"NebraskaIowa",7698,1.2685861079249697E-4,2.1999999999999992E-2,13]
[null,"Nebraska",1.3380940550883517E-2,6.8000000000000005E-2,77,"Kansas",1.8706359316443516E-2,6.5000000000000002E-2,84,"NebraskaKansas",4126,5.3254187655599992E-3,-3.0000000000000027E-3,7]
[null,"Nebraska",1.3380940550883517E-2,6.8000000000000005E-2,77,"Kentucky",1.6652835554239985E-2,5.8000000000000003E-2,92,"NebraskaKentucky",723,3.2718950033564682E-3,-1.0000000000000002E-2,15]
[null,"Nebraska",1.3380940550883517E-2,6.8000000000000005E-2,77,"Louisiana",2.935191107211383E-2,0.06,88,"NebraskaLouisiana",745,1.5970970521230313E-2,-8.0000000000000071E-3,11]
[null,"Nebraska",1.3380940550883517E-2,6.8000000000000005E-2,77,"Maine",6.5120753540148114E-3,6.9000000000000006E-2,104,"NebraskaMaine",82,-6.8688651968687054E-3,1.0000000000000009E-3,27]
[null,"Nebraska",1.3380940550883517E-2,6.8000000000000005E-2,77,"Maryland",2.611701649690518E-2,0.05,103,"NebraskaMaryland",132,1.2736075946021663E-2,-1.8000000000000002E-2,26]
[null,"Nebraska",1.3380940550883517E-2,6.8000000000000005E-2,77,"Massachusetts",2.2641619138735747E-2,5.2999999999999999E-2,126,"NebraskaMassachusetts",182,9.2606785878522301E-3,-1.5000000000000006E-2,49]
[null,"Nebraska",1.3380940550883517E-2,6.8000000000000005E-2,77,"Michigan",2.3537558077457752E-2,4.3999999999999997E-2,82,"NebraskaMichigan",113,1.0156617526574235E-2,-2.4000000000000007E-2,5]
[null,"Nebraska",1.3380940550883517E-2,6.8000000000000005E-2,77,"Minnesota",1.1694778182433254E-2,7.9000000000000001E-2,121,"NebraskaMinnesota",992,-1.6861623684502631E-3,1.0999999999999996E-2,44]
[null,"Nebraska",1.3380940550883517E-2,6.8000000000000005E-2,77,"Mississippi",1.426102216325646E-2,0.05,76,"NebraskaMississippi",138,8.8008161237294359E-4,-1.8000000000000002E-2,-1]
[null,"Nebraska",1.3380940550883517E-2,6.8000000000000005E-2,77,"Missouri",2.3569272730155875E-2,0.06,81,"NebraskaMissouri",1999,1.0188332179272359E-2,-8.0000000000000071E-3,4]
[null,"Nebraska",1.3380940550883517E-2,6.8000000000000005E-2,77,"Montana",1.4139449327913651E-2,6.9000000000000006E-2,93,"NebraskaMontana",108,7.5850877703013443E-4,1.0000000000000009E-3,16]
[null,"Nebraska",1.3380940550883517E-2,6.8000000000000005E-2,77,"Nevada",2.9713986690417422E-2,0,99,"NebraskaNevada",714,1.6333046139533906E-2,-6.8000000000000005E-2,22]
[null,"Nebraska",1.3380940550883517E-2,6.8000000000000005E-2,77,"New Hampshire",9.9372578454122104E-3,0,120,"NebraskaNew Hampshire",110,-3.4436827054713064E-3,-6.8000000000000005E-2,43]
[null,"Nebraska",1.3380940550883517E-2,6.8000000000000005E-2,77,"New Jersey",1.6301331486835775E-2,6.4000000000000001E-2,103,"NebraskaNew Jersey",35,2.9203909359522585E-3,-4.0000000000000036E-3,26]
[null,"Nebraska",1.3380940550883517E-2,6.8000000000000005E-2,77,"New Mexico",2.9999418564700536E-2,4.9000000000000002E-2,105,"NebraskaNew Mexico",194,1.6618478013817019E-2,-1.9000000000000003E-2,28]
[null,"Nebraska",1.3380940550883517E-2,6.8000000000000005E-2,77,"New York",2.1042672065205326E-2,7.9000000000000001E-2,114,"NebraskaNew York",78,7.6617315143218089E-3,1.0999999999999996E-2,37]
[null,"Nebraska",1.3380940550883517E-2,6.8000000000000005E-2,77,"North Carolina",1.8489642523006337E-2,7.0000000000000007E-2,81,"NebraskaNorth Carolina",628,{"$f":"G1471-C1471","v":5.10870197212282E-3},{"$f":"H1471-D1471","v":2.0000000000000018E-3},{"$f":"I1471-E1471","v":4}]
[null,"Nebraska",1.3380940550883517E-2,6.8000000000000005E-2,77,"North Dakota",1.3055865360727744E-2,3.7999999999999999E-2,89,"NebraskaNorth Dakota",950,-3.2507519015577239E-4,-3.0000000000000006E-2,12]
[null,"Nebraska",1.3380940550883517E-2,6.8000000000000005E-2,77,"Ohio",1.6248473732338901E-2,4.7E-2,106,"NebraskaOhio",1052,2.8675331814553839E-3,-2.1000000000000005E-2,29]
[null,"Nebraska",1.3380940550883517E-2,6.8000000000000005E-2,77,"Oklahoma",2.4039706745178049E-2,5.5E-2,84,"NebraskaOklahoma",300,1.0658766194294532E-2,-1.3000000000000005E-2,7]
[null,"Nebraska",1.3380940550883517E-2,6.8000000000000005E-2,77,"Oregon",1.3084937125701024E-2,0.108,107,"NebraskaOregon",570,-2.9600342518249292E-4,3.9999999999999994E-2,30]
[null,"Nebraska",1.3380940550883517E-2,6.8000000000000005E-2,77,"Pennsylvania",1.8764502846390078E-2,0.03,96,"NebraskaPennsylvania",214,5.3835622955065617E-3,-3.8000000000000006E-2,19]
[null,"Nebraska",1.3380940550883517E-2,6.8000000000000005E-2,77,"Rhode Island",1.3082294237976182E-2,7.8E-2,118,"NebraskaRhode Island",188,-2.9864631290733509E-4,9.999999999999995E-3,41]
[null,"Nebraska",1.3380940550883517E-2,6.8000000000000005E-2,77,"South Carolina",3.0229349796761933E-2,7.0000000000000007E-2,88,"NebraskaSouth Carolina",158,1.6848409245878417E-2,2.0000000000000018E-3,11]
[null,"Nebraska",1.3380940550883517E-2,6.8000000000000005E-2,77,"South Dakota",1.3431155417655547E-2,0,79,"NebraskaSouth Dakota",2175,5.02148667720307E-5,-6.8000000000000005E-2,2]
[null,"Nebraska",1.3380940550883517E-2,6.8000000000000005E-2,77,"Tennessee",3.2145443397273599E-2,0,82,"NebraskaTennessee",432,1.8764502846390082E-2,-6.8000000000000005E-2,5]
[null,"Nebraska",1.3380940550883517E-2,6.8000000000000005E-2,77,"Texas",2.1592392711972809E-2,0,83,"NebraskaTexas",4794,8.2114521610892922E-3,-6.8000000000000005E-2,6]
[null,"Nebraska",1.3380940550883517E-2,6.8000000000000005E-2,77,"Utah",1.0307262126890326E-2,0.05,84,"NebraskaUtah",489,-3.0736784239931911E-3,-1.8000000000000002E-2,7]
[null,"Nebraska",1.3380940550883517E-2,6.8000000000000005E-2,77,"Vermont",7.1490112957021358E-3,8.3000000000000004E-2,110,"NebraskaVermont",0,-6.231929255181381E-3,1.4999999999999999E-2,33]
[null,"Nebraska",1.3380940550883517E-2,6.8000000000000005E-2,77,"Virginia",1.039712030953501E-2,5.8000000000000003E-2,87,"NebraskaVirginia",357,-2.983820241348507E-3,-1.0000000000000002E-2,10]
[null,"Nebraska",1.3380940550883517E-2,6.8000000000000005E-2,77,"Washington",1.5569251587054078E-2,0,102,"NebraskaWashington",682,2.1883110361705614E-3,-6.8000000000000005E-2,25]
[null,"Nebraska",1.3380940550883517E-2,6.8000000000000005E-2,77,"West Virginia",1.6695121757837481E-2,6.5000000000000002E-2,91,"NebraskaWest Virginia",0,3.3141812069539638E-3,-3.0000000000000027E-3,14]
[null,"Nebraska",1.3380940550883517E-2,6.8000000000000005E-2,77,"Wisconsin",1.2522002040309323E-2,6.8000000000000005E-2,105,"NebraskaWisconsin",324,-8.589385105741941E-4,0,28]
[null,"Nebraska",1.3380940550883517E-2,6.8000000000000005E-2,77,"Wyoming",1.159170556116435E-2,0,76,"NebraskaWyoming",1216,-1.7892349897191667E-3,-6.8000000000000005E-2,-1]
[null,"Nebraska",1.3380940550883517E-2,6.8000000000000005E-2,77,"Puerto Rico",0,0,0,"NebraskaPuerto Rico",0,-1.3380940550883517E-2,-6.8000000000000005E-2,-77]
[null,"Nevada",2.9713986690417422E-2,0,99,"Alabama",2.2202899776411697E-2,0.05,83,"NevadaAlabama",1009,-7.5110869140057254E-3,0.05,-16]
[null,"Nevada",2.9713986690417422E-2,0,99,"Alaska",3.2055585214628916E-2,0,117,"NevadaAlaska",803,2.3415985242114939E-3,0,18]
[null,"Nevada",2.9713986690417422E-2,0,99,"Arizona",2.1452319662556094E-2,4.4999999999999998E-2,87,"NevadaArizona",6712,-8.2616670278613281E-3,4.4999999999999998E-2,-12]
[null,"Nevada",2.9713986690417422E-2,0,99,"Arkansas",2.5419294137546445E-2,7.0000000000000007E-2,79,"NevadaArkansas",121,-4.2946925528709774E-3,7.0000000000000007E-2,-20]
[null,"Nevada",2.9713986690417422E-2,0,99,"California",2.1729822873664682E-2,9.6000000000000002E-2,92,"NevadaCalifornia",27968,-7.9841638167527408E-3,9.6000000000000002E-2,-7]
[null,"Nevada",2.9713986690417422E-2,0,99,"Colorado",1.6922410102174039E-2,4.5999999999999999E-2,106,"NevadaColorado",3789,-1.2791576588243384E-2,4.5999999999999999E-2,7]
[null,"Nevada",2.9713986690417422E-2,0,99,"Connecticut",1.4419595426747081E-2,0.05,105,"NevadaConnecticut",172,-1.5294391263670342E-2,0.05,6]
[null,"Nevada",2.9713986690417422E-2,0,99,"Delaware",2.9571270753275862E-2,7.0000000000000007E-2,100,"NevadaDelaware",572,-1.4271593714156039E-4,7.0000000000000007E-2,1]
[null,"Nevada",2.9713986690417422E-2,0,99,"District of Columbia ",6.3540306680691577E-2,8.5000000000000006E-2,148,"NevadaDistrict of Columbia ",42,3.3826319990274155E-2,8.5000000000000006E-2,49]
[null,"Nevada",2.9713986690417422E-2,0,99,"Florida",2.7237600892238891E-2,0,89,"NevadaFlorida",1241,-2.4763857981785313E-3,0,-10]
[null,"Nevada",2.9713986690417422E-2,0,99,"Georgia",1.9726513978233176E-2,0.06,95,"NevadaGeorgia",3783,-9.9874727121842463E-3,0.06,-4]
[null,"Nevada",2.9713986690417422E-2,0,99,"Hawaii",1.5418606986737988E-2,8.3000000000000004E-2,149,"NevadaHawaii",760,-1.4295379703679435E-2,8.3000000000000004E-2,50]
[null,"Nevada",2.9713986690417422E-2,0,99,"Idaho",1.0619122878421879E-2,7.8E-2,98,"NevadaIdaho",2535,-1.9094863811995544E-2,7.8E-2,-1]
[null,"Nevada",2.9713986690417422E-2,0,99,"Illinois",2.2681262454608404E-2,0.03,91,"NevadaIllinois",1478,-7.0327242358090188E-3,0.03,-8]
[null,"Nevada",2.9713986690417422E-2,0,99,"Indiana",1.754084582978746E-2,3.4000000000000002E-2,88,"NevadaIndiana",1011,-1.2173140860629962E-2,3.4000000000000002E-2,-11]
[null,"Nevada",2.9713986690417422E-2,0,99,"Iowa",1.3507799161676014E-2,0.09,90,"NevadaIowa",681,-1.6206187528741409E-2,0.09,-9]
[null,"Nevada",2.9713986690417422E-2,0,99,"Kansas",1.8706359316443516E-2,6.5000000000000002E-2,84,"NevadaKansas",851,-1.1007627373973906E-2,6.5000000000000002E-2,-15]
[null,"Nevada",2.9713986690417422E-2,0,99,"Kentucky",1.6652835554239985E-2,5.8000000000000003E-2,92,"NevadaKentucky",301,-1.3061151136177437E-2,5.8000000000000003E-2,-7]
[null,"Nevada",2.9713986690417422E-2,0,99,"Louisiana",2.935191107211383E-2,0.06,88,"NevadaLouisiana",931,-3.6207561830359225E-4,0.06,-11]
[null,"Nevada",2.9713986690417422E-2,0,99,"Maine",6.5120753540148114E-3,6.9000000000000006E-2,104,"NevadaMaine",35,-2.3201911336402613E-2,6.9000000000000006E-2,5]
[null,"Nevada",2.9713986690417422E-2,0,99,"Maryland",2.611701649690518E-2,0.05,103,"NevadaMaryland",330,-3.5969701935122424E-3,0.05,4]
[null,"Nevada",2.9713986690417422E-2,0,99,"Massachusetts",2.2641619138735747E-2,5.2999999999999999E-2,126,"NevadaMassachusetts",787,-7.0723675516816756E-3,5.2999999999999999E-2,27]
[null,"Nevada",2.9713986690417422E-2,0,99,"Michigan",2.3537558077457752E-2,4.3999999999999997E-2,82,"NevadaMichigan",1354,-6.1764286129596703E-3,4.3999999999999997E-2,-17]
[null,"Nevada",2.9713986690417422E-2,0,99,"Minnesota",1.1694778182433254E-2,7.9000000000000001E-2,121,"NevadaMinnesota",932,-1.801920850798417E-2,7.9000000000000001E-2,22]
[null,"Nevada",2.9713986690417422E-2,0,99,"Mississippi",1.426102216325646E-2,0.05,76,"NevadaMississippi",526,-1.5452964527160962E-2,0.05,-23]
[null,"Nevada",2.9713986690417422E-2,0,99,"Missouri",2.3569272730155875E-2,0.06,81,"NevadaMissouri",836,-6.1447139602615469E-3,0.06,-18]
[null,"Nevada",2.9713986690417422E-2,0,99,"Montana",1.4139449327913651E-2,6.9000000000000006E-2,93,"NevadaMontana",968,-1.5574537362503771E-2,6.9000000000000006E-2,-6]
[null,"Nevada",2.9713986690417422E-2,0,99,"Nebraska",1.3380940550883517E-2,6.8000000000000005E-2,77,"NevadaNebraska",233,-1.6333046139533906E-2,6.8000000000000005E-2,-22]
[null,"Nevada",2.9713986690417422E-2,0,99,"New Hampshire",9.9372578454122104E-3,0,120,"NevadaNew Hampshire",0,-1.9776728845005212E-2,0,21]
[null,"Nevada",2.9713986690417422E-2,0,99,"New Jersey",1.6301331486835775E-2,6.4000000000000001E-2,103,"NevadaNew Jersey",908,-1.3412655203581647E-2,6.4000000000000001E-2,4]
[null,"Nevada",2.9713986690417422E-2,0,99,"New Mexico",2.9999418564700536E-2,4.9000000000000002E-2,105,"NevadaNew Mexico",604,2.8543187428311384E-4,4.9000000000000002E-2,6]
[null,"Nevada",2.9713986690417422E-2,0,99,"New York",2.1042672065205326E-2,7.9000000000000001E-2,114,"NevadaNew York",600,-8.6713146252120968E-3,7.9000000000000001E-2,15]
[null,"Nevada",2.9713986690417422E-2,0,99,"North Carolina",1.8489642523006337E-2,7.0000000000000007E-2,81,"NevadaNorth Carolina",1627,-1.1224344167411086E-2,7.0000000000000007E-2,-18]
[null,"Nevada",2.9713986690417422E-2,0,99,"North Dakota",1.3055865360727744E-2,3.7999999999999999E-2,89,"NevadaNorth Dakota",854,-1.6658121329689676E-2,3.7999999999999999E-2,-10]
[null,"Nevada",2.9713986690417422E-2,0,99,"Ohio",1.6248473732338901E-2,4.7E-2,106,"NevadaOhio",907,-1.3465512958078522E-2,4.7E-2,7]
[null,"Nevada",2.9713986690417422E-2,0,99,"Oklahoma",2.4039706745178049E-2,5.5E-2,84,"NevadaOklahoma",1101,-5.6742799452393737E-3,5.5E-2,-15]
[null,"Nevada",2.9713986690417422E-2,0,99,"Oregon",1.3084937125701024E-2,0.108,107,"NevadaOregon",5935,-1.6629049564716399E-2,0.108,8]
[null,"Nevada",2.9713986690417422E-2,0,99,"Pennsylvania",1.8764502846390078E-2,0.03,96,"NevadaPennsylvania",1600,-1.0949483844027344E-2,0.03,-3]
[null,"Nevada",2.9713986690417422E-2,0,99,"Rhode Island",1.3082294237976182E-2,7.8E-2,118,"NevadaRhode Island",25,-1.6631692452441241E-2,7.8E-2,19]
[null,"Nevada",2.9713986690417422E-2,0,99,"South Carolina",3.0229349796761933E-2,7.0000000000000007E-2,88,"NevadaSouth Carolina",1025,5.1536310634451091E-4,7.0000000000000007E-2,-11]
[null,"Nevada",2.9713986690417422E-2,0,99,"South Dakota",1.3431155417655547E-2,0,79,"NevadaSouth Dakota",135,-1.6282831272761873E-2,0,-20]
[null,"Nevada",2.9713986690417422E-2,0,99,"Tennessee",3.2145443397273599E-2,0,82,"NevadaTennessee",735,2.4314567068561763E-3,0,-17]
[null,"Nevada",2.9713986690417422E-2,0,99,"Texas",2.1592392711972809E-2,0,83,"NevadaTexas",8266,-8.1215939784446134E-3,0,-16]
[null,"Nevada",2.9713986690417422E-2,0,99,"Utah",1.0307262126890326E-2,0.05,84,"NevadaUtah",5391,-1.9406724563527097E-2,0.05,-15]
[null,"Nevada",2.9713986690417422E-2,0,99,"Vermont",7.1490112957021358E-3,8.3000000000000004E-2,110,"NevadaVermont",17,-2.2564975394715286E-2,8.3000000000000004E-2,11]
[null,"Nevada",2.9713986690417422E-2,0,99,"Virginia",1.039712030953501E-2,5.8000000000000003E-2,87,"NevadaVirginia",973,{"$f":"G1535-C1535","v":-1.9316866380882411E-2},{"$f":"H1535-D1535","v":5.8000000000000003E-2},{"$f":"I1535-E1535","v":-12}]
[null,"Nevada",2.9713986690417422E-2,0,99,"Washington",1.5569251587054078E-2,0,102,"NevadaWashington",5671,-1.4144735103363344E-2,0,3]
[null,"Nevada",2.9713986690417422E-2,0,99,"West Virginia",1.6695121757837481E-2,6.5000000000000002E-2,91,"NevadaWest Virginia",229,-1.3018864932579942E-2,6.5000000000000002E-2,-8]
[null,"Nevada",2.9713986690417422E-2,0,99,"Wisconsin",1.2522002040309323E-2,6.8000000000000005E-2,105,"NevadaWisconsin",1163,-1.71919846501081E-2,6.8000000000000005E-2,6]
[null,"Nevada",2.9713986690417422E-2,0,99,"Wyoming",1.159170556116435E-2,0,76,"NevadaWyoming",355,-1.8122281129253071E-2,0,-23]
[null,"Nevada",2.9713986690417422E-2,0,99,"Puerto Rico",0,0,0,"NevadaPuerto Rico",0,-2.9713986690417422E-2,0,-99]
[null,"New Hampshire",9.9372578454122104E-3,0,120,"Alabama",2.2202899776411697E-2,0.05,83,"New HampshireAlabama",161,1.2265641930999487E-2,0.05,-37]
[null,"New Hampshire",9.9372578454122104E-3,0,120,"Alaska",3.2055585214628916E-2,0,117,"New HampshireAlaska",118,2.2118327369216706E-2,0,-3]
[null,"New Hampshire",9.9372578454122104E-3,0,120,"Arizona",2.1452319662556094E-2,4.4999999999999998E-2,87,"New HampshireArizona",510,1.1515061817143884E-2,4.4999999999999998E-2,-33]
[null,"New Hampshire",9.9372578454122104E-3,0,120,"Arkansas",2.5419294137546445E-2,7.0000000000000007E-2,79,"New HampshireArkansas",0,1.5482036292134235E-2,7.0000000000000007E-2,-41]
[null,"New Hampshire",9.9372578454122104E-3,0,120,"California",2.1729822873664682E-2,9.6000000000000002E-2,92,"New HampshireCalifornia",1327,1.1792565028252471E-2,9.6000000000000002E-2,-28]
[null,"New Hampshire",9.9372578454122104E-3,0,120,"Colorado",1.6922410102174039E-2,4.5999999999999999E-2,106,"New HampshireColorado",679,6.9851522567618285E-3,4.5999999999999999E-2,-14]
[null,"New Hampshire",9.9372578454122104E-3,0,120,"Connecticut",1.4419595426747081E-2,0.05,105,"New HampshireConnecticut",1009,4.4823375813348703E-3,0.05,-15]
[null,"New Hampshire",9.9372578454122104E-3,0,120,"Delaware",2.9571270753275862E-2,7.0000000000000007E-2,100,"New HampshireDelaware",99,1.9634012907863652E-2,7.0000000000000007E-2,-20]
[null,"New Hampshire",9.9372578454122104E-3,0,120,"District of Columbia ",6.3540306680691577E-2,8.5000000000000006E-2,148,"New HampshireDistrict of Columbia ",197,5.3603048835279367E-2,8.5000000000000006E-2,28]
[null,"New Hampshire",9.9372578454122104E-3,0,120,"Florida",2.7237600892238891E-2,0,89,"New HampshireFlorida",2362,1.7300343046826681E-2,0,-31]
[null,"New Hampshire",9.9372578454122104E-3,0,120,"Georgia",1.9726513978233176E-2,0.06,95,"New HampshireGeorgia",15,9.7892561328209657E-3,0.06,-25]
[null,"New Hampshire",9.9372578454122104E-3,0,120,"Hawaii",1.5418606986737988E-2,8.3000000000000004E-2,149,"New HampshireHawaii",85,5.4813491413257774E-3,8.3000000000000004E-2,29]
[null,"New Hampshire",9.9372578454122104E-3,0,120,"Idaho",1.0619122878421879E-2,7.8E-2,98,"New HampshireIdaho",0,6.8186503300966816E-4,7.8E-2,-22]
[null,"New Hampshire",9.9372578454122104E-3,0,120,"Illinois",2.2681262454608404E-2,0.03,91,"New HampshireIllinois",283,1.2744004609196193E-2,0.03,-29]
[null,"New Hampshire",9.9372578454122104E-3,0,120,"Indiana",1.754084582978746E-2,3.4000000000000002E-2,88,"New HampshireIndiana",0,7.6035879843752499E-3,3.4000000000000002E-2,-32]
[null,"New Hampshire",9.9372578454122104E-3,0,120,"Iowa",1.3507799161676014E-2,0.09,90,"New HampshireIowa",56,3.5705413162638033E-3,0.09,-30]
[null,"New Hampshire",9.9372578454122104E-3,0,120,"Kansas",1.8706359316443516E-2,6.5000000000000002E-2,84,"New HampshireKansas",0,8.7691014710313056E-3,6.5000000000000002E-2,-36]
[null,"New Hampshire",9.9372578454122104E-3,0,120,"Kentucky",1.6652835554239985E-2,5.8000000000000003E-2,92,"New HampshireKentucky",84,6.7155777088277746E-3,5.8000000000000003E-2,-28]
[null,"New Hampshire",9.9372578454122104E-3,0,120,"Louisiana",2.935191107211383E-2,0.06,88,"New HampshireLouisiana",11,1.941465322670162E-2,0.06,-32]
[null,"New Hampshire",9.9372578454122104E-3,0,120,"Maine",6.5120753540148114E-3,6.9000000000000006E-2,104,"New HampshireMaine",3655,-3.425182491397399E-3,6.9000000000000006E-2,-16]
[null,"New Hampshire",9.9372578454122104E-3,0,120,"Maryland",2.611701649690518E-2,0.05,103,"New HampshireMaryland",1124,1.617975865149297E-2,0.05,-17]
[null,"New Hampshire",9.9372578454122104E-3,0,120,"Massachusetts",2.2641619138735747E-2,5.2999999999999999E-2,126,"New HampshireMassachusetts",13331,1.2704361293323536E-2,5.2999999999999999E-2,6]
[null,"New Hampshire",9.9372578454122104E-3,0,120,"Michigan",2.3537558077457752E-2,4.3999999999999997E-2,82,"New HampshireMichigan",446,1.3600300232045542E-2,4.3999999999999997E-2,-38]
[null,"New Hampshire",9.9372578454122104E-3,0,120,"Minnesota",1.1694778182433254E-2,7.9000000000000001E-2,121,"New HampshireMinnesota",0,1.7575203370210433E-3,7.9000000000000001E-2,1]
[null,"New Hampshire",9.9372578454122104E-3,0,120,"Mississippi",1.426102216325646E-2,0.05,76,"New HampshireMississippi",60,4.32376431784425E-3,0.05,-44]
[null,"New Hampshire",9.9372578454122104E-3,0,120,"Missouri",2.3569272730155875E-2,0.06,81,"New HampshireMissouri",35,1.3632014884743665E-2,0.06,-39]
[null,"New Hampshire",9.9372578454122104E-3,0,120,"Montana",1.4139449327913651E-2,6.9000000000000006E-2,93,"New HampshireMontana",115,4.2021914825014408E-3,6.9000000000000006E-2,-27]
[null,"New Hampshire",9.9372578454122104E-3,0,120,"Nebraska",1.3380940550883517E-2,6.8000000000000005E-2,77,"New HampshireNebraska",0,3.4436827054713064E-3,6.8000000000000005E-2,-43]
[null,"New Hampshire",9.9372578454122104E-3,0,120,"Nevada",2.9713986690417422E-2,0,99,"New HampshireNevada",175,1.9776728845005212E-2,0,-21]
[null,"New Hampshire",9.9372578454122104E-3,0,120,"New Jersey",1.6301331486835775E-2,6.4000000000000001E-2,103,"New HampshireNew Jersey",126,6.3640736414235649E-3,6.4000000000000001E-2,-17]
[null,"New Hampshire",9.9372578454122104E-3,0,120,"New Mexico",2.9999418564700536E-2,4.9000000000000002E-2,105,"New HampshireNew Mexico",268,2.0062160719288326E-2,4.9000000000000002E-2,-15]
[null,"New Hampshire",9.9372578454122104E-3,0,120,"New York",2.1042672065205326E-2,7.9000000000000001E-2,114,"New HampshireNew York",2760,1.1105414219793115E-2,7.9000000000000001E-2,-6]
[null,"New Hampshire",9.9372578454122104E-3,0,120,"North Carolina",1.8489642523006337E-2,7.0000000000000007E-2,81,"New HampshireNorth Carolina",754,8.5523846775941263E-3,7.0000000000000007E-2,-39]
[null,"New Hampshire",9.9372578454122104E-3,0,120,"North Dakota",1.3055865360727744E-2,3.7999999999999999E-2,89,"New HampshireNorth Dakota",0,3.118607515315534E-3,3.7999999999999999E-2,-31]
[null,"New Hampshire",9.9372578454122104E-3,0,120,"Ohio",1.6248473732338901E-2,4.7E-2,106,"New HampshireOhio",189,6.3112158869266903E-3,4.7E-2,-14]
[null,"New Hampshire",9.9372578454122104E-3,0,120,"Oklahoma",2.4039706745178049E-2,5.5E-2,84,"New HampshireOklahoma",549,1.4102448899765838E-2,5.5E-2,-36]
[null,"New Hampshire",9.9372578454122104E-3,0,120,"Oregon",1.3084937125701024E-2,0.108,107,"New HampshireOregon",39,3.1476792802888134E-3,0.108,-13]
[null,"New Hampshire",9.9372578454122104E-3,0,120,"Pennsylvania",1.8764502846390078E-2,0.03,96,"New HampshirePennsylvania",1138,8.827245000977868E-3,0.03,-24]
[null,"New Hampshire",9.9372578454122104E-3,0,120,"Rhode Island",1.3082294237976182E-2,7.8E-2,118,"New HampshireRhode Island",611,3.1450363925639713E-3,7.8E-2,-2]
[null,"New Hampshire",9.9372578454122104E-3,0,120,"South Carolina",3.0229349796761933E-2,7.0000000000000007E-2,88,"New HampshireSouth Carolina",917,2.0292091951349723E-2,7.0000000000000007E-2,-32]
[null,"New Hampshire",9.9372578454122104E-3,0,120,"South Dakota",1.3431155417655547E-2,0,79,"New HampshireSouth Dakota",0,3.4938975722433371E-3,0,-41]
[null,"New Hampshire",9.9372578454122104E-3,0,120,"Tennessee",3.2145443397273599E-2,0,82,"New HampshireTennessee",271,2.2208185551861388E-2,0,-38]
[null,"New Hampshire",9.9372578454122104E-3,0,120,"Texas",2.1592392711972809E-2,0,83,"New HampshireTexas",761,1.1655134866560599E-2,0,-37]
[null,"New Hampshire",9.9372578454122104E-3,0,120,"Utah",1.0307262126890326E-2,0.05,84,"New HampshireUtah",507,3.7000428147811529E-4,0.05,-36]
[null,"New Hampshire",9.9372578454122104E-3,0,120,"Vermont",7.1490112957021358E-3,8.3000000000000004E-2,110,"New HampshireVermont",2893,-2.7882465497100746E-3,8.3000000000000004E-2,-10]
[null,"New Hampshire",9.9372578454122104E-3,0,120,"Virginia",1.039712030953501E-2,5.8000000000000003E-2,87,"New HampshireVirginia",535,4.5986246412279934E-4,5.8000000000000003E-2,-33]
[null,"New Hampshire",9.9372578454122104E-3,0,120,"Washington",1.5569251587054078E-2,0,102,"New HampshireWashington",309,5.6319937416418678E-3,0,-18]
[null,"New Hampshire",9.9372578454122104E-3,0,120,"West Virginia",1.6695121757837481E-2,6.5000000000000002E-2,91,"New HampshireWest Virginia",129,6.7578639124252701E-3,6.5000000000000002E-2,-29]
[null,"New Hampshire",9.9372578454122104E-3,0,120,"Wisconsin",1.2522002040309323E-2,6.8000000000000005E-2,105,"New HampshireWisconsin",3,2.5847441948971123E-3,6.8000000000000005E-2,-15]
[null,"New Hampshire",9.9372578454122104E-3,0,120,"Wyoming",1.159170556116435E-2,0,76,"New HampshireWyoming",0,1.6544477157521397E-3,0,-44]
[null,"New Hampshire",9.9372578454122104E-3,0,120,"Puerto Rico",0,0,0,"New HampshirePuerto Rico",0,-9.9372578454122104E-3,0,-120]
[null,"New Jersey",1.6301331486835775E-2,6.4000000000000001E-2,103,"Alabama",2.2202899776411697E-2,0.05,83,"New JerseyAlabama",1702,5.9015682895759217E-3,-1.3999999999999999E-2,-20]
[null,"New Jersey",1.6301331486835775E-2,6.4000000000000001E-2,103,"Alaska",3.2055585214628916E-2,0,117,"New JerseyAlaska",116,1.5754253727793141E-2,-6.4000000000000001E-2,14]
[null,"New Jersey",1.6301331486835775E-2,6.4000000000000001E-2,103,"Arizona",2.1452319662556094E-2,4.4999999999999998E-2,87,"New JerseyArizona",2564,5.1509881757203189E-3,-1.9000000000000003E-2,-16]
[null,"New Jersey",1.6301331486835775E-2,6.4000000000000001E-2,103,"Arkansas",2.5419294137546445E-2,7.0000000000000007E-2,79,"New JerseyArkansas",157,9.1179626507106697E-3,6.0000000000000053E-3,-24]
[null,"New Jersey",1.6301331486835775E-2,6.4000000000000001E-2,103,"California",2.1729822873664682E-2,9.6000000000000002E-2,92,"New JerseyCalifornia",12057,5.4284913868289063E-3,3.2000000000000001E-2,-11]
[null,"New Jersey",1.6301331486835775E-2,6.4000000000000001E-2,103,"Colorado",1.6922410102174039E-2,4.5999999999999999E-2,106,"New JerseyColorado",2464,6.2107861533826358E-4,-1.8000000000000002E-2,3]
[null,"New Jersey",1.6301331486835775E-2,6.4000000000000001E-2,103,"Connecticut",1.4419595426747081E-2,0.05,105,"New JerseyConnecticut",5665,-1.8817360600886946E-3,-1.3999999999999999E-2,2]
[null,"New Jersey",1.6301331486835775E-2,6.4000000000000001E-2,103,"Delaware",2.9571270753275862E-2,7.0000000000000007E-2,100,"New JerseyDelaware",5846,{"$f":"G1599-C1599","v":1.3269939266440087E-2},{"$f":"H1599-D1599","v":6.0000000000000053E-3},{"$f":"I1599-E1599","v":-3}]
[null,"New Jersey",1.6301331486835775E-2,6.4000000000000001E-2,103,"District of Columbia ",6.3540306680691577E-2,8.5000000000000006E-2,148,"New JerseyDistrict of Columbia ",1451,4.7238975193855802E-2,2.1000000000000005E-2,45]
[null,"New Jersey",1.6301331486835775E-2,6.4000000000000001E-2,103,"Florida",2.7237600892238891E-2,0,89,"New JerseyFlorida",27606,1.0936269405403116E-2,-6.4000000000000001E-2,-14]
[null,"New Jersey",1.6301331486835775E-2,6.4000000000000001E-2,103,"Georgia",1.9726513978233176E-2,0.06,95,"New JerseyGeorgia",4920,3.4251824913974008E-3,-4.0000000000000036E-3,-8]
[null,"New Jersey",1.6301331486835775E-2,6.4000000000000001E-2,103,"Hawaii",1.5418606986737988E-2,8.3000000000000004E-2,149,"New JerseyHawaii",410,-8.827245000977875E-4,1.9000000000000003E-2,46]
[null,"New Jersey",1.6301331486835775E-2,6.4000000000000001E-2,103,"Idaho",1.0619122878421879E-2,7.8E-2,98,"New JerseyIdaho",214,-5.6822086084138967E-3,1.3999999999999999E-2,-5]
[null,"New Jersey",1.6301331486835775E-2,6.4000000000000001E-2,103,"Illinois",2.2681262454608404E-2,0.03,91,"New JerseyIllinois",2366,6.3799309677726283E-3,-3.4000000000000002E-2,-12]
[null,"New Jersey",1.6301331486835775E-2,6.4000000000000001E-2,103,"Indiana",1.754084582978746E-2,3.4000000000000002E-2,88,"New JerseyIndiana",1537,1.239514342951685E-3,-0.03,-15]
[null,"New Jersey",1.6301331486835775E-2,6.4000000000000001E-2,103,"Iowa",1.3507799161676014E-2,0.09,90,"New JerseyIowa",1018,-2.7935323251597616E-3,2.5999999999999995E-2,-13]
[null,"New Jersey",1.6301331486835775E-2,6.4000000000000001E-2,103,"Kansas",1.8706359316443516E-2,6.5000000000000002E-2,84,"New JerseyKansas",267,2.4050278296077407E-3,1.0000000000000009E-3,-19]
[null,"New Jersey",1.6301331486835775E-2,6.4000000000000001E-2,103,"Kentucky",1.6652835554239985E-2,5.8000000000000003E-2,92,"New JerseyKentucky",496,3.515040674042097E-4,-5.9999999999999984E-3,-11]
[null,"New Jersey",1.6301331486835775E-2,6.4000000000000001E-2,103,"Louisiana",2.935191107211383E-2,0.06,88,"New JerseyLouisiana",975,1.3050579585278055E-2,-4.0000000000000036E-3,-15]
[null,"New Jersey",1.6301331486835775E-2,6.4000000000000001E-2,103,"Maine",6.5120753540148114E-3,6.9000000000000006E-2,104,"New JerseyMaine",405,-9.7892561328209639E-3,5.0000000000000044E-3,1]
[null,"New Jersey",1.6301331486835775E-2,6.4000000000000001E-2,103,"Maryland",2.611701649690518E-2,0.05,103,"New JerseyMaryland",6260,9.8156850100694047E-3,-1.3999999999999999E-2,0]
[null,"New Jersey",1.6301331486835775E-2,6.4000000000000001E-2,103,"Massachusetts",2.2641619138735747E-2,5.2999999999999999E-2,126,"New JerseyMassachusetts",8046,6.3402876518999715E-3,-1.1000000000000003E-2,23]
[null,"New Jersey",1.6301331486835775E-2,6.4000000000000001E-2,103,"Michigan",2.3537558077457752E-2,4.3999999999999997E-2,82,"New JerseyMichigan",1617,7.2362265906219768E-3,-2.0000000000000004E-2,-21]
[null,"New Jersey",1.6301331486835775E-2,6.4000000000000001E-2,103,"Minnesota",1.1694778182433254E-2,7.9000000000000001E-2,121,"New JerseyMinnesota",1038,-4.6065533044025216E-3,1.4999999999999999E-2,18]
[null,"New Jersey",1.6301331486835775E-2,6.4000000000000001E-2,103,"Mississippi",1.426102216325646E-2,0.05,76,"New JerseyMississippi",2127,-2.040309323579315E-3,-1.3999999999999999E-2,-27]
[null,"New Jersey",1.6301331486835775E-2,6.4000000000000001E-2,103,"Missouri",2.3569272730155875E-2,0.06,81,"New JerseyMissouri",960,7.2679412433201002E-3,-4.0000000000000036E-3,-22]
[null,"New Jersey",1.6301331486835775E-2,6.4000000000000001E-2,103,"Montana",1.4139449327913651E-2,6.9000000000000006E-2,93,"New JerseyMontana",156,-2.1618821589221241E-3,5.0000000000000044E-3,-10]
[null,"New Jersey",1.6301331486835775E-2,6.4000000000000001E-2,103,"Nebraska",1.3380940550883517E-2,6.8000000000000005E-2,77,"New JerseyNebraska",524,-2.9203909359522585E-3,4.0000000000000036E-3,-26]
[null,"New Jersey",1.6301331486835775E-2,6.4000000000000001E-2,103,"Nevada",2.9713986690417422E-2,0,99,"New JerseyNevada",912,1.3412655203581647E-2,-6.4000000000000001E-2,-4]
[null,"New Jersey",1.6301331486835775E-2,6.4000000000000001E-2,103,"New Hampshire",9.9372578454122104E-3,0,120,"New JerseyNew Hampshire",591,-6.3640736414235649E-3,-6.4000000000000001E-2,17]
[null,"New Jersey",1.6301331486835775E-2,6.4000000000000001E-2,103,"New Mexico",2.9999418564700536E-2,4.9000000000000002E-2,105,"New JerseyNew Mexico",252,1.3698087077864761E-2,-1.4999999999999999E-2,2]
[null,"New Jersey",1.6301331486835775E-2,6.4000000000000001E-2,103,"New York",2.1042672065205326E-2,7.9000000000000001E-2,114,"New JerseyNew York",42574,4.7413405783695503E-3,1.4999999999999999E-2,11]
[null,"New Jersey",1.6301331486835775E-2,6.4000000000000001E-2,103,"North Carolina",1.8489642523006337E-2,7.0000000000000007E-2,81,"New JerseyNorth Carolina",11468,2.1883110361705614E-3,6.0000000000000053E-3,-22]
[null,"New Jersey",1.6301331486835775E-2,6.4000000000000001E-2,103,"North Dakota",1.3055865360727744E-2,3.7999999999999999E-2,89,"New JerseyNorth Dakota",140,-3.2454661261080309E-3,-2.6000000000000002E-2,-14]
[null,"New Jersey",1.6301331486835775E-2,6.4000000000000001E-2,103,"Ohio",1.6248473732338901E-2,4.7E-2,106,"New JerseyOhio",4703,-5.2857754496874604E-5,-1.7000000000000001E-2,3]
[null,"New Jersey",1.6301331486835775E-2,6.4000000000000001E-2,103,"Oklahoma",2.4039706745178049E-2,5.5E-2,84,"New JerseyOklahoma",1523,7.7383752583422734E-3,-9.0000000000000011E-3,-19]
[null,"New Jersey",1.6301331486835775E-2,6.4000000000000001E-2,103,"Oregon",1.3084937125701024E-2,0.108,107,"New JerseyOregon",385,-3.2163943611347515E-3,4.3999999999999997E-2,4]
[null,"New Jersey",1.6301331486835775E-2,6.4000000000000001E-2,103,"Pennsylvania",1.8764502846390078E-2,0.03,96,"New JerseyPennsylvania",33791,2.4631713595543031E-3,-3.4000000000000002E-2,-7]
[null,"New Jersey",1.6301331486835775E-2,6.4000000000000001E-2,103,"Rhode Island",1.3082294237976182E-2,7.8E-2,118,"New JerseyRhode Island",1219,-3.2190372488595936E-3,1.3999999999999999E-2,15]
[null,"New Jersey",1.6301331486835775E-2,6.4000000000000001E-2,103,"South Carolina",3.0229349796761933E-2,7.0000000000000007E-2,88,"New JerseySouth Carolina",6517,1.3928018309926158E-2,6.0000000000000053E-3,-15]
[null,"New Jersey",1.6301331486835775E-2,6.4000000000000001E-2,103,"South Dakota",1.3431155417655547E-2,0,79,"New JerseySouth Dakota",0,-2.8701760691802278E-3,-6.4000000000000001E-2,-24]
[null,"New Jersey",1.6301331486835775E-2,6.4000000000000001E-2,103,"Tennessee",3.2145443397273599E-2,0,82,"New JerseyTennessee",783,1.5844111910437823E-2,-6.4000000000000001E-2,-21]
[null,"New Jersey",1.6301331486835775E-2,6.4000000000000001E-2,103,"Texas",2.1592392711972809E-2,0,83,"New JerseyTexas",6797,5.2910612251370337E-3,-6.4000000000000001E-2,-20]
[null,"New Jersey",1.6301331486835775E-2,6.4000000000000001E-2,103,"Utah",1.0307262126890326E-2,0.05,84,"New JerseyUtah",437,-5.9940693599454496E-3,-1.3999999999999999E-2,-19]
[null,"New Jersey",1.6301331486835775E-2,6.4000000000000001E-2,103,"Vermont",7.1490112957021358E-3,8.3000000000000004E-2,110,"New JerseyVermont",833,-9.1523201911336387E-3,1.9000000000000003E-2,7]
[null,"New Jersey",1.6301331486835775E-2,6.4000000000000001E-2,103,"Virginia",1.039712030953501E-2,5.8000000000000003E-2,87,"New JerseyVirginia",9073,-5.9042111773007656E-3,-5.9999999999999984E-3,-16]
[null,"New Jersey",1.6301331486835775E-2,6.4000000000000001E-2,103,"Washington",1.5569251587054078E-2,0,102,"New JerseyWashington",2300,-7.3207989978169713E-4,-6.4000000000000001E-2,-1]
[null,"New Jersey",1.6301331486835775E-2,6.4000000000000001E-2,103,"West Virginia",1.6695121757837481E-2,6.5000000000000002E-2,91,"New JerseyWest Virginia",1213,3.9379027100170522E-4,1.0000000000000009E-3,-12]
[null,"New Jersey",1.6301331486835775E-2,6.4000000000000001E-2,103,"Wisconsin",1.2522002040309323E-2,6.8000000000000005E-2,105,"New JerseyWisconsin",606,-3.7793294465264526E-3,4.0000000000000036E-3,2]
[null,"New Jersey",1.6301331486835775E-2,6.4000000000000001E-2,103,"Wyoming",1.159170556116435E-2,0,76,"New JerseyWyoming",121,-4.7096259256714252E-3,-6.4000000000000001E-2,-27]
[null,"New Jersey",1.6301331486835775E-2,6.4000000000000001E-2,103,"Puerto Rico",0,0,0,"New JerseyPuerto Rico",1922,-1.6301331486835775E-2,-6.4000000000000001E-2,-103]
[null,"New Mexico",2.9999418564700536E-2,4.9000000000000002E-2,105,"Alabama",2.2202899776411697E-2,0.05,83,"New MexicoAlabama",459,-7.7965187882888393E-3,1.0000000000000009E-3,-22]
[null,"New Mexico",2.9999418564700536E-2,4.9000000000000002E-2,105,"Alaska",3.2055585214628916E-2,0,117,"New MexicoAlaska",263,2.0561666499283801E-3,-4.9000000000000002E-2,12]
[null,"New Mexico",2.9999418564700536E-2,4.9000000000000002E-2,105,"Arizona",2.1452319662556094E-2,4.4999999999999998E-2,87,"New MexicoArizona",6946,-8.547098902144442E-3,-4.0000000000000036E-3,-18]
[null,"New Mexico",2.9999418564700536E-2,4.9000000000000002E-2,105,"Arkansas",2.5419294137546445E-2,7.0000000000000007E-2,79,"New MexicoArkansas",547,-4.5801244271540913E-3,2.1000000000000005E-2,-26]
[null,"New Mexico",2.9999418564700536E-2,4.9000000000000002E-2,105,"California",2.1729822873664682E-2,9.6000000000000002E-2,92,"New MexicoCalifornia",5921,-8.2695956910358547E-3,4.7E-2,-13]
[null,"New Mexico",2.9999418564700536E-2,4.9000000000000002E-2,105,"Colorado",1.6922410102174039E-2,4.5999999999999999E-2,106,"New MexicoColorado",6520,-1.3077008462526497E-2,-3.0000000000000027E-3,1]
[null,"New Mexico",2.9999418564700536E-2,4.9000000000000002E-2,105,"Connecticut",1.4419595426747081E-2,0.05,105,"New MexicoConnecticut",444,-1.5579823137953456E-2,1.0000000000000009E-3,0]
[null,"New Mexico",2.9999418564700536E-2,4.9000000000000002E-2,105,"Delaware",2.9571270753275862E-2,7.0000000000000007E-2,100,"New MexicoDelaware",85,-4.2814781142467423E-4,2.1000000000000005E-2,-5]
[null,"New Mexico",2.9999418564700536E-2,4.9000000000000002E-2,105,"District of Columbia ",6.3540306680691577E-2,8.5000000000000006E-2,148,"New MexicoDistrict of Columbia ",116,3.3540888115991041E-2,3.6000000000000004E-2,43]
[null,"New Mexico",2.9999418564700536E-2,4.9000000000000002E-2,105,"Florida",2.7237600892238891E-2,0,89,"New MexicoFlorida",2853,-2.7618176724616451E-3,-4.9000000000000002E-2,-16]
[null,"New Mexico",2.9999418564700536E-2,4.9000000000000002E-2,105,"Georgia",1.9726513978233176E-2,0.06,95,"New MexicoGeorgia",915,-1.027290458646736E-2,1.0999999999999996E-2,-10]
[null,"New Mexico",2.9999418564700536E-2,4.9000000000000002E-2,105,"Hawaii",1.5418606986737988E-2,8.3000000000000004E-2,149,"New MexicoHawaii",284,-1.4580811577962548E-2,3.4000000000000002E-2,44]
[null,"New Mexico",2.9999418564700536E-2,4.9000000000000002E-2,105,"Idaho",1.0619122878421879E-2,7.8E-2,98,"New MexicoIdaho",675,-1.9380295686278658E-2,2.8999999999999998E-2,-7]
[null,"New Mexico",2.9999418564700536E-2,4.9000000000000002E-2,105,"Illinois",2.2681262454608404E-2,0.03,91,"New MexicoIllinois",1359,-7.3181561100921326E-3,-1.9000000000000003E-2,-14]
[null,"New Mexico",2.9999418564700536E-2,4.9000000000000002E-2,105,"Indiana",1.754084582978746E-2,3.4000000000000002E-2,88,"New MexicoIndiana",219,-1.2458572734913076E-2,-1.4999999999999999E-2,-17]
[null,"New Mexico",2.9999418564700536E-2,4.9000000000000002E-2,105,"Iowa",1.3507799161676014E-2,0.09,90,"New MexicoIowa",114,-1.6491619403024523E-2,4.0999999999999995E-2,-15]
[null,"New Mexico",2.9999418564700536E-2,4.9000000000000002E-2,105,"Kansas",1.8706359316443516E-2,6.5000000000000002E-2,84,"New MexicoKansas",1029,-1.129305924825702E-2,1.6E-2,-21]
[null,"New Mexico",2.9999418564700536E-2,4.9000000000000002E-2,105,"Kentucky",1.6652835554239985E-2,5.8000000000000003E-2,92,"New MexicoKentucky",554,-1.3346583010460551E-2,9.0000000000000011E-3,-13]
[null,"New Mexico",2.9999418564700536E-2,4.9000000000000002E-2,105,"Louisiana",2.935191107211383E-2,0.06,88,"New MexicoLouisiana",150,-6.4750749258670609E-4,1.0999999999999996E-2,-17]
[null,"New Mexico",2.9999418564700536E-2,4.9000000000000002E-2,105,"Maine",6.5120753540148114E-3,6.9000000000000006E-2,104,"New MexicoMaine",272,-2.3487343210685727E-2,2.0000000000000004E-2,-1]
[null,"New Mexico",2.9999418564700536E-2,4.9000000000000002E-2,105,"Maryland",2.611701649690518E-2,0.05,103,"New MexicoMaryland",638,{"$f":"G1663-C1663","v":-3.8824020677953562E-3},{"$f":"H1663-D1663","v":1.0000000000000009E-3},{"$f":"I1663-E1663","v":-2}]
[null,"New Mexico",2.9999418564700536E-2,4.9000000000000002E-2,105,"Massachusetts",2.2641619138735747E-2,5.2999999999999999E-2,126,"New MexicoMassachusetts",521,-7.3577994259647894E-3,3.9999999999999966E-3,21]
[null,"New Mexico",2.9999418564700536E-2,4.9000000000000002E-2,105,"Michigan",2.3537558077457752E-2,4.3999999999999997E-2,82,"New MexicoMichigan",1318,-6.4618604872427841E-3,-5.0000000000000044E-3,-23]
[null,"New Mexico",2.9999418564700536E-2,4.9000000000000002E-2,105,"Minnesota",1.1694778182433254E-2,7.9000000000000001E-2,121,"New MexicoMinnesota",322,-1.8304640382267284E-2,0.03,16]
[null,"New Mexico",2.9999418564700536E-2,4.9000000000000002E-2,105,"Mississippi",1.426102216325646E-2,0.05,76,"New MexicoMississippi",86,-1.5738396401444074E-2,1.0000000000000009E-3,-29]
[null,"New Mexico",2.9999418564700536E-2,4.9000000000000002E-2,105,"Missouri",2.3569272730155875E-2,0.06,81,"New MexicoMissouri",451,-6.4301458345446608E-3,1.0999999999999996E-2,-24]
[null,"New Mexico",2.9999418564700536E-2,4.9000000000000002E-2,105,"Montana",1.4139449327913651E-2,6.9000000000000006E-2,93,"New MexicoMontana",259,-1.5859969236786883E-2,2.0000000000000004E-2,-12]
[null,"New Mexico",2.9999418564700536E-2,4.9000000000000002E-2,105,"Nebraska",1.3380940550883517E-2,6.8000000000000005E-2,77,"New MexicoNebraska",158,-1.6618478013817019E-2,1.9000000000000003E-2,-28]
[null,"New Mexico",2.9999418564700536E-2,4.9000000000000002E-2,105,"Nevada",2.9713986690417422E-2,0,99,"New MexicoNevada",1138,-2.8543187428311384E-4,-4.9000000000000002E-2,-6]
[null,"New Mexico",2.9999418564700536E-2,4.9000000000000002E-2,105,"New Hampshire",9.9372578454122104E-3,0,120,"New MexicoNew Hampshire",223,-2.0062160719288326E-2,-4.9000000000000002E-2,15]
[null,"New Mexico",2.9999418564700536E-2,4.9000000000000002E-2,105,"New Jersey",1.6301331486835775E-2,6.4000000000000001E-2,103,"New MexicoNew Jersey",45,-1.3698087077864761E-2,1.4999999999999999E-2,-2]
[null,"New Mexico",2.9999418564700536E-2,4.9000000000000002E-2,105,"New York",2.1042672065205326E-2,7.9000000000000001E-2,114,"New MexicoNew York",646,-8.9567464994952106E-3,0.03,9]
[null,"New Mexico",2.9999418564700536E-2,4.9000000000000002E-2,105,"North Carolina",1.8489642523006337E-2,7.0000000000000007E-2,81,"New MexicoNorth Carolina",1138,-1.15097760416942E-2,2.1000000000000005E-2,-24]
[null,"New Mexico",2.9999418564700536E-2,4.9000000000000002E-2,105,"North Dakota",1.3055865360727744E-2,3.7999999999999999E-2,89,"New MexicoNorth Dakota",161,-1.694355320397279E-2,-1.1000000000000003E-2,-16]
[null,"New Mexico",2.9999418564700536E-2,4.9000000000000002E-2,105,"Ohio",1.6248473732338901E-2,4.7E-2,106,"New MexicoOhio",1361,-1.3750944832361636E-2,-2.0000000000000018E-3,1]
[null,"New Mexico",2.9999418564700536E-2,4.9000000000000002E-2,105,"Oklahoma",2.4039706745178049E-2,5.5E-2,84,"New MexicoOklahoma",1244,-5.9597118195224875E-3,5.9999999999999984E-3,-21]
[null,"New Mexico",2.9999418564700536E-2,4.9000000000000002E-2,105,"Oregon",1.3084937125701024E-2,0.108,107,"New MexicoOregon",920,-1.6914481438999512E-2,5.8999999999999997E-2,2]
[null,"New Mexico",2.9999418564700536E-2,4.9000000000000002E-2,105,"Pennsylvania",1.8764502846390078E-2,0.03,96,"New MexicoPennsylvania",1001,-1.1234915718310458E-2,-1.9000000000000003E-2,-9]
[null,"New Mexico",2.9999418564700536E-2,4.9000000000000002E-2,105,"Rhode Island",1.3082294237976182E-2,7.8E-2,118,"New MexicoRhode Island",36,-1.6917124326724355E-2,2.8999999999999998E-2,13]
[null,"New Mexico",2.9999418564700536E-2,4.9000000000000002E-2,105,"South Carolina",3.0229349796761933E-2,7.0000000000000007E-2,88,"New MexicoSouth Carolina",1052,2.2993123206139707E-4,2.1000000000000005E-2,-17]
[null,"New Mexico",2.9999418564700536E-2,4.9000000000000002E-2,105,"South Dakota",1.3431155417655547E-2,0,79,"New MexicoSouth Dakota",175,-1.6568263147044987E-2,-4.9000000000000002E-2,-26]
[null,"New Mexico",2.9999418564700536E-2,4.9000000000000002E-2,105,"Tennessee",3.2145443397273599E-2,0,82,"New MexicoTennessee",751,2.1460248325730624E-3,-4.9000000000000002E-2,-23]
[null,"New Mexico",2.9999418564700536E-2,4.9000000000000002E-2,105,"Texas",2.1592392711972809E-2,0,83,"New MexicoTexas",16762,-8.4070258527277272E-3,-4.9000000000000002E-2,-22]
[null,"New Mexico",2.9999418564700536E-2,4.9000000000000002E-2,105,"Utah",1.0307262126890326E-2,0.05,84,"New MexicoUtah",686,-1.9692156437810211E-2,1.0000000000000009E-3,-21]
[null,"New Mexico",2.9999418564700536E-2,4.9000000000000002E-2,105,"Vermont",7.1490112957021358E-3,8.3000000000000004E-2,110,"New MexicoVermont",74,-2.28504072689984E-2,3.4000000000000002E-2,5]
[null,"New Mexico",2.9999418564700536E-2,4.9000000000000002E-2,105,"Virginia",1.039712030953501E-2,5.8000000000000003E-2,87,"New MexicoVirginia",947,-1.9602298255165525E-2,9.0000000000000011E-3,-18]
[null,"New Mexico",2.9999418564700536E-2,4.9000000000000002E-2,105,"Washington",1.5569251587054078E-2,0,102,"New MexicoWashington",872,-1.4430166977646458E-2,-4.9000000000000002E-2,-3]
[null,"New Mexico",2.9999418564700536E-2,4.9000000000000002E-2,105,"West Virginia",1.6695121757837481E-2,6.5000000000000002E-2,91,"New MexicoWest Virginia",81,-1.3304296806863056E-2,1.6E-2,-14]
[null,"New Mexico",2.9999418564700536E-2,4.9000000000000002E-2,105,"Wisconsin",1.2522002040309323E-2,6.8000000000000005E-2,105,"New MexicoWisconsin",526,-1.7477416524391214E-2,1.9000000000000003E-2,0]
[null,"New Mexico",2.9999418564700536E-2,4.9000000000000002E-2,105,"Wyoming",1.159170556116435E-2,0,76,"New MexicoWyoming",604,-1.8407713003536184E-2,-4.9000000000000002E-2,-29]
[null,"New Mexico",2.9999418564700536E-2,4.9000000000000002E-2,105,"Puerto Rico",0,0,0,"New MexicoPuerto Rico",28,-2.9999418564700536E-2,-4.9000000000000002E-2,-105]
[null,"New York",2.1042672065205326E-2,7.9000000000000001E-2,114,"Alabama",2.2202899776411697E-2,0.05,83,"New YorkAlabama",2709,1.1602277112063714E-3,-2.8999999999999998E-2,-31]
[null,"New York",2.1042672065205326E-2,7.9000000000000001E-2,114,"Alaska",3.2055585214628916E-2,0,117,"New YorkAlaska",736,1.1012913149423591E-2,-7.9000000000000001E-2,3]
[null,"New York",2.1042672065205326E-2,7.9000000000000001E-2,114,"Arizona",2.1452319662556094E-2,4.4999999999999998E-2,87,"New YorkArizona",7402,4.0964759735076864E-4,-3.4000000000000002E-2,-27]
[null,"New York",2.1042672065205326E-2,7.9000000000000001E-2,114,"Arkansas",2.5419294137546445E-2,7.0000000000000007E-2,79,"New YorkArkansas",2262,4.3766220723411194E-3,-8.9999999999999941E-3,-35]
[null,"New York",2.1042672065205326E-2,7.9000000000000001E-2,114,"California",2.1729822873664682E-2,9.6000000000000002E-2,92,"New YorkCalifornia",31261,6.8715080845935597E-4,1.7000000000000001E-2,-22]
[null,"New York",2.1042672065205326E-2,7.9000000000000001E-2,114,"Colorado",1.6922410102174039E-2,4.5999999999999999E-2,106,"New YorkColorado",7250,-4.1202619630312867E-3,-3.3000000000000002E-2,-8]
[null,"New York",2.1042672065205326E-2,7.9000000000000001E-2,114,"Connecticut",1.4419595426747081E-2,0.05,105,"New YorkConnecticut",23310,-6.6230766384582449E-3,-2.8999999999999998E-2,-9]
[null,"New York",2.1042672065205326E-2,7.9000000000000001E-2,114,"Delaware",2.9571270753275862E-2,7.0000000000000007E-2,100,"New YorkDelaware",3566,8.5285986880705364E-3,-8.9999999999999941E-3,-14]
[null,"New York",2.1042672065205326E-2,7.9000000000000001E-2,114,"District of Columbia ",6.3540306680691577E-2,8.5000000000000006E-2,148,"New YorkDistrict of Columbia ",3085,4.2497634615486252E-2,6.0000000000000053E-3,34]
[null,"New York",2.1042672065205326E-2,7.9000000000000001E-2,114,"Florida",2.7237600892238891E-2,0,89,"New YorkFlorida",53009,6.1949288270335655E-3,-7.9000000000000001E-2,-25]
[null,"New York",2.1042672065205326E-2,7.9000000000000001E-2,114,"Georgia",1.9726513978233176E-2,0.06,95,"New YorkGeorgia",13957,-1.3161580869721495E-3,-1.9000000000000003E-2,-19]
[null,"New York",2.1042672065205326E-2,7.9000000000000001E-2,114,"Hawaii",1.5418606986737988E-2,8.3000000000000004E-2,149,"New YorkHawaii",2382,-5.6240650784673378E-3,4.0000000000000036E-3,35]
[null,"New York",2.1042672065205326E-2,7.9000000000000001E-2,114,"Idaho",1.0619122878421879E-2,7.8E-2,98,"New YorkIdaho",938,-1.0423549186783447E-2,-1.0000000000000009E-3,-16]
[null,"New York",2.1042672065205326E-2,7.9000000000000001E-2,114,"Illinois",2.2681262454608404E-2,0.03,91,"New YorkIllinois",7561,1.638590389403078E-3,-4.9000000000000002E-2,-23]
[null,"New York",2.1042672065205326E-2,7.9000000000000001E-2,114,"Indiana",1.754084582978746E-2,3.4000000000000002E-2,88,"New YorkIndiana",2316,-3.5018262354178653E-3,-4.4999999999999998E-2,-26]
[null,"New York",2.1042672065205326E-2,7.9000000000000001E-2,114,"Iowa",1.3507799161676014E-2,0.09,90,"New YorkIowa",1230,-7.5348729035293119E-3,1.0999999999999996E-2,-24]
[null,"New York",2.1042672065205326E-2,7.9000000000000001E-2,114,"Kansas",1.8706359316443516E-2,6.5000000000000002E-2,84,"New YorkKansas",571,-2.3363127487618096E-3,-1.3999999999999999E-2,-30]
[null,"New York",2.1042672065205326E-2,7.9000000000000001E-2,114,"Kentucky",1.6652835554239985E-2,5.8000000000000003E-2,92,"New YorkKentucky",5239,-4.3898365109653406E-3,-2.0999999999999998E-2,-22]
[null,"New York",2.1042672065205326E-2,7.9000000000000001E-2,114,"Louisiana",2.935191107211383E-2,0.06,88,"New YorkLouisiana",2786,8.3092390069085045E-3,-1.9000000000000003E-2,-26]
[null,"New York",2.1042672065205326E-2,7.9000000000000001E-2,114,"Maine",6.5120753540148114E-3,6.9000000000000006E-2,104,"New YorkMaine",2519,-1.4530596711190514E-2,-9.999999999999995E-3,-10]
[null,"New York",2.1042672065205326E-2,7.9000000000000001E-2,114,"Maryland",2.611701649690518E-2,0.05,103,"New YorkMaryland",11736,5.0743444316998544E-3,-2.8999999999999998E-2,-11]
[null,"New York",2.1042672065205326E-2,7.9000000000000001E-2,114,"Massachusetts",2.2641619138735747E-2,5.2999999999999999E-2,126,"New YorkMassachusetts",19467,1.5989470735304212E-3,-2.6000000000000002E-2,12]
[null,"New York",2.1042672065205326E-2,7.9000000000000001E-2,114,"Michigan",2.3537558077457752E-2,4.3999999999999997E-2,82,"New YorkMichigan",5731,2.4948860122524265E-3,-3.5000000000000003E-2,-32]
[null,"New York",2.1042672065205326E-2,7.9000000000000001E-2,114,"Minnesota",1.1694778182433254E-2,7.9000000000000001E-2,121,"New YorkMinnesota",1849,-9.3478938827720719E-3,0,7]
[null,"New York",2.1042672065205326E-2,7.9000000000000001E-2,114,"Mississippi",1.426102216325646E-2,0.05,76,"New YorkMississippi",1492,-6.7816499019488653E-3,-2.8999999999999998E-2,-38]
[null,"New York",2.1042672065205326E-2,7.9000000000000001E-2,114,"Missouri",2.3569272730155875E-2,0.06,81,"New YorkMissouri",2834,2.5266006649505499E-3,-1.9000000000000003E-2,-33]
[null,"New York",2.1042672065205326E-2,7.9000000000000001E-2,114,"Montana",1.4139449327913651E-2,6.9000000000000006E-2,93,"New YorkMontana",482,-6.9032227372916744E-3,-9.999999999999995E-3,-21]
[null,"New York",2.1042672065205326E-2,7.9000000000000001E-2,114,"Nebraska",1.3380940550883517E-2,6.8000000000000005E-2,77,"New YorkNebraska",318,-7.6617315143218089E-3,-1.0999999999999996E-2,-37]
[null,"New York",2.1042672065205326E-2,7.9000000000000001E-2,114,"Nevada",2.9713986690417422E-2,0,99,"New YorkNevada",3521,8.6713146252120968E-3,-7.9000000000000001E-2,-15]
[null,"New York",2.1042672065205326E-2,7.9000000000000001E-2,114,"New Hampshire",9.9372578454122104E-3,0,120,"New YorkNew Hampshire",2905,-1.1105414219793115E-2,-7.9000000000000001E-2,6]
[null,"New York",2.1042672065205326E-2,7.9000000000000001E-2,114,"New Jersey",1.6301331486835775E-2,6.4000000000000001E-2,103,"New YorkNew Jersey",40495,-4.7413405783695503E-3,-1.4999999999999999E-2,-11]
[null,"New York",2.1042672065205326E-2,7.9000000000000001E-2,114,"New Mexico",2.9999418564700536E-2,4.9000000000000002E-2,105,"New YorkNew Mexico",1111,8.9567464994952106E-3,-0.03,-9]
[null,"New York",2.1042672065205326E-2,7.9000000000000001E-2,114,"North Carolina",1.8489642523006337E-2,7.0000000000000007E-2,81,"New YorkNorth Carolina",19891,-2.5530295421989889E-3,-8.9999999999999941E-3,-33]
[null,"New York",2.1042672065205326E-2,7.9000000000000001E-2,114,"North Dakota",1.3055865360727744E-2,3.7999999999999999E-2,89,"New YorkNorth Dakota",331,{"$f":"G1727-C1727","v":-7.9868067044775812E-3},{"$f":"H1727-D1727","v":-4.1000000000000002E-2},{"$f":"I1727-E1727","v":-25}]
[null,"New York",2.1042672065205326E-2,7.9000000000000001E-2,114,"Ohio",1.6248473732338901E-2,4.7E-2,106,"New YorkOhio",8732,-4.7941983328664249E-3,-3.2000000000000001E-2,-8]
[null,"New York",2.1042672065205326E-2,7.9000000000000001E-2,114,"Oklahoma",2.4039706745178049E-2,5.5E-2,84,"New YorkOklahoma",1981,2.9970346799727231E-3,-2.4E-2,-30]
[null,"New York",2.1042672065205326E-2,7.9000000000000001E-2,114,"Oregon",1.3084937125701024E-2,0.108,107,"New YorkOregon",2379,-7.9577349395043018E-3,2.8999999999999998E-2,-7]
[null,"New York",2.1042672065205326E-2,7.9000000000000001E-2,114,"Pennsylvania",1.8764502846390078E-2,0.03,96,"New YorkPennsylvania",32898,-2.2781692188152472E-3,-4.9000000000000002E-2,-18]
[null,"New York",2.1042672065205326E-2,7.9000000000000001E-2,114,"Rhode Island",1.3082294237976182E-2,7.8E-2,118,"New YorkRhode Island",3603,-7.9603778272291439E-3,-1.0000000000000009E-3,4]
[null,"New York",2.1042672065205326E-2,7.9000000000000001E-2,114,"South Carolina",3.0229349796761933E-2,7.0000000000000007E-2,88,"New YorkSouth Carolina",10746,9.1866777315566077E-3,-8.9999999999999941E-3,-26]
[null,"New York",2.1042672065205326E-2,7.9000000000000001E-2,114,"South Dakota",1.3431155417655547E-2,0,79,"New YorkSouth Dakota",371,-7.6115166475497782E-3,-7.9000000000000001E-2,-35]
[null,"New York",2.1042672065205326E-2,7.9000000000000001E-2,114,"Tennessee",3.2145443397273599E-2,0,82,"New YorkTennessee",6279,1.1102771332068273E-2,-7.9000000000000001E-2,-32]
[null,"New York",2.1042672065205326E-2,7.9000000000000001E-2,114,"Texas",2.1592392711972809E-2,0,83,"New YorkTexas",20274,5.4972064676748339E-4,-7.9000000000000001E-2,-31]
[null,"New York",2.1042672065205326E-2,7.9000000000000001E-2,114,"Utah",1.0307262126890326E-2,0.05,84,"New YorkUtah",2129,-1.0735409938315E-2,-2.8999999999999998E-2,-30]
[null,"New York",2.1042672065205326E-2,7.9000000000000001E-2,114,"Vermont",7.1490112957021358E-3,8.3000000000000004E-2,110,"New YorkVermont",4780,-1.3893660769503189E-2,4.0000000000000036E-3,-4]
[null,"New York",2.1042672065205326E-2,7.9000000000000001E-2,114,"Virginia",1.039712030953501E-2,5.8000000000000003E-2,87,"New YorkVirginia",15893,-1.0645551755670316E-2,-2.0999999999999998E-2,-27]
[null,"New York",2.1042672065205326E-2,7.9000000000000001E-2,114,"Washington",1.5569251587054078E-2,0,102,"New YorkWashington",5562,-5.4734204781512474E-3,-7.9000000000000001E-2,-12]
[null,"New York",2.1042672065205326E-2,7.9000000000000001E-2,114,"West Virginia",1.6695121757837481E-2,6.5000000000000002E-2,91,"New YorkWest Virginia",1721,-4.3475503073678451E-3,-1.3999999999999999E-2,-23]
[null,"New York",2.1042672065205326E-2,7.9000000000000001E-2,114,"Wisconsin",1.2522002040309323E-2,6.8000000000000005E-2,105,"New YorkWisconsin",2033,-8.5206700248960029E-3,-1.0999999999999996E-2,-9]
[null,"New York",2.1042672065205326E-2,7.9000000000000001E-2,114,"Wyoming",1.159170556116435E-2,0,76,"New YorkWyoming",231,-9.4509665040409755E-3,-7.9000000000000001E-2,-38]
[null,"New York",2.1042672065205326E-2,7.9000000000000001E-2,114,"Puerto Rico",0,0,0,"New YorkPuerto Rico",2314,-2.1042672065205326E-2,-7.9000000000000001E-2,-114]
[null,"North Carolina",1.8489642523006337E-2,7.0000000000000007E-2,81,"Alabama",2.2202899776411697E-2,0.05,83,"North CarolinaAlabama",5133,3.7132572534053603E-3,-2.0000000000000004E-2,2]
[null,"North Carolina",1.8489642523006337E-2,7.0000000000000007E-2,81,"Alaska",3.2055585214628916E-2,0,117,"North CarolinaAlaska",920,1.356594269162258E-2,-7.0000000000000007E-2,36]
[null,"North Carolina",1.8489642523006337E-2,7.0000000000000007E-2,81,"Arizona",2.1452319662556094E-2,4.4999999999999998E-2,87,"North CarolinaArizona",2721,2.9626771395497575E-3,-2.5000000000000008E-2,6]
[null,"North Carolina",1.8489642523006337E-2,7.0000000000000007E-2,81,"Arkansas",2.5419294137546445E-2,7.0000000000000007E-2,79,"North CarolinaArkansas",3057,6.9296516145401083E-3,0,-2]
[null,"North Carolina",1.8489642523006337E-2,7.0000000000000007E-2,81,"California",2.1729822873664682E-2,9.6000000000000002E-2,92,"North CarolinaCalifornia",11195,3.2401803506583449E-3,2.5999999999999995E-2,11]
[null,"North Carolina",1.8489642523006337E-2,7.0000000000000007E-2,81,"Colorado",1.6922410102174039E-2,4.5999999999999999E-2,106,"North CarolinaColorado",4378,-1.5672324208322978E-3,-2.4000000000000007E-2,25]
[null,"North Carolina",1.8489642523006337E-2,7.0000000000000007E-2,81,"Connecticut",1.4419595426747081E-2,0.05,105,"North CarolinaConnecticut",3379,-4.070047096259256E-3,-2.0000000000000004E-2,24]
[null,"North Carolina",1.8489642523006337E-2,7.0000000000000007E-2,81,"Delaware",2.9571270753275862E-2,7.0000000000000007E-2,100,"North CarolinaDelaware",1349,1.1081628230269525E-2,0,19]
[null,"North Carolina",1.8489642523006337E-2,7.0000000000000007E-2,81,"District of Columbia ",6.3540306680691577E-2,8.5000000000000006E-2,148,"North CarolinaDistrict of Columbia ",985,4.5050664157685244E-2,1.4999999999999999E-2,67]
[null,"North Carolina",1.8489642523006337E-2,7.0000000000000007E-2,81,"Florida",2.7237600892238891E-2,0,89,"North CarolinaFlorida",23133,8.7479583692325544E-3,-7.0000000000000007E-2,8]
[null,"North Carolina",1.8489642523006337E-2,7.0000000000000007E-2,81,"Georgia",1.9726513978233176E-2,0.06,95,"North CarolinaGeorgia",16009,1.2368714552268394E-3,-1.0000000000000009E-2,14]
[null,"North Carolina",1.8489642523006337E-2,7.0000000000000007E-2,81,"Hawaii",1.5418606986737988E-2,8.3000000000000004E-2,149,"North CarolinaHawaii",2241,-3.0710355362683489E-3,1.2999999999999998E-2,68]
[null,"North Carolina",1.8489642523006337E-2,7.0000000000000007E-2,81,"Idaho",1.0619122878421879E-2,7.8E-2,98,"North CarolinaIdaho",817,-7.8705196445844582E-3,7.9999999999999932E-3,17]
[null,"North Carolina",1.8489642523006337E-2,7.0000000000000007E-2,81,"Illinois",2.2681262454608404E-2,0.03,91,"North CarolinaIllinois",3761,4.1916199316020669E-3,-4.0000000000000008E-2,10]
[null,"North Carolina",1.8489642523006337E-2,7.0000000000000007E-2,81,"Indiana",1.754084582978746E-2,3.4000000000000002E-2,88,"North CarolinaIndiana",2665,-9.4879669321887641E-4,-3.6000000000000004E-2,7]
[null,"North Carolina",1.8489642523006337E-2,7.0000000000000007E-2,81,"Iowa",1.3507799161676014E-2,0.09,90,"North CarolinaIowa",734,-4.981843361330323E-3,1.999999999999999E-2,9]
[null,"North Carolina",1.8489642523006337E-2,7.0000000000000007E-2,81,"Kansas",1.8706359316443516E-2,6.5000000000000002E-2,84,"North CarolinaKansas",813,2.1671679343717928E-4,-5.0000000000000044E-3,3]
[null,"North Carolina",1.8489642523006337E-2,7.0000000000000007E-2,81,"Kentucky",1.6652835554239985E-2,5.8000000000000003E-2,92,"North CarolinaKentucky",3643,-1.8368069687663517E-3,-1.2000000000000004E-2,11]
[null,"North Carolina",1.8489642523006337E-2,7.0000000000000007E-2,81,"Louisiana",2.935191107211383E-2,0.06,88,"North CarolinaLouisiana",2284,1.0862268549107493E-2,-1.0000000000000009E-2,7]
[null,"North Carolina",1.8489642523006337E-2,7.0000000000000007E-2,81,"Maine",6.5120753540148114E-3,6.9000000000000006E-2,104,"North CarolinaMaine",1112,-1.1977567168991525E-2,-1.0000000000000009E-3,23]
[null,"North Carolina",1.8489642523006337E-2,7.0000000000000007E-2,81,"Maryland",2.611701649690518E-2,0.05,103,"North CarolinaMaryland",7507,7.6273739738988433E-3,-2.0000000000000004E-2,22]
[null,"North Carolina",1.8489642523006337E-2,7.0000000000000007E-2,81,"Massachusetts",2.2641619138735747E-2,5.2999999999999999E-2,126,"North CarolinaMassachusetts",2514,4.1519766157294101E-3,-1.7000000000000008E-2,45]
[null,"North Carolina",1.8489642523006337E-2,7.0000000000000007E-2,81,"Michigan",2.3537558077457752E-2,4.3999999999999997E-2,82,"North CarolinaMichigan",3912,5.0479155544514154E-3,-2.6000000000000009E-2,1]
[null,"North Carolina",1.8489642523006337E-2,7.0000000000000007E-2,81,"Minnesota",1.1694778182433254E-2,7.9000000000000001E-2,121,"North CarolinaMinnesota",1745,-6.794864340573083E-3,8.9999999999999941E-3,40]
[null,"North Carolina",1.8489642523006337E-2,7.0000000000000007E-2,81,"Mississippi",1.426102216325646E-2,0.05,76,"North CarolinaMississippi",1709,-4.2286203597498764E-3,-2.0000000000000004E-2,-5]
[null,"North Carolina",1.8489642523006337E-2,7.0000000000000007E-2,81,"Missouri",2.3569272730155875E-2,0.06,81,"North CarolinaMissouri",3988,5.0796302071495388E-3,-1.0000000000000009E-2,0]
[null,"North Carolina",1.8489642523006337E-2,7.0000000000000007E-2,81,"Montana",1.4139449327913651E-2,6.9000000000000006E-2,93,"North CarolinaMontana",1082,-4.3501931950926855E-3,-1.0000000000000009E-3,12]
[null,"North Carolina",1.8489642523006337E-2,7.0000000000000007E-2,81,"Nebraska",1.3380940550883517E-2,6.8000000000000005E-2,77,"North CarolinaNebraska",874,-5.10870197212282E-3,-2.0000000000000018E-3,-4]
[null,"North Carolina",1.8489642523006337E-2,7.0000000000000007E-2,81,"Nevada",2.9713986690417422E-2,0,99,"North CarolinaNevada",767,1.1224344167411086E-2,-7.0000000000000007E-2,18]
[null,"North Carolina",1.8489642523006337E-2,7.0000000000000007E-2,81,"New Hampshire",9.9372578454122104E-3,0,120,"North CarolinaNew Hampshire",1609,-8.5523846775941263E-3,-7.0000000000000007E-2,39]
[null,"North Carolina",1.8489642523006337E-2,7.0000000000000007E-2,81,"New Jersey",1.6301331486835775E-2,6.4000000000000001E-2,103,"North CarolinaNew Jersey",3236,-2.1883110361705614E-3,-6.0000000000000053E-3,22]
[null,"North Carolina",1.8489642523006337E-2,7.0000000000000007E-2,81,"New Mexico",2.9999418564700536E-2,4.9000000000000002E-2,105,"North CarolinaNew Mexico",335,1.15097760416942E-2,-2.1000000000000005E-2,24]
[null,"North Carolina",1.8489642523006337E-2,7.0000000000000007E-2,81,"New York",2.1042672065205326E-2,7.9000000000000001E-2,114,"North CarolinaNew York",10544,2.5530295421989889E-3,8.9999999999999941E-3,33]
[null,"North Carolina",1.8489642523006337E-2,7.0000000000000007E-2,81,"North Dakota",1.3055865360727744E-2,3.7999999999999999E-2,89,"North CarolinaNorth Dakota",231,-5.4337771622785924E-3,-3.2000000000000008E-2,8]
[null,"North Carolina",1.8489642523006337E-2,7.0000000000000007E-2,81,"Ohio",1.6248473732338901E-2,4.7E-2,106,"North CarolinaOhio",5498,-2.241168790667436E-3,-2.3000000000000007E-2,25]
[null,"North Carolina",1.8489642523006337E-2,7.0000000000000007E-2,81,"Oklahoma",2.4039706745178049E-2,5.5E-2,84,"North CarolinaOklahoma",1961,5.550064222171712E-3,-1.5000000000000006E-2,3]
[null,"North Carolina",1.8489642523006337E-2,7.0000000000000007E-2,81,"Oregon",1.3084937125701024E-2,0.108,107,"North CarolinaOregon",1482,-5.4047053973053129E-3,3.7999999999999992E-2,26]
[null,"North Carolina",1.8489642523006337E-2,7.0000000000000007E-2,81,"Pennsylvania",1.8764502846390078E-2,0.03,96,"North CarolinaPennsylvania",6380,2.7486032338374169E-4,-4.0000000000000008E-2,15]
[null,"North Carolina",1.8489642523006337E-2,7.0000000000000007E-2,81,"Rhode Island",1.3082294237976182E-2,7.8E-2,118,"North CarolinaRhode Island",478,-5.407348285030155E-3,7.9999999999999932E-3,37]
[null,"North Carolina",1.8489642523006337E-2,7.0000000000000007E-2,81,"South Carolina",3.0229349796761933E-2,7.0000000000000007E-2,88,"North CarolinaSouth Carolina",24764,1.1739707273755597E-2,0,7]
[null,"North Carolina",1.8489642523006337E-2,7.0000000000000007E-2,81,"South Dakota",1.3431155417655547E-2,0,79,"North CarolinaSouth Dakota",240,-5.0584871053507893E-3,-7.0000000000000007E-2,-2]
[null,"North Carolina",1.8489642523006337E-2,7.0000000000000007E-2,81,"Tennessee",3.2145443397273599E-2,0,82,"North CarolinaTennessee",5904,1.3655800874267262E-2,-7.0000000000000007E-2,1]
[null,"North Carolina",1.8489642523006337E-2,7.0000000000000007E-2,81,"Texas",2.1592392711972809E-2,0,83,"North CarolinaTexas",22660,3.1027501889664723E-3,-7.0000000000000007E-2,2]
[null,"North Carolina",1.8489642523006337E-2,7.0000000000000007E-2,81,"Utah",1.0307262126890326E-2,0.05,84,"North CarolinaUtah",842,-8.182380396116011E-3,-2.0000000000000004E-2,3]
[null,"North Carolina",1.8489642523006337E-2,7.0000000000000007E-2,81,"Vermont",7.1490112957021358E-3,8.3000000000000004E-2,110,"North CarolinaVermont",328,-1.13406312273042E-2,1.2999999999999998E-2,29]
[null,"North Carolina",1.8489642523006337E-2,7.0000000000000007E-2,81,"Virginia",1.039712030953501E-2,5.8000000000000003E-2,87,"North CarolinaVirginia",25575,-8.092522213471327E-3,-1.2000000000000004E-2,6]
[null,"North Carolina",1.8489642523006337E-2,7.0000000000000007E-2,81,"Washington",1.5569251587054078E-2,0,102,"North CarolinaWashington",4088,{"$f":"G1791-C1791","v":-2.9203909359522585E-3},{"$f":"H1791-D1791","v":-7.0000000000000007E-2},{"$f":"I1791-E1791","v":21}]
[null,"North Carolina",1.8489642523006337E-2,7.0000000000000007E-2,81,"West Virginia",1.6695121757837481E-2,6.5000000000000002E-2,91,"North CarolinaWest Virginia",4683,-1.7945207651688562E-3,-5.0000000000000044E-3,10]
[null,"North Carolina",1.8489642523006337E-2,7.0000000000000007E-2,81,"Wisconsin",1.2522002040309323E-2,6.8000000000000005E-2,105,"North CarolinaWisconsin",2939,-5.9676404826970141E-3,-2.0000000000000018E-3,24]
[null,"North Carolina",1.8489642523006337E-2,7.0000000000000007E-2,81,"Wyoming",1.159170556116435E-2,0,76,"North CarolinaWyoming",459,-6.8979369618419866E-3,-7.0000000000000007E-2,-5]
[null,"North Carolina",1.8489642523006337E-2,7.0000000000000007E-2,81,"Puerto Rico",0,0,0,"North CarolinaPuerto Rico",638,-1.8489642523006337E-2,-7.0000000000000007E-2,-81]
[null,"North Dakota",1.3055865360727744E-2,3.7999999999999999E-2,89,"Alabama",2.2202899776411697E-2,0.05,83,"North DakotaAlabama",228,9.1470344156839526E-3,1.2000000000000004E-2,-6]
[null,"North Dakota",1.3055865360727744E-2,3.7999999999999999E-2,89,"Alaska",3.2055585214628916E-2,0,117,"North DakotaAlaska",264,1.899971985390117E-2,-3.7999999999999999E-2,28]
[null,"North Dakota",1.3055865360727744E-2,3.7999999999999999E-2,89,"Arizona",2.1452319662556094E-2,4.4999999999999998E-2,87,"North DakotaArizona",877,8.3964543018283499E-3,6.9999999999999993E-3,-2]
[null,"North Dakota",1.3055865360727744E-2,3.7999999999999999E-2,89,"Arkansas",2.5419294137546445E-2,7.0000000000000007E-2,79,"North DakotaArkansas",0,1.2363428776818701E-2,3.2000000000000008E-2,-10]
[null,"North Dakota",1.3055865360727744E-2,3.7999999999999999E-2,89,"California",2.1729822873664682E-2,9.6000000000000002E-2,92,"North DakotaCalifornia",1827,8.6739575129369372E-3,5.8000000000000003E-2,3]
[null,"North Dakota",1.3055865360727744E-2,3.7999999999999999E-2,89,"Colorado",1.6922410102174039E-2,4.5999999999999999E-2,106,"North DakotaColorado",1918,3.8665447414462945E-3,8.0000000000000002E-3,17]
[null,"North Dakota",1.3055865360727744E-2,3.7999999999999999E-2,89,"Connecticut",1.4419595426747081E-2,0.05,105,"North DakotaConnecticut",0,1.3637300660193363E-3,1.2000000000000004E-2,16]
[null,"North Dakota",1.3055865360727744E-2,3.7999999999999999E-2,89,"Delaware",2.9571270753275862E-2,7.0000000000000007E-2,100,"North DakotaDelaware",0,1.6515405392548116E-2,3.2000000000000008E-2,11]
[null,"North Dakota",1.3055865360727744E-2,3.7999999999999999E-2,89,"District of Columbia ",6.3540306680691577E-2,8.5000000000000006E-2,148,"North DakotaDistrict of Columbia ",0,5.0484441319963831E-2,4.7000000000000007E-2,59]
[null,"North Dakota",1.3055865360727744E-2,3.7999999999999999E-2,89,"Florida",2.7237600892238891E-2,0,89,"North DakotaFlorida",239,1.4181735531511147E-2,-3.7999999999999999E-2,0]
[null,"North Dakota",1.3055865360727744E-2,3.7999999999999999E-2,89,"Georgia",1.9726513978233176E-2,0.06,95,"North DakotaGeorgia",207,6.6706486175054317E-3,2.1999999999999999E-2,6]
[null,"North Dakota",1.3055865360727744E-2,3.7999999999999999E-2,89,"Hawaii",1.5418606986737988E-2,8.3000000000000004E-2,149,"North DakotaHawaii",0,2.3627416260102434E-3,4.5000000000000005E-2,60]
[null,"North Dakota",1.3055865360727744E-2,3.7999999999999999E-2,89,"Idaho",1.0619122878421879E-2,7.8E-2,98,"North DakotaIdaho",0,-2.4367424823058658E-3,0.04,9]
[null,"North Dakota",1.3055865360727744E-2,3.7999999999999999E-2,89,"Illinois",2.2681262454608404E-2,0.03,91,"North DakotaIllinois",196,9.6253970938806593E-3,-8.0000000000000002E-3,2]
[null,"North Dakota",1.3055865360727744E-2,3.7999999999999999E-2,89,"Indiana",1.754084582978746E-2,3.4000000000000002E-2,88,"North DakotaIndiana",113,4.4849804690597159E-3,-3.9999999999999966E-3,-1]
[null,"North Dakota",1.3055865360727744E-2,3.7999999999999999E-2,89,"Iowa",1.3507799161676014E-2,0.09,90,"North DakotaIowa",833,4.5193380094826936E-4,5.1999999999999998E-2,1]
[null,"North Dakota",1.3055865360727744E-2,3.7999999999999999E-2,89,"Kansas",1.8706359316443516E-2,6.5000000000000002E-2,84,"North DakotaKansas",261,5.6504939557157716E-3,2.7000000000000003E-2,-5]
[null,"North Dakota",1.3055865360727744E-2,3.7999999999999999E-2,89,"Kentucky",1.6652835554239985E-2,5.8000000000000003E-2,92,"North DakotaKentucky",122,3.5969701935122406E-3,2.0000000000000004E-2,3]
[null,"North Dakota",1.3055865360727744E-2,3.7999999999999999E-2,89,"Louisiana",2.935191107211383E-2,0.06,88,"North DakotaLouisiana",64,1.6296045711386084E-2,2.1999999999999999E-2,-1]
[null,"North Dakota",1.3055865360727744E-2,3.7999999999999999E-2,89,"Maine",6.5120753540148114E-3,6.9000000000000006E-2,104,"North DakotaMaine",0,-6.543790006712933E-3,3.1000000000000007E-2,15]
[null,"North Dakota",1.3055865360727744E-2,3.7999999999999999E-2,89,"Maryland",2.611701649690518E-2,0.05,103,"North DakotaMaryland",116,1.3061151136177436E-2,1.2000000000000004E-2,14]
[null,"North Dakota",1.3055865360727744E-2,3.7999999999999999E-2,89,"Massachusetts",2.2641619138735747E-2,5.2999999999999999E-2,126,"North DakotaMassachusetts",81,9.5857537780080024E-3,1.4999999999999999E-2,37]
[null,"North Dakota",1.3055865360727744E-2,3.7999999999999999E-2,89,"Michigan",2.3537558077457752E-2,4.3999999999999997E-2,82,"North DakotaMichigan",265,1.0481692716730008E-2,5.9999999999999984E-3,-7]
[null,"North Dakota",1.3055865360727744E-2,3.7999999999999999E-2,89,"Minnesota",1.1694778182433254E-2,7.9000000000000001E-2,121,"North DakotaMinnesota",6672,-1.3610871782944907E-3,4.1000000000000002E-2,32]
[null,"North Dakota",1.3055865360727744E-2,3.7999999999999999E-2,89,"Mississippi",1.426102216325646E-2,0.05,76,"North DakotaMississippi",98,1.205156802528716E-3,1.2000000000000004E-2,-13]
[null,"North Dakota",1.3055865360727744E-2,3.7999999999999999E-2,89,"Missouri",2.3569272730155875E-2,0.06,81,"North DakotaMissouri",636,1.0513407369428131E-2,2.1999999999999999E-2,-8]
[null,"North Dakota",1.3055865360727744E-2,3.7999999999999999E-2,89,"Montana",1.4139449327913651E-2,6.9000000000000006E-2,93,"North DakotaMontana",977,1.0835839671859068E-3,3.1000000000000007E-2,4]
[null,"North Dakota",1.3055865360727744E-2,3.7999999999999999E-2,89,"Nebraska",1.3380940550883517E-2,6.8000000000000005E-2,77,"North DakotaNebraska",497,3.2507519015577239E-4,3.0000000000000006E-2,-12]
[null,"North Dakota",1.3055865360727744E-2,3.7999999999999999E-2,89,"Nevada",2.9713986690417422E-2,0,99,"North DakotaNevada",702,1.6658121329689676E-2,-3.7999999999999999E-2,10]
[null,"North Dakota",1.3055865360727744E-2,3.7999999999999999E-2,89,"New Hampshire",9.9372578454122104E-3,0,120,"North DakotaNew Hampshire",0,-3.118607515315534E-3,-3.7999999999999999E-2,31]
[null,"North Dakota",1.3055865360727744E-2,3.7999999999999999E-2,89,"New Jersey",1.6301331486835775E-2,6.4000000000000001E-2,103,"North DakotaNew Jersey",55,3.2454661261080309E-3,2.6000000000000002E-2,14]
[null,"North Dakota",1.3055865360727744E-2,3.7999999999999999E-2,89,"New Mexico",2.9999418564700536E-2,4.9000000000000002E-2,105,"North DakotaNew Mexico",41,1.694355320397279E-2,1.1000000000000003E-2,16]
[null,"North Dakota",1.3055865360727744E-2,3.7999999999999999E-2,89,"New York",2.1042672065205326E-2,7.9000000000000001E-2,114,"North DakotaNew York",77,7.9868067044775812E-3,4.1000000000000002E-2,25]
[null,"North Dakota",1.3055865360727744E-2,3.7999999999999999E-2,89,"North Carolina",1.8489642523006337E-2,7.0000000000000007E-2,81,"North DakotaNorth Carolina",206,5.4337771622785924E-3,3.2000000000000008E-2,-8]
[null,"North Dakota",1.3055865360727744E-2,3.7999999999999999E-2,89,"Ohio",1.6248473732338901E-2,4.7E-2,106,"North DakotaOhio",453,3.1926083716111563E-3,9.0000000000000011E-3,17]
[null,"North Dakota",1.3055865360727744E-2,3.7999999999999999E-2,89,"Oklahoma",2.4039706745178049E-2,5.5E-2,84,"North DakotaOklahoma",308,1.0983841384450304E-2,1.7000000000000001E-2,-5]
[null,"North Dakota",1.3055865360727744E-2,3.7999999999999999E-2,89,"Oregon",1.3084937125701024E-2,0.108,107,"North DakotaOregon",42,2.9071764973279471E-5,7.0000000000000007E-2,18]
[null,"North Dakota",1.3055865360727744E-2,3.7999999999999999E-2,89,"Pennsylvania",1.8764502846390078E-2,0.03,96,"North DakotaPennsylvania",166,5.708637485662334E-3,-8.0000000000000002E-3,7]
[null,"North Dakota",1.3055865360727744E-2,3.7999999999999999E-2,89,"Rhode Island",1.3082294237976182E-2,7.8E-2,118,"North DakotaRhode Island",0,2.6428877248437302E-5,0.04,29]
[null,"North Dakota",1.3055865360727744E-2,3.7999999999999999E-2,89,"South Carolina",3.0229349796761933E-2,7.0000000000000007E-2,88,"North DakotaSouth Carolina",656,1.7173484436034191E-2,3.2000000000000008E-2,-1]
[null,"North Dakota",1.3055865360727744E-2,3.7999999999999999E-2,89,"South Dakota",1.3431155417655547E-2,0,79,"North DakotaSouth Dakota",1725,3.752900569278031E-4,-3.7999999999999999E-2,-10]
[null,"North Dakota",1.3055865360727744E-2,3.7999999999999999E-2,89,"Tennessee",3.2145443397273599E-2,0,82,"North DakotaTennessee",7,1.9089578036545853E-2,-3.7999999999999999E-2,-7]
[null,"North Dakota",1.3055865360727744E-2,3.7999999999999999E-2,89,"Texas",2.1592392711972809E-2,0,83,"North DakotaTexas",989,8.5365273512450646E-3,-3.7999999999999999E-2,-6]
[null,"North Dakota",1.3055865360727744E-2,3.7999999999999999E-2,89,"Utah",1.0307262126890326E-2,0.05,84,"North DakotaUtah",175,-2.7486032338374187E-3,1.2000000000000004E-2,-5]
[null,"North Dakota",1.3055865360727744E-2,3.7999999999999999E-2,89,"Vermont",7.1490112957021358E-3,8.3000000000000004E-2,110,"North DakotaVermont",0,-5.9068540650256086E-3,4.5000000000000005E-2,21]
[null,"North Dakota",1.3055865360727744E-2,3.7999999999999999E-2,89,"Virginia",1.039712030953501E-2,5.8000000000000003E-2,87,"North DakotaVirginia",852,-2.6587450511927346E-3,2.0000000000000004E-2,-2]
[null,"North Dakota",1.3055865360727744E-2,3.7999999999999999E-2,89,"Washington",1.5569251587054078E-2,0,102,"North DakotaWashington",217,2.5133862263263338E-3,-3.7999999999999999E-2,13]
[null,"North Dakota",1.3055865360727744E-2,3.7999999999999999E-2,89,"West Virginia",1.6695121757837481E-2,6.5000000000000002E-2,91,"North DakotaWest Virginia",175,3.6392563971097362E-3,2.7000000000000003E-2,2]
[null,"North Dakota",1.3055865360727744E-2,3.7999999999999999E-2,89,"Wisconsin",1.2522002040309323E-2,6.8000000000000005E-2,105,"North DakotaWisconsin",284,-5.338633204184217E-4,3.0000000000000006E-2,16]
[null,"North Dakota",1.3055865360727744E-2,3.7999999999999999E-2,89,"Wyoming",1.159170556116435E-2,0,76,"North DakotaWyoming",338,-1.4641597995633943E-3,-3.7999999999999999E-2,-13]
[null,"North Dakota",1.3055865360727744E-2,3.7999999999999999E-2,89,"Puerto Rico",0,0,0,"North DakotaPuerto Rico",0,-1.3055865360727744E-2,-3.7999999999999999E-2,-89]
[null,"Ohio",1.6248473732338901E-2,4.7E-2,106,"Alabama",2.2202899776411697E-2,0.05,83,"OhioAlabama",1411,5.9544260440727963E-3,3.0000000000000027E-3,-23]
[null,"Ohio",1.6248473732338901E-2,4.7E-2,106,"Alaska",3.2055585214628916E-2,0,117,"OhioAlaska",1316,1.5807111482290016E-2,-4.7E-2,11]
[null,"Ohio",1.6248473732338901E-2,4.7E-2,106,"Arizona",2.1452319662556094E-2,4.4999999999999998E-2,87,"OhioArizona",7906,5.2038459302171935E-3,-2.0000000000000018E-3,-19]
[null,"Ohio",1.6248473732338901E-2,4.7E-2,106,"Arkansas",2.5419294137546445E-2,7.0000000000000007E-2,79,"OhioArkansas",1135,9.1708204052075443E-3,2.3000000000000007E-2,-27]
[null,"Ohio",1.6248473732338901E-2,4.7E-2,106,"California",2.1729822873664682E-2,9.6000000000000002E-2,92,"OhioCalifornia",10653,5.4813491413257809E-3,4.9000000000000002E-2,-14]
[null,"Ohio",1.6248473732338901E-2,4.7E-2,106,"Colorado",1.6922410102174039E-2,4.5999999999999999E-2,106,"OhioColorado",4533,6.7393636983513819E-4,-1.0000000000000009E-3,0]
[null,"Ohio",1.6248473732338901E-2,4.7E-2,106,"Connecticut",1.4419595426747081E-2,0.05,105,"OhioConnecticut",287,-1.82887830559182E-3,3.0000000000000027E-3,-1]
[null,"Ohio",1.6248473732338901E-2,4.7E-2,106,"Delaware",2.9571270753275862E-2,7.0000000000000007E-2,100,"OhioDelaware",191,1.3322797020936961E-2,2.3000000000000007E-2,-6]
[null,"Ohio",1.6248473732338901E-2,4.7E-2,106,"District of Columbia ",6.3540306680691577E-2,8.5000000000000006E-2,148,"OhioDistrict of Columbia ",651,{"$f":"G1855-C1855","v":4.729183294835268E-2},{"$f":"H1855-D1855","v":3.8000000000000006E-2},{"$f":"I1855-E1855","v":42}]
[null,"Ohio",1.6248473732338901E-2,4.7E-2,106,"Florida",2.7237600892238891E-2,0,89,"OhioFlorida",22927,1.098912715989999E-2,-4.7E-2,-17]
[null,"Ohio",1.6248473732338901E-2,4.7E-2,106,"Georgia",1.9726513978233176E-2,0.06,95,"OhioGeorgia",7501,3.4780402458942754E-3,1.2999999999999998E-2,-11]
[null,"Ohio",1.6248473732338901E-2,4.7E-2,106,"Hawaii",1.5418606986737988E-2,8.3000000000000004E-2,149,"OhioHawaii",884,-8.2986674560091289E-4,3.6000000000000004E-2,43]
[null,"Ohio",1.6248473732338901E-2,4.7E-2,106,"Idaho",1.0619122878421879E-2,7.8E-2,98,"OhioIdaho",1018,-5.6293508539170221E-3,3.1E-2,-8]
[null,"Ohio",1.6248473732338901E-2,4.7E-2,106,"Illinois",2.2681262454608404E-2,0.03,91,"OhioIllinois",6872,6.4327887222695029E-3,-1.7000000000000001E-2,-15]
[null,"Ohio",1.6248473732338901E-2,4.7E-2,106,"Indiana",1.754084582978746E-2,3.4000000000000002E-2,88,"OhioIndiana",11235,1.2923720974485596E-3,-1.2999999999999998E-2,-18]
[null,"Ohio",1.6248473732338901E-2,4.7E-2,106,"Iowa",1.3507799161676014E-2,0.09,90,"OhioIowa",1127,-2.740674570662887E-3,4.2999999999999997E-2,-16]
[null,"Ohio",1.6248473732338901E-2,4.7E-2,106,"Kansas",1.8706359316443516E-2,6.5000000000000002E-2,84,"OhioKansas",1310,2.4578855841046153E-3,1.8000000000000002E-2,-22]
[null,"Ohio",1.6248473732338901E-2,4.7E-2,106,"Kentucky",1.6652835554239985E-2,5.8000000000000003E-2,92,"OhioKentucky",17041,4.043618219010843E-4,1.1000000000000003E-2,-14]
[null,"Ohio",1.6248473732338901E-2,4.7E-2,106,"Louisiana",2.935191107211383E-2,0.06,88,"OhioLouisiana",1115,1.3103437339774929E-2,1.2999999999999998E-2,-18]
[null,"Ohio",1.6248473732338901E-2,4.7E-2,106,"Maine",6.5120753540148114E-3,6.9000000000000006E-2,104,"OhioMaine",628,-9.7363983783240893E-3,2.2000000000000006E-2,-2]
[null,"Ohio",1.6248473732338901E-2,4.7E-2,106,"Maryland",2.611701649690518E-2,0.05,103,"OhioMaryland",2522,9.8685427645662793E-3,3.0000000000000027E-3,-3]
[null,"Ohio",1.6248473732338901E-2,4.7E-2,106,"Massachusetts",2.2641619138735747E-2,5.2999999999999999E-2,126,"OhioMassachusetts",1829,6.3931454063968461E-3,5.9999999999999984E-3,20]
[null,"Ohio",1.6248473732338901E-2,4.7E-2,106,"Michigan",2.3537558077457752E-2,4.3999999999999997E-2,82,"OhioMichigan",11318,7.2890843451188514E-3,-3.0000000000000027E-3,-24]
[null,"Ohio",1.6248473732338901E-2,4.7E-2,106,"Minnesota",1.1694778182433254E-2,7.9000000000000001E-2,121,"OhioMinnesota",2635,-4.553695549905647E-3,3.2000000000000001E-2,15]
[null,"Ohio",1.6248473732338901E-2,4.7E-2,106,"Mississippi",1.426102216325646E-2,0.05,76,"OhioMississippi",896,-1.9874515690824403E-3,3.0000000000000027E-3,-30]
[null,"Ohio",1.6248473732338901E-2,4.7E-2,106,"Missouri",2.3569272730155875E-2,0.06,81,"OhioMissouri",3557,7.3207989978169748E-3,1.2999999999999998E-2,-25]
[null,"Ohio",1.6248473732338901E-2,4.7E-2,106,"Montana",1.4139449327913651E-2,6.9000000000000006E-2,93,"OhioMontana",402,-2.1090244044252495E-3,2.2000000000000006E-2,-13]
[null,"Ohio",1.6248473732338901E-2,4.7E-2,106,"Nebraska",1.3380940550883517E-2,6.8000000000000005E-2,77,"OhioNebraska",563,-2.8675331814553839E-3,2.1000000000000005E-2,-29]
[null,"Ohio",1.6248473732338901E-2,4.7E-2,106,"Nevada",2.9713986690417422E-2,0,99,"OhioNevada",1407,1.3465512958078522E-2,-4.7E-2,-7]
[null,"Ohio",1.6248473732338901E-2,4.7E-2,106,"New Hampshire",9.9372578454122104E-3,0,120,"OhioNew Hampshire",324,-6.3112158869266903E-3,-4.7E-2,14]
[null,"Ohio",1.6248473732338901E-2,4.7E-2,106,"New Jersey",1.6301331486835775E-2,6.4000000000000001E-2,103,"OhioNew Jersey",1452,5.2857754496874604E-5,1.7000000000000001E-2,-3]
[null,"Ohio",1.6248473732338901E-2,4.7E-2,106,"New Mexico",2.9999418564700536E-2,4.9000000000000002E-2,105,"OhioNew Mexico",1178,1.3750944832361636E-2,2.0000000000000018E-3,-1]
[null,"Ohio",1.6248473732338901E-2,4.7E-2,106,"New York",2.1042672065205326E-2,7.9000000000000001E-2,114,"OhioNew York",4625,4.7941983328664249E-3,3.2000000000000001E-2,8]
[null,"Ohio",1.6248473732338901E-2,4.7E-2,106,"North Carolina",1.8489642523006337E-2,7.0000000000000007E-2,81,"OhioNorth Carolina",9337,2.241168790667436E-3,2.3000000000000007E-2,-25]
[null,"Ohio",1.6248473732338901E-2,4.7E-2,106,"North Dakota",1.3055865360727744E-2,3.7999999999999999E-2,89,"OhioNorth Dakota",6,-3.1926083716111563E-3,-9.0000000000000011E-3,-17]
[null,"Ohio",1.6248473732338901E-2,4.7E-2,106,"Oklahoma",2.4039706745178049E-2,5.5E-2,84,"OhioOklahoma",1148,7.791233012839148E-3,8.0000000000000002E-3,-22]
[null,"Ohio",1.6248473732338901E-2,4.7E-2,106,"Oregon",1.3084937125701024E-2,0.108,107,"OhioOregon",1411,-3.1635366066378769E-3,6.0999999999999999E-2,1]
[null,"Ohio",1.6248473732338901E-2,4.7E-2,106,"Pennsylvania",1.8764502846390078E-2,0.03,96,"OhioPennsylvania",14319,2.5160291140511777E-3,-1.7000000000000001E-2,-10]
[null,"Ohio",1.6248473732338901E-2,4.7E-2,106,"Rhode Island",1.3082294237976182E-2,7.8E-2,118,"OhioRhode Island",63,-3.166179494362719E-3,3.1E-2,12]
[null,"Ohio",1.6248473732338901E-2,4.7E-2,106,"South Carolina",3.0229349796761933E-2,7.0000000000000007E-2,88,"OhioSouth Carolina",4388,1.3980876064423033E-2,2.3000000000000007E-2,-18]
[null,"Ohio",1.6248473732338901E-2,4.7E-2,106,"South Dakota",1.3431155417655547E-2,0,79,"OhioSouth Dakota",64,-2.8173183146833532E-3,-4.7E-2,-27]
[null,"Ohio",1.6248473732338901E-2,4.7E-2,106,"Tennessee",3.2145443397273599E-2,0,82,"OhioTennessee",6200,1.5896969664934698E-2,-4.7E-2,-24]
[null,"Ohio",1.6248473732338901E-2,4.7E-2,106,"Texas",2.1592392711972809E-2,0,83,"OhioTexas",8728,5.3439189796339083E-3,-4.7E-2,-23]
[null,"Ohio",1.6248473732338901E-2,4.7E-2,106,"Utah",1.0307262126890326E-2,0.05,84,"OhioUtah",1875,-5.941211605448575E-3,3.0000000000000027E-3,-22]
[null,"Ohio",1.6248473732338901E-2,4.7E-2,106,"Vermont",7.1490112957021358E-3,8.3000000000000004E-2,110,"OhioVermont",214,-9.0994624366367641E-3,3.6000000000000004E-2,4]
[null,"Ohio",1.6248473732338901E-2,4.7E-2,106,"Virginia",1.039712030953501E-2,5.8000000000000003E-2,87,"OhioVirginia",5622,-5.851353422803891E-3,1.1000000000000003E-2,-19]
[null,"Ohio",1.6248473732338901E-2,4.7E-2,106,"Washington",1.5569251587054078E-2,0,102,"OhioWashington",3192,-6.7922214528482253E-4,-4.7E-2,-4]
[null,"Ohio",1.6248473732338901E-2,4.7E-2,106,"West Virginia",1.6695121757837481E-2,6.5000000000000002E-2,91,"OhioWest Virginia",6757,4.4664802549857982E-4,1.8000000000000002E-2,-15]
[null,"Ohio",1.6248473732338901E-2,4.7E-2,106,"Wisconsin",1.2522002040309323E-2,6.8000000000000005E-2,105,"OhioWisconsin",2610,-3.726471692029578E-3,2.1000000000000005E-2,-1]
[null,"Ohio",1.6248473732338901E-2,4.7E-2,106,"Wyoming",1.159170556116435E-2,0,76,"OhioWyoming",819,-4.6567681711745506E-3,-4.7E-2,-30]
[null,"Ohio",1.6248473732338901E-2,4.7E-2,106,"Puerto Rico",0,0,0,"OhioPuerto Rico",328,-1.6248473732338901E-2,-4.7E-2,-106]
[null,"Oklahoma",2.4039706745178049E-2,5.5E-2,84,"Alabama",2.2202899776411697E-2,0.05,83,"OklahomaAlabama",194,-1.8368069687663517E-3,-4.9999999999999975E-3,-1]
[null,"Oklahoma",2.4039706745178049E-2,5.5E-2,84,"Alaska",3.2055585214628916E-2,0,117,"OklahomaAlaska",335,8.0158784694508677E-3,-5.5E-2,33]
[null,"Oklahoma",2.4039706745178049E-2,5.5E-2,84,"Arizona",2.1452319662556094E-2,4.4999999999999998E-2,87,"OklahomaArizona",1626,-2.5873870826219544E-3,-1.0000000000000002E-2,3]
[null,"Oklahoma",2.4039706745178049E-2,5.5E-2,84,"Arkansas",2.5419294137546445E-2,7.0000000000000007E-2,79,"OklahomaArkansas",9938,1.3795873923683963E-3,1.5000000000000006E-2,-5]
[null,"Oklahoma",2.4039706745178049E-2,5.5E-2,84,"California",2.1729822873664682E-2,9.6000000000000002E-2,92,"OklahomaCalifornia",6671,-2.3098838715133671E-3,4.1000000000000002E-2,8]
[null,"Oklahoma",2.4039706745178049E-2,5.5E-2,84,"Colorado",1.6922410102174039E-2,4.5999999999999999E-2,106,"OklahomaColorado",4582,-7.1172966430040098E-3,-9.0000000000000011E-3,22]
[null,"Oklahoma",2.4039706745178049E-2,5.5E-2,84,"Connecticut",1.4419595426747081E-2,0.05,105,"OklahomaConnecticut",415,-9.620111318430968E-3,-4.9999999999999975E-3,21]
[null,"Oklahoma",2.4039706745178049E-2,5.5E-2,84,"Delaware",2.9571270753275862E-2,7.0000000000000007E-2,100,"OklahomaDelaware",0,5.5315640080978133E-3,1.5000000000000006E-2,16]
[null,"Oklahoma",2.4039706745178049E-2,5.5E-2,84,"District of Columbia ",6.3540306680691577E-2,8.5000000000000006E-2,148,"OklahomaDistrict of Columbia ",0,3.9500599935513525E-2,3.0000000000000006E-2,64]
[null,"Oklahoma",2.4039706745178049E-2,5.5E-2,84,"Florida",2.7237600892238891E-2,0,89,"OklahomaFlorida",3142,3.1978941470608424E-3,-5.5E-2,5]
[null,"Oklahoma",2.4039706745178049E-2,5.5E-2,84,"Georgia",1.9726513978233176E-2,0.06,95,"OklahomaGeorgia",3299,-4.3131927669448726E-3,4.9999999999999975E-3,11]
[null,"Oklahoma",2.4039706745178049E-2,5.5E-2,84,"Hawaii",1.5418606986737988E-2,8.3000000000000004E-2,149,"OklahomaHawaii",1095,-8.6210997584400609E-3,2.8000000000000004E-2,65]
[null,"Oklahoma",2.4039706745178049E-2,5.5E-2,84,"Idaho",1.0619122878421879E-2,7.8E-2,98,"OklahomaIdaho",93,-1.342058386675617E-2,2.3E-2,14]
[null,"Oklahoma",2.4039706745178049E-2,5.5E-2,84,"Illinois",2.2681262454608404E-2,0.03,91,"OklahomaIllinois",1491,-1.3584442905696451E-3,-2.5000000000000001E-2,7]
[null,"Oklahoma",2.4039706745178049E-2,5.5E-2,84,"Indiana",1.754084582978746E-2,3.4000000000000002E-2,88,"OklahomaIndiana",1198,-6.4988609153905884E-3,-2.0999999999999998E-2,4]
[null,"Oklahoma",2.4039706745178049E-2,5.5E-2,84,"Iowa",1.3507799161676014E-2,0.09,90,"OklahomaIowa",1465,-1.0531907583502035E-2,3.4999999999999996E-2,6]
[null,"Oklahoma",2.4039706745178049E-2,5.5E-2,84,"Kansas",1.8706359316443516E-2,6.5000000000000002E-2,84,"OklahomaKansas",8408,-5.3333474287345327E-3,1.0000000000000002E-2,0]
[null,"Oklahoma",2.4039706745178049E-2,5.5E-2,84,"Kentucky",1.6652835554239985E-2,5.8000000000000003E-2,92,"OklahomaKentucky",577,-7.3868711909380637E-3,3.0000000000000027E-3,8]
[null,"Oklahoma",2.4039706745178049E-2,5.5E-2,84,"Louisiana",2.935191107211383E-2,0.06,88,"OklahomaLouisiana",2159,5.3122043269357815E-3,4.9999999999999975E-3,4]
[null,"Oklahoma",2.4039706745178049E-2,5.5E-2,84,"Maine",6.5120753540148114E-3,6.9000000000000006E-2,104,"OklahomaMaine",79,-1.7527631391163236E-2,1.4000000000000005E-2,20]
[null,"Oklahoma",2.4039706745178049E-2,5.5E-2,84,"Maryland",2.611701649690518E-2,0.05,103,"OklahomaMaryland",463,2.0773097517271313E-3,-4.9999999999999975E-3,19]
[null,"Oklahoma",2.4039706745178049E-2,5.5E-2,84,"Massachusetts",2.2641619138735747E-2,5.2999999999999999E-2,126,"OklahomaMassachusetts",297,{"$f":"G1919-C1919","v":-1.3980876064423019E-3},{"$f":"H1919-D1919","v":-2.0000000000000018E-3},{"$f":"I1919-E1919","v":42}]
[null,"Oklahoma",2.4039706745178049E-2,5.5E-2,84,"Michigan",2.3537558077457752E-2,4.3999999999999997E-2,82,"OklahomaMichigan",705,-5.0214866772029659E-4,-1.1000000000000003E-2,-2]
[null,"Oklahoma",2.4039706745178049E-2,5.5E-2,84,"Minnesota",1.1694778182433254E-2,7.9000000000000001E-2,121,"OklahomaMinnesota",1212,-1.2344928562744795E-2,2.4E-2,37]
[null,"Oklahoma",2.4039706745178049E-2,5.5E-2,84,"Mississippi",1.426102216325646E-2,0.05,76,"OklahomaMississippi",562,-9.7786845819215883E-3,-4.9999999999999975E-3,-8]
[null,"Oklahoma",2.4039706745178049E-2,5.5E-2,84,"Missouri",2.3569272730155875E-2,0.06,81,"OklahomaMissouri",5298,-4.7043401502217322E-4,4.9999999999999975E-3,-3]
[null,"Oklahoma",2.4039706745178049E-2,5.5E-2,84,"Montana",1.4139449327913651E-2,6.9000000000000006E-2,93,"OklahomaMontana",1018,-9.9002574172643975E-3,1.4000000000000005E-2,9]
[null,"Oklahoma",2.4039706745178049E-2,5.5E-2,84,"Nebraska",1.3380940550883517E-2,6.8000000000000005E-2,77,"OklahomaNebraska",587,-1.0658766194294532E-2,1.3000000000000005E-2,-7]
[null,"Oklahoma",2.4039706745178049E-2,5.5E-2,84,"Nevada",2.9713986690417422E-2,0,99,"OklahomaNevada",1520,5.6742799452393737E-3,-5.5E-2,15]
[null,"Oklahoma",2.4039706745178049E-2,5.5E-2,84,"New Hampshire",9.9372578454122104E-3,0,120,"OklahomaNew Hampshire",186,-1.4102448899765838E-2,-5.5E-2,36]
[null,"Oklahoma",2.4039706745178049E-2,5.5E-2,84,"New Jersey",1.6301331486835775E-2,6.4000000000000001E-2,103,"OklahomaNew Jersey",1540,-7.7383752583422734E-3,9.0000000000000011E-3,19]
[null,"Oklahoma",2.4039706745178049E-2,5.5E-2,84,"New Mexico",2.9999418564700536E-2,4.9000000000000002E-2,105,"OklahomaNew Mexico",1076,5.9597118195224875E-3,-5.9999999999999984E-3,21]
[null,"Oklahoma",2.4039706745178049E-2,5.5E-2,84,"New York",2.1042672065205326E-2,7.9000000000000001E-2,114,"OklahomaNew York",1327,-2.9970346799727231E-3,2.4E-2,30]
[null,"Oklahoma",2.4039706745178049E-2,5.5E-2,84,"North Carolina",1.8489642523006337E-2,7.0000000000000007E-2,81,"OklahomaNorth Carolina",1263,-5.550064222171712E-3,1.5000000000000006E-2,-3]
[null,"Oklahoma",2.4039706745178049E-2,5.5E-2,84,"North Dakota",1.3055865360727744E-2,3.7999999999999999E-2,89,"OklahomaNorth Dakota",280,-1.0983841384450304E-2,-1.7000000000000001E-2,5]
[null,"Oklahoma",2.4039706745178049E-2,5.5E-2,84,"Ohio",1.6248473732338901E-2,4.7E-2,106,"OklahomaOhio",858,-7.791233012839148E-3,-8.0000000000000002E-3,22]
[null,"Oklahoma",2.4039706745178049E-2,5.5E-2,84,"Oregon",1.3084937125701024E-2,0.108,107,"OklahomaOregon",725,-1.0954769619477025E-2,5.2999999999999999E-2,23]
[null,"Oklahoma",2.4039706745178049E-2,5.5E-2,84,"Pennsylvania",1.8764502846390078E-2,0.03,96,"OklahomaPennsylvania",378,-5.2752038987879703E-3,-2.5000000000000001E-2,12]
[null,"Oklahoma",2.4039706745178049E-2,5.5E-2,84,"Rhode Island",1.3082294237976182E-2,7.8E-2,118,"OklahomaRhode Island",0,-1.0957412507201867E-2,2.3E-2,34]
[null,"Oklahoma",2.4039706745178049E-2,5.5E-2,84,"South Carolina",3.0229349796761933E-2,7.0000000000000007E-2,88,"OklahomaSouth Carolina",555,6.1896430515838846E-3,1.5000000000000006E-2,4]
[null,"Oklahoma",2.4039706745178049E-2,5.5E-2,84,"South Dakota",1.3431155417655547E-2,0,79,"OklahomaSouth Dakota",21,-1.0608551327522501E-2,-5.5E-2,-5]
[null,"Oklahoma",2.4039706745178049E-2,5.5E-2,84,"Tennessee",3.2145443397273599E-2,0,82,"OklahomaTennessee",2495,8.10573665209555E-3,-5.5E-2,-2]
[null,"Oklahoma",2.4039706745178049E-2,5.5E-2,84,"Texas",2.1592392711972809E-2,0,83,"OklahomaTexas",26284,-2.4473140332052397E-3,-5.5E-2,-1]
[null,"Oklahoma",2.4039706745178049E-2,5.5E-2,84,"Utah",1.0307262126890326E-2,0.05,84,"OklahomaUtah",1338,-1.3732444618287723E-2,-4.9999999999999975E-3,0]
[null,"Oklahoma",2.4039706745178049E-2,5.5E-2,84,"Vermont",7.1490112957021358E-3,8.3000000000000004E-2,110,"OklahomaVermont",11,-1.6890695449475912E-2,2.8000000000000004E-2,26]
[null,"Oklahoma",2.4039706745178049E-2,5.5E-2,84,"Virginia",1.039712030953501E-2,5.8000000000000003E-2,87,"OklahomaVirginia",2810,-1.3642586435643039E-2,3.0000000000000027E-3,3]
[null,"Oklahoma",2.4039706745178049E-2,5.5E-2,84,"Washington",1.5569251587054078E-2,0,102,"OklahomaWashington",1223,-8.4704551581239705E-3,-5.5E-2,18]
[null,"Oklahoma",2.4039706745178049E-2,5.5E-2,84,"West Virginia",1.6695121757837481E-2,6.5000000000000002E-2,91,"OklahomaWest Virginia",520,-7.3445849873405682E-3,1.0000000000000002E-2,7]
[null,"Oklahoma",2.4039706745178049E-2,5.5E-2,84,"Wisconsin",1.2522002040309323E-2,6.8000000000000005E-2,105,"OklahomaWisconsin",289,-1.1517704704868726E-2,1.3000000000000005E-2,21]
[null,"Oklahoma",2.4039706745178049E-2,5.5E-2,84,"Wyoming",1.159170556116435E-2,0,76,"OklahomaWyoming",964,-1.2448001184013699E-2,-5.5E-2,-8]
[null,"Oklahoma",2.4039706745178049E-2,5.5E-2,84,"Puerto Rico",0,0,0,"OklahomaPuerto Rico",0,-2.4039706745178049E-2,-5.5E-2,-84]
[null,"Oregon",1.3084937125701024E-2,0.108,107,"Alabama",2.2202899776411697E-2,0.05,83,"OregonAlabama",200,9.1179626507106731E-3,-5.7999999999999996E-2,-24]
[null,"Oregon",1.3084937125701024E-2,0.108,107,"Alaska",3.2055585214628916E-2,0,117,"OregonAlaska",3174,1.8970648088927893E-2,-0.108,10]
[null,"Oregon",1.3084937125701024E-2,0.108,107,"Arizona",2.1452319662556094E-2,4.4999999999999998E-2,87,"OregonArizona",8587,8.3673825368550704E-3,-6.3E-2,-20]
[null,"Oregon",1.3084937125701024E-2,0.108,107,"Arkansas",2.5419294137546445E-2,7.0000000000000007E-2,79,"OregonArkansas",193,1.2334357011845421E-2,-3.7999999999999992E-2,-28]
[null,"Oregon",1.3084937125701024E-2,0.108,107,"California",2.1729822873664682E-2,9.6000000000000002E-2,92,"OregonCalifornia",22724,8.6448857479636577E-3,-1.1999999999999997E-2,-15]
[null,"Oregon",1.3084937125701024E-2,0.108,107,"Colorado",1.6922410102174039E-2,4.5999999999999999E-2,106,"OregonColorado",2419,3.8374729764730151E-3,-6.2E-2,-1]
[null,"Oregon",1.3084937125701024E-2,0.108,107,"Connecticut",1.4419595426747081E-2,0.05,105,"OregonConnecticut",35,1.3346583010460569E-3,-5.7999999999999996E-2,-2]
[null,"Oregon",1.3084937125701024E-2,0.108,107,"Delaware",2.9571270753275862E-2,7.0000000000000007E-2,100,"OregonDelaware",0,1.6486333627574838E-2,-3.7999999999999992E-2,-7]
[null,"Oregon",1.3084937125701024E-2,0.108,107,"District of Columbia ",6.3540306680691577E-2,8.5000000000000006E-2,148,"OregonDistrict of Columbia ",157,5.0455369554990553E-2,-2.2999999999999993E-2,41]
[null,"Oregon",1.3084937125701024E-2,0.108,107,"Florida",2.7237600892238891E-2,0,89,"OregonFlorida",2919,1.4152663766537867E-2,-0.108,-18]
[null,"Oregon",1.3084937125701024E-2,0.108,107,"Georgia",1.9726513978233176E-2,0.06,95,"OregonGeorgia",453,6.6415768525321522E-3,-4.8000000000000001E-2,-12]
[null,"Oregon",1.3084937125701024E-2,0.108,107,"Hawaii",1.5418606986737988E-2,8.3000000000000004E-2,149,"OregonHawaii",1763,2.333669861036964E-3,-2.4999999999999994E-2,42]
[null,"Oregon",1.3084937125701024E-2,0.108,107,"Idaho",1.0619122878421879E-2,7.8E-2,98,"OregonIdaho",4963,-2.4658142472791453E-3,-0.03,-9]
[null,"Oregon",1.3084937125701024E-2,0.108,107,"Illinois",2.2681262454608404E-2,0.03,91,"OregonIllinois",954,9.5963253289073798E-3,-7.8E-2,-16]
[null,"Oregon",1.3084937125701024E-2,0.108,107,"Indiana",1.754084582978746E-2,3.4000000000000002E-2,88,"OregonIndiana",387,4.4559087040864365E-3,-7.3999999999999996E-2,-19]
[null,"Oregon",1.3084937125701024E-2,0.108,107,"Iowa",1.3507799161676014E-2,0.09,90,"OregonIowa",348,4.2286203597498989E-4,-1.8000000000000002E-2,-17]
[null,"Oregon",1.3084937125701024E-2,0.108,107,"Kansas",1.8706359316443516E-2,6.5000000000000002E-2,84,"OregonKansas",848,5.6214221907424922E-3,-4.2999999999999997E-2,-23]
[null,"Oregon",1.3084937125701024E-2,0.108,107,"Kentucky",1.6652835554239985E-2,5.8000000000000003E-2,92,"OregonKentucky",298,3.5678984285389612E-3,-4.9999999999999996E-2,-15]
[null,"Oregon",1.3084937125701024E-2,0.108,107,"Louisiana",2.935191107211383E-2,0.06,88,"OregonLouisiana",195,1.6266973946412806E-2,-4.8000000000000001E-2,-19]
[null,"Oregon",1.3084937125701024E-2,0.108,107,"Maine",6.5120753540148114E-3,6.9000000000000006E-2,104,"OregonMaine",215,-6.5728617716862125E-3,-3.8999999999999993E-2,-3]
[null,"Oregon",1.3084937125701024E-2,0.108,107,"Maryland",2.611701649690518E-2,0.05,103,"OregonMaryland",378,1.3032079371204156E-2,-5.7999999999999996E-2,-4]
[null,"Oregon",1.3084937125701024E-2,0.108,107,"Massachusetts",2.2641619138735747E-2,5.2999999999999999E-2,126,"OregonMassachusetts",1528,9.556682013034723E-3,-5.5E-2,19]
[null,"Oregon",1.3084937125701024E-2,0.108,107,"Michigan",2.3537558077457752E-2,4.3999999999999997E-2,82,"OregonMichigan",811,1.0452620951756728E-2,-6.4000000000000001E-2,-25]
[null,"Oregon",1.3084937125701024E-2,0.108,107,"Minnesota",1.1694778182433254E-2,7.9000000000000001E-2,121,"OregonMinnesota",781,-1.3901589432677702E-3,-2.8999999999999998E-2,14]
[null,"Oregon",1.3084937125701024E-2,0.108,107,"Mississippi",1.426102216325646E-2,0.05,76,"OregonMississippi",465,1.1760850375554365E-3,-5.7999999999999996E-2,-31]
[null,"Oregon",1.3084937125701024E-2,0.108,107,"Missouri",2.3569272730155875E-2,0.06,81,"OregonMissouri",1186,1.0484335604454852E-2,-4.8000000000000001E-2,-26]
[null,"Oregon",1.3084937125701024E-2,0.108,107,"Montana",1.4139449327913651E-2,6.9000000000000006E-2,93,"OregonMontana",2950,1.0545122022126274E-3,-3.8999999999999993E-2,-14]
[null,"Oregon",1.3084937125701024E-2,0.108,107,"Nebraska",1.3380940550883517E-2,6.8000000000000005E-2,77,"OregonNebraska",106,2.9600342518249292E-4,-3.9999999999999994E-2,-30]
[null,"Oregon",1.3084937125701024E-2,0.108,107,"Nevada",2.9713986690417422E-2,0,99,"OregonNevada",3101,1.6629049564716399E-2,-0.108,-8]
[null,"Oregon",1.3084937125701024E-2,0.108,107,"New Hampshire",9.9372578454122104E-3,0,120,"OregonNew Hampshire",208,-3.1476792802888134E-3,-0.108,13]
[null,"Oregon",1.3084937125701024E-2,0.108,107,"New Jersey",1.6301331486835775E-2,6.4000000000000001E-2,103,"OregonNew Jersey",760,3.2163943611347515E-3,-4.3999999999999997E-2,-4]
[null,"Oregon",1.3084937125701024E-2,0.108,107,"New Mexico",2.9999418564700536E-2,4.9000000000000002E-2,105,"OregonNew Mexico",932,1.6914481438999512E-2,-5.8999999999999997E-2,-2]
[null,"Oregon",1.3084937125701024E-2,0.108,107,"New York",2.1042672065205326E-2,7.9000000000000001E-2,114,"OregonNew York",1055,7.9577349395043018E-3,-2.8999999999999998E-2,7]
[null,"Oregon",1.3084937125701024E-2,0.108,107,"North Carolina",1.8489642523006337E-2,7.0000000000000007E-2,81,"OregonNorth Carolina",1333,5.4047053973053129E-3,-3.7999999999999992E-2,-26]
[null,"Oregon",1.3084937125701024E-2,0.108,107,"North Dakota",1.3055865360727744E-2,3.7999999999999999E-2,89,"OregonNorth Dakota",724,{"$f":"G1983-C1983","v":-2.9071764973279471E-5},{"$f":"H1983-D1983","v":-7.0000000000000007E-2},{"$f":"I1983-E1983","v":-18}]
[null,"Oregon",1.3084937125701024E-2,0.108,107,"Ohio",1.6248473732338901E-2,4.7E-2,106,"OregonOhio",432,3.1635366066378769E-3,-6.0999999999999999E-2,-1]
[null,"Oregon",1.3084937125701024E-2,0.108,107,"Oklahoma",2.4039706745178049E-2,5.5E-2,84,"OregonOklahoma",1261,1.0954769619477025E-2,-5.2999999999999999E-2,-23]
[null,"Oregon",1.3084937125701024E-2,0.108,107,"Pennsylvania",1.8764502846390078E-2,0.03,96,"OregonPennsylvania",234,5.6795657206890546E-3,-7.8E-2,-11]
[null,"Oregon",1.3084937125701024E-2,0.108,107,"Rhode Island",1.3082294237976182E-2,7.8E-2,118,"OregonRhode Island",139,-2.6428877248421689E-6,-0.03,11]
[null,"Oregon",1.3084937125701024E-2,0.108,107,"South Carolina",3.0229349796761933E-2,7.0000000000000007E-2,88,"OregonSouth Carolina",255,1.7144412671060909E-2,-3.7999999999999992E-2,-19]
[null,"Oregon",1.3084937125701024E-2,0.108,107,"South Dakota",1.3431155417655547E-2,0,79,"OregonSouth Dakota",667,3.4621829195452362E-4,-0.108,-28]
[null,"Oregon",1.3084937125701024E-2,0.108,107,"Tennessee",3.2145443397273599E-2,0,82,"OregonTennessee",1080,1.9060506271572575E-2,-0.108,-25]
[null,"Oregon",1.3084937125701024E-2,0.108,107,"Texas",2.1592392711972809E-2,0,83,"OregonTexas",3827,8.5074555862717852E-3,-0.108,-24]
[null,"Oregon",1.3084937125701024E-2,0.108,107,"Utah",1.0307262126890326E-2,0.05,84,"OregonUtah",4089,-2.7776749988106982E-3,-5.7999999999999996E-2,-23]
[null,"Oregon",1.3084937125701024E-2,0.108,107,"Vermont",7.1490112957021358E-3,8.3000000000000004E-2,110,"OregonVermont",26,-5.9359258299988881E-3,-2.4999999999999994E-2,3]
[null,"Oregon",1.3084937125701024E-2,0.108,107,"Virginia",1.039712030953501E-2,5.8000000000000003E-2,87,"OregonVirginia",1541,-2.6878168161660141E-3,-4.9999999999999996E-2,-20]
[null,"Oregon",1.3084937125701024E-2,0.108,107,"Washington",1.5569251587054078E-2,0,102,"OregonWashington",25525,2.4843144613530543E-3,-0.108,-5]
[null,"Oregon",1.3084937125701024E-2,0.108,107,"West Virginia",1.6695121757837481E-2,6.5000000000000002E-2,91,"OregonWest Virginia",118,3.6101846321364567E-3,-4.2999999999999997E-2,-16]
[null,"Oregon",1.3084937125701024E-2,0.108,107,"Wisconsin",1.2522002040309323E-2,6.8000000000000005E-2,105,"OregonWisconsin",945,-5.6293508539170117E-4,-3.9999999999999994E-2,-2]
[null,"Oregon",1.3084937125701024E-2,0.108,107,"Wyoming",1.159170556116435E-2,0,76,"OregonWyoming",893,-1.4932315645366737E-3,-0.108,-31]
[null,"Oregon",1.3084937125701024E-2,0.108,107,"Puerto Rico",0,0,0,"OregonPuerto Rico",0,-1.3084937125701024E-2,-0.108,-107]
[null,"Pennsylvania",1.8764502846390078E-2,0.03,96,"Alabama",2.2202899776411697E-2,0.05,83,"PennsylvaniaAlabama",1837,3.4383969300216186E-3,2.0000000000000004E-2,-13]
[null,"Pennsylvania",1.8764502846390078E-2,0.03,96,"Alaska",3.2055585214628916E-2,0,117,"PennsylvaniaAlaska",255,1.3291082368238838E-2,-0.03,21]
[null,"Pennsylvania",1.8764502846390078E-2,0.03,96,"Arizona",2.1452319662556094E-2,4.4999999999999998E-2,87,"PennsylvaniaArizona",4280,2.6878168161660158E-3,1.4999999999999999E-2,-9]
[null,"Pennsylvania",1.8764502846390078E-2,0.03,96,"Arkansas",2.5419294137546445E-2,7.0000000000000007E-2,79,"PennsylvaniaArkansas",516,6.6547912911563666E-3,4.0000000000000008E-2,-17]
[null,"Pennsylvania",1.8764502846390078E-2,0.03,96,"California",2.1729822873664682E-2,9.6000000000000002E-2,92,"PennsylvaniaCalifornia",10466,2.9653200272746032E-3,6.6000000000000003E-2,-4]
[null,"Pennsylvania",1.8764502846390078E-2,0.03,96,"Colorado",1.6922410102174039E-2,4.5999999999999999E-2,106,"PennsylvaniaColorado",3950,-1.8420927442160395E-3,1.6E-2,10]
[null,"Pennsylvania",1.8764502846390078E-2,0.03,96,"Connecticut",1.4419595426747081E-2,0.05,105,"PennsylvaniaConnecticut",2214,-4.3449074196429977E-3,2.0000000000000004E-2,9]
[null,"Pennsylvania",1.8764502846390078E-2,0.03,96,"Delaware",2.9571270753275862E-2,7.0000000000000007E-2,100,"PennsylvaniaDelaware",6828,1.0806767906885784E-2,4.0000000000000008E-2,4]
[null,"Pennsylvania",1.8764502846390078E-2,0.03,96,"District of Columbia ",6.3540306680691577E-2,8.5000000000000006E-2,148,"PennsylvaniaDistrict of Columbia ",1494,4.4775803834301499E-2,5.5000000000000007E-2,52]
[null,"Pennsylvania",1.8764502846390078E-2,0.03,96,"Florida",2.7237600892238891E-2,0,89,"PennsylvaniaFlorida",25659,8.4730980458488127E-3,-0.03,-7]
[null,"Pennsylvania",1.8764502846390078E-2,0.03,96,"Georgia",1.9726513978233176E-2,0.06,95,"PennsylvaniaGeorgia",9076,9.6201113184309767E-4,0.03,-1]
[null,"Pennsylvania",1.8764502846390078E-2,0.03,96,"Hawaii",1.5418606986737988E-2,8.3000000000000004E-2,149,"PennsylvaniaHawaii",1087,-3.3458958596520906E-3,5.3000000000000005E-2,53]
[null,"Pennsylvania",1.8764502846390078E-2,0.03,96,"Idaho",1.0619122878421879E-2,7.8E-2,98,"PennsylvaniaIdaho",169,-8.1453799679681999E-3,4.8000000000000001E-2,2]
[null,"Pennsylvania",1.8764502846390078E-2,0.03,96,"Illinois",2.2681262454608404E-2,0.03,91,"PennsylvaniaIllinois",4588,3.9167596082183252E-3,0,-5]
[null,"Pennsylvania",1.8764502846390078E-2,0.03,96,"Indiana",1.754084582978746E-2,3.4000000000000002E-2,88,"PennsylvaniaIndiana",2419,-1.2236570166026181E-3,4.0000000000000036E-3,-8]
[null,"Pennsylvania",1.8764502846390078E-2,0.03,96,"Iowa",1.3507799161676014E-2,0.09,90,"PennsylvaniaIowa",451,-5.2567036847140647E-3,0.06,-6]
[null,"Pennsylvania",1.8764502846390078E-2,0.03,96,"Kansas",1.8706359316443516E-2,6.5000000000000002E-2,84,"PennsylvaniaKansas",918,-5.8143529946562411E-5,3.5000000000000003E-2,-12]
[null,"Pennsylvania",1.8764502846390078E-2,0.03,96,"Kentucky",1.6652835554239985E-2,5.8000000000000003E-2,92,"PennsylvaniaKentucky",2226,-2.1116672921500934E-3,2.8000000000000004E-2,-4]
[null,"Pennsylvania",1.8764502846390078E-2,0.03,96,"Louisiana",2.935191107211383E-2,0.06,88,"PennsylvaniaLouisiana",1239,1.0587408225723752E-2,0.03,-8]
[null,"Pennsylvania",1.8764502846390078E-2,0.03,96,"Maine",6.5120753540148114E-3,6.9000000000000006E-2,104,"PennsylvaniaMaine",976,-1.2252427492375267E-2,3.9000000000000007E-2,8]
[null,"Pennsylvania",1.8764502846390078E-2,0.03,96,"Maryland",2.611701649690518E-2,0.05,103,"PennsylvaniaMaryland",15485,7.3525136505151016E-3,2.0000000000000004E-2,7]
[null,"Pennsylvania",1.8764502846390078E-2,0.03,96,"Massachusetts",2.2641619138735747E-2,5.2999999999999999E-2,126,"PennsylvaniaMassachusetts",8236,3.8771162923456684E-3,2.3E-2,30]
[null,"Pennsylvania",1.8764502846390078E-2,0.03,96,"Michigan",2.3537558077457752E-2,4.3999999999999997E-2,82,"PennsylvaniaMichigan",2739,4.7730552310676737E-3,1.3999999999999999E-2,-14]
[null,"Pennsylvania",1.8764502846390078E-2,0.03,96,"Minnesota",1.1694778182433254E-2,7.9000000000000001E-2,121,"PennsylvaniaMinnesota",1106,-7.0697246639568247E-3,4.9000000000000002E-2,25]
[null,"Pennsylvania",1.8764502846390078E-2,0.03,96,"Mississippi",1.426102216325646E-2,0.05,76,"PennsylvaniaMississippi",613,-4.5034806831336181E-3,2.0000000000000004E-2,-20]
[null,"Pennsylvania",1.8764502846390078E-2,0.03,96,"Missouri",2.3569272730155875E-2,0.06,81,"PennsylvaniaMissouri",1535,4.8047698837657971E-3,0.03,-15]
[null,"Pennsylvania",1.8764502846390078E-2,0.03,96,"Montana",1.4139449327913651E-2,6.9000000000000006E-2,93,"PennsylvaniaMontana",457,-4.6250535184764272E-3,3.9000000000000007E-2,-3]
[null,"Pennsylvania",1.8764502846390078E-2,0.03,96,"Nebraska",1.3380940550883517E-2,6.8000000000000005E-2,77,"PennsylvaniaNebraska",702,-5.3835622955065617E-3,3.8000000000000006E-2,-19]
[null,"Pennsylvania",1.8764502846390078E-2,0.03,96,"Nevada",2.9713986690417422E-2,0,99,"PennsylvaniaNevada",1601,1.0949483844027344E-2,-0.03,3]
[null,"Pennsylvania",1.8764502846390078E-2,0.03,96,"New Hampshire",9.9372578454122104E-3,0,120,"PennsylvaniaNew Hampshire",890,-8.827245000977868E-3,-0.03,24]
[null,"Pennsylvania",1.8764502846390078E-2,0.03,96,"New Jersey",1.6301331486835775E-2,6.4000000000000001E-2,103,"PennsylvaniaNew Jersey",23597,-2.4631713595543031E-3,3.4000000000000002E-2,7]
[null,"Pennsylvania",1.8764502846390078E-2,0.03,96,"New Mexico",2.9999418564700536E-2,4.9000000000000002E-2,105,"PennsylvaniaNew Mexico",822,1.1234915718310458E-2,1.9000000000000003E-2,9]
[null,"Pennsylvania",1.8764502846390078E-2,0.03,96,"New York",2.1042672065205326E-2,7.9000000000000001E-2,114,"PennsylvaniaNew York",22895,2.2781692188152472E-3,4.9000000000000002E-2,18]
[null,"Pennsylvania",1.8764502846390078E-2,0.03,96,"North Carolina",1.8489642523006337E-2,7.0000000000000007E-2,81,"PennsylvaniaNorth Carolina",12179,-2.7486032338374169E-4,4.0000000000000008E-2,-15]
[null,"Pennsylvania",1.8764502846390078E-2,0.03,96,"North Dakota",1.3055865360727744E-2,3.7999999999999999E-2,89,"PennsylvaniaNorth Dakota",114,-5.708637485662334E-3,8.0000000000000002E-3,-7]
[null,"Pennsylvania",1.8764502846390078E-2,0.03,96,"Ohio",1.6248473732338901E-2,4.7E-2,106,"PennsylvaniaOhio",14147,-2.5160291140511777E-3,1.7000000000000001E-2,10]
[null,"Pennsylvania",1.8764502846390078E-2,0.03,96,"Oklahoma",2.4039706745178049E-2,5.5E-2,84,"PennsylvaniaOklahoma",494,5.2752038987879703E-3,2.5000000000000001E-2,-12]
[null,"Pennsylvania",1.8764502846390078E-2,0.03,96,"Oregon",1.3084937125701024E-2,0.108,107,"PennsylvaniaOregon",904,-5.6795657206890546E-3,7.8E-2,11]
[null,"Pennsylvania",1.8764502846390078E-2,0.03,96,"Rhode Island",1.3082294237976182E-2,7.8E-2,118,"PennsylvaniaRhode Island",735,-5.6822086084138967E-3,4.8000000000000001E-2,22]
[null,"Pennsylvania",1.8764502846390078E-2,0.03,96,"South Carolina",3.0229349796761933E-2,7.0000000000000007E-2,88,"PennsylvaniaSouth Carolina",6497,1.1464846950371855E-2,4.0000000000000008E-2,-8]
[null,"Pennsylvania",1.8764502846390078E-2,0.03,96,"South Dakota",1.3431155417655547E-2,0,79,"PennsylvaniaSouth Dakota",515,-5.333347428734531E-3,-0.03,-17]
[null,"Pennsylvania",1.8764502846390078E-2,0.03,96,"Tennessee",3.2145443397273599E-2,0,82,"PennsylvaniaTennessee",3329,1.338094055088352E-2,-0.03,-14]
[null,"Pennsylvania",1.8764502846390078E-2,0.03,96,"Texas",2.1592392711972809E-2,0,83,"PennsylvaniaTexas",10449,2.8278898655827306E-3,-0.03,-13]
[null,"Pennsylvania",1.8764502846390078E-2,0.03,96,"Utah",1.0307262126890326E-2,0.05,84,"PennsylvaniaUtah",944,-8.4572407194997527E-3,2.0000000000000004E-2,-12]
[null,"Pennsylvania",1.8764502846390078E-2,0.03,96,"Vermont",7.1490112957021358E-3,8.3000000000000004E-2,110,"PennsylvaniaVermont",935,-1.1615491550687942E-2,5.3000000000000005E-2,14]
[null,"Pennsylvania",1.8764502846390078E-2,0.03,96,"Virginia",1.039712030953501E-2,5.8000000000000003E-2,87,"PennsylvaniaVirginia",14190,-8.3673825368550687E-3,2.8000000000000004E-2,-9]
[null,"Pennsylvania",1.8764502846390078E-2,0.03,96,"Washington",1.5569251587054078E-2,0,102,"PennsylvaniaWashington",3397,-3.1952512593360002E-3,-0.03,6]
[null,"Pennsylvania",1.8764502846390078E-2,0.03,96,"West Virginia",1.6695121757837481E-2,6.5000000000000002E-2,91,"PennsylvaniaWest Virginia",5208,{"$f":"G2047-C2047","v":-2.0693810885525979E-3},{"$f":"H2047-D2047","v":3.5000000000000003E-2},{"$f":"I2047-E2047","v":-5}]
[null,"Pennsylvania",1.8764502846390078E-2,0.03,96,"Wisconsin",1.2522002040309323E-2,6.8000000000000005E-2,105,"PennsylvaniaWisconsin",1563,-6.2425008060807557E-3,3.8000000000000006E-2,9]
[null,"Pennsylvania",1.8764502846390078E-2,0.03,96,"Wyoming",1.159170556116435E-2,0,76,"PennsylvaniaWyoming",230,-7.1727972852257283E-3,-0.03,-20]
[null,"Pennsylvania",1.8764502846390078E-2,0.03,96,"Puerto Rico",0,0,0,"PennsylvaniaPuerto Rico",2313,-1.8764502846390078E-2,-0.03,-96]
[null,"Rhode Island",1.3082294237976182E-2,7.8E-2,118,"Alabama",2.2202899776411697E-2,0.05,83,"Rhode IslandAlabama",0,9.1206055384355153E-3,-2.7999999999999997E-2,-35]
[null,"Rhode Island",1.3082294237976182E-2,7.8E-2,118,"Alaska",3.2055585214628916E-2,0,117,"Rhode IslandAlaska",0,1.8973290976652735E-2,-7.8E-2,-1]
[null,"Rhode Island",1.3082294237976182E-2,7.8E-2,118,"Arizona",2.1452319662556094E-2,4.4999999999999998E-2,87,"Rhode IslandArizona",614,8.3700254245799126E-3,-3.3000000000000002E-2,-31]
[null,"Rhode Island",1.3082294237976182E-2,7.8E-2,118,"Arkansas",2.5419294137546445E-2,7.0000000000000007E-2,79,"Rhode IslandArkansas",59,1.2336999899570263E-2,-7.9999999999999932E-3,-39]
[null,"Rhode Island",1.3082294237976182E-2,7.8E-2,118,"California",2.1729822873664682E-2,9.6000000000000002E-2,92,"Rhode IslandCalifornia",1648,8.6475286356884999E-3,1.8000000000000002E-2,-26]
[null,"Rhode Island",1.3082294237976182E-2,7.8E-2,118,"Colorado",1.6922410102174039E-2,4.5999999999999999E-2,106,"Rhode IslandColorado",137,3.8401158641978572E-3,-3.2000000000000001E-2,-12]
[null,"Rhode Island",1.3082294237976182E-2,7.8E-2,118,"Connecticut",1.4419595426747081E-2,0.05,105,"Rhode IslandConnecticut",1558,1.337301188770899E-3,-2.7999999999999997E-2,-13]
[null,"Rhode Island",1.3082294237976182E-2,7.8E-2,118,"Delaware",2.9571270753275862E-2,7.0000000000000007E-2,100,"Rhode IslandDelaware",135,1.648897651529968E-2,-7.9999999999999932E-3,-18]
[null,"Rhode Island",1.3082294237976182E-2,7.8E-2,118,"District of Columbia ",6.3540306680691577E-2,8.5000000000000006E-2,148,"Rhode IslandDistrict of Columbia ",635,5.0458012442715396E-2,7.0000000000000062E-3,30]
[null,"Rhode Island",1.3082294237976182E-2,7.8E-2,118,"Florida",2.7237600892238891E-2,0,89,"Rhode IslandFlorida",3050,1.4155306654262709E-2,-7.8E-2,-29]
[null,"Rhode Island",1.3082294237976182E-2,7.8E-2,118,"Georgia",1.9726513978233176E-2,0.06,95,"Rhode IslandGeorgia",440,6.6442197402569944E-3,-1.8000000000000002E-2,-23]
[null,"Rhode Island",1.3082294237976182E-2,7.8E-2,118,"Hawaii",1.5418606986737988E-2,8.3000000000000004E-2,149,"Rhode IslandHawaii",106,2.3363127487618061E-3,5.0000000000000044E-3,31]
[null,"Rhode Island",1.3082294237976182E-2,7.8E-2,118,"Idaho",1.0619122878421879E-2,7.8E-2,98,"Rhode IslandIdaho",0,-2.4631713595543031E-3,0,-20]
[null,"Rhode Island",1.3082294237976182E-2,7.8E-2,118,"Illinois",2.2681262454608404E-2,0.03,91,"Rhode IslandIllinois",462,9.598968216632222E-3,-4.8000000000000001E-2,-27]
[null,"Rhode Island",1.3082294237976182E-2,7.8E-2,118,"Indiana",1.754084582978746E-2,3.4000000000000002E-2,88,"Rhode IslandIndiana",0,4.4585515918112786E-3,-4.3999999999999997E-2,-30]
[null,"Rhode Island",1.3082294237976182E-2,7.8E-2,118,"Iowa",1.3507799161676014E-2,0.09,90,"Rhode IslandIowa",0,4.2550492369983206E-4,1.1999999999999997E-2,-28]
[null,"Rhode Island",1.3082294237976182E-2,7.8E-2,118,"Kansas",1.8706359316443516E-2,6.5000000000000002E-2,84,"Rhode IslandKansas",18,5.6240650784673343E-3,-1.2999999999999998E-2,-34]
[null,"Rhode Island",1.3082294237976182E-2,7.8E-2,118,"Kentucky",1.6652835554239985E-2,5.8000000000000003E-2,92,"Rhode IslandKentucky",0,3.5705413162638033E-3,-1.9999999999999997E-2,-26]
[null,"Rhode Island",1.3082294237976182E-2,7.8E-2,118,"Louisiana",2.935191107211383E-2,0.06,88,"Rhode IslandLouisiana",737,1.6269616834137648E-2,-1.8000000000000002E-2,-30]
[null,"Rhode Island",1.3082294237976182E-2,7.8E-2,118,"Maine",6.5120753540148114E-3,6.9000000000000006E-2,104,"Rhode IslandMaine",1024,-6.5702188839613703E-3,-8.9999999999999941E-3,-14]
[null,"Rhode Island",1.3082294237976182E-2,7.8E-2,118,"Maryland",2.611701649690518E-2,0.05,103,"Rhode IslandMaryland",82,1.3034722258928998E-2,-2.7999999999999997E-2,-15]
[null,"Rhode Island",1.3082294237976182E-2,7.8E-2,118,"Massachusetts",2.2641619138735747E-2,5.2999999999999999E-2,126,"Rhode IslandMassachusetts",6863,9.5593249007595651E-3,-2.5000000000000001E-2,8]
[null,"Rhode Island",1.3082294237976182E-2,7.8E-2,118,"Michigan",2.3537558077457752E-2,4.3999999999999997E-2,82,"Rhode IslandMichigan",68,1.045526383948157E-2,-3.4000000000000002E-2,-36]
[null,"Rhode Island",1.3082294237976182E-2,7.8E-2,118,"Minnesota",1.1694778182433254E-2,7.9000000000000001E-2,121,"Rhode IslandMinnesota",299,-1.387516055542928E-3,1.0000000000000009E-3,3]
[null,"Rhode Island",1.3082294237976182E-2,7.8E-2,118,"Mississippi",1.426102216325646E-2,0.05,76,"Rhode IslandMississippi",185,1.1787279252802787E-3,-2.7999999999999997E-2,-42]
[null,"Rhode Island",1.3082294237976182E-2,7.8E-2,118,"Missouri",2.3569272730155875E-2,0.06,81,"Rhode IslandMissouri",361,1.0486978492179694E-2,-1.8000000000000002E-2,-37]
[null,"Rhode Island",1.3082294237976182E-2,7.8E-2,118,"Montana",1.4139449327913651E-2,6.9000000000000006E-2,93,"Rhode IslandMontana",0,1.0571550899374695E-3,-8.9999999999999941E-3,-25]
[null,"Rhode Island",1.3082294237976182E-2,7.8E-2,118,"Nebraska",1.3380940550883517E-2,6.8000000000000005E-2,77,"Rhode IslandNebraska",0,2.9864631290733509E-4,-9.999999999999995E-3,-41]
[null,"Rhode Island",1.3082294237976182E-2,7.8E-2,118,"Nevada",2.9713986690417422E-2,0,99,"Rhode IslandNevada",336,1.6631692452441241E-2,-7.8E-2,-19]
[null,"Rhode Island",1.3082294237976182E-2,7.8E-2,118,"New Hampshire",9.9372578454122104E-3,0,120,"Rhode IslandNew Hampshire",1248,-3.1450363925639713E-3,-7.8E-2,2]
[null,"Rhode Island",1.3082294237976182E-2,7.8E-2,118,"New Jersey",1.6301331486835775E-2,6.4000000000000001E-2,103,"Rhode IslandNew Jersey",429,3.2190372488595936E-3,-1.3999999999999999E-2,-15]
[null,"Rhode Island",1.3082294237976182E-2,7.8E-2,118,"New Mexico",2.9999418564700536E-2,4.9000000000000002E-2,105,"Rhode IslandNew Mexico",0,1.6917124326724355E-2,-2.8999999999999998E-2,-13]
[null,"Rhode Island",1.3082294237976182E-2,7.8E-2,118,"New York",2.1042672065205326E-2,7.9000000000000001E-2,114,"Rhode IslandNew York",3222,7.9603778272291439E-3,1.0000000000000009E-3,-4]
[null,"Rhode Island",1.3082294237976182E-2,7.8E-2,118,"North Carolina",1.8489642523006337E-2,7.0000000000000007E-2,81,"Rhode IslandNorth Carolina",290,5.407348285030155E-3,-7.9999999999999932E-3,-37]
[null,"Rhode Island",1.3082294237976182E-2,7.8E-2,118,"North Dakota",1.3055865360727744E-2,3.7999999999999999E-2,89,"Rhode IslandNorth Dakota",244,-2.6428877248437302E-5,-0.04,-29]
[null,"Rhode Island",1.3082294237976182E-2,7.8E-2,118,"Ohio",1.6248473732338901E-2,4.7E-2,106,"Rhode IslandOhio",435,3.166179494362719E-3,-3.1E-2,-12]
[null,"Rhode Island",1.3082294237976182E-2,7.8E-2,118,"Oklahoma",2.4039706745178049E-2,5.5E-2,84,"Rhode IslandOklahoma",0,1.0957412507201867E-2,-2.3E-2,-34]
[null,"Rhode Island",1.3082294237976182E-2,7.8E-2,118,"Oregon",1.3084937125701024E-2,0.108,107,"Rhode IslandOregon",177,2.6428877248421689E-6,0.03,-11]
[null,"Rhode Island",1.3082294237976182E-2,7.8E-2,118,"Pennsylvania",1.8764502846390078E-2,0.03,96,"Rhode IslandPennsylvania",771,5.6822086084138967E-3,-4.8000000000000001E-2,-22]
[null,"Rhode Island",1.3082294237976182E-2,7.8E-2,118,"South Carolina",3.0229349796761933E-2,7.0000000000000007E-2,88,"Rhode IslandSouth Carolina",538,1.7147055558785752E-2,-7.9999999999999932E-3,-30]
[null,"Rhode Island",1.3082294237976182E-2,7.8E-2,118,"South Dakota",1.3431155417655547E-2,0,79,"Rhode IslandSouth Dakota",0,3.4886117967936579E-4,-7.8E-2,-39]
[null,"Rhode Island",1.3082294237976182E-2,7.8E-2,118,"Tennessee",3.2145443397273599E-2,0,82,"Rhode IslandTennessee",26,1.9063149159297417E-2,-7.8E-2,-36]
[null,"Rhode Island",1.3082294237976182E-2,7.8E-2,118,"Texas",2.1592392711972809E-2,0,83,"Rhode IslandTexas",1763,8.5100984739966273E-3,-7.8E-2,-35]
[null,"Rhode Island",1.3082294237976182E-2,7.8E-2,118,"Utah",1.0307262126890326E-2,0.05,84,"Rhode IslandUtah",351,-2.775032111085856E-3,-2.7999999999999997E-2,-34]
[null,"Rhode Island",1.3082294237976182E-2,7.8E-2,118,"Vermont",7.1490112957021358E-3,8.3000000000000004E-2,110,"Rhode IslandVermont",341,-5.9332829422740459E-3,5.0000000000000044E-3,-8]
[null,"Rhode Island",1.3082294237976182E-2,7.8E-2,118,"Virginia",1.039712030953501E-2,5.8000000000000003E-2,87,"Rhode IslandVirginia",1605,-2.6851739284411719E-3,-1.9999999999999997E-2,-31]
[null,"Rhode Island",1.3082294237976182E-2,7.8E-2,118,"Washington",1.5569251587054078E-2,0,102,"Rhode IslandWashington",97,2.4869573490778965E-3,-7.8E-2,-16]
[null,"Rhode Island",1.3082294237976182E-2,7.8E-2,118,"West Virginia",1.6695121757837481E-2,6.5000000000000002E-2,91,"Rhode IslandWest Virginia",0,3.6128275198612989E-3,-1.2999999999999998E-2,-27]
[null,"Rhode Island",1.3082294237976182E-2,7.8E-2,118,"Wisconsin",1.2522002040309323E-2,6.8000000000000005E-2,105,"Rhode IslandWisconsin",144,-5.60292197666859E-4,-9.999999999999995E-3,-13]
[null,"Rhode Island",1.3082294237976182E-2,7.8E-2,118,"Wyoming",1.159170556116435E-2,0,76,"Rhode IslandWyoming",0,-1.4905886768118316E-3,-7.8E-2,-42]
[null,"Rhode Island",1.3082294237976182E-2,7.8E-2,118,"Puerto Rico",0,0,0,"Rhode IslandPuerto Rico",624,-1.3082294237976182E-2,-7.8E-2,-118]
[null,"South Carolina",3.0229349796761933E-2,7.0000000000000007E-2,88,"Alabama",2.2202899776411697E-2,0.05,83,"South CarolinaAlabama",2811,-8.0264500203502363E-3,-2.0000000000000004E-2,-5]
[null,"South Carolina",3.0229349796761933E-2,7.0000000000000007E-2,88,"Alaska",3.2055585214628916E-2,0,117,"South CarolinaAlaska",384,1.826235417866983E-3,-7.0000000000000007E-2,29]
[null,"South Carolina",3.0229349796761933E-2,7.0000000000000007E-2,88,"Arizona",2.1452319662556094E-2,4.4999999999999998E-2,87,"South CarolinaArizona",1070,-8.7770301342058391E-3,-2.5000000000000008E-2,-1]
[null,"South Carolina",3.0229349796761933E-2,7.0000000000000007E-2,88,"Arkansas",2.5419294137546445E-2,7.0000000000000007E-2,79,"South CarolinaArkansas",52,-4.8100556592154883E-3,0,-9]
[null,"South Carolina",3.0229349796761933E-2,7.0000000000000007E-2,88,"California",2.1729822873664682E-2,9.6000000000000002E-2,92,"South CarolinaCalifornia",4110,-8.4995269230972517E-3,2.5999999999999995E-2,4]
[null,"South Carolina",3.0229349796761933E-2,7.0000000000000007E-2,88,"Colorado",1.6922410102174039E-2,4.5999999999999999E-2,106,"South CarolinaColorado",2383,-1.3306939694587894E-2,-2.4000000000000007E-2,18]
[null,"South Carolina",3.0229349796761933E-2,7.0000000000000007E-2,88,"Connecticut",1.4419595426747081E-2,0.05,105,"South CarolinaConnecticut",940,-1.5809754370014854E-2,-2.0000000000000004E-2,17]
[null,"South Carolina",3.0229349796761933E-2,7.0000000000000007E-2,88,"Delaware",2.9571270753275862E-2,7.0000000000000007E-2,100,"South CarolinaDelaware",298,-6.580790434860713E-4,0,12]
[null,"South Carolina",3.0229349796761933E-2,7.0000000000000007E-2,88,"District of Columbia ",6.3540306680691577E-2,8.5000000000000006E-2,148,"South CarolinaDistrict of Columbia ",150,3.331095688392964E-2,1.4999999999999999E-2,60]
[null,"South Carolina",3.0229349796761933E-2,7.0000000000000007E-2,88,"Florida",2.7237600892238891E-2,0,89,"South CarolinaFlorida",11366,{"$f":"G2111-C2111","v":-2.9917489045230422E-3},{"$f":"H2111-D2111","v":-7.0000000000000007E-2},{"$f":"I2111-E2111","v":1}]
[null,"South Carolina",3.0229349796761933E-2,7.0000000000000007E-2,88,"Georgia",1.9726513978233176E-2,0.06,95,"South CarolinaGeorgia",18611,-1.0502835818528757E-2,-1.0000000000000009E-2,7]
[null,"South Carolina",3.0229349796761933E-2,7.0000000000000007E-2,88,"Hawaii",1.5418606986737988E-2,8.3000000000000004E-2,149,"South CarolinaHawaii",644,-1.4810742810023945E-2,1.2999999999999998E-2,61]
[null,"South Carolina",3.0229349796761933E-2,7.0000000000000007E-2,88,"Idaho",1.0619122878421879E-2,7.8E-2,98,"South CarolinaIdaho",205,-1.9610226918340055E-2,7.9999999999999932E-3,10]
[null,"South Carolina",3.0229349796761933E-2,7.0000000000000007E-2,88,"Illinois",2.2681262454608404E-2,0.03,91,"South CarolinaIllinois",1583,-7.5480873421535297E-3,-4.0000000000000008E-2,3]
[null,"South Carolina",3.0229349796761933E-2,7.0000000000000007E-2,88,"Indiana",1.754084582978746E-2,3.4000000000000002E-2,88,"South CarolinaIndiana",1414,-1.2688503966974473E-2,-3.6000000000000004E-2,0]
[null,"South Carolina",3.0229349796761933E-2,7.0000000000000007E-2,88,"Iowa",1.3507799161676014E-2,0.09,90,"South CarolinaIowa",943,-1.672155063508592E-2,1.999999999999999E-2,2]
[null,"South Carolina",3.0229349796761933E-2,7.0000000000000007E-2,88,"Kansas",1.8706359316443516E-2,6.5000000000000002E-2,84,"South CarolinaKansas",556,-1.1522990480318417E-2,-5.0000000000000044E-3,-4]
[null,"South Carolina",3.0229349796761933E-2,7.0000000000000007E-2,88,"Kentucky",1.6652835554239985E-2,5.8000000000000003E-2,92,"South CarolinaKentucky",1347,-1.3576514242521948E-2,-1.2000000000000004E-2,4]
[null,"South Carolina",3.0229349796761933E-2,7.0000000000000007E-2,88,"Louisiana",2.935191107211383E-2,0.06,88,"South CarolinaLouisiana",1914,-8.7743872464810316E-4,-1.0000000000000009E-2,0]
[null,"South Carolina",3.0229349796761933E-2,7.0000000000000007E-2,88,"Maine",6.5120753540148114E-3,6.9000000000000006E-2,104,"South CarolinaMaine",173,-2.371727444274712E-2,-1.0000000000000009E-3,16]
[null,"South Carolina",3.0229349796761933E-2,7.0000000000000007E-2,88,"Maryland",2.611701649690518E-2,0.05,103,"South CarolinaMaryland",2297,-4.1123332998567533E-3,-2.0000000000000004E-2,15]
[null,"South Carolina",3.0229349796761933E-2,7.0000000000000007E-2,88,"Massachusetts",2.2641619138735747E-2,5.2999999999999999E-2,126,"South CarolinaMassachusetts",2477,-7.5877306580261865E-3,-1.7000000000000008E-2,38]
[null,"South Carolina",3.0229349796761933E-2,7.0000000000000007E-2,88,"Michigan",2.3537558077457752E-2,4.3999999999999997E-2,82,"South CarolinaMichigan",1822,-6.6917917193041812E-3,-2.6000000000000009E-2,-6]
[null,"South Carolina",3.0229349796761933E-2,7.0000000000000007E-2,88,"Minnesota",1.1694778182433254E-2,7.9000000000000001E-2,121,"South CarolinaMinnesota",1705,-1.8534571614328678E-2,8.9999999999999941E-3,33]
[null,"South Carolina",3.0229349796761933E-2,7.0000000000000007E-2,88,"Mississippi",1.426102216325646E-2,0.05,76,"South CarolinaMississippi",596,-1.5968327633505475E-2,-2.0000000000000004E-2,-12]
[null,"South Carolina",3.0229349796761933E-2,7.0000000000000007E-2,88,"Missouri",2.3569272730155875E-2,0.06,81,"South CarolinaMissouri",2856,-6.6600770666060578E-3,-1.0000000000000009E-2,-7]
[null,"South Carolina",3.0229349796761933E-2,7.0000000000000007E-2,88,"Montana",1.4139449327913651E-2,6.9000000000000006E-2,93,"South CarolinaMontana",230,-1.6089900468848284E-2,-1.0000000000000009E-3,5]
[null,"South Carolina",3.0229349796761933E-2,7.0000000000000007E-2,88,"Nebraska",1.3380940550883517E-2,6.8000000000000005E-2,77,"South CarolinaNebraska",456,-1.6848409245878417E-2,-2.0000000000000018E-3,-11]
[null,"South Carolina",3.0229349796761933E-2,7.0000000000000007E-2,88,"Nevada",2.9713986690417422E-2,0,99,"South CarolinaNevada",480,-5.1536310634451091E-4,-7.0000000000000007E-2,11]
[null,"South Carolina",3.0229349796761933E-2,7.0000000000000007E-2,88,"New Hampshire",9.9372578454122104E-3,0,120,"South CarolinaNew Hampshire",323,-2.0292091951349723E-2,-7.0000000000000007E-2,32]
[null,"South Carolina",3.0229349796761933E-2,7.0000000000000007E-2,88,"New Jersey",1.6301331486835775E-2,6.4000000000000001E-2,103,"South CarolinaNew Jersey",2372,-1.3928018309926158E-2,-6.0000000000000053E-3,15]
[null,"South Carolina",3.0229349796761933E-2,7.0000000000000007E-2,88,"New Mexico",2.9999418564700536E-2,4.9000000000000002E-2,105,"South CarolinaNew Mexico",325,-2.2993123206139707E-4,-2.1000000000000005E-2,17]
[null,"South Carolina",3.0229349796761933E-2,7.0000000000000007E-2,88,"New York",2.1042672065205326E-2,7.9000000000000001E-2,114,"South CarolinaNew York",5952,-9.1866777315566077E-3,8.9999999999999941E-3,26]
[null,"South Carolina",3.0229349796761933E-2,7.0000000000000007E-2,88,"North Carolina",1.8489642523006337E-2,7.0000000000000007E-2,81,"South CarolinaNorth Carolina",25532,-1.1739707273755597E-2,0,-7]
[null,"South Carolina",3.0229349796761933E-2,7.0000000000000007E-2,88,"North Dakota",1.3055865360727744E-2,3.7999999999999999E-2,89,"South CarolinaNorth Dakota",14,-1.7173484436034191E-2,-3.2000000000000008E-2,1]
[null,"South Carolina",3.0229349796761933E-2,7.0000000000000007E-2,88,"Ohio",1.6248473732338901E-2,4.7E-2,106,"South CarolinaOhio",2445,-1.3980876064423033E-2,-2.3000000000000007E-2,18]
[null,"South Carolina",3.0229349796761933E-2,7.0000000000000007E-2,88,"Oklahoma",2.4039706745178049E-2,5.5E-2,84,"South CarolinaOklahoma",569,-6.1896430515838846E-3,-1.5000000000000006E-2,-4]
[null,"South Carolina",3.0229349796761933E-2,7.0000000000000007E-2,88,"Oregon",1.3084937125701024E-2,0.108,107,"South CarolinaOregon",461,-1.7144412671060909E-2,3.7999999999999992E-2,19]
[null,"South Carolina",3.0229349796761933E-2,7.0000000000000007E-2,88,"Pennsylvania",1.8764502846390078E-2,0.03,96,"South CarolinaPennsylvania",3023,-1.1464846950371855E-2,-4.0000000000000008E-2,8]
[null,"South Carolina",3.0229349796761933E-2,7.0000000000000007E-2,88,"Rhode Island",1.3082294237976182E-2,7.8E-2,118,"South CarolinaRhode Island",481,-1.7147055558785752E-2,7.9999999999999932E-3,30]
[null,"South Carolina",3.0229349796761933E-2,7.0000000000000007E-2,88,"South Dakota",1.3431155417655547E-2,0,79,"South CarolinaSouth Dakota",158,-1.6798194379106388E-2,-7.0000000000000007E-2,-9]
[null,"South Carolina",3.0229349796761933E-2,7.0000000000000007E-2,88,"Tennessee",3.2145443397273599E-2,0,82,"South CarolinaTennessee",4300,1.9160936005116654E-3,-7.0000000000000007E-2,-6]
[null,"South Carolina",3.0229349796761933E-2,7.0000000000000007E-2,88,"Texas",2.1592392711972809E-2,0,83,"South CarolinaTexas",4470,-8.6369570847891243E-3,-7.0000000000000007E-2,-5]
[null,"South Carolina",3.0229349796761933E-2,7.0000000000000007E-2,88,"Utah",1.0307262126890326E-2,0.05,84,"South CarolinaUtah",60,-1.9922087669871608E-2,-2.0000000000000004E-2,-4]
[null,"South Carolina",3.0229349796761933E-2,7.0000000000000007E-2,88,"Vermont",7.1490112957021358E-3,8.3000000000000004E-2,110,"South CarolinaVermont",124,-2.3080338501059797E-2,1.2999999999999998E-2,22]
[null,"South Carolina",3.0229349796761933E-2,7.0000000000000007E-2,88,"Virginia",1.039712030953501E-2,5.8000000000000003E-2,87,"South CarolinaVirginia",7936,-1.9832229487226925E-2,-1.2000000000000004E-2,-1]
[null,"South Carolina",3.0229349796761933E-2,7.0000000000000007E-2,88,"Washington",1.5569251587054078E-2,0,102,"South CarolinaWashington",2727,-1.4660098209707855E-2,-7.0000000000000007E-2,14]
[null,"South Carolina",3.0229349796761933E-2,7.0000000000000007E-2,88,"West Virginia",1.6695121757837481E-2,6.5000000000000002E-2,91,"South CarolinaWest Virginia",1098,-1.3534228038924453E-2,-5.0000000000000044E-3,3]
[null,"South Carolina",3.0229349796761933E-2,7.0000000000000007E-2,88,"Wisconsin",1.2522002040309323E-2,6.8000000000000005E-2,105,"South CarolinaWisconsin",1053,-1.7707347756452611E-2,-2.0000000000000018E-3,17]
[null,"South Carolina",3.0229349796761933E-2,7.0000000000000007E-2,88,"Wyoming",1.159170556116435E-2,0,76,"South CarolinaWyoming",122,-1.8637644235597585E-2,-7.0000000000000007E-2,-12]
[null,"South Carolina",3.0229349796761933E-2,7.0000000000000007E-2,88,"Puerto Rico",0,0,0,"South CarolinaPuerto Rico",4,-3.0229349796761933E-2,-7.0000000000000007E-2,-88]
[null,"South Dakota",1.3431155417655547E-2,0,79,"Alabama",2.2202899776411697E-2,0.05,83,"South DakotaAlabama",518,8.7717443587561495E-3,0.05,4]
[null,"South Dakota",1.3431155417655547E-2,0,79,"Alaska",3.2055585214628916E-2,0,117,"South DakotaAlaska",99,1.8624429796973367E-2,0,38]
[null,"South Dakota",1.3431155417655547E-2,0,79,"Arizona",2.1452319662556094E-2,4.4999999999999998E-2,87,"South DakotaArizona",1472,8.0211642449005468E-3,4.4999999999999998E-2,8]
[null,"South Dakota",1.3431155417655547E-2,0,79,"Arkansas",2.5419294137546445E-2,7.0000000000000007E-2,79,"South DakotaArkansas",673,1.1988138719890898E-2,7.0000000000000007E-2,0]
[null,"South Dakota",1.3431155417655547E-2,0,79,"California",2.1729822873664682E-2,9.6000000000000002E-2,92,"South DakotaCalifornia",826,8.2986674560091341E-3,9.6000000000000002E-2,13]
[null,"South Dakota",1.3431155417655547E-2,0,79,"Colorado",1.6922410102174039E-2,4.5999999999999999E-2,106,"South DakotaColorado",756,3.4912546845184914E-3,4.5999999999999999E-2,27]
[null,"South Dakota",1.3431155417655547E-2,0,79,"Connecticut",1.4419595426747081E-2,0.05,105,"South DakotaConnecticut",0,9.8844000909153323E-4,0.05,26]
[null,"South Dakota",1.3431155417655547E-2,0,79,"Delaware",2.9571270753275862E-2,7.0000000000000007E-2,100,"South DakotaDelaware",0,1.6140115335620313E-2,7.0000000000000007E-2,21]
[null,"South Dakota",1.3431155417655547E-2,0,79,"District of Columbia ",6.3540306680691577E-2,8.5000000000000006E-2,148,"South DakotaDistrict of Columbia ",0,5.0109151263036028E-2,8.5000000000000006E-2,69]
[null,"South Dakota",1.3431155417655547E-2,0,79,"Florida",2.7237600892238891E-2,0,89,"South DakotaFlorida",1070,1.3806445474583344E-2,0,10]
[null,"South Dakota",1.3431155417655547E-2,0,79,"Georgia",1.9726513978233176E-2,0.06,95,"South DakotaGeorgia",257,6.2953585605776286E-3,0.06,16]
[null,"South Dakota",1.3431155417655547E-2,0,79,"Hawaii",1.5418606986737988E-2,8.3000000000000004E-2,149,"South DakotaHawaii",459,1.9874515690824403E-3,8.3000000000000004E-2,70]
[null,"South Dakota",1.3431155417655547E-2,0,79,"Idaho",1.0619122878421879E-2,7.8E-2,98,"South DakotaIdaho",118,-2.8120325392336689E-3,7.8E-2,19]
[null,"South Dakota",1.3431155417655547E-2,0,79,"Illinois",2.2681262454608404E-2,0.03,91,"South DakotaIllinois",394,9.2501070369528562E-3,0.03,12]
[null,"South Dakota",1.3431155417655547E-2,0,79,"Indiana",1.754084582978746E-2,3.4000000000000002E-2,88,"South DakotaIndiana",111,4.1096904121319128E-3,3.4000000000000002E-2,9]
[null,"South Dakota",1.3431155417655547E-2,0,79,"Iowa",1.3507799161676014E-2,0.09,90,"South DakotaIowa",1158,7.6643744020466267E-5,0.09,11]
[null,"South Dakota",1.3431155417655547E-2,0,79,"Kansas",1.8706359316443516E-2,6.5000000000000002E-2,84,"South DakotaKansas",154,5.2752038987879685E-3,6.5000000000000002E-2,5]
[null,"South Dakota",1.3431155417655547E-2,0,79,"Kentucky",1.6652835554239985E-2,5.8000000000000003E-2,92,"South DakotaKentucky",0,3.2216801365844375E-3,5.8000000000000003E-2,13]
[null,"South Dakota",1.3431155417655547E-2,0,79,"Louisiana",2.935191107211383E-2,0.06,88,"South DakotaLouisiana",0,1.5920755654458281E-2,0.06,9]
[null,"South Dakota",1.3431155417655547E-2,0,79,"Maine",6.5120753540148114E-3,6.9000000000000006E-2,104,"South DakotaMaine",0,-6.9190800636407361E-3,6.9000000000000006E-2,25]
[null,"South Dakota",1.3431155417655547E-2,0,79,"Maryland",2.611701649690518E-2,0.05,103,"South DakotaMaryland",0,1.2685861079249633E-2,0.05,24]
[null,"South Dakota",1.3431155417655547E-2,0,79,"Massachusetts",2.2641619138735747E-2,5.2999999999999999E-2,126,"South DakotaMassachusetts",194,9.2104637210801994E-3,5.2999999999999999E-2,47]
[null,"South Dakota",1.3431155417655547E-2,0,79,"Michigan",2.3537558077457752E-2,4.3999999999999997E-2,82,"South DakotaMichigan",66,{"$f":"G2175-C2175","v":1.0106402659802205E-2},{"$f":"H2175-D2175","v":4.3999999999999997E-2},{"$f":"I2175-E2175","v":3}]
[null,"South Dakota",1.3431155417655547E-2,0,79,"Minnesota",1.1694778182433254E-2,7.9000000000000001E-2,121,"South DakotaMinnesota",3442,-1.7363772352222938E-3,7.9000000000000001E-2,42]
[null,"South Dakota",1.3431155417655547E-2,0,79,"Mississippi",1.426102216325646E-2,0.05,76,"South DakotaMississippi",79,8.2986674560091289E-4,0.05,-3]
[null,"South Dakota",1.3431155417655547E-2,0,79,"Missouri",2.3569272730155875E-2,0.06,81,"South DakotaMissouri",527,1.0138117312500328E-2,0.06,2]
[null,"South Dakota",1.3431155417655547E-2,0,79,"Montana",1.4139449327913651E-2,6.9000000000000006E-2,93,"South DakotaMontana",191,7.0829391025810373E-4,6.9000000000000006E-2,14]
[null,"South Dakota",1.3431155417655547E-2,0,79,"Nebraska",1.3380940550883517E-2,6.8000000000000005E-2,77,"South DakotaNebraska",2507,-5.02148667720307E-5,6.8000000000000005E-2,-2]
[null,"South Dakota",1.3431155417655547E-2,0,79,"Nevada",2.9713986690417422E-2,0,99,"South DakotaNevada",0,1.6282831272761873E-2,0,20]
[null,"South Dakota",1.3431155417655547E-2,0,79,"New Hampshire",9.9372578454122104E-3,0,120,"South DakotaNew Hampshire",0,-3.4938975722433371E-3,0,41]
[null,"South Dakota",1.3431155417655547E-2,0,79,"New Jersey",1.6301331486835775E-2,6.4000000000000001E-2,103,"South DakotaNew Jersey",581,2.8701760691802278E-3,6.4000000000000001E-2,24]
[null,"South Dakota",1.3431155417655547E-2,0,79,"New Mexico",2.9999418564700536E-2,4.9000000000000002E-2,105,"South DakotaNew Mexico",509,1.6568263147044987E-2,4.9000000000000002E-2,26]
[null,"South Dakota",1.3431155417655547E-2,0,79,"New York",2.1042672065205326E-2,7.9000000000000001E-2,114,"South DakotaNew York",0,7.6115166475497782E-3,7.9000000000000001E-2,35]
[null,"South Dakota",1.3431155417655547E-2,0,79,"North Carolina",1.8489642523006337E-2,7.0000000000000007E-2,81,"South DakotaNorth Carolina",351,5.0584871053507893E-3,7.0000000000000007E-2,2]
[null,"South Dakota",1.3431155417655547E-2,0,79,"North Dakota",1.3055865360727744E-2,3.7999999999999999E-2,89,"South DakotaNorth Dakota",1754,-3.752900569278031E-4,3.7999999999999999E-2,10]
[null,"South Dakota",1.3431155417655547E-2,0,79,"Ohio",1.6248473732338901E-2,4.7E-2,106,"South DakotaOhio",47,2.8173183146833532E-3,4.7E-2,27]
[null,"South Dakota",1.3431155417655547E-2,0,79,"Oklahoma",2.4039706745178049E-2,5.5E-2,84,"South DakotaOklahoma",108,1.0608551327522501E-2,5.5E-2,5]
[null,"South Dakota",1.3431155417655547E-2,0,79,"Oregon",1.3084937125701024E-2,0.108,107,"South DakotaOregon",119,-3.4621829195452362E-4,0.108,28]
[null,"South Dakota",1.3431155417655547E-2,0,79,"Pennsylvania",1.8764502846390078E-2,0.03,96,"South DakotaPennsylvania",159,5.333347428734531E-3,0.03,17]
[null,"South Dakota",1.3431155417655547E-2,0,79,"Rhode Island",1.3082294237976182E-2,7.8E-2,118,"South DakotaRhode Island",0,-3.4886117967936579E-4,7.8E-2,39]
[null,"South Dakota",1.3431155417655547E-2,0,79,"South Carolina",3.0229349796761933E-2,7.0000000000000007E-2,88,"South DakotaSouth Carolina",816,1.6798194379106388E-2,7.0000000000000007E-2,9]
[null,"South Dakota",1.3431155417655547E-2,0,79,"Tennessee",3.2145443397273599E-2,0,82,"South DakotaTennessee",0,1.8714287979618049E-2,0,3]
[null,"South Dakota",1.3431155417655547E-2,0,79,"Texas",2.1592392711972809E-2,0,83,"South DakotaTexas",1264,8.1612372943172615E-3,0,4]
[null,"South Dakota",1.3431155417655547E-2,0,79,"Utah",1.0307262126890326E-2,0.05,84,"South DakotaUtah",47,-3.1238932907652218E-3,0.05,5]
[null,"South Dakota",1.3431155417655547E-2,0,79,"Vermont",7.1490112957021358E-3,8.3000000000000004E-2,110,"South DakotaVermont",39,-6.2821441219534117E-3,8.3000000000000004E-2,31]
[null,"South Dakota",1.3431155417655547E-2,0,79,"Virginia",1.039712030953501E-2,5.8000000000000003E-2,87,"South DakotaVirginia",35,-3.0340351081205377E-3,5.8000000000000003E-2,8]
[null,"South Dakota",1.3431155417655547E-2,0,79,"Washington",1.5569251587054078E-2,0,102,"South DakotaWashington",94,2.1380961693985307E-3,0,23]
[null,"South Dakota",1.3431155417655547E-2,0,79,"West Virginia",1.6695121757837481E-2,6.5000000000000002E-2,91,"South DakotaWest Virginia",36,3.2639663401819331E-3,6.5000000000000002E-2,12]
[null,"South Dakota",1.3431155417655547E-2,0,79,"Wisconsin",1.2522002040309323E-2,6.8000000000000005E-2,105,"South DakotaWisconsin",329,-9.091533773462248E-4,6.8000000000000005E-2,26]
[null,"South Dakota",1.3431155417655547E-2,0,79,"Wyoming",1.159170556116435E-2,0,76,"South DakotaWyoming",1175,-1.8394498564911974E-3,0,-3]
[null,"South Dakota",1.3431155417655547E-2,0,79,"Puerto Rico",0,0,0,"South DakotaPuerto Rico",0,-1.3431155417655547E-2,0,-79]
[null,"Tennessee",3.2145443397273599E-2,0,82,"Alabama",2.2202899776411697E-2,0.05,83,"TennesseeAlabama",10539,-9.9425436208619017E-3,0.05,1]
[null,"Tennessee",3.2145443397273599E-2,0,82,"Alaska",3.2055585214628916E-2,0,117,"TennesseeAlaska",451,-8.9858182644682316E-5,0,35]
[null,"Tennessee",3.2145443397273599E-2,0,82,"Arizona",2.1452319662556094E-2,4.4999999999999998E-2,87,"TennesseeArizona",5075,-1.0693123734717504E-2,4.4999999999999998E-2,5]
[null,"Tennessee",3.2145443397273599E-2,0,82,"Arkansas",2.5419294137546445E-2,7.0000000000000007E-2,79,"TennesseeArkansas",4195,-6.7261492597271537E-3,7.0000000000000007E-2,-3]
[null,"Tennessee",3.2145443397273599E-2,0,82,"California",2.1729822873664682E-2,9.6000000000000002E-2,92,"TennesseeCalifornia",5802,-1.0415620523608917E-2,9.6000000000000002E-2,10]
[null,"Tennessee",3.2145443397273599E-2,0,82,"Colorado",1.6922410102174039E-2,4.5999999999999999E-2,106,"TennesseeColorado",2535,-1.522303329509956E-2,4.5999999999999999E-2,24]
[null,"Tennessee",3.2145443397273599E-2,0,82,"Connecticut",1.4419595426747081E-2,0.05,105,"TennesseeConnecticut",260,-1.7725847970526516E-2,0.05,23]
[null,"Tennessee",3.2145443397273599E-2,0,82,"Delaware",2.9571270753275862E-2,7.0000000000000007E-2,100,"TennesseeDelaware",344,-2.5741726439977367E-3,7.0000000000000007E-2,18]
[null,"Tennessee",3.2145443397273599E-2,0,82,"District of Columbia ",6.3540306680691577E-2,8.5000000000000006E-2,148,"TennesseeDistrict of Columbia ",577,3.1394863283417979E-2,8.5000000000000006E-2,66]
[null,"Tennessee",3.2145443397273599E-2,0,82,"Florida",2.7237600892238891E-2,0,89,"TennesseeFlorida",16275,-4.9078425050347076E-3,0,7]
[null,"Tennessee",3.2145443397273599E-2,0,82,"Georgia",1.9726513978233176E-2,0.06,95,"TennesseeGeorgia",17606,-1.2418929419040423E-2,0.06,13]
[null,"Tennessee",3.2145443397273599E-2,0,82,"Hawaii",1.5418606986737988E-2,8.3000000000000004E-2,149,"TennesseeHawaii",1314,-1.6726836410535611E-2,8.3000000000000004E-2,67]
[null,"Tennessee",3.2145443397273599E-2,0,82,"Idaho",1.0619122878421879E-2,7.8E-2,98,"TennesseeIdaho",1957,-2.152632051885172E-2,7.8E-2,16]
[null,"Tennessee",3.2145443397273599E-2,0,82,"Illinois",2.2681262454608404E-2,0.03,91,"TennesseeIllinois",4648,-9.464180942665195E-3,0.03,9]
[null,"Tennessee",3.2145443397273599E-2,0,82,"Indiana",1.754084582978746E-2,3.4000000000000002E-2,88,"TennesseeIndiana",3547,-1.4604597567486138E-2,3.4000000000000002E-2,6]
[null,"Tennessee",3.2145443397273599E-2,0,82,"Iowa",1.3507799161676014E-2,0.09,90,"TennesseeIowa",1148,-1.8637644235597585E-2,0.09,8]
[null,"Tennessee",3.2145443397273599E-2,0,82,"Kansas",1.8706359316443516E-2,6.5000000000000002E-2,84,"TennesseeKansas",1542,-1.3439084080830083E-2,6.5000000000000002E-2,2]
[null,"Tennessee",3.2145443397273599E-2,0,82,"Kentucky",1.6652835554239985E-2,5.8000000000000003E-2,92,"TennesseeKentucky",10064,-1.5492607843033614E-2,5.8000000000000003E-2,10]
[null,"Tennessee",3.2145443397273599E-2,0,82,"Louisiana",2.935191107211383E-2,0.06,88,"TennesseeLouisiana",2348,-2.7935323251597685E-3,0.06,6]
[null,"Tennessee",3.2145443397273599E-2,0,82,"Maine",6.5120753540148114E-3,6.9000000000000006E-2,104,"TennesseeMaine",985,-2.5633368043258789E-2,6.9000000000000006E-2,22]
[null,"Tennessee",3.2145443397273599E-2,0,82,"Maryland",2.611701649690518E-2,0.05,103,"TennesseeMaryland",1800,-6.0284269003684186E-3,0.05,21]
[null,"Tennessee",3.2145443397273599E-2,0,82,"Massachusetts",2.2641619138735747E-2,5.2999999999999999E-2,126,"TennesseeMassachusetts",823,-9.5038242585378518E-3,5.2999999999999999E-2,44]
[null,"Tennessee",3.2145443397273599E-2,0,82,"Michigan",2.3537558077457752E-2,4.3999999999999997E-2,82,"TennesseeMichigan",3259,-8.6078853198158466E-3,4.3999999999999997E-2,0]
[null,"Tennessee",3.2145443397273599E-2,0,82,"Minnesota",1.1694778182433254E-2,7.9000000000000001E-2,121,"TennesseeMinnesota",1738,-2.0450665214840347E-2,7.9000000000000001E-2,39]
[null,"Tennessee",3.2145443397273599E-2,0,82,"Mississippi",1.426102216325646E-2,0.05,76,"TennesseeMississippi",11643,-1.7884421234017137E-2,0.05,-6]
[null,"Tennessee",3.2145443397273599E-2,0,82,"Missouri",2.3569272730155875E-2,0.06,81,"TennesseeMissouri",3122,-8.5761706671177232E-3,0.06,-1]
[null,"Tennessee",3.2145443397273599E-2,0,82,"Montana",1.4139449327913651E-2,6.9000000000000006E-2,93,"TennesseeMontana",45,-1.8005994069359946E-2,6.9000000000000006E-2,11]
[null,"Tennessee",3.2145443397273599E-2,0,82,"Nebraska",1.3380940550883517E-2,6.8000000000000005E-2,77,"TennesseeNebraska",232,-1.8764502846390082E-2,6.8000000000000005E-2,-5]
[null,"Tennessee",3.2145443397273599E-2,0,82,"Nevada",2.9713986690417422E-2,0,99,"TennesseeNevada",1699,-2.4314567068561763E-3,0,17]
[null,"Tennessee",3.2145443397273599E-2,0,82,"New Hampshire",9.9372578454122104E-3,0,120,"TennesseeNew Hampshire",77,-2.2208185551861388E-2,0,38]
[null,"Tennessee",3.2145443397273599E-2,0,82,"New Jersey",1.6301331486835775E-2,6.4000000000000001E-2,103,"TennesseeNew Jersey",1400,-1.5844111910437823E-2,6.4000000000000001E-2,21]
[null,"Tennessee",3.2145443397273599E-2,0,82,"New Mexico",2.9999418564700536E-2,4.9000000000000002E-2,105,"TennesseeNew Mexico",338,-2.1460248325730624E-3,4.9000000000000002E-2,23]
[null,"Tennessee",3.2145443397273599E-2,0,82,"New York",2.1042672065205326E-2,7.9000000000000001E-2,114,"TennesseeNew York",1279,-1.1102771332068273E-2,7.9000000000000001E-2,32]
[null,"Tennessee",3.2145443397273599E-2,0,82,"North Carolina",1.8489642523006337E-2,7.0000000000000007E-2,81,"TennesseeNorth Carolina",9230,-1.3655800874267262E-2,7.0000000000000007E-2,-1]
[null,"Tennessee",3.2145443397273599E-2,0,82,"North Dakota",1.3055865360727744E-2,3.7999999999999999E-2,89,"TennesseeNorth Dakota",746,-1.9089578036545853E-2,3.7999999999999999E-2,7]
[null,"Tennessee",3.2145443397273599E-2,0,82,"Ohio",1.6248473732338901E-2,4.7E-2,106,"TennesseeOhio",3542,{"$f":"G2239-C2239","v":-1.5896969664934698E-2},{"$f":"H2239-D2239","v":4.7E-2},{"$f":"I2239-E2239","v":24}]
[null,"Tennessee",3.2145443397273599E-2,0,82,"Oklahoma",2.4039706745178049E-2,5.5E-2,84,"TennesseeOklahoma",2471,-8.10573665209555E-3,5.5E-2,2]
[null,"Tennessee",3.2145443397273599E-2,0,82,"Oregon",1.3084937125701024E-2,0.108,107,"TennesseeOregon",802,-1.9060506271572575E-2,0.108,25]
[null,"Tennessee",3.2145443397273599E-2,0,82,"Pennsylvania",1.8764502846390078E-2,0.03,96,"TennesseePennsylvania",1273,-1.338094055088352E-2,0.03,14]
[null,"Tennessee",3.2145443397273599E-2,0,82,"Rhode Island",1.3082294237976182E-2,7.8E-2,118,"TennesseeRhode Island",120,-1.9063149159297417E-2,7.8E-2,36]
[null,"Tennessee",3.2145443397273599E-2,0,82,"South Carolina",3.0229349796761933E-2,7.0000000000000007E-2,88,"TennesseeSouth Carolina",3550,-1.9160936005116654E-3,7.0000000000000007E-2,6]
[null,"Tennessee",3.2145443397273599E-2,0,82,"South Dakota",1.3431155417655547E-2,0,79,"TennesseeSouth Dakota",507,-1.8714287979618049E-2,0,-3]
[null,"Tennessee",3.2145443397273599E-2,0,82,"Texas",2.1592392711972809E-2,0,83,"TennesseeTexas",10368,-1.055305068530079E-2,0,1]
[null,"Tennessee",3.2145443397273599E-2,0,82,"Utah",1.0307262126890326E-2,0.05,84,"TennesseeUtah",863,-2.1838181270383273E-2,0.05,2]
[null,"Tennessee",3.2145443397273599E-2,0,82,"Vermont",7.1490112957021358E-3,8.3000000000000004E-2,110,"TennesseeVermont",193,-2.4996432101571462E-2,8.3000000000000004E-2,28]
[null,"Tennessee",3.2145443397273599E-2,0,82,"Virginia",1.039712030953501E-2,5.8000000000000003E-2,87,"TennesseeVirginia",6189,-2.1748323087738587E-2,5.8000000000000003E-2,5]
[null,"Tennessee",3.2145443397273599E-2,0,82,"Washington",1.5569251587054078E-2,0,102,"TennesseeWashington",3206,-1.657619181021952E-2,0,20]
[null,"Tennessee",3.2145443397273599E-2,0,82,"West Virginia",1.6695121757837481E-2,6.5000000000000002E-2,91,"TennesseeWest Virginia",1061,-1.5450321639436118E-2,6.5000000000000002E-2,9]
[null,"Tennessee",3.2145443397273599E-2,0,82,"Wisconsin",1.2522002040309323E-2,6.8000000000000005E-2,105,"TennesseeWisconsin",1051,-1.9623441356964276E-2,6.8000000000000005E-2,23]
[null,"Tennessee",3.2145443397273599E-2,0,82,"Wyoming",1.159170556116435E-2,0,76,"TennesseeWyoming",4,-2.0553737836109247E-2,0,-6]
[null,"Tennessee",3.2145443397273599E-2,0,82,"Puerto Rico",0,0,0,"TennesseePuerto Rico",15,-3.2145443397273599E-2,0,-82]
[null,"Texas",2.1592392711972809E-2,0,83,"Alabama",2.2202899776411697E-2,0.05,83,"TexasAlabama",7468,6.1050706443888797E-4,0.05,0]
[null,"Texas",2.1592392711972809E-2,0,83,"Alaska",3.2055585214628916E-2,0,117,"TexasAlaska",1488,1.0463192502656107E-2,0,34]
[null,"Texas",2.1592392711972809E-2,0,83,"Arizona",2.1452319662556094E-2,4.4999999999999998E-2,87,"TexasArizona",14788,-1.4007304941671475E-4,4.4999999999999998E-2,4]
[null,"Texas",2.1592392711972809E-2,0,83,"Arkansas",2.5419294137546445E-2,7.0000000000000007E-2,79,"TexasArkansas",11767,3.826901425573636E-3,7.0000000000000007E-2,-4]
[null,"Texas",2.1592392711972809E-2,0,83,"California",2.1729822873664682E-2,9.6000000000000002E-2,92,"TexasCalifornia",43005,1.3743016169187258E-4,9.6000000000000002E-2,9]
[null,"Texas",2.1592392711972809E-2,0,83,"Colorado",1.6922410102174039E-2,4.5999999999999999E-2,106,"TexasColorado",17355,-4.6699826097987701E-3,4.5999999999999999E-2,23]
[null,"Texas",2.1592392711972809E-2,0,83,"Connecticut",1.4419595426747081E-2,0.05,105,"TexasConnecticut",3279,-7.1727972852257283E-3,0.05,22]
[null,"Texas",2.1592392711972809E-2,0,83,"Delaware",2.9571270753275862E-2,7.0000000000000007E-2,100,"TexasDelaware",133,7.978878041303053E-3,7.0000000000000007E-2,17]
[null,"Texas",2.1592392711972809E-2,0,83,"District of Columbia ",6.3540306680691577E-2,8.5000000000000006E-2,148,"TexasDistrict of Columbia ",1473,4.1947913968718768E-2,8.5000000000000006E-2,65]
[null,"Texas",2.1592392711972809E-2,0,83,"Florida",2.7237600892238891E-2,0,89,"TexasFlorida",28564,5.6452081802660821E-3,0,6]
[null,"Texas",2.1592392711972809E-2,0,83,"Georgia",1.9726513978233176E-2,0.06,95,"TexasGeorgia",16198,-1.8658787337396329E-3,0.06,12]
[null,"Texas",2.1592392711972809E-2,0,83,"Hawaii",1.5418606986737988E-2,8.3000000000000004E-2,149,"TexasHawaii",3300,-6.1737857252348212E-3,8.3000000000000004E-2,66]
[null,"Texas",2.1592392711972809E-2,0,83,"Idaho",1.0619122878421879E-2,7.8E-2,98,"TexasIdaho",1352,-1.097326983355093E-2,7.8E-2,15]
[null,"Texas",2.1592392711972809E-2,0,83,"Illinois",2.2681262454608404E-2,0.03,91,"TexasIllinois",16780,1.0888697426355946E-3,0.03,8]
[null,"Texas",2.1592392711972809E-2,0,83,"Indiana",1.754084582978746E-2,3.4000000000000002E-2,88,"TexasIndiana",4490,-4.0515468821853487E-3,3.4000000000000002E-2,5]
[null,"Texas",2.1592392711972809E-2,0,83,"Iowa",1.3507799161676014E-2,0.09,90,"TexasIowa",3553,-8.0845935502967953E-3,0.09,7]
[null,"Texas",2.1592392711972809E-2,0,83,"Kansas",1.8706359316443516E-2,6.5000000000000002E-2,84,"TexasKansas",8468,-2.886033395529293E-3,6.5000000000000002E-2,1]
[null,"Texas",2.1592392711972809E-2,0,83,"Kentucky",1.6652835554239985E-2,5.8000000000000003E-2,92,"TexasKentucky",3345,-4.939557157732824E-3,5.8000000000000003E-2,9]
[null,"Texas",2.1592392711972809E-2,0,83,"Louisiana",2.935191107211383E-2,0.06,88,"TexasLouisiana",24488,7.7595183601410211E-3,0.06,5]
[null,"Texas",2.1592392711972809E-2,0,83,"Maine",6.5120753540148114E-3,6.9000000000000006E-2,104,"TexasMaine",496,-1.5080317357957998E-2,6.9000000000000006E-2,21]
[null,"Texas",2.1592392711972809E-2,0,83,"Maryland",2.611701649690518E-2,0.05,103,"TexasMaryland",5612,4.524623784932371E-3,0.05,20]
[null,"Texas",2.1592392711972809E-2,0,83,"Massachusetts",2.2641619138735747E-2,5.2999999999999999E-2,126,"TexasMassachusetts",3694,1.0492264267629378E-3,5.2999999999999999E-2,43]
[null,"Texas",2.1592392711972809E-2,0,83,"Michigan",2.3537558077457752E-2,4.3999999999999997E-2,82,"TexasMichigan",8638,1.9451653654849431E-3,4.3999999999999997E-2,-1]
[null,"Texas",2.1592392711972809E-2,0,83,"Minnesota",1.1694778182433254E-2,7.9000000000000001E-2,121,"TexasMinnesota",4001,-9.8976145295395553E-3,7.9000000000000001E-2,38]
[null,"Texas",2.1592392711972809E-2,0,83,"Mississippi",1.426102216325646E-2,0.05,76,"TexasMississippi",7230,-7.3313705487163486E-3,0.05,-7]
[null,"Texas",2.1592392711972809E-2,0,83,"Missouri",2.3569272730155875E-2,0.06,81,"TexasMissouri",9278,1.9768800181830665E-3,0.06,-2]
[null,"Texas",2.1592392711972809E-2,0,83,"Montana",1.4139449327913651E-2,6.9000000000000006E-2,93,"TexasMontana",1393,-7.4529433840591578E-3,6.9000000000000006E-2,10]
[null,"Texas",2.1592392711972809E-2,0,83,"Nebraska",1.3380940550883517E-2,6.8000000000000005E-2,77,"TexasNebraska",3130,-8.2114521610892922E-3,6.8000000000000005E-2,-6]
[null,"Texas",2.1592392711972809E-2,0,83,"Nevada",2.9713986690417422E-2,0,99,"TexasNevada",5484,8.1215939784446134E-3,0,16]
[null,"Texas",2.1592392711972809E-2,0,83,"New Hampshire",9.9372578454122104E-3,0,120,"TexasNew Hampshire",2150,-1.1655134866560599E-2,0,37]
[null,"Texas",2.1592392711972809E-2,0,83,"New Jersey",1.6301331486835775E-2,6.4000000000000001E-2,103,"TexasNew Jersey",2509,-5.2910612251370337E-3,6.4000000000000001E-2,20]
[null,"Texas",2.1592392711972809E-2,0,83,"New Mexico",2.9999418564700536E-2,4.9000000000000002E-2,105,"TexasNew Mexico",11955,8.4070258527277272E-3,4.9000000000000002E-2,22]
[null,"Texas",2.1592392711972809E-2,0,83,"New York",2.1042672065205326E-2,7.9000000000000001E-2,114,"TexasNew York",11231,-5.4972064676748339E-4,7.9000000000000001E-2,31]
[null,"Texas",2.1592392711972809E-2,0,83,"North Carolina",1.8489642523006337E-2,7.0000000000000007E-2,81,"TexasNorth Carolina",12638,-3.1027501889664723E-3,7.0000000000000007E-2,-2]
[null,"Texas",2.1592392711972809E-2,0,83,"North Dakota",1.3055865360727744E-2,3.7999999999999999E-2,89,"TexasNorth Dakota",1414,-8.5365273512450646E-3,3.7999999999999999E-2,6]
[null,"Texas",2.1592392711972809E-2,0,83,"Ohio",1.6248473732338901E-2,4.7E-2,106,"TexasOhio",11760,-5.3439189796339083E-3,4.7E-2,23]
[null,"Texas",2.1592392711972809E-2,0,83,"Oklahoma",2.4039706745178049E-2,5.5E-2,84,"TexasOklahoma",25508,2.4473140332052397E-3,5.5E-2,1]
[null,"Texas",2.1592392711972809E-2,0,83,"Oregon",1.3084937125701024E-2,0.108,107,"TexasOregon",3347,-8.5074555862717852E-3,0.108,24]
[null,"Texas",2.1592392711972809E-2,0,83,"Pennsylvania",1.8764502846390078E-2,0.03,96,"TexasPennsylvania",6768,-2.8278898655827306E-3,0.03,13]
[null,"Texas",2.1592392711972809E-2,0,83,"Rhode Island",1.3082294237976182E-2,7.8E-2,118,"TexasRhode Island",823,-8.5100984739966273E-3,7.8E-2,35]
[null,"Texas",2.1592392711972809E-2,0,83,"South Carolina",3.0229349796761933E-2,7.0000000000000007E-2,88,"TexasSouth Carolina",5351,8.6369570847891243E-3,7.0000000000000007E-2,5]
[null,"Texas",2.1592392711972809E-2,0,83,"South Dakota",1.3431155417655547E-2,0,79,"TexasSouth Dakota",1715,-8.1612372943172615E-3,0,-4]
[null,"Texas",2.1592392711972809E-2,0,83,"Tennessee",3.2145443397273599E-2,0,82,"TexasTennessee",8716,1.055305068530079E-2,0,-1]
[null,"Texas",2.1592392711972809E-2,0,83,"Utah",1.0307262126890326E-2,0.05,84,"TexasUtah",3605,-1.1285130585082483E-2,0.05,1]
[null,"Texas",2.1592392711972809E-2,0,83,"Vermont",7.1490112957021358E-3,8.3000000000000004E-2,110,"TexasVermont",493,-1.4443381416270672E-2,8.3000000000000004E-2,27]
[null,"Texas",2.1592392711972809E-2,0,83,"Virginia",1.039712030953501E-2,5.8000000000000003E-2,87,"TexasVirginia",12944,-1.1195272402437799E-2,5.8000000000000003E-2,4]
[null,"Texas",2.1592392711972809E-2,0,83,"Washington",1.5569251587054078E-2,0,102,"TexasWashington",14196,-6.0231411249187308E-3,0,19]
[null,"Texas",2.1592392711972809E-2,0,83,"West Virginia",1.6695121757837481E-2,6.5000000000000002E-2,91,"TexasWest Virginia",622,-4.8972709541353285E-3,6.5000000000000002E-2,8]
[null,"Texas",2.1592392711972809E-2,0,83,"Wisconsin",1.2522002040309323E-2,6.8000000000000005E-2,105,"TexasWisconsin",2765,{"$f":"G2303-C2303","v":-9.0703906716634863E-3},{"$f":"H2303-D2303","v":6.8000000000000005E-2},{"$f":"I2303-E2303","v":22}]
[null,"Texas",2.1592392711972809E-2,0,83,"Wyoming",1.159170556116435E-2,0,76,"TexasWyoming",1427,-1.0000687150808459E-2,0,-7]
[null,"Texas",2.1592392711972809E-2,0,83,"Puerto Rico",0,0,0,"TexasPuerto Rico",360,-2.1592392711972809E-2,0,-83]
[null,"Utah",1.0307262126890326E-2,0.05,84,"Alabama",2.2202899776411697E-2,0.05,83,"UtahAlabama",579,1.1895637649521371E-2,0,-1]
[null,"Utah",1.0307262126890326E-2,0.05,84,"Alaska",3.2055585214628916E-2,0,117,"UtahAlaska",330,2.1748323087738591E-2,-0.05,33]
[null,"Utah",1.0307262126890326E-2,0.05,84,"Arizona",2.1452319662556094E-2,4.4999999999999998E-2,87,"UtahArizona",5916,1.1145057535665769E-2,-5.0000000000000044E-3,3]
[null,"Utah",1.0307262126890326E-2,0.05,84,"Arkansas",2.5419294137546445E-2,7.0000000000000007E-2,79,"UtahArkansas",269,1.5112032010656119E-2,2.0000000000000004E-2,-5]
[null,"Utah",1.0307262126890326E-2,0.05,84,"California",2.1729822873664682E-2,9.6000000000000002E-2,92,"UtahCalifornia",12172,1.1422560746774356E-2,4.5999999999999999E-2,8]
[null,"Utah",1.0307262126890326E-2,0.05,84,"Colorado",1.6922410102174039E-2,4.5999999999999999E-2,106,"UtahColorado",6398,6.6151479752837132E-3,-4.0000000000000036E-3,22]
[null,"Utah",1.0307262126890326E-2,0.05,84,"Connecticut",1.4419595426747081E-2,0.05,105,"UtahConnecticut",45,4.112333299856755E-3,0,21]
[null,"Utah",1.0307262126890326E-2,0.05,84,"Delaware",2.9571270753275862E-2,7.0000000000000007E-2,100,"UtahDelaware",166,1.9264008626385536E-2,2.0000000000000004E-2,16]
[null,"Utah",1.0307262126890326E-2,0.05,84,"District of Columbia ",6.3540306680691577E-2,8.5000000000000006E-2,148,"UtahDistrict of Columbia ",116,5.3233044553801248E-2,3.5000000000000003E-2,64]
[null,"Utah",1.0307262126890326E-2,0.05,84,"Florida",2.7237600892238891E-2,0,89,"UtahFlorida",2499,1.6930338765348565E-2,-0.05,5]
[null,"Utah",1.0307262126890326E-2,0.05,84,"Georgia",1.9726513978233176E-2,0.06,95,"UtahGeorgia",20,9.4192518513428504E-3,9.999999999999995E-3,11]
[null,"Utah",1.0307262126890326E-2,0.05,84,"Hawaii",1.5418606986737988E-2,8.3000000000000004E-2,149,"UtahHawaii",2183,5.1113448598476621E-3,3.3000000000000002E-2,65]
[null,"Utah",1.0307262126890326E-2,0.05,84,"Idaho",1.0619122878421879E-2,7.8E-2,98,"UtahIdaho",6617,3.1186075153155288E-4,2.7999999999999997E-2,14]
[null,"Utah",1.0307262126890326E-2,0.05,84,"Illinois",2.2681262454608404E-2,0.03,91,"UtahIllinois",1154,1.2374000327718078E-2,-2.0000000000000004E-2,7]
[null,"Utah",1.0307262126890326E-2,0.05,84,"Indiana",1.754084582978746E-2,3.4000000000000002E-2,88,"UtahIndiana",105,7.2335837028971346E-3,-1.6E-2,4]
[null,"Utah",1.0307262126890326E-2,0.05,84,"Iowa",1.3507799161676014E-2,0.09,90,"UtahIowa",886,3.200537034785688E-3,3.9999999999999994E-2,6]
[null,"Utah",1.0307262126890326E-2,0.05,84,"Kansas",1.8706359316443516E-2,6.5000000000000002E-2,84,"UtahKansas",97,8.3990971895531903E-3,1.4999999999999999E-2,0]
[null,"Utah",1.0307262126890326E-2,0.05,84,"Kentucky",1.6652835554239985E-2,5.8000000000000003E-2,92,"UtahKentucky",464,6.3455734273496593E-3,8.0000000000000002E-3,8]
[null,"Utah",1.0307262126890326E-2,0.05,84,"Louisiana",2.935191107211383E-2,0.06,88,"UtahLouisiana",277,1.9044648945223504E-2,9.999999999999995E-3,4]
[null,"Utah",1.0307262126890326E-2,0.05,84,"Maine",6.5120753540148114E-3,6.9000000000000006E-2,104,"UtahMaine",200,-3.7951867728755143E-3,1.9000000000000003E-2,20]
[null,"Utah",1.0307262126890326E-2,0.05,84,"Maryland",2.611701649690518E-2,0.05,103,"UtahMaryland",1061,1.5809754370014854E-2,0,19]
[null,"Utah",1.0307262126890326E-2,0.05,84,"Massachusetts",2.2641619138735747E-2,5.2999999999999999E-2,126,"UtahMassachusetts",1027,1.2334357011845421E-2,2.9999999999999957E-3,42]
[null,"Utah",1.0307262126890326E-2,0.05,84,"Michigan",2.3537558077457752E-2,4.3999999999999997E-2,82,"UtahMichigan",819,1.3230295950567426E-2,-6.0000000000000053E-3,-2]
[null,"Utah",1.0307262126890326E-2,0.05,84,"Minnesota",1.1694778182433254E-2,7.9000000000000001E-2,121,"UtahMinnesota",429,1.387516055542928E-3,2.8999999999999998E-2,37]
[null,"Utah",1.0307262126890326E-2,0.05,84,"Mississippi",1.426102216325646E-2,0.05,76,"UtahMississippi",454,3.9537600363661347E-3,0,-8]
[null,"Utah",1.0307262126890326E-2,0.05,84,"Missouri",2.3569272730155875E-2,0.06,81,"UtahMissouri",3287,1.326201060326555E-2,9.999999999999995E-3,-3]
[null,"Utah",1.0307262126890326E-2,0.05,84,"Montana",1.4139449327913651E-2,6.9000000000000006E-2,93,"UtahMontana",260,3.8321872010233255E-3,1.9000000000000003E-2,9]
[null,"Utah",1.0307262126890326E-2,0.05,84,"Nebraska",1.3380940550883517E-2,6.8000000000000005E-2,77,"UtahNebraska",229,3.0736784239931911E-3,1.8000000000000002E-2,-7]
[null,"Utah",1.0307262126890326E-2,0.05,84,"Nevada",2.9713986690417422E-2,0,99,"UtahNevada",4605,1.9406724563527097E-2,-0.05,15]
[null,"Utah",1.0307262126890326E-2,0.05,84,"New Hampshire",9.9372578454122104E-3,0,120,"UtahNew Hampshire",557,-3.7000428147811529E-4,-0.05,36]
[null,"Utah",1.0307262126890326E-2,0.05,84,"New Jersey",1.6301331486835775E-2,6.4000000000000001E-2,103,"UtahNew Jersey",425,5.9940693599454496E-3,1.3999999999999999E-2,19]
[null,"Utah",1.0307262126890326E-2,0.05,84,"New Mexico",2.9999418564700536E-2,4.9000000000000002E-2,105,"UtahNew Mexico",1382,1.9692156437810211E-2,-1.0000000000000009E-3,21]
[null,"Utah",1.0307262126890326E-2,0.05,84,"New York",2.1042672065205326E-2,7.9000000000000001E-2,114,"UtahNew York",622,1.0735409938315E-2,2.8999999999999998E-2,30]
[null,"Utah",1.0307262126890326E-2,0.05,84,"North Carolina",1.8489642523006337E-2,7.0000000000000007E-2,81,"UtahNorth Carolina",1189,8.182380396116011E-3,2.0000000000000004E-2,-3]
[null,"Utah",1.0307262126890326E-2,0.05,84,"North Dakota",1.3055865360727744E-2,3.7999999999999999E-2,89,"UtahNorth Dakota",43,2.7486032338374187E-3,-1.2000000000000004E-2,5]
[null,"Utah",1.0307262126890326E-2,0.05,84,"Ohio",1.6248473732338901E-2,4.7E-2,106,"UtahOhio",197,5.941211605448575E-3,-3.0000000000000027E-3,22]
[null,"Utah",1.0307262126890326E-2,0.05,84,"Oklahoma",2.4039706745178049E-2,5.5E-2,84,"UtahOklahoma",2588,1.3732444618287723E-2,4.9999999999999975E-3,0]
[null,"Utah",1.0307262126890326E-2,0.05,84,"Oregon",1.3084937125701024E-2,0.108,107,"UtahOregon",4793,2.7776749988106982E-3,5.7999999999999996E-2,23]
[null,"Utah",1.0307262126890326E-2,0.05,84,"Pennsylvania",1.8764502846390078E-2,0.03,96,"UtahPennsylvania",1276,8.4572407194997527E-3,-2.0000000000000004E-2,12]
[null,"Utah",1.0307262126890326E-2,0.05,84,"Rhode Island",1.3082294237976182E-2,7.8E-2,118,"UtahRhode Island",0,2.775032111085856E-3,2.7999999999999997E-2,34]
[null,"Utah",1.0307262126890326E-2,0.05,84,"South Carolina",3.0229349796761933E-2,7.0000000000000007E-2,88,"UtahSouth Carolina",566,1.9922087669871608E-2,2.0000000000000004E-2,4]
[null,"Utah",1.0307262126890326E-2,0.05,84,"South Dakota",1.3431155417655547E-2,0,79,"UtahSouth Dakota",388,3.1238932907652218E-3,-0.05,-5]
[null,"Utah",1.0307262126890326E-2,0.05,84,"Tennessee",3.2145443397273599E-2,0,82,"UtahTennessee",784,2.1838181270383273E-2,-0.05,-2]
[null,"Utah",1.0307262126890326E-2,0.05,84,"Texas",2.1592392711972809E-2,0,83,"UtahTexas",4610,1.1285130585082483E-2,-0.05,-1]
[null,"Utah",1.0307262126890326E-2,0.05,84,"Vermont",7.1490112957021358E-3,8.3000000000000004E-2,110,"UtahVermont",81,-3.1582508311881899E-3,3.3000000000000002E-2,26]
[null,"Utah",1.0307262126890326E-2,0.05,84,"Virginia",1.039712030953501E-2,5.8000000000000003E-2,87,"UtahVirginia",2092,8.9858182644684051E-5,8.0000000000000002E-3,3]
[null,"Utah",1.0307262126890326E-2,0.05,84,"Washington",1.5569251587054078E-2,0,102,"UtahWashington",5298,5.2619894601637525E-3,-0.05,18]
[null,"Utah",1.0307262126890326E-2,0.05,84,"West Virginia",1.6695121757837481E-2,6.5000000000000002E-2,91,"UtahWest Virginia",0,6.3878596309471548E-3,1.4999999999999999E-2,7]
[null,"Utah",1.0307262126890326E-2,0.05,84,"Wisconsin",1.2522002040309323E-2,6.8000000000000005E-2,105,"UtahWisconsin",900,2.214739913418997E-3,1.8000000000000002E-2,21]
[null,"Utah",1.0307262126890326E-2,0.05,84,"Wyoming",1.159170556116435E-2,0,76,"UtahWyoming",1710,1.2844434342740244E-3,-0.05,-8]
[null,"Utah",1.0307262126890326E-2,0.05,84,"Puerto Rico",0,0,0,"UtahPuerto Rico",0,-1.0307262126890326E-2,-0.05,-84]
[null,"Vermont",7.1490112957021358E-3,8.3000000000000004E-2,110,"Alabama",2.2202899776411697E-2,0.05,83,"VermontAlabama",0,1.505388848070956E-2,-3.3000000000000002E-2,-27]
[null,"Vermont",7.1490112957021358E-3,8.3000000000000004E-2,110,"Alaska",3.2055585214628916E-2,0,117,"VermontAlaska",79,2.490657391892678E-2,-8.3000000000000004E-2,7]
[null,"Vermont",7.1490112957021358E-3,8.3000000000000004E-2,110,"Arizona",2.1452319662556094E-2,4.4999999999999998E-2,87,"VermontArizona",207,1.4303308366853958E-2,-3.8000000000000006E-2,-23]
[null,"Vermont",7.1490112957021358E-3,8.3000000000000004E-2,110,"Arkansas",2.5419294137546445E-2,7.0000000000000007E-2,79,"VermontArkansas",0,1.8270282841844308E-2,-1.2999999999999998E-2,-31]
[null,"Vermont",7.1490112957021358E-3,8.3000000000000004E-2,110,"California",2.1729822873664682E-2,9.6000000000000002E-2,92,"VermontCalifornia",544,1.4580811577962545E-2,1.2999999999999998E-2,-18]
[null,"Vermont",7.1490112957021358E-3,8.3000000000000004E-2,110,"Colorado",1.6922410102174039E-2,4.5999999999999999E-2,106,"VermontColorado",503,9.7733988064719023E-3,-3.7000000000000005E-2,-4]
[null,"Vermont",7.1490112957021358E-3,8.3000000000000004E-2,110,"Connecticut",1.4419595426747081E-2,0.05,105,"VermontConnecticut",709,7.2705841310449449E-3,-3.3000000000000002E-2,-5]
[null,"Vermont",7.1490112957021358E-3,8.3000000000000004E-2,110,"Delaware",2.9571270753275862E-2,7.0000000000000007E-2,100,"VermontDelaware",0,2.2422259457573725E-2,-1.2999999999999998E-2,-10]
[null,"Vermont",7.1490112957021358E-3,8.3000000000000004E-2,110,"District of Columbia ",6.3540306680691577E-2,8.5000000000000006E-2,148,"VermontDistrict of Columbia ",267,5.6391295384989444E-2,2.0000000000000018E-3,38]
[null,"Vermont",7.1490112957021358E-3,8.3000000000000004E-2,110,"Florida",2.7237600892238891E-2,0,89,"VermontFlorida",2747,2.0088589596536754E-2,-8.3000000000000004E-2,-21]
[null,"Vermont",7.1490112957021358E-3,8.3000000000000004E-2,110,"Georgia",1.9726513978233176E-2,0.06,95,"VermontGeorgia",84,{"$f":"G2367-C2367","v":1.2577502682531039E-2},{"$f":"H2367-D2367","v":-2.3000000000000007E-2},{"$f":"I2367-E2367","v":-15}]
[null,"Vermont",7.1490112957021358E-3,8.3000000000000004E-2,110,"Hawaii",1.5418606986737988E-2,8.3000000000000004E-2,149,"VermontHawaii",0,8.2695956910358512E-3,0,39]
[null,"Vermont",7.1490112957021358E-3,8.3000000000000004E-2,110,"Idaho",1.0619122878421879E-2,7.8E-2,98,"VermontIdaho",0,3.4701115827197428E-3,-5.0000000000000044E-3,-12]
[null,"Vermont",7.1490112957021358E-3,8.3000000000000004E-2,110,"Illinois",2.2681262454608404E-2,0.03,91,"VermontIllinois",156,1.5532251158906267E-2,-5.3000000000000005E-2,-19]
[null,"Vermont",7.1490112957021358E-3,8.3000000000000004E-2,110,"Indiana",1.754084582978746E-2,3.4000000000000002E-2,88,"VermontIndiana",0,1.0391834534085324E-2,-4.9000000000000002E-2,-22]
[null,"Vermont",7.1490112957021358E-3,8.3000000000000004E-2,110,"Iowa",1.3507799161676014E-2,0.09,90,"VermontIowa",0,6.358787865973878E-3,6.9999999999999923E-3,-20]
[null,"Vermont",7.1490112957021358E-3,8.3000000000000004E-2,110,"Kansas",1.8706359316443516E-2,6.5000000000000002E-2,84,"VermontKansas",70,1.1557348020741379E-2,-1.8000000000000002E-2,-26]
[null,"Vermont",7.1490112957021358E-3,8.3000000000000004E-2,110,"Kentucky",1.6652835554239985E-2,5.8000000000000003E-2,92,"VermontKentucky",45,9.5038242585378484E-3,-2.5000000000000001E-2,-18]
[null,"Vermont",7.1490112957021358E-3,8.3000000000000004E-2,110,"Louisiana",2.935191107211383E-2,0.06,88,"VermontLouisiana",45,2.2202899776411694E-2,-2.3000000000000007E-2,-22]
[null,"Vermont",7.1490112957021358E-3,8.3000000000000004E-2,110,"Maine",6.5120753540148114E-3,6.9000000000000006E-2,104,"VermontMaine",349,-6.369359416873244E-4,-1.3999999999999999E-2,-6]
[null,"Vermont",7.1490112957021358E-3,8.3000000000000004E-2,110,"Maryland",2.611701649690518E-2,0.05,103,"VermontMaryland",589,1.8968005201203043E-2,-3.3000000000000002E-2,-7]
[null,"Vermont",7.1490112957021358E-3,8.3000000000000004E-2,110,"Massachusetts",2.2641619138735747E-2,5.2999999999999999E-2,126,"VermontMassachusetts",2534,1.549260784303361E-2,-3.0000000000000006E-2,16]
[null,"Vermont",7.1490112957021358E-3,8.3000000000000004E-2,110,"Michigan",2.3537558077457752E-2,4.3999999999999997E-2,82,"VermontMichigan",60,1.6388546781755615E-2,-3.9000000000000007E-2,-28]
[null,"Vermont",7.1490112957021358E-3,8.3000000000000004E-2,110,"Minnesota",1.1694778182433254E-2,7.9000000000000001E-2,121,"VermontMinnesota",77,4.5457668867311179E-3,-4.0000000000000036E-3,11]
[null,"Vermont",7.1490112957021358E-3,8.3000000000000004E-2,110,"Mississippi",1.426102216325646E-2,0.05,76,"VermontMississippi",0,7.1120108675543246E-3,-3.3000000000000002E-2,-34]
[null,"Vermont",7.1490112957021358E-3,8.3000000000000004E-2,110,"Missouri",2.3569272730155875E-2,0.06,81,"VermontMissouri",318,1.6420261434453739E-2,-2.3000000000000007E-2,-29]
[null,"Vermont",7.1490112957021358E-3,8.3000000000000004E-2,110,"Montana",1.4139449327913651E-2,6.9000000000000006E-2,93,"VermontMontana",87,6.9904380322115154E-3,-1.3999999999999999E-2,-17]
[null,"Vermont",7.1490112957021358E-3,8.3000000000000004E-2,110,"Nebraska",1.3380940550883517E-2,6.8000000000000005E-2,77,"VermontNebraska",79,6.231929255181381E-3,-1.4999999999999999E-2,-33]
[null,"Vermont",7.1490112957021358E-3,8.3000000000000004E-2,110,"Nevada",2.9713986690417422E-2,0,99,"VermontNevada",121,2.2564975394715286E-2,-8.3000000000000004E-2,-11]
[null,"Vermont",7.1490112957021358E-3,8.3000000000000004E-2,110,"New Hampshire",9.9372578454122104E-3,0,120,"VermontNew Hampshire",2960,2.7882465497100746E-3,-8.3000000000000004E-2,10]
[null,"Vermont",7.1490112957021358E-3,8.3000000000000004E-2,110,"New Jersey",1.6301331486835775E-2,6.4000000000000001E-2,103,"VermontNew Jersey",35,9.1523201911336387E-3,-1.9000000000000003E-2,-7]
[null,"Vermont",7.1490112957021358E-3,8.3000000000000004E-2,110,"New Mexico",2.9999418564700536E-2,4.9000000000000002E-2,105,"VermontNew Mexico",81,2.28504072689984E-2,-3.4000000000000002E-2,-5]
[null,"Vermont",7.1490112957021358E-3,8.3000000000000004E-2,110,"New York",2.1042672065205326E-2,7.9000000000000001E-2,114,"VermontNew York",2764,1.3893660769503189E-2,-4.0000000000000036E-3,4]
[null,"Vermont",7.1490112957021358E-3,8.3000000000000004E-2,110,"North Carolina",1.8489642523006337E-2,7.0000000000000007E-2,81,"VermontNorth Carolina",445,1.13406312273042E-2,-1.2999999999999998E-2,-29]
[null,"Vermont",7.1490112957021358E-3,8.3000000000000004E-2,110,"North Dakota",1.3055865360727744E-2,3.7999999999999999E-2,89,"VermontNorth Dakota",758,5.9068540650256086E-3,-4.5000000000000005E-2,-21]
[null,"Vermont",7.1490112957021358E-3,8.3000000000000004E-2,110,"Ohio",1.6248473732338901E-2,4.7E-2,106,"VermontOhio",364,9.0994624366367641E-3,-3.6000000000000004E-2,-4]
[null,"Vermont",7.1490112957021358E-3,8.3000000000000004E-2,110,"Oklahoma",2.4039706745178049E-2,5.5E-2,84,"VermontOklahoma",197,1.6890695449475912E-2,-2.8000000000000004E-2,-26]
[null,"Vermont",7.1490112957021358E-3,8.3000000000000004E-2,110,"Oregon",1.3084937125701024E-2,0.108,107,"VermontOregon",367,5.9359258299988881E-3,2.4999999999999994E-2,-3]
[null,"Vermont",7.1490112957021358E-3,8.3000000000000004E-2,110,"Pennsylvania",1.8764502846390078E-2,0.03,96,"VermontPennsylvania",1012,1.1615491550687942E-2,-5.3000000000000005E-2,-14]
[null,"Vermont",7.1490112957021358E-3,8.3000000000000004E-2,110,"Rhode Island",1.3082294237976182E-2,7.8E-2,118,"VermontRhode Island",53,5.9332829422740459E-3,-5.0000000000000044E-3,8]
[null,"Vermont",7.1490112957021358E-3,8.3000000000000004E-2,110,"South Carolina",3.0229349796761933E-2,7.0000000000000007E-2,88,"VermontSouth Carolina",298,2.3080338501059797E-2,-1.2999999999999998E-2,-22]
[null,"Vermont",7.1490112957021358E-3,8.3000000000000004E-2,110,"South Dakota",1.3431155417655547E-2,0,79,"VermontSouth Dakota",5,6.2821441219534117E-3,-8.3000000000000004E-2,-31]
[null,"Vermont",7.1490112957021358E-3,8.3000000000000004E-2,110,"Tennessee",3.2145443397273599E-2,0,82,"VermontTennessee",133,2.4996432101571462E-2,-8.3000000000000004E-2,-28]
[null,"Vermont",7.1490112957021358E-3,8.3000000000000004E-2,110,"Texas",2.1592392711972809E-2,0,83,"VermontTexas",113,1.4443381416270672E-2,-8.3000000000000004E-2,-27]
[null,"Vermont",7.1490112957021358E-3,8.3000000000000004E-2,110,"Utah",1.0307262126890326E-2,0.05,84,"VermontUtah",39,3.1582508311881899E-3,-3.3000000000000002E-2,-26]
[null,"Vermont",7.1490112957021358E-3,8.3000000000000004E-2,110,"Virginia",1.039712030953501E-2,5.8000000000000003E-2,87,"VermontVirginia",423,3.248109013832874E-3,-2.5000000000000001E-2,-23]
[null,"Vermont",7.1490112957021358E-3,8.3000000000000004E-2,110,"Washington",1.5569251587054078E-2,0,102,"VermontWashington",223,8.4202402913519415E-3,-8.3000000000000004E-2,-8]
[null,"Vermont",7.1490112957021358E-3,8.3000000000000004E-2,110,"West Virginia",1.6695121757837481E-2,6.5000000000000002E-2,91,"VermontWest Virginia",54,9.5461104621353439E-3,-1.8000000000000002E-2,-19]
[null,"Vermont",7.1490112957021358E-3,8.3000000000000004E-2,110,"Wisconsin",1.2522002040309323E-2,6.8000000000000005E-2,105,"VermontWisconsin",62,5.3729907446071869E-3,-1.4999999999999999E-2,-5]
[null,"Vermont",7.1490112957021358E-3,8.3000000000000004E-2,110,"Wyoming",1.159170556116435E-2,0,76,"VermontWyoming",0,4.4426942654622143E-3,-8.3000000000000004E-2,-34]
[null,"Vermont",7.1490112957021358E-3,8.3000000000000004E-2,110,"Puerto Rico",0,0,0,"VermontPuerto Rico",0,-7.1490112957021358E-3,-8.3000000000000004E-2,-110]
[null,"Virginia",1.039712030953501E-2,5.8000000000000003E-2,87,"Alabama",2.2202899776411697E-2,0.05,83,"VirginiaAlabama",3170,1.1805779466876687E-2,-8.0000000000000002E-3,-4]
[null,"Virginia",1.039712030953501E-2,5.8000000000000003E-2,87,"Alaska",3.2055585214628916E-2,0,117,"VirginiaAlaska",1265,2.1658464905093905E-2,-5.8000000000000003E-2,30]
[null,"Virginia",1.039712030953501E-2,5.8000000000000003E-2,87,"Arizona",2.1452319662556094E-2,4.4999999999999998E-2,87,"VirginiaArizona",2763,1.1055199353021085E-2,-1.3000000000000005E-2,0]
[null,"Virginia",1.039712030953501E-2,5.8000000000000003E-2,87,"Arkansas",2.5419294137546445E-2,7.0000000000000007E-2,79,"VirginiaArkansas",1159,1.5022173828011435E-2,1.2000000000000004E-2,-8]
[null,"Virginia",1.039712030953501E-2,5.8000000000000003E-2,87,"California",2.1729822873664682E-2,9.6000000000000002E-2,92,"VirginiaCalifornia",15625,1.1332702564129672E-2,3.7999999999999999E-2,5]
[null,"Virginia",1.039712030953501E-2,5.8000000000000003E-2,87,"Colorado",1.6922410102174039E-2,4.5999999999999999E-2,106,"VirginiaColorado",3796,6.5252897926390292E-3,-1.2000000000000004E-2,19]
[null,"Virginia",1.039712030953501E-2,5.8000000000000003E-2,87,"Connecticut",1.4419595426747081E-2,0.05,105,"VirginiaConnecticut",1729,4.022475117212071E-3,-8.0000000000000002E-3,18]
[null,"Virginia",1.039712030953501E-2,5.8000000000000003E-2,87,"Delaware",2.9571270753275862E-2,7.0000000000000007E-2,100,"VirginiaDelaware",1746,1.9174150443740851E-2,1.2000000000000004E-2,13]
[null,"Virginia",1.039712030953501E-2,5.8000000000000003E-2,87,"District of Columbia ",6.3540306680691577E-2,8.5000000000000006E-2,148,"VirginiaDistrict of Columbia ",9537,5.3143186371156566E-2,2.7000000000000003E-2,61]
[null,"Virginia",1.039712030953501E-2,5.8000000000000003E-2,87,"Florida",2.7237600892238891E-2,0,89,"VirginiaFlorida",25697,1.6840480582703883E-2,-5.8000000000000003E-2,2]
[null,"Virginia",1.039712030953501E-2,5.8000000000000003E-2,87,"Georgia",1.9726513978233176E-2,0.06,95,"VirginiaGeorgia",10702,9.3293936686981663E-3,1.9999999999999948E-3,8]
[null,"Virginia",1.039712030953501E-2,5.8000000000000003E-2,87,"Hawaii",1.5418606986737988E-2,8.3000000000000004E-2,149,"VirginiaHawaii",1393,5.0214866772029781E-3,2.5000000000000001E-2,62]
[null,"Virginia",1.039712030953501E-2,5.8000000000000003E-2,87,"Idaho",1.0619122878421879E-2,7.8E-2,98,"VirginiaIdaho",269,2.2200256888686883E-4,1.9999999999999997E-2,11]
[null,"Virginia",1.039712030953501E-2,5.8000000000000003E-2,87,"Illinois",2.2681262454608404E-2,0.03,91,"VirginiaIllinois",4311,1.2284142145073394E-2,-2.8000000000000004E-2,4]
[null,"Virginia",1.039712030953501E-2,5.8000000000000003E-2,87,"Indiana",1.754084582978746E-2,3.4000000000000002E-2,88,"VirginiaIndiana",1932,7.1437255202524506E-3,-2.4E-2,1]
[null,"Virginia",1.039712030953501E-2,5.8000000000000003E-2,87,"Iowa",1.3507799161676014E-2,0.09,90,"VirginiaIowa",268,3.110678852141004E-3,3.1999999999999994E-2,3]
[null,"Virginia",1.039712030953501E-2,5.8000000000000003E-2,87,"Kansas",1.8706359316443516E-2,6.5000000000000002E-2,84,"VirginiaKansas",1705,8.3092390069085063E-3,6.9999999999999993E-3,-3]
[null,"Virginia",1.039712030953501E-2,5.8000000000000003E-2,87,"Kentucky",1.6652835554239985E-2,5.8000000000000003E-2,92,"VirginiaKentucky",3319,6.2557152447049753E-3,0,5]
[null,"Virginia",1.039712030953501E-2,5.8000000000000003E-2,87,"Louisiana",2.935191107211383E-2,0.06,88,"VirginiaLouisiana",1857,1.8954790762578819E-2,1.9999999999999948E-3,1]
[null,"Virginia",1.039712030953501E-2,5.8000000000000003E-2,87,"Maine",6.5120753540148114E-3,6.9000000000000006E-2,104,"VirginiaMaine",573,-3.8850449555201984E-3,1.1000000000000003E-2,17]
[null,"Virginia",1.039712030953501E-2,5.8000000000000003E-2,87,"Maryland",2.611701649690518E-2,0.05,103,"VirginiaMaryland",20579,1.5719896187370172E-2,-8.0000000000000002E-3,16]
[null,"Virginia",1.039712030953501E-2,5.8000000000000003E-2,87,"Massachusetts",2.2641619138735747E-2,5.2999999999999999E-2,126,"VirginiaMassachusetts",4098,1.2244498829200737E-2,-5.0000000000000044E-3,39]
[null,"Virginia",1.039712030953501E-2,5.8000000000000003E-2,87,"Michigan",2.3537558077457752E-2,4.3999999999999997E-2,82,"VirginiaMichigan",3057,1.3140437767922742E-2,-1.4000000000000005E-2,-5]
[null,"Virginia",1.039712030953501E-2,5.8000000000000003E-2,87,"Minnesota",1.1694778182433254E-2,7.9000000000000001E-2,121,"VirginiaMinnesota",1037,{"$f":"G2431-C2431","v":1.2976578728982439E-3},{"$f":"H2431-D2431","v":2.0999999999999998E-2},{"$f":"I2431-E2431","v":34}]
[null,"Virginia",1.039712030953501E-2,5.8000000000000003E-2,87,"Mississippi",1.426102216325646E-2,0.05,76,"VirginiaMississippi",1929,3.8639018537214506E-3,-8.0000000000000002E-3,-11]
[null,"Virginia",1.039712030953501E-2,5.8000000000000003E-2,87,"Missouri",2.3569272730155875E-2,0.06,81,"VirginiaMissouri",2609,1.3172152420620866E-2,1.9999999999999948E-3,-6]
[null,"Virginia",1.039712030953501E-2,5.8000000000000003E-2,87,"Montana",1.4139449327913651E-2,6.9000000000000006E-2,93,"VirginiaMontana",156,3.7423290183786415E-3,1.1000000000000003E-2,6]
[null,"Virginia",1.039712030953501E-2,5.8000000000000003E-2,87,"Nebraska",1.3380940550883517E-2,6.8000000000000005E-2,77,"VirginiaNebraska",1076,2.983820241348507E-3,1.0000000000000002E-2,-10]
[null,"Virginia",1.039712030953501E-2,5.8000000000000003E-2,87,"Nevada",2.9713986690417422E-2,0,99,"VirginiaNevada",1135,1.9316866380882411E-2,-5.8000000000000003E-2,12]
[null,"Virginia",1.039712030953501E-2,5.8000000000000003E-2,87,"New Hampshire",9.9372578454122104E-3,0,120,"VirginiaNew Hampshire",660,-4.5986246412279934E-4,-5.8000000000000003E-2,33]
[null,"Virginia",1.039712030953501E-2,5.8000000000000003E-2,87,"New Jersey",1.6301331486835775E-2,6.4000000000000001E-2,103,"VirginiaNew Jersey",5024,5.9042111773007656E-3,5.9999999999999984E-3,16]
[null,"Virginia",1.039712030953501E-2,5.8000000000000003E-2,87,"New Mexico",2.9999418564700536E-2,4.9000000000000002E-2,105,"VirginiaNew Mexico",1560,1.9602298255165525E-2,-9.0000000000000011E-3,18]
[null,"Virginia",1.039712030953501E-2,5.8000000000000003E-2,87,"New York",2.1042672065205326E-2,7.9000000000000001E-2,114,"VirginiaNew York",7939,1.0645551755670316E-2,2.0999999999999998E-2,27]
[null,"Virginia",1.039712030953501E-2,5.8000000000000003E-2,87,"North Carolina",1.8489642523006337E-2,7.0000000000000007E-2,81,"VirginiaNorth Carolina",26759,8.092522213471327E-3,1.2000000000000004E-2,-6]
[null,"Virginia",1.039712030953501E-2,5.8000000000000003E-2,87,"North Dakota",1.3055865360727744E-2,3.7999999999999999E-2,89,"VirginiaNorth Dakota",403,2.6587450511927346E-3,-2.0000000000000004E-2,2]
[null,"Virginia",1.039712030953501E-2,5.8000000000000003E-2,87,"Ohio",1.6248473732338901E-2,4.7E-2,106,"VirginiaOhio",3193,5.851353422803891E-3,-1.1000000000000003E-2,19]
[null,"Virginia",1.039712030953501E-2,5.8000000000000003E-2,87,"Oklahoma",2.4039706745178049E-2,5.5E-2,84,"VirginiaOklahoma",1749,1.3642586435643039E-2,-3.0000000000000027E-3,-3]
[null,"Virginia",1.039712030953501E-2,5.8000000000000003E-2,87,"Oregon",1.3084937125701024E-2,0.108,107,"VirginiaOregon",676,2.6878168161660141E-3,4.9999999999999996E-2,20]
[null,"Virginia",1.039712030953501E-2,5.8000000000000003E-2,87,"Pennsylvania",1.8764502846390078E-2,0.03,96,"VirginiaPennsylvania",11960,8.3673825368550687E-3,-2.8000000000000004E-2,9]
[null,"Virginia",1.039712030953501E-2,5.8000000000000003E-2,87,"Rhode Island",1.3082294237976182E-2,7.8E-2,118,"VirginiaRhode Island",1008,2.6851739284411719E-3,1.9999999999999997E-2,31]
[null,"Virginia",1.039712030953501E-2,5.8000000000000003E-2,87,"South Carolina",3.0229349796761933E-2,7.0000000000000007E-2,88,"VirginiaSouth Carolina",9377,1.9832229487226925E-2,1.2000000000000004E-2,1]
[null,"Virginia",1.039712030953501E-2,5.8000000000000003E-2,87,"South Dakota",1.3431155417655547E-2,0,79,"VirginiaSouth Dakota",340,3.0340351081205377E-3,-5.8000000000000003E-2,-8]
[null,"Virginia",1.039712030953501E-2,5.8000000000000003E-2,87,"Tennessee",3.2145443397273599E-2,0,82,"VirginiaTennessee",8008,2.1748323087738587E-2,-5.8000000000000003E-2,-5]
[null,"Virginia",1.039712030953501E-2,5.8000000000000003E-2,87,"Texas",2.1592392711972809E-2,0,83,"VirginiaTexas",17734,1.1195272402437799E-2,-5.8000000000000003E-2,-4]
[null,"Virginia",1.039712030953501E-2,5.8000000000000003E-2,87,"Utah",1.0307262126890326E-2,0.05,84,"VirginiaUtah",1369,-8.9858182644684051E-5,-8.0000000000000002E-3,-3]
[null,"Virginia",1.039712030953501E-2,5.8000000000000003E-2,87,"Vermont",7.1490112957021358E-3,8.3000000000000004E-2,110,"VirginiaVermont",728,-3.248109013832874E-3,2.5000000000000001E-2,23]
[null,"Virginia",1.039712030953501E-2,5.8000000000000003E-2,87,"Washington",1.5569251587054078E-2,0,102,"VirginiaWashington",3839,5.1721312775190684E-3,-5.8000000000000003E-2,15]
[null,"Virginia",1.039712030953501E-2,5.8000000000000003E-2,87,"West Virginia",1.6695121757837481E-2,6.5000000000000002E-2,91,"VirginiaWest Virginia",6317,6.2980014483024708E-3,6.9999999999999993E-3,4]
[null,"Virginia",1.039712030953501E-2,5.8000000000000003E-2,87,"Wisconsin",1.2522002040309323E-2,6.8000000000000005E-2,105,"VirginiaWisconsin",1267,2.1248817307743129E-3,1.0000000000000002E-2,18]
[null,"Virginia",1.039712030953501E-2,5.8000000000000003E-2,87,"Wyoming",1.159170556116435E-2,0,76,"VirginiaWyoming",138,1.1945852516293404E-3,-5.8000000000000003E-2,-11]
[null,"Virginia",1.039712030953501E-2,5.8000000000000003E-2,87,"Puerto Rico",0,0,0,"VirginiaPuerto Rico",684,-1.039712030953501E-2,-5.8000000000000003E-2,-87]
[null,"Washington",1.5569251587054078E-2,0,102,"Alabama",2.2202899776411697E-2,0.05,83,"WashingtonAlabama",1034,6.6336481893576188E-3,0.05,-19]
[null,"Washington",1.5569251587054078E-2,0,102,"Alaska",3.2055585214628916E-2,0,117,"WashingtonAlaska",3725,1.6486333627574838E-2,0,15]
[null,"Washington",1.5569251587054078E-2,0,102,"Arizona",2.1452319662556094E-2,4.4999999999999998E-2,87,"WashingtonArizona",13247,5.8830680755020161E-3,4.4999999999999998E-2,-15]
[null,"Washington",1.5569251587054078E-2,0,102,"Arkansas",2.5419294137546445E-2,7.0000000000000007E-2,79,"WashingtonArkansas",251,9.8500425504923668E-3,7.0000000000000007E-2,-23]
[null,"Washington",1.5569251587054078E-2,0,102,"California",2.1729822873664682E-2,9.6000000000000002E-2,92,"WashingtonCalifornia",34569,6.1605712866106034E-3,9.6000000000000002E-2,-10]
[null,"Washington",1.5569251587054078E-2,0,102,"Colorado",1.6922410102174039E-2,4.5999999999999999E-2,106,"WashingtonColorado",4853,1.3531585151199607E-3,4.5999999999999999E-2,4]
[null,"Washington",1.5569251587054078E-2,0,102,"Connecticut",1.4419595426747081E-2,0.05,105,"WashingtonConnecticut",1593,-1.1496561603069975E-3,0.05,3]
[null,"Washington",1.5569251587054078E-2,0,102,"Delaware",2.9571270753275862E-2,7.0000000000000007E-2,100,"WashingtonDelaware",29,1.4002019166221784E-2,7.0000000000000007E-2,-2]
[null,"Washington",1.5569251587054078E-2,0,102,"District of Columbia ",6.3540306680691577E-2,8.5000000000000006E-2,148,"WashingtonDistrict of Columbia ",481,4.7971055093637499E-2,8.5000000000000006E-2,46]
[null,"Washington",1.5569251587054078E-2,0,102,"Florida",2.7237600892238891E-2,0,89,"WashingtonFlorida",4943,1.1668349305184813E-2,0,-13]
[null,"Washington",1.5569251587054078E-2,0,102,"Georgia",1.9726513978233176E-2,0.06,95,"WashingtonGeorgia",1965,4.1572623911790979E-3,0.06,-7]
[null,"Washington",1.5569251587054078E-2,0,102,"Hawaii",1.5418606986737988E-2,8.3000000000000004E-2,149,"WashingtonHawaii",5920,-1.5064460031609037E-4,8.3000000000000004E-2,47]
[null,"Washington",1.5569251587054078E-2,0,102,"Idaho",1.0619122878421879E-2,7.8E-2,98,"WashingtonIdaho",10398,-4.9501287086321996E-3,7.8E-2,-4]
[null,"Washington",1.5569251587054078E-2,0,102,"Illinois",2.2681262454608404E-2,0.03,91,"WashingtonIllinois",2704,7.1120108675543255E-3,0.03,-11]
[null,"Washington",1.5569251587054078E-2,0,102,"Indiana",1.754084582978746E-2,3.4000000000000002E-2,88,"WashingtonIndiana",258,1.9715942427333821E-3,3.4000000000000002E-2,-14]
[null,"Washington",1.5569251587054078E-2,0,102,"Iowa",1.3507799161676014E-2,0.09,90,"WashingtonIowa",919,-2.0614524253780644E-3,0.09,-12]
[null,"Washington",1.5569251587054078E-2,0,102,"Kansas",1.8706359316443516E-2,6.5000000000000002E-2,84,"WashingtonKansas",3265,3.1371077293894378E-3,6.5000000000000002E-2,-18]
[null,"Washington",1.5569251587054078E-2,0,102,"Kentucky",1.6652835554239985E-2,5.8000000000000003E-2,92,"WashingtonKentucky",1988,1.0835839671859068E-3,5.8000000000000003E-2,-10]
[null,"Washington",1.5569251587054078E-2,0,102,"Louisiana",2.935191107211383E-2,0.06,88,"WashingtonLouisiana",1581,1.3782659485059752E-2,0.06,-14]
[null,"Washington",1.5569251587054078E-2,0,102,"Maine",6.5120753540148114E-3,6.9000000000000006E-2,104,"WashingtonMaine",118,-9.0571762330392668E-3,6.9000000000000006E-2,2]
[null,"Washington",1.5569251587054078E-2,0,102,"Maryland",2.611701649690518E-2,0.05,103,"WashingtonMaryland",1431,1.0547764909851102E-2,0.05,1]
[null,"Washington",1.5569251587054078E-2,0,102,"Massachusetts",2.2641619138735747E-2,5.2999999999999999E-2,126,"WashingtonMassachusetts",1653,7.0723675516816686E-3,5.2999999999999999E-2,24]
[null,"Washington",1.5569251587054078E-2,0,102,"Michigan",2.3537558077457752E-2,4.3999999999999997E-2,82,"WashingtonMichigan",2146,7.9683064904036739E-3,4.3999999999999997E-2,-20]
[null,"Washington",1.5569251587054078E-2,0,102,"Minnesota",1.1694778182433254E-2,7.9000000000000001E-2,121,"WashingtonMinnesota",1685,-3.8744734046208245E-3,7.9000000000000001E-2,19]
[null,"Washington",1.5569251587054078E-2,0,102,"Mississippi",1.426102216325646E-2,0.05,76,"WashingtonMississippi",433,-1.3082294237976178E-3,0.05,-26]
[null,"Washington",1.5569251587054078E-2,0,102,"Missouri",2.3569272730155875E-2,0.06,81,"WashingtonMissouri",2312,8.0000211431017973E-3,0.06,-21]
[null,"Washington",1.5569251587054078E-2,0,102,"Montana",1.4139449327913651E-2,6.9000000000000006E-2,93,"WashingtonMontana",4783,-1.429802259140427E-3,6.9000000000000006E-2,-9]
[null,"Washington",1.5569251587054078E-2,0,102,"Nebraska",1.3380940550883517E-2,6.8000000000000005E-2,77,"WashingtonNebraska",1327,-2.1883110361705614E-3,6.8000000000000005E-2,-25]
[null,"Washington",1.5569251587054078E-2,0,102,"Nevada",2.9713986690417422E-2,0,99,"WashingtonNevada",2997,1.4144735103363344E-2,0,-3]
[null,"Washington",1.5569251587054078E-2,0,102,"New Hampshire",9.9372578454122104E-3,0,120,"WashingtonNew Hampshire",113,-5.6319937416418678E-3,0,18]
[null,"Washington",1.5569251587054078E-2,0,102,"New Jersey",1.6301331486835775E-2,6.4000000000000001E-2,103,"WashingtonNew Jersey",1847,7.3207989978169713E-4,6.4000000000000001E-2,1]
[null,"Washington",1.5569251587054078E-2,0,102,"New Mexico",2.9999418564700536E-2,4.9000000000000002E-2,105,"WashingtonNew Mexico",1251,1.4430166977646458E-2,4.9000000000000002E-2,3]
[null,"Washington",1.5569251587054078E-2,0,102,"New York",2.1042672065205326E-2,7.9000000000000001E-2,114,"WashingtonNew York",2614,5.4734204781512474E-3,7.9000000000000001E-2,12]
[null,"Washington",1.5569251587054078E-2,0,102,"North Carolina",1.8489642523006337E-2,7.0000000000000007E-2,81,"WashingtonNorth Carolina",5915,2.9203909359522585E-3,7.0000000000000007E-2,-21]
[null,"Washington",1.5569251587054078E-2,0,102,"North Dakota",1.3055865360727744E-2,3.7999999999999999E-2,89,"WashingtonNorth Dakota",1604,-2.5133862263263338E-3,3.7999999999999999E-2,-13]
[null,"Washington",1.5569251587054078E-2,0,102,"Ohio",1.6248473732338901E-2,4.7E-2,106,"WashingtonOhio",2862,6.7922214528482253E-4,4.7E-2,4]
[null,"Washington",1.5569251587054078E-2,0,102,"Oklahoma",2.4039706745178049E-2,5.5E-2,84,"WashingtonOklahoma",1574,{"$f":"G2495-C2495","v":8.4704551581239705E-3},{"$f":"H2495-D2495","v":5.5E-2},{"$f":"I2495-E2495","v":-18}]
[null,"Washington",1.5569251587054078E-2,0,102,"Oregon",1.3084937125701024E-2,0.108,107,"WashingtonOregon",21224,-2.4843144613530543E-3,0.108,5]
[null,"Washington",1.5569251587054078E-2,0,102,"Pennsylvania",1.8764502846390078E-2,0.03,96,"WashingtonPennsylvania",1787,3.1952512593360002E-3,0.03,-6]
[null,"Washington",1.5569251587054078E-2,0,102,"Rhode Island",1.3082294237976182E-2,7.8E-2,118,"WashingtonRhode Island",287,-2.4869573490778965E-3,7.8E-2,16]
[null,"Washington",1.5569251587054078E-2,0,102,"South Carolina",3.0229349796761933E-2,7.0000000000000007E-2,88,"WashingtonSouth Carolina",1629,1.4660098209707855E-2,7.0000000000000007E-2,-14]
[null,"Washington",1.5569251587054078E-2,0,102,"South Dakota",1.3431155417655547E-2,0,79,"WashingtonSouth Dakota",1026,-2.1380961693985307E-3,0,-23]
[null,"Washington",1.5569251587054078E-2,0,102,"Tennessee",3.2145443397273599E-2,0,82,"WashingtonTennessee",1876,1.657619181021952E-2,0,-20]
[null,"Washington",1.5569251587054078E-2,0,102,"Texas",2.1592392711972809E-2,0,83,"WashingtonTexas",11630,6.0231411249187308E-3,0,-19]
[null,"Washington",1.5569251587054078E-2,0,102,"Utah",1.0307262126890326E-2,0.05,84,"WashingtonUtah",3529,-5.2619894601637525E-3,0.05,-18]
[null,"Washington",1.5569251587054078E-2,0,102,"Vermont",7.1490112957021358E-3,8.3000000000000004E-2,110,"WashingtonVermont",98,-8.4202402913519415E-3,8.3000000000000004E-2,8]
[null,"Washington",1.5569251587054078E-2,0,102,"Virginia",1.039712030953501E-2,5.8000000000000003E-2,87,"WashingtonVirginia",4160,-5.1721312775190684E-3,5.8000000000000003E-2,-15]
[null,"Washington",1.5569251587054078E-2,0,102,"West Virginia",1.6695121757837481E-2,6.5000000000000002E-2,91,"WashingtonWest Virginia",297,1.1258701707834023E-3,6.5000000000000002E-2,-11]
[null,"Washington",1.5569251587054078E-2,0,102,"Wisconsin",1.2522002040309323E-2,6.8000000000000005E-2,105,"WashingtonWisconsin",1208,-3.0472495467447555E-3,6.8000000000000005E-2,3]
[null,"Washington",1.5569251587054078E-2,0,102,"Wyoming",1.159170556116435E-2,0,76,"WashingtonWyoming",1323,-3.9775460258897281E-3,0,-26]
[null,"Washington",1.5569251587054078E-2,0,102,"Puerto Rico",0,0,0,"WashingtonPuerto Rico",0,-1.5569251587054078E-2,0,-102]
[null,"West Virginia",1.6695121757837481E-2,6.5000000000000002E-2,91,"Alabama",2.2202899776411697E-2,0.05,83,"West VirginiaAlabama",128,5.5077780185742164E-3,-1.4999999999999999E-2,-8]
[null,"West Virginia",1.6695121757837481E-2,6.5000000000000002E-2,91,"Alaska",3.2055585214628916E-2,0,117,"West VirginiaAlaska",0,1.5360463456791436E-2,-6.5000000000000002E-2,26]
[null,"West Virginia",1.6695121757837481E-2,6.5000000000000002E-2,91,"Arizona",2.1452319662556094E-2,4.4999999999999998E-2,87,"West VirginiaArizona",765,4.7571979047186137E-3,-2.0000000000000004E-2,-4]
[null,"West Virginia",1.6695121757837481E-2,6.5000000000000002E-2,91,"Arkansas",2.5419294137546445E-2,7.0000000000000007E-2,79,"West VirginiaArkansas",84,8.7241723797089644E-3,5.0000000000000044E-3,-12]
[null,"West Virginia",1.6695121757837481E-2,6.5000000000000002E-2,91,"California",2.1729822873664682E-2,9.6000000000000002E-2,92,"West VirginiaCalifornia",1413,5.0347011158272011E-3,3.1E-2,1]
[null,"West Virginia",1.6695121757837481E-2,6.5000000000000002E-2,91,"Colorado",1.6922410102174039E-2,4.5999999999999999E-2,106,"West VirginiaColorado",837,2.2728834433655837E-4,-1.9000000000000003E-2,15]
[null,"West Virginia",1.6695121757837481E-2,6.5000000000000002E-2,91,"Connecticut",1.4419595426747081E-2,0.05,105,"West VirginiaConnecticut",174,-2.2755263310903998E-3,-1.4999999999999999E-2,14]
[null,"West Virginia",1.6695121757837481E-2,6.5000000000000002E-2,91,"Delaware",2.9571270753275862E-2,7.0000000000000007E-2,100,"West VirginiaDelaware",161,1.2876148995438381E-2,5.0000000000000044E-3,9]
[null,"West Virginia",1.6695121757837481E-2,6.5000000000000002E-2,91,"District of Columbia ",6.3540306680691577E-2,8.5000000000000006E-2,148,"West VirginiaDistrict of Columbia ",293,4.6845184922854097E-2,2.0000000000000004E-2,57]
[null,"West Virginia",1.6695121757837481E-2,6.5000000000000002E-2,91,"Florida",2.7237600892238891E-2,0,89,"West VirginiaFlorida",3533,1.0542479134401411E-2,-6.5000000000000002E-2,-2]
[null,"West Virginia",1.6695121757837481E-2,6.5000000000000002E-2,91,"Georgia",1.9726513978233176E-2,0.06,95,"West VirginiaGeorgia",1237,3.0313922203956956E-3,-5.0000000000000044E-3,4]
[null,"West Virginia",1.6695121757837481E-2,6.5000000000000002E-2,91,"Hawaii",1.5418606986737988E-2,8.3000000000000004E-2,149,"West VirginiaHawaii",197,-1.2765147710994927E-3,1.8000000000000002E-2,58]
[null,"West Virginia",1.6695121757837481E-2,6.5000000000000002E-2,91,"Idaho",1.0619122878421879E-2,7.8E-2,98,"West VirginiaIdaho",0,-6.075998879415602E-3,1.2999999999999998E-2,7]
[null,"West Virginia",1.6695121757837481E-2,6.5000000000000002E-2,91,"Illinois",2.2681262454608404E-2,0.03,91,"West VirginiaIllinois",1221,5.9861406967709231E-3,-3.5000000000000003E-2,0]
[null,"West Virginia",1.6695121757837481E-2,6.5000000000000002E-2,91,"Indiana",1.754084582978746E-2,3.4000000000000002E-2,88,"West VirginiaIndiana",507,8.4572407194997978E-4,-3.1E-2,-3]
[null,"West Virginia",1.6695121757837481E-2,6.5000000000000002E-2,91,"Iowa",1.3507799161676014E-2,0.09,90,"West VirginiaIowa",22,-3.1873225961614668E-3,2.4999999999999994E-2,-1]
[null,"West Virginia",1.6695121757837481E-2,6.5000000000000002E-2,91,"Kansas",1.8706359316443516E-2,6.5000000000000002E-2,84,"West VirginiaKansas",139,2.0112375586060355E-3,0,-7]
[null,"West Virginia",1.6695121757837481E-2,6.5000000000000002E-2,91,"Kentucky",1.6652835554239985E-2,5.8000000000000003E-2,92,"West VirginiaKentucky",3346,-4.228620359749552E-5,-6.9999999999999993E-3,1]
[null,"West Virginia",1.6695121757837481E-2,6.5000000000000002E-2,91,"Louisiana",2.935191107211383E-2,0.06,88,"West VirginiaLouisiana",238,1.265678931427635E-2,-5.0000000000000044E-3,-3]
[null,"West Virginia",1.6695121757837481E-2,6.5000000000000002E-2,91,"Maine",6.5120753540148114E-3,6.9000000000000006E-2,104,"West VirginiaMaine",51,-1.0183046403822669E-2,4.0000000000000036E-3,13]
[null,"West Virginia",1.6695121757837481E-2,6.5000000000000002E-2,91,"Maryland",2.611701649690518E-2,0.05,103,"West VirginiaMaryland",1957,9.4218947390676995E-3,-1.4999999999999999E-2,12]
[null,"West Virginia",1.6695121757837481E-2,6.5000000000000002E-2,91,"Massachusetts",2.2641619138735747E-2,5.2999999999999999E-2,126,"West VirginiaMassachusetts",385,5.9464973808982663E-3,-1.2000000000000004E-2,35]
[null,"West Virginia",1.6695121757837481E-2,6.5000000000000002E-2,91,"Michigan",2.3537558077457752E-2,4.3999999999999997E-2,82,"West VirginiaMichigan",353,6.8424363196202716E-3,-2.1000000000000005E-2,-9]
[null,"West Virginia",1.6695121757837481E-2,6.5000000000000002E-2,91,"Minnesota",1.1694778182433254E-2,7.9000000000000001E-2,121,"West VirginiaMinnesota",0,-5.0003435754042268E-3,1.3999999999999999E-2,30]
[null,"West Virginia",1.6695121757837481E-2,6.5000000000000002E-2,91,"Mississippi",1.426102216325646E-2,0.05,76,"West VirginiaMississippi",0,-2.4340995945810202E-3,-1.4999999999999999E-2,-15]
[null,"West Virginia",1.6695121757837481E-2,6.5000000000000002E-2,91,"Missouri",2.3569272730155875E-2,0.06,81,"West VirginiaMissouri",148,6.8741509723183949E-3,-5.0000000000000044E-3,-10]
[null,"West Virginia",1.6695121757837481E-2,6.5000000000000002E-2,91,"Montana",1.4139449327913651E-2,6.9000000000000006E-2,93,"West VirginiaMontana",0,-2.5556724299238293E-3,4.0000000000000036E-3,2]
[null,"West Virginia",1.6695121757837481E-2,6.5000000000000002E-2,91,"Nebraska",1.3380940550883517E-2,6.8000000000000005E-2,77,"West VirginiaNebraska",111,-3.3141812069539638E-3,3.0000000000000027E-3,-14]
[null,"West Virginia",1.6695121757837481E-2,6.5000000000000002E-2,91,"Nevada",2.9713986690417422E-2,0,99,"West VirginiaNevada",100,1.3018864932579942E-2,-6.5000000000000002E-2,8]
[null,"West Virginia",1.6695121757837481E-2,6.5000000000000002E-2,91,"New Hampshire",9.9372578454122104E-3,0,120,"West VirginiaNew Hampshire",80,-6.7578639124252701E-3,-6.5000000000000002E-2,29]
[null,"West Virginia",1.6695121757837481E-2,6.5000000000000002E-2,91,"New Jersey",1.6301331486835775E-2,6.4000000000000001E-2,103,"West VirginiaNew Jersey",297,-3.9379027100170522E-4,-1.0000000000000009E-3,12]
[null,"West Virginia",1.6695121757837481E-2,6.5000000000000002E-2,91,"New Mexico",2.9999418564700536E-2,4.9000000000000002E-2,105,"West VirginiaNew Mexico",0,1.3304296806863056E-2,-1.6E-2,14]
[null,"West Virginia",1.6695121757837481E-2,6.5000000000000002E-2,91,"New York",2.1042672065205326E-2,7.9000000000000001E-2,114,"West VirginiaNew York",921,4.3475503073678451E-3,1.3999999999999999E-2,23]
[null,"West Virginia",1.6695121757837481E-2,6.5000000000000002E-2,91,"North Carolina",1.8489642523006337E-2,7.0000000000000007E-2,81,"West VirginiaNorth Carolina",2677,1.7945207651688562E-3,5.0000000000000044E-3,-10]
[null,"West Virginia",1.6695121757837481E-2,6.5000000000000002E-2,91,"North Dakota",1.3055865360727744E-2,3.7999999999999999E-2,89,"West VirginiaNorth Dakota",0,-3.6392563971097362E-3,-2.7000000000000003E-2,-2]
[null,"West Virginia",1.6695121757837481E-2,6.5000000000000002E-2,91,"Ohio",1.6248473732338901E-2,4.7E-2,106,"West VirginiaOhio",7820,-4.4664802549857982E-4,-1.8000000000000002E-2,15]
[null,"West Virginia",1.6695121757837481E-2,6.5000000000000002E-2,91,"Oklahoma",2.4039706745178049E-2,5.5E-2,84,"West VirginiaOklahoma",368,7.3445849873405682E-3,-1.0000000000000002E-2,-7]
[null,"West Virginia",1.6695121757837481E-2,6.5000000000000002E-2,91,"Oregon",1.3084937125701024E-2,0.108,107,"West VirginiaOregon",593,-3.6101846321364567E-3,4.2999999999999997E-2,16]
[null,"West Virginia",1.6695121757837481E-2,6.5000000000000002E-2,91,"Pennsylvania",1.8764502846390078E-2,0.03,96,"West VirginiaPennsylvania",6762,2.0693810885525979E-3,-3.5000000000000003E-2,5]
[null,"West Virginia",1.6695121757837481E-2,6.5000000000000002E-2,91,"Rhode Island",1.3082294237976182E-2,7.8E-2,118,"West VirginiaRhode Island",0,-3.6128275198612989E-3,1.2999999999999998E-2,27]
[null,"West Virginia",1.6695121757837481E-2,6.5000000000000002E-2,91,"South Carolina",3.0229349796761933E-2,7.0000000000000007E-2,88,"West VirginiaSouth Carolina",1345,1.3534228038924453E-2,5.0000000000000044E-3,-3]
[null,"West Virginia",1.6695121757837481E-2,6.5000000000000002E-2,91,"South Dakota",1.3431155417655547E-2,0,79,"West VirginiaSouth Dakota",131,-3.2639663401819331E-3,-6.5000000000000002E-2,-12]
[null,"West Virginia",1.6695121757837481E-2,6.5000000000000002E-2,91,"Tennessee",3.2145443397273599E-2,0,82,"West VirginiaTennessee",3248,1.5450321639436118E-2,-6.5000000000000002E-2,-9]
[null,"West Virginia",1.6695121757837481E-2,6.5000000000000002E-2,91,"Texas",2.1592392711972809E-2,0,83,"West VirginiaTexas",1729,4.8972709541353285E-3,-6.5000000000000002E-2,-8]
[null,"West Virginia",1.6695121757837481E-2,6.5000000000000002E-2,91,"Utah",1.0307262126890326E-2,0.05,84,"West VirginiaUtah",0,-6.3878596309471548E-3,-1.4999999999999999E-2,-7]
[null,"West Virginia",1.6695121757837481E-2,6.5000000000000002E-2,91,"Vermont",7.1490112957021358E-3,8.3000000000000004E-2,110,"West VirginiaVermont",0,-9.5461104621353439E-3,1.8000000000000002E-2,19]
[null,"West Virginia",1.6695121757837481E-2,6.5000000000000002E-2,91,"Virginia",1.039712030953501E-2,5.8000000000000003E-2,87,"West VirginiaVirginia",3839,-6.2980014483024708E-3,-6.9999999999999993E-3,-4]
[null,"West Virginia",1.6695121757837481E-2,6.5000000000000002E-2,91,"Washington",1.5569251587054078E-2,0,102,"West VirginiaWashington",215,-1.1258701707834023E-3,-6.5000000000000002E-2,11]
[null,"West Virginia",1.6695121757837481E-2,6.5000000000000002E-2,91,"Wisconsin",1.2522002040309323E-2,6.8000000000000005E-2,105,"West VirginiaWisconsin",0,-4.1731197175281579E-3,3.0000000000000027E-3,14]
[null,"West Virginia",1.6695121757837481E-2,6.5000000000000002E-2,91,"Wyoming",1.159170556116435E-2,0,76,"West VirginiaWyoming",0,{"$f":"G2559-C2559","v":-5.1034161966731304E-3},{"$f":"H2559-D2559","v":-6.5000000000000002E-2},{"$f":"I2559-E2559","v":-15}]
[null,"West Virginia",1.6695121757837481E-2,6.5000000000000002E-2,91,"Puerto Rico",0,0,0,"West VirginiaPuerto Rico",8,-1.6695121757837481E-2,-6.5000000000000002E-2,-91]
[null,"Wisconsin",1.2522002040309323E-2,6.8000000000000005E-2,105,"Alabama",2.2202899776411697E-2,0.05,83,"WisconsinAlabama",760,9.6808977361023743E-3,-1.8000000000000002E-2,-22]
[null,"Wisconsin",1.2522002040309323E-2,6.8000000000000005E-2,105,"Alaska",3.2055585214628916E-2,0,117,"WisconsinAlaska",206,1.9533583174319594E-2,-6.8000000000000005E-2,12]
[null,"Wisconsin",1.2522002040309323E-2,6.8000000000000005E-2,105,"Arizona",2.1452319662556094E-2,4.4999999999999998E-2,87,"WisconsinArizona",3765,8.9303176222467716E-3,-2.3000000000000007E-2,-18]
[null,"Wisconsin",1.2522002040309323E-2,6.8000000000000005E-2,105,"Arkansas",2.5419294137546445E-2,7.0000000000000007E-2,79,"WisconsinArkansas",695,1.2897292097237122E-2,2.0000000000000018E-3,-26]
[null,"Wisconsin",1.2522002040309323E-2,6.8000000000000005E-2,105,"California",2.1729822873664682E-2,9.6000000000000002E-2,92,"WisconsinCalifornia",5681,9.2078208333553589E-3,2.7999999999999997E-2,-13]
[null,"Wisconsin",1.2522002040309323E-2,6.8000000000000005E-2,105,"Colorado",1.6922410102174039E-2,4.5999999999999999E-2,106,"WisconsinColorado",3000,4.4004080618647162E-3,-2.2000000000000006E-2,1]
[null,"Wisconsin",1.2522002040309323E-2,6.8000000000000005E-2,105,"Connecticut",1.4419595426747081E-2,0.05,105,"WisconsinConnecticut",711,1.897593386437758E-3,-1.8000000000000002E-2,0]
[null,"Wisconsin",1.2522002040309323E-2,6.8000000000000005E-2,105,"Delaware",2.9571270753275862E-2,7.0000000000000007E-2,100,"WisconsinDelaware",0,1.7049268712966539E-2,2.0000000000000018E-3,-5]
[null,"Wisconsin",1.2522002040309323E-2,6.8000000000000005E-2,105,"District of Columbia ",6.3540306680691577E-2,8.5000000000000006E-2,148,"WisconsinDistrict of Columbia ",721,5.1018304640382255E-2,1.7000000000000001E-2,43]
[null,"Wisconsin",1.2522002040309323E-2,6.8000000000000005E-2,105,"Florida",2.7237600892238891E-2,0,89,"WisconsinFlorida",6216,1.4715598851929568E-2,-6.8000000000000005E-2,-16]
[null,"Wisconsin",1.2522002040309323E-2,6.8000000000000005E-2,105,"Georgia",1.9726513978233176E-2,0.06,95,"WisconsinGeorgia",3441,7.2045119379238534E-3,-8.0000000000000071E-3,-10]
[null,"Wisconsin",1.2522002040309323E-2,6.8000000000000005E-2,105,"Hawaii",1.5418606986737988E-2,8.3000000000000004E-2,149,"WisconsinHawaii",295,2.8966049464286651E-3,1.4999999999999999E-2,44]
[null,"Wisconsin",1.2522002040309323E-2,6.8000000000000005E-2,105,"Idaho",1.0619122878421879E-2,7.8E-2,98,"WisconsinIdaho",225,-1.9028791618874441E-3,9.999999999999995E-3,-7]
[null,"Wisconsin",1.2522002040309323E-2,6.8000000000000005E-2,105,"Illinois",2.2681262454608404E-2,0.03,91,"WisconsinIllinois",14414,1.0159260414299081E-2,-3.8000000000000006E-2,-14]
[null,"Wisconsin",1.2522002040309323E-2,6.8000000000000005E-2,105,"Indiana",1.754084582978746E-2,3.4000000000000002E-2,88,"WisconsinIndiana",1727,5.0188437894781376E-3,-3.4000000000000002E-2,-17]
[null,"Wisconsin",1.2522002040309323E-2,6.8000000000000005E-2,105,"Iowa",1.3507799161676014E-2,0.09,90,"WisconsinIowa",3607,9.8579712136669106E-4,2.1999999999999992E-2,-15]
[null,"Wisconsin",1.2522002040309323E-2,6.8000000000000005E-2,105,"Kansas",1.8706359316443516E-2,6.5000000000000002E-2,84,"WisconsinKansas",486,6.1843572761341933E-3,-3.0000000000000027E-3,-21]
[null,"Wisconsin",1.2522002040309323E-2,6.8000000000000005E-2,105,"Kentucky",1.6652835554239985E-2,5.8000000000000003E-2,92,"WisconsinKentucky",1395,4.1308335139306623E-3,-1.0000000000000002E-2,-13]
[null,"Wisconsin",1.2522002040309323E-2,6.8000000000000005E-2,105,"Louisiana",2.935191107211383E-2,0.06,88,"WisconsinLouisiana",682,1.6829909031804507E-2,-8.0000000000000071E-3,-17]
[null,"Wisconsin",1.2522002040309323E-2,6.8000000000000005E-2,105,"Maine",6.5120753540148114E-3,6.9000000000000006E-2,104,"WisconsinMaine",0,-6.0099266862945113E-3,1.0000000000000009E-3,-1]
[null,"Wisconsin",1.2522002040309323E-2,6.8000000000000005E-2,105,"Maryland",2.611701649690518E-2,0.05,103,"WisconsinMaryland",460,1.3595014456595857E-2,-1.8000000000000002E-2,-2]
[null,"Wisconsin",1.2522002040309323E-2,6.8000000000000005E-2,105,"Massachusetts",2.2641619138735747E-2,5.2999999999999999E-2,126,"WisconsinMassachusetts",584,1.0119617098426424E-2,-1.5000000000000006E-2,21]
[null,"Wisconsin",1.2522002040309323E-2,6.8000000000000005E-2,105,"Michigan",2.3537558077457752E-2,4.3999999999999997E-2,82,"WisconsinMichigan",4768,1.1015556037148429E-2,-2.4000000000000007E-2,-23]
[null,"Wisconsin",1.2522002040309323E-2,6.8000000000000005E-2,105,"Minnesota",1.1694778182433254E-2,7.9000000000000001E-2,121,"WisconsinMinnesota",17618,-8.2722385787606899E-4,1.0999999999999996E-2,16]
[null,"Wisconsin",1.2522002040309323E-2,6.8000000000000005E-2,105,"Mississippi",1.426102216325646E-2,0.05,76,"WisconsinMississippi",611,1.7390201229471377E-3,-1.8000000000000002E-2,-29]
[null,"Wisconsin",1.2522002040309323E-2,6.8000000000000005E-2,105,"Missouri",2.3569272730155875E-2,0.06,81,"WisconsinMissouri",2636,1.1047270689846553E-2,-8.0000000000000071E-3,-24]
[null,"Wisconsin",1.2522002040309323E-2,6.8000000000000005E-2,105,"Montana",1.4139449327913651E-2,6.9000000000000006E-2,93,"WisconsinMontana",750,1.6174472876043285E-3,1.0000000000000009E-3,-12]
[null,"Wisconsin",1.2522002040309323E-2,6.8000000000000005E-2,105,"Nebraska",1.3380940550883517E-2,6.8000000000000005E-2,77,"WisconsinNebraska",316,8.589385105741941E-4,0,-28]
[null,"Wisconsin",1.2522002040309323E-2,6.8000000000000005E-2,105,"Nevada",2.9713986690417422E-2,0,99,"WisconsinNevada",1046,1.71919846501081E-2,-6.8000000000000005E-2,-6]
[null,"Wisconsin",1.2522002040309323E-2,6.8000000000000005E-2,105,"New Hampshire",9.9372578454122104E-3,0,120,"WisconsinNew Hampshire",239,-2.5847441948971123E-3,-6.8000000000000005E-2,15]
[null,"Wisconsin",1.2522002040309323E-2,6.8000000000000005E-2,105,"New Jersey",1.6301331486835775E-2,6.4000000000000001E-2,103,"WisconsinNew Jersey",680,3.7793294465264526E-3,-4.0000000000000036E-3,-2]
[null,"Wisconsin",1.2522002040309323E-2,6.8000000000000005E-2,105,"New Mexico",2.9999418564700536E-2,4.9000000000000002E-2,105,"WisconsinNew Mexico",321,1.7477416524391214E-2,-1.9000000000000003E-2,0]
[null,"Wisconsin",1.2522002040309323E-2,6.8000000000000005E-2,105,"New York",2.1042672065205326E-2,7.9000000000000001E-2,114,"WisconsinNew York",979,8.5206700248960029E-3,1.0999999999999996E-2,9]
[null,"Wisconsin",1.2522002040309323E-2,6.8000000000000005E-2,105,"North Carolina",1.8489642523006337E-2,7.0000000000000007E-2,81,"WisconsinNorth Carolina",2266,5.9676404826970141E-3,2.0000000000000018E-3,-24]
[null,"Wisconsin",1.2522002040309323E-2,6.8000000000000005E-2,105,"North Dakota",1.3055865360727744E-2,3.7999999999999999E-2,89,"WisconsinNorth Dakota",543,5.338633204184217E-4,-3.0000000000000006E-2,-16]
[null,"Wisconsin",1.2522002040309323E-2,6.8000000000000005E-2,105,"Ohio",1.6248473732338901E-2,4.7E-2,106,"WisconsinOhio",974,3.726471692029578E-3,-2.1000000000000005E-2,1]
[null,"Wisconsin",1.2522002040309323E-2,6.8000000000000005E-2,105,"Oklahoma",2.4039706745178049E-2,5.5E-2,84,"WisconsinOklahoma",1061,1.1517704704868726E-2,-1.3000000000000005E-2,-21]
[null,"Wisconsin",1.2522002040309323E-2,6.8000000000000005E-2,105,"Oregon",1.3084937125701024E-2,0.108,107,"WisconsinOregon",426,5.6293508539170117E-4,3.9999999999999994E-2,2]
[null,"Wisconsin",1.2522002040309323E-2,6.8000000000000005E-2,105,"Pennsylvania",1.8764502846390078E-2,0.03,96,"WisconsinPennsylvania",1550,6.2425008060807557E-3,-3.8000000000000006E-2,-9]
[null,"Wisconsin",1.2522002040309323E-2,6.8000000000000005E-2,105,"Rhode Island",1.3082294237976182E-2,7.8E-2,118,"WisconsinRhode Island",135,5.60292197666859E-4,9.999999999999995E-3,13]
[null,"Wisconsin",1.2522002040309323E-2,6.8000000000000005E-2,105,"South Carolina",3.0229349796761933E-2,7.0000000000000007E-2,88,"WisconsinSouth Carolina",832,1.7707347756452611E-2,2.0000000000000018E-3,-17]
[null,"Wisconsin",1.2522002040309323E-2,6.8000000000000005E-2,105,"South Dakota",1.3431155417655547E-2,0,79,"WisconsinSouth Dakota",314,9.091533773462248E-4,-6.8000000000000005E-2,-26]
[null,"Wisconsin",1.2522002040309323E-2,6.8000000000000005E-2,105,"Tennessee",3.2145443397273599E-2,0,82,"WisconsinTennessee",1622,1.9623441356964276E-2,-6.8000000000000005E-2,-23]
[null,"Wisconsin",1.2522002040309323E-2,6.8000000000000005E-2,105,"Texas",2.1592392711972809E-2,0,83,"WisconsinTexas",4192,9.0703906716634863E-3,-6.8000000000000005E-2,-22]
[null,"Wisconsin",1.2522002040309323E-2,6.8000000000000005E-2,105,"Utah",1.0307262126890326E-2,0.05,84,"WisconsinUtah",1445,-2.214739913418997E-3,-1.8000000000000002E-2,-21]
[null,"Wisconsin",1.2522002040309323E-2,6.8000000000000005E-2,105,"Vermont",7.1490112957021358E-3,8.3000000000000004E-2,110,"WisconsinVermont",151,-5.3729907446071869E-3,1.4999999999999999E-2,5]
[null,"Wisconsin",1.2522002040309323E-2,6.8000000000000005E-2,105,"Virginia",1.039712030953501E-2,5.8000000000000003E-2,87,"WisconsinVirginia",1258,-2.1248817307743129E-3,-1.0000000000000002E-2,-18]
[null,"Wisconsin",1.2522002040309323E-2,6.8000000000000005E-2,105,"Washington",1.5569251587054078E-2,0,102,"WisconsinWashington",1168,3.0472495467447555E-3,-6.8000000000000005E-2,-3]
[null,"Wisconsin",1.2522002040309323E-2,6.8000000000000005E-2,105,"West Virginia",1.6695121757837481E-2,6.5000000000000002E-2,91,"WisconsinWest Virginia",470,4.1731197175281579E-3,-3.0000000000000027E-3,-14]
[null,"Wisconsin",1.2522002040309323E-2,6.8000000000000005E-2,105,"Wyoming",1.159170556116435E-2,0,76,"WisconsinWyoming",282,-9.3029647914497256E-4,-6.8000000000000005E-2,-29]
[null,"Wisconsin",1.2522002040309323E-2,6.8000000000000005E-2,105,"Puerto Rico",0,0,0,"WisconsinPuerto Rico",989,-1.2522002040309323E-2,-6.8000000000000005E-2,-105]
[null,"Wyoming",1.159170556116435E-2,0,76,"Alabama",2.2202899776411697E-2,0.05,83,"WyomingAlabama",88,1.0611194215247347E-2,0.05,7]
[null,"Wyoming",1.159170556116435E-2,0,76,"Alaska",3.2055585214628916E-2,0,117,"WyomingAlaska",136,2.0463879653464565E-2,0,41]
[null,"Wyoming",1.159170556116435E-2,0,76,"Arizona",2.1452319662556094E-2,4.4999999999999998E-2,87,"WyomingArizona",2786,9.8606141013917441E-3,4.4999999999999998E-2,11]
[null,"Wyoming",1.159170556116435E-2,0,76,"Arkansas",2.5419294137546445E-2,7.0000000000000007E-2,79,"WyomingArkansas",1498,1.3827588576382095E-2,7.0000000000000007E-2,3]
[null,"Wyoming",1.159170556116435E-2,0,76,"California",2.1729822873664682E-2,9.6000000000000002E-2,92,"WyomingCalifornia",1886,1.0138117312500331E-2,9.6000000000000002E-2,16]
[null,"Wyoming",1.159170556116435E-2,0,76,"Colorado",1.6922410102174039E-2,4.5999999999999999E-2,106,"WyomingColorado",5602,5.3307045410096888E-3,4.5999999999999999E-2,30]
[null,"Wyoming",1.159170556116435E-2,0,76,"Connecticut",1.4419595426747081E-2,0.05,105,"WyomingConnecticut",104,2.8278898655827306E-3,0.05,29]
[null,"Wyoming",1.159170556116435E-2,0,76,"Delaware",2.9571270753275862E-2,7.0000000000000007E-2,100,"WyomingDelaware",0,1.797956519211151E-2,7.0000000000000007E-2,24]
[null,"Wyoming",1.159170556116435E-2,0,76,"District of Columbia ",6.3540306680691577E-2,8.5000000000000006E-2,148,"WyomingDistrict of Columbia ",215,5.1948601119527225E-2,8.5000000000000006E-2,72]
[null,"Wyoming",1.159170556116435E-2,0,76,"Florida",2.7237600892238891E-2,0,89,"WyomingFlorida",773,1.5645895331074543E-2,0,13]
[null,"Wyoming",1.159170556116435E-2,0,76,"Georgia",1.9726513978233176E-2,0.06,95,"WyomingGeorgia",106,8.134808417068826E-3,0.06,19]
[null,"Wyoming",1.159170556116435E-2,0,76,"Hawaii",1.5418606986737988E-2,8.3000000000000004E-2,149,"WyomingHawaii",50,{"$f":"G2623-C2623","v":3.8269014255736377E-3},{"$f":"H2623-D2623","v":8.3000000000000004E-2},{"$f":"I2623-E2623","v":73}]
[null,"Wyoming",1.159170556116435E-2,0,76,"Idaho",1.0619122878421879E-2,7.8E-2,98,"WyomingIdaho",677,-9.7258268274247155E-4,7.8E-2,22]
[null,"Wyoming",1.159170556116435E-2,0,76,"Illinois",2.2681262454608404E-2,0.03,91,"WyomingIllinois",302,1.1089556893444054E-2,0.03,15]
[null,"Wyoming",1.159170556116435E-2,0,76,"Indiana",1.754084582978746E-2,3.4000000000000002E-2,88,"WyomingIndiana",1681,5.9491402686231102E-3,3.4000000000000002E-2,12]
[null,"Wyoming",1.159170556116435E-2,0,76,"Iowa",1.3507799161676014E-2,0.09,90,"WyomingIowa",392,1.9160936005116636E-3,0.09,14]
[null,"Wyoming",1.159170556116435E-2,0,76,"Kansas",1.8706359316443516E-2,6.5000000000000002E-2,84,"WyomingKansas",278,7.1146537552791659E-3,6.5000000000000002E-2,8]
[null,"Wyoming",1.159170556116435E-2,0,76,"Kentucky",1.6652835554239985E-2,5.8000000000000003E-2,92,"WyomingKentucky",0,5.0611299930756349E-3,5.8000000000000003E-2,16]
[null,"Wyoming",1.159170556116435E-2,0,76,"Louisiana",2.935191107211383E-2,0.06,88,"WyomingLouisiana",146,1.7760205510949478E-2,0.06,12]
[null,"Wyoming",1.159170556116435E-2,0,76,"Maine",6.5120753540148114E-3,6.9000000000000006E-2,104,"WyomingMaine",59,-5.0796302071495388E-3,6.9000000000000006E-2,28]
[null,"Wyoming",1.159170556116435E-2,0,76,"Maryland",2.611701649690518E-2,0.05,103,"WyomingMaryland",0,1.452531093574083E-2,0.05,27]
[null,"Wyoming",1.159170556116435E-2,0,76,"Massachusetts",2.2641619138735747E-2,5.2999999999999999E-2,126,"WyomingMassachusetts",264,1.1049913577571397E-2,5.2999999999999999E-2,50]
[null,"Wyoming",1.159170556116435E-2,0,76,"Michigan",2.3537558077457752E-2,4.3999999999999997E-2,82,"WyomingMichigan",1277,1.1945852516293402E-2,4.3999999999999997E-2,6]
[null,"Wyoming",1.159170556116435E-2,0,76,"Minnesota",1.1694778182433254E-2,7.9000000000000001E-2,121,"WyomingMinnesota",213,1.0307262126890357E-4,7.9000000000000001E-2,45]
[null,"Wyoming",1.159170556116435E-2,0,76,"Mississippi",1.426102216325646E-2,0.05,76,"WyomingMississippi",307,2.6693166020921102E-3,0.05,0]
[null,"Wyoming",1.159170556116435E-2,0,76,"Missouri",2.3569272730155875E-2,0.06,81,"WyomingMissouri",810,1.1977567168991525E-2,0.06,5]
[null,"Wyoming",1.159170556116435E-2,0,76,"Montana",1.4139449327913651E-2,6.9000000000000006E-2,93,"WyomingMontana",934,2.5477437667493011E-3,6.9000000000000006E-2,17]
[null,"Wyoming",1.159170556116435E-2,0,76,"Nebraska",1.3380940550883517E-2,6.8000000000000005E-2,77,"WyomingNebraska",917,1.7892349897191667E-3,6.8000000000000005E-2,1]
[null,"Wyoming",1.159170556116435E-2,0,76,"Nevada",2.9713986690417422E-2,0,99,"WyomingNevada",766,1.8122281129253071E-2,0,23]
[null,"Wyoming",1.159170556116435E-2,0,76,"New Hampshire",9.9372578454122104E-3,0,120,"WyomingNew Hampshire",71,-1.6544477157521397E-3,0,44]
[null,"Wyoming",1.159170556116435E-2,0,76,"New Jersey",1.6301331486835775E-2,6.4000000000000001E-2,103,"WyomingNew Jersey",23,4.7096259256714252E-3,6.4000000000000001E-2,27]
[null,"Wyoming",1.159170556116435E-2,0,76,"New Mexico",2.9999418564700536E-2,4.9000000000000002E-2,105,"WyomingNew Mexico",95,1.8407713003536184E-2,4.9000000000000002E-2,29]
[null,"Wyoming",1.159170556116435E-2,0,76,"New York",2.1042672065205326E-2,7.9000000000000001E-2,114,"WyomingNew York",396,9.4509665040409755E-3,7.9000000000000001E-2,38]
[null,"Wyoming",1.159170556116435E-2,0,76,"North Carolina",1.8489642523006337E-2,7.0000000000000007E-2,81,"WyomingNorth Carolina",604,6.8979369618419866E-3,7.0000000000000007E-2,5]
[null,"Wyoming",1.159170556116435E-2,0,76,"North Dakota",1.3055865360727744E-2,3.7999999999999999E-2,89,"WyomingNorth Dakota",365,1.4641597995633943E-3,3.7999999999999999E-2,13]
[null,"Wyoming",1.159170556116435E-2,0,76,"Ohio",1.6248473732338901E-2,4.7E-2,106,"WyomingOhio",202,4.6567681711745506E-3,4.7E-2,30]
[null,"Wyoming",1.159170556116435E-2,0,76,"Oklahoma",2.4039706745178049E-2,5.5E-2,84,"WyomingOklahoma",45,1.2448001184013699E-2,5.5E-2,8]
[null,"Wyoming",1.159170556116435E-2,0,76,"Oregon",1.3084937125701024E-2,0.108,107,"WyomingOregon",765,1.4932315645366737E-3,0.108,31]
[null,"Wyoming",1.159170556116435E-2,0,76,"Pennsylvania",1.8764502846390078E-2,0.03,96,"WyomingPennsylvania",434,7.1727972852257283E-3,0.03,20]
[null,"Wyoming",1.159170556116435E-2,0,76,"Rhode Island",1.3082294237976182E-2,7.8E-2,118,"WyomingRhode Island",21,1.4905886768118316E-3,7.8E-2,42]
[null,"Wyoming",1.159170556116435E-2,0,76,"South Carolina",3.0229349796761933E-2,7.0000000000000007E-2,88,"WyomingSouth Carolina",0,1.8637644235597585E-2,7.0000000000000007E-2,12]
[null,"Wyoming",1.159170556116435E-2,0,76,"South Dakota",1.3431155417655547E-2,0,79,"WyomingSouth Dakota",979,1.8394498564911974E-3,0,3]
[null,"Wyoming",1.159170556116435E-2,0,76,"Tennessee",3.2145443397273599E-2,0,82,"WyomingTennessee",358,2.0553737836109247E-2,0,6]
[null,"Wyoming",1.159170556116435E-2,0,76,"Texas",2.1592392711972809E-2,0,83,"WyomingTexas",2472,1.0000687150808459E-2,0,7]
[null,"Wyoming",1.159170556116435E-2,0,76,"Utah",1.0307262126890326E-2,0.05,84,"WyomingUtah",2216,-1.2844434342740244E-3,0.05,8]
[null,"Wyoming",1.159170556116435E-2,0,76,"Vermont",7.1490112957021358E-3,8.3000000000000004E-2,110,"WyomingVermont",96,-4.4426942654622143E-3,8.3000000000000004E-2,34]
[null,"Wyoming",1.159170556116435E-2,0,76,"Virginia",1.039712030953501E-2,5.8000000000000003E-2,87,"WyomingVirginia",143,-1.1945852516293404E-3,5.8000000000000003E-2,11]
[null,"Wyoming",1.159170556116435E-2,0,76,"Washington",1.5569251587054078E-2,0,102,"WyomingWashington",394,3.9775460258897281E-3,0,26]
[null,"Wyoming",1.159170556116435E-2,0,76,"West Virginia",1.6695121757837481E-2,6.5000000000000002E-2,91,"WyomingWest Virginia",252,5.1034161966731304E-3,6.5000000000000002E-2,15]
[null,"Wyoming",1.159170556116435E-2,0,76,"Wisconsin",1.2522002040309323E-2,6.8000000000000005E-2,105,"WyomingWisconsin",30,9.3029647914497256E-4,6.8000000000000005E-2,29]
[null,"Wyoming",1.159170556116435E-2,0,76,"Puerto Rico",0,0,0,"WyomingPuerto Rico",0,-1.159170556116435E-2,0,-76]
[null,"Puerto Rico",0,0,0,"Alabama",2.2202899776411697E-2,0.05,83,"Puerto RicoAlabama",619,2.2202899776411697E-2,0.05,83]
[null,"Puerto Rico",0,0,0,"Alaska",3.2055585214628916E-2,0,117,"Puerto RicoAlaska",25,3.2055585214628916E-2,0,117]
[null,"Puerto Rico",0,0,0,"Arizona",2.1452319662556094E-2,4.4999999999999998E-2,87,"Puerto RicoArizona",1791,2.1452319662556094E-2,4.4999999999999998E-2,87]
[null,"Puerto Rico",0,0,0,"Arkansas",2.5419294137546445E-2,7.0000000000000007E-2,79,"Puerto RicoArkansas",0,2.5419294137546445E-2,7.0000000000000007E-2,79]
[null,"Puerto Rico",0,0,0,"California",2.1729822873664682E-2,9.6000000000000002E-2,92,"Puerto RicoCalifornia",2323,2.1729822873664682E-2,9.6000000000000002E-2,92]
[null,"Puerto Rico",0,0,0,"Colorado",1.6922410102174039E-2,4.5999999999999999E-2,106,"Puerto RicoColorado",1144,1.6922410102174039E-2,4.5999999999999999E-2,106]
[null,"Puerto Rico",0,0,0,"Connecticut",1.4419595426747081E-2,0.05,105,"Puerto RicoConnecticut",3228,1.4419595426747081E-2,0.05,105]
[null,"Puerto Rico",0,0,0,"Delaware",2.9571270753275862E-2,7.0000000000000007E-2,100,"Puerto RicoDelaware",56,2.9571270753275862E-2,7.0000000000000007E-2,100]
[null,"Puerto Rico",0,0,0,"District of Columbia ",6.3540306680691577E-2,8.5000000000000006E-2,148,"Puerto RicoDistrict of Columbia ",0,6.3540306680691577E-2,8.5000000000000006E-2,148]
[null,"Puerto Rico",0,0,0,"Florida",2.7237600892238891E-2,0,89,"Puerto RicoFlorida",21638,2.7237600892238891E-2,0,89]
[null,"Puerto Rico",0,0,0,"Georgia",1.9726513978233176E-2,0.06,95,"Puerto RicoGeorgia",1730,1.9726513978233176E-2,0.06,95]
[null,"Puerto Rico",0,0,0,"Hawaii",1.5418606986737988E-2,8.3000000000000004E-2,149,"Puerto RicoHawaii",336,1.5418606986737988E-2,8.3000000000000004E-2,149]
[null,"Puerto Rico",0,0,0,"Idaho",1.0619122878421879E-2,7.8E-2,98,"Puerto RicoIdaho",136,1.0619122878421879E-2,7.8E-2,98]
[null,"Puerto Rico",0,0,0,"Illinois",2.2681262454608404E-2,0.03,91,"Puerto RicoIllinois",2049,2.2681262454608404E-2,0.03,91]
[null,"Puerto Rico",0,0,0,"Indiana",1.754084582978746E-2,3.4000000000000002E-2,88,"Puerto RicoIndiana",136,1.754084582978746E-2,3.4000000000000002E-2,88]
[null,"Puerto Rico",0,0,0,"Iowa",1.3507799161676014E-2,0.09,90,"Puerto RicoIowa",786,1.3507799161676014E-2,0.09,90]
[null,"Puerto Rico",0,0,0,"Kansas",1.8706359316443516E-2,6.5000000000000002E-2,84,"Puerto RicoKansas",82,1.8706359316443516E-2,6.5000000000000002E-2,84]
[null,"Puerto Rico",0,0,0,"Kentucky",1.6652835554239985E-2,5.8000000000000003E-2,92,"Puerto RicoKentucky",170,1.6652835554239985E-2,5.8000000000000003E-2,92]
[null,"Puerto Rico",0,0,0,"Louisiana",2.935191107211383E-2,0.06,88,"Puerto RicoLouisiana",655,2.935191107211383E-2,0.06,88]
[null,"Puerto Rico",0,0,0,"Maine",6.5120753540148114E-3,6.9000000000000006E-2,104,"Puerto RicoMaine",38,6.5120753540148114E-3,6.9000000000000006E-2,104]
[null,"Puerto Rico",0,0,0,"Maryland",2.611701649690518E-2,0.05,103,"Puerto RicoMaryland",294,2.611701649690518E-2,0.05,103]
[null,"Puerto Rico",0,0,0,"Massachusetts",2.2641619138735747E-2,5.2999999999999999E-2,126,"Puerto RicoMassachusetts",4056,2.2641619138735747E-2,5.2999999999999999E-2,126]
[null,"Puerto Rico",0,0,0,"Michigan",2.3537558077457752E-2,4.3999999999999997E-2,82,"Puerto RicoMichigan",782,2.3537558077457752E-2,4.3999999999999997E-2,82]
[null,"Puerto Rico",0,0,0,"Minnesota",1.1694778182433254E-2,7.9000000000000001E-2,121,"Puerto RicoMinnesota",134,1.1694778182433254E-2,7.9000000000000001E-2,121]
[null,"Puerto Rico",0,0,0,"Mississippi",1.426102216325646E-2,0.05,76,"Puerto RicoMississippi",81,{"$f":"G2687-C2687","v":1.426102216325646E-2},{"$f":"H2687-D2687","v":0.05},{"$f":"I2687-E2687","v":76}]
[null,"Puerto Rico",0,0,0,"Missouri",2.3569272730155875E-2,0.06,81,"Puerto RicoMissouri",826,2.3569272730155875E-2,0.06,81]
[null,"Puerto Rico",0,0,0,"Montana",1.4139449327913651E-2,6.9000000000000006E-2,93,"Puerto RicoMontana",0,1.4139449327913651E-2,6.9000000000000006E-2,93]
[null,"Puerto Rico",0,0,0,"Nebraska",1.3380940550883517E-2,6.8000000000000005E-2,77,"Puerto RicoNebraska",0,1.3380940550883517E-2,6.8000000000000005E-2,77]
[null,"Puerto Rico",0,0,0,"Nevada",2.9713986690417422E-2,0,99,"Puerto RicoNevada",237,2.9713986690417422E-2,0,99]
[null,"Puerto Rico",0,0,0,"New Hampshire",9.9372578454122104E-3,0,120,"Puerto RicoNew Hampshire",75,9.9372578454122104E-3,0,120]
[null,"Puerto Rico",0,0,0,"New Jersey",1.6301331486835775E-2,6.4000000000000001E-2,103,"Puerto RicoNew Jersey",2574,1.6301331486835775E-2,6.4000000000000001E-2,103]
[null,"Puerto Rico",0,0,0,"New Mexico",2.9999418564700536E-2,4.9000000000000002E-2,105,"Puerto RicoNew Mexico",429,2.9999418564700536E-2,4.9000000000000002E-2,105]
[null,"Puerto Rico",0,0,0,"New York",2.1042672065205326E-2,7.9000000000000001E-2,114,"Puerto RicoNew York",7321,2.1042672065205326E-2,7.9000000000000001E-2,114]
[null,"Puerto Rico",0,0,0,"North Carolina",1.8489642523006337E-2,7.0000000000000007E-2,81,"Puerto RicoNorth Carolina",2025,1.8489642523006337E-2,7.0000000000000007E-2,81]
[null,"Puerto Rico",0,0,0,"North Dakota",1.3055865360727744E-2,3.7999999999999999E-2,89,"Puerto RicoNorth Dakota",0,1.3055865360727744E-2,3.7999999999999999E-2,89]
[null,"Puerto Rico",0,0,0,"Ohio",1.6248473732338901E-2,4.7E-2,106,"Puerto RicoOhio",1403,1.6248473732338901E-2,4.7E-2,106]
[null,"Puerto Rico",0,0,0,"Oklahoma",2.4039706745178049E-2,5.5E-2,84,"Puerto RicoOklahoma",0,2.4039706745178049E-2,5.5E-2,84]
[null,"Puerto Rico",0,0,0,"Oregon",1.3084937125701024E-2,0.108,107,"Puerto RicoOregon",152,1.3084937125701024E-2,0.108,107]
[null,"Puerto Rico",0,0,0,"Pennsylvania",1.8764502846390078E-2,0.03,96,"Puerto RicoPennsylvania",7847,1.8764502846390078E-2,0.03,96]
[null,"Puerto Rico",0,0,0,"Rhode Island",1.3082294237976182E-2,7.8E-2,118,"Puerto RicoRhode Island",116,1.3082294237976182E-2,7.8E-2,118]
[null,"Puerto Rico",0,0,0,"South Carolina",3.0229349796761933E-2,7.0000000000000007E-2,88,"Puerto RicoSouth Carolina",1070,3.0229349796761933E-2,7.0000000000000007E-2,88]
[null,"Puerto Rico",0,0,0,"South Dakota",1.3431155417655547E-2,0,79,"Puerto RicoSouth Dakota",134,1.3431155417655547E-2,0,79]
[null,"Puerto Rico",0,0,0,"Tennessee",3.2145443397273599E-2,0,82,"Puerto RicoTennessee",717,3.2145443397273599E-2,0,82]
[null,"Puerto Rico",0,0,0,"Texas",2.1592392711972809E-2,0,83,"Puerto RicoTexas",4435,2.1592392711972809E-2,0,83]
[null,"Puerto Rico",0,0,0,"Utah",1.0307262126890326E-2,0.05,84,"Puerto RicoUtah",239,1.0307262126890326E-2,0.05,84]
[null,"Puerto Rico",0,0,0,"Vermont",7.1490112957021358E-3,8.3000000000000004E-2,110,"Puerto RicoVermont",0,7.1490112957021358E-3,8.3000000000000004E-2,110]
[null,"Puerto Rico",0,0,0,"Virginia",1.039712030953501E-2,5.8000000000000003E-2,87,"Puerto RicoVirginia",516,1.039712030953501E-2,5.8000000000000003E-2,87]
[null,"Puerto Rico",0,0,0,"Washington",1.5569251587054078E-2,0,102,"Puerto RicoWashington",1025,1.5569251587054078E-2,0,102]
[null,"Puerto Rico",0,0,0,"West Virginia",1.6695121757837481E-2,6.5000000000000002E-2,91,"Puerto RicoWest Virginia",79,1.6695121757837481E-2,6.5000000000000002E-2,91]
[null,"Puerto Rico",0,0,0,"Wisconsin",1.2522002040309323E-2,6.8000000000000005E-2,105,"Puerto RicoWisconsin",975,1.2522002040309323E-2,6.8000000000000005E-2,105]
[null,"Puerto Rico",0,0,0,"Wyoming",1.159170556116435E-2,0,76,"Puerto RicoWyoming",16,1.159170556116435E-2,0,76]

{"sheet":"Inputs","index":5,"n_rows":54,"n_cols":23,"rows_kept":54,"cut":false,"hidden":false,"merged":[]}
[null,"States","Geography","Population 2012","Non Movers","Intra state movements","Migrants into the state","People who left the state","Final Total","Population 2011","Population 2010","Net Gain (Loss)",null,"Graph 1","View migration data at a state level"]
[null,"United States",null,310212.755,263612.59600000002,37696.597000000002,7070.3450000000003,{"$f":"MAX(D2-J2,1)","v":2312.435999999987},{"$f":"D2-J2+G2-H2","v":7070.3450000000012},307900.31900000002,305628.60700000002,{"$f":"G2-H2","v":4757.9090000000133}]
[null,"Alabama","South",4764.4279999999999,4054.26,590.32600000000002,104.6,{"$f":"MAX(D3-J3,1)","v":19.149999999999636},{"$f":"D3-J3+G3-H3","v":104.6},4745.2780000000002,4729.509,{"$f":"G3-H3","v":85.450000000000358}]
[null,"Alaska","West",721.18600000000004,592.55100000000004,90.613,33.414999999999999,9.2240000000000464,{"$f":"D4-J4+G4-H4","v":33.414999999999999},711.96199999999999,702.97400000000005,{"$f":"G4-H4","v":24.190999999999953},null,"Location","Population (2010)","Population (2011)","Population (2012)","Non Movers","Intra state movements","Migrants into the state","People who left the state","Final Total"]
[null,"Arizona","West",6468.9070000000002,5242.674,953.78899999999999,232.45699999999999,66.605999999999767,232.45699999999999,6402.3010000000004,6332.7860000000001,165.85100000000023,null,{"$f":"Dashboard!G2","v":"Alabama"},{"$f":"VLOOKUP($N$5,$B$2:$K$54,10,FALSE)","v":4729.509},{"$f":"VLOOKUP($N$5,$B$2:$J$54,9,FALSE)","v":4745.2780000000002},{"$f":"VLOOKUP($N$5,$B$2:$D$54,3,FALSE)","v":4764.4279999999999},{"$f":"VLOOKUP($N$5,$B$2:$E$54,4,FALSE)","v":4054.26},{"$f":"VLOOKUP($N$5,$B$2:$F$54,5,FALSE)","v":590.32600000000002},{"$f":"VLOOKUP($N$5,$B$2:$G$54,6,FALSE)","v":104.6},{"$f":"VLOOKUP($N$5,$B$2:$H$54,7,FALSE)","v":19.149999999999636},{"$f":"VLOOKUP(N5,Inputs!$B$2:$I$54,8,FALSE)","v":104.6}]
[null,"Arkansas","South",2912.68,2453.3470000000002,373.04599999999999,76.947999999999993,6.0479999999997744,76.947999999999993,2906.6320000000001,2888.3040000000001,70.900000000000219]
[null,"California","West",37572.737999999998,31777.867999999999,5046.6180000000004,493.64100000000002,350.05999999999767,493.64100000000008,37222.678,36907.896999999997,143.58100000000235,null,"Graph 2","View migration between two states"]
[null,"Colorado","West",5123.9440000000004,4131.357,751.92100000000005,205.06,75.501000000000204,205.06,5048.4430000000002,4988.1899999999996,129.5589999999998]
[null,"Connecticut","Northeast",3555.319,3114.94,334.91800000000001,80.311000000000007,6.6520000000000437,80.311000000000007,3548.6669999999999,3541.1460000000002,73.658999999999963,null,"State 1","State 2",{"$f":"\"Migration from \"&N10&\" to \"&O10","v":"Migration from South Dakota to Idaho"},{"$f":"\"Migration from \"&O10&\" to \"&N10","v":"Migration from Idaho to South Dakota"},{"$f":"\"Crime Index of \"&N10","v":"Crime Index of South Dakota"},{"$f":"\"Crime Index of \"&O10","v":"Crime Index of Idaho"},{"$f":"\"Tax Rate of \"&N10","v":"Tax Rate of South Dakota"},{"$f":"\"Tax Rate of \"&O10","v":"Tax Rate of Idaho"},{"$f":"\"Cost of Living in \"&N10","v":"Cost of Living in South Dakota"},{"$f":"\"Cost of Living in  \"&O10","v":"Cost of Living in  Idaho"}]
[null,"Delaware","South",906.57600000000002,782.21600000000001,86.003,34.756999999999998,9.38900000000001,34.756999999999998,897.18700000000001,889.81200000000001,25.367999999999988,null,{"$f":"Dashboard!K3","v":"South Dakota"},{"$f":"Dashboard!O3","v":"Idaho"},{"$f":"VLOOKUP($N$10&$O$10,'Working '!$J$62:$N$2713,2,FALSE)","v":118},{"$f":"VLOOKUP($O$10&$N$10,'Working '!$J$62:$N$2713,2,FALSE)","v":78},{"$f":"VLOOKUP(N10,'Working '!$B$62:$E$2713,2,FALSE)","v":1.3431155417655547E-2},{"$f":"VLOOKUP(O10,'Working '!$B$62:$E$2713,2,FALSE)","v":1.0619122878421879E-2},{"$f":"VLOOKUP(N10,'Working '!$B$62:$E$2713,3,FALSE)","v":0},{"$f":"VLOOKUP(O10,'Working '!$B$62:$E$2713,3,FALSE)","v":7.8E-2},{"$f":"VLOOKUP(N10,'Working '!$B$62:$E$2713,4,FALSE)","v":79},{"$f":"VLOOKUP(O10,'Working '!$B$62:$E$2713,4,FALSE)","v":98}]
[null,"District of Columbia ","South",624.84699999999998,500.267,61.991999999999997,53.83,13.239000000000033,53.83,611.60799999999995,596.74699999999996,40.590999999999966]
[null,"Florida","South",19114.62,16032.617,2380.288,537.14800000000002,250.67199999999866,537.14800000000002,18863.948,18647.599999999999,286.47600000000136]
[null,"Georgia","South",9796.5470000000005,8231.384,1236.3019999999999,277.46600000000001,96.688000000000102,277.46600000000001,9699.8590000000004,9587.2369999999992,180.77799999999991,null,"Geography","Migrants into the state","Non Movers","People who left the state","Intra state movements"]
[null,"Hawaii","West",1374.8520000000001,1164.145,134.827,55.145000000000003,17.046000000000049,55.14500000000001,1357.806,1346.2739999999999,38.098999999999954,null,"Midwest",1308.0019999999997,56648.729000000007,162.75500000000056,8285.650999999998]
[null,"Idaho","West",1573.0360000000001,1296.9749999999999,210.15100000000001,59.283000000000001,13.399000000000115,59.283000000000001,1559.6369999999999,1550.9670000000001,45.883999999999887,null,"Northeast",974.54800000000012,48797.428,254.61699999999769,5031.2209999999995]
[null,"Illinois","Midwest",12725.119000000001,11009.321,1441.191,208.755,6.717000000000553,208.755,12718.402,12680.126,202.03799999999944,null,"South",3038.6879999999996,97667.074999999997,1181.5929999999998,14440.931999999997]
[null,"Indiana","Midwest",6457.067,5493.09,805.22799999999995,134.137,19.912000000000262,134.137,6437.1549999999997,6414.8620000000001,114.22499999999974,null,"West",1749.107,60499.363999999994,722.747999999998,9938.7930000000015]
[null,"Iowa","Midwest",3035.4690000000001,2585.9789999999998,362.93799999999999,75.760000000000005,7.7510000000002037,75.760000000000005,3027.7179999999998,3013.0529999999999,68.008999999999801,null,"Puerto Rico",7070.3450000000003,263612.59600000002,2312.435999999987,37696.597000000002]
[null,"Kansas","Midwest",2848.7080000000001,2361.8989999999999,381.69499999999999,88.284000000000006,15.124000000000251,88.284000000000006,2833.5839999999998,2820.8939999999998,73.159999999999755,null,"Grand Total",14160.734,530591.78500000003,4635.1489999999831,75631.236000000004]
[null,"Kentucky","South",4328.6260000000002,3676.4720000000002,521.51099999999997,112.78700000000001,12.329000000000633,112.78700000000001,4316.2969999999996,4296.6390000000001,100.45799999999937]
[null,"Louisiana","South",4545.9139999999998,3912.0230000000001,528.40599999999995,91.215000000000003,27.284999999999854,91.215000000000003,4518.6289999999999,4483.5290000000005,63.930000000000149]
[null,"Maine","Northeast",1315.586,1132.3440000000001,151.43799999999999,27.523,1,26.275999999999929,1315.8330000000001,1313.902,26.523]
[null,"Maryland","South",5816.4719999999998,5068.4570000000003,549.97299999999996,154.983,57.384999999999309,154.983,5759.0870000000004,5716.7849999999999,97.598000000000695]
[null,"Massachusetts","Northeast",6580.6409999999996,5752.1660000000002,626.38,142.577,65.583999999999833,142.577,6515.0569999999998,6489.25,76.993000000000166]
[null,"Michigan","Midwest",9778.98,8330.99,1268.105,133.98099999999999,12.40599999999904,133.98099999999999,9766.5740000000005,9762.1270000000004,121.57500000000095]
[null,"Minnesota","Midwest",5315.2280000000001,4536.3029999999999,653.01199999999994,101.042,37.899000000000342,101.042,5277.3289999999997,5244.2560000000003,63.14299999999966]
[null,"Mississippi","South",2947.6959999999999,2529.377,339.80700000000002,73.5,4.6749999999997272,73.5,2943.0210000000002,2931.2280000000001,68.825000000000273]
[null,"Missouri","Midwest",5951.9129999999996,4965.4589999999998,801.09299999999996,162.93,14.016999999999825,162.93,5937.8959999999997,5920.8580000000002,148.91300000000018]
[null,"Montana","West",995.54399999999998,829.48900000000003,126.46299999999999,37.69,8.4679999999999609,37.69,987.07600000000002,978.50699999999995,29.222000000000037]
[null,"Nebraska","Midwest",1829.42,1540.3610000000001,237.93700000000001,43.265999999999998,12.294000000000096,43.265999999999998,1817.126,1802.6969999999999,30.971999999999902]
[null,"Nevada","West",2725.28,2105.0700000000002,481.49599999999998,124.285,36.944000000000415,124.285,2688.3359999999998,2667.364,87.340999999999582]
[null,"New Hampshire","Northeast",1309.203,1127.376,125.11799999999999,50.484000000000002,3.5249999999998636,50.484000000000002,1305.6780000000001,1303.865,46.959000000000138]
[null,"New Jersey","Northeast",8772.7440000000006,7929.57,655.46500000000003,130.22300000000001,52.792000000001281,130.22300000000001,8719.9519999999993,8709.9330000000009,77.430999999998733]
[null,"New Mexico","West",2060.5949999999998,1769.3409999999999,226.24299999999999,54.692999999999998,5.3019999999996799,54.692999999999998,2055.2930000000001,2039.549,49.391000000000318]
[null,"New York","Northeast",19352.152999999998,17202.133999999998,1723.117,270.053,103.46799999999712,270.053,19248.685000000001,19171.916000000001,166.58500000000288]
[null,"North Carolina","South",9640.49,8167.83,1149.08,273.149,101.07799999999952,273.149,9539.4120000000003,9443,172.07100000000048]
[null,"North Dakota","Midwest",689.83799999999997,563.97799999999995,84.293999999999997,38.213000000000001,14.677000000000021,38.213000000000001,675.16099999999994,665.654,23.53599999999998]
[null,"Ohio","Midwest",11414.635,9735.39,1440.8150000000001,196.39099999999999,1,191.0820000000007,11418.944,11405.101000000001,195.39099999999999]
[null,"Oklahoma","South",3762.3110000000001,3107.3670000000002,531.34699999999998,108.97199999999999,19.613000000000284,108.97199999999998,3742.6979999999999,3716.2640000000001,89.35899999999971]
[null,"Oregon","West",3857.4650000000001,3158.45,560.673,118.925,28.751000000000204,118.92500000000001,3828.7139999999999,3794.0079999999998,90.173999999999793]
[null,"Pennsylvania","Northeast",12630.082,11107.11,1252.3779999999999,215.5,19.595999999999549,215.5,12610.486000000001,12577.555,195.90400000000045]
[null,"Rhode Island","Northeast",1040.527,899.55100000000004,101.16500000000001,33.445999999999998,1,32.951000000000107,1040.0219999999999,1042.24,32.445999999999998]
[null,"South Carolina","South",4668.8860000000004,3929.6260000000002,564.35,156.70500000000001,44.706000000000131,156.70500000000001,4624.18,4577.3990000000003,111.99899999999988]
[null,"South Dakota","Midwest",821.66899999999998,676.01400000000001,115.60599999999999,26.050999999999998,7.4940000000000282,26.051000000000002,814.17499999999995,805.61599999999999,18.55699999999997]
[null,"Tennessee","South",6378.2780000000002,5396.8329999999996,783.077,177.09800000000001,44.811999999999898,177.09800000000001,6333.4660000000003,6282.7060000000001,132.28600000000012]
[null,"Texas","South",25711.791000000001,21354.246999999999,3656.07,507.75200000000001,384.68700000000172,507.75199999999995,25327.103999999999,24899.075000000001,123.06499999999829]
[null,"Utah","West",2805.44,2324.0189999999998,373.98,87.87,35.813000000000102,87.87,2769.627,2724.0639999999999,52.056999999999903]
[null,"Vermont","Northeast",620.22400000000005,532.23699999999997,61.241999999999997,24.431000000000001,1,22.301000000000005,621.35400000000004,619.36300000000006,23.431000000000001]
[null,"Virginia","South",8085.3890000000001,6857.43,915.24199999999996,250.65299999999999,88.837000000000444,250.65300000000002,7996.5519999999997,7930.7730000000001,161.81599999999955]
[null,"Washington","West",6815.7629999999999,5648.1989999999996,904.69500000000005,215.494,67.28899999999976,215.49400000000003,6748.4740000000002,6661.3209999999999,148.20500000000024]
[null,"West Virginia","South",1837.518,1613.3219999999999,174.11199999999999,47.125,1,47.028999999999996,1836.614,1833.5350000000001,46.125]
[null,"Wisconsin","Midwest",5660.6769999999997,4849.9449999999997,693.73699999999997,99.191999999999993,13.463999999999942,99.191999999999993,5647.2129999999997,5623.1959999999999,85.728000000000051]
[null,"Wyoming","West",569.73400000000004,459.226,77.323999999999998,31.149000000000001,8.3450000000000273,31.149000000000001,561.38900000000001,556.95399999999995,22.803999999999974]
[null,"Puerto Rico",0,3628.402,3366.5929999999998,238.042,20.044,1,-21.74900000000012,3669.1950000000002,3676.4929999999999,19.044]

{"sheet":"Dashboard","index":6,"n_rows":23,"n_cols":15,"rows_kept":23,"cut":false,"hidden":false,"merged":[]}
[]
[null,"To view migration data, select State from dropdown",null,null,null,null,"Alabama",null,null,"Give and take between states.",null,null,null,"Select pair of states to view migration between them"]
[null,null,null,null,null,null,null,null,null,"State 1","South Dakota",null,null,"State 2","Idaho"]
[]
[]
[]
[]
[]
[]
[]
[]
[]
[]
[]
[]
[]
[]
[]
[]
[null,null,null,null,null,null,null,null,null,"With increase in tax rates, cost of living and the crime index, we can see a general trend in migration to other states."]
[]
[null,null,null,null,null,null,null,null,null,"Further, no. of people migrating into the state as a %age of no. of people leaving the state reveals that migration"]
[null,null,null,null,null,null,null,null,null,"is more towards states in Midwest & Northeast"]