{"text_format":"1","workbook":"xlsx","n_sheets":4,"sheets":["dashboard","all posts","top 10 users","calculations"],"not_rendered":{"charts":1,"images":0,"macros":1,"external_links":0,"defined_names":6,"comments":0,"pivot_tables":0},"unopened":[],"bounds":{"document_bytes":16777216,"sheet_cells":100000,"rows_first":2000,"rows_last":500,"rows_between":2000,"halvings":0,"cell_chars":16384,"cell_head_chars":4096},"cells_cut":0,"cells_raw":0,"read":"whole","date_system":"1900"}

{"sheet":"dashboard","index":0,"n_rows":26,"n_cols":9,"rows_kept":26,"cut":false,"hidden":false,"merged":[[22,1,22,3],[23,1,23,3],[2,1,2,9],[25,3,25,9]]}
[]
[]
[null,"Number of Posts by Top 3 Forum Users - Chandoo.org"]
[]
[]
[]
[]
[]
[]
[]
[]
[]
[]
[]
[]
[]
[]
[]
[]
[]
[]
[null,null,null,null,"Hui",null,"Luke",null,"Narayank"]
[null,"Total Posts",null,null,{"$f":"calculations!AA8","v":1},null,{"$f":"calculations!AB8","v":13},null,{"$f":"calculations!AC8","v":38}]
[null,"Average per week",null,null,{"$f":"calculations!AA9","v":1},null,{"$f":"calculations!AB9","v":13},null,{"$f":"calculations!AC9","v":38}]
[]
[null,null,null,"Made by chandoo. Visit our website."]

{"sheet":"all posts","index":1,"n_rows":20291,"n_cols":10,"rows_kept":4500,"cut":true,"hidden":false,"merged":[],"bounds":{"rows_first":2000,"rows_last":500,"rows_between":2000,"halvings":0}}
["post_id","forum_id","topic_id","poster_id","post_text","post_time","poster_ip","post_status","post_position","by Top 10?"]
[1,1,1,1,null,"2009-07-24T17:24:37",null,null,1,{"$f":"COUNTIF(top10Usrs[Top 10 Posters],tblPosts[[#This Row],[poster_id]])","v":1}]
[2,4,2,1,null,"2009-07-25T22:19:40",null,null,1,{"$f":"COUNTIF(top10Usrs[Top 10 Posters],tblPosts[[#This Row],[poster_id]])","v":1}]
[3,1,3,7,null,"2009-07-26T07:07:38",null,null,1,{"$f":"COUNTIF(top10Usrs[Top 10 Posters],tblPosts[[#This Row],[poster_id]])","v":0}]
[4,2,4,1,null,"2009-07-26T12:17:12",null,null,1,{"$f":"COUNTIF(top10Usrs[Top 10 Posters],tblPosts[[#This Row],[poster_id]])","v":1}]
[5,1,3,1,null,"2009-07-26T17:30:56",null,null,2,{"$f":"COUNTIF(top10Usrs[Top 10 Posters],tblPosts[[#This Row],[poster_id]])","v":1}]
[6,1,3,24,null,"2009-07-27T11:37:08",null,null,3,{"$f":"COUNTIF(top10Usrs[Top 10 Posters],tblPosts[[#This Row],[poster_id]])","v":1}]
[7,1,5,28,null,"2009-07-27T12:27:08",null,null,1,{"$f":"COUNTIF(top10Usrs[Top 10 Posters],tblPosts[[#This Row],[poster_id]])","v":0}]
[8,2,4,31,null,"2009-07-27T14:26:09",null,null,2,{"$f":"COUNTIF(top10Usrs[Top 10 Posters],tblPosts[[#This Row],[poster_id]])","v":0}]
[9,1,6,35,null,"2009-07-27T15:22:04",null,null,1,{"$f":"COUNTIF(top10Usrs[Top 10 Posters],tblPosts[[#This Row],[poster_id]])","v":0}]
[10,1,6,35,null,"2009-07-27T15:23:48",null,null,2,{"$f":"COUNTIF(top10Usrs[Top 10 Posters],tblPosts[[#This Row],[poster_id]])","v":0}]
[11,1,6,1,null,"2009-07-27T15:49:14",null,null,3,{"$f":"COUNTIF(top10Usrs[Top 10 Posters],tblPosts[[#This Row],[poster_id]])","v":1}]
[12,1,3,1,null,"2009-07-27T15:52:23",null,null,4,{"$f":"COUNTIF(top10Usrs[Top 10 Posters],tblPosts[[#This Row],[poster_id]])","v":1}]
[13,4,2,38,null,"2009-07-27T16:20:04",null,null,2,{"$f":"COUNTIF(top10Usrs[Top 10 Posters],tblPosts[[#This Row],[poster_id]])","v":0}]
[14,4,2,35,null,"2009-07-27T16:43:34",null,null,3,{"$f":"COUNTIF(top10Usrs[Top 10 Posters],tblPosts[[#This Row],[poster_id]])","v":0}]
[15,1,6,35,null,"2009-07-27T16:49:48",null,null,4,{"$f":"COUNTIF(top10Usrs[Top 10 Posters],tblPosts[[#This Row],[poster_id]])","v":0}]
[16,4,2,50,null,"2009-07-27T19:58:31",null,null,4,{"$f":"COUNTIF(top10Usrs[Top 10 Posters],tblPosts[[#This Row],[poster_id]])","v":0}]
[17,1,3,51,null,"2009-07-27T20:28:16",null,null,5,{"$f":"COUNTIF(top10Usrs[Top 10 Posters],tblPosts[[#This Row],[poster_id]])","v":0}]
[18,1,7,55,null,"2009-07-27T23:54:11",null,null,1,{"$f":"COUNTIF(top10Usrs[Top 10 Posters],tblPosts[[#This Row],[poster_id]])","v":0}]
[19,1,8,55,null,"2009-07-28T00:01:54",null,null,1,{"$f":"COUNTIF(top10Usrs[Top 10 Posters],tblPosts[[#This Row],[poster_id]])","v":0}]
[20,4,2,55,null,"2009-07-28T00:07:52",null,null,5,{"$f":"COUNTIF(top10Usrs[Top 10 Posters],tblPosts[[#This Row],[poster_id]])","v":0}]
[21,4,2,59,null,"2009-07-28T00:38:51",null,null,6,{"$f":"COUNTIF(top10Usrs[Top 10 Posters],tblPosts[[#This Row],[poster_id]])","v":0}]
[22,2,9,59,null,"2009-07-28T01:52:12",null,null,1,{"$f":"COUNTIF(top10Usrs[Top 10 Posters],tblPosts[[#This Row],[poster_id]])","v":0}]
[23,4,2,60,null,"2009-07-28T02:08:26",null,null,7,{"$f":"COUNTIF(top10Usrs[Top 10 Posters],tblPosts[[#This Row],[poster_id]])","v":0}]
[24,1,8,60,null,"2009-07-28T02:30:15",null,null,2,{"$f":"COUNTIF(top10Usrs[Top 10 Posters],tblPosts[[#This Row],[poster_id]])","v":0}]
[25,1,10,67,null,"2009-07-28T07:19:16",null,null,1,{"$f":"COUNTIF(top10Usrs[Top 10 Posters],tblPosts[[#This Row],[poster_id]])","v":0}]
[26,1,8,27,null,"2009-07-28T07:21:27",null,null,3,{"$f":"COUNTIF(top10Usrs[Top 10 Posters],tblPosts[[#This Row],[poster_id]])","v":0}]
[27,4,2,68,null,"2009-07-28T07:36:27",null,null,8,{"$f":"COUNTIF(top10Usrs[Top 10 Posters],tblPosts[[#This Row],[poster_id]])","v":0}]
[28,1,8,68,null,"2009-07-28T07:49:10",null,null,4,{"$f":"COUNTIF(top10Usrs[Top 10 Posters],tblPosts[[#This Row],[poster_id]])","v":0}]
[29,1,10,1,null,"2009-07-28T08:05:13",null,null,2,{"$f":"COUNTIF(top10Usrs[Top 10 Posters],tblPosts[[#This Row],[poster_id]])","v":1}]
[30,1,10,67,null,"2009-07-28T09:42:26",null,null,3,{"$f":"COUNTIF(top10Usrs[Top 10 Posters],tblPosts[[#This Row],[poster_id]])","v":0}]
[31,1,10,1,null,"2009-07-28T10:50:16",null,null,4,{"$f":"COUNTIF(top10Usrs[Top 10 Posters],tblPosts[[#This Row],[poster_id]])","v":1}]
[32,1,11,73,null,"2009-07-28T12:03:02",null,null,1,{"$f":"COUNTIF(top10Usrs[Top 10 Posters],tblPosts[[#This Row],[poster_id]])","v":0}]
[33,1,11,68,null,"2009-07-28T12:10:20",null,null,2,{"$f":"COUNTIF(top10Usrs[Top 10 Posters],tblPosts[[#This Row],[poster_id]])","v":0}]
[34,1,11,73,null,"2009-07-28T12:12:12",null,null,3,{"$f":"COUNTIF(top10Usrs[Top 10 Posters],tblPosts[[#This Row],[poster_id]])","v":0}]
[35,1,11,27,null,"2009-07-28T12:15:06",null,null,4,{"$f":"COUNTIF(top10Usrs[Top 10 Posters],tblPosts[[#This Row],[poster_id]])","v":0}]
[36,1,11,68,null,"2009-07-28T12:21:51",null,null,5,{"$f":"COUNTIF(top10Usrs[Top 10 Posters],tblPosts[[#This Row],[poster_id]])","v":0}]
[37,4,12,1,null,"2009-07-28T13:43:50",null,null,1,{"$f":"COUNTIF(top10Usrs[Top 10 Posters],tblPosts[[#This Row],[poster_id]])","v":1}]
[38,4,2,79,null,"2009-07-28T18:22:15",null,null,9,{"$f":"COUNTIF(top10Usrs[Top 10 Posters],tblPosts[[#This Row],[poster_id]])","v":0}]
[39,4,13,27,null,"2009-07-29T09:00:56",null,null,1,{"$f":"COUNTIF(top10Usrs[Top 10 Posters],tblPosts[[#This Row],[poster_id]])","v":0}]
[40,4,13,1,null,"2009-07-29T09:36:26",null,null,2,{"$f":"COUNTIF(top10Usrs[Top 10 Posters],tblPosts[[#This Row],[poster_id]])","v":1}]
[41,4,13,27,null,"2009-07-29T09:57:53",null,null,3,{"$f":"COUNTIF(top10Usrs[Top 10 Posters],tblPosts[[#This Row],[poster_id]])","v":0}]
[42,1,11,73,null,"2009-07-29T10:48:54",null,null,6,{"$f":"COUNTIF(top10Usrs[Top 10 Posters],tblPosts[[#This Row],[poster_id]])","v":0}]
[43,1,7,109,null,"2009-07-30T05:10:05",null,null,2,{"$f":"COUNTIF(top10Usrs[Top 10 Posters],tblPosts[[#This Row],[poster_id]])","v":0}]
[44,1,5,1,null,"2009-07-30T05:25:25",null,null,2,{"$f":"COUNTIF(top10Usrs[Top 10 Posters],tblPosts[[#This Row],[poster_id]])","v":1}]
[45,1,14,109,null,"2009-07-30T05:30:23",null,null,1,{"$f":"COUNTIF(top10Usrs[Top 10 Posters],tblPosts[[#This Row],[poster_id]])","v":0}]
[46,4,15,114,null,"2009-07-30T08:30:36",null,null,1,{"$f":"COUNTIF(top10Usrs[Top 10 Posters],tblPosts[[#This Row],[poster_id]])","v":0}]
[47,4,2,114,null,"2009-07-30T09:44:04",null,null,10,{"$f":"COUNTIF(top10Usrs[Top 10 Posters],tblPosts[[#This Row],[poster_id]])","v":0}]
[48,1,14,1,null,"2009-07-30T11:32:10",null,null,2,{"$f":"COUNTIF(top10Usrs[Top 10 Posters],tblPosts[[#This Row],[poster_id]])","v":1}]
[49,4,2,115,null,"2009-07-30T12:27:36",null,null,11,{"$f":"COUNTIF(top10Usrs[Top 10 Posters],tblPosts[[#This Row],[poster_id]])","v":0}]
[50,1,14,109,null,"2009-07-30T15:17:27",null,null,3,{"$f":"COUNTIF(top10Usrs[Top 10 Posters],tblPosts[[#This Row],[poster_id]])","v":0}]
[51,1,14,1,null,"2009-07-30T15:46:51",null,null,4,{"$f":"COUNTIF(top10Usrs[Top 10 Posters],tblPosts[[#This Row],[poster_id]])","v":1}]
[52,1,16,78,null,"2009-07-30T18:17:09",null,null,1,{"$f":"COUNTIF(top10Usrs[Top 10 Posters],tblPosts[[#This Row],[poster_id]])","v":0}]
[53,4,2,127,null,"2009-07-31T06:05:56",null,null,12,{"$f":"COUNTIF(top10Usrs[Top 10 Posters],tblPosts[[#This Row],[poster_id]])","v":0}]
[54,1,17,127,null,"2009-07-31T06:09:57",null,null,1,{"$f":"COUNTIF(top10Usrs[Top 10 Posters],tblPosts[[#This Row],[poster_id]])","v":0}]
[55,1,17,1,null,"2009-07-31T06:56:41",null,null,2,{"$f":"COUNTIF(top10Usrs[Top 10 Posters],tblPosts[[#This Row],[poster_id]])","v":1}]
[56,1,17,1,null,"2009-07-31T06:57:24",null,null,3,{"$f":"COUNTIF(top10Usrs[Top 10 Posters],tblPosts[[#This Row],[poster_id]])","v":1}]
[57,1,5,28,null,"2009-07-31T12:17:38",null,null,3,{"$f":"COUNTIF(top10Usrs[Top 10 Posters],tblPosts[[#This Row],[poster_id]])","v":0}]
[58,1,16,114,null,"2009-08-01T08:26:08",null,null,2,{"$f":"COUNTIF(top10Usrs[Top 10 Posters],tblPosts[[#This Row],[poster_id]])","v":0}]
[59,4,2,176,null,"2009-08-03T05:28:28",null,null,13,{"$f":"COUNTIF(top10Usrs[Top 10 Posters],tblPosts[[#This Row],[poster_id]])","v":0}]
[60,4,2,178,null,"2009-08-03T07:10:58",null,null,14,{"$f":"COUNTIF(top10Usrs[Top 10 Posters],tblPosts[[#This Row],[poster_id]])","v":0}]
[61,4,18,1,null,"2009-08-03T07:47:43",null,null,1,{"$f":"COUNTIF(top10Usrs[Top 10 Posters],tblPosts[[#This Row],[poster_id]])","v":1}]
[62,3,19,1,null,"2009-08-03T07:51:50",null,null,1,{"$f":"COUNTIF(top10Usrs[Top 10 Posters],tblPosts[[#This Row],[poster_id]])","v":1}]
[63,4,2,181,null,"2009-08-03T11:10:28",null,null,15,{"$f":"COUNTIF(top10Usrs[Top 10 Posters],tblPosts[[#This Row],[poster_id]])","v":0}]
[64,1,20,184,null,"2009-08-03T13:13:31",null,null,1,{"$f":"COUNTIF(top10Usrs[Top 10 Posters],tblPosts[[#This Row],[poster_id]])","v":0}]
[65,1,16,78,null,"2009-08-03T18:24:04",null,null,3,{"$f":"COUNTIF(top10Usrs[Top 10 Posters],tblPosts[[#This Row],[poster_id]])","v":0}]
[66,4,2,27,null,"2009-08-03T19:30:23",null,null,16,{"$f":"COUNTIF(top10Usrs[Top 10 Posters],tblPosts[[#This Row],[poster_id]])","v":0}]
[67,3,19,60,null,"2009-08-04T00:47:26",null,null,2,{"$f":"COUNTIF(top10Usrs[Top 10 Posters],tblPosts[[#This Row],[poster_id]])","v":0}]
[68,1,21,67,null,"2009-08-04T05:06:14",null,null,1,{"$f":"COUNTIF(top10Usrs[Top 10 Posters],tblPosts[[#This Row],[poster_id]])","v":0}]
[69,1,21,27,null,"2009-08-04T06:56:00",null,null,2,{"$f":"COUNTIF(top10Usrs[Top 10 Posters],tblPosts[[#This Row],[poster_id]])","v":0}]
[70,4,18,1,null,"2009-08-04T10:52:18",null,null,2,{"$f":"COUNTIF(top10Usrs[Top 10 Posters],tblPosts[[#This Row],[poster_id]])","v":1}]
[71,1,20,1,null,"2009-08-04T10:57:48",null,null,2,{"$f":"COUNTIF(top10Usrs[Top 10 Posters],tblPosts[[#This Row],[poster_id]])","v":1}]
[72,1,20,1,null,"2009-08-04T10:59:59",null,null,3,{"$f":"COUNTIF(top10Usrs[Top 10 Posters],tblPosts[[#This Row],[poster_id]])","v":1}]
[73,2,22,1,null,"2009-08-04T11:01:39",null,null,1,{"$f":"COUNTIF(top10Usrs[Top 10 Posters],tblPosts[[#This Row],[poster_id]])","v":1}]
[74,2,22,27,null,"2009-08-04T11:36:41",null,null,2,{"$f":"COUNTIF(top10Usrs[Top 10 Posters],tblPosts[[#This Row],[poster_id]])","v":0}]
[75,4,2,204,null,"2009-08-04T12:50:20",null,null,17,{"$f":"COUNTIF(top10Usrs[Top 10 Posters],tblPosts[[#This Row],[poster_id]])","v":0}]
[76,1,23,205,null,"2009-08-04T13:08:23",null,null,1,{"$f":"COUNTIF(top10Usrs[Top 10 Posters],tblPosts[[#This Row],[poster_id]])","v":0}]
[77,2,22,60,null,"2009-08-05T01:03:15",null,null,3,{"$f":"COUNTIF(top10Usrs[Top 10 Posters],tblPosts[[#This Row],[poster_id]])","v":0}]
[78,2,22,1,null,"2009-08-05T08:49:11",null,null,4,{"$f":"COUNTIF(top10Usrs[Top 10 Posters],tblPosts[[#This Row],[poster_id]])","v":1}]
[79,1,23,1,null,"2009-08-05T08:56:22",null,null,2,{"$f":"COUNTIF(top10Usrs[Top 10 Posters],tblPosts[[#This Row],[poster_id]])","v":1}]
[80,2,24,28,null,"2009-08-05T14:10:00",null,null,1,{"$f":"COUNTIF(top10Usrs[Top 10 Posters],tblPosts[[#This Row],[poster_id]])","v":0}]
[81,2,24,27,null,"2009-08-05T14:39:43",null,null,2,{"$f":"COUNTIF(top10Usrs[Top 10 Posters],tblPosts[[#This Row],[poster_id]])","v":0}]
[82,2,24,28,null,"2009-08-05T14:48:56",null,null,3,{"$f":"COUNTIF(top10Usrs[Top 10 Posters],tblPosts[[#This Row],[poster_id]])","v":0}]
[83,2,24,1,null,"2009-08-05T15:21:52",null,null,4,{"$f":"COUNTIF(top10Usrs[Top 10 Posters],tblPosts[[#This Row],[poster_id]])","v":1}]
[84,1,21,27,null,"2009-08-06T07:07:31",null,null,3,{"$f":"COUNTIF(top10Usrs[Top 10 Posters],tblPosts[[#This Row],[poster_id]])","v":0}]
[85,1,23,205,null,"2009-08-06T13:16:18",null,null,3,{"$f":"COUNTIF(top10Usrs[Top 10 Posters],tblPosts[[#This Row],[poster_id]])","v":0}]
[86,2,25,1,null,"2009-08-07T08:54:56",null,null,1,{"$f":"COUNTIF(top10Usrs[Top 10 Posters],tblPosts[[#This Row],[poster_id]])","v":1}]
[87,2,25,27,null,"2009-08-07T11:12:00",null,null,2,{"$f":"COUNTIF(top10Usrs[Top 10 Posters],tblPosts[[#This Row],[poster_id]])","v":0}]
[88,1,26,294,null,"2009-08-10T14:21:48",null,null,1,{"$f":"COUNTIF(top10Usrs[Top 10 Posters],tblPosts[[#This Row],[poster_id]])","v":0}]
[89,1,5,28,null,"2009-08-10T15:00:57",null,null,4,{"$f":"COUNTIF(top10Usrs[Top 10 Posters],tblPosts[[#This Row],[poster_id]])","v":0}]
[90,1,26,1,null,"2009-08-10T16:42:04",null,null,2,{"$f":"COUNTIF(top10Usrs[Top 10 Posters],tblPosts[[#This Row],[poster_id]])","v":1}]
[91,1,26,294,null,"2009-08-10T18:39:57",null,null,3,{"$f":"COUNTIF(top10Usrs[Top 10 Posters],tblPosts[[#This Row],[poster_id]])","v":0}]
[92,1,26,1,null,"2009-08-11T10:26:48",null,null,4,{"$f":"COUNTIF(top10Usrs[Top 10 Posters],tblPosts[[#This Row],[poster_id]])","v":1}]
[93,2,25,326,null,"2009-08-12T01:05:55",null,null,3,{"$f":"COUNTIF(top10Usrs[Top 10 Posters],tblPosts[[#This Row],[poster_id]])","v":0}]
[94,2,25,330,null,"2009-08-12T02:45:07",null,null,4,{"$f":"COUNTIF(top10Usrs[Top 10 Posters],tblPosts[[#This Row],[poster_id]])","v":0}]
[95,2,27,1,null,"2009-08-12T07:52:38",null,null,1,{"$f":"COUNTIF(top10Usrs[Top 10 Posters],tblPosts[[#This Row],[poster_id]])","v":1}]
[96,4,2,337,null,"2009-08-12T16:37:23",null,null,18,{"$f":"COUNTIF(top10Usrs[Top 10 Posters],tblPosts[[#This Row],[poster_id]])","v":0}]
[97,1,28,338,null,"2009-08-12T17:18:02",null,null,1,{"$f":"COUNTIF(top10Usrs[Top 10 Posters],tblPosts[[#This Row],[poster_id]])","v":0}]
[98,1,28,1,null,"2009-08-13T07:48:08",null,null,2,{"$f":"COUNTIF(top10Usrs[Top 10 Posters],tblPosts[[#This Row],[poster_id]])","v":1}]
[99,1,29,352,null,"2009-08-13T15:55:15",null,null,1,{"$f":"COUNTIF(top10Usrs[Top 10 Posters],tblPosts[[#This Row],[poster_id]])","v":0}]
[100,1,29,317,null,"2009-08-13T16:53:40",null,null,2,{"$f":"COUNTIF(top10Usrs[Top 10 Posters],tblPosts[[#This Row],[poster_id]])","v":0}]
[101,1,29,1,null,"2009-08-14T10:47:34",null,null,3,{"$f":"COUNTIF(top10Usrs[Top 10 Posters],tblPosts[[#This Row],[poster_id]])","v":1}]
[102,2,30,370,null,"2009-08-14T16:05:01",null,null,1,{"$f":"COUNTIF(top10Usrs[Top 10 Posters],tblPosts[[#This Row],[poster_id]])","v":0}]
[103,1,31,373,null,"2009-08-14T18:24:09",null,null,1,{"$f":"COUNTIF(top10Usrs[Top 10 Posters],tblPosts[[#This Row],[poster_id]])","v":0}]
[104,2,30,1,null,"2009-08-14T18:29:41",null,null,2,{"$f":"COUNTIF(top10Usrs[Top 10 Posters],tblPosts[[#This Row],[poster_id]])","v":1}]
[105,4,2,376,null,"2009-08-14T20:36:58",null,null,19,{"$f":"COUNTIF(top10Usrs[Top 10 Posters],tblPosts[[#This Row],[poster_id]])","v":0}]
[106,1,32,377,null,"2009-08-14T20:40:08",null,null,1,{"$f":"COUNTIF(top10Usrs[Top 10 Posters],tblPosts[[#This Row],[poster_id]])","v":0}]
[107,1,33,378,null,"2009-08-14T20:58:38",null,null,1,{"$f":"COUNTIF(top10Usrs[Top 10 Posters],tblPosts[[#This Row],[poster_id]])","v":0}]
[108,2,27,60,null,"2009-08-16T01:26:55",null,null,2,{"$f":"COUNTIF(top10Usrs[Top 10 Posters],tblPosts[[#This Row],[poster_id]])","v":0}]
[109,1,31,109,null,"2009-08-16T04:31:05",null,null,2,{"$f":"COUNTIF(top10Usrs[Top 10 Posters],tblPosts[[#This Row],[poster_id]])","v":0}]
[110,1,34,409,null,"2009-08-16T22:19:23",null,null,1,{"$f":"COUNTIF(top10Usrs[Top 10 Posters],tblPosts[[#This Row],[poster_id]])","v":0}]
[111,1,34,1,null,"2009-08-16T22:39:50",null,null,2,{"$f":"COUNTIF(top10Usrs[Top 10 Posters],tblPosts[[#This Row],[poster_id]])","v":1}]
[112,1,34,409,null,"2009-08-17T06:49:06",null,null,3,{"$f":"COUNTIF(top10Usrs[Top 10 Posters],tblPosts[[#This Row],[poster_id]])","v":0}]
[113,1,34,27,null,"2009-08-17T07:12:31",null,null,4,{"$f":"COUNTIF(top10Usrs[Top 10 Posters],tblPosts[[#This Row],[poster_id]])","v":0}]
[114,1,34,1,null,"2009-08-17T09:39:51",null,null,5,{"$f":"COUNTIF(top10Usrs[Top 10 Posters],tblPosts[[#This Row],[poster_id]])","v":1}]
[115,1,31,373,null,"2009-08-17T14:32:59",null,null,3,{"$f":"COUNTIF(top10Usrs[Top 10 Posters],tblPosts[[#This Row],[poster_id]])","v":0}]
[116,1,35,423,null,"2009-08-17T19:08:01",null,null,1,{"$f":"COUNTIF(top10Usrs[Top 10 Posters],tblPosts[[#This Row],[poster_id]])","v":0}]
[117,4,2,425,null,"2009-08-17T20:06:03",null,null,20,{"$f":"COUNTIF(top10Usrs[Top 10 Posters],tblPosts[[#This Row],[poster_id]])","v":0}]
[118,4,2,425,null,"2009-08-17T20:08:14",null,null,21,{"$f":"COUNTIF(top10Usrs[Top 10 Posters],tblPosts[[#This Row],[poster_id]])","v":0}]
[119,1,36,426,null,"2009-08-17T20:42:37",null,null,1,{"$f":"COUNTIF(top10Usrs[Top 10 Posters],tblPosts[[#This Row],[poster_id]])","v":0}]
[120,1,37,29,null,"2009-08-17T21:04:21",null,null,1,{"$f":"COUNTIF(top10Usrs[Top 10 Posters],tblPosts[[#This Row],[poster_id]])","v":0}]
[121,1,33,29,null,"2009-08-17T21:19:26",null,null,2,{"$f":"COUNTIF(top10Usrs[Top 10 Posters],tblPosts[[#This Row],[poster_id]])","v":0}]
[122,1,35,29,null,"2009-08-17T21:38:11",null,null,2,{"$f":"COUNTIF(top10Usrs[Top 10 Posters],tblPosts[[#This Row],[poster_id]])","v":0}]
[123,2,9,29,null,"2009-08-17T21:46:49",null,null,2,{"$f":"COUNTIF(top10Usrs[Top 10 Posters],tblPosts[[#This Row],[poster_id]])","v":0}]
[124,2,4,29,null,"2009-08-17T21:48:51",null,null,3,{"$f":"COUNTIF(top10Usrs[Top 10 Posters],tblPosts[[#This Row],[poster_id]])","v":0}]
[125,1,36,29,null,"2009-08-17T21:56:48",null,null,2,{"$f":"COUNTIF(top10Usrs[Top 10 Posters],tblPosts[[#This Row],[poster_id]])","v":0}]
[126,1,35,423,null,"2009-08-17T23:19:24",null,null,3,{"$f":"COUNTIF(top10Usrs[Top 10 Posters],tblPosts[[#This Row],[poster_id]])","v":0}]
[127,1,35,423,null,"2009-08-18T00:12:31",null,null,4,{"$f":"COUNTIF(top10Usrs[Top 10 Posters],tblPosts[[#This Row],[poster_id]])","v":0}]
[128,1,38,428,null,"2009-08-18T01:00:17",null,null,1,{"$f":"COUNTIF(top10Usrs[Top 10 Posters],tblPosts[[#This Row],[poster_id]])","v":0}]
[129,1,37,114,null,"2009-08-18T06:46:37",null,null,2,{"$f":"COUNTIF(top10Usrs[Top 10 Posters],tblPosts[[#This Row],[poster_id]])","v":0}]
[130,1,37,29,null,"2009-08-18T08:43:28",null,null,3,{"$f":"COUNTIF(top10Usrs[Top 10 Posters],tblPosts[[#This Row],[poster_id]])","v":0}]
[131,1,35,29,null,"2009-08-18T08:45:15",null,null,5,{"$f":"COUNTIF(top10Usrs[Top 10 Posters],tblPosts[[#This Row],[poster_id]])","v":0}]
[132,1,39,432,null,"2009-08-18T08:47:23",null,null,1,{"$f":"COUNTIF(top10Usrs[Top 10 Posters],tblPosts[[#This Row],[poster_id]])","v":0}]
[133,1,39,432,null,"2009-08-18T09:16:22",null,null,2,{"$f":"COUNTIF(top10Usrs[Top 10 Posters],tblPosts[[#This Row],[poster_id]])","v":0}]
[134,1,39,1,null,"2009-08-18T13:38:36",null,null,3,{"$f":"COUNTIF(top10Usrs[Top 10 Posters],tblPosts[[#This Row],[poster_id]])","v":1}]
[135,1,38,1,null,"2009-08-18T13:40:01",null,null,2,{"$f":"COUNTIF(top10Usrs[Top 10 Posters],tblPosts[[#This Row],[poster_id]])","v":1}]
[136,2,25,438,null,"2009-08-18T17:23:50",null,null,5,{"$f":"COUNTIF(top10Usrs[Top 10 Posters],tblPosts[[#This Row],[poster_id]])","v":0}]
[137,1,40,205,null,"2009-08-18T20:57:27",null,null,1,{"$f":"COUNTIF(top10Usrs[Top 10 Posters],tblPosts[[#This Row],[poster_id]])","v":0}]
[138,1,40,1,null,"2009-08-18T21:14:50",null,null,2,{"$f":"COUNTIF(top10Usrs[Top 10 Posters],tblPosts[[#This Row],[poster_id]])","v":1}]
[139,1,38,428,null,"2009-08-19T00:59:12",null,null,3,{"$f":"COUNTIF(top10Usrs[Top 10 Posters],tblPosts[[#This Row],[poster_id]])","v":0}]
[140,1,8,55,null,"2009-08-19T02:14:11",null,null,5,{"$f":"COUNTIF(top10Usrs[Top 10 Posters],tblPosts[[#This Row],[poster_id]])","v":0}]
[141,1,40,326,null,"2009-08-19T05:15:33",null,null,3,{"$f":"COUNTIF(top10Usrs[Top 10 Posters],tblPosts[[#This Row],[poster_id]])","v":0}]
[142,1,40,326,null,"2009-08-19T05:17:19",null,null,4,{"$f":"COUNTIF(top10Usrs[Top 10 Posters],tblPosts[[#This Row],[poster_id]])","v":0}]
[143,1,40,1,null,"2009-08-19T05:35:44",null,null,5,{"$f":"COUNTIF(top10Usrs[Top 10 Posters],tblPosts[[#This Row],[poster_id]])","v":1}]
[144,1,40,326,null,"2009-08-19T05:42:12",null,null,6,{"$f":"COUNTIF(top10Usrs[Top 10 Posters],tblPosts[[#This Row],[poster_id]])","v":0}]
[145,1,41,326,null,"2009-08-19T05:58:24",null,null,1,{"$f":"COUNTIF(top10Usrs[Top 10 Posters],tblPosts[[#This Row],[poster_id]])","v":0}]
[146,1,41,326,null,"2009-08-19T06:01:17",null,null,2,{"$f":"COUNTIF(top10Usrs[Top 10 Posters],tblPosts[[#This Row],[poster_id]])","v":0}]
[147,1,41,1,null,"2009-08-19T08:54:24",null,null,3,{"$f":"COUNTIF(top10Usrs[Top 10 Posters],tblPosts[[#This Row],[poster_id]])","v":1}]
[148,1,32,1,null,"2009-08-19T10:13:23",null,null,2,{"$f":"COUNTIF(top10Usrs[Top 10 Posters],tblPosts[[#This Row],[poster_id]])","v":1}]
[149,1,29,454,null,"2009-08-19T14:21:52",null,null,4,{"$f":"COUNTIF(top10Usrs[Top 10 Posters],tblPosts[[#This Row],[poster_id]])","v":0}]
[150,1,29,1,null,"2009-08-19T14:45:17",null,null,5,{"$f":"COUNTIF(top10Usrs[Top 10 Posters],tblPosts[[#This Row],[poster_id]])","v":1}]
[151,1,29,454,null,"2009-08-19T16:18:26",null,null,6,{"$f":"COUNTIF(top10Usrs[Top 10 Posters],tblPosts[[#This Row],[poster_id]])","v":0}]
[152,2,42,376,null,"2009-08-19T16:25:21",null,null,1,{"$f":"COUNTIF(top10Usrs[Top 10 Posters],tblPosts[[#This Row],[poster_id]])","v":0}]
[153,1,43,326,null,"2009-08-20T03:21:19",null,null,1,{"$f":"COUNTIF(top10Usrs[Top 10 Posters],tblPosts[[#This Row],[poster_id]])","v":0}]
[154,1,44,477,null,"2009-08-20T04:28:29",null,null,1,{"$f":"COUNTIF(top10Usrs[Top 10 Posters],tblPosts[[#This Row],[poster_id]])","v":0}]
[155,1,44,1,null,"2009-08-20T15:19:27",null,null,2,{"$f":"COUNTIF(top10Usrs[Top 10 Posters],tblPosts[[#This Row],[poster_id]])","v":1}]
[156,1,43,1,null,"2009-08-20T17:05:14",null,null,2,{"$f":"COUNTIF(top10Usrs[Top 10 Posters],tblPosts[[#This Row],[poster_id]])","v":1}]
[157,1,45,501,null,"2009-08-21T04:30:24",null,null,1,{"$f":"COUNTIF(top10Usrs[Top 10 Posters],tblPosts[[#This Row],[poster_id]])","v":0}]
[158,1,41,326,null,"2009-08-21T05:25:39",null,null,4,{"$f":"COUNTIF(top10Usrs[Top 10 Posters],tblPosts[[#This Row],[poster_id]])","v":0}]
[159,1,41,1,null,"2009-08-21T21:17:12",null,null,5,{"$f":"COUNTIF(top10Usrs[Top 10 Posters],tblPosts[[#This Row],[poster_id]])","v":1}]
[160,1,45,109,null,"2009-08-22T12:29:34",null,null,2,{"$f":"COUNTIF(top10Usrs[Top 10 Posters],tblPosts[[#This Row],[poster_id]])","v":0}]
[161,1,46,60,null,"2009-08-23T02:32:18",null,null,1,{"$f":"COUNTIF(top10Usrs[Top 10 Posters],tblPosts[[#This Row],[poster_id]])","v":0}]
[162,1,40,29,null,"2009-08-24T11:03:35",null,null,7,{"$f":"COUNTIF(top10Usrs[Top 10 Posters],tblPosts[[#This Row],[poster_id]])","v":0}]
[163,1,47,581,null,"2009-08-24T11:11:31",null,null,1,{"$f":"COUNTIF(top10Usrs[Top 10 Posters],tblPosts[[#This Row],[poster_id]])","v":0}]
[164,1,47,1,null,"2009-08-24T12:05:55",null,null,2,{"$f":"COUNTIF(top10Usrs[Top 10 Posters],tblPosts[[#This Row],[poster_id]])","v":1}]
[165,1,47,581,null,"2009-08-24T12:13:46",null,null,3,{"$f":"COUNTIF(top10Usrs[Top 10 Posters],tblPosts[[#This Row],[poster_id]])","v":0}]
[166,1,47,1,null,"2009-08-24T12:18:01",null,null,4,{"$f":"COUNTIF(top10Usrs[Top 10 Posters],tblPosts[[#This Row],[poster_id]])","v":1}]
[167,1,46,1,null,"2009-08-24T12:19:41",null,null,2,{"$f":"COUNTIF(top10Usrs[Top 10 Posters],tblPosts[[#This Row],[poster_id]])","v":1}]
[168,1,47,581,null,"2009-08-24T12:26:13",null,null,5,{"$f":"COUNTIF(top10Usrs[Top 10 Posters],tblPosts[[#This Row],[poster_id]])","v":0}]
[169,1,47,1,null,"2009-08-24T12:33:23",null,null,6,{"$f":"COUNTIF(top10Usrs[Top 10 Posters],tblPosts[[#This Row],[poster_id]])","v":1}]
[170,1,40,1,null,"2009-08-25T06:08:35",null,null,8,{"$f":"COUNTIF(top10Usrs[Top 10 Posters],tblPosts[[#This Row],[poster_id]])","v":1}]
[171,4,13,376,null,"2009-08-25T19:56:16",null,null,4,{"$f":"COUNTIF(top10Usrs[Top 10 Posters],tblPosts[[#This Row],[poster_id]])","v":0}]
[172,1,48,628,null,"2009-08-26T17:03:33",null,null,1,{"$f":"COUNTIF(top10Usrs[Top 10 Posters],tblPosts[[#This Row],[poster_id]])","v":0}]
[173,1,47,581,null,"2009-08-27T10:39:58",null,null,7,{"$f":"COUNTIF(top10Usrs[Top 10 Posters],tblPosts[[#This Row],[poster_id]])","v":0}]
[174,4,13,376,null,"2009-08-27T12:57:16",null,null,5,{"$f":"COUNTIF(top10Usrs[Top 10 Posters],tblPosts[[#This Row],[poster_id]])","v":0}]
[175,1,48,646,null,"2009-08-27T14:13:39",null,null,2,{"$f":"COUNTIF(top10Usrs[Top 10 Posters],tblPosts[[#This Row],[poster_id]])","v":0}]
[176,1,48,1,null,"2009-08-27T17:05:27",null,null,3,{"$f":"COUNTIF(top10Usrs[Top 10 Posters],tblPosts[[#This Row],[poster_id]])","v":1}]
[177,1,49,651,null,"2009-08-27T19:37:24",null,null,1,{"$f":"COUNTIF(top10Usrs[Top 10 Posters],tblPosts[[#This Row],[poster_id]])","v":0}]
[178,1,49,1,null,"2009-08-28T05:55:17",null,null,2,{"$f":"COUNTIF(top10Usrs[Top 10 Posters],tblPosts[[#This Row],[poster_id]])","v":1}]
[179,1,50,337,null,"2009-08-28T14:51:38",null,null,1,{"$f":"COUNTIF(top10Usrs[Top 10 Posters],tblPosts[[#This Row],[poster_id]])","v":0}]
[180,1,51,666,null,"2009-08-28T16:31:55",null,null,1,{"$f":"COUNTIF(top10Usrs[Top 10 Posters],tblPosts[[#This Row],[poster_id]])","v":0}]
[181,1,50,109,null,"2009-08-29T00:51:16",null,null,2,{"$f":"COUNTIF(top10Usrs[Top 10 Posters],tblPosts[[#This Row],[poster_id]])","v":0}]
[182,1,8,703,null,"2009-08-31T03:20:05",null,null,5,{"$f":"COUNTIF(top10Usrs[Top 10 Posters],tblPosts[[#This Row],[poster_id]])","v":0}]
[183,1,49,703,null,"2009-08-31T03:21:00",null,null,2,{"$f":"COUNTIF(top10Usrs[Top 10 Posters],tblPosts[[#This Row],[poster_id]])","v":0}]
[184,1,52,716,null,"2009-08-31T22:55:44",null,null,1,{"$f":"COUNTIF(top10Usrs[Top 10 Posters],tblPosts[[#This Row],[poster_id]])","v":0}]
[185,1,52,1,null,"2009-09-01T07:59:16",null,null,2,{"$f":"COUNTIF(top10Usrs[Top 10 Posters],tblPosts[[#This Row],[poster_id]])","v":1}]
[186,1,53,724,null,"2009-09-01T08:46:50",null,null,1,{"$f":"COUNTIF(top10Usrs[Top 10 Posters],tblPosts[[#This Row],[poster_id]])","v":0}]
[187,1,54,81,null,"2009-09-01T13:43:40",null,null,1,{"$f":"COUNTIF(top10Usrs[Top 10 Posters],tblPosts[[#This Row],[poster_id]])","v":0}]
[188,1,52,716,null,"2009-09-01T13:57:34",null,null,3,{"$f":"COUNTIF(top10Usrs[Top 10 Posters],tblPosts[[#This Row],[poster_id]])","v":0}]
[189,1,50,337,null,"2009-09-01T15:24:26",null,null,3,{"$f":"COUNTIF(top10Usrs[Top 10 Posters],tblPosts[[#This Row],[poster_id]])","v":0}]
[190,1,55,205,null,"2009-09-01T17:03:22",null,null,1,{"$f":"COUNTIF(top10Usrs[Top 10 Posters],tblPosts[[#This Row],[poster_id]])","v":0}]
[191,1,55,205,null,"2009-09-01T18:38:38",null,null,2,{"$f":"COUNTIF(top10Usrs[Top 10 Posters],tblPosts[[#This Row],[poster_id]])","v":0}]
[192,1,52,1,null,"2009-09-01T21:13:14",null,null,4,{"$f":"COUNTIF(top10Usrs[Top 10 Posters],tblPosts[[#This Row],[poster_id]])","v":1}]
[193,1,55,1,null,"2009-09-01T21:21:18",null,null,3,{"$f":"COUNTIF(top10Usrs[Top 10 Posters],tblPosts[[#This Row],[poster_id]])","v":1}]
[194,1,53,739,null,"2009-09-02T15:47:42",null,null,2,{"$f":"COUNTIF(top10Usrs[Top 10 Posters],tblPosts[[#This Row],[poster_id]])","v":0}]
[195,1,54,1,null,"2009-09-02T19:33:27",null,null,2,{"$f":"COUNTIF(top10Usrs[Top 10 Posters],tblPosts[[#This Row],[poster_id]])","v":1}]
[196,1,54,748,null,"2009-09-03T05:43:25",null,null,3,{"$f":"COUNTIF(top10Usrs[Top 10 Posters],tblPosts[[#This Row],[poster_id]])","v":0}]
[197,1,53,724,null,"2009-09-03T09:49:42",null,null,3,{"$f":"COUNTIF(top10Usrs[Top 10 Posters],tblPosts[[#This Row],[poster_id]])","v":0}]
[198,1,56,771,null,"2009-09-04T10:45:07",null,null,1,{"$f":"COUNTIF(top10Usrs[Top 10 Posters],tblPosts[[#This Row],[poster_id]])","v":0}]
[199,1,56,1,null,"2009-09-04T11:29:53",null,null,2,{"$f":"COUNTIF(top10Usrs[Top 10 Posters],tblPosts[[#This Row],[poster_id]])","v":1}]
[200,1,57,666,null,"2009-09-06T00:57:46",null,null,1,{"$f":"COUNTIF(top10Usrs[Top 10 Posters],tblPosts[[#This Row],[poster_id]])","v":0}]
[201,1,57,1,null,"2009-09-06T08:42:37",null,null,2,{"$f":"COUNTIF(top10Usrs[Top 10 Posters],tblPosts[[#This Row],[poster_id]])","v":1}]
[202,1,58,809,null,"2009-09-06T14:50:02",null,null,1,{"$f":"COUNTIF(top10Usrs[Top 10 Posters],tblPosts[[#This Row],[poster_id]])","v":0}]
[203,1,58,1,null,"2009-09-06T17:57:39",null,null,2,{"$f":"COUNTIF(top10Usrs[Top 10 Posters],tblPosts[[#This Row],[poster_id]])","v":1}]
[204,1,56,816,null,"2009-09-06T21:53:49",null,null,3,{"$f":"COUNTIF(top10Usrs[Top 10 Posters],tblPosts[[#This Row],[poster_id]])","v":0}]
[205,1,56,771,null,"2009-09-07T13:20:41",null,null,4,{"$f":"COUNTIF(top10Usrs[Top 10 Posters],tblPosts[[#This Row],[poster_id]])","v":0}]
[206,2,59,27,null,"2009-09-07T19:14:15",null,null,1,{"$f":"COUNTIF(top10Usrs[Top 10 Posters],tblPosts[[#This Row],[poster_id]])","v":0}]
[207,2,60,843,null,"2009-09-07T20:41:22",null,null,1,{"$f":"COUNTIF(top10Usrs[Top 10 Posters],tblPosts[[#This Row],[poster_id]])","v":0}]
[208,2,60,27,null,"2009-09-08T07:41:24",null,null,2,{"$f":"COUNTIF(top10Usrs[Top 10 Posters],tblPosts[[#This Row],[poster_id]])","v":0}]
[209,2,60,1,null,"2009-09-08T09:32:57",null,null,3,{"$f":"COUNTIF(top10Usrs[Top 10 Posters],tblPosts[[#This Row],[poster_id]])","v":1}]
[210,2,60,843,null,"2009-09-08T11:41:06",null,null,4,{"$f":"COUNTIF(top10Usrs[Top 10 Posters],tblPosts[[#This Row],[poster_id]])","v":0}]
[211,1,61,855,null,"2009-09-08T17:40:47",null,null,1,{"$f":"COUNTIF(top10Usrs[Top 10 Posters],tblPosts[[#This Row],[poster_id]])","v":0}]
[212,2,60,1,null,"2009-09-09T07:29:01",null,null,5,{"$f":"COUNTIF(top10Usrs[Top 10 Posters],tblPosts[[#This Row],[poster_id]])","v":1}]
[213,2,62,114,null,"2009-09-09T07:51:41",null,null,1,{"$f":"COUNTIF(top10Usrs[Top 10 Posters],tblPosts[[#This Row],[poster_id]])","v":0}]
[214,1,63,843,null,"2009-09-09T09:09:53",null,null,1,{"$f":"COUNTIF(top10Usrs[Top 10 Posters],tblPosts[[#This Row],[poster_id]])","v":0}]
[215,2,60,843,null,"2009-09-09T09:41:16",null,null,6,{"$f":"COUNTIF(top10Usrs[Top 10 Posters],tblPosts[[#This Row],[poster_id]])","v":0}]
[216,1,63,1,null,"2009-09-09T10:50:47",null,null,2,{"$f":"COUNTIF(top10Usrs[Top 10 Posters],tblPosts[[#This Row],[poster_id]])","v":1}]
[217,2,62,1,null,"2009-09-09T10:54:34",null,null,2,{"$f":"COUNTIF(top10Usrs[Top 10 Posters],tblPosts[[#This Row],[poster_id]])","v":1}]
[218,4,2,843,null,"2009-09-09T11:09:03",null,null,22,{"$f":"COUNTIF(top10Usrs[Top 10 Posters],tblPosts[[#This Row],[poster_id]])","v":0}]
[219,2,25,876,null,"2009-09-09T11:11:11",null,null,6,{"$f":"COUNTIF(top10Usrs[Top 10 Posters],tblPosts[[#This Row],[poster_id]])","v":0}]
[220,1,63,843,null,"2009-09-10T11:44:49",null,null,3,{"$f":"COUNTIF(top10Usrs[Top 10 Posters],tblPosts[[#This Row],[poster_id]])","v":0}]
[221,1,64,889,null,"2009-09-10T18:01:36",null,null,1,{"$f":"COUNTIF(top10Usrs[Top 10 Posters],tblPosts[[#This Row],[poster_id]])","v":0}]
[222,1,64,1,null,"2009-09-10T20:52:02",null,null,2,{"$f":"COUNTIF(top10Usrs[Top 10 Posters],tblPosts[[#This Row],[poster_id]])","v":1}]
[223,4,65,326,null,"2009-09-10T23:27:14",null,null,1,{"$f":"COUNTIF(top10Usrs[Top 10 Posters],tblPosts[[#This Row],[poster_id]])","v":0}]
[224,4,65,1,null,"2009-09-11T11:39:33",null,null,2,{"$f":"COUNTIF(top10Usrs[Top 10 Posters],tblPosts[[#This Row],[poster_id]])","v":1}]
[225,1,66,724,null,"2009-09-11T13:19:13",null,null,1,{"$f":"COUNTIF(top10Usrs[Top 10 Posters],tblPosts[[#This Row],[poster_id]])","v":0}]
[226,1,64,889,null,"2009-09-11T21:00:57",null,null,3,{"$f":"COUNTIF(top10Usrs[Top 10 Posters],tblPosts[[#This Row],[poster_id]])","v":0}]
[227,4,65,326,null,"2009-09-12T00:47:32",null,null,3,{"$f":"COUNTIF(top10Usrs[Top 10 Posters],tblPosts[[#This Row],[poster_id]])","v":0}]
[228,1,66,109,null,"2009-09-12T07:43:13",null,null,2,{"$f":"COUNTIF(top10Usrs[Top 10 Posters],tblPosts[[#This Row],[poster_id]])","v":0}]
[229,1,64,1,null,"2009-09-12T08:07:22",null,null,4,{"$f":"COUNTIF(top10Usrs[Top 10 Posters],tblPosts[[#This Row],[poster_id]])","v":1}]
[230,1,64,178,null,"2009-09-14T08:13:03",null,null,5,{"$f":"COUNTIF(top10Usrs[Top 10 Posters],tblPosts[[#This Row],[poster_id]])","v":0}]
[231,1,67,948,null,"2009-09-14T16:07:11",null,null,1,{"$f":"COUNTIF(top10Usrs[Top 10 Posters],tblPosts[[#This Row],[poster_id]])","v":0}]
[232,4,2,951,null,"2009-09-14T17:11:12",null,null,23,{"$f":"COUNTIF(top10Usrs[Top 10 Posters],tblPosts[[#This Row],[poster_id]])","v":0}]
[233,1,67,109,null,"2009-09-14T18:56:08",null,null,2,{"$f":"COUNTIF(top10Usrs[Top 10 Posters],tblPosts[[#This Row],[poster_id]])","v":0}]
[234,1,64,889,null,"2009-09-14T20:02:19",null,null,6,{"$f":"COUNTIF(top10Usrs[Top 10 Posters],tblPosts[[#This Row],[poster_id]])","v":0}]
[235,1,67,948,null,"2009-09-14T20:49:04",null,null,3,{"$f":"COUNTIF(top10Usrs[Top 10 Posters],tblPosts[[#This Row],[poster_id]])","v":0}]
[236,1,68,967,null,"2009-09-15T09:48:00",null,null,1,{"$f":"COUNTIF(top10Usrs[Top 10 Posters],tblPosts[[#This Row],[poster_id]])","v":0}]
[237,1,69,65,null,"2009-09-15T10:34:07",null,null,1,{"$f":"COUNTIF(top10Usrs[Top 10 Posters],tblPosts[[#This Row],[poster_id]])","v":0}]
[238,1,67,968,null,"2009-09-15T12:28:21",null,null,4,{"$f":"COUNTIF(top10Usrs[Top 10 Posters],tblPosts[[#This Row],[poster_id]])","v":0}]
[239,1,67,1,null,"2009-09-15T13:26:59",null,null,5,{"$f":"COUNTIF(top10Usrs[Top 10 Posters],tblPosts[[#This Row],[poster_id]])","v":1}]
[240,1,68,950,null,"2009-09-15T16:36:42",null,null,2,{"$f":"COUNTIF(top10Usrs[Top 10 Posters],tblPosts[[#This Row],[poster_id]])","v":0}]
[241,1,68,967,null,"2009-09-15T20:20:33",null,null,3,{"$f":"COUNTIF(top10Usrs[Top 10 Posters],tblPosts[[#This Row],[poster_id]])","v":0}]
[242,1,70,978,null,"2009-09-15T22:21:57",null,null,1,{"$f":"COUNTIF(top10Usrs[Top 10 Posters],tblPosts[[#This Row],[poster_id]])","v":0}]
[243,1,71,986,null,"2009-09-16T01:04:21",null,null,1,{"$f":"COUNTIF(top10Usrs[Top 10 Posters],tblPosts[[#This Row],[poster_id]])","v":0}]
[244,1,71,1,null,"2009-09-16T06:03:13",null,null,2,{"$f":"COUNTIF(top10Usrs[Top 10 Posters],tblPosts[[#This Row],[poster_id]])","v":1}]
[245,1,71,986,null,"2009-09-16T08:01:44",null,null,3,{"$f":"COUNTIF(top10Usrs[Top 10 Posters],tblPosts[[#This Row],[poster_id]])","v":0}]
[246,1,71,1,null,"2009-09-16T12:00:14",null,null,4,{"$f":"COUNTIF(top10Usrs[Top 10 Posters],tblPosts[[#This Row],[poster_id]])","v":1}]
[247,1,69,1,null,"2009-09-16T12:12:56",null,null,2,{"$f":"COUNTIF(top10Usrs[Top 10 Posters],tblPosts[[#This Row],[poster_id]])","v":1}]
[248,2,59,27,null,"2009-09-16T14:17:18",null,null,2,{"$f":"COUNTIF(top10Usrs[Top 10 Posters],tblPosts[[#This Row],[poster_id]])","v":0}]
[249,1,72,998,null,"2009-09-16T17:19:19",null,null,1,{"$f":"COUNTIF(top10Usrs[Top 10 Posters],tblPosts[[#This Row],[poster_id]])","v":0}]
[250,2,59,1,null,"2009-09-16T18:55:03",null,null,3,{"$f":"COUNTIF(top10Usrs[Top 10 Posters],tblPosts[[#This Row],[poster_id]])","v":1}]
[251,1,72,1,null,"2009-09-16T18:56:47",null,null,2,{"$f":"COUNTIF(top10Usrs[Top 10 Posters],tblPosts[[#This Row],[poster_id]])","v":1}]
[252,1,72,998,null,"2009-09-16T19:41:55",null,null,3,{"$f":"COUNTIF(top10Usrs[Top 10 Posters],tblPosts[[#This Row],[poster_id]])","v":0}]
[253,1,64,317,null,"2009-09-16T21:16:13",null,null,7,{"$f":"COUNTIF(top10Usrs[Top 10 Posters],tblPosts[[#This Row],[poster_id]])","v":0}]
[254,2,59,27,null,"2009-09-17T08:19:27",null,null,4,{"$f":"COUNTIF(top10Usrs[Top 10 Posters],tblPosts[[#This Row],[poster_id]])","v":0}]
[255,1,73,986,null,"2009-09-17T15:44:40",null,null,1,{"$f":"COUNTIF(top10Usrs[Top 10 Posters],tblPosts[[#This Row],[poster_id]])","v":0}]
[256,1,74,986,null,"2009-09-17T16:11:00",null,null,1,{"$f":"COUNTIF(top10Usrs[Top 10 Posters],tblPosts[[#This Row],[poster_id]])","v":0}]
[257,2,75,27,null,"2009-09-17T17:37:07",null,null,1,{"$f":"COUNTIF(top10Usrs[Top 10 Posters],tblPosts[[#This Row],[poster_id]])","v":0}]
[258,2,75,1,null,"2009-09-17T18:07:40",null,null,2,{"$f":"COUNTIF(top10Usrs[Top 10 Posters],tblPosts[[#This Row],[poster_id]])","v":1}]
[259,2,75,27,null,"2009-09-17T18:49:37",null,null,3,{"$f":"COUNTIF(top10Usrs[Top 10 Posters],tblPosts[[#This Row],[poster_id]])","v":0}]
[260,2,75,1,null,"2009-09-17T20:24:45",null,null,4,{"$f":"COUNTIF(top10Usrs[Top 10 Posters],tblPosts[[#This Row],[poster_id]])","v":1}]
[261,1,76,1041,null,"2009-09-18T19:28:12",null,null,1,{"$f":"COUNTIF(top10Usrs[Top 10 Posters],tblPosts[[#This Row],[poster_id]])","v":0}]
[262,1,77,55,null,"2009-09-19T15:09:46",null,null,1,{"$f":"COUNTIF(top10Usrs[Top 10 Posters],tblPosts[[#This Row],[poster_id]])","v":0}]
[263,1,78,1077,null,"2009-09-20T22:36:44",null,null,1,{"$f":"COUNTIF(top10Usrs[Top 10 Posters],tblPosts[[#This Row],[poster_id]])","v":0}]
[264,1,79,581,null,"2009-09-21T06:53:49",null,null,1,{"$f":"COUNTIF(top10Usrs[Top 10 Posters],tblPosts[[#This Row],[poster_id]])","v":0}]
[265,1,79,27,null,"2009-09-21T08:20:05",null,null,2,{"$f":"COUNTIF(top10Usrs[Top 10 Posters],tblPosts[[#This Row],[poster_id]])","v":0}]
[266,1,79,27,null,"2009-09-21T09:43:47",null,null,3,{"$f":"COUNTIF(top10Usrs[Top 10 Posters],tblPosts[[#This Row],[poster_id]])","v":0}]
[267,1,80,1088,null,"2009-09-21T16:49:47",null,null,1,{"$f":"COUNTIF(top10Usrs[Top 10 Posters],tblPosts[[#This Row],[poster_id]])","v":0}]
[268,1,81,326,null,"2009-09-22T00:25:38",null,null,1,{"$f":"COUNTIF(top10Usrs[Top 10 Posters],tblPosts[[#This Row],[poster_id]])","v":0}]
[269,1,80,1096,null,"2009-09-22T04:02:28",null,null,2,{"$f":"COUNTIF(top10Usrs[Top 10 Posters],tblPosts[[#This Row],[poster_id]])","v":0}]
[270,1,82,1113,null,"2009-09-22T23:52:44",null,null,1,{"$f":"COUNTIF(top10Usrs[Top 10 Posters],tblPosts[[#This Row],[poster_id]])","v":0}]
[271,1,82,1,null,"2009-09-23T09:06:46",null,null,2,{"$f":"COUNTIF(top10Usrs[Top 10 Posters],tblPosts[[#This Row],[poster_id]])","v":1}]
[272,1,79,581,null,"2009-09-23T10:37:47",null,null,4,{"$f":"COUNTIF(top10Usrs[Top 10 Posters],tblPosts[[#This Row],[poster_id]])","v":0}]
[273,1,79,1,null,"2009-09-24T01:57:36",null,null,5,{"$f":"COUNTIF(top10Usrs[Top 10 Posters],tblPosts[[#This Row],[poster_id]])","v":1}]
[274,1,81,1,null,"2009-09-24T01:58:31",null,null,2,{"$f":"COUNTIF(top10Usrs[Top 10 Posters],tblPosts[[#This Row],[poster_id]])","v":1}]
[275,1,81,326,null,"2009-09-24T05:34:31",null,null,3,{"$f":"COUNTIF(top10Usrs[Top 10 Posters],tblPosts[[#This Row],[poster_id]])","v":0}]
[276,1,83,1144,null,"2009-09-24T14:44:08",null,null,1,{"$f":"COUNTIF(top10Usrs[Top 10 Posters],tblPosts[[#This Row],[poster_id]])","v":0}]
[277,1,83,1,null,"2009-09-25T05:35:06",null,null,2,{"$f":"COUNTIF(top10Usrs[Top 10 Posters],tblPosts[[#This Row],[poster_id]])","v":1}]
[278,1,84,1159,null,"2009-09-25T13:42:05",null,null,1,{"$f":"COUNTIF(top10Usrs[Top 10 Posters],tblPosts[[#This Row],[poster_id]])","v":0}]
[279,2,75,948,null,"2009-09-25T14:34:44",null,null,5,{"$f":"COUNTIF(top10Usrs[Top 10 Posters],tblPosts[[#This Row],[poster_id]])","v":0}]
[280,1,64,889,null,"2009-09-25T16:04:53",null,null,8,{"$f":"COUNTIF(top10Usrs[Top 10 Posters],tblPosts[[#This Row],[poster_id]])","v":0}]
[281,1,85,889,null,"2009-09-25T16:07:57",null,null,1,{"$f":"COUNTIF(top10Usrs[Top 10 Posters],tblPosts[[#This Row],[poster_id]])","v":0}]
[282,1,74,1165,null,"2009-09-25T19:18:08",null,null,2,{"$f":"COUNTIF(top10Usrs[Top 10 Posters],tblPosts[[#This Row],[poster_id]])","v":0}]
[283,1,73,1165,null,"2009-09-25T19:26:06",null,null,2,{"$f":"COUNTIF(top10Usrs[Top 10 Posters],tblPosts[[#This Row],[poster_id]])","v":0}]
[284,4,12,1165,null,"2009-09-25T19:29:02",null,null,2,{"$f":"COUNTIF(top10Usrs[Top 10 Posters],tblPosts[[#This Row],[poster_id]])","v":0}]
[285,1,86,1165,null,"2009-09-25T20:39:09",null,null,1,{"$f":"COUNTIF(top10Usrs[Top 10 Posters],tblPosts[[#This Row],[poster_id]])","v":0}]
[286,1,85,1,null,"2009-09-26T01:50:35",null,null,2,{"$f":"COUNTIF(top10Usrs[Top 10 Posters],tblPosts[[#This Row],[poster_id]])","v":1}]
[287,1,86,1,null,"2009-09-26T02:01:40",null,null,2,{"$f":"COUNTIF(top10Usrs[Top 10 Posters],tblPosts[[#This Row],[poster_id]])","v":1}]
[288,1,86,1165,null,"2009-09-26T05:36:50",null,null,3,{"$f":"COUNTIF(top10Usrs[Top 10 Posters],tblPosts[[#This Row],[poster_id]])","v":0}]
[289,1,87,1172,null,"2009-09-26T11:35:39",null,null,1,{"$f":"COUNTIF(top10Usrs[Top 10 Posters],tblPosts[[#This Row],[poster_id]])","v":0}]
[290,1,82,1113,null,"2009-09-27T01:55:44",null,null,3,{"$f":"COUNTIF(top10Usrs[Top 10 Posters],tblPosts[[#This Row],[poster_id]])","v":0}]
[291,4,2,1217,null,"2009-09-28T15:00:51",null,null,24,{"$f":"COUNTIF(top10Usrs[Top 10 Posters],tblPosts[[#This Row],[poster_id]])","v":0}]
[292,1,88,1218,null,"2009-09-28T15:16:08",null,null,1,{"$f":"COUNTIF(top10Usrs[Top 10 Posters],tblPosts[[#This Row],[poster_id]])","v":0}]
[293,1,88,1165,null,"2009-09-28T19:59:01",null,null,2,{"$f":"COUNTIF(top10Usrs[Top 10 Posters],tblPosts[[#This Row],[poster_id]])","v":0}]
[294,1,88,1165,null,"2009-09-28T20:07:25",null,null,3,{"$f":"COUNTIF(top10Usrs[Top 10 Posters],tblPosts[[#This Row],[poster_id]])","v":0}]
[295,1,89,1226,null,"2009-09-29T01:35:11",null,null,1,{"$f":"COUNTIF(top10Usrs[Top 10 Posters],tblPosts[[#This Row],[poster_id]])","v":0}]
[296,4,2,1229,null,"2009-09-29T01:38:42",null,null,25,{"$f":"COUNTIF(top10Usrs[Top 10 Posters],tblPosts[[#This Row],[poster_id]])","v":0}]
[297,1,88,1229,null,"2009-09-29T01:55:33",null,null,4,{"$f":"COUNTIF(top10Usrs[Top 10 Posters],tblPosts[[#This Row],[poster_id]])","v":0}]
[298,1,77,1229,null,"2009-09-29T03:55:13",null,null,2,{"$f":"COUNTIF(top10Usrs[Top 10 Posters],tblPosts[[#This Row],[poster_id]])","v":0}]
[299,1,89,1,null,"2009-09-29T06:13:13",null,null,2,{"$f":"COUNTIF(top10Usrs[Top 10 Posters],tblPosts[[#This Row],[poster_id]])","v":1}]
[300,1,88,1218,null,"2009-09-30T14:56:40",null,null,5,{"$f":"COUNTIF(top10Usrs[Top 10 Posters],tblPosts[[#This Row],[poster_id]])","v":0}]
[301,4,2,1165,null,"2009-09-30T15:01:41",null,null,26,{"$f":"COUNTIF(top10Usrs[Top 10 Posters],tblPosts[[#This Row],[poster_id]])","v":0}]
[302,1,90,376,null,"2009-09-30T15:12:49",null,null,1,{"$f":"COUNTIF(top10Usrs[Top 10 Posters],tblPosts[[#This Row],[poster_id]])","v":0}]
[303,2,91,1312,null,"2009-10-03T22:46:23",null,null,1,{"$f":"COUNTIF(top10Usrs[Top 10 Posters],tblPosts[[#This Row],[poster_id]])","v":0}]
[304,1,92,1370,null,"2009-10-07T10:43:58",null,null,1,{"$f":"COUNTIF(top10Usrs[Top 10 Posters],tblPosts[[#This Row],[poster_id]])","v":0}]
[305,1,93,1373,null,"2009-10-07T12:45:33",null,null,1,{"$f":"COUNTIF(top10Usrs[Top 10 Posters],tblPosts[[#This Row],[poster_id]])","v":0}]
[306,1,92,1,null,"2009-10-07T14:12:08",null,null,2,{"$f":"COUNTIF(top10Usrs[Top 10 Posters],tblPosts[[#This Row],[poster_id]])","v":1}]
[307,1,92,1370,null,"2009-10-07T15:02:10",null,null,3,{"$f":"COUNTIF(top10Usrs[Top 10 Posters],tblPosts[[#This Row],[poster_id]])","v":0}]
[308,1,92,1165,null,"2009-10-07T19:06:42",null,null,4,{"$f":"COUNTIF(top10Usrs[Top 10 Posters],tblPosts[[#This Row],[poster_id]])","v":0}]
[309,1,92,1378,null,"2009-10-07T19:22:30",null,null,5,{"$f":"COUNTIF(top10Usrs[Top 10 Posters],tblPosts[[#This Row],[poster_id]])","v":0}]
[310,1,72,1378,null,"2009-10-07T19:44:17",null,null,4,{"$f":"COUNTIF(top10Usrs[Top 10 Posters],tblPosts[[#This Row],[poster_id]])","v":0}]
[311,1,84,1378,null,"2009-10-07T19:58:49",null,null,2,{"$f":"COUNTIF(top10Usrs[Top 10 Posters],tblPosts[[#This Row],[poster_id]])","v":0}]
[312,1,92,1370,null,"2009-10-08T07:12:16",null,null,6,{"$f":"COUNTIF(top10Usrs[Top 10 Posters],tblPosts[[#This Row],[poster_id]])","v":0}]
[313,4,2,1425,null,"2009-10-10T20:15:45",null,null,27,{"$f":"COUNTIF(top10Usrs[Top 10 Posters],tblPosts[[#This Row],[poster_id]])","v":0}]
[314,1,94,1431,null,"2009-10-11T02:42:09",null,null,1,{"$f":"COUNTIF(top10Usrs[Top 10 Posters],tblPosts[[#This Row],[poster_id]])","v":0}]
[315,1,94,1,null,"2009-10-12T11:46:23",null,null,2,{"$f":"COUNTIF(top10Usrs[Top 10 Posters],tblPosts[[#This Row],[poster_id]])","v":1}]
[316,1,94,1431,null,"2009-10-12T20:27:47",null,null,3,{"$f":"COUNTIF(top10Usrs[Top 10 Posters],tblPosts[[#This Row],[poster_id]])","v":0}]
[317,1,78,24,null,"2009-10-14T04:31:19",null,null,2,{"$f":"COUNTIF(top10Usrs[Top 10 Posters],tblPosts[[#This Row],[poster_id]])","v":1}]
[318,1,76,24,null,"2009-10-14T04:34:56",null,null,2,{"$f":"COUNTIF(top10Usrs[Top 10 Posters],tblPosts[[#This Row],[poster_id]])","v":1}]
[319,1,61,24,null,"2009-10-14T04:45:12",null,null,2,{"$f":"COUNTIF(top10Usrs[Top 10 Posters],tblPosts[[#This Row],[poster_id]])","v":1}]
[320,5,95,1,null,"2009-10-14T07:30:03",null,null,1,{"$f":"COUNTIF(top10Usrs[Top 10 Posters],tblPosts[[#This Row],[poster_id]])","v":1}]
[321,1,61,1,null,"2009-10-14T12:04:26",null,null,3,{"$f":"COUNTIF(top10Usrs[Top 10 Posters],tblPosts[[#This Row],[poster_id]])","v":1}]
[322,1,76,1,null,"2009-10-14T12:05:01",null,null,3,{"$f":"COUNTIF(top10Usrs[Top 10 Posters],tblPosts[[#This Row],[poster_id]])","v":1}]
[323,1,78,1,null,"2009-10-14T12:18:55",null,null,3,{"$f":"COUNTIF(top10Usrs[Top 10 Posters],tblPosts[[#This Row],[poster_id]])","v":1}]
[324,4,2,1480,null,"2009-10-14T13:46:51",null,null,28,{"$f":"COUNTIF(top10Usrs[Top 10 Posters],tblPosts[[#This Row],[poster_id]])","v":0}]
[325,1,96,1480,null,"2009-10-14T13:48:43",null,null,1,{"$f":"COUNTIF(top10Usrs[Top 10 Posters],tblPosts[[#This Row],[poster_id]])","v":0}]
[326,1,97,326,null,"2009-10-15T07:26:54",null,null,1,{"$f":"COUNTIF(top10Usrs[Top 10 Posters],tblPosts[[#This Row],[poster_id]])","v":0}]
[327,1,96,24,null,"2009-10-15T12:39:05",null,null,2,{"$f":"COUNTIF(top10Usrs[Top 10 Posters],tblPosts[[#This Row],[poster_id]])","v":1}]
[328,2,91,24,null,"2009-10-15T13:01:42",null,null,2,{"$f":"COUNTIF(top10Usrs[Top 10 Posters],tblPosts[[#This Row],[poster_id]])","v":1}]
[329,5,98,1572,null,"2009-10-19T17:03:33",null,null,1,{"$f":"COUNTIF(top10Usrs[Top 10 Posters],tblPosts[[#This Row],[poster_id]])","v":0}]
[330,1,99,1573,null,"2009-10-19T17:08:55",null,null,1,{"$f":"COUNTIF(top10Usrs[Top 10 Posters],tblPosts[[#This Row],[poster_id]])","v":0}]
[331,5,98,1,null,"2009-10-19T17:13:00",null,null,2,{"$f":"COUNTIF(top10Usrs[Top 10 Posters],tblPosts[[#This Row],[poster_id]])","v":1}]
[332,1,99,1,null,"2009-10-19T17:19:18",null,null,2,{"$f":"COUNTIF(top10Usrs[Top 10 Posters],tblPosts[[#This Row],[poster_id]])","v":1}]
[333,1,99,1573,null,"2009-10-19T17:28:35",null,null,3,{"$f":"COUNTIF(top10Usrs[Top 10 Posters],tblPosts[[#This Row],[poster_id]])","v":0}]
[334,1,100,1590,null,"2009-10-20T11:43:28",null,null,1,{"$f":"COUNTIF(top10Usrs[Top 10 Posters],tblPosts[[#This Row],[poster_id]])","v":0}]
[335,1,100,24,null,"2009-10-20T12:20:52",null,null,2,{"$f":"COUNTIF(top10Usrs[Top 10 Posters],tblPosts[[#This Row],[poster_id]])","v":1}]
[336,5,98,1572,null,"2009-10-20T18:46:44",null,null,3,{"$f":"COUNTIF(top10Usrs[Top 10 Posters],tblPosts[[#This Row],[poster_id]])","v":0}]
[337,1,97,1165,null,"2009-10-20T19:41:43",null,null,2,{"$f":"COUNTIF(top10Usrs[Top 10 Posters],tblPosts[[#This Row],[poster_id]])","v":0}]
[338,5,98,1,null,"2009-10-21T17:49:54",null,null,4,{"$f":"COUNTIF(top10Usrs[Top 10 Posters],tblPosts[[#This Row],[poster_id]])","v":1}]
[339,1,101,1615,null,"2009-10-21T21:53:41",null,null,1,{"$f":"COUNTIF(top10Usrs[Top 10 Posters],tblPosts[[#This Row],[poster_id]])","v":0}]
[340,1,101,24,null,"2009-10-22T00:02:49",null,null,2,{"$f":"COUNTIF(top10Usrs[Top 10 Posters],tblPosts[[#This Row],[poster_id]])","v":1}]
[341,1,102,1675,null,"2009-10-25T11:39:18",null,null,1,{"$f":"COUNTIF(top10Usrs[Top 10 Posters],tblPosts[[#This Row],[poster_id]])","v":0}]
[342,1,103,1694,null,"2009-10-26T10:18:09",null,null,1,{"$f":"COUNTIF(top10Usrs[Top 10 Posters],tblPosts[[#This Row],[poster_id]])","v":0}]
[343,1,103,24,null,"2009-10-26T12:47:54",null,null,2,{"$f":"COUNTIF(top10Usrs[Top 10 Posters],tblPosts[[#This Row],[poster_id]])","v":1}]
[344,1,104,1165,null,"2009-10-26T17:58:56",null,null,1,{"$f":"COUNTIF(top10Usrs[Top 10 Posters],tblPosts[[#This Row],[poster_id]])","v":0}]
[345,1,104,1165,null,"2009-10-26T17:59:30",null,null,2,{"$f":"COUNTIF(top10Usrs[Top 10 Posters],tblPosts[[#This Row],[poster_id]])","v":0}]
[346,1,104,1,null,"2009-10-26T19:21:13",null,null,3,{"$f":"COUNTIF(top10Usrs[Top 10 Posters],tblPosts[[#This Row],[poster_id]])","v":1}]
[347,1,104,1165,null,"2009-10-26T19:46:58",null,null,4,{"$f":"COUNTIF(top10Usrs[Top 10 Posters],tblPosts[[#This Row],[poster_id]])","v":0}]
[348,1,105,1728,null,"2009-10-27T17:00:46",null,null,1,{"$f":"COUNTIF(top10Usrs[Top 10 Posters],tblPosts[[#This Row],[poster_id]])","v":0}]
[349,1,105,178,null,"2009-10-28T10:09:30",null,null,2,{"$f":"COUNTIF(top10Usrs[Top 10 Posters],tblPosts[[#This Row],[poster_id]])","v":0}]
[350,1,105,1,null,"2009-10-28T13:28:40",null,null,3,{"$f":"COUNTIF(top10Usrs[Top 10 Posters],tblPosts[[#This Row],[poster_id]])","v":1}]
[351,2,106,1789,null,"2009-10-29T20:31:23",null,null,1,{"$f":"COUNTIF(top10Usrs[Top 10 Posters],tblPosts[[#This Row],[poster_id]])","v":0}]
[352,1,107,1791,null,"2009-10-29T23:37:17",null,null,1,{"$f":"COUNTIF(top10Usrs[Top 10 Posters],tblPosts[[#This Row],[poster_id]])","v":0}]
[353,2,106,24,null,"2009-10-30T04:58:00",null,null,2,{"$f":"COUNTIF(top10Usrs[Top 10 Posters],tblPosts[[#This Row],[poster_id]])","v":1}]
[354,1,107,24,null,"2009-10-30T05:21:13",null,null,2,{"$f":"COUNTIF(top10Usrs[Top 10 Posters],tblPosts[[#This Row],[poster_id]])","v":1}]
[355,2,106,1,null,"2009-10-30T08:30:23",null,null,3,{"$f":"COUNTIF(top10Usrs[Top 10 Posters],tblPosts[[#This Row],[poster_id]])","v":1}]
[356,1,108,1802,null,"2009-10-30T17:34:22",null,null,1,{"$f":"COUNTIF(top10Usrs[Top 10 Posters],tblPosts[[#This Row],[poster_id]])","v":0}]
[357,1,109,1805,null,"2009-10-30T19:58:17",null,null,1,{"$f":"COUNTIF(top10Usrs[Top 10 Posters],tblPosts[[#This Row],[poster_id]])","v":0}]
[358,1,110,1810,null,"2009-10-30T23:11:56",null,null,1,{"$f":"COUNTIF(top10Usrs[Top 10 Posters],tblPosts[[#This Row],[poster_id]])","v":0}]
[359,1,108,24,null,"2009-10-31T00:02:56",null,null,2,{"$f":"COUNTIF(top10Usrs[Top 10 Posters],tblPosts[[#This Row],[poster_id]])","v":1}]
[360,1,109,24,null,"2009-10-31T00:06:07",null,null,2,{"$f":"COUNTIF(top10Usrs[Top 10 Posters],tblPosts[[#This Row],[poster_id]])","v":1}]
[361,1,109,24,null,"2009-10-31T00:16:44",null,null,3,{"$f":"COUNTIF(top10Usrs[Top 10 Posters],tblPosts[[#This Row],[poster_id]])","v":1}]
[362,1,110,24,null,"2009-10-31T00:32:51",null,null,2,{"$f":"COUNTIF(top10Usrs[Top 10 Posters],tblPosts[[#This Row],[poster_id]])","v":1}]
[363,1,108,1802,null,"2009-10-31T01:18:44",null,null,3,{"$f":"COUNTIF(top10Usrs[Top 10 Posters],tblPosts[[#This Row],[poster_id]])","v":0}]
[364,1,109,1805,null,"2009-11-01T13:24:27",null,null,4,{"$f":"COUNTIF(top10Usrs[Top 10 Posters],tblPosts[[#This Row],[poster_id]])","v":0}]
[365,1,111,1838,null,"2009-11-01T14:11:37",null,null,1,{"$f":"COUNTIF(top10Usrs[Top 10 Posters],tblPosts[[#This Row],[poster_id]])","v":0}]
[366,1,111,1,null,"2009-11-01T16:52:32",null,null,2,{"$f":"COUNTIF(top10Usrs[Top 10 Posters],tblPosts[[#This Row],[poster_id]])","v":1}]
[367,1,111,24,null,"2009-11-02T00:45:01",null,null,3,{"$f":"COUNTIF(top10Usrs[Top 10 Posters],tblPosts[[#This Row],[poster_id]])","v":1}]
[368,1,110,1810,null,"2009-11-02T18:48:57",null,null,3,{"$f":"COUNTIF(top10Usrs[Top 10 Posters],tblPosts[[#This Row],[poster_id]])","v":0}]
[369,3,112,1144,null,"2009-11-02T20:25:17",null,null,1,{"$f":"COUNTIF(top10Usrs[Top 10 Posters],tblPosts[[#This Row],[poster_id]])","v":0}]
[370,1,110,1,null,"2009-11-02T21:26:32",null,null,4,{"$f":"COUNTIF(top10Usrs[Top 10 Posters],tblPosts[[#This Row],[poster_id]])","v":1}]
[371,1,113,1731,null,"2009-11-03T08:55:38",null,null,1,{"$f":"COUNTIF(top10Usrs[Top 10 Posters],tblPosts[[#This Row],[poster_id]])","v":0}]
[372,1,113,24,null,"2009-11-03T09:56:11",null,null,2,{"$f":"COUNTIF(top10Usrs[Top 10 Posters],tblPosts[[#This Row],[poster_id]])","v":1}]
[373,1,114,1802,null,"2009-11-03T14:55:40",null,null,1,{"$f":"COUNTIF(top10Usrs[Top 10 Posters],tblPosts[[#This Row],[poster_id]])","v":0}]
[374,1,115,67,null,"2009-11-04T03:51:37",null,null,1,{"$f":"COUNTIF(top10Usrs[Top 10 Posters],tblPosts[[#This Row],[poster_id]])","v":0}]
[375,1,115,24,null,"2009-11-04T05:57:06",null,null,2,{"$f":"COUNTIF(top10Usrs[Top 10 Posters],tblPosts[[#This Row],[poster_id]])","v":1}]
[376,1,115,67,null,"2009-11-04T06:38:08",null,null,3,{"$f":"COUNTIF(top10Usrs[Top 10 Posters],tblPosts[[#This Row],[poster_id]])","v":0}]
[377,1,114,24,null,"2009-11-04T12:30:05",null,null,2,{"$f":"COUNTIF(top10Usrs[Top 10 Posters],tblPosts[[#This Row],[poster_id]])","v":1}]
[378,3,112,24,null,"2009-11-04T12:34:49",null,null,2,{"$f":"COUNTIF(top10Usrs[Top 10 Posters],tblPosts[[#This Row],[poster_id]])","v":1}]
[379,1,116,1896,null,"2009-11-04T16:13:00",null,null,1,{"$f":"COUNTIF(top10Usrs[Top 10 Posters],tblPosts[[#This Row],[poster_id]])","v":0}]
[380,3,112,1,null,"2009-11-05T09:06:14",null,null,3,{"$f":"COUNTIF(top10Usrs[Top 10 Posters],tblPosts[[#This Row],[poster_id]])","v":1}]
[381,4,2,1915,null,"2009-11-05T18:45:53",null,null,29,{"$f":"COUNTIF(top10Usrs[Top 10 Posters],tblPosts[[#This Row],[poster_id]])","v":0}]
[382,1,117,1915,null,"2009-11-05T19:17:22",null,null,1,{"$f":"COUNTIF(top10Usrs[Top 10 Posters],tblPosts[[#This Row],[poster_id]])","v":0}]
[383,5,118,1912,null,"2009-11-05T23:51:11",null,null,1,{"$f":"COUNTIF(top10Usrs[Top 10 Posters],tblPosts[[#This Row],[poster_id]])","v":0}]
[384,1,119,1886,null,"2009-11-06T06:01:52",null,null,1,{"$f":"COUNTIF(top10Usrs[Top 10 Posters],tblPosts[[#This Row],[poster_id]])","v":0}]
[385,5,118,1,null,"2009-11-06T08:29:45",null,null,2,{"$f":"COUNTIF(top10Usrs[Top 10 Posters],tblPosts[[#This Row],[poster_id]])","v":1}]
[386,1,117,1,null,"2009-11-06T13:05:55",null,null,2,{"$f":"COUNTIF(top10Usrs[Top 10 Posters],tblPosts[[#This Row],[poster_id]])","v":1}]
[387,1,120,1926,null,"2009-11-06T18:37:00",null,null,1,{"$f":"COUNTIF(top10Usrs[Top 10 Posters],tblPosts[[#This Row],[poster_id]])","v":0}]
[388,1,104,1165,null,"2009-11-06T19:25:38",null,null,5,{"$f":"COUNTIF(top10Usrs[Top 10 Posters],tblPosts[[#This Row],[poster_id]])","v":0}]
[389,1,120,24,null,"2009-11-07T03:23:03",null,null,2,{"$f":"COUNTIF(top10Usrs[Top 10 Posters],tblPosts[[#This Row],[poster_id]])","v":1}]
[390,1,55,1934,null,"2009-11-07T19:32:49",null,null,4,{"$f":"COUNTIF(top10Usrs[Top 10 Posters],tblPosts[[#This Row],[poster_id]])","v":0}]
[391,1,110,24,null,"2009-11-08T01:31:10",null,null,5,{"$f":"COUNTIF(top10Usrs[Top 10 Posters],tblPosts[[#This Row],[poster_id]])","v":1}]
[392,3,112,1144,null,"2009-11-09T13:41:08",null,null,4,{"$f":"COUNTIF(top10Usrs[Top 10 Posters],tblPosts[[#This Row],[poster_id]])","v":0}]
[393,2,121,78,null,"2009-11-09T17:49:30",null,null,1,{"$f":"COUNTIF(top10Usrs[Top 10 Posters],tblPosts[[#This Row],[poster_id]])","v":0}]
[394,2,121,1,null,"2009-11-09T18:32:36",null,null,2,{"$f":"COUNTIF(top10Usrs[Top 10 Posters],tblPosts[[#This Row],[poster_id]])","v":1}]
[395,1,120,1926,null,"2009-11-09T21:28:47",null,null,3,{"$f":"COUNTIF(top10Usrs[Top 10 Posters],tblPosts[[#This Row],[poster_id]])","v":0}]
[396,1,120,1926,null,"2009-11-09T21:30:35",null,null,4,{"$f":"COUNTIF(top10Usrs[Top 10 Posters],tblPosts[[#This Row],[poster_id]])","v":0}]
[397,1,122,1977,null,"2009-11-10T03:12:27",null,null,1,{"$f":"COUNTIF(top10Usrs[Top 10 Posters],tblPosts[[#This Row],[poster_id]])","v":0}]
[398,2,123,1,null,"2009-11-10T06:05:54",null,null,1,{"$f":"COUNTIF(top10Usrs[Top 10 Posters],tblPosts[[#This Row],[poster_id]])","v":1}]
[399,2,123,27,null,"2009-11-10T15:38:41",null,null,2,{"$f":"COUNTIF(top10Usrs[Top 10 Posters],tblPosts[[#This Row],[poster_id]])","v":0}]
[400,2,121,78,null,"2009-11-10T17:24:49",null,null,3,{"$f":"COUNTIF(top10Usrs[Top 10 Posters],tblPosts[[#This Row],[poster_id]])","v":0}]
[401,1,124,2003,null,"2009-11-11T09:42:12",null,null,1,{"$f":"COUNTIF(top10Usrs[Top 10 Posters],tblPosts[[#This Row],[poster_id]])","v":0}]
[402,1,124,24,null,"2009-11-11T11:32:34",null,null,2,{"$f":"COUNTIF(top10Usrs[Top 10 Posters],tblPosts[[#This Row],[poster_id]])","v":1}]
[403,1,125,2005,null,"2009-11-11T11:36:42",null,null,1,{"$f":"COUNTIF(top10Usrs[Top 10 Posters],tblPosts[[#This Row],[poster_id]])","v":0}]
[404,4,2,2005,null,"2009-11-11T11:39:34",null,null,30,{"$f":"COUNTIF(top10Usrs[Top 10 Posters],tblPosts[[#This Row],[poster_id]])","v":0}]
[405,1,120,24,null,"2009-11-11T11:49:02",null,null,5,{"$f":"COUNTIF(top10Usrs[Top 10 Posters],tblPosts[[#This Row],[poster_id]])","v":1}]
[406,2,121,78,null,"2009-11-11T18:00:52",null,null,4,{"$f":"COUNTIF(top10Usrs[Top 10 Posters],tblPosts[[#This Row],[poster_id]])","v":0}]
[407,1,125,1,null,"2009-11-11T20:01:01",null,null,2,{"$f":"COUNTIF(top10Usrs[Top 10 Posters],tblPosts[[#This Row],[poster_id]])","v":1}]
[408,1,126,2006,null,"2009-11-12T05:57:16",null,null,1,{"$f":"COUNTIF(top10Usrs[Top 10 Posters],tblPosts[[#This Row],[poster_id]])","v":0}]
[409,2,121,2018,null,"2009-11-12T08:11:24",null,null,5,{"$f":"COUNTIF(top10Usrs[Top 10 Posters],tblPosts[[#This Row],[poster_id]])","v":0}]
[410,1,127,1886,null,"2009-11-12T14:26:32",null,null,1,{"$f":"COUNTIF(top10Usrs[Top 10 Posters],tblPosts[[#This Row],[poster_id]])","v":0}]
[411,2,121,78,null,"2009-11-12T17:27:49",null,null,6,{"$f":"COUNTIF(top10Usrs[Top 10 Posters],tblPosts[[#This Row],[poster_id]])","v":0}]
[412,1,128,2028,null,"2009-11-12T21:43:34",null,null,1,{"$f":"COUNTIF(top10Usrs[Top 10 Posters],tblPosts[[#This Row],[poster_id]])","v":0}]
[413,1,129,2032,null,"2009-11-12T23:38:38",null,null,1,{"$f":"COUNTIF(top10Usrs[Top 10 Posters],tblPosts[[#This Row],[poster_id]])","v":0}]
[414,1,129,2032,null,"2009-11-12T23:46:35",null,null,2,{"$f":"COUNTIF(top10Usrs[Top 10 Posters],tblPosts[[#This Row],[poster_id]])","v":0}]
[415,1,127,24,null,"2009-11-13T10:29:32",null,null,2,{"$f":"COUNTIF(top10Usrs[Top 10 Posters],tblPosts[[#This Row],[poster_id]])","v":1}]
[416,1,128,1,null,"2009-11-13T12:32:35",null,null,2,{"$f":"COUNTIF(top10Usrs[Top 10 Posters],tblPosts[[#This Row],[poster_id]])","v":1}]
[417,1,126,1,null,"2009-11-13T12:35:07",null,null,2,{"$f":"COUNTIF(top10Usrs[Top 10 Posters],tblPosts[[#This Row],[poster_id]])","v":1}]
[418,1,119,1,null,"2009-11-13T12:37:06",null,null,2,{"$f":"COUNTIF(top10Usrs[Top 10 Posters],tblPosts[[#This Row],[poster_id]])","v":1}]
[419,1,122,24,null,"2009-11-13T14:36:39",null,null,2,{"$f":"COUNTIF(top10Usrs[Top 10 Posters],tblPosts[[#This Row],[poster_id]])","v":1}]
[420,1,128,2028,null,"2009-11-13T17:52:26",null,null,3,{"$f":"COUNTIF(top10Usrs[Top 10 Posters],tblPosts[[#This Row],[poster_id]])","v":0}]
[421,1,130,2044,null,"2009-11-14T00:15:21",null,null,1,{"$f":"COUNTIF(top10Usrs[Top 10 Posters],tblPosts[[#This Row],[poster_id]])","v":0}]
[422,1,128,24,null,"2009-11-15T04:42:46",null,null,4,{"$f":"COUNTIF(top10Usrs[Top 10 Posters],tblPosts[[#This Row],[poster_id]])","v":1}]
[423,1,131,2079,null,"2009-11-16T03:53:31",null,null,1,{"$f":"COUNTIF(top10Usrs[Top 10 Posters],tblPosts[[#This Row],[poster_id]])","v":0}]
[424,1,131,24,null,"2009-11-16T04:11:15",null,null,2,{"$f":"COUNTIF(top10Usrs[Top 10 Posters],tblPosts[[#This Row],[poster_id]])","v":1}]
[425,1,131,2079,null,"2009-11-16T04:26:49",null,null,3,{"$f":"COUNTIF(top10Usrs[Top 10 Posters],tblPosts[[#This Row],[poster_id]])","v":0}]
[426,1,132,2079,null,"2009-11-16T06:24:23",null,null,1,{"$f":"COUNTIF(top10Usrs[Top 10 Posters],tblPosts[[#This Row],[poster_id]])","v":0}]
[427,1,128,1,null,"2009-11-16T08:53:54",null,null,5,{"$f":"COUNTIF(top10Usrs[Top 10 Posters],tblPosts[[#This Row],[poster_id]])","v":1}]
[428,1,131,1,null,"2009-11-16T08:58:04",null,null,4,{"$f":"COUNTIF(top10Usrs[Top 10 Posters],tblPosts[[#This Row],[poster_id]])","v":1}]
[429,1,132,1,null,"2009-11-16T14:20:18",null,null,2,{"$f":"COUNTIF(top10Usrs[Top 10 Posters],tblPosts[[#This Row],[poster_id]])","v":1}]
[430,1,128,2028,null,"2009-11-16T17:46:13",null,null,6,{"$f":"COUNTIF(top10Usrs[Top 10 Posters],tblPosts[[#This Row],[poster_id]])","v":0}]
[431,2,121,78,null,"2009-11-16T17:54:46",null,null,7,{"$f":"COUNTIF(top10Usrs[Top 10 Posters],tblPosts[[#This Row],[poster_id]])","v":0}]
[432,1,128,2028,null,"2009-11-16T20:21:20",null,null,7,{"$f":"COUNTIF(top10Usrs[Top 10 Posters],tblPosts[[#This Row],[poster_id]])","v":0}]
[433,1,128,1,null,"2009-11-16T22:13:18",null,null,8,{"$f":"COUNTIF(top10Usrs[Top 10 Posters],tblPosts[[#This Row],[poster_id]])","v":1}]
[434,1,133,2077,null,"2009-11-16T22:34:24",null,null,1,{"$f":"COUNTIF(top10Usrs[Top 10 Posters],tblPosts[[#This Row],[poster_id]])","v":0}]
[435,1,134,2101,null,"2009-11-17T01:51:24",null,null,1,{"$f":"COUNTIF(top10Usrs[Top 10 Posters],tblPosts[[#This Row],[poster_id]])","v":0}]
[436,1,128,24,null,"2009-11-17T09:11:36",null,null,9,{"$f":"COUNTIF(top10Usrs[Top 10 Posters],tblPosts[[#This Row],[poster_id]])","v":1}]
[437,1,134,1,null,"2009-11-17T11:09:45",null,null,2,{"$f":"COUNTIF(top10Usrs[Top 10 Posters],tblPosts[[#This Row],[poster_id]])","v":1}]
[438,1,133,24,null,"2009-11-17T11:59:18",null,null,2,{"$f":"COUNTIF(top10Usrs[Top 10 Posters],tblPosts[[#This Row],[poster_id]])","v":1}]
[439,1,133,24,null,"2009-11-17T12:00:08",null,null,3,{"$f":"COUNTIF(top10Usrs[Top 10 Posters],tblPosts[[#This Row],[poster_id]])","v":1}]
[440,1,133,2018,null,"2009-11-17T12:11:27",null,null,4,{"$f":"COUNTIF(top10Usrs[Top 10 Posters],tblPosts[[#This Row],[poster_id]])","v":0}]
[441,1,135,2110,null,"2009-11-17T14:24:21",null,null,1,{"$f":"COUNTIF(top10Usrs[Top 10 Posters],tblPosts[[#This Row],[poster_id]])","v":0}]
[442,1,136,2112,null,"2009-11-17T14:36:57",null,null,1,{"$f":"COUNTIF(top10Usrs[Top 10 Posters],tblPosts[[#This Row],[poster_id]])","v":0}]
[443,1,136,1,null,"2009-11-17T16:24:29",null,null,2,{"$f":"COUNTIF(top10Usrs[Top 10 Posters],tblPosts[[#This Row],[poster_id]])","v":1}]
[444,1,133,2077,null,"2009-11-17T20:49:33",null,null,5,{"$f":"COUNTIF(top10Usrs[Top 10 Posters],tblPosts[[#This Row],[poster_id]])","v":0}]
[445,4,137,1886,null,"2009-11-18T04:23:40",null,null,1,{"$f":"COUNTIF(top10Usrs[Top 10 Posters],tblPosts[[#This Row],[poster_id]])","v":0}]
[446,1,138,2005,null,"2009-11-18T11:31:28",null,null,1,{"$f":"COUNTIF(top10Usrs[Top 10 Posters],tblPosts[[#This Row],[poster_id]])","v":0}]
[447,1,139,2005,null,"2009-11-18T17:18:20",null,null,1,{"$f":"COUNTIF(top10Usrs[Top 10 Posters],tblPosts[[#This Row],[poster_id]])","v":0}]
[448,1,138,24,null,"2009-11-19T00:17:07",null,null,2,{"$f":"COUNTIF(top10Usrs[Top 10 Posters],tblPosts[[#This Row],[poster_id]])","v":1}]
[449,1,138,2005,null,"2009-11-19T08:46:09",null,null,3,{"$f":"COUNTIF(top10Usrs[Top 10 Posters],tblPosts[[#This Row],[poster_id]])","v":0}]
[450,1,139,2005,null,"2009-11-19T10:54:36",null,null,2,{"$f":"COUNTIF(top10Usrs[Top 10 Posters],tblPosts[[#This Row],[poster_id]])","v":0}]
[451,1,138,2005,null,"2009-11-19T10:59:35",null,null,4,{"$f":"COUNTIF(top10Usrs[Top 10 Posters],tblPosts[[#This Row],[poster_id]])","v":0}]
[452,1,139,1,null,"2009-11-19T12:04:20",null,null,3,{"$f":"COUNTIF(top10Usrs[Top 10 Posters],tblPosts[[#This Row],[poster_id]])","v":1}]
[453,1,138,24,null,"2009-11-19T12:07:32",null,null,5,{"$f":"COUNTIF(top10Usrs[Top 10 Posters],tblPosts[[#This Row],[poster_id]])","v":1}]
[454,1,138,2005,null,"2009-11-19T13:09:32",null,null,6,{"$f":"COUNTIF(top10Usrs[Top 10 Posters],tblPosts[[#This Row],[poster_id]])","v":0}]
[455,1,138,24,null,"2009-11-19T13:58:46",null,null,7,{"$f":"COUNTIF(top10Usrs[Top 10 Posters],tblPosts[[#This Row],[poster_id]])","v":1}]
[456,1,138,2005,null,"2009-11-19T15:00:54",null,null,8,{"$f":"COUNTIF(top10Usrs[Top 10 Posters],tblPosts[[#This Row],[poster_id]])","v":0}]
[457,1,138,24,null,"2009-11-20T00:09:32",null,null,9,{"$f":"COUNTIF(top10Usrs[Top 10 Posters],tblPosts[[#This Row],[poster_id]])","v":1}]
[458,1,135,24,null,"2009-11-20T04:21:17",null,null,2,{"$f":"COUNTIF(top10Usrs[Top 10 Posters],tblPosts[[#This Row],[poster_id]])","v":1}]
[459,1,140,2163,null,"2009-11-20T09:14:48",null,null,0,{"$f":"COUNTIF(top10Usrs[Top 10 Posters],tblPosts[[#This Row],[poster_id]])","v":0}]
[460,1,41,2163,null,"2009-11-20T09:18:34",null,null,6,{"$f":"COUNTIF(top10Usrs[Top 10 Posters],tblPosts[[#This Row],[poster_id]])","v":0}]
[461,1,41,2163,null,"2009-11-20T09:19:11",null,null,7,{"$f":"COUNTIF(top10Usrs[Top 10 Posters],tblPosts[[#This Row],[poster_id]])","v":0}]
[462,1,141,2163,null,"2009-11-20T09:20:13",null,null,0,{"$f":"COUNTIF(top10Usrs[Top 10 Posters],tblPosts[[#This Row],[poster_id]])","v":0}]
[463,4,2,2163,null,"2009-11-20T09:28:34",null,null,31,{"$f":"COUNTIF(top10Usrs[Top 10 Posters],tblPosts[[#This Row],[poster_id]])","v":0}]
[464,1,138,2005,null,"2009-11-20T11:24:53",null,null,10,{"$f":"COUNTIF(top10Usrs[Top 10 Posters],tblPosts[[#This Row],[poster_id]])","v":0}]
[465,1,138,24,null,"2009-11-20T13:36:34",null,null,11,{"$f":"COUNTIF(top10Usrs[Top 10 Posters],tblPosts[[#This Row],[poster_id]])","v":1}]
[466,1,142,2167,null,"2009-11-20T15:43:58",null,null,1,{"$f":"COUNTIF(top10Usrs[Top 10 Posters],tblPosts[[#This Row],[poster_id]])","v":0}]
[467,1,130,1165,null,"2009-11-21T01:10:32",null,null,2,{"$f":"COUNTIF(top10Usrs[Top 10 Posters],tblPosts[[#This Row],[poster_id]])","v":0}]
[468,1,143,2176,null,"2009-11-21T15:39:02",null,null,1,{"$f":"COUNTIF(top10Usrs[Top 10 Posters],tblPosts[[#This Row],[poster_id]])","v":0}]
[469,1,143,24,null,"2009-11-22T04:14:29",null,null,2,{"$f":"COUNTIF(top10Usrs[Top 10 Posters],tblPosts[[#This Row],[poster_id]])","v":1}]
[470,1,142,24,null,"2009-11-22T04:20:53",null,null,2,{"$f":"COUNTIF(top10Usrs[Top 10 Posters],tblPosts[[#This Row],[poster_id]])","v":1}]
[471,1,143,2176,null,"2009-11-22T15:15:22",null,null,3,{"$f":"COUNTIF(top10Usrs[Top 10 Posters],tblPosts[[#This Row],[poster_id]])","v":0}]
[472,1,144,2188,null,"2009-11-22T15:37:00",null,null,1,{"$f":"COUNTIF(top10Usrs[Top 10 Posters],tblPosts[[#This Row],[poster_id]])","v":0}]
[473,1,144,1,null,"2009-11-22T17:39:54",null,null,2,{"$f":"COUNTIF(top10Usrs[Top 10 Posters],tblPosts[[#This Row],[poster_id]])","v":1}]
[474,1,143,24,null,"2009-11-23T00:19:56",null,null,4,{"$f":"COUNTIF(top10Usrs[Top 10 Posters],tblPosts[[#This Row],[poster_id]])","v":1}]
[475,1,143,2176,null,"2009-11-23T08:42:00",null,null,5,{"$f":"COUNTIF(top10Usrs[Top 10 Posters],tblPosts[[#This Row],[poster_id]])","v":0}]
[476,1,145,2213,null,"2009-11-23T10:15:27",null,null,1,{"$f":"COUNTIF(top10Usrs[Top 10 Posters],tblPosts[[#This Row],[poster_id]])","v":0}]
[477,1,145,24,null,"2009-11-23T10:58:34",null,null,2,{"$f":"COUNTIF(top10Usrs[Top 10 Posters],tblPosts[[#This Row],[poster_id]])","v":1}]
[478,1,145,2213,null,"2009-11-23T12:04:12",null,null,3,{"$f":"COUNTIF(top10Usrs[Top 10 Posters],tblPosts[[#This Row],[poster_id]])","v":0}]
[479,1,143,2018,null,"2009-11-23T15:18:15",null,null,6,{"$f":"COUNTIF(top10Usrs[Top 10 Posters],tblPosts[[#This Row],[poster_id]])","v":0}]
[480,1,143,1,null,"2009-11-23T17:09:15",null,null,7,{"$f":"COUNTIF(top10Usrs[Top 10 Posters],tblPosts[[#This Row],[poster_id]])","v":1}]
[481,1,146,2220,null,"2009-11-24T18:38:37",null,null,1,{"$f":"COUNTIF(top10Usrs[Top 10 Posters],tblPosts[[#This Row],[poster_id]])","v":0}]
[482,1,147,376,null,"2009-11-24T19:21:29",null,null,1,{"$f":"COUNTIF(top10Usrs[Top 10 Posters],tblPosts[[#This Row],[poster_id]])","v":0}]
[483,1,143,2176,null,"2009-11-24T20:43:36",null,null,8,{"$f":"COUNTIF(top10Usrs[Top 10 Posters],tblPosts[[#This Row],[poster_id]])","v":0}]
[484,1,147,1,null,"2009-11-24T21:51:16",null,null,2,{"$f":"COUNTIF(top10Usrs[Top 10 Posters],tblPosts[[#This Row],[poster_id]])","v":1}]
[485,1,146,24,null,"2009-11-25T13:02:04",null,null,2,{"$f":"COUNTIF(top10Usrs[Top 10 Posters],tblPosts[[#This Row],[poster_id]])","v":1}]
[486,1,107,1791,null,"2009-11-26T01:36:19",null,null,3,{"$f":"COUNTIF(top10Usrs[Top 10 Posters],tblPosts[[#This Row],[poster_id]])","v":0}]
[487,1,107,1,null,"2009-11-26T05:55:47",null,null,4,{"$f":"COUNTIF(top10Usrs[Top 10 Posters],tblPosts[[#This Row],[poster_id]])","v":1}]
[488,2,59,2291,null,"2009-11-26T19:09:21",null,null,5,{"$f":"COUNTIF(top10Usrs[Top 10 Posters],tblPosts[[#This Row],[poster_id]])","v":0}]
[489,1,148,1615,null,"2009-11-27T14:06:20",null,null,1,{"$f":"COUNTIF(top10Usrs[Top 10 Posters],tblPosts[[#This Row],[poster_id]])","v":0}]
[490,1,147,50,null,"2009-11-27T14:11:24",null,null,3,{"$f":"COUNTIF(top10Usrs[Top 10 Posters],tblPosts[[#This Row],[poster_id]])","v":0}]
[491,1,148,50,null,"2009-11-27T14:25:12",null,null,2,{"$f":"COUNTIF(top10Usrs[Top 10 Posters],tblPosts[[#This Row],[poster_id]])","v":0}]
[492,1,148,24,null,"2009-11-27T15:02:03",null,null,3,{"$f":"COUNTIF(top10Usrs[Top 10 Posters],tblPosts[[#This Row],[poster_id]])","v":1}]
[493,1,148,1,null,"2009-11-27T15:08:14",null,null,4,{"$f":"COUNTIF(top10Usrs[Top 10 Posters],tblPosts[[#This Row],[poster_id]])","v":1}]
[494,1,148,1615,null,"2009-11-27T19:30:14",null,null,5,{"$f":"COUNTIF(top10Usrs[Top 10 Posters],tblPosts[[#This Row],[poster_id]])","v":0}]
[495,1,147,376,null,"2009-11-30T20:34:56",null,null,4,{"$f":"COUNTIF(top10Usrs[Top 10 Posters],tblPosts[[#This Row],[poster_id]])","v":0}]
[496,1,149,2364,null,"2009-12-01T00:47:54",null,null,1,{"$f":"COUNTIF(top10Usrs[Top 10 Posters],tblPosts[[#This Row],[poster_id]])","v":0}]
[497,1,150,2369,null,"2009-12-01T06:22:16",null,null,1,{"$f":"COUNTIF(top10Usrs[Top 10 Posters],tblPosts[[#This Row],[poster_id]])","v":0}]
[498,1,149,24,null,"2009-12-01T12:15:40",null,null,2,{"$f":"COUNTIF(top10Usrs[Top 10 Posters],tblPosts[[#This Row],[poster_id]])","v":1}]
[499,1,150,24,null,"2009-12-01T12:20:29",null,null,2,{"$f":"COUNTIF(top10Usrs[Top 10 Posters],tblPosts[[#This Row],[poster_id]])","v":1}]
[500,1,147,24,null,"2009-12-01T14:17:54",null,null,5,{"$f":"COUNTIF(top10Usrs[Top 10 Posters],tblPosts[[#This Row],[poster_id]])","v":1}]
[501,1,151,2376,null,"2009-12-01T15:09:37",null,null,1,{"$f":"COUNTIF(top10Usrs[Top 10 Posters],tblPosts[[#This Row],[poster_id]])","v":0}]
[502,1,150,2369,null,"2009-12-01T23:42:07",null,null,3,{"$f":"COUNTIF(top10Usrs[Top 10 Posters],tblPosts[[#This Row],[poster_id]])","v":0}]
[503,1,151,24,null,"2009-12-02T05:41:53",null,null,2,{"$f":"COUNTIF(top10Usrs[Top 10 Posters],tblPosts[[#This Row],[poster_id]])","v":1}]
[504,1,105,78,null,"2009-12-03T01:01:24",null,null,4,{"$f":"COUNTIF(top10Usrs[Top 10 Posters],tblPosts[[#This Row],[poster_id]])","v":0}]
[505,1,152,2424,null,"2009-12-03T14:45:45",null,null,1,{"$f":"COUNTIF(top10Usrs[Top 10 Posters],tblPosts[[#This Row],[poster_id]])","v":0}]
[506,1,153,2429,null,"2009-12-03T17:28:40",null,null,1,{"$f":"COUNTIF(top10Usrs[Top 10 Posters],tblPosts[[#This Row],[poster_id]])","v":0}]
[507,1,152,24,null,"2009-12-03T20:18:53",null,null,2,{"$f":"COUNTIF(top10Usrs[Top 10 Posters],tblPosts[[#This Row],[poster_id]])","v":1}]
[508,1,153,24,null,"2009-12-03T20:36:34",null,null,2,{"$f":"COUNTIF(top10Usrs[Top 10 Posters],tblPosts[[#This Row],[poster_id]])","v":1}]
[509,1,154,2369,null,"2009-12-04T06:52:43",null,null,1,{"$f":"COUNTIF(top10Usrs[Top 10 Posters],tblPosts[[#This Row],[poster_id]])","v":0}]
[510,1,154,24,null,"2009-12-04T06:57:44",null,null,2,{"$f":"COUNTIF(top10Usrs[Top 10 Posters],tblPosts[[#This Row],[poster_id]])","v":1}]
[511,1,154,2369,null,"2009-12-04T07:02:22",null,null,3,{"$f":"COUNTIF(top10Usrs[Top 10 Posters],tblPosts[[#This Row],[poster_id]])","v":0}]
[512,1,154,2369,null,"2009-12-04T07:02:54",null,null,4,{"$f":"COUNTIF(top10Usrs[Top 10 Posters],tblPosts[[#This Row],[poster_id]])","v":0}]
[513,1,154,24,null,"2009-12-04T08:52:11",null,null,5,{"$f":"COUNTIF(top10Usrs[Top 10 Posters],tblPosts[[#This Row],[poster_id]])","v":1}]
[514,1,147,50,null,"2009-12-04T20:47:32",null,null,6,{"$f":"COUNTIF(top10Usrs[Top 10 Posters],tblPosts[[#This Row],[poster_id]])","v":0}]
[515,1,155,2456,null,"2009-12-05T05:06:25",null,null,1,{"$f":"COUNTIF(top10Usrs[Top 10 Posters],tblPosts[[#This Row],[poster_id]])","v":0}]
[516,1,155,24,null,"2009-12-05T06:00:43",null,null,2,{"$f":"COUNTIF(top10Usrs[Top 10 Posters],tblPosts[[#This Row],[poster_id]])","v":1}]
[517,1,156,1977,null,"2009-12-07T04:21:36",null,null,1,{"$f":"COUNTIF(top10Usrs[Top 10 Posters],tblPosts[[#This Row],[poster_id]])","v":0}]
[518,1,156,24,null,"2009-12-07T05:23:30",null,null,2,{"$f":"COUNTIF(top10Usrs[Top 10 Posters],tblPosts[[#This Row],[poster_id]])","v":1}]
[519,1,153,78,null,"2009-12-07T22:14:05",null,null,3,{"$f":"COUNTIF(top10Usrs[Top 10 Posters],tblPosts[[#This Row],[poster_id]])","v":0}]
[520,1,157,1886,null,"2009-12-08T03:00:38",null,null,1,{"$f":"COUNTIF(top10Usrs[Top 10 Posters],tblPosts[[#This Row],[poster_id]])","v":0}]
[521,2,59,27,null,"2009-12-08T08:52:16",null,null,6,{"$f":"COUNTIF(top10Usrs[Top 10 Posters],tblPosts[[#This Row],[poster_id]])","v":0}]
[522,1,157,1,null,"2009-12-08T10:41:10",null,null,2,{"$f":"COUNTIF(top10Usrs[Top 10 Posters],tblPosts[[#This Row],[poster_id]])","v":1}]
[523,1,158,2531,null,"2009-12-09T08:17:28",null,null,1,{"$f":"COUNTIF(top10Usrs[Top 10 Posters],tblPosts[[#This Row],[poster_id]])","v":0}]
[524,1,158,24,null,"2009-12-09T09:27:55",null,null,2,{"$f":"COUNTIF(top10Usrs[Top 10 Posters],tblPosts[[#This Row],[poster_id]])","v":1}]
[525,1,147,376,null,"2009-12-09T15:50:09",null,null,7,{"$f":"COUNTIF(top10Usrs[Top 10 Posters],tblPosts[[#This Row],[poster_id]])","v":0}]
[526,1,159,950,null,"2009-12-09T19:54:54",null,null,1,{"$f":"COUNTIF(top10Usrs[Top 10 Posters],tblPosts[[#This Row],[poster_id]])","v":0}]
[527,1,159,24,null,"2009-12-10T07:09:18",null,null,2,{"$f":"COUNTIF(top10Usrs[Top 10 Posters],tblPosts[[#This Row],[poster_id]])","v":1}]
[528,1,160,2553,null,"2009-12-10T21:24:50",null,null,1,{"$f":"COUNTIF(top10Usrs[Top 10 Posters],tblPosts[[#This Row],[poster_id]])","v":0}]
[529,1,161,2554,null,"2009-12-11T00:51:55",null,null,1,{"$f":"COUNTIF(top10Usrs[Top 10 Posters],tblPosts[[#This Row],[poster_id]])","v":0}]
[530,1,161,24,null,"2009-12-11T03:25:30",null,null,2,{"$f":"COUNTIF(top10Usrs[Top 10 Posters],tblPosts[[#This Row],[poster_id]])","v":1}]
[531,1,160,24,null,"2009-12-11T03:34:05",null,null,2,{"$f":"COUNTIF(top10Usrs[Top 10 Posters],tblPosts[[#This Row],[poster_id]])","v":1}]
[532,1,162,2564,null,"2009-12-11T11:53:34",null,null,1,{"$f":"COUNTIF(top10Usrs[Top 10 Posters],tblPosts[[#This Row],[poster_id]])","v":0}]
[533,1,161,2554,null,"2009-12-11T13:03:07",null,null,3,{"$f":"COUNTIF(top10Usrs[Top 10 Posters],tblPosts[[#This Row],[poster_id]])","v":0}]
[534,1,159,950,null,"2009-12-11T13:39:07",null,null,3,{"$f":"COUNTIF(top10Usrs[Top 10 Posters],tblPosts[[#This Row],[poster_id]])","v":0}]
[535,1,162,950,null,"2009-12-11T13:53:16",null,null,2,{"$f":"COUNTIF(top10Usrs[Top 10 Posters],tblPosts[[#This Row],[poster_id]])","v":0}]
[536,1,162,2564,null,"2009-12-11T14:01:01",null,null,3,{"$f":"COUNTIF(top10Usrs[Top 10 Posters],tblPosts[[#This Row],[poster_id]])","v":0}]
[537,1,163,2581,null,"2009-12-12T03:10:41",null,null,1,{"$f":"COUNTIF(top10Usrs[Top 10 Posters],tblPosts[[#This Row],[poster_id]])","v":0}]
[538,1,164,2543,null,"2009-12-12T05:54:17",null,null,1,{"$f":"COUNTIF(top10Usrs[Top 10 Posters],tblPosts[[#This Row],[poster_id]])","v":0}]
[539,1,163,24,null,"2009-12-12T06:31:25",null,null,2,{"$f":"COUNTIF(top10Usrs[Top 10 Posters],tblPosts[[#This Row],[poster_id]])","v":1}]
[540,1,164,24,null,"2009-12-12T06:39:11",null,null,2,{"$f":"COUNTIF(top10Usrs[Top 10 Posters],tblPosts[[#This Row],[poster_id]])","v":1}]
[541,1,159,24,null,"2009-12-12T06:50:00",null,null,4,{"$f":"COUNTIF(top10Usrs[Top 10 Posters],tblPosts[[#This Row],[poster_id]])","v":1}]
[542,1,165,2583,null,"2009-12-12T07:55:04",null,null,1,{"$f":"COUNTIF(top10Usrs[Top 10 Posters],tblPosts[[#This Row],[poster_id]])","v":0}]
[543,1,165,24,null,"2009-12-12T09:17:58",null,null,2,{"$f":"COUNTIF(top10Usrs[Top 10 Posters],tblPosts[[#This Row],[poster_id]])","v":1}]
[544,1,165,2583,null,"2009-12-12T10:41:38",null,null,3,{"$f":"COUNTIF(top10Usrs[Top 10 Posters],tblPosts[[#This Row],[poster_id]])","v":0}]
[545,1,163,2581,null,"2009-12-12T13:35:16",null,null,3,{"$f":"COUNTIF(top10Usrs[Top 10 Posters],tblPosts[[#This Row],[poster_id]])","v":0}]
[546,1,163,24,null,"2009-12-12T13:59:47",null,null,4,{"$f":"COUNTIF(top10Usrs[Top 10 Posters],tblPosts[[#This Row],[poster_id]])","v":1}]
[547,1,163,2581,null,"2009-12-12T20:38:47",null,null,5,{"$f":"COUNTIF(top10Usrs[Top 10 Posters],tblPosts[[#This Row],[poster_id]])","v":0}]
[548,1,156,1977,null,"2009-12-13T02:23:41",null,null,3,{"$f":"COUNTIF(top10Usrs[Top 10 Posters],tblPosts[[#This Row],[poster_id]])","v":0}]
[549,1,166,1977,null,"2009-12-13T02:44:12",null,null,1,{"$f":"COUNTIF(top10Usrs[Top 10 Posters],tblPosts[[#This Row],[poster_id]])","v":0}]
[550,1,166,1977,null,"2009-12-13T05:12:39",null,null,2,{"$f":"COUNTIF(top10Usrs[Top 10 Posters],tblPosts[[#This Row],[poster_id]])","v":0}]
[551,1,166,24,null,"2009-12-13T07:48:26",null,null,3,{"$f":"COUNTIF(top10Usrs[Top 10 Posters],tblPosts[[#This Row],[poster_id]])","v":1}]
[552,1,167,2554,null,"2009-12-14T02:43:57",null,null,1,{"$f":"COUNTIF(top10Usrs[Top 10 Posters],tblPosts[[#This Row],[poster_id]])","v":0}]
[553,1,167,24,null,"2009-12-14T03:56:27",null,null,2,{"$f":"COUNTIF(top10Usrs[Top 10 Posters],tblPosts[[#This Row],[poster_id]])","v":1}]
[554,1,167,2554,null,"2009-12-14T04:24:11",null,null,3,{"$f":"COUNTIF(top10Usrs[Top 10 Posters],tblPosts[[#This Row],[poster_id]])","v":0}]
[555,1,159,950,null,"2009-12-14T11:40:54",null,null,5,{"$f":"COUNTIF(top10Usrs[Top 10 Posters],tblPosts[[#This Row],[poster_id]])","v":0}]
[556,1,159,24,null,"2009-12-14T15:04:35",null,null,6,{"$f":"COUNTIF(top10Usrs[Top 10 Posters],tblPosts[[#This Row],[poster_id]])","v":1}]
[557,1,168,2369,null,"2009-12-14T23:08:08",null,null,1,{"$f":"COUNTIF(top10Usrs[Top 10 Posters],tblPosts[[#This Row],[poster_id]])","v":0}]
[558,1,168,24,null,"2009-12-14T23:34:05",null,null,2,{"$f":"COUNTIF(top10Usrs[Top 10 Posters],tblPosts[[#This Row],[poster_id]])","v":1}]
[559,1,169,2631,null,"2009-12-15T00:47:43",null,null,1,{"$f":"COUNTIF(top10Usrs[Top 10 Posters],tblPosts[[#This Row],[poster_id]])","v":0}]
[560,1,169,24,null,"2009-12-15T01:43:38",null,null,2,{"$f":"COUNTIF(top10Usrs[Top 10 Posters],tblPosts[[#This Row],[poster_id]])","v":1}]
[561,1,169,2631,null,"2009-12-15T02:38:24",null,null,3,{"$f":"COUNTIF(top10Usrs[Top 10 Posters],tblPosts[[#This Row],[poster_id]])","v":0}]
[562,1,169,24,null,"2009-12-15T04:53:17",null,null,4,{"$f":"COUNTIF(top10Usrs[Top 10 Posters],tblPosts[[#This Row],[poster_id]])","v":1}]
[563,1,169,2631,null,"2009-12-15T06:01:06",null,null,5,{"$f":"COUNTIF(top10Usrs[Top 10 Posters],tblPosts[[#This Row],[poster_id]])","v":0}]
[564,1,170,2643,null,"2009-12-15T13:02:48",null,null,1,{"$f":"COUNTIF(top10Usrs[Top 10 Posters],tblPosts[[#This Row],[poster_id]])","v":0}]
[565,1,170,24,null,"2009-12-15T13:39:15",null,null,2,{"$f":"COUNTIF(top10Usrs[Top 10 Posters],tblPosts[[#This Row],[poster_id]])","v":1}]
[566,1,170,24,null,"2009-12-15T13:40:48",null,null,3,{"$f":"COUNTIF(top10Usrs[Top 10 Posters],tblPosts[[#This Row],[poster_id]])","v":1}]
[567,1,170,2643,null,"2009-12-15T17:58:11",null,null,4,{"$f":"COUNTIF(top10Usrs[Top 10 Posters],tblPosts[[#This Row],[poster_id]])","v":0}]
[568,1,171,2649,null,"2009-12-15T20:56:10",null,null,1,{"$f":"COUNTIF(top10Usrs[Top 10 Posters],tblPosts[[#This Row],[poster_id]])","v":0}]
[569,1,170,24,null,"2009-12-15T23:44:19",null,null,5,{"$f":"COUNTIF(top10Usrs[Top 10 Posters],tblPosts[[#This Row],[poster_id]])","v":1}]
[570,1,171,1,null,"2009-12-16T09:55:15",null,null,2,{"$f":"COUNTIF(top10Usrs[Top 10 Posters],tblPosts[[#This Row],[poster_id]])","v":1}]
[571,1,170,1,null,"2009-12-16T09:57:43",null,null,6,{"$f":"COUNTIF(top10Usrs[Top 10 Posters],tblPosts[[#This Row],[poster_id]])","v":1}]
[572,1,171,2649,null,"2009-12-16T14:13:30",null,null,3,{"$f":"COUNTIF(top10Usrs[Top 10 Posters],tblPosts[[#This Row],[poster_id]])","v":0}]
[573,1,171,24,null,"2009-12-16T14:17:21",null,null,4,{"$f":"COUNTIF(top10Usrs[Top 10 Posters],tblPosts[[#This Row],[poster_id]])","v":1}]
[574,1,171,2649,null,"2009-12-16T15:07:54",null,null,5,{"$f":"COUNTIF(top10Usrs[Top 10 Posters],tblPosts[[#This Row],[poster_id]])","v":0}]
[575,1,172,2668,null,"2009-12-16T16:28:49",null,null,1,{"$f":"COUNTIF(top10Usrs[Top 10 Posters],tblPosts[[#This Row],[poster_id]])","v":0}]
[576,1,172,24,null,"2009-12-16T22:26:09",null,null,2,{"$f":"COUNTIF(top10Usrs[Top 10 Posters],tblPosts[[#This Row],[poster_id]])","v":1}]
[577,1,173,2669,null,"2009-12-16T23:57:25",null,null,1,{"$f":"COUNTIF(top10Usrs[Top 10 Posters],tblPosts[[#This Row],[poster_id]])","v":0}]
[578,1,173,24,null,"2009-12-17T00:35:25",null,null,2,{"$f":"COUNTIF(top10Usrs[Top 10 Posters],tblPosts[[#This Row],[poster_id]])","v":1}]
[579,1,174,2673,null,"2009-12-17T01:18:24",null,null,1,{"$f":"COUNTIF(top10Usrs[Top 10 Posters],tblPosts[[#This Row],[poster_id]])","v":0}]
[580,1,175,2683,null,"2009-12-17T13:44:25",null,null,1,{"$f":"COUNTIF(top10Usrs[Top 10 Posters],tblPosts[[#This Row],[poster_id]])","v":0}]
[581,1,175,24,null,"2009-12-17T13:54:54",null,null,2,{"$f":"COUNTIF(top10Usrs[Top 10 Posters],tblPosts[[#This Row],[poster_id]])","v":1}]
[582,1,173,2669,null,"2009-12-17T14:19:38",null,null,3,{"$f":"COUNTIF(top10Usrs[Top 10 Posters],tblPosts[[#This Row],[poster_id]])","v":0}]
[583,1,173,24,null,"2009-12-17T15:12:24",null,null,4,{"$f":"COUNTIF(top10Usrs[Top 10 Posters],tblPosts[[#This Row],[poster_id]])","v":1}]
[584,1,173,2669,null,"2009-12-17T22:17:13",null,null,5,{"$f":"COUNTIF(top10Usrs[Top 10 Posters],tblPosts[[#This Row],[poster_id]])","v":0}]
[585,1,176,1886,null,"2009-12-18T04:40:12",null,null,1,{"$f":"COUNTIF(top10Usrs[Top 10 Posters],tblPosts[[#This Row],[poster_id]])","v":0}]
[586,1,176,27,null,"2009-12-18T06:00:11",null,null,2,{"$f":"COUNTIF(top10Usrs[Top 10 Posters],tblPosts[[#This Row],[poster_id]])","v":0}]
[587,1,176,24,null,"2009-12-18T06:10:15",null,null,3,{"$f":"COUNTIF(top10Usrs[Top 10 Posters],tblPosts[[#This Row],[poster_id]])","v":1}]
[588,1,175,2683,null,"2009-12-18T10:56:45",null,null,3,{"$f":"COUNTIF(top10Usrs[Top 10 Posters],tblPosts[[#This Row],[poster_id]])","v":0}]
[589,1,175,24,null,"2009-12-18T12:41:04",null,null,4,{"$f":"COUNTIF(top10Usrs[Top 10 Posters],tblPosts[[#This Row],[poster_id]])","v":1}]
[590,1,173,2669,null,"2009-12-18T14:28:02",null,null,6,{"$f":"COUNTIF(top10Usrs[Top 10 Posters],tblPosts[[#This Row],[poster_id]])","v":0}]
[591,1,175,2018,null,"2009-12-18T14:35:50",null,null,5,{"$f":"COUNTIF(top10Usrs[Top 10 Posters],tblPosts[[#This Row],[poster_id]])","v":0}]
[592,1,173,24,null,"2009-12-18T15:10:13",null,null,7,{"$f":"COUNTIF(top10Usrs[Top 10 Posters],tblPosts[[#This Row],[poster_id]])","v":1}]
[593,4,177,78,null,"2009-12-18T19:15:18",null,null,1,{"$f":"COUNTIF(top10Usrs[Top 10 Posters],tblPosts[[#This Row],[poster_id]])","v":0}]
[594,1,178,2752,null,"2009-12-21T12:18:09",null,null,1,{"$f":"COUNTIF(top10Usrs[Top 10 Posters],tblPosts[[#This Row],[poster_id]])","v":0}]
[595,1,178,24,null,"2009-12-21T13:02:25",null,null,2,{"$f":"COUNTIF(top10Usrs[Top 10 Posters],tblPosts[[#This Row],[poster_id]])","v":1}]
[596,1,178,2752,null,"2009-12-21T13:51:52",null,null,3,{"$f":"COUNTIF(top10Usrs[Top 10 Posters],tblPosts[[#This Row],[poster_id]])","v":0}]
[597,1,178,24,null,"2009-12-21T13:59:40",null,null,4,{"$f":"COUNTIF(top10Usrs[Top 10 Posters],tblPosts[[#This Row],[poster_id]])","v":1}]
[598,1,175,2683,null,"2009-12-21T14:13:10",null,null,6,{"$f":"COUNTIF(top10Usrs[Top 10 Posters],tblPosts[[#This Row],[poster_id]])","v":0}]
[599,1,178,2752,null,"2009-12-21T14:15:42",null,null,5,{"$f":"COUNTIF(top10Usrs[Top 10 Posters],tblPosts[[#This Row],[poster_id]])","v":0}]
[600,1,173,2669,null,"2009-12-21T16:20:23",null,null,8,{"$f":"COUNTIF(top10Usrs[Top 10 Posters],tblPosts[[#This Row],[poster_id]])","v":0}]
[601,4,2,2758,null,"2009-12-21T21:40:04",null,null,32,{"$f":"COUNTIF(top10Usrs[Top 10 Posters],tblPosts[[#This Row],[poster_id]])","v":0}]
[602,1,174,24,null,"2009-12-22T08:57:26",null,null,2,{"$f":"COUNTIF(top10Usrs[Top 10 Posters],tblPosts[[#This Row],[poster_id]])","v":1}]
[603,1,174,1,null,"2009-12-22T12:42:12",null,null,3,{"$f":"COUNTIF(top10Usrs[Top 10 Posters],tblPosts[[#This Row],[poster_id]])","v":1}]
[604,4,177,1,null,"2009-12-22T12:53:47",null,null,2,{"$f":"COUNTIF(top10Usrs[Top 10 Posters],tblPosts[[#This Row],[poster_id]])","v":1}]
[605,1,174,24,null,"2009-12-22T13:17:48",null,null,4,{"$f":"COUNTIF(top10Usrs[Top 10 Posters],tblPosts[[#This Row],[poster_id]])","v":1}]
[606,1,179,2774,null,"2009-12-22T17:46:07",null,null,1,{"$f":"COUNTIF(top10Usrs[Top 10 Posters],tblPosts[[#This Row],[poster_id]])","v":0}]
[607,1,179,2774,null,"2009-12-23T01:23:36",null,null,2,{"$f":"COUNTIF(top10Usrs[Top 10 Posters],tblPosts[[#This Row],[poster_id]])","v":0}]
[608,1,179,24,null,"2009-12-23T01:57:44",null,null,3,{"$f":"COUNTIF(top10Usrs[Top 10 Posters],tblPosts[[#This Row],[poster_id]])","v":1}]
[609,1,179,2774,null,"2009-12-23T04:30:20",null,null,4,{"$f":"COUNTIF(top10Usrs[Top 10 Posters],tblPosts[[#This Row],[poster_id]])","v":0}]
[610,1,180,2364,null,"2009-12-23T17:38:37",null,null,1,{"$f":"COUNTIF(top10Usrs[Top 10 Posters],tblPosts[[#This Row],[poster_id]])","v":0}]
[611,1,180,1,null,"2009-12-23T19:23:05",null,null,2,{"$f":"COUNTIF(top10Usrs[Top 10 Posters],tblPosts[[#This Row],[poster_id]])","v":1}]
[612,1,181,2832,null,"2009-12-26T06:56:14",null,null,1,{"$f":"COUNTIF(top10Usrs[Top 10 Posters],tblPosts[[#This Row],[poster_id]])","v":0}]
[613,3,182,2827,null,"2009-12-26T07:17:31",null,null,1,{"$f":"COUNTIF(top10Usrs[Top 10 Posters],tblPosts[[#This Row],[poster_id]])","v":0}]
[614,1,181,24,null,"2009-12-26T07:57:49",null,null,2,{"$f":"COUNTIF(top10Usrs[Top 10 Posters],tblPosts[[#This Row],[poster_id]])","v":1}]
[615,1,181,2832,null,"2009-12-26T08:49:32",null,null,3,{"$f":"COUNTIF(top10Usrs[Top 10 Posters],tblPosts[[#This Row],[poster_id]])","v":0}]
[616,1,181,24,null,"2009-12-26T09:01:52",null,null,4,{"$f":"COUNTIF(top10Usrs[Top 10 Posters],tblPosts[[#This Row],[poster_id]])","v":1}]
[617,1,181,2832,null,"2009-12-26T09:15:13",null,null,5,{"$f":"COUNTIF(top10Usrs[Top 10 Posters],tblPosts[[#This Row],[poster_id]])","v":0}]
[618,1,183,2832,null,"2009-12-26T09:28:03",null,null,1,{"$f":"COUNTIF(top10Usrs[Top 10 Posters],tblPosts[[#This Row],[poster_id]])","v":0}]
[619,1,183,24,null,"2009-12-26T09:53:09",null,null,2,{"$f":"COUNTIF(top10Usrs[Top 10 Posters],tblPosts[[#This Row],[poster_id]])","v":1}]
[620,1,183,2832,null,"2009-12-26T10:18:07",null,null,3,{"$f":"COUNTIF(top10Usrs[Top 10 Posters],tblPosts[[#This Row],[poster_id]])","v":0}]
[621,1,184,2835,null,"2009-12-26T11:06:12",null,null,1,{"$f":"COUNTIF(top10Usrs[Top 10 Posters],tblPosts[[#This Row],[poster_id]])","v":0}]
[622,1,184,24,null,"2009-12-26T11:44:32",null,null,2,{"$f":"COUNTIF(top10Usrs[Top 10 Posters],tblPosts[[#This Row],[poster_id]])","v":1}]
[623,1,183,24,null,"2009-12-26T11:47:05",null,null,4,{"$f":"COUNTIF(top10Usrs[Top 10 Posters],tblPosts[[#This Row],[poster_id]])","v":1}]
[624,1,183,2832,null,"2009-12-26T14:44:06",null,null,5,{"$f":"COUNTIF(top10Usrs[Top 10 Posters],tblPosts[[#This Row],[poster_id]])","v":0}]
[625,1,183,24,null,"2009-12-26T15:07:40",null,null,6,{"$f":"COUNTIF(top10Usrs[Top 10 Posters],tblPosts[[#This Row],[poster_id]])","v":1}]
[626,1,183,24,null,"2009-12-26T15:12:06",null,null,7,{"$f":"COUNTIF(top10Usrs[Top 10 Posters],tblPosts[[#This Row],[poster_id]])","v":1}]
[627,3,182,1,null,"2009-12-27T10:28:08",null,null,2,{"$f":"COUNTIF(top10Usrs[Top 10 Posters],tblPosts[[#This Row],[poster_id]])","v":1}]
[628,1,183,2832,null,"2009-12-27T13:41:40",null,null,8,{"$f":"COUNTIF(top10Usrs[Top 10 Posters],tblPosts[[#This Row],[poster_id]])","v":0}]
[629,1,184,2835,null,"2009-12-28T01:52:52",null,null,3,{"$f":"COUNTIF(top10Usrs[Top 10 Posters],tblPosts[[#This Row],[poster_id]])","v":0}]
[630,1,184,24,null,"2009-12-28T02:23:51",null,null,4,{"$f":"COUNTIF(top10Usrs[Top 10 Posters],tblPosts[[#This Row],[poster_id]])","v":1}]
[631,1,184,2835,null,"2009-12-28T02:42:47",null,null,5,{"$f":"COUNTIF(top10Usrs[Top 10 Posters],tblPosts[[#This Row],[poster_id]])","v":0}]
[632,1,185,176,null,"2009-12-28T05:56:50",null,null,1,{"$f":"COUNTIF(top10Usrs[Top 10 Posters],tblPosts[[#This Row],[poster_id]])","v":0}]
[633,1,185,24,null,"2009-12-28T06:33:25",null,null,2,{"$f":"COUNTIF(top10Usrs[Top 10 Posters],tblPosts[[#This Row],[poster_id]])","v":1}]
[634,1,185,176,null,"2009-12-28T07:06:15",null,null,3,{"$f":"COUNTIF(top10Usrs[Top 10 Posters],tblPosts[[#This Row],[poster_id]])","v":0}]
[635,1,185,24,null,"2009-12-28T07:22:52",null,null,4,{"$f":"COUNTIF(top10Usrs[Top 10 Posters],tblPosts[[#This Row],[poster_id]])","v":1}]
[636,1,185,176,null,"2009-12-28T08:48:28",null,null,5,{"$f":"COUNTIF(top10Usrs[Top 10 Posters],tblPosts[[#This Row],[poster_id]])","v":0}]
[637,1,186,176,null,"2009-12-28T11:45:53",null,null,1,{"$f":"COUNTIF(top10Usrs[Top 10 Posters],tblPosts[[#This Row],[poster_id]])","v":0}]
[638,1,186,2865,null,"2009-12-28T12:01:47",null,null,2,{"$f":"COUNTIF(top10Usrs[Top 10 Posters],tblPosts[[#This Row],[poster_id]])","v":0}]
[639,1,187,2867,null,"2009-12-28T13:41:32",null,null,1,{"$f":"COUNTIF(top10Usrs[Top 10 Posters],tblPosts[[#This Row],[poster_id]])","v":0}]
[640,1,187,24,null,"2009-12-28T13:53:58",null,null,2,{"$f":"COUNTIF(top10Usrs[Top 10 Posters],tblPosts[[#This Row],[poster_id]])","v":1}]
[641,1,186,176,null,"2009-12-29T05:47:39",null,null,3,{"$f":"COUNTIF(top10Usrs[Top 10 Posters],tblPosts[[#This Row],[poster_id]])","v":0}]
[642,1,188,176,null,"2009-12-29T06:58:29",null,null,1,{"$f":"COUNTIF(top10Usrs[Top 10 Posters],tblPosts[[#This Row],[poster_id]])","v":0}]
[643,1,189,2883,null,"2009-12-30T15:37:36",null,null,1,{"$f":"COUNTIF(top10Usrs[Top 10 Posters],tblPosts[[#This Row],[poster_id]])","v":0}]
[644,1,189,24,null,"2009-12-30T16:21:00",null,null,2,{"$f":"COUNTIF(top10Usrs[Top 10 Posters],tblPosts[[#This Row],[poster_id]])","v":1}]
[645,1,189,2865,null,"2009-12-31T11:13:54",null,null,3,{"$f":"COUNTIF(top10Usrs[Top 10 Posters],tblPosts[[#This Row],[poster_id]])","v":0}]
[646,1,187,1165,null,"2009-12-31T12:52:09",null,null,3,{"$f":"COUNTIF(top10Usrs[Top 10 Posters],tblPosts[[#This Row],[poster_id]])","v":0}]
[647,1,190,2938,null,"2010-01-04T07:08:28",null,null,1,{"$f":"COUNTIF(top10Usrs[Top 10 Posters],tblPosts[[#This Row],[poster_id]])","v":0}]
[648,1,190,2938,null,"2010-01-04T08:24:31",null,null,1,{"$f":"COUNTIF(top10Usrs[Top 10 Posters],tblPosts[[#This Row],[poster_id]])","v":0}]
[649,1,190,24,null,"2010-01-04T13:11:50",null,null,2,{"$f":"COUNTIF(top10Usrs[Top 10 Posters],tblPosts[[#This Row],[poster_id]])","v":1}]
[650,1,190,24,null,"2010-01-04T13:12:21",null,null,3,{"$f":"COUNTIF(top10Usrs[Top 10 Posters],tblPosts[[#This Row],[poster_id]])","v":1}]
[651,4,2,2936,null,"2010-01-05T00:31:22",null,null,33,{"$f":"COUNTIF(top10Usrs[Top 10 Posters],tblPosts[[#This Row],[poster_id]])","v":0}]
[652,1,191,1886,null,"2010-01-05T05:21:27",null,null,1,{"$f":"COUNTIF(top10Usrs[Top 10 Posters],tblPosts[[#This Row],[poster_id]])","v":0}]
[653,1,191,24,null,"2010-01-05T06:49:13",null,null,2,{"$f":"COUNTIF(top10Usrs[Top 10 Posters],tblPosts[[#This Row],[poster_id]])","v":1}]
[654,1,192,28,null,"2010-01-05T10:46:44",null,null,1,{"$f":"COUNTIF(top10Usrs[Top 10 Posters],tblPosts[[#This Row],[poster_id]])","v":0}]
[655,1,192,24,null,"2010-01-05T11:27:54",null,null,2,{"$f":"COUNTIF(top10Usrs[Top 10 Posters],tblPosts[[#This Row],[poster_id]])","v":1}]
[656,1,192,28,null,"2010-01-05T12:38:25",null,null,3,{"$f":"COUNTIF(top10Usrs[Top 10 Posters],tblPosts[[#This Row],[poster_id]])","v":0}]
[657,1,192,2758,null,"2010-01-05T12:55:40",null,null,4,{"$f":"COUNTIF(top10Usrs[Top 10 Posters],tblPosts[[#This Row],[poster_id]])","v":0}]
[658,1,192,2865,null,"2010-01-05T12:58:45",null,null,5,{"$f":"COUNTIF(top10Usrs[Top 10 Posters],tblPosts[[#This Row],[poster_id]])","v":0}]
[659,1,192,24,null,"2010-01-05T13:01:52",null,null,6,{"$f":"COUNTIF(top10Usrs[Top 10 Posters],tblPosts[[#This Row],[poster_id]])","v":1}]
[660,1,192,28,null,"2010-01-05T13:20:30",null,null,7,{"$f":"COUNTIF(top10Usrs[Top 10 Posters],tblPosts[[#This Row],[poster_id]])","v":0}]
[661,1,192,28,null,"2010-01-05T13:21:55",null,null,8,{"$f":"COUNTIF(top10Usrs[Top 10 Posters],tblPosts[[#This Row],[poster_id]])","v":0}]
[662,1,192,28,null,"2010-01-05T14:43:54",null,null,9,{"$f":"COUNTIF(top10Usrs[Top 10 Posters],tblPosts[[#This Row],[poster_id]])","v":0}]
[663,1,192,1,null,"2010-01-05T15:40:28",null,null,10,{"$f":"COUNTIF(top10Usrs[Top 10 Posters],tblPosts[[#This Row],[poster_id]])","v":1}]
[664,1,193,2964,null,"2010-01-05T19:00:47",null,null,1,{"$f":"COUNTIF(top10Usrs[Top 10 Posters],tblPosts[[#This Row],[poster_id]])","v":0}]
[665,1,193,2964,null,"2010-01-05T21:40:55",null,null,2,{"$f":"COUNTIF(top10Usrs[Top 10 Posters],tblPosts[[#This Row],[poster_id]])","v":0}]
[666,1,190,2938,null,"2010-01-05T21:55:24",null,null,4,{"$f":"COUNTIF(top10Usrs[Top 10 Posters],tblPosts[[#This Row],[poster_id]])","v":0}]
[667,1,190,24,null,"2010-01-05T23:44:31",null,null,5,{"$f":"COUNTIF(top10Usrs[Top 10 Posters],tblPosts[[#This Row],[poster_id]])","v":1}]
[668,1,190,2938,null,"2010-01-06T03:03:51",null,null,6,{"$f":"COUNTIF(top10Usrs[Top 10 Posters],tblPosts[[#This Row],[poster_id]])","v":0}]
[669,1,194,2976,null,"2010-01-06T11:48:39",null,null,1,{"$f":"COUNTIF(top10Usrs[Top 10 Posters],tblPosts[[#This Row],[poster_id]])","v":0}]
[670,1,194,24,null,"2010-01-06T12:29:02",null,null,2,{"$f":"COUNTIF(top10Usrs[Top 10 Posters],tblPosts[[#This Row],[poster_id]])","v":1}]
[671,1,194,1,null,"2010-01-06T13:26:19",null,null,3,{"$f":"COUNTIF(top10Usrs[Top 10 Posters],tblPosts[[#This Row],[poster_id]])","v":1}]
[672,1,173,2669,null,"2010-01-06T16:26:37",null,null,9,{"$f":"COUNTIF(top10Usrs[Top 10 Posters],tblPosts[[#This Row],[poster_id]])","v":0}]
[673,1,173,2669,null,"2010-01-06T16:30:34",null,null,10,{"$f":"COUNTIF(top10Usrs[Top 10 Posters],tblPosts[[#This Row],[poster_id]])","v":0}]
[674,1,195,2982,null,"2010-01-06T19:37:22",null,null,1,{"$f":"COUNTIF(top10Usrs[Top 10 Posters],tblPosts[[#This Row],[poster_id]])","v":0}]
[675,1,196,2669,null,"2010-01-06T23:51:28",null,null,1,{"$f":"COUNTIF(top10Usrs[Top 10 Posters],tblPosts[[#This Row],[poster_id]])","v":0}]
[676,1,195,24,null,"2010-01-06T23:58:36",null,null,2,{"$f":"COUNTIF(top10Usrs[Top 10 Posters],tblPosts[[#This Row],[poster_id]])","v":1}]
[677,1,173,24,null,"2010-01-07T00:06:59",null,null,11,{"$f":"COUNTIF(top10Usrs[Top 10 Posters],tblPosts[[#This Row],[poster_id]])","v":1}]
[678,1,196,24,null,"2010-01-07T00:07:32",null,null,2,{"$f":"COUNTIF(top10Usrs[Top 10 Posters],tblPosts[[#This Row],[poster_id]])","v":1}]
[679,1,195,2982,null,"2010-01-07T11:15:30",null,null,3,{"$f":"COUNTIF(top10Usrs[Top 10 Posters],tblPosts[[#This Row],[poster_id]])","v":0}]
[680,1,195,24,null,"2010-01-07T12:23:24",null,null,4,{"$f":"COUNTIF(top10Usrs[Top 10 Posters],tblPosts[[#This Row],[poster_id]])","v":1}]
[681,1,186,28,null,"2010-01-07T12:50:57",null,null,4,{"$f":"COUNTIF(top10Usrs[Top 10 Posters],tblPosts[[#This Row],[poster_id]])","v":0}]
[682,1,195,2982,null,"2010-01-07T12:54:35",null,null,5,{"$f":"COUNTIF(top10Usrs[Top 10 Posters],tblPosts[[#This Row],[poster_id]])","v":0}]
[683,1,186,24,null,"2010-01-07T13:15:36",null,null,5,{"$f":"COUNTIF(top10Usrs[Top 10 Posters],tblPosts[[#This Row],[poster_id]])","v":1}]
[684,1,195,24,null,"2010-01-07T13:28:33",null,null,6,{"$f":"COUNTIF(top10Usrs[Top 10 Posters],tblPosts[[#This Row],[poster_id]])","v":1}]
[685,1,186,2758,null,"2010-01-07T13:34:41",null,null,6,{"$f":"COUNTIF(top10Usrs[Top 10 Posters],tblPosts[[#This Row],[poster_id]])","v":0}]
[686,1,195,2982,null,"2010-01-07T18:23:58",null,null,7,{"$f":"COUNTIF(top10Usrs[Top 10 Posters],tblPosts[[#This Row],[poster_id]])","v":0}]
[687,1,197,2998,null,"2010-01-07T18:44:58",null,null,1,{"$f":"COUNTIF(top10Usrs[Top 10 Posters],tblPosts[[#This Row],[poster_id]])","v":0}]
[688,1,197,1,null,"2010-01-07T20:40:34",null,null,2,{"$f":"COUNTIF(top10Usrs[Top 10 Posters],tblPosts[[#This Row],[poster_id]])","v":1}]
[689,1,195,1,null,"2010-01-07T21:06:44",null,null,8,{"$f":"COUNTIF(top10Usrs[Top 10 Posters],tblPosts[[#This Row],[poster_id]])","v":1}]
[690,1,198,3005,null,"2010-01-08T07:28:32",null,null,1,{"$f":"COUNTIF(top10Usrs[Top 10 Posters],tblPosts[[#This Row],[poster_id]])","v":0}]
[691,1,197,2758,null,"2010-01-08T09:15:00",null,null,3,{"$f":"COUNTIF(top10Usrs[Top 10 Posters],tblPosts[[#This Row],[poster_id]])","v":0}]
[692,1,197,2758,null,"2010-01-08T09:31:00",null,null,4,{"$f":"COUNTIF(top10Usrs[Top 10 Posters],tblPosts[[#This Row],[poster_id]])","v":0}]
[693,1,197,1,null,"2010-01-08T09:50:16",null,null,5,{"$f":"COUNTIF(top10Usrs[Top 10 Posters],tblPosts[[#This Row],[poster_id]])","v":1}]
[694,1,197,2998,null,"2010-01-08T10:22:19",null,null,6,{"$f":"COUNTIF(top10Usrs[Top 10 Posters],tblPosts[[#This Row],[poster_id]])","v":0}]
[695,1,199,3008,null,"2010-01-08T10:37:41",null,null,1,{"$f":"COUNTIF(top10Usrs[Top 10 Posters],tblPosts[[#This Row],[poster_id]])","v":0}]
[696,1,199,24,null,"2010-01-08T11:12:40",null,null,2,{"$f":"COUNTIF(top10Usrs[Top 10 Posters],tblPosts[[#This Row],[poster_id]])","v":1}]
[697,1,199,24,null,"2010-01-08T11:13:58",null,null,3,{"$f":"COUNTIF(top10Usrs[Top 10 Posters],tblPosts[[#This Row],[poster_id]])","v":1}]
[698,1,200,2758,null,"2010-01-08T12:38:49",null,null,1,{"$f":"COUNTIF(top10Usrs[Top 10 Posters],tblPosts[[#This Row],[poster_id]])","v":0}]
[699,1,200,24,null,"2010-01-08T13:39:16",null,null,2,{"$f":"COUNTIF(top10Usrs[Top 10 Posters],tblPosts[[#This Row],[poster_id]])","v":1}]
[700,1,197,24,null,"2010-01-08T13:56:08",null,null,7,{"$f":"COUNTIF(top10Usrs[Top 10 Posters],tblPosts[[#This Row],[poster_id]])","v":1}]
[701,1,173,2669,null,"2010-01-08T15:28:46",null,null,12,{"$f":"COUNTIF(top10Usrs[Top 10 Posters],tblPosts[[#This Row],[poster_id]])","v":0}]
[702,1,196,2669,null,"2010-01-08T15:29:23",null,null,3,{"$f":"COUNTIF(top10Usrs[Top 10 Posters],tblPosts[[#This Row],[poster_id]])","v":0}]
[703,1,198,24,null,"2010-01-08T15:45:50",null,null,2,{"$f":"COUNTIF(top10Usrs[Top 10 Posters],tblPosts[[#This Row],[poster_id]])","v":1}]
[704,1,198,24,null,"2010-01-08T15:56:36",null,null,3,{"$f":"COUNTIF(top10Usrs[Top 10 Posters],tblPosts[[#This Row],[poster_id]])","v":1}]
[705,1,201,3017,null,"2010-01-08T21:11:07",null,null,1,{"$f":"COUNTIF(top10Usrs[Top 10 Posters],tblPosts[[#This Row],[poster_id]])","v":0}]
[706,1,201,24,null,"2010-01-09T01:57:02",null,null,2,{"$f":"COUNTIF(top10Usrs[Top 10 Posters],tblPosts[[#This Row],[poster_id]])","v":1}]
[707,1,190,2938,null,"2010-01-10T05:08:20",null,null,7,{"$f":"COUNTIF(top10Usrs[Top 10 Posters],tblPosts[[#This Row],[poster_id]])","v":0}]
[708,1,202,2938,null,"2010-01-10T07:05:45",null,null,1,{"$f":"COUNTIF(top10Usrs[Top 10 Posters],tblPosts[[#This Row],[poster_id]])","v":0}]
[709,1,190,2938,null,"2010-01-10T07:37:20",null,null,8,{"$f":"COUNTIF(top10Usrs[Top 10 Posters],tblPosts[[#This Row],[poster_id]])","v":0}]
[710,1,202,2865,null,"2010-01-10T10:28:16",null,null,2,{"$f":"COUNTIF(top10Usrs[Top 10 Posters],tblPosts[[#This Row],[poster_id]])","v":0}]
[711,1,190,2865,null,"2010-01-10T11:37:59",null,null,9,{"$f":"COUNTIF(top10Usrs[Top 10 Posters],tblPosts[[#This Row],[poster_id]])","v":0}]
[712,1,190,24,null,"2010-01-10T14:34:30",null,null,10,{"$f":"COUNTIF(top10Usrs[Top 10 Posters],tblPosts[[#This Row],[poster_id]])","v":1}]
[713,1,203,2936,null,"2010-01-10T23:50:03",null,null,1,{"$f":"COUNTIF(top10Usrs[Top 10 Posters],tblPosts[[#This Row],[poster_id]])","v":0}]
[714,1,203,24,null,"2010-01-11T05:49:15",null,null,2,{"$f":"COUNTIF(top10Usrs[Top 10 Posters],tblPosts[[#This Row],[poster_id]])","v":1}]
[715,1,203,2936,null,"2010-01-11T13:21:10",null,null,3,{"$f":"COUNTIF(top10Usrs[Top 10 Posters],tblPosts[[#This Row],[poster_id]])","v":0}]
[716,1,204,77,null,"2010-01-11T19:38:44",null,null,1,{"$f":"COUNTIF(top10Usrs[Top 10 Posters],tblPosts[[#This Row],[poster_id]])","v":0}]
[717,1,205,3072,null,"2010-01-11T21:36:19",null,null,1,{"$f":"COUNTIF(top10Usrs[Top 10 Posters],tblPosts[[#This Row],[poster_id]])","v":0}]
[718,1,205,1,null,"2010-01-11T21:42:39",null,null,2,{"$f":"COUNTIF(top10Usrs[Top 10 Posters],tblPosts[[#This Row],[poster_id]])","v":1}]
[719,1,204,1,null,"2010-01-11T22:01:41",null,null,2,{"$f":"COUNTIF(top10Usrs[Top 10 Posters],tblPosts[[#This Row],[poster_id]])","v":1}]
[720,4,2,3078,null,"2010-01-12T00:12:01",null,null,34,{"$f":"COUNTIF(top10Usrs[Top 10 Posters],tblPosts[[#This Row],[poster_id]])","v":0}]
[721,5,206,3078,null,"2010-01-12T00:14:16",null,null,1,{"$f":"COUNTIF(top10Usrs[Top 10 Posters],tblPosts[[#This Row],[poster_id]])","v":0}]
[722,1,207,3080,null,"2010-01-12T04:09:22",null,null,1,{"$f":"COUNTIF(top10Usrs[Top 10 Posters],tblPosts[[#This Row],[poster_id]])","v":0}]
[723,5,206,1,null,"2010-01-12T07:01:10",null,null,2,{"$f":"COUNTIF(top10Usrs[Top 10 Posters],tblPosts[[#This Row],[poster_id]])","v":1}]
[724,1,207,24,null,"2010-01-12T07:03:15",null,null,2,{"$f":"COUNTIF(top10Usrs[Top 10 Posters],tblPosts[[#This Row],[poster_id]])","v":1}]
[725,1,207,2865,null,"2010-01-12T07:38:34",null,null,3,{"$f":"COUNTIF(top10Usrs[Top 10 Posters],tblPosts[[#This Row],[poster_id]])","v":0}]
[726,1,205,24,null,"2010-01-12T14:57:11",null,null,3,{"$f":"COUNTIF(top10Usrs[Top 10 Posters],tblPosts[[#This Row],[poster_id]])","v":1}]
[727,1,208,3086,null,"2010-01-12T15:58:32",null,null,1,{"$f":"COUNTIF(top10Usrs[Top 10 Posters],tblPosts[[#This Row],[poster_id]])","v":0}]
[728,1,209,3085,null,"2010-01-12T15:59:53",null,null,1,{"$f":"COUNTIF(top10Usrs[Top 10 Posters],tblPosts[[#This Row],[poster_id]])","v":0}]
[729,1,209,2865,null,"2010-01-12T17:21:50",null,null,2,{"$f":"COUNTIF(top10Usrs[Top 10 Posters],tblPosts[[#This Row],[poster_id]])","v":0}]
[730,1,208,1,null,"2010-01-12T20:42:14",null,null,2,{"$f":"COUNTIF(top10Usrs[Top 10 Posters],tblPosts[[#This Row],[poster_id]])","v":1}]
[731,1,190,2938,null,"2010-01-12T20:49:58",null,null,11,{"$f":"COUNTIF(top10Usrs[Top 10 Posters],tblPosts[[#This Row],[poster_id]])","v":0}]
[732,1,210,3091,null,"2010-01-12T22:42:54",null,null,1,{"$f":"COUNTIF(top10Usrs[Top 10 Posters],tblPosts[[#This Row],[poster_id]])","v":0}]
[733,1,207,3080,null,"2010-01-12T23:25:33",null,null,4,{"$f":"COUNTIF(top10Usrs[Top 10 Posters],tblPosts[[#This Row],[poster_id]])","v":0}]
[734,1,210,24,null,"2010-01-12T23:58:23",null,null,2,{"$f":"COUNTIF(top10Usrs[Top 10 Posters],tblPosts[[#This Row],[poster_id]])","v":1}]
[735,1,210,3091,null,"2010-01-13T00:09:19",null,null,3,{"$f":"COUNTIF(top10Usrs[Top 10 Posters],tblPosts[[#This Row],[poster_id]])","v":0}]
[736,1,190,24,null,"2010-01-13T00:16:51",null,null,12,{"$f":"COUNTIF(top10Usrs[Top 10 Posters],tblPosts[[#This Row],[poster_id]])","v":1}]
[737,1,190,2938,null,"2010-01-13T04:02:06",null,null,13,{"$f":"COUNTIF(top10Usrs[Top 10 Posters],tblPosts[[#This Row],[poster_id]])","v":0}]
[738,1,190,24,null,"2010-01-13T04:15:32",null,null,14,{"$f":"COUNTIF(top10Usrs[Top 10 Posters],tblPosts[[#This Row],[poster_id]])","v":1}]
[739,1,190,2938,null,"2010-01-13T05:07:05",null,null,15,{"$f":"COUNTIF(top10Usrs[Top 10 Posters],tblPosts[[#This Row],[poster_id]])","v":0}]
[740,1,190,24,null,"2010-01-13T07:29:43",null,null,16,{"$f":"COUNTIF(top10Usrs[Top 10 Posters],tblPosts[[#This Row],[poster_id]])","v":1}]
[741,1,190,2938,null,"2010-01-13T08:23:26",null,null,17,{"$f":"COUNTIF(top10Usrs[Top 10 Posters],tblPosts[[#This Row],[poster_id]])","v":0}]
[742,1,211,27,null,"2010-01-13T08:30:43",null,null,1,{"$f":"COUNTIF(top10Usrs[Top 10 Posters],tblPosts[[#This Row],[poster_id]])","v":0}]
[743,1,211,2758,null,"2010-01-13T08:49:22",null,null,2,{"$f":"COUNTIF(top10Usrs[Top 10 Posters],tblPosts[[#This Row],[poster_id]])","v":0}]
[744,1,211,27,null,"2010-01-13T08:58:20",null,null,3,{"$f":"COUNTIF(top10Usrs[Top 10 Posters],tblPosts[[#This Row],[poster_id]])","v":0}]
[745,1,211,2758,null,"2010-01-13T09:06:51",null,null,4,{"$f":"COUNTIF(top10Usrs[Top 10 Posters],tblPosts[[#This Row],[poster_id]])","v":0}]
[746,1,211,27,null,"2010-01-13T13:34:03",null,null,5,{"$f":"COUNTIF(top10Usrs[Top 10 Posters],tblPosts[[#This Row],[poster_id]])","v":0}]
[747,1,212,2683,null,"2010-01-13T14:04:26",null,null,1,{"$f":"COUNTIF(top10Usrs[Top 10 Posters],tblPosts[[#This Row],[poster_id]])","v":0}]
[748,1,211,27,null,"2010-01-13T15:16:56",null,null,6,{"$f":"COUNTIF(top10Usrs[Top 10 Posters],tblPosts[[#This Row],[poster_id]])","v":0}]
[749,1,213,3108,null,"2010-01-13T22:16:41",null,null,1,{"$f":"COUNTIF(top10Usrs[Top 10 Posters],tblPosts[[#This Row],[poster_id]])","v":0}]
[750,1,212,24,null,"2010-01-14T00:14:01",null,null,2,{"$f":"COUNTIF(top10Usrs[Top 10 Posters],tblPosts[[#This Row],[poster_id]])","v":1}]
[751,1,190,2938,null,"2010-01-14T01:29:12",null,null,18,{"$f":"COUNTIF(top10Usrs[Top 10 Posters],tblPosts[[#This Row],[poster_id]])","v":0}]
[752,1,214,3114,null,"2010-01-14T04:05:10",null,null,1,{"$f":"COUNTIF(top10Usrs[Top 10 Posters],tblPosts[[#This Row],[poster_id]])","v":0}]
[753,1,214,24,null,"2010-01-14T04:44:01",null,null,2,{"$f":"COUNTIF(top10Usrs[Top 10 Posters],tblPosts[[#This Row],[poster_id]])","v":1}]
[754,1,211,3116,null,"2010-01-14T08:37:13",null,null,7,{"$f":"COUNTIF(top10Usrs[Top 10 Posters],tblPosts[[#This Row],[poster_id]])","v":0}]
[755,1,211,2758,null,"2010-01-14T08:52:37",null,null,8,{"$f":"COUNTIF(top10Usrs[Top 10 Posters],tblPosts[[#This Row],[poster_id]])","v":0}]
[756,1,211,3116,null,"2010-01-14T09:26:07",null,null,9,{"$f":"COUNTIF(top10Usrs[Top 10 Posters],tblPosts[[#This Row],[poster_id]])","v":0}]
[757,1,211,3116,null,"2010-01-14T09:33:12",null,null,10,{"$f":"COUNTIF(top10Usrs[Top 10 Posters],tblPosts[[#This Row],[poster_id]])","v":0}]
[759,1,216,3078,null,"2010-01-14T12:01:26",null,null,1,{"$f":"COUNTIF(top10Usrs[Top 10 Posters],tblPosts[[#This Row],[poster_id]])","v":0}]
[758,1,215,2835,null,"2010-01-14T09:33:17",null,null,1,{"$f":"COUNTIF(top10Usrs[Top 10 Posters],tblPosts[[#This Row],[poster_id]])","v":0}]
[760,1,211,2758,null,"2010-01-14T12:12:40",null,null,11,{"$f":"COUNTIF(top10Usrs[Top 10 Posters],tblPosts[[#This Row],[poster_id]])","v":0}]
[761,1,216,2758,null,"2010-01-14T12:18:53",null,null,2,{"$f":"COUNTIF(top10Usrs[Top 10 Posters],tblPosts[[#This Row],[poster_id]])","v":0}]
[762,1,215,1,null,"2010-01-14T12:51:17",null,null,2,{"$f":"COUNTIF(top10Usrs[Top 10 Posters],tblPosts[[#This Row],[poster_id]])","v":1}]
[763,1,211,3116,null,"2010-01-14T13:54:22",null,null,12,{"$f":"COUNTIF(top10Usrs[Top 10 Posters],tblPosts[[#This Row],[poster_id]])","v":0}]
[764,1,212,2683,null,"2010-01-14T16:17:50",null,null,3,{"$f":"COUNTIF(top10Usrs[Top 10 Posters],tblPosts[[#This Row],[poster_id]])","v":0}]
[765,1,217,3090,null,"2010-01-14T19:54:03",null,null,1,{"$f":"COUNTIF(top10Usrs[Top 10 Posters],tblPosts[[#This Row],[poster_id]])","v":0}]
[766,1,211,3116,null,"2010-01-14T20:30:26",null,null,13,{"$f":"COUNTIF(top10Usrs[Top 10 Posters],tblPosts[[#This Row],[poster_id]])","v":0}]
[767,1,212,24,null,"2010-01-14T23:41:55",null,null,4,{"$f":"COUNTIF(top10Usrs[Top 10 Posters],tblPosts[[#This Row],[poster_id]])","v":1}]
[768,1,217,24,null,"2010-01-14T23:51:13",null,null,2,{"$f":"COUNTIF(top10Usrs[Top 10 Posters],tblPosts[[#This Row],[poster_id]])","v":1}]
[769,1,213,24,null,"2010-01-15T00:25:37",null,null,2,{"$f":"COUNTIF(top10Usrs[Top 10 Posters],tblPosts[[#This Row],[poster_id]])","v":1}]
[770,1,218,3130,null,"2010-01-15T08:01:12",null,null,1,{"$f":"COUNTIF(top10Usrs[Top 10 Posters],tblPosts[[#This Row],[poster_id]])","v":0}]
[771,1,219,876,null,"2010-01-15T08:22:04",null,null,1,{"$f":"COUNTIF(top10Usrs[Top 10 Posters],tblPosts[[#This Row],[poster_id]])","v":0}]
[772,1,220,3008,null,"2010-01-15T08:29:33",null,null,1,{"$f":"COUNTIF(top10Usrs[Top 10 Posters],tblPosts[[#This Row],[poster_id]])","v":0}]
[773,1,218,24,null,"2010-01-15T09:38:36",null,null,2,{"$f":"COUNTIF(top10Usrs[Top 10 Posters],tblPosts[[#This Row],[poster_id]])","v":1}]
[774,1,220,24,null,"2010-01-15T09:41:45",null,null,2,{"$f":"COUNTIF(top10Usrs[Top 10 Posters],tblPosts[[#This Row],[poster_id]])","v":1}]
[775,1,221,3131,null,"2010-01-15T09:48:55",null,null,1,{"$f":"COUNTIF(top10Usrs[Top 10 Posters],tblPosts[[#This Row],[poster_id]])","v":0}]
[776,1,221,24,null,"2010-01-15T10:12:38",null,null,2,{"$f":"COUNTIF(top10Usrs[Top 10 Posters],tblPosts[[#This Row],[poster_id]])","v":1}]
[777,1,219,24,null,"2010-01-15T10:25:13",null,null,2,{"$f":"COUNTIF(top10Usrs[Top 10 Posters],tblPosts[[#This Row],[poster_id]])","v":1}]
[778,1,219,2018,null,"2010-01-15T10:34:42",null,null,3,{"$f":"COUNTIF(top10Usrs[Top 10 Posters],tblPosts[[#This Row],[poster_id]])","v":0}]
[779,1,211,3116,null,"2010-01-15T10:59:22",null,null,14,{"$f":"COUNTIF(top10Usrs[Top 10 Posters],tblPosts[[#This Row],[poster_id]])","v":0}]
[780,1,222,3116,null,"2010-01-15T11:26:44",null,null,1,{"$f":"COUNTIF(top10Usrs[Top 10 Posters],tblPosts[[#This Row],[poster_id]])","v":0}]
[781,1,222,2758,null,"2010-01-15T13:16:13",null,null,2,{"$f":"COUNTIF(top10Usrs[Top 10 Posters],tblPosts[[#This Row],[poster_id]])","v":0}]
[782,1,213,3108,null,"2010-01-15T17:09:19",null,null,3,{"$f":"COUNTIF(top10Usrs[Top 10 Posters],tblPosts[[#This Row],[poster_id]])","v":0}]
[783,1,218,3130,null,"2010-01-15T18:39:36",null,null,3,{"$f":"COUNTIF(top10Usrs[Top 10 Posters],tblPosts[[#This Row],[poster_id]])","v":0}]
[784,1,218,1,null,"2010-01-15T19:50:41",null,null,4,{"$f":"COUNTIF(top10Usrs[Top 10 Posters],tblPosts[[#This Row],[poster_id]])","v":1}]
[785,1,218,3130,null,"2010-01-15T22:12:56",null,null,5,{"$f":"COUNTIF(top10Usrs[Top 10 Posters],tblPosts[[#This Row],[poster_id]])","v":0}]
[786,1,218,3130,null,"2010-01-15T22:32:02",null,null,6,{"$f":"COUNTIF(top10Usrs[Top 10 Posters],tblPosts[[#This Row],[poster_id]])","v":0}]
[787,1,223,3143,null,"2010-01-15T23:08:39",null,null,1,{"$f":"COUNTIF(top10Usrs[Top 10 Posters],tblPosts[[#This Row],[poster_id]])","v":0}]
[788,1,223,24,null,"2010-01-16T02:03:19",null,null,2,{"$f":"COUNTIF(top10Usrs[Top 10 Posters],tblPosts[[#This Row],[poster_id]])","v":1}]
[789,1,213,24,null,"2010-01-16T02:35:33",null,null,4,{"$f":"COUNTIF(top10Usrs[Top 10 Posters],tblPosts[[#This Row],[poster_id]])","v":1}]
[790,1,190,24,null,"2010-01-16T02:37:34",null,null,19,{"$f":"COUNTIF(top10Usrs[Top 10 Posters],tblPosts[[#This Row],[poster_id]])","v":1}]
[791,1,218,24,null,"2010-01-16T02:41:17",null,null,7,{"$f":"COUNTIF(top10Usrs[Top 10 Posters],tblPosts[[#This Row],[poster_id]])","v":1}]
[792,1,222,24,null,"2010-01-16T02:47:50",null,null,3,{"$f":"COUNTIF(top10Usrs[Top 10 Posters],tblPosts[[#This Row],[poster_id]])","v":1}]
[793,1,218,1,null,"2010-01-16T09:24:14",null,null,8,{"$f":"COUNTIF(top10Usrs[Top 10 Posters],tblPosts[[#This Row],[poster_id]])","v":1}]
[794,1,223,3143,null,"2010-01-16T15:48:12",null,null,3,{"$f":"COUNTIF(top10Usrs[Top 10 Posters],tblPosts[[#This Row],[poster_id]])","v":0}]
[795,1,223,1,null,"2010-01-16T18:28:24",null,null,4,{"$f":"COUNTIF(top10Usrs[Top 10 Posters],tblPosts[[#This Row],[poster_id]])","v":1}]
[796,1,213,3108,null,"2010-01-17T03:14:40",null,null,5,{"$f":"COUNTIF(top10Usrs[Top 10 Posters],tblPosts[[#This Row],[poster_id]])","v":0}]
[797,1,213,24,null,"2010-01-17T04:36:44",null,null,6,{"$f":"COUNTIF(top10Usrs[Top 10 Posters],tblPosts[[#This Row],[poster_id]])","v":1}]
[798,1,223,24,null,"2010-01-17T08:16:16",null,null,5,{"$f":"COUNTIF(top10Usrs[Top 10 Posters],tblPosts[[#This Row],[poster_id]])","v":1}]
[799,1,221,3078,null,"2010-01-17T12:29:51",null,null,3,{"$f":"COUNTIF(top10Usrs[Top 10 Posters],tblPosts[[#This Row],[poster_id]])","v":0}]
[800,1,224,3078,null,"2010-01-17T12:32:49",null,null,1,{"$f":"COUNTIF(top10Usrs[Top 10 Posters],tblPosts[[#This Row],[poster_id]])","v":0}]
[801,1,221,24,null,"2010-01-17T12:40:19",null,null,4,{"$f":"COUNTIF(top10Usrs[Top 10 Posters],tblPosts[[#This Row],[poster_id]])","v":1}]
[802,1,224,24,null,"2010-01-17T12:41:33",null,null,2,{"$f":"COUNTIF(top10Usrs[Top 10 Posters],tblPosts[[#This Row],[poster_id]])","v":1}]
[803,1,221,3078,null,"2010-01-17T12:49:42",null,null,5,{"$f":"COUNTIF(top10Usrs[Top 10 Posters],tblPosts[[#This Row],[poster_id]])","v":0}]
[804,1,221,24,null,"2010-01-17T14:49:58",null,null,6,{"$f":"COUNTIF(top10Usrs[Top 10 Posters],tblPosts[[#This Row],[poster_id]])","v":1}]
[805,1,225,3008,null,"2010-01-18T05:54:37",null,null,1,{"$f":"COUNTIF(top10Usrs[Top 10 Posters],tblPosts[[#This Row],[poster_id]])","v":0}]
[806,1,225,24,null,"2010-01-18T06:42:25",null,null,2,{"$f":"COUNTIF(top10Usrs[Top 10 Posters],tblPosts[[#This Row],[poster_id]])","v":1}]
[807,1,226,3191,null,"2010-01-18T08:46:29",null,null,1,{"$f":"COUNTIF(top10Usrs[Top 10 Posters],tblPosts[[#This Row],[poster_id]])","v":0}]
[808,1,226,24,null,"2010-01-18T09:02:33",null,null,2,{"$f":"COUNTIF(top10Usrs[Top 10 Posters],tblPosts[[#This Row],[poster_id]])","v":1}]
[809,1,226,3191,null,"2010-01-18T09:19:05",null,null,3,{"$f":"COUNTIF(top10Usrs[Top 10 Posters],tblPosts[[#This Row],[poster_id]])","v":0}]
[810,1,213,3108,null,"2010-01-18T14:20:08",null,null,7,{"$f":"COUNTIF(top10Usrs[Top 10 Posters],tblPosts[[#This Row],[poster_id]])","v":0}]
[811,1,213,24,null,"2010-01-18T15:10:45",null,null,8,{"$f":"COUNTIF(top10Usrs[Top 10 Posters],tblPosts[[#This Row],[poster_id]])","v":1}]
[812,1,212,2683,null,"2010-01-18T15:13:09",null,null,5,{"$f":"COUNTIF(top10Usrs[Top 10 Posters],tblPosts[[#This Row],[poster_id]])","v":0}]
[813,1,212,24,null,"2010-01-18T15:37:27",null,null,6,{"$f":"COUNTIF(top10Usrs[Top 10 Posters],tblPosts[[#This Row],[poster_id]])","v":1}]
[814,1,227,3185,null,"2010-01-18T16:33:44",null,null,1,{"$f":"COUNTIF(top10Usrs[Top 10 Posters],tblPosts[[#This Row],[poster_id]])","v":0}]
[815,1,227,1,null,"2010-01-18T18:59:53",null,null,2,{"$f":"COUNTIF(top10Usrs[Top 10 Posters],tblPosts[[#This Row],[poster_id]])","v":1}]
[816,1,226,3191,null,"2010-01-18T22:41:40",null,null,4,{"$f":"COUNTIF(top10Usrs[Top 10 Posters],tblPosts[[#This Row],[poster_id]])","v":0}]
[817,1,226,24,null,"2010-01-18T23:49:12",null,null,5,{"$f":"COUNTIF(top10Usrs[Top 10 Posters],tblPosts[[#This Row],[poster_id]])","v":1}]
[818,1,227,24,null,"2010-01-18T23:52:45",null,null,3,{"$f":"COUNTIF(top10Usrs[Top 10 Posters],tblPosts[[#This Row],[poster_id]])","v":1}]
[819,1,226,3191,null,"2010-01-19T01:12:53",null,null,6,{"$f":"COUNTIF(top10Usrs[Top 10 Posters],tblPosts[[#This Row],[poster_id]])","v":0}]
[820,1,228,2835,null,"2010-01-19T02:49:24",null,null,1,{"$f":"COUNTIF(top10Usrs[Top 10 Posters],tblPosts[[#This Row],[poster_id]])","v":0}]
[821,1,225,3008,null,"2010-01-19T04:31:48",null,null,3,{"$f":"COUNTIF(top10Usrs[Top 10 Posters],tblPosts[[#This Row],[poster_id]])","v":0}]
[822,1,228,24,null,"2010-01-19T08:25:16",null,null,2,{"$f":"COUNTIF(top10Usrs[Top 10 Posters],tblPosts[[#This Row],[poster_id]])","v":1}]
[823,1,229,2079,null,"2010-01-19T09:15:36",null,null,1,{"$f":"COUNTIF(top10Usrs[Top 10 Posters],tblPosts[[#This Row],[poster_id]])","v":0}]
[824,1,229,24,null,"2010-01-19T09:53:02",null,null,2,{"$f":"COUNTIF(top10Usrs[Top 10 Posters],tblPosts[[#This Row],[poster_id]])","v":1}]
[825,1,228,2835,null,"2010-01-19T10:58:01",null,null,3,{"$f":"COUNTIF(top10Usrs[Top 10 Posters],tblPosts[[#This Row],[poster_id]])","v":0}]
[826,1,229,2079,null,"2010-01-19T11:46:54",null,null,3,{"$f":"COUNTIF(top10Usrs[Top 10 Posters],tblPosts[[#This Row],[poster_id]])","v":0}]
[827,1,132,2079,null,"2010-01-19T12:04:32",null,null,3,{"$f":"COUNTIF(top10Usrs[Top 10 Posters],tblPosts[[#This Row],[poster_id]])","v":0}]
[828,1,218,1165,null,"2010-01-19T13:56:15",null,null,9,{"$f":"COUNTIF(top10Usrs[Top 10 Posters],tblPosts[[#This Row],[poster_id]])","v":0}]
[829,1,229,1,null,"2010-01-19T14:57:05",null,null,4,{"$f":"COUNTIF(top10Usrs[Top 10 Posters],tblPosts[[#This Row],[poster_id]])","v":1}]
[830,1,229,2865,null,"2010-01-19T16:57:14",null,null,5,{"$f":"COUNTIF(top10Usrs[Top 10 Posters],tblPosts[[#This Row],[poster_id]])","v":0}]
[831,1,230,3226,null,"2010-01-19T20:01:31",null,null,1,{"$f":"COUNTIF(top10Usrs[Top 10 Posters],tblPosts[[#This Row],[poster_id]])","v":0}]
[832,1,218,24,null,"2010-01-19T23:46:26",null,null,10,{"$f":"COUNTIF(top10Usrs[Top 10 Posters],tblPosts[[#This Row],[poster_id]])","v":1}]
[833,1,218,3130,null,"2010-01-20T01:31:11",null,null,11,{"$f":"COUNTIF(top10Usrs[Top 10 Posters],tblPosts[[#This Row],[poster_id]])","v":0}]
[834,1,218,3130,null,"2010-01-20T01:33:40",null,null,12,{"$f":"COUNTIF(top10Usrs[Top 10 Posters],tblPosts[[#This Row],[poster_id]])","v":0}]
[835,1,229,2079,null,"2010-01-20T03:37:57",null,null,6,{"$f":"COUNTIF(top10Usrs[Top 10 Posters],tblPosts[[#This Row],[poster_id]])","v":0}]
[836,1,230,3226,null,"2010-01-20T05:27:48",null,null,2,{"$f":"COUNTIF(top10Usrs[Top 10 Posters],tblPosts[[#This Row],[poster_id]])","v":0}]
[837,1,230,24,null,"2010-01-20T07:03:02",null,null,3,{"$f":"COUNTIF(top10Usrs[Top 10 Posters],tblPosts[[#This Row],[poster_id]])","v":1}]
[838,1,229,24,null,"2010-01-20T08:02:39",null,null,7,{"$f":"COUNTIF(top10Usrs[Top 10 Posters],tblPosts[[#This Row],[poster_id]])","v":1}]
[839,1,231,3235,null,"2010-01-20T09:12:11",null,null,1,{"$f":"COUNTIF(top10Usrs[Top 10 Posters],tblPosts[[#This Row],[poster_id]])","v":0}]
[840,1,231,24,null,"2010-01-20T12:18:20",null,null,2,{"$f":"COUNTIF(top10Usrs[Top 10 Posters],tblPosts[[#This Row],[poster_id]])","v":1}]
[841,1,231,2998,null,"2010-01-20T13:21:36",null,null,3,{"$f":"COUNTIF(top10Usrs[Top 10 Posters],tblPosts[[#This Row],[poster_id]])","v":0}]
[842,1,87,24,null,"2010-01-20T13:39:23",null,null,2,{"$f":"COUNTIF(top10Usrs[Top 10 Posters],tblPosts[[#This Row],[poster_id]])","v":1}]
[843,1,70,24,null,"2010-01-20T13:49:10",null,null,2,{"$f":"COUNTIF(top10Usrs[Top 10 Posters],tblPosts[[#This Row],[poster_id]])","v":1}]
[844,4,2,3241,null,"2010-01-20T13:59:50",null,null,35,{"$f":"COUNTIF(top10Usrs[Top 10 Posters],tblPosts[[#This Row],[poster_id]])","v":0}]
[845,1,116,24,null,"2010-01-20T14:00:42",null,null,2,{"$f":"COUNTIF(top10Usrs[Top 10 Posters],tblPosts[[#This Row],[poster_id]])","v":1}]
[846,1,232,376,null,"2010-01-20T15:02:06",null,null,1,{"$f":"COUNTIF(top10Usrs[Top 10 Posters],tblPosts[[#This Row],[poster_id]])","v":0}]
[847,1,212,2683,null,"2010-01-20T15:07:48",null,null,7,{"$f":"COUNTIF(top10Usrs[Top 10 Posters],tblPosts[[#This Row],[poster_id]])","v":0}]
[848,1,212,24,null,"2010-01-20T15:31:52",null,null,8,{"$f":"COUNTIF(top10Usrs[Top 10 Posters],tblPosts[[#This Row],[poster_id]])","v":1}]
[849,1,232,24,null,"2010-01-20T15:46:35",null,null,2,{"$f":"COUNTIF(top10Usrs[Top 10 Posters],tblPosts[[#This Row],[poster_id]])","v":1}]
[850,1,230,3249,null,"2010-01-20T20:22:12",null,null,4,{"$f":"COUNTIF(top10Usrs[Top 10 Posters],tblPosts[[#This Row],[poster_id]])","v":0}]
[851,1,230,3249,null,"2010-01-20T22:11:26",null,null,5,{"$f":"COUNTIF(top10Usrs[Top 10 Posters],tblPosts[[#This Row],[poster_id]])","v":0}]
[852,1,233,3256,null,"2010-01-20T23:43:51",null,null,1,{"$f":"COUNTIF(top10Usrs[Top 10 Posters],tblPosts[[#This Row],[poster_id]])","v":0}]
[853,1,233,24,null,"2010-01-21T02:54:41",null,null,2,{"$f":"COUNTIF(top10Usrs[Top 10 Posters],tblPosts[[#This Row],[poster_id]])","v":1}]
[854,1,234,3008,null,"2010-01-21T04:28:03",null,null,1,{"$f":"COUNTIF(top10Usrs[Top 10 Posters],tblPosts[[#This Row],[poster_id]])","v":0}]
[855,1,234,24,null,"2010-01-21T05:32:52",null,null,2,{"$f":"COUNTIF(top10Usrs[Top 10 Posters],tblPosts[[#This Row],[poster_id]])","v":1}]
[856,1,212,2683,null,"2010-01-21T09:04:15",null,null,9,{"$f":"COUNTIF(top10Usrs[Top 10 Posters],tblPosts[[#This Row],[poster_id]])","v":0}]
[857,1,233,1,null,"2010-01-21T09:36:33",null,null,3,{"$f":"COUNTIF(top10Usrs[Top 10 Posters],tblPosts[[#This Row],[poster_id]])","v":1}]
[858,1,235,27,null,"2010-01-21T09:38:47",null,null,1,{"$f":"COUNTIF(top10Usrs[Top 10 Posters],tblPosts[[#This Row],[poster_id]])","v":0}]
[859,1,211,1886,null,"2010-01-21T10:02:49",null,null,15,{"$f":"COUNTIF(top10Usrs[Top 10 Posters],tblPosts[[#This Row],[poster_id]])","v":0}]
[860,1,236,1886,null,"2010-01-21T10:20:53",null,null,1,{"$f":"COUNTIF(top10Usrs[Top 10 Posters],tblPosts[[#This Row],[poster_id]])","v":0}]
[861,1,211,2758,null,"2010-01-21T13:19:22",null,null,16,{"$f":"COUNTIF(top10Usrs[Top 10 Posters],tblPosts[[#This Row],[poster_id]])","v":0}]
[862,1,198,3005,null,"2010-01-21T15:53:30",null,null,4,{"$f":"COUNTIF(top10Usrs[Top 10 Posters],tblPosts[[#This Row],[poster_id]])","v":0}]
[863,1,237,3287,null,"2010-01-22T12:30:38",null,null,1,{"$f":"COUNTIF(top10Usrs[Top 10 Posters],tblPosts[[#This Row],[poster_id]])","v":0}]
[864,1,237,1,null,"2010-01-22T14:02:25",null,null,2,{"$f":"COUNTIF(top10Usrs[Top 10 Posters],tblPosts[[#This Row],[poster_id]])","v":1}]
[865,1,237,24,null,"2010-01-22T14:36:36",null,null,3,{"$f":"COUNTIF(top10Usrs[Top 10 Posters],tblPosts[[#This Row],[poster_id]])","v":1}]
[866,1,238,3290,null,"2010-01-22T17:29:29",null,null,1,{"$f":"COUNTIF(top10Usrs[Top 10 Posters],tblPosts[[#This Row],[poster_id]])","v":0}]
[867,1,238,3290,null,"2010-01-22T18:30:34",null,null,2,{"$f":"COUNTIF(top10Usrs[Top 10 Posters],tblPosts[[#This Row],[poster_id]])","v":0}]
[868,4,2,3290,null,"2010-01-22T18:50:38",null,null,36,{"$f":"COUNTIF(top10Usrs[Top 10 Posters],tblPosts[[#This Row],[poster_id]])","v":0}]
[869,1,239,3307,null,"2010-01-23T14:19:00",null,null,1,{"$f":"COUNTIF(top10Usrs[Top 10 Posters],tblPosts[[#This Row],[poster_id]])","v":0}]
[870,1,213,3312,null,"2010-01-23T20:26:22",null,null,9,{"$f":"COUNTIF(top10Usrs[Top 10 Posters],tblPosts[[#This Row],[poster_id]])","v":0}]
[871,1,213,24,null,"2010-01-24T02:49:19",null,null,10,{"$f":"COUNTIF(top10Usrs[Top 10 Posters],tblPosts[[#This Row],[poster_id]])","v":1}]
[872,1,239,24,null,"2010-01-24T02:54:05",null,null,2,{"$f":"COUNTIF(top10Usrs[Top 10 Posters],tblPosts[[#This Row],[poster_id]])","v":1}]
[873,1,236,24,null,"2010-01-24T10:54:32",null,null,2,{"$f":"COUNTIF(top10Usrs[Top 10 Posters],tblPosts[[#This Row],[poster_id]])","v":1}]
[874,1,240,3346,null,"2010-01-25T12:20:26",null,null,1,{"$f":"COUNTIF(top10Usrs[Top 10 Posters],tblPosts[[#This Row],[poster_id]])","v":0}]
[875,1,240,2018,null,"2010-01-25T12:44:19",null,null,2,{"$f":"COUNTIF(top10Usrs[Top 10 Posters],tblPosts[[#This Row],[poster_id]])","v":0}]
[876,1,240,2758,null,"2010-01-25T12:55:28",null,null,3,{"$f":"COUNTIF(top10Usrs[Top 10 Posters],tblPosts[[#This Row],[poster_id]])","v":0}]
[877,1,238,1,null,"2010-01-26T09:16:13",null,null,3,{"$f":"COUNTIF(top10Usrs[Top 10 Posters],tblPosts[[#This Row],[poster_id]])","v":1}]
[878,1,241,3371,null,"2010-01-26T16:33:58",null,null,1,{"$f":"COUNTIF(top10Usrs[Top 10 Posters],tblPosts[[#This Row],[poster_id]])","v":0}]
[879,1,241,3371,null,"2010-01-26T16:35:03",null,null,2,{"$f":"COUNTIF(top10Usrs[Top 10 Posters],tblPosts[[#This Row],[poster_id]])","v":0}]
[880,1,241,3249,null,"2010-01-26T20:20:48",null,null,3,{"$f":"COUNTIF(top10Usrs[Top 10 Posters],tblPosts[[#This Row],[poster_id]])","v":0}]
[881,1,241,2018,null,"2010-01-26T21:07:46",null,null,4,{"$f":"COUNTIF(top10Usrs[Top 10 Posters],tblPosts[[#This Row],[poster_id]])","v":0}]
[882,2,242,3378,null,"2010-01-26T22:36:46",null,null,1,{"$f":"COUNTIF(top10Usrs[Top 10 Posters],tblPosts[[#This Row],[poster_id]])","v":0}]
[883,1,241,3371,null,"2010-01-26T23:08:09",null,null,5,{"$f":"COUNTIF(top10Usrs[Top 10 Posters],tblPosts[[#This Row],[poster_id]])","v":0}]
[884,1,243,3385,null,"2010-01-27T05:52:20",null,null,1,{"$f":"COUNTIF(top10Usrs[Top 10 Posters],tblPosts[[#This Row],[poster_id]])","v":0}]
[885,1,244,2683,null,"2010-01-27T10:28:11",null,null,1,{"$f":"COUNTIF(top10Usrs[Top 10 Posters],tblPosts[[#This Row],[poster_id]])","v":0}]
[886,1,244,24,null,"2010-01-27T11:50:22",null,null,2,{"$f":"COUNTIF(top10Usrs[Top 10 Posters],tblPosts[[#This Row],[poster_id]])","v":1}]
[887,1,241,3249,null,"2010-01-27T12:41:31",null,null,6,{"$f":"COUNTIF(top10Usrs[Top 10 Posters],tblPosts[[#This Row],[poster_id]])","v":0}]
[888,1,245,1573,null,"2010-01-27T13:15:20",null,null,1,{"$f":"COUNTIF(top10Usrs[Top 10 Posters],tblPosts[[#This Row],[poster_id]])","v":0}]
[889,1,241,24,null,"2010-01-27T13:29:20",null,null,7,{"$f":"COUNTIF(top10Usrs[Top 10 Posters],tblPosts[[#This Row],[poster_id]])","v":1}]
[890,1,245,24,null,"2010-01-27T13:34:00",null,null,2,{"$f":"COUNTIF(top10Usrs[Top 10 Posters],tblPosts[[#This Row],[poster_id]])","v":1}]
[891,1,241,3371,null,"2010-01-27T13:58:56",null,null,8,{"$f":"COUNTIF(top10Usrs[Top 10 Posters],tblPosts[[#This Row],[poster_id]])","v":0}]
[892,1,241,3249,null,"2010-01-27T20:33:40",null,null,9,{"$f":"COUNTIF(top10Usrs[Top 10 Posters],tblPosts[[#This Row],[poster_id]])","v":0}]
[893,1,241,3249,null,"2010-01-28T02:40:58",null,null,10,{"$f":"COUNTIF(top10Usrs[Top 10 Posters],tblPosts[[#This Row],[poster_id]])","v":0}]
[894,2,242,1,null,"2010-01-28T11:53:40",null,null,2,{"$f":"COUNTIF(top10Usrs[Top 10 Posters],tblPosts[[#This Row],[poster_id]])","v":1}]
[895,1,241,3249,null,"2010-01-28T12:45:01",null,null,11,{"$f":"COUNTIF(top10Usrs[Top 10 Posters],tblPosts[[#This Row],[poster_id]])","v":0}]
[896,1,246,3108,null,"2010-01-28T16:52:05",null,null,1,{"$f":"COUNTIF(top10Usrs[Top 10 Posters],tblPosts[[#This Row],[poster_id]])","v":0}]
[897,1,246,3249,null,"2010-01-28T17:18:52",null,null,2,{"$f":"COUNTIF(top10Usrs[Top 10 Posters],tblPosts[[#This Row],[poster_id]])","v":0}]
[898,1,246,3108,null,"2010-01-28T17:50:31",null,null,3,{"$f":"COUNTIF(top10Usrs[Top 10 Posters],tblPosts[[#This Row],[poster_id]])","v":0}]
[899,1,246,3249,null,"2010-01-28T18:01:29",null,null,4,{"$f":"COUNTIF(top10Usrs[Top 10 Posters],tblPosts[[#This Row],[poster_id]])","v":0}]
[900,1,246,3108,null,"2010-01-28T18:40:11",null,null,5,{"$f":"COUNTIF(top10Usrs[Top 10 Posters],tblPosts[[#This Row],[poster_id]])","v":0}]
[901,1,246,3249,null,"2010-01-28T18:58:22",null,null,6,{"$f":"COUNTIF(top10Usrs[Top 10 Posters],tblPosts[[#This Row],[poster_id]])","v":0}]
[902,1,247,3008,null,"2010-01-29T05:10:25",null,null,1,{"$f":"COUNTIF(top10Usrs[Top 10 Posters],tblPosts[[#This Row],[poster_id]])","v":0}]
[904,1,247,24,null,"2010-01-29T05:23:08",null,null,3,{"$f":"COUNTIF(top10Usrs[Top 10 Posters],tblPosts[[#This Row],[poster_id]])","v":1}]
[903,1,247,24,null,"2010-01-29T05:21:56",null,null,2,{"$f":"COUNTIF(top10Usrs[Top 10 Posters],tblPosts[[#This Row],[poster_id]])","v":1}]
[905,3,248,3434,null,"2010-01-30T06:31:02",null,null,1,{"$f":"COUNTIF(top10Usrs[Top 10 Posters],tblPosts[[#This Row],[poster_id]])","v":0}]
[906,3,248,24,null,"2010-01-30T12:00:51",null,null,2,{"$f":"COUNTIF(top10Usrs[Top 10 Posters],tblPosts[[#This Row],[poster_id]])","v":1}]
[907,3,248,3434,null,"2010-01-30T12:29:21",null,null,3,{"$f":"COUNTIF(top10Usrs[Top 10 Posters],tblPosts[[#This Row],[poster_id]])","v":0}]
[908,3,248,24,null,"2010-01-30T14:01:27",null,null,4,{"$f":"COUNTIF(top10Usrs[Top 10 Posters],tblPosts[[#This Row],[poster_id]])","v":1}]
[909,1,249,3437,null,"2010-01-30T14:09:58",null,null,0,{"$f":"COUNTIF(top10Usrs[Top 10 Posters],tblPosts[[#This Row],[poster_id]])","v":0}]
[910,1,250,3143,null,"2010-02-01T19:58:53",null,null,1,{"$f":"COUNTIF(top10Usrs[Top 10 Posters],tblPosts[[#This Row],[poster_id]])","v":0}]
[911,1,52,3479,null,"2010-02-01T20:17:09",null,null,5,{"$f":"COUNTIF(top10Usrs[Top 10 Posters],tblPosts[[#This Row],[poster_id]])","v":0}]
[912,1,251,2369,null,"2010-02-01T23:29:15",null,null,1,{"$f":"COUNTIF(top10Usrs[Top 10 Posters],tblPosts[[#This Row],[poster_id]])","v":0}]
[913,1,52,24,null,"2010-02-01T23:46:12",null,null,6,{"$f":"COUNTIF(top10Usrs[Top 10 Posters],tblPosts[[#This Row],[poster_id]])","v":1}]
[914,1,250,24,null,"2010-02-02T00:33:41",null,null,2,{"$f":"COUNTIF(top10Usrs[Top 10 Posters],tblPosts[[#This Row],[poster_id]])","v":1}]
[915,1,251,24,null,"2010-02-02T00:36:58",null,null,2,{"$f":"COUNTIF(top10Usrs[Top 10 Posters],tblPosts[[#This Row],[poster_id]])","v":1}]
[916,1,250,3143,null,"2010-02-02T01:01:24",null,null,3,{"$f":"COUNTIF(top10Usrs[Top 10 Posters],tblPosts[[#This Row],[poster_id]])","v":0}]
[917,1,251,2369,null,"2010-02-02T03:53:38",null,null,3,{"$f":"COUNTIF(top10Usrs[Top 10 Posters],tblPosts[[#This Row],[poster_id]])","v":0}]
[918,1,250,176,null,"2010-02-02T07:23:48",null,null,4,{"$f":"COUNTIF(top10Usrs[Top 10 Posters],tblPosts[[#This Row],[poster_id]])","v":0}]
[919,1,251,2865,null,"2010-02-02T07:51:08",null,null,4,{"$f":"COUNTIF(top10Usrs[Top 10 Posters],tblPosts[[#This Row],[poster_id]])","v":0}]
[920,1,251,2758,null,"2010-02-02T08:29:29",null,null,5,{"$f":"COUNTIF(top10Usrs[Top 10 Posters],tblPosts[[#This Row],[poster_id]])","v":0}]
[921,4,2,3492,null,"2010-02-02T14:19:06",null,null,37,{"$f":"COUNTIF(top10Usrs[Top 10 Posters],tblPosts[[#This Row],[poster_id]])","v":0}]
[922,1,250,3143,null,"2010-02-02T17:24:56",null,null,5,{"$f":"COUNTIF(top10Usrs[Top 10 Posters],tblPosts[[#This Row],[poster_id]])","v":0}]
[923,1,251,3249,null,"2010-02-02T17:35:53",null,null,6,{"$f":"COUNTIF(top10Usrs[Top 10 Posters],tblPosts[[#This Row],[poster_id]])","v":0}]
[924,1,252,3501,null,"2010-02-03T01:21:37",null,null,1,{"$f":"COUNTIF(top10Usrs[Top 10 Posters],tblPosts[[#This Row],[poster_id]])","v":0}]
[925,1,252,24,null,"2010-02-03T06:08:04",null,null,2,{"$f":"COUNTIF(top10Usrs[Top 10 Posters],tblPosts[[#This Row],[poster_id]])","v":1}]
[926,1,231,3235,null,"2010-02-03T08:48:30",null,null,4,{"$f":"COUNTIF(top10Usrs[Top 10 Posters],tblPosts[[#This Row],[poster_id]])","v":0}]
[927,1,253,3235,null,"2010-02-03T09:00:25",null,null,1,{"$f":"COUNTIF(top10Usrs[Top 10 Posters],tblPosts[[#This Row],[poster_id]])","v":0}]
[928,1,253,3235,null,"2010-02-03T11:16:31",null,null,2,{"$f":"COUNTIF(top10Usrs[Top 10 Posters],tblPosts[[#This Row],[poster_id]])","v":0}]
[929,1,250,24,null,"2010-02-03T12:53:59",null,null,6,{"$f":"COUNTIF(top10Usrs[Top 10 Posters],tblPosts[[#This Row],[poster_id]])","v":1}]
[930,1,250,24,null,"2010-02-03T12:54:54",null,null,7,{"$f":"COUNTIF(top10Usrs[Top 10 Posters],tblPosts[[#This Row],[poster_id]])","v":1}]
[931,3,248,3434,null,"2010-02-03T13:32:48",null,null,5,{"$f":"COUNTIF(top10Usrs[Top 10 Posters],tblPosts[[#This Row],[poster_id]])","v":0}]
[932,3,248,24,null,"2010-02-03T13:37:31",null,null,6,{"$f":"COUNTIF(top10Usrs[Top 10 Posters],tblPosts[[#This Row],[poster_id]])","v":1}]
[933,1,254,3496,null,"2010-02-03T21:08:39",null,null,1,{"$f":"COUNTIF(top10Usrs[Top 10 Posters],tblPosts[[#This Row],[poster_id]])","v":0}]
[934,1,254,1,null,"2010-02-03T21:28:53",null,null,2,{"$f":"COUNTIF(top10Usrs[Top 10 Posters],tblPosts[[#This Row],[poster_id]])","v":1}]
[935,1,255,3535,null,"2010-02-04T19:45:29",null,null,1,{"$f":"COUNTIF(top10Usrs[Top 10 Posters],tblPosts[[#This Row],[poster_id]])","v":0}]
[936,1,254,3496,null,"2010-02-04T21:13:25",null,null,3,{"$f":"COUNTIF(top10Usrs[Top 10 Posters],tblPosts[[#This Row],[poster_id]])","v":0}]
[937,1,256,1802,null,"2010-02-04T21:16:54",null,null,1,{"$f":"COUNTIF(top10Usrs[Top 10 Posters],tblPosts[[#This Row],[poster_id]])","v":0}]
[938,1,254,24,null,"2010-02-05T06:17:41",null,null,4,{"$f":"COUNTIF(top10Usrs[Top 10 Posters],tblPosts[[#This Row],[poster_id]])","v":1}]
[939,1,255,24,null,"2010-02-05T06:33:45",null,null,2,{"$f":"COUNTIF(top10Usrs[Top 10 Posters],tblPosts[[#This Row],[poster_id]])","v":1}]
[940,1,257,1880,null,"2010-02-05T09:42:28",null,null,1,{"$f":"COUNTIF(top10Usrs[Top 10 Posters],tblPosts[[#This Row],[poster_id]])","v":0}]
[941,1,254,3496,null,"2010-02-05T10:32:30",null,null,5,{"$f":"COUNTIF(top10Usrs[Top 10 Posters],tblPosts[[#This Row],[poster_id]])","v":0}]
[942,1,257,24,null,"2010-02-05T11:17:02",null,null,2,{"$f":"COUNTIF(top10Usrs[Top 10 Posters],tblPosts[[#This Row],[poster_id]])","v":1}]
[943,1,254,3546,null,"2010-02-05T12:40:19",null,null,6,{"$f":"COUNTIF(top10Usrs[Top 10 Posters],tblPosts[[#This Row],[poster_id]])","v":0}]
[944,1,254,24,null,"2010-02-05T12:58:33",null,null,7,{"$f":"COUNTIF(top10Usrs[Top 10 Posters],tblPosts[[#This Row],[poster_id]])","v":1}]
[945,1,250,3546,null,"2010-02-06T08:17:49",null,null,8,{"$f":"COUNTIF(top10Usrs[Top 10 Posters],tblPosts[[#This Row],[poster_id]])","v":0}]
[946,1,258,3569,null,"2010-02-07T04:06:29",null,null,1,{"$f":"COUNTIF(top10Usrs[Top 10 Posters],tblPosts[[#This Row],[poster_id]])","v":0}]
[947,1,258,24,null,"2010-02-07T06:54:50",null,null,2,{"$f":"COUNTIF(top10Usrs[Top 10 Posters],tblPosts[[#This Row],[poster_id]])","v":1}]
[948,3,259,3575,null,"2010-02-07T08:12:23",null,null,1,{"$f":"COUNTIF(top10Usrs[Top 10 Posters],tblPosts[[#This Row],[poster_id]])","v":0}]
[949,1,258,3569,null,"2010-02-07T10:20:16",null,null,3,{"$f":"COUNTIF(top10Usrs[Top 10 Posters],tblPosts[[#This Row],[poster_id]])","v":0}]
[950,1,258,24,null,"2010-02-07T11:20:07",null,null,4,{"$f":"COUNTIF(top10Usrs[Top 10 Posters],tblPosts[[#This Row],[poster_id]])","v":1}]
[951,3,259,24,null,"2010-02-07T11:39:56",null,null,2,{"$f":"COUNTIF(top10Usrs[Top 10 Posters],tblPosts[[#This Row],[poster_id]])","v":1}]
[952,3,259,3575,null,"2010-02-07T14:35:40",null,null,3,{"$f":"COUNTIF(top10Usrs[Top 10 Posters],tblPosts[[#This Row],[poster_id]])","v":0}]
[953,3,248,3434,null,"2010-02-07T14:50:01",null,null,7,{"$f":"COUNTIF(top10Usrs[Top 10 Posters],tblPosts[[#This Row],[poster_id]])","v":0}]
[954,3,248,24,null,"2010-02-08T00:24:12",null,null,8,{"$f":"COUNTIF(top10Usrs[Top 10 Posters],tblPosts[[#This Row],[poster_id]])","v":1}]
[955,1,260,1886,null,"2010-02-09T08:27:06",null,null,1,{"$f":"COUNTIF(top10Usrs[Top 10 Posters],tblPosts[[#This Row],[poster_id]])","v":0}]
[956,1,260,2758,null,"2010-02-09T08:49:20",null,null,2,{"$f":"COUNTIF(top10Usrs[Top 10 Posters],tblPosts[[#This Row],[poster_id]])","v":0}]
[957,1,260,1886,null,"2010-02-09T09:05:34",null,null,3,{"$f":"COUNTIF(top10Usrs[Top 10 Posters],tblPosts[[#This Row],[poster_id]])","v":0}]
[958,1,260,1,null,"2010-02-09T09:43:21",null,null,4,{"$f":"COUNTIF(top10Usrs[Top 10 Posters],tblPosts[[#This Row],[poster_id]])","v":1}]
[959,1,260,1886,null,"2010-02-09T09:52:41",null,null,5,{"$f":"COUNTIF(top10Usrs[Top 10 Posters],tblPosts[[#This Row],[poster_id]])","v":0}]
[960,1,260,2758,null,"2010-02-09T12:12:02",null,null,6,{"$f":"COUNTIF(top10Usrs[Top 10 Posters],tblPosts[[#This Row],[poster_id]])","v":0}]
[961,1,254,3496,null,"2010-02-09T20:00:57",null,null,8,{"$f":"COUNTIF(top10Usrs[Top 10 Posters],tblPosts[[#This Row],[poster_id]])","v":0}]
[962,1,260,1886,null,"2010-02-10T02:54:36",null,null,7,{"$f":"COUNTIF(top10Usrs[Top 10 Posters],tblPosts[[#This Row],[poster_id]])","v":0}]
[963,1,260,1886,null,"2010-02-10T04:54:43",null,null,8,{"$f":"COUNTIF(top10Usrs[Top 10 Posters],tblPosts[[#This Row],[poster_id]])","v":0}]
[964,1,260,2018,null,"2010-02-10T08:10:53",null,null,9,{"$f":"COUNTIF(top10Usrs[Top 10 Posters],tblPosts[[#This Row],[poster_id]])","v":0}]
[965,1,260,1886,null,"2010-02-10T08:58:45",null,null,10,{"$f":"COUNTIF(top10Usrs[Top 10 Posters],tblPosts[[#This Row],[poster_id]])","v":0}]
[966,1,260,2758,null,"2010-02-10T12:29:15",null,null,11,{"$f":"COUNTIF(top10Usrs[Top 10 Posters],tblPosts[[#This Row],[poster_id]])","v":0}]
[967,1,260,1886,null,"2010-02-10T15:34:11",null,null,12,{"$f":"COUNTIF(top10Usrs[Top 10 Posters],tblPosts[[#This Row],[poster_id]])","v":0}]
[968,3,248,3434,null,"2010-02-10T17:18:04",null,null,9,{"$f":"COUNTIF(top10Usrs[Top 10 Posters],tblPosts[[#This Row],[poster_id]])","v":0}]
[969,1,261,3621,null,"2010-02-10T17:42:09",null,null,1,{"$f":"COUNTIF(top10Usrs[Top 10 Posters],tblPosts[[#This Row],[poster_id]])","v":0}]
[970,1,261,2865,null,"2010-02-10T20:58:30",null,null,2,{"$f":"COUNTIF(top10Usrs[Top 10 Posters],tblPosts[[#This Row],[poster_id]])","v":0}]
[971,1,262,3632,null,"2010-02-11T06:58:53",null,null,1,{"$f":"COUNTIF(top10Usrs[Top 10 Posters],tblPosts[[#This Row],[poster_id]])","v":0}]
[972,1,263,3633,null,"2010-02-11T07:47:58",null,null,1,{"$f":"COUNTIF(top10Usrs[Top 10 Posters],tblPosts[[#This Row],[poster_id]])","v":0}]
[973,1,261,1,null,"2010-02-11T09:26:08",null,null,3,{"$f":"COUNTIF(top10Usrs[Top 10 Posters],tblPosts[[#This Row],[poster_id]])","v":1}]
[974,1,264,1886,null,"2010-02-11T12:02:52",null,null,1,{"$f":"COUNTIF(top10Usrs[Top 10 Posters],tblPosts[[#This Row],[poster_id]])","v":0}]
[975,1,264,24,null,"2010-02-11T13:27:52",null,null,2,{"$f":"COUNTIF(top10Usrs[Top 10 Posters],tblPosts[[#This Row],[poster_id]])","v":1}]
[976,1,264,24,null,"2010-02-11T13:39:24",null,null,3,{"$f":"COUNTIF(top10Usrs[Top 10 Posters],tblPosts[[#This Row],[poster_id]])","v":1}]
[977,1,262,24,null,"2010-02-11T14:12:50",null,null,2,{"$f":"COUNTIF(top10Usrs[Top 10 Posters],tblPosts[[#This Row],[poster_id]])","v":1}]
[978,1,265,3646,null,"2010-02-12T09:06:41",null,null,1,{"$f":"COUNTIF(top10Usrs[Top 10 Posters],tblPosts[[#This Row],[poster_id]])","v":0}]
[979,4,2,3646,null,"2010-02-12T09:23:25",null,null,38,{"$f":"COUNTIF(top10Usrs[Top 10 Posters],tblPosts[[#This Row],[poster_id]])","v":0}]
[980,1,265,24,null,"2010-02-12T09:54:58",null,null,2,{"$f":"COUNTIF(top10Usrs[Top 10 Posters],tblPosts[[#This Row],[poster_id]])","v":1}]
[981,1,263,24,null,"2010-02-12T11:08:22",null,null,2,{"$f":"COUNTIF(top10Usrs[Top 10 Posters],tblPosts[[#This Row],[poster_id]])","v":1}]
[982,1,266,1573,null,"2010-02-12T13:46:05",null,null,1,{"$f":"COUNTIF(top10Usrs[Top 10 Posters],tblPosts[[#This Row],[poster_id]])","v":0}]
[983,1,266,2018,null,"2010-02-12T14:18:26",null,null,2,{"$f":"COUNTIF(top10Usrs[Top 10 Posters],tblPosts[[#This Row],[poster_id]])","v":0}]
[984,1,266,24,null,"2010-02-12T15:09:36",null,null,3,{"$f":"COUNTIF(top10Usrs[Top 10 Posters],tblPosts[[#This Row],[poster_id]])","v":1}]
[985,1,265,3646,null,"2010-02-13T07:05:59",null,null,3,{"$f":"COUNTIF(top10Usrs[Top 10 Posters],tblPosts[[#This Row],[poster_id]])","v":0}]
[986,1,265,3646,null,"2010-02-13T08:55:38",null,null,4,{"$f":"COUNTIF(top10Usrs[Top 10 Posters],tblPosts[[#This Row],[poster_id]])","v":0}]
[987,1,262,3632,null,"2010-02-14T07:36:41",null,null,3,{"$f":"COUNTIF(top10Usrs[Top 10 Posters],tblPosts[[#This Row],[poster_id]])","v":0}]
[988,1,262,24,null,"2010-02-14T09:39:27",null,null,4,{"$f":"COUNTIF(top10Usrs[Top 10 Posters],tblPosts[[#This Row],[poster_id]])","v":1}]
[989,1,267,3713,null,"2010-02-15T10:04:47",null,null,1,{"$f":"COUNTIF(top10Usrs[Top 10 Posters],tblPosts[[#This Row],[poster_id]])","v":0}]
[990,1,267,24,null,"2010-02-15T11:58:42",null,null,2,{"$f":"COUNTIF(top10Usrs[Top 10 Posters],tblPosts[[#This Row],[poster_id]])","v":1}]
[991,1,268,2369,null,"2010-02-15T20:03:17",null,null,1,{"$f":"COUNTIF(top10Usrs[Top 10 Posters],tblPosts[[#This Row],[poster_id]])","v":0}]
[992,1,268,2369,null,"2010-02-15T21:31:07",null,null,2,{"$f":"COUNTIF(top10Usrs[Top 10 Posters],tblPosts[[#This Row],[poster_id]])","v":0}]
[993,1,269,1159,null,"2010-02-16T01:47:44",null,null,1,{"$f":"COUNTIF(top10Usrs[Top 10 Posters],tblPosts[[#This Row],[poster_id]])","v":0}]
[994,1,269,24,null,"2010-02-16T04:38:53",null,null,2,{"$f":"COUNTIF(top10Usrs[Top 10 Posters],tblPosts[[#This Row],[poster_id]])","v":1}]
[995,1,269,1159,null,"2010-02-16T05:35:08",null,null,3,{"$f":"COUNTIF(top10Usrs[Top 10 Posters],tblPosts[[#This Row],[poster_id]])","v":0}]
[996,1,270,1886,null,"2010-02-16T06:46:01",null,null,1,{"$f":"COUNTIF(top10Usrs[Top 10 Posters],tblPosts[[#This Row],[poster_id]])","v":0}]
[997,1,270,178,null,"2010-02-16T07:26:37",null,null,2,{"$f":"COUNTIF(top10Usrs[Top 10 Posters],tblPosts[[#This Row],[poster_id]])","v":0}]
[998,1,271,3713,null,"2010-02-16T10:41:03",null,null,1,{"$f":"COUNTIF(top10Usrs[Top 10 Posters],tblPosts[[#This Row],[poster_id]])","v":0}]
[999,1,271,24,null,"2010-02-16T12:20:31",null,null,2,{"$f":"COUNTIF(top10Usrs[Top 10 Posters],tblPosts[[#This Row],[poster_id]])","v":1}]
[1000,1,271,24,null,"2010-02-16T12:25:12",null,null,3,{"$f":"COUNTIF(top10Usrs[Top 10 Posters],tblPosts[[#This Row],[poster_id]])","v":1}]
[1001,1,271,24,null,"2010-02-16T14:06:21",null,null,4,{"$f":"COUNTIF(top10Usrs[Top 10 Posters],tblPosts[[#This Row],[poster_id]])","v":1}]
[1002,1,267,24,null,"2010-02-16T14:19:32",null,null,3,{"$f":"COUNTIF(top10Usrs[Top 10 Posters],tblPosts[[#This Row],[poster_id]])","v":1}]
[1003,1,272,3752,null,"2010-02-16T17:55:05",null,null,1,{"$f":"COUNTIF(top10Usrs[Top 10 Posters],tblPosts[[#This Row],[poster_id]])","v":0}]
[1004,1,273,3756,null,"2010-02-16T19:38:45",null,null,1,{"$f":"COUNTIF(top10Usrs[Top 10 Posters],tblPosts[[#This Row],[poster_id]])","v":0}]
[1005,1,274,3757,null,"2010-02-16T19:55:08",null,null,1,{"$f":"COUNTIF(top10Usrs[Top 10 Posters],tblPosts[[#This Row],[poster_id]])","v":0}]
[1006,1,273,1,null,"2010-02-16T21:03:16",null,null,2,{"$f":"COUNTIF(top10Usrs[Top 10 Posters],tblPosts[[#This Row],[poster_id]])","v":1}]
[1007,1,274,1,null,"2010-02-16T21:06:45",null,null,2,{"$f":"COUNTIF(top10Usrs[Top 10 Posters],tblPosts[[#This Row],[poster_id]])","v":1}]
[1008,1,271,2865,null,"2010-02-16T22:06:03",null,null,5,{"$f":"COUNTIF(top10Usrs[Top 10 Posters],tblPosts[[#This Row],[poster_id]])","v":0}]
[1009,1,271,24,null,"2010-02-17T00:04:41",null,null,6,{"$f":"COUNTIF(top10Usrs[Top 10 Posters],tblPosts[[#This Row],[poster_id]])","v":1}]
[1010,1,261,3621,null,"2010-02-17T05:16:11",null,null,4,{"$f":"COUNTIF(top10Usrs[Top 10 Posters],tblPosts[[#This Row],[poster_id]])","v":0}]
[1011,1,271,2865,null,"2010-02-17T07:39:19",null,null,7,{"$f":"COUNTIF(top10Usrs[Top 10 Posters],tblPosts[[#This Row],[poster_id]])","v":0}]
[1012,1,271,3713,null,"2010-02-17T08:51:30",null,null,8,{"$f":"COUNTIF(top10Usrs[Top 10 Posters],tblPosts[[#This Row],[poster_id]])","v":0}]
[1013,1,275,3713,null,"2010-02-17T09:05:42",null,null,1,{"$f":"COUNTIF(top10Usrs[Top 10 Posters],tblPosts[[#This Row],[poster_id]])","v":0}]
[1014,2,276,3773,null,"2010-02-17T09:30:28",null,null,1,{"$f":"COUNTIF(top10Usrs[Top 10 Posters],tblPosts[[#This Row],[poster_id]])","v":0}]
[1015,1,275,24,null,"2010-02-17T09:43:30",null,null,2,{"$f":"COUNTIF(top10Usrs[Top 10 Posters],tblPosts[[#This Row],[poster_id]])","v":1}]
[1016,2,276,24,null,"2010-02-17T10:02:56",null,null,2,{"$f":"COUNTIF(top10Usrs[Top 10 Posters],tblPosts[[#This Row],[poster_id]])","v":1}]
[1017,2,276,3773,null,"2010-02-17T10:44:12",null,null,3,{"$f":"COUNTIF(top10Usrs[Top 10 Posters],tblPosts[[#This Row],[poster_id]])","v":0}]
[1018,1,277,3713,null,"2010-02-17T11:06:35",null,null,1,{"$f":"COUNTIF(top10Usrs[Top 10 Posters],tblPosts[[#This Row],[poster_id]])","v":0}]
[1019,1,278,3687,null,"2010-02-17T12:34:48",null,null,1,{"$f":"COUNTIF(top10Usrs[Top 10 Posters],tblPosts[[#This Row],[poster_id]])","v":0}]
[1020,1,275,3713,null,"2010-02-17T12:37:56",null,null,3,{"$f":"COUNTIF(top10Usrs[Top 10 Posters],tblPosts[[#This Row],[poster_id]])","v":0}]
[1021,1,278,24,null,"2010-02-17T13:14:47",null,null,2,{"$f":"COUNTIF(top10Usrs[Top 10 Posters],tblPosts[[#This Row],[poster_id]])","v":1}]
[1022,2,276,24,null,"2010-02-17T13:20:41",null,null,4,{"$f":"COUNTIF(top10Usrs[Top 10 Posters],tblPosts[[#This Row],[poster_id]])","v":1}]
[1023,2,276,3773,null,"2010-02-17T13:37:19",null,null,5,{"$f":"COUNTIF(top10Usrs[Top 10 Posters],tblPosts[[#This Row],[poster_id]])","v":0}]
[1024,1,278,3687,null,"2010-02-17T13:48:47",null,null,3,{"$f":"COUNTIF(top10Usrs[Top 10 Posters],tblPosts[[#This Row],[poster_id]])","v":0}]
[1025,2,276,1,null,"2010-02-17T13:54:13",null,null,6,{"$f":"COUNTIF(top10Usrs[Top 10 Posters],tblPosts[[#This Row],[poster_id]])","v":1}]
[1026,4,2,3793,null,"2010-02-18T03:27:13",null,null,39,{"$f":"COUNTIF(top10Usrs[Top 10 Posters],tblPosts[[#This Row],[poster_id]])","v":0}]
[1027,1,279,1,null,"2010-02-18T06:02:34",null,null,1,{"$f":"COUNTIF(top10Usrs[Top 10 Posters],tblPosts[[#This Row],[poster_id]])","v":1}]
[1028,2,276,3773,null,"2010-02-18T07:42:58",null,null,7,{"$f":"COUNTIF(top10Usrs[Top 10 Posters],tblPosts[[#This Row],[poster_id]])","v":0}]
[1029,1,278,24,null,"2010-02-18T10:05:26",null,null,4,{"$f":"COUNTIF(top10Usrs[Top 10 Posters],tblPosts[[#This Row],[poster_id]])","v":1}]
[1030,1,278,3687,null,"2010-02-18T11:02:52",null,null,5,{"$f":"COUNTIF(top10Usrs[Top 10 Posters],tblPosts[[#This Row],[poster_id]])","v":0}]
[1031,1,280,3793,null,"2010-02-18T14:39:32",null,null,1,{"$f":"COUNTIF(top10Usrs[Top 10 Posters],tblPosts[[#This Row],[poster_id]])","v":0}]
[1032,1,280,24,null,"2010-02-18T23:20:19",null,null,2,{"$f":"COUNTIF(top10Usrs[Top 10 Posters],tblPosts[[#This Row],[poster_id]])","v":1}]
[1033,1,281,3773,null,"2010-02-19T12:08:23",null,null,1,{"$f":"COUNTIF(top10Usrs[Top 10 Posters],tblPosts[[#This Row],[poster_id]])","v":0}]
[1034,1,281,24,null,"2010-02-19T14:42:01",null,null,2,{"$f":"COUNTIF(top10Usrs[Top 10 Posters],tblPosts[[#This Row],[poster_id]])","v":1}]
[1035,1,281,3773,null,"2010-02-19T15:20:07",null,null,3,{"$f":"COUNTIF(top10Usrs[Top 10 Posters],tblPosts[[#This Row],[poster_id]])","v":0}]
[1036,1,281,24,null,"2010-02-19T22:58:59",null,null,4,{"$f":"COUNTIF(top10Usrs[Top 10 Posters],tblPosts[[#This Row],[poster_id]])","v":1}]
[1037,1,282,3833,null,"2010-02-20T05:22:57",null,null,0,{"$f":"COUNTIF(top10Usrs[Top 10 Posters],tblPosts[[#This Row],[poster_id]])","v":0}]
[1038,1,283,3833,null,"2010-02-20T05:26:46",null,null,0,{"$f":"COUNTIF(top10Usrs[Top 10 Posters],tblPosts[[#This Row],[poster_id]])","v":0}]
[1039,1,281,3773,null,"2010-02-20T17:14:28",null,null,5,{"$f":"COUNTIF(top10Usrs[Top 10 Posters],tblPosts[[#This Row],[poster_id]])","v":0}]
[1040,1,281,24,null,"2010-02-21T01:46:26",null,null,6,{"$f":"COUNTIF(top10Usrs[Top 10 Posters],tblPosts[[#This Row],[poster_id]])","v":1}]
[1041,1,284,3855,null,"2010-02-21T09:51:56",null,null,1,{"$f":"COUNTIF(top10Usrs[Top 10 Posters],tblPosts[[#This Row],[poster_id]])","v":0}]
[1042,1,284,24,null,"2010-02-21T10:59:45",null,null,2,{"$f":"COUNTIF(top10Usrs[Top 10 Posters],tblPosts[[#This Row],[poster_id]])","v":1}]
[1043,1,285,3863,null,"2010-02-21T18:05:14",null,null,1,{"$f":"COUNTIF(top10Usrs[Top 10 Posters],tblPosts[[#This Row],[poster_id]])","v":0}]
[1044,1,285,24,null,"2010-02-22T00:03:19",null,null,2,{"$f":"COUNTIF(top10Usrs[Top 10 Posters],tblPosts[[#This Row],[poster_id]])","v":1}]
[1045,1,284,3855,null,"2010-02-22T08:17:48",null,null,3,{"$f":"COUNTIF(top10Usrs[Top 10 Posters],tblPosts[[#This Row],[poster_id]])","v":0}]
[1046,1,281,3773,null,"2010-02-22T09:31:21",null,null,7,{"$f":"COUNTIF(top10Usrs[Top 10 Posters],tblPosts[[#This Row],[poster_id]])","v":0}]
[1047,1,286,3886,null,"2010-02-22T21:58:36",null,null,1,{"$f":"COUNTIF(top10Usrs[Top 10 Posters],tblPosts[[#This Row],[poster_id]])","v":0}]
[1048,1,286,24,null,"2010-02-22T23:49:52",null,null,2,{"$f":"COUNTIF(top10Usrs[Top 10 Posters],tblPosts[[#This Row],[poster_id]])","v":1}]
[1049,1,287,3883,null,"2010-02-23T12:50:36",null,null,1,{"$f":"COUNTIF(top10Usrs[Top 10 Posters],tblPosts[[#This Row],[poster_id]])","v":0}]
[1050,1,287,24,null,"2010-02-23T13:47:17",null,null,2,{"$f":"COUNTIF(top10Usrs[Top 10 Posters],tblPosts[[#This Row],[poster_id]])","v":1}]
[1051,1,287,24,null,"2010-02-23T13:51:50",null,null,3,{"$f":"COUNTIF(top10Usrs[Top 10 Posters],tblPosts[[#This Row],[poster_id]])","v":1}]
[1052,1,287,3883,null,"2010-02-23T15:14:29",null,null,4,{"$f":"COUNTIF(top10Usrs[Top 10 Posters],tblPosts[[#This Row],[poster_id]])","v":0}]
[1053,4,2,3911,null,"2010-02-23T19:09:10",null,null,40,{"$f":"COUNTIF(top10Usrs[Top 10 Posters],tblPosts[[#This Row],[poster_id]])","v":0}]
[1054,3,288,3911,null,"2010-02-23T19:12:51",null,null,1,{"$f":"COUNTIF(top10Usrs[Top 10 Posters],tblPosts[[#This Row],[poster_id]])","v":0}]
[1055,3,288,2865,null,"2010-02-23T22:45:02",null,null,2,{"$f":"COUNTIF(top10Usrs[Top 10 Posters],tblPosts[[#This Row],[poster_id]])","v":0}]
[1056,3,288,3911,null,"2010-02-23T23:14:15",null,null,3,{"$f":"COUNTIF(top10Usrs[Top 10 Posters],tblPosts[[#This Row],[poster_id]])","v":0}]
[1057,3,288,24,null,"2010-02-24T02:51:50",null,null,4,{"$f":"COUNTIF(top10Usrs[Top 10 Posters],tblPosts[[#This Row],[poster_id]])","v":1}]
[1058,1,287,24,null,"2010-02-24T04:02:45",null,null,5,{"$f":"COUNTIF(top10Usrs[Top 10 Posters],tblPosts[[#This Row],[poster_id]])","v":1}]
[1059,1,289,2079,null,"2010-02-24T06:21:06",null,null,1,{"$f":"COUNTIF(top10Usrs[Top 10 Posters],tblPosts[[#This Row],[poster_id]])","v":0}]
[1060,1,289,2865,null,"2010-02-24T07:37:45",null,null,2,{"$f":"COUNTIF(top10Usrs[Top 10 Posters],tblPosts[[#This Row],[poster_id]])","v":0}]
[1061,1,289,24,null,"2010-02-24T08:02:58",null,null,3,{"$f":"COUNTIF(top10Usrs[Top 10 Posters],tblPosts[[#This Row],[poster_id]])","v":1}]
[1062,1,290,28,null,"2010-02-24T16:19:52",null,null,1,{"$f":"COUNTIF(top10Usrs[Top 10 Posters],tblPosts[[#This Row],[poster_id]])","v":0}]
[1063,1,291,28,null,"2010-02-24T16:25:05",null,null,1,{"$f":"COUNTIF(top10Usrs[Top 10 Posters],tblPosts[[#This Row],[poster_id]])","v":0}]
[1064,3,288,3911,null,"2010-02-24T16:29:14",null,null,5,{"$f":"COUNTIF(top10Usrs[Top 10 Posters],tblPosts[[#This Row],[poster_id]])","v":0}]
[1065,1,292,3924,null,"2010-02-24T17:50:54",null,null,1,{"$f":"COUNTIF(top10Usrs[Top 10 Posters],tblPosts[[#This Row],[poster_id]])","v":0}]
[1066,1,293,1573,null,"2010-02-24T19:54:11",null,null,1,{"$f":"COUNTIF(top10Usrs[Top 10 Posters],tblPosts[[#This Row],[poster_id]])","v":0}]
[1067,1,293,2865,null,"2010-02-24T23:32:49",null,null,2,{"$f":"COUNTIF(top10Usrs[Top 10 Posters],tblPosts[[#This Row],[poster_id]])","v":0}]
[1068,1,292,24,null,"2010-02-24T23:43:00",null,null,2,{"$f":"COUNTIF(top10Usrs[Top 10 Posters],tblPosts[[#This Row],[poster_id]])","v":1}]
[1069,1,291,24,null,"2010-02-24T23:49:10",null,null,2,{"$f":"COUNTIF(top10Usrs[Top 10 Posters],tblPosts[[#This Row],[poster_id]])","v":1}]
[1070,1,290,24,null,"2010-02-25T00:05:06",null,null,2,{"$f":"COUNTIF(top10Usrs[Top 10 Posters],tblPosts[[#This Row],[poster_id]])","v":1}]
[1071,1,291,28,null,"2010-02-25T14:16:26",null,null,3,{"$f":"COUNTIF(top10Usrs[Top 10 Posters],tblPosts[[#This Row],[poster_id]])","v":0}]
[1072,1,290,28,null,"2010-02-25T14:18:30",null,null,3,{"$f":"COUNTIF(top10Usrs[Top 10 Posters],tblPosts[[#This Row],[poster_id]])","v":0}]
[1073,1,294,3108,null,"2010-02-25T15:12:58",null,null,1,{"$f":"COUNTIF(top10Usrs[Top 10 Posters],tblPosts[[#This Row],[poster_id]])","v":0}]
[1074,1,291,24,null,"2010-02-25T23:09:08",null,null,4,{"$f":"COUNTIF(top10Usrs[Top 10 Posters],tblPosts[[#This Row],[poster_id]])","v":1}]
[1075,1,295,3958,null,"2010-02-26T01:58:40",null,null,1,{"$f":"COUNTIF(top10Usrs[Top 10 Posters],tblPosts[[#This Row],[poster_id]])","v":0}]
[1076,1,296,2369,null,"2010-02-26T04:53:40",null,null,1,{"$f":"COUNTIF(top10Usrs[Top 10 Posters],tblPosts[[#This Row],[poster_id]])","v":0}]
[1077,1,296,24,null,"2010-02-26T05:06:29",null,null,2,{"$f":"COUNTIF(top10Usrs[Top 10 Posters],tblPosts[[#This Row],[poster_id]])","v":1}]
[1078,1,295,24,null,"2010-02-26T06:19:49",null,null,2,{"$f":"COUNTIF(top10Usrs[Top 10 Posters],tblPosts[[#This Row],[poster_id]])","v":1}]
[1079,1,296,2865,null,"2010-02-26T09:47:58",null,null,3,{"$f":"COUNTIF(top10Usrs[Top 10 Posters],tblPosts[[#This Row],[poster_id]])","v":0}]
[1080,1,295,3958,null,"2010-02-26T13:10:57",null,null,3,{"$f":"COUNTIF(top10Usrs[Top 10 Posters],tblPosts[[#This Row],[poster_id]])","v":0}]
[1081,1,295,24,null,"2010-02-26T14:24:41",null,null,4,{"$f":"COUNTIF(top10Usrs[Top 10 Posters],tblPosts[[#This Row],[poster_id]])","v":1}]
[1082,1,294,24,null,"2010-02-26T14:31:53",null,null,2,{"$f":"COUNTIF(top10Usrs[Top 10 Posters],tblPosts[[#This Row],[poster_id]])","v":1}]
[1083,1,294,3108,null,"2010-02-26T15:23:19",null,null,3,{"$f":"COUNTIF(top10Usrs[Top 10 Posters],tblPosts[[#This Row],[poster_id]])","v":0}]
[1084,1,295,3958,null,"2010-02-26T19:08:29",null,null,5,{"$f":"COUNTIF(top10Usrs[Top 10 Posters],tblPosts[[#This Row],[poster_id]])","v":0}]
[1085,1,297,3924,null,"2010-02-26T20:28:48",null,null,1,{"$f":"COUNTIF(top10Usrs[Top 10 Posters],tblPosts[[#This Row],[poster_id]])","v":0}]
[1086,1,298,2543,null,"2010-02-27T09:38:20",null,null,1,{"$f":"COUNTIF(top10Usrs[Top 10 Posters],tblPosts[[#This Row],[poster_id]])","v":0}]
[1087,1,299,3983,null,"2010-02-27T11:39:40",null,null,1,{"$f":"COUNTIF(top10Usrs[Top 10 Posters],tblPosts[[#This Row],[poster_id]])","v":0}]
[1088,1,299,24,null,"2010-02-27T14:13:47",null,null,2,{"$f":"COUNTIF(top10Usrs[Top 10 Posters],tblPosts[[#This Row],[poster_id]])","v":1}]
[1089,1,299,2865,null,"2010-02-27T17:41:25",null,null,3,{"$f":"COUNTIF(top10Usrs[Top 10 Posters],tblPosts[[#This Row],[poster_id]])","v":0}]
[1090,1,300,4009,null,"2010-02-28T19:17:19",null,null,1,{"$f":"COUNTIF(top10Usrs[Top 10 Posters],tblPosts[[#This Row],[poster_id]])","v":0}]
[1091,1,300,24,null,"2010-03-01T02:14:20",null,null,2,{"$f":"COUNTIF(top10Usrs[Top 10 Posters],tblPosts[[#This Row],[poster_id]])","v":1}]
[1092,1,284,3855,null,"2010-03-01T05:05:56",null,null,4,{"$f":"COUNTIF(top10Usrs[Top 10 Posters],tblPosts[[#This Row],[poster_id]])","v":0}]
[1093,1,301,1886,null,"2010-03-01T05:08:53",null,null,1,{"$f":"COUNTIF(top10Usrs[Top 10 Posters],tblPosts[[#This Row],[poster_id]])","v":0}]
[1094,1,295,24,null,"2010-03-01T06:23:21",null,null,6,{"$f":"COUNTIF(top10Usrs[Top 10 Posters],tblPosts[[#This Row],[poster_id]])","v":1}]
[1095,1,297,24,null,"2010-03-01T07:16:16",null,null,2,{"$f":"COUNTIF(top10Usrs[Top 10 Posters],tblPosts[[#This Row],[poster_id]])","v":1}]
[1096,1,298,1,null,"2010-03-01T08:04:55",null,null,2,{"$f":"COUNTIF(top10Usrs[Top 10 Posters],tblPosts[[#This Row],[poster_id]])","v":1}]
[1097,1,298,2018,null,"2010-03-01T10:49:58",null,null,3,{"$f":"COUNTIF(top10Usrs[Top 10 Posters],tblPosts[[#This Row],[poster_id]])","v":0}]
[1098,1,286,3886,null,"2010-03-01T22:09:23",null,null,3,{"$f":"COUNTIF(top10Usrs[Top 10 Posters],tblPosts[[#This Row],[poster_id]])","v":0}]
[1099,1,302,109,null,"2010-03-01T22:56:44",null,null,1,{"$f":"COUNTIF(top10Usrs[Top 10 Posters],tblPosts[[#This Row],[poster_id]])","v":0}]
[1100,1,303,4048,null,"2010-03-02T09:19:56",null,null,1,{"$f":"COUNTIF(top10Usrs[Top 10 Posters],tblPosts[[#This Row],[poster_id]])","v":0}]
[1101,1,290,28,null,"2010-03-02T10:45:57",null,null,4,{"$f":"COUNTIF(top10Usrs[Top 10 Posters],tblPosts[[#This Row],[poster_id]])","v":0}]
[1102,1,286,28,null,"2010-03-02T11:03:09",null,null,4,{"$f":"COUNTIF(top10Usrs[Top 10 Posters],tblPosts[[#This Row],[poster_id]])","v":0}]
[1103,1,304,2683,null,"2010-03-02T11:41:44",null,null,1,{"$f":"COUNTIF(top10Usrs[Top 10 Posters],tblPosts[[#This Row],[poster_id]])","v":0}]
[1104,1,303,178,null,"2010-03-02T12:25:41",null,null,2,{"$f":"COUNTIF(top10Usrs[Top 10 Posters],tblPosts[[#This Row],[poster_id]])","v":0}]
[1105,1,304,28,null,"2010-03-02T13:00:20",null,null,2,{"$f":"COUNTIF(top10Usrs[Top 10 Posters],tblPosts[[#This Row],[poster_id]])","v":0}]
[1106,1,304,24,null,"2010-03-02T13:42:31",null,null,3,{"$f":"COUNTIF(top10Usrs[Top 10 Posters],tblPosts[[#This Row],[poster_id]])","v":1}]
[1107,1,305,4057,null,"2010-03-02T15:11:43",null,null,1,{"$f":"COUNTIF(top10Usrs[Top 10 Posters],tblPosts[[#This Row],[poster_id]])","v":0}]
[1108,1,286,3886,null,"2010-03-02T15:14:02",null,null,5,{"$f":"COUNTIF(top10Usrs[Top 10 Posters],tblPosts[[#This Row],[poster_id]])","v":0}]
[1109,1,306,4061,null,"2010-03-02T16:15:31",null,null,1,{"$f":"COUNTIF(top10Usrs[Top 10 Posters],tblPosts[[#This Row],[poster_id]])","v":0}]
[1110,1,306,2865,null,"2010-03-02T20:52:37",null,null,2,{"$f":"COUNTIF(top10Usrs[Top 10 Posters],tblPosts[[#This Row],[poster_id]])","v":0}]
[1111,1,305,2865,null,"2010-03-02T21:00:44",null,null,2,{"$f":"COUNTIF(top10Usrs[Top 10 Posters],tblPosts[[#This Row],[poster_id]])","v":0}]
[1112,1,307,4068,null,"2010-03-02T22:42:31",null,null,1,{"$f":"COUNTIF(top10Usrs[Top 10 Posters],tblPosts[[#This Row],[poster_id]])","v":0}]
[1113,1,307,24,null,"2010-03-02T23:36:19",null,null,2,{"$f":"COUNTIF(top10Usrs[Top 10 Posters],tblPosts[[#This Row],[poster_id]])","v":1}]
[1114,1,286,28,null,"2010-03-03T09:54:53",null,null,6,{"$f":"COUNTIF(top10Usrs[Top 10 Posters],tblPosts[[#This Row],[poster_id]])","v":0}]
[1115,1,304,28,null,"2010-03-03T09:58:51",null,null,4,{"$f":"COUNTIF(top10Usrs[Top 10 Posters],tblPosts[[#This Row],[poster_id]])","v":0}]
[1116,1,294,3108,null,"2010-03-03T15:00:18",null,null,4,{"$f":"COUNTIF(top10Usrs[Top 10 Posters],tblPosts[[#This Row],[poster_id]])","v":0}]
[1117,1,308,4092,null,"2010-03-03T20:44:22",null,null,1,{"$f":"COUNTIF(top10Usrs[Top 10 Posters],tblPosts[[#This Row],[poster_id]])","v":0}]
[1118,1,308,2758,null,"2010-03-03T22:10:13",null,null,2,{"$f":"COUNTIF(top10Usrs[Top 10 Posters],tblPosts[[#This Row],[poster_id]])","v":0}]
[1119,1,305,4057,null,"2010-03-04T10:03:45",null,null,3,{"$f":"COUNTIF(top10Usrs[Top 10 Posters],tblPosts[[#This Row],[poster_id]])","v":0}]
[1120,1,309,178,null,"2010-03-04T10:05:43",null,null,1,{"$f":"COUNTIF(top10Usrs[Top 10 Posters],tblPosts[[#This Row],[poster_id]])","v":0}]
[1121,1,309,24,null,"2010-03-04T11:55:28",null,null,2,{"$f":"COUNTIF(top10Usrs[Top 10 Posters],tblPosts[[#This Row],[poster_id]])","v":1}]
[1122,1,310,4108,null,"2010-03-04T12:26:54",null,null,1,{"$f":"COUNTIF(top10Usrs[Top 10 Posters],tblPosts[[#This Row],[poster_id]])","v":0}]
[1123,1,309,178,null,"2010-03-04T13:12:14",null,null,3,{"$f":"COUNTIF(top10Usrs[Top 10 Posters],tblPosts[[#This Row],[poster_id]])","v":0}]
[1124,1,302,2758,null,"2010-03-04T13:13:14",null,null,2,{"$f":"COUNTIF(top10Usrs[Top 10 Posters],tblPosts[[#This Row],[poster_id]])","v":0}]
[1125,1,310,24,null,"2010-03-04T13:17:27",null,null,2,{"$f":"COUNTIF(top10Usrs[Top 10 Posters],tblPosts[[#This Row],[poster_id]])","v":1}]
[1126,1,310,24,null,"2010-03-04T13:22:08",null,null,3,{"$f":"COUNTIF(top10Usrs[Top 10 Posters],tblPosts[[#This Row],[poster_id]])","v":1}]
[1127,1,308,4092,null,"2010-03-04T13:33:56",null,null,3,{"$f":"COUNTIF(top10Usrs[Top 10 Posters],tblPosts[[#This Row],[poster_id]])","v":0}]
[1128,1,310,4108,null,"2010-03-04T16:17:28",null,null,4,{"$f":"COUNTIF(top10Usrs[Top 10 Posters],tblPosts[[#This Row],[poster_id]])","v":0}]
[1129,1,311,1886,null,"2010-03-05T06:23:33",null,null,1,{"$f":"COUNTIF(top10Usrs[Top 10 Posters],tblPosts[[#This Row],[poster_id]])","v":0}]
[1130,1,311,2865,null,"2010-03-05T08:31:01",null,null,2,{"$f":"COUNTIF(top10Usrs[Top 10 Posters],tblPosts[[#This Row],[poster_id]])","v":0}]
[1131,1,311,1886,null,"2010-03-05T10:37:00",null,null,3,{"$f":"COUNTIF(top10Usrs[Top 10 Posters],tblPosts[[#This Row],[poster_id]])","v":0}]
[1132,1,312,4134,null,"2010-03-05T12:30:33",null,null,1,{"$f":"COUNTIF(top10Usrs[Top 10 Posters],tblPosts[[#This Row],[poster_id]])","v":0}]
[1133,1,313,4144,null,"2010-03-06T00:07:50",null,null,1,{"$f":"COUNTIF(top10Usrs[Top 10 Posters],tblPosts[[#This Row],[poster_id]])","v":0}]
[1134,1,313,4134,null,"2010-03-06T07:59:26",null,null,2,{"$f":"COUNTIF(top10Usrs[Top 10 Posters],tblPosts[[#This Row],[poster_id]])","v":0}]
[1135,1,313,2865,null,"2010-03-06T15:53:35",null,null,3,{"$f":"COUNTIF(top10Usrs[Top 10 Posters],tblPosts[[#This Row],[poster_id]])","v":0}]
[1136,1,314,4175,null,"2010-03-07T07:18:43",null,null,1,{"$f":"COUNTIF(top10Usrs[Top 10 Posters],tblPosts[[#This Row],[poster_id]])","v":0}]
[1137,1,314,2758,null,"2010-03-07T10:02:38",null,null,2,{"$f":"COUNTIF(top10Usrs[Top 10 Posters],tblPosts[[#This Row],[poster_id]])","v":0}]
[1138,1,314,2758,null,"2010-03-07T10:16:38",null,null,3,{"$f":"COUNTIF(top10Usrs[Top 10 Posters],tblPosts[[#This Row],[poster_id]])","v":0}]
[1139,1,313,2758,null,"2010-03-07T10:34:17",null,null,4,{"$f":"COUNTIF(top10Usrs[Top 10 Posters],tblPosts[[#This Row],[poster_id]])","v":0}]
[1140,1,313,2758,null,"2010-03-07T10:39:31",null,null,5,{"$f":"COUNTIF(top10Usrs[Top 10 Posters],tblPosts[[#This Row],[poster_id]])","v":0}]
[1141,1,315,3622,null,"2010-03-07T16:58:18",null,null,1,{"$f":"COUNTIF(top10Usrs[Top 10 Posters],tblPosts[[#This Row],[poster_id]])","v":0}]
[1142,1,315,2758,null,"2010-03-07T18:42:17",null,null,2,{"$f":"COUNTIF(top10Usrs[Top 10 Posters],tblPosts[[#This Row],[poster_id]])","v":0}]
[1143,1,316,4048,null,"2010-03-08T11:27:46",null,null,1,{"$f":"COUNTIF(top10Usrs[Top 10 Posters],tblPosts[[#This Row],[poster_id]])","v":0}]
[1144,1,303,4048,null,"2010-03-08T11:29:13",null,null,3,{"$f":"COUNTIF(top10Usrs[Top 10 Posters],tblPosts[[#This Row],[poster_id]])","v":0}]
[1145,1,304,2683,null,"2010-03-08T11:44:26",null,null,5,{"$f":"COUNTIF(top10Usrs[Top 10 Posters],tblPosts[[#This Row],[poster_id]])","v":0}]
[1146,1,316,2758,null,"2010-03-08T12:28:14",null,null,2,{"$f":"COUNTIF(top10Usrs[Top 10 Posters],tblPosts[[#This Row],[poster_id]])","v":0}]
[1147,1,317,3713,null,"2010-03-09T12:11:54",null,null,1,{"$f":"COUNTIF(top10Usrs[Top 10 Posters],tblPosts[[#This Row],[poster_id]])","v":0}]
[1148,1,317,24,null,"2010-03-09T12:33:01",null,null,2,{"$f":"COUNTIF(top10Usrs[Top 10 Posters],tblPosts[[#This Row],[poster_id]])","v":1}]
[1149,1,317,3713,null,"2010-03-09T13:13:31",null,null,3,{"$f":"COUNTIF(top10Usrs[Top 10 Posters],tblPosts[[#This Row],[poster_id]])","v":0}]
[1150,1,316,4048,null,"2010-03-09T13:53:29",null,null,3,{"$f":"COUNTIF(top10Usrs[Top 10 Posters],tblPosts[[#This Row],[poster_id]])","v":0}]
[1151,1,317,2758,null,"2010-03-10T12:17:49",null,null,4,{"$f":"COUNTIF(top10Usrs[Top 10 Posters],tblPosts[[#This Row],[poster_id]])","v":0}]
[1152,1,318,4251,null,"2010-03-10T14:25:53",null,null,1,{"$f":"COUNTIF(top10Usrs[Top 10 Posters],tblPosts[[#This Row],[poster_id]])","v":0}]
[1153,1,319,3108,null,"2010-03-10T16:19:44",null,null,1,{"$f":"COUNTIF(top10Usrs[Top 10 Posters],tblPosts[[#This Row],[poster_id]])","v":0}]
[1154,1,318,2018,null,"2010-03-10T16:46:06",null,null,2,{"$f":"COUNTIF(top10Usrs[Top 10 Posters],tblPosts[[#This Row],[poster_id]])","v":0}]
[1155,1,318,2758,null,"2010-03-10T17:23:23",null,null,3,{"$f":"COUNTIF(top10Usrs[Top 10 Posters],tblPosts[[#This Row],[poster_id]])","v":0}]
[1156,1,320,4257,null,"2010-03-10T18:20:08",null,null,1,{"$f":"COUNTIF(top10Usrs[Top 10 Posters],tblPosts[[#This Row],[poster_id]])","v":0}]
[1157,1,318,24,null,"2010-03-11T00:23:12",null,null,4,{"$f":"COUNTIF(top10Usrs[Top 10 Posters],tblPosts[[#This Row],[poster_id]])","v":1}]
[1158,1,319,24,null,"2010-03-11T00:25:19",null,null,2,{"$f":"COUNTIF(top10Usrs[Top 10 Posters],tblPosts[[#This Row],[poster_id]])","v":1}]
[1159,1,320,24,null,"2010-03-11T00:48:19",null,null,2,{"$f":"COUNTIF(top10Usrs[Top 10 Posters],tblPosts[[#This Row],[poster_id]])","v":1}]
[1160,1,318,4251,null,"2010-03-11T04:23:39",null,null,5,{"$f":"COUNTIF(top10Usrs[Top 10 Posters],tblPosts[[#This Row],[poster_id]])","v":0}]
[1161,1,318,4251,null,"2010-03-11T04:29:42",null,null,6,{"$f":"COUNTIF(top10Usrs[Top 10 Posters],tblPosts[[#This Row],[poster_id]])","v":0}]
[1162,1,318,24,null,"2010-03-11T05:22:16",null,null,7,{"$f":"COUNTIF(top10Usrs[Top 10 Posters],tblPosts[[#This Row],[poster_id]])","v":1}]
[1163,1,319,3108,null,"2010-03-11T14:49:16",null,null,3,{"$f":"COUNTIF(top10Usrs[Top 10 Posters],tblPosts[[#This Row],[poster_id]])","v":0}]
[1164,1,321,4288,null,"2010-03-11T16:48:30",null,null,1,{"$f":"COUNTIF(top10Usrs[Top 10 Posters],tblPosts[[#This Row],[poster_id]])","v":0}]
[1165,1,321,2758,null,"2010-03-11T17:28:35",null,null,2,{"$f":"COUNTIF(top10Usrs[Top 10 Posters],tblPosts[[#This Row],[poster_id]])","v":0}]
[1166,1,321,24,null,"2010-03-11T23:43:18",null,null,3,{"$f":"COUNTIF(top10Usrs[Top 10 Posters],tblPosts[[#This Row],[poster_id]])","v":1}]
[1167,1,322,4307,null,"2010-03-12T07:57:25",null,null,1,{"$f":"COUNTIF(top10Usrs[Top 10 Posters],tblPosts[[#This Row],[poster_id]])","v":0}]
[1168,1,323,4307,null,"2010-03-12T08:36:20",null,null,1,{"$f":"COUNTIF(top10Usrs[Top 10 Posters],tblPosts[[#This Row],[poster_id]])","v":0}]
[1169,1,322,2865,null,"2010-03-12T09:09:07",null,null,2,{"$f":"COUNTIF(top10Usrs[Top 10 Posters],tblPosts[[#This Row],[poster_id]])","v":0}]
[1170,1,321,2865,null,"2010-03-12T09:15:58",null,null,4,{"$f":"COUNTIF(top10Usrs[Top 10 Posters],tblPosts[[#This Row],[poster_id]])","v":0}]
[1171,1,324,3108,null,"2010-03-12T09:54:46",null,null,1,{"$f":"COUNTIF(top10Usrs[Top 10 Posters],tblPosts[[#This Row],[poster_id]])","v":0}]
[1172,1,321,4288,null,"2010-03-12T12:31:56",null,null,5,{"$f":"COUNTIF(top10Usrs[Top 10 Posters],tblPosts[[#This Row],[poster_id]])","v":0}]
[1173,1,321,24,null,"2010-03-12T13:16:32",null,null,6,{"$f":"COUNTIF(top10Usrs[Top 10 Posters],tblPosts[[#This Row],[poster_id]])","v":1}]
[1174,1,322,4307,null,"2010-03-12T13:25:37",null,null,3,{"$f":"COUNTIF(top10Usrs[Top 10 Posters],tblPosts[[#This Row],[poster_id]])","v":0}]
[1175,1,321,2865,null,"2010-03-12T14:01:58",null,null,7,{"$f":"COUNTIF(top10Usrs[Top 10 Posters],tblPosts[[#This Row],[poster_id]])","v":0}]
[1176,1,322,2865,null,"2010-03-12T14:06:08",null,null,4,{"$f":"COUNTIF(top10Usrs[Top 10 Posters],tblPosts[[#This Row],[poster_id]])","v":0}]
[1177,1,321,4288,null,"2010-03-12T15:04:58",null,null,8,{"$f":"COUNTIF(top10Usrs[Top 10 Posters],tblPosts[[#This Row],[poster_id]])","v":0}]
[1178,1,321,2018,null,"2010-03-12T15:14:21",null,null,9,{"$f":"COUNTIF(top10Usrs[Top 10 Posters],tblPosts[[#This Row],[poster_id]])","v":0}]
[1179,1,324,2018,null,"2010-03-12T15:17:54",null,null,2,{"$f":"COUNTIF(top10Usrs[Top 10 Posters],tblPosts[[#This Row],[poster_id]])","v":0}]
[1180,1,321,4288,null,"2010-03-12T15:20:29",null,null,10,{"$f":"COUNTIF(top10Usrs[Top 10 Posters],tblPosts[[#This Row],[poster_id]])","v":0}]
[1181,1,321,2018,null,"2010-03-12T15:27:05",null,null,11,{"$f":"COUNTIF(top10Usrs[Top 10 Posters],tblPosts[[#This Row],[poster_id]])","v":0}]
[1182,1,321,4288,null,"2010-03-12T15:30:14",null,null,12,{"$f":"COUNTIF(top10Usrs[Top 10 Posters],tblPosts[[#This Row],[poster_id]])","v":0}]
[1183,1,325,4324,null,"2010-03-12T17:55:38",null,null,1,{"$f":"COUNTIF(top10Usrs[Top 10 Posters],tblPosts[[#This Row],[poster_id]])","v":0}]
[1184,1,326,4338,null,"2010-03-13T08:35:22",null,null,1,{"$f":"COUNTIF(top10Usrs[Top 10 Posters],tblPosts[[#This Row],[poster_id]])","v":0}]
[1185,1,326,24,null,"2010-03-13T09:28:27",null,null,2,{"$f":"COUNTIF(top10Usrs[Top 10 Posters],tblPosts[[#This Row],[poster_id]])","v":1}]
[1186,1,326,24,null,"2010-03-13T09:31:16",null,null,3,{"$f":"COUNTIF(top10Usrs[Top 10 Posters],tblPosts[[#This Row],[poster_id]])","v":1}]
[1187,1,315,3622,null,"2010-03-13T15:13:43",null,null,3,{"$f":"COUNTIF(top10Usrs[Top 10 Posters],tblPosts[[#This Row],[poster_id]])","v":0}]
[1188,1,327,4356,null,"2010-03-14T10:29:03",null,null,1,{"$f":"COUNTIF(top10Usrs[Top 10 Posters],tblPosts[[#This Row],[poster_id]])","v":0}]
[1189,1,328,4360,null,"2010-03-14T14:37:49",null,null,1,{"$f":"COUNTIF(top10Usrs[Top 10 Posters],tblPosts[[#This Row],[poster_id]])","v":0}]
[1190,1,318,4251,null,"2010-03-14T21:59:50",null,null,8,{"$f":"COUNTIF(top10Usrs[Top 10 Posters],tblPosts[[#This Row],[poster_id]])","v":0}]
[1191,1,328,24,null,"2010-03-15T00:08:39",null,null,2,{"$f":"COUNTIF(top10Usrs[Top 10 Posters],tblPosts[[#This Row],[poster_id]])","v":1}]
[1192,1,329,1886,null,"2010-03-15T05:56:16",null,null,1,{"$f":"COUNTIF(top10Usrs[Top 10 Posters],tblPosts[[#This Row],[poster_id]])","v":0}]
[1193,1,329,1886,null,"2010-03-15T07:28:36",null,null,2,{"$f":"COUNTIF(top10Usrs[Top 10 Posters],tblPosts[[#This Row],[poster_id]])","v":0}]
[1194,1,329,2018,null,"2010-03-15T07:37:01",null,null,3,{"$f":"COUNTIF(top10Usrs[Top 10 Posters],tblPosts[[#This Row],[poster_id]])","v":0}]
[1195,1,329,1886,null,"2010-03-15T08:13:01",null,null,4,{"$f":"COUNTIF(top10Usrs[Top 10 Posters],tblPosts[[#This Row],[poster_id]])","v":0}]
[1196,1,330,4390,null,"2010-03-15T10:22:28",null,null,1,{"$f":"COUNTIF(top10Usrs[Top 10 Posters],tblPosts[[#This Row],[poster_id]])","v":0}]
[1197,1,330,2018,null,"2010-03-15T10:41:31",null,null,2,{"$f":"COUNTIF(top10Usrs[Top 10 Posters],tblPosts[[#This Row],[poster_id]])","v":0}]
[1198,1,329,24,null,"2010-03-15T11:40:14",null,null,5,{"$f":"COUNTIF(top10Usrs[Top 10 Posters],tblPosts[[#This Row],[poster_id]])","v":1}]
[1199,1,327,2758,null,"2010-03-15T12:10:16",null,null,2,{"$f":"COUNTIF(top10Usrs[Top 10 Posters],tblPosts[[#This Row],[poster_id]])","v":0}]
[1200,1,331,4390,null,"2010-03-15T12:45:12",null,null,1,{"$f":"COUNTIF(top10Usrs[Top 10 Posters],tblPosts[[#This Row],[poster_id]])","v":0}]
[1201,1,332,4393,null,"2010-03-15T12:54:16",null,null,1,{"$f":"COUNTIF(top10Usrs[Top 10 Posters],tblPosts[[#This Row],[poster_id]])","v":0}]
[1202,1,331,24,null,"2010-03-15T13:38:19",null,null,2,{"$f":"COUNTIF(top10Usrs[Top 10 Posters],tblPosts[[#This Row],[poster_id]])","v":1}]
[1203,1,332,24,null,"2010-03-15T13:46:33",null,null,2,{"$f":"COUNTIF(top10Usrs[Top 10 Posters],tblPosts[[#This Row],[poster_id]])","v":1}]
[1204,1,333,4409,null,"2010-03-15T22:27:56",null,null,1,{"$f":"COUNTIF(top10Usrs[Top 10 Posters],tblPosts[[#This Row],[poster_id]])","v":0}]
[1205,1,333,2018,null,"2010-03-16T08:30:11",null,null,2,{"$f":"COUNTIF(top10Usrs[Top 10 Posters],tblPosts[[#This Row],[poster_id]])","v":0}]
[1206,1,332,4393,null,"2010-03-16T08:52:10",null,null,3,{"$f":"COUNTIF(top10Usrs[Top 10 Posters],tblPosts[[#This Row],[poster_id]])","v":0}]
[1207,1,334,4393,null,"2010-03-16T10:32:31",null,null,1,{"$f":"COUNTIF(top10Usrs[Top 10 Posters],tblPosts[[#This Row],[poster_id]])","v":0}]
[1208,1,334,24,null,"2010-03-16T10:53:16",null,null,2,{"$f":"COUNTIF(top10Usrs[Top 10 Posters],tblPosts[[#This Row],[poster_id]])","v":1}]
[1209,1,334,4393,null,"2010-03-16T11:49:36",null,null,3,{"$f":"COUNTIF(top10Usrs[Top 10 Posters],tblPosts[[#This Row],[poster_id]])","v":0}]
[1210,1,328,4360,null,"2010-03-16T11:55:36",null,null,3,{"$f":"COUNTIF(top10Usrs[Top 10 Posters],tblPosts[[#This Row],[poster_id]])","v":0}]
[1211,1,333,2865,null,"2010-03-16T14:49:20",null,null,3,{"$f":"COUNTIF(top10Usrs[Top 10 Posters],tblPosts[[#This Row],[poster_id]])","v":0}]
[1212,1,333,4409,null,"2010-03-17T00:51:07",null,null,4,{"$f":"COUNTIF(top10Usrs[Top 10 Posters],tblPosts[[#This Row],[poster_id]])","v":0}]
[1213,1,315,1,null,"2010-03-17T01:13:06",null,null,4,{"$f":"COUNTIF(top10Usrs[Top 10 Posters],tblPosts[[#This Row],[poster_id]])","v":1}]
[1214,1,335,4390,null,"2010-03-17T14:08:46",null,null,1,{"$f":"COUNTIF(top10Usrs[Top 10 Posters],tblPosts[[#This Row],[poster_id]])","v":0}]
[1215,1,336,4475,null,"2010-03-17T16:05:37",null,null,1,{"$f":"COUNTIF(top10Usrs[Top 10 Posters],tblPosts[[#This Row],[poster_id]])","v":0}]
[1216,1,335,2865,null,"2010-03-17T16:55:05",null,null,2,{"$f":"COUNTIF(top10Usrs[Top 10 Posters],tblPosts[[#This Row],[poster_id]])","v":0}]
[1217,1,337,4476,null,"2010-03-17T17:00:55",null,null,1,{"$f":"COUNTIF(top10Usrs[Top 10 Posters],tblPosts[[#This Row],[poster_id]])","v":0}]
[1218,1,336,2865,null,"2010-03-17T17:06:47",null,null,2,{"$f":"COUNTIF(top10Usrs[Top 10 Posters],tblPosts[[#This Row],[poster_id]])","v":0}]
[1219,1,337,2758,null,"2010-03-17T18:55:03",null,null,2,{"$f":"COUNTIF(top10Usrs[Top 10 Posters],tblPosts[[#This Row],[poster_id]])","v":0}]
[1220,1,337,4476,null,"2010-03-17T20:12:00",null,null,3,{"$f":"COUNTIF(top10Usrs[Top 10 Posters],tblPosts[[#This Row],[poster_id]])","v":0}]
[1221,1,338,4498,null,"2010-03-18T04:00:47",null,null,1,{"$f":"COUNTIF(top10Usrs[Top 10 Posters],tblPosts[[#This Row],[poster_id]])","v":0}]
[1222,1,338,24,null,"2010-03-18T12:08:46",null,null,2,{"$f":"COUNTIF(top10Usrs[Top 10 Posters],tblPosts[[#This Row],[poster_id]])","v":1}]
[1223,1,328,4360,null,"2010-03-18T12:43:41",null,null,4,{"$f":"COUNTIF(top10Usrs[Top 10 Posters],tblPosts[[#This Row],[poster_id]])","v":0}]
[1224,1,338,4498,null,"2010-03-18T19:48:52",null,null,3,{"$f":"COUNTIF(top10Usrs[Top 10 Posters],tblPosts[[#This Row],[poster_id]])","v":0}]
[1225,1,339,4530,null,"2010-03-19T00:31:16",null,null,1,{"$f":"COUNTIF(top10Usrs[Top 10 Posters],tblPosts[[#This Row],[poster_id]])","v":0}]
[1226,1,68,4530,null,"2010-03-19T01:15:08",null,null,4,{"$f":"COUNTIF(top10Usrs[Top 10 Posters],tblPosts[[#This Row],[poster_id]])","v":0}]
[1227,1,338,24,null,"2010-03-19T01:27:14",null,null,4,{"$f":"COUNTIF(top10Usrs[Top 10 Posters],tblPosts[[#This Row],[poster_id]])","v":1}]
[1228,1,340,4536,null,"2010-03-19T03:20:38",null,null,1,{"$f":"COUNTIF(top10Usrs[Top 10 Posters],tblPosts[[#This Row],[poster_id]])","v":0}]
[1229,1,68,24,null,"2010-03-19T05:03:23",null,null,5,{"$f":"COUNTIF(top10Usrs[Top 10 Posters],tblPosts[[#This Row],[poster_id]])","v":1}]
[1230,1,339,24,null,"2010-03-19T05:12:35",null,null,2,{"$f":"COUNTIF(top10Usrs[Top 10 Posters],tblPosts[[#This Row],[poster_id]])","v":1}]
[1231,1,341,1886,null,"2010-03-19T07:25:26",null,null,1,{"$f":"COUNTIF(top10Usrs[Top 10 Posters],tblPosts[[#This Row],[poster_id]])","v":0}]
[1232,1,297,3924,null,"2010-03-19T14:40:23",null,null,3,{"$f":"COUNTIF(top10Usrs[Top 10 Posters],tblPosts[[#This Row],[poster_id]])","v":0}]
[1233,1,297,24,null,"2010-03-19T14:56:13",null,null,4,{"$f":"COUNTIF(top10Usrs[Top 10 Posters],tblPosts[[#This Row],[poster_id]])","v":1}]
[1234,1,279,4551,null,"2010-03-19T16:42:36",null,null,2,{"$f":"COUNTIF(top10Usrs[Top 10 Posters],tblPosts[[#This Row],[poster_id]])","v":0}]
[1235,1,342,4551,null,"2010-03-19T16:44:14",null,null,1,{"$f":"COUNTIF(top10Usrs[Top 10 Posters],tblPosts[[#This Row],[poster_id]])","v":0}]
[1236,1,343,4544,null,"2010-03-19T19:53:10",null,null,1,{"$f":"COUNTIF(top10Usrs[Top 10 Posters],tblPosts[[#This Row],[poster_id]])","v":0}]
[1237,1,344,4557,null,"2010-03-19T21:10:49",null,null,1,{"$f":"COUNTIF(top10Usrs[Top 10 Posters],tblPosts[[#This Row],[poster_id]])","v":0}]
[1238,1,343,24,null,"2010-03-20T00:08:37",null,null,2,{"$f":"COUNTIF(top10Usrs[Top 10 Posters],tblPosts[[#This Row],[poster_id]])","v":1}]
[1239,1,342,24,null,"2010-03-20T00:30:22",null,null,2,{"$f":"COUNTIF(top10Usrs[Top 10 Posters],tblPosts[[#This Row],[poster_id]])","v":1}]
[1240,1,345,4530,null,"2010-03-21T23:40:10",null,null,1,{"$f":"COUNTIF(top10Usrs[Top 10 Posters],tblPosts[[#This Row],[poster_id]])","v":0}]
[1241,1,346,4632,null,"2010-03-22T01:19:17",null,null,1,{"$f":"COUNTIF(top10Usrs[Top 10 Posters],tblPosts[[#This Row],[poster_id]])","v":0}]
[1242,1,346,24,null,"2010-03-22T01:51:22",null,null,1,{"$f":"COUNTIF(top10Usrs[Top 10 Posters],tblPosts[[#This Row],[poster_id]])","v":1}]
[1243,1,346,24,null,"2010-03-22T01:52:03",null,null,2,{"$f":"COUNTIF(top10Usrs[Top 10 Posters],tblPosts[[#This Row],[poster_id]])","v":1}]
[1244,1,345,24,null,"2010-03-22T10:32:31",null,null,2,{"$f":"COUNTIF(top10Usrs[Top 10 Posters],tblPosts[[#This Row],[poster_id]])","v":1}]
[1245,1,347,2758,null,"2010-03-22T11:38:14",null,null,1,{"$f":"COUNTIF(top10Usrs[Top 10 Posters],tblPosts[[#This Row],[poster_id]])","v":0}]
[1246,1,345,4530,null,"2010-03-22T14:14:56",null,null,3,{"$f":"COUNTIF(top10Usrs[Top 10 Posters],tblPosts[[#This Row],[poster_id]])","v":0}]
[1247,1,345,4530,null,"2010-03-22T14:38:49",null,null,4,{"$f":"COUNTIF(top10Usrs[Top 10 Posters],tblPosts[[#This Row],[poster_id]])","v":0}]
[1248,1,345,2865,null,"2010-03-22T16:13:05",null,null,5,{"$f":"COUNTIF(top10Usrs[Top 10 Posters],tblPosts[[#This Row],[poster_id]])","v":0}]
[1249,1,345,4530,null,"2010-03-22T16:23:31",null,null,6,{"$f":"COUNTIF(top10Usrs[Top 10 Posters],tblPosts[[#This Row],[poster_id]])","v":0}]
[1250,1,344,24,null,"2010-03-22T23:59:17",null,null,2,{"$f":"COUNTIF(top10Usrs[Top 10 Posters],tblPosts[[#This Row],[poster_id]])","v":1}]
[1251,1,348,4661,null,"2010-03-23T00:09:06",null,null,1,{"$f":"COUNTIF(top10Usrs[Top 10 Posters],tblPosts[[#This Row],[poster_id]])","v":0}]
[1252,1,348,24,null,"2010-03-23T02:29:42",null,null,2,{"$f":"COUNTIF(top10Usrs[Top 10 Posters],tblPosts[[#This Row],[poster_id]])","v":1}]
[1253,1,349,2369,null,"2010-03-23T03:16:15",null,null,1,{"$f":"COUNTIF(top10Usrs[Top 10 Posters],tblPosts[[#This Row],[poster_id]])","v":0}]
[1254,1,344,2865,null,"2010-03-23T07:23:32",null,null,3,{"$f":"COUNTIF(top10Usrs[Top 10 Posters],tblPosts[[#This Row],[poster_id]])","v":0}]
[1255,1,348,1,null,"2010-03-23T10:13:03",null,null,3,{"$f":"COUNTIF(top10Usrs[Top 10 Posters],tblPosts[[#This Row],[poster_id]])","v":1}]
[1256,1,349,24,null,"2010-03-23T12:22:03",null,null,2,{"$f":"COUNTIF(top10Usrs[Top 10 Posters],tblPosts[[#This Row],[poster_id]])","v":1}]
[1257,1,348,4661,null,"2010-03-23T12:37:17",null,null,4,{"$f":"COUNTIF(top10Usrs[Top 10 Posters],tblPosts[[#This Row],[poster_id]])","v":0}]
[1258,1,348,24,null,"2010-03-23T13:22:32",null,null,5,{"$f":"COUNTIF(top10Usrs[Top 10 Posters],tblPosts[[#This Row],[poster_id]])","v":1}]
[1259,1,315,4675,null,"2010-03-23T15:01:36",null,null,5,{"$f":"COUNTIF(top10Usrs[Top 10 Posters],tblPosts[[#This Row],[poster_id]])","v":0}]
[1260,1,350,4530,null,"2010-03-23T19:44:34",null,null,1,{"$f":"COUNTIF(top10Usrs[Top 10 Posters],tblPosts[[#This Row],[poster_id]])","v":0}]
[1261,1,351,4687,null,"2010-03-23T20:29:08",null,null,1,{"$f":"COUNTIF(top10Usrs[Top 10 Posters],tblPosts[[#This Row],[poster_id]])","v":0}]
[1262,1,350,24,null,"2010-03-24T00:03:32",null,null,2,{"$f":"COUNTIF(top10Usrs[Top 10 Posters],tblPosts[[#This Row],[poster_id]])","v":1}]
[1263,1,352,4699,null,"2010-03-24T02:17:43",null,null,1,{"$f":"COUNTIF(top10Usrs[Top 10 Posters],tblPosts[[#This Row],[poster_id]])","v":0}]
[1264,1,352,24,null,"2010-03-24T04:07:35",null,null,2,{"$f":"COUNTIF(top10Usrs[Top 10 Posters],tblPosts[[#This Row],[poster_id]])","v":1}]
[1265,1,341,1886,null,"2010-03-24T07:40:27",null,null,2,{"$f":"COUNTIF(top10Usrs[Top 10 Posters],tblPosts[[#This Row],[poster_id]])","v":0}]
[1266,3,353,4712,null,"2010-03-24T08:00:07",null,null,1,{"$f":"COUNTIF(top10Usrs[Top 10 Posters],tblPosts[[#This Row],[poster_id]])","v":0}]
[1267,3,353,24,null,"2010-03-24T08:53:15",null,null,2,{"$f":"COUNTIF(top10Usrs[Top 10 Posters],tblPosts[[#This Row],[poster_id]])","v":1}]
[1268,3,353,4712,null,"2010-03-24T12:40:06",null,null,3,{"$f":"COUNTIF(top10Usrs[Top 10 Posters],tblPosts[[#This Row],[poster_id]])","v":0}]
[1269,3,353,4712,null,"2010-03-24T12:44:24",null,null,4,{"$f":"COUNTIF(top10Usrs[Top 10 Posters],tblPosts[[#This Row],[poster_id]])","v":0}]
[1270,1,350,4530,null,"2010-03-24T14:09:37",null,null,3,{"$f":"COUNTIF(top10Usrs[Top 10 Posters],tblPosts[[#This Row],[poster_id]])","v":0}]
[1271,1,345,4530,null,"2010-03-24T14:57:09",null,null,7,{"$f":"COUNTIF(top10Usrs[Top 10 Posters],tblPosts[[#This Row],[poster_id]])","v":0}]
[1272,1,345,4530,null,"2010-03-24T14:59:15",null,null,8,{"$f":"COUNTIF(top10Usrs[Top 10 Posters],tblPosts[[#This Row],[poster_id]])","v":0}]
[1273,4,2,4725,null,"2010-03-24T15:21:58",null,null,41,{"$f":"COUNTIF(top10Usrs[Top 10 Posters],tblPosts[[#This Row],[poster_id]])","v":0}]
[1274,1,354,4725,null,"2010-03-24T15:26:49",null,null,1,{"$f":"COUNTIF(top10Usrs[Top 10 Posters],tblPosts[[#This Row],[poster_id]])","v":0}]
[1275,1,354,2018,null,"2010-03-24T16:32:10",null,null,2,{"$f":"COUNTIF(top10Usrs[Top 10 Posters],tblPosts[[#This Row],[poster_id]])","v":0}]
[1276,1,354,2865,null,"2010-03-24T16:40:42",null,null,3,{"$f":"COUNTIF(top10Usrs[Top 10 Posters],tblPosts[[#This Row],[poster_id]])","v":0}]
[1277,1,344,4557,null,"2010-03-24T20:21:38",null,null,4,{"$f":"COUNTIF(top10Usrs[Top 10 Posters],tblPosts[[#This Row],[poster_id]])","v":0}]
[1278,1,350,24,null,"2010-03-25T00:02:26",null,null,4,{"$f":"COUNTIF(top10Usrs[Top 10 Posters],tblPosts[[#This Row],[poster_id]])","v":1}]
[1279,1,355,4742,null,"2010-03-25T01:15:05",null,null,1,{"$f":"COUNTIF(top10Usrs[Top 10 Posters],tblPosts[[#This Row],[poster_id]])","v":0}]
[1280,1,355,24,null,"2010-03-25T01:54:31",null,null,2,{"$f":"COUNTIF(top10Usrs[Top 10 Posters],tblPosts[[#This Row],[poster_id]])","v":1}]
[1281,1,355,4742,null,"2010-03-25T02:14:38",null,null,3,{"$f":"COUNTIF(top10Usrs[Top 10 Posters],tblPosts[[#This Row],[poster_id]])","v":0}]
[1282,1,355,24,null,"2010-03-25T07:24:33",null,null,4,{"$f":"COUNTIF(top10Usrs[Top 10 Posters],tblPosts[[#This Row],[poster_id]])","v":1}]
[1283,1,343,4544,null,"2010-03-25T08:56:51",null,null,3,{"$f":"COUNTIF(top10Usrs[Top 10 Posters],tblPosts[[#This Row],[poster_id]])","v":0}]
[1284,1,343,24,null,"2010-03-25T12:10:30",null,null,4,{"$f":"COUNTIF(top10Usrs[Top 10 Posters],tblPosts[[#This Row],[poster_id]])","v":1}]
[1285,1,348,24,null,"2010-03-25T13:27:58",null,null,6,{"$f":"COUNTIF(top10Usrs[Top 10 Posters],tblPosts[[#This Row],[poster_id]])","v":1}]
[1286,1,350,4530,null,"2010-03-25T13:50:19",null,null,5,{"$f":"COUNTIF(top10Usrs[Top 10 Posters],tblPosts[[#This Row],[poster_id]])","v":0}]
[1287,1,350,24,null,"2010-03-25T14:05:46",null,null,6,{"$f":"COUNTIF(top10Usrs[Top 10 Posters],tblPosts[[#This Row],[poster_id]])","v":1}]
[1288,1,343,4544,null,"2010-03-25T15:59:55",null,null,5,{"$f":"COUNTIF(top10Usrs[Top 10 Posters],tblPosts[[#This Row],[poster_id]])","v":0}]
[1289,1,343,4544,null,"2010-03-25T16:03:58",null,null,6,{"$f":"COUNTIF(top10Usrs[Top 10 Posters],tblPosts[[#This Row],[poster_id]])","v":0}]
[1290,1,343,4544,null,"2010-03-25T16:09:54",null,null,7,{"$f":"COUNTIF(top10Usrs[Top 10 Posters],tblPosts[[#This Row],[poster_id]])","v":0}]
[1291,1,343,4544,null,"2010-03-25T18:32:37",null,null,8,{"$f":"COUNTIF(top10Usrs[Top 10 Posters],tblPosts[[#This Row],[poster_id]])","v":0}]
[1292,1,343,4544,null,"2010-03-25T19:08:16",null,null,9,{"$f":"COUNTIF(top10Usrs[Top 10 Posters],tblPosts[[#This Row],[poster_id]])","v":0}]
[1293,1,343,4544,null,"2010-03-25T20:03:06",null,null,10,{"$f":"COUNTIF(top10Usrs[Top 10 Posters],tblPosts[[#This Row],[poster_id]])","v":0}]
[1294,1,348,4661,null,"2010-03-25T20:47:24",null,null,7,{"$f":"COUNTIF(top10Usrs[Top 10 Posters],tblPosts[[#This Row],[poster_id]])","v":0}]
[1295,1,343,24,null,"2010-03-25T22:45:01",null,null,11,{"$f":"COUNTIF(top10Usrs[Top 10 Posters],tblPosts[[#This Row],[poster_id]])","v":1}]
[1296,1,349,2369,null,"2010-03-26T04:25:21",null,null,3,{"$f":"COUNTIF(top10Usrs[Top 10 Posters],tblPosts[[#This Row],[poster_id]])","v":0}]
[1297,1,356,2369,null,"2010-03-26T04:51:27",null,null,1,{"$f":"COUNTIF(top10Usrs[Top 10 Posters],tblPosts[[#This Row],[poster_id]])","v":0}]
[1298,1,349,24,null,"2010-03-26T05:25:00",null,null,4,{"$f":"COUNTIF(top10Usrs[Top 10 Posters],tblPosts[[#This Row],[poster_id]])","v":1}]
[1299,1,356,24,null,"2010-03-26T05:33:34",null,null,2,{"$f":"COUNTIF(top10Usrs[Top 10 Posters],tblPosts[[#This Row],[poster_id]])","v":1}]
[1300,1,357,4775,null,"2010-03-26T08:53:09",null,null,1,{"$f":"COUNTIF(top10Usrs[Top 10 Posters],tblPosts[[#This Row],[poster_id]])","v":0}]
[1301,1,357,24,null,"2010-03-26T09:27:23",null,null,2,{"$f":"COUNTIF(top10Usrs[Top 10 Posters],tblPosts[[#This Row],[poster_id]])","v":1}]
[1302,1,357,24,null,"2010-03-26T09:30:33",null,null,3,{"$f":"COUNTIF(top10Usrs[Top 10 Posters],tblPosts[[#This Row],[poster_id]])","v":1}]
[1303,1,351,24,null,"2010-03-26T11:04:07",null,null,2,{"$f":"COUNTIF(top10Usrs[Top 10 Posters],tblPosts[[#This Row],[poster_id]])","v":1}]
[1304,1,297,3924,null,"2010-03-26T14:25:13",null,null,5,{"$f":"COUNTIF(top10Usrs[Top 10 Posters],tblPosts[[#This Row],[poster_id]])","v":0}]
[1305,1,358,4787,null,"2010-03-26T14:49:07",null,null,1,{"$f":"COUNTIF(top10Usrs[Top 10 Posters],tblPosts[[#This Row],[poster_id]])","v":0}]
[1306,1,359,4789,null,"2010-03-26T15:28:44",null,null,1,{"$f":"COUNTIF(top10Usrs[Top 10 Posters],tblPosts[[#This Row],[poster_id]])","v":0}]
[1307,1,360,4792,null,"2010-03-26T16:58:41",null,null,1,{"$f":"COUNTIF(top10Usrs[Top 10 Posters],tblPosts[[#This Row],[poster_id]])","v":0}]
[1308,1,361,4797,null,"2010-03-26T19:02:56",null,null,1,{"$f":"COUNTIF(top10Usrs[Top 10 Posters],tblPosts[[#This Row],[poster_id]])","v":0}]
[1309,1,358,4530,null,"2010-03-26T19:47:32",null,null,2,{"$f":"COUNTIF(top10Usrs[Top 10 Posters],tblPosts[[#This Row],[poster_id]])","v":0}]
[1310,1,356,2369,null,"2010-03-26T21:48:17",null,null,3,{"$f":"COUNTIF(top10Usrs[Top 10 Posters],tblPosts[[#This Row],[poster_id]])","v":0}]
[1311,1,359,24,null,"2010-03-27T00:41:24",null,null,2,{"$f":"COUNTIF(top10Usrs[Top 10 Posters],tblPosts[[#This Row],[poster_id]])","v":1}]
[1312,1,356,24,null,"2010-03-27T00:53:07",null,null,4,{"$f":"COUNTIF(top10Usrs[Top 10 Posters],tblPosts[[#This Row],[poster_id]])","v":1}]
[1313,1,361,24,null,"2010-03-27T01:12:00",null,null,2,{"$f":"COUNTIF(top10Usrs[Top 10 Posters],tblPosts[[#This Row],[poster_id]])","v":1}]
[1314,1,358,24,null,"2010-03-27T07:21:06",null,null,3,{"$f":"COUNTIF(top10Usrs[Top 10 Posters],tblPosts[[#This Row],[poster_id]])","v":1}]
[1315,1,360,24,null,"2010-03-27T07:47:29",null,null,2,{"$f":"COUNTIF(top10Usrs[Top 10 Posters],tblPosts[[#This Row],[poster_id]])","v":1}]
[1316,1,362,4856,null,"2010-03-28T08:59:12",null,null,1,{"$f":"COUNTIF(top10Usrs[Top 10 Posters],tblPosts[[#This Row],[poster_id]])","v":0}]
[1317,1,362,2865,null,"2010-03-28T10:10:49",null,null,2,{"$f":"COUNTIF(top10Usrs[Top 10 Posters],tblPosts[[#This Row],[poster_id]])","v":0}]
[1318,1,361,4797,null,"2010-03-28T14:02:06",null,null,3,{"$f":"COUNTIF(top10Usrs[Top 10 Posters],tblPosts[[#This Row],[poster_id]])","v":0}]
[1319,1,361,24,null,"2010-03-28T15:15:57",null,null,4,{"$f":"COUNTIF(top10Usrs[Top 10 Posters],tblPosts[[#This Row],[poster_id]])","v":1}]
[1320,1,361,24,null,"2010-03-28T15:16:45",null,null,3,{"$f":"COUNTIF(top10Usrs[Top 10 Posters],tblPosts[[#This Row],[poster_id]])","v":1}]
[1321,1,361,24,null,"2010-03-28T15:18:01",null,null,3,{"$f":"COUNTIF(top10Usrs[Top 10 Posters],tblPosts[[#This Row],[poster_id]])","v":1}]
[1322,1,361,24,null,"2010-03-28T15:18:45",null,null,3,{"$f":"COUNTIF(top10Usrs[Top 10 Posters],tblPosts[[#This Row],[poster_id]])","v":1}]
[1323,1,361,24,null,"2010-03-29T00:04:56",null,null,3,{"$f":"COUNTIF(top10Usrs[Top 10 Posters],tblPosts[[#This Row],[poster_id]])","v":1}]
[1324,1,361,24,null,"2010-03-29T00:05:42",null,null,3,{"$f":"COUNTIF(top10Usrs[Top 10 Posters],tblPosts[[#This Row],[poster_id]])","v":1}]
[1325,1,363,4874,null,"2010-03-29T03:19:43",null,null,0,{"$f":"COUNTIF(top10Usrs[Top 10 Posters],tblPosts[[#This Row],[poster_id]])","v":0}]
[1326,4,2,4874,null,"2010-03-29T03:27:34",null,null,42,{"$f":"COUNTIF(top10Usrs[Top 10 Posters],tblPosts[[#This Row],[poster_id]])","v":0}]
[1327,1,364,4874,null,"2010-03-29T03:29:30",null,null,0,{"$f":"COUNTIF(top10Usrs[Top 10 Posters],tblPosts[[#This Row],[poster_id]])","v":0}]
[1328,1,358,4787,null,"2010-03-29T13:31:45",null,null,4,{"$f":"COUNTIF(top10Usrs[Top 10 Posters],tblPosts[[#This Row],[poster_id]])","v":0}]
[1329,4,2,4896,null,"2010-03-29T17:25:06",null,null,43,{"$f":"COUNTIF(top10Usrs[Top 10 Posters],tblPosts[[#This Row],[poster_id]])","v":0}]
[1330,1,365,4896,null,"2010-03-29T17:46:29",null,null,1,{"$f":"COUNTIF(top10Usrs[Top 10 Posters],tblPosts[[#This Row],[poster_id]])","v":0}]
[1331,1,366,4898,null,"2010-03-29T17:48:14",null,null,1,{"$f":"COUNTIF(top10Usrs[Top 10 Posters],tblPosts[[#This Row],[poster_id]])","v":0}]
[1332,1,367,4899,null,"2010-03-29T18:08:33",null,null,1,{"$f":"COUNTIF(top10Usrs[Top 10 Posters],tblPosts[[#This Row],[poster_id]])","v":0}]
[1333,1,365,2865,null,"2010-03-29T19:42:52",null,null,2,{"$f":"COUNTIF(top10Usrs[Top 10 Posters],tblPosts[[#This Row],[poster_id]])","v":0}]
[1334,1,366,2865,null,"2010-03-29T19:48:55",null,null,2,{"$f":"COUNTIF(top10Usrs[Top 10 Posters],tblPosts[[#This Row],[poster_id]])","v":0}]
[1335,1,367,2865,null,"2010-03-29T19:53:25",null,null,2,{"$f":"COUNTIF(top10Usrs[Top 10 Posters],tblPosts[[#This Row],[poster_id]])","v":0}]
[1336,1,365,4896,null,"2010-03-29T20:16:18",null,null,3,{"$f":"COUNTIF(top10Usrs[Top 10 Posters],tblPosts[[#This Row],[poster_id]])","v":0}]
[1337,1,367,4899,null,"2010-03-29T22:00:29",null,null,3,{"$f":"COUNTIF(top10Usrs[Top 10 Posters],tblPosts[[#This Row],[poster_id]])","v":0}]
[1338,1,359,4789,null,"2010-03-29T22:11:52",null,null,3,{"$f":"COUNTIF(top10Usrs[Top 10 Posters],tblPosts[[#This Row],[poster_id]])","v":0}]
[1339,1,367,2865,null,"2010-03-29T22:52:13",null,null,4,{"$f":"COUNTIF(top10Usrs[Top 10 Posters],tblPosts[[#This Row],[poster_id]])","v":0}]
[1340,1,368,4900,null,"2010-03-29T23:02:15",null,null,1,{"$f":"COUNTIF(top10Usrs[Top 10 Posters],tblPosts[[#This Row],[poster_id]])","v":0}]
[1341,1,369,4903,null,"2010-03-30T03:04:26",null,null,1,{"$f":"COUNTIF(top10Usrs[Top 10 Posters],tblPosts[[#This Row],[poster_id]])","v":0}]
[1342,1,369,24,null,"2010-03-30T04:04:13",null,null,2,{"$f":"COUNTIF(top10Usrs[Top 10 Posters],tblPosts[[#This Row],[poster_id]])","v":1}]
[1343,1,368,24,null,"2010-03-30T04:09:24",null,null,2,{"$f":"COUNTIF(top10Usrs[Top 10 Posters],tblPosts[[#This Row],[poster_id]])","v":1}]
[1344,1,369,4903,null,"2010-03-30T04:13:23",null,null,3,{"$f":"COUNTIF(top10Usrs[Top 10 Posters],tblPosts[[#This Row],[poster_id]])","v":0}]
[1345,1,369,24,null,"2010-03-30T04:46:42",null,null,4,{"$f":"COUNTIF(top10Usrs[Top 10 Posters],tblPosts[[#This Row],[poster_id]])","v":1}]
[1346,1,369,24,null,"2010-03-30T05:26:17",null,null,5,{"$f":"COUNTIF(top10Usrs[Top 10 Posters],tblPosts[[#This Row],[poster_id]])","v":1}]
[1347,1,370,4910,null,"2010-03-30T07:34:19",null,null,1,{"$f":"COUNTIF(top10Usrs[Top 10 Posters],tblPosts[[#This Row],[poster_id]])","v":0}]
[1348,1,368,2865,null,"2010-03-30T09:05:09",null,null,3,{"$f":"COUNTIF(top10Usrs[Top 10 Posters],tblPosts[[#This Row],[poster_id]])","v":0}]
[1349,1,370,2865,null,"2010-03-30T09:18:26",null,null,2,{"$f":"COUNTIF(top10Usrs[Top 10 Posters],tblPosts[[#This Row],[poster_id]])","v":0}]
[1350,1,359,24,null,"2010-03-30T10:57:40",null,null,4,{"$f":"COUNTIF(top10Usrs[Top 10 Posters],tblPosts[[#This Row],[poster_id]])","v":1}]
[1351,1,371,4896,null,"2010-03-30T12:46:18",null,null,1,{"$f":"COUNTIF(top10Usrs[Top 10 Posters],tblPosts[[#This Row],[poster_id]])","v":0}]
[1352,1,367,4899,null,"2010-03-30T12:48:59",null,null,5,{"$f":"COUNTIF(top10Usrs[Top 10 Posters],tblPosts[[#This Row],[poster_id]])","v":0}]
[1353,1,371,24,null,"2010-03-30T13:01:44",null,null,2,{"$f":"COUNTIF(top10Usrs[Top 10 Posters],tblPosts[[#This Row],[poster_id]])","v":1}]
[1354,1,371,4896,null,"2010-03-30T13:50:29",null,null,3,{"$f":"COUNTIF(top10Usrs[Top 10 Posters],tblPosts[[#This Row],[poster_id]])","v":0}]
[1355,1,371,4896,null,"2010-03-30T14:10:27",null,null,4,{"$f":"COUNTIF(top10Usrs[Top 10 Posters],tblPosts[[#This Row],[poster_id]])","v":0}]
[1356,1,371,24,null,"2010-03-30T14:18:43",null,null,5,{"$f":"COUNTIF(top10Usrs[Top 10 Posters],tblPosts[[#This Row],[poster_id]])","v":1}]
[1357,1,371,4896,null,"2010-03-30T15:18:14",null,null,6,{"$f":"COUNTIF(top10Usrs[Top 10 Posters],tblPosts[[#This Row],[poster_id]])","v":0}]
[1358,1,359,4789,null,"2010-03-30T15:19:52",null,null,5,{"$f":"COUNTIF(top10Usrs[Top 10 Posters],tblPosts[[#This Row],[poster_id]])","v":0}]
[1359,1,369,4903,null,"2010-03-30T15:29:59",null,null,6,{"$f":"COUNTIF(top10Usrs[Top 10 Posters],tblPosts[[#This Row],[poster_id]])","v":0}]
[1360,1,368,4900,null,"2010-03-30T15:35:03",null,null,4,{"$f":"COUNTIF(top10Usrs[Top 10 Posters],tblPosts[[#This Row],[poster_id]])","v":0}]
[1361,1,372,4068,null,"2010-03-30T18:31:00",null,null,1,{"$f":"COUNTIF(top10Usrs[Top 10 Posters],tblPosts[[#This Row],[poster_id]])","v":0}]
[1362,1,373,376,null,"2010-03-30T19:29:58",null,null,1,{"$f":"COUNTIF(top10Usrs[Top 10 Posters],tblPosts[[#This Row],[poster_id]])","v":0}]
[1363,1,371,4896,null,"2010-03-30T19:58:01",null,null,7,{"$f":"COUNTIF(top10Usrs[Top 10 Posters],tblPosts[[#This Row],[poster_id]])","v":0}]
[1364,1,279,4928,null,"2010-03-30T20:57:10",null,null,2,{"$f":"COUNTIF(top10Usrs[Top 10 Posters],tblPosts[[#This Row],[poster_id]])","v":0}]
[1365,1,373,24,null,"2010-03-31T11:32:05",null,null,2,{"$f":"COUNTIF(top10Usrs[Top 10 Posters],tblPosts[[#This Row],[poster_id]])","v":1}]
[1366,1,374,4928,null,"2010-03-31T15:43:34",null,null,0,{"$f":"COUNTIF(top10Usrs[Top 10 Posters],tblPosts[[#This Row],[poster_id]])","v":0}]
[1367,1,375,4557,null,"2010-03-31T19:36:39",null,null,1,{"$f":"COUNTIF(top10Usrs[Top 10 Posters],tblPosts[[#This Row],[poster_id]])","v":0}]
[1368,1,376,4927,null,"2010-03-31T22:09:01",null,null,1,{"$f":"COUNTIF(top10Usrs[Top 10 Posters],tblPosts[[#This Row],[poster_id]])","v":0}]
[1369,1,375,24,null,"2010-04-01T03:52:34",null,null,2,{"$f":"COUNTIF(top10Usrs[Top 10 Posters],tblPosts[[#This Row],[poster_id]])","v":1}]
[1370,1,376,24,null,"2010-04-01T05:50:27",null,null,2,{"$f":"COUNTIF(top10Usrs[Top 10 Posters],tblPosts[[#This Row],[poster_id]])","v":1}]
[1371,1,377,4753,null,"2010-04-01T14:37:39",null,null,1,{"$f":"COUNTIF(top10Usrs[Top 10 Posters],tblPosts[[#This Row],[poster_id]])","v":0}]
[1372,1,372,1,null,"2010-04-01T15:40:31",null,null,2,{"$f":"COUNTIF(top10Usrs[Top 10 Posters],tblPosts[[#This Row],[poster_id]])","v":1}]
[1373,1,377,1,null,"2010-04-01T15:43:21",null,null,2,{"$f":"COUNTIF(top10Usrs[Top 10 Posters],tblPosts[[#This Row],[poster_id]])","v":1}]
[1374,1,378,4983,null,"2010-04-01T20:50:04",null,null,1,{"$f":"COUNTIF(top10Usrs[Top 10 Posters],tblPosts[[#This Row],[poster_id]])","v":0}]
[1375,1,378,24,null,"2010-04-02T00:03:05",null,null,2,{"$f":"COUNTIF(top10Usrs[Top 10 Posters],tblPosts[[#This Row],[poster_id]])","v":1}]
[1376,1,378,4983,null,"2010-04-02T15:05:26",null,null,3,{"$f":"COUNTIF(top10Usrs[Top 10 Posters],tblPosts[[#This Row],[poster_id]])","v":0}]
[1377,1,375,4557,null,"2010-04-04T13:55:58",null,null,3,{"$f":"COUNTIF(top10Usrs[Top 10 Posters],tblPosts[[#This Row],[poster_id]])","v":0}]
[1378,1,379,4557,null,"2010-04-04T14:13:29",null,null,1,{"$f":"COUNTIF(top10Usrs[Top 10 Posters],tblPosts[[#This Row],[poster_id]])","v":0}]
[1379,1,380,5054,null,"2010-04-04T16:40:04",null,null,1,{"$f":"COUNTIF(top10Usrs[Top 10 Posters],tblPosts[[#This Row],[poster_id]])","v":0}]
[1380,1,381,5054,null,"2010-04-04T16:55:02",null,null,1,{"$f":"COUNTIF(top10Usrs[Top 10 Posters],tblPosts[[#This Row],[poster_id]])","v":0}]
[1381,1,381,2865,null,"2010-04-04T22:08:52",null,null,2,{"$f":"COUNTIF(top10Usrs[Top 10 Posters],tblPosts[[#This Row],[poster_id]])","v":0}]
[1382,1,380,24,null,"2010-04-05T01:22:26",null,null,2,{"$f":"COUNTIF(top10Usrs[Top 10 Posters],tblPosts[[#This Row],[poster_id]])","v":1}]
[1383,1,382,3017,null,"2010-04-05T20:11:42",null,null,1,{"$f":"COUNTIF(top10Usrs[Top 10 Posters],tblPosts[[#This Row],[poster_id]])","v":0}]
[1384,1,383,4900,null,"2010-04-05T21:29:03",null,null,1,{"$f":"COUNTIF(top10Usrs[Top 10 Posters],tblPosts[[#This Row],[poster_id]])","v":0}]
[1385,1,383,24,null,"2010-04-05T23:40:35",null,null,2,{"$f":"COUNTIF(top10Usrs[Top 10 Posters],tblPosts[[#This Row],[poster_id]])","v":1}]
[1386,1,382,24,null,"2010-04-05T23:48:48",null,null,2,{"$f":"COUNTIF(top10Usrs[Top 10 Posters],tblPosts[[#This Row],[poster_id]])","v":1}]
[1387,1,384,5088,null,"2010-04-06T01:17:16",null,null,1,{"$f":"COUNTIF(top10Usrs[Top 10 Posters],tblPosts[[#This Row],[poster_id]])","v":0}]
[1388,1,384,24,null,"2010-04-06T02:57:54",null,null,2,{"$f":"COUNTIF(top10Usrs[Top 10 Posters],tblPosts[[#This Row],[poster_id]])","v":1}]
[1389,1,384,24,null,"2010-04-06T10:37:59",null,null,3,{"$f":"COUNTIF(top10Usrs[Top 10 Posters],tblPosts[[#This Row],[poster_id]])","v":1}]
[1390,1,384,5088,null,"2010-04-06T11:53:44",null,null,4,{"$f":"COUNTIF(top10Usrs[Top 10 Posters],tblPosts[[#This Row],[poster_id]])","v":0}]
[1391,1,383,4900,null,"2010-04-06T21:45:12",null,null,3,{"$f":"COUNTIF(top10Usrs[Top 10 Posters],tblPosts[[#This Row],[poster_id]])","v":0}]
[1392,1,383,4900,null,"2010-04-06T21:53:24",null,null,4,{"$f":"COUNTIF(top10Usrs[Top 10 Posters],tblPosts[[#This Row],[poster_id]])","v":0}]
[1393,1,385,2369,null,"2010-04-06T22:10:43",null,null,1,{"$f":"COUNTIF(top10Usrs[Top 10 Posters],tblPosts[[#This Row],[poster_id]])","v":0}]
[1394,1,386,4900,null,"2010-04-06T22:18:14",null,null,1,{"$f":"COUNTIF(top10Usrs[Top 10 Posters],tblPosts[[#This Row],[poster_id]])","v":0}]
[1395,1,386,24,null,"2010-04-06T23:55:59",null,null,2,{"$f":"COUNTIF(top10Usrs[Top 10 Posters],tblPosts[[#This Row],[poster_id]])","v":1}]
[1396,1,385,24,null,"2010-04-07T00:12:50",null,null,2,{"$f":"COUNTIF(top10Usrs[Top 10 Posters],tblPosts[[#This Row],[poster_id]])","v":1}]
[1397,1,383,24,null,"2010-04-07T00:26:13",null,null,5,{"$f":"COUNTIF(top10Usrs[Top 10 Posters],tblPosts[[#This Row],[poster_id]])","v":1}]
[1398,1,387,5114,null,"2010-04-07T01:32:21",null,null,1,{"$f":"COUNTIF(top10Usrs[Top 10 Posters],tblPosts[[#This Row],[poster_id]])","v":0}]
[1399,1,387,24,null,"2010-04-07T04:07:01",null,null,2,{"$f":"COUNTIF(top10Usrs[Top 10 Posters],tblPosts[[#This Row],[poster_id]])","v":1}]
[1400,1,387,2865,null,"2010-04-07T06:35:28",null,null,3,{"$f":"COUNTIF(top10Usrs[Top 10 Posters],tblPosts[[#This Row],[poster_id]])","v":0}]
[1401,1,379,2865,null,"2010-04-07T12:17:54",null,null,2,{"$f":"COUNTIF(top10Usrs[Top 10 Posters],tblPosts[[#This Row],[poster_id]])","v":0}]
[1402,1,387,5114,null,"2010-04-07T12:33:04",null,null,4,{"$f":"COUNTIF(top10Usrs[Top 10 Posters],tblPosts[[#This Row],[poster_id]])","v":0}]
[1403,1,388,4390,null,"2010-04-07T13:37:32",null,null,1,{"$f":"COUNTIF(top10Usrs[Top 10 Posters],tblPosts[[#This Row],[poster_id]])","v":0}]
[1404,1,387,24,null,"2010-04-07T14:20:44",null,null,5,{"$f":"COUNTIF(top10Usrs[Top 10 Posters],tblPosts[[#This Row],[poster_id]])","v":1}]
[1405,1,389,5125,null,"2010-04-07T14:52:20",null,null,1,{"$f":"COUNTIF(top10Usrs[Top 10 Posters],tblPosts[[#This Row],[poster_id]])","v":0}]
[1406,1,389,24,null,"2010-04-07T15:27:50",null,null,2,{"$f":"COUNTIF(top10Usrs[Top 10 Posters],tblPosts[[#This Row],[poster_id]])","v":1}]
[1407,1,389,5125,null,"2010-04-07T15:36:51",null,null,3,{"$f":"COUNTIF(top10Usrs[Top 10 Posters],tblPosts[[#This Row],[poster_id]])","v":0}]
[1408,1,389,24,null,"2010-04-07T15:51:45",null,null,4,{"$f":"COUNTIF(top10Usrs[Top 10 Posters],tblPosts[[#This Row],[poster_id]])","v":1}]
[1409,1,389,5125,null,"2010-04-07T16:05:09",null,null,5,{"$f":"COUNTIF(top10Usrs[Top 10 Posters],tblPosts[[#This Row],[poster_id]])","v":0}]
[1410,1,389,24,null,"2010-04-07T16:14:28",null,null,6,{"$f":"COUNTIF(top10Usrs[Top 10 Posters],tblPosts[[#This Row],[poster_id]])","v":1}]
[1411,1,389,24,null,"2010-04-07T16:26:04",null,null,7,{"$f":"COUNTIF(top10Usrs[Top 10 Posters],tblPosts[[#This Row],[poster_id]])","v":1}]
[1412,1,389,5125,null,"2010-04-07T16:59:15",null,null,8,{"$f":"COUNTIF(top10Usrs[Top 10 Posters],tblPosts[[#This Row],[poster_id]])","v":0}]
[1413,1,387,2865,null,"2010-04-07T17:42:13",null,null,6,{"$f":"COUNTIF(top10Usrs[Top 10 Posters],tblPosts[[#This Row],[poster_id]])","v":0}]
[1414,1,389,24,null,"2010-04-08T00:04:04",null,null,9,{"$f":"COUNTIF(top10Usrs[Top 10 Posters],tblPosts[[#This Row],[poster_id]])","v":1}]
[1415,1,388,24,null,"2010-04-08T00:16:38",null,null,2,{"$f":"COUNTIF(top10Usrs[Top 10 Posters],tblPosts[[#This Row],[poster_id]])","v":1}]
[1416,1,388,1,null,"2010-04-08T02:42:34",null,null,3,{"$f":"COUNTIF(top10Usrs[Top 10 Posters],tblPosts[[#This Row],[poster_id]])","v":1}]
[1417,1,390,5136,null,"2010-04-08T07:30:34",null,null,1,{"$f":"COUNTIF(top10Usrs[Top 10 Posters],tblPosts[[#This Row],[poster_id]])","v":0}]
[1418,1,390,24,null,"2010-04-08T09:40:44",null,null,2,{"$f":"COUNTIF(top10Usrs[Top 10 Posters],tblPosts[[#This Row],[poster_id]])","v":1}]
[1420,1,387,5114,null,"2010-04-08T13:19:47",null,null,7,{"$f":"COUNTIF(top10Usrs[Top 10 Posters],tblPosts[[#This Row],[poster_id]])","v":0}]
[1419,1,390,178,null,"2010-04-08T09:45:23",null,null,3,{"$f":"COUNTIF(top10Usrs[Top 10 Posters],tblPosts[[#This Row],[poster_id]])","v":0}]
[1421,1,391,5114,null,"2010-04-08T13:26:08",null,null,1,{"$f":"COUNTIF(top10Usrs[Top 10 Posters],tblPosts[[#This Row],[poster_id]])","v":0}]
[1422,1,386,4900,null,"2010-04-08T14:41:07",null,null,3,{"$f":"COUNTIF(top10Usrs[Top 10 Posters],tblPosts[[#This Row],[poster_id]])","v":0}]
[1423,1,389,5125,null,"2010-04-08T14:43:21",null,null,10,{"$f":"COUNTIF(top10Usrs[Top 10 Posters],tblPosts[[#This Row],[poster_id]])","v":0}]
[1424,1,391,24,null,"2010-04-09T00:06:44",null,null,2,{"$f":"COUNTIF(top10Usrs[Top 10 Posters],tblPosts[[#This Row],[poster_id]])","v":1}]
[1425,1,386,24,null,"2010-04-09T00:27:53",null,null,4,{"$f":"COUNTIF(top10Usrs[Top 10 Posters],tblPosts[[#This Row],[poster_id]])","v":1}]
[1426,1,392,3492,null,"2010-04-09T09:24:18",null,null,1,{"$f":"COUNTIF(top10Usrs[Top 10 Posters],tblPosts[[#This Row],[poster_id]])","v":0}]
[1427,1,392,2865,null,"2010-04-09T10:10:58",null,null,2,{"$f":"COUNTIF(top10Usrs[Top 10 Posters],tblPosts[[#This Row],[poster_id]])","v":0}]
[1428,4,2,3983,null,"2010-04-09T12:15:00",null,null,44,{"$f":"COUNTIF(top10Usrs[Top 10 Posters],tblPosts[[#This Row],[poster_id]])","v":0}]
[1429,1,393,5182,null,"2010-04-09T16:16:25",null,null,1,{"$f":"COUNTIF(top10Usrs[Top 10 Posters],tblPosts[[#This Row],[poster_id]])","v":0}]
[1430,1,393,2865,null,"2010-04-09T16:54:16",null,null,2,{"$f":"COUNTIF(top10Usrs[Top 10 Posters],tblPosts[[#This Row],[poster_id]])","v":0}]
[1431,1,394,3983,null,"2010-04-09T18:14:07",null,null,1,{"$f":"COUNTIF(top10Usrs[Top 10 Posters],tblPosts[[#This Row],[poster_id]])","v":0}]
[1432,1,386,4900,null,"2010-04-09T18:36:33",null,null,5,{"$f":"COUNTIF(top10Usrs[Top 10 Posters],tblPosts[[#This Row],[poster_id]])","v":0}]
[1433,1,391,1,null,"2010-04-10T01:16:56",null,null,3,{"$f":"COUNTIF(top10Usrs[Top 10 Posters],tblPosts[[#This Row],[poster_id]])","v":1}]
[1434,1,394,24,null,"2010-04-10T04:11:41",null,null,2,{"$f":"COUNTIF(top10Usrs[Top 10 Posters],tblPosts[[#This Row],[poster_id]])","v":1}]
[1435,1,394,24,null,"2010-04-10T06:03:57",null,null,3,{"$f":"COUNTIF(top10Usrs[Top 10 Posters],tblPosts[[#This Row],[poster_id]])","v":1}]
[1436,1,391,5114,null,"2010-04-10T22:18:02",null,null,4,{"$f":"COUNTIF(top10Usrs[Top 10 Posters],tblPosts[[#This Row],[poster_id]])","v":0}]
[1437,1,379,4557,null,"2010-04-10T22:33:12",null,null,3,{"$f":"COUNTIF(top10Usrs[Top 10 Posters],tblPosts[[#This Row],[poster_id]])","v":0}]
[1438,1,395,4557,null,"2010-04-10T22:42:22",null,null,1,{"$f":"COUNTIF(top10Usrs[Top 10 Posters],tblPosts[[#This Row],[poster_id]])","v":0}]
[1439,1,396,4557,null,"2010-04-10T23:10:06",null,null,1,{"$f":"COUNTIF(top10Usrs[Top 10 Posters],tblPosts[[#This Row],[poster_id]])","v":0}]
[1440,1,396,24,null,"2010-04-12T00:04:26",null,null,2,{"$f":"COUNTIF(top10Usrs[Top 10 Posters],tblPosts[[#This Row],[poster_id]])","v":1}]
[1441,1,397,5246,null,"2010-04-12T07:51:41",null,null,1,{"$f":"COUNTIF(top10Usrs[Top 10 Posters],tblPosts[[#This Row],[poster_id]])","v":0}]
[1442,1,397,24,null,"2010-04-12T08:30:42",null,null,2,{"$f":"COUNTIF(top10Usrs[Top 10 Posters],tblPosts[[#This Row],[poster_id]])","v":1}]
[1443,2,4,5248,null,"2010-04-12T08:55:47",null,null,4,{"$f":"COUNTIF(top10Usrs[Top 10 Posters],tblPosts[[#This Row],[poster_id]])","v":0}]
[1444,1,394,3983,null,"2010-04-12T09:28:12",null,null,4,{"$f":"COUNTIF(top10Usrs[Top 10 Posters],tblPosts[[#This Row],[poster_id]])","v":0}]
[1445,1,394,24,null,"2010-04-12T10:30:15",null,null,5,{"$f":"COUNTIF(top10Usrs[Top 10 Posters],tblPosts[[#This Row],[poster_id]])","v":1}]
[1446,1,394,3983,null,"2010-04-12T12:01:26",null,null,6,{"$f":"COUNTIF(top10Usrs[Top 10 Posters],tblPosts[[#This Row],[poster_id]])","v":0}]
[1447,1,394,24,null,"2010-04-12T12:27:41",null,null,7,{"$f":"COUNTIF(top10Usrs[Top 10 Posters],tblPosts[[#This Row],[poster_id]])","v":1}]
[1448,1,394,3983,null,"2010-04-12T13:56:11",null,null,8,{"$f":"COUNTIF(top10Usrs[Top 10 Posters],tblPosts[[#This Row],[poster_id]])","v":0}]
[1449,1,398,5267,null,"2010-04-12T22:46:14",null,null,1,{"$f":"COUNTIF(top10Usrs[Top 10 Posters],tblPosts[[#This Row],[poster_id]])","v":0}]
[1450,1,398,24,null,"2010-04-12T23:54:46",null,null,2,{"$f":"COUNTIF(top10Usrs[Top 10 Posters],tblPosts[[#This Row],[poster_id]])","v":1}]
[1451,1,399,28,null,"2010-04-13T09:40:55",null,null,1,{"$f":"COUNTIF(top10Usrs[Top 10 Posters],tblPosts[[#This Row],[poster_id]])","v":0}]
[1452,1,399,28,null,"2010-04-13T11:54:19",null,null,2,{"$f":"COUNTIF(top10Usrs[Top 10 Posters],tblPosts[[#This Row],[poster_id]])","v":0}]
[1453,1,399,1,null,"2010-04-13T16:38:52",null,null,3,{"$f":"COUNTIF(top10Usrs[Top 10 Posters],tblPosts[[#This Row],[poster_id]])","v":1}]
[1454,1,400,5297,null,"2010-04-13T23:54:21",null,null,1,{"$f":"COUNTIF(top10Usrs[Top 10 Posters],tblPosts[[#This Row],[poster_id]])","v":0}]
[1455,1,400,24,null,"2010-04-14T04:51:54",null,null,2,{"$f":"COUNTIF(top10Usrs[Top 10 Posters],tblPosts[[#This Row],[poster_id]])","v":1}]
[1456,1,400,24,null,"2010-04-14T06:18:00",null,null,3,{"$f":"COUNTIF(top10Usrs[Top 10 Posters],tblPosts[[#This Row],[poster_id]])","v":1}]
[1457,1,401,5305,null,"2010-04-14T10:35:08",null,null,1,{"$f":"COUNTIF(top10Usrs[Top 10 Posters],tblPosts[[#This Row],[poster_id]])","v":0}]
[1458,1,401,2758,null,"2010-04-14T11:35:36",null,null,2,{"$f":"COUNTIF(top10Usrs[Top 10 Posters],tblPosts[[#This Row],[poster_id]])","v":0}]
[1459,1,402,5310,null,"2010-04-14T16:35:33",null,null,1,{"$f":"COUNTIF(top10Usrs[Top 10 Posters],tblPosts[[#This Row],[poster_id]])","v":0}]
[1460,1,398,5267,null,"2010-04-14T17:06:25",null,null,3,{"$f":"COUNTIF(top10Usrs[Top 10 Posters],tblPosts[[#This Row],[poster_id]])","v":0}]
[1461,1,402,2758,null,"2010-04-14T17:55:50",null,null,2,{"$f":"COUNTIF(top10Usrs[Top 10 Posters],tblPosts[[#This Row],[poster_id]])","v":0}]
[1462,1,400,5297,null,"2010-04-14T23:44:58",null,null,4,{"$f":"COUNTIF(top10Usrs[Top 10 Posters],tblPosts[[#This Row],[poster_id]])","v":0}]
[1463,1,400,24,null,"2010-04-15T02:03:53",null,null,5,{"$f":"COUNTIF(top10Usrs[Top 10 Posters],tblPosts[[#This Row],[poster_id]])","v":1}]
[1464,1,400,5297,null,"2010-04-15T02:31:37",null,null,6,{"$f":"COUNTIF(top10Usrs[Top 10 Posters],tblPosts[[#This Row],[poster_id]])","v":0}]
[1465,1,400,24,null,"2010-04-15T05:02:19",null,null,7,{"$f":"COUNTIF(top10Usrs[Top 10 Posters],tblPosts[[#This Row],[poster_id]])","v":1}]
[1466,1,403,4910,null,"2010-04-15T06:39:26",null,null,1,{"$f":"COUNTIF(top10Usrs[Top 10 Posters],tblPosts[[#This Row],[poster_id]])","v":0}]
[1467,1,403,2865,null,"2010-04-15T06:50:50",null,null,2,{"$f":"COUNTIF(top10Usrs[Top 10 Posters],tblPosts[[#This Row],[poster_id]])","v":0}]
[1468,1,403,4910,null,"2010-04-15T07:07:29",null,null,3,{"$f":"COUNTIF(top10Usrs[Top 10 Posters],tblPosts[[#This Row],[poster_id]])","v":0}]
[1469,1,403,24,null,"2010-04-15T08:21:02",null,null,4,{"$f":"COUNTIF(top10Usrs[Top 10 Posters],tblPosts[[#This Row],[poster_id]])","v":1}]
[1470,1,403,4910,null,"2010-04-15T09:53:13",null,null,5,{"$f":"COUNTIF(top10Usrs[Top 10 Posters],tblPosts[[#This Row],[poster_id]])","v":0}]
[1471,1,401,5305,null,"2010-04-15T12:30:15",null,null,3,{"$f":"COUNTIF(top10Usrs[Top 10 Posters],tblPosts[[#This Row],[poster_id]])","v":0}]
[1472,1,404,5337,null,"2010-04-15T13:49:35",null,null,1,{"$f":"COUNTIF(top10Usrs[Top 10 Posters],tblPosts[[#This Row],[poster_id]])","v":0}]
[1473,1,405,3793,null,"2010-04-15T17:28:29",null,null,1,{"$f":"COUNTIF(top10Usrs[Top 10 Posters],tblPosts[[#This Row],[poster_id]])","v":0}]
[1474,1,406,5341,null,"2010-04-15T18:22:13",null,null,1,{"$f":"COUNTIF(top10Usrs[Top 10 Posters],tblPosts[[#This Row],[poster_id]])","v":0}]
[1475,1,279,5310,null,"2010-04-15T22:01:32",null,null,2,{"$f":"COUNTIF(top10Usrs[Top 10 Posters],tblPosts[[#This Row],[poster_id]])","v":0}]
[1476,1,405,2865,null,"2010-04-15T22:03:19",null,null,2,{"$f":"COUNTIF(top10Usrs[Top 10 Posters],tblPosts[[#This Row],[poster_id]])","v":0}]
[1477,1,406,24,null,"2010-04-16T00:50:17",null,null,2,{"$f":"COUNTIF(top10Usrs[Top 10 Posters],tblPosts[[#This Row],[poster_id]])","v":1}]
[1478,1,405,24,null,"2010-04-16T00:53:33",null,null,3,{"$f":"COUNTIF(top10Usrs[Top 10 Posters],tblPosts[[#This Row],[poster_id]])","v":1}]
[1479,1,395,50,null,"2010-04-16T01:00:56",null,null,2,{"$f":"COUNTIF(top10Usrs[Top 10 Posters],tblPosts[[#This Row],[poster_id]])","v":0}]
[1480,1,404,24,null,"2010-04-16T03:57:36",null,null,2,{"$f":"COUNTIF(top10Usrs[Top 10 Posters],tblPosts[[#This Row],[poster_id]])","v":1}]
[1481,1,405,2865,null,"2010-04-16T06:29:11",null,null,4,{"$f":"COUNTIF(top10Usrs[Top 10 Posters],tblPosts[[#This Row],[poster_id]])","v":0}]
[1482,1,407,4068,null,"2010-04-16T09:03:51",null,null,1,{"$f":"COUNTIF(top10Usrs[Top 10 Posters],tblPosts[[#This Row],[poster_id]])","v":0}]
[1483,1,404,1,null,"2010-04-16T12:42:18",null,null,3,{"$f":"COUNTIF(top10Usrs[Top 10 Posters],tblPosts[[#This Row],[poster_id]])","v":1}]
[1484,1,407,2865,null,"2010-04-16T13:17:51",null,null,2,{"$f":"COUNTIF(top10Usrs[Top 10 Posters],tblPosts[[#This Row],[poster_id]])","v":0}]
[1485,3,408,5365,null,"2010-04-16T18:26:46",null,null,1,{"$f":"COUNTIF(top10Usrs[Top 10 Posters],tblPosts[[#This Row],[poster_id]])","v":0}]
[1486,1,409,5367,null,"2010-04-16T20:06:58",null,null,1,{"$f":"COUNTIF(top10Usrs[Top 10 Posters],tblPosts[[#This Row],[poster_id]])","v":0}]
[1487,1,409,2865,null,"2010-04-16T20:25:07",null,null,2,{"$f":"COUNTIF(top10Usrs[Top 10 Posters],tblPosts[[#This Row],[poster_id]])","v":0}]
[1488,1,410,4061,null,"2010-04-16T20:45:02",null,null,1,{"$f":"COUNTIF(top10Usrs[Top 10 Posters],tblPosts[[#This Row],[poster_id]])","v":0}]
[1489,1,306,4061,null,"2010-04-16T20:51:45",null,null,3,{"$f":"COUNTIF(top10Usrs[Top 10 Posters],tblPosts[[#This Row],[poster_id]])","v":0}]
[1490,1,406,5341,null,"2010-04-16T21:10:49",null,null,3,{"$f":"COUNTIF(top10Usrs[Top 10 Posters],tblPosts[[#This Row],[poster_id]])","v":0}]
[1491,1,410,24,null,"2010-04-17T00:23:37",null,null,2,{"$f":"COUNTIF(top10Usrs[Top 10 Posters],tblPosts[[#This Row],[poster_id]])","v":1}]
[1492,1,406,24,null,"2010-04-17T00:55:01",null,null,4,{"$f":"COUNTIF(top10Usrs[Top 10 Posters],tblPosts[[#This Row],[poster_id]])","v":1}]
[1493,3,408,24,null,"2010-04-17T01:29:11",null,null,2,{"$f":"COUNTIF(top10Usrs[Top 10 Posters],tblPosts[[#This Row],[poster_id]])","v":1}]
[1494,3,408,5365,null,"2010-04-17T02:22:04",null,null,3,{"$f":"COUNTIF(top10Usrs[Top 10 Posters],tblPosts[[#This Row],[poster_id]])","v":0}]
[1495,3,408,24,null,"2010-04-17T03:10:30",null,null,4,{"$f":"COUNTIF(top10Usrs[Top 10 Posters],tblPosts[[#This Row],[poster_id]])","v":1}]
[1496,1,410,2865,null,"2010-04-17T08:00:53",null,null,3,{"$f":"COUNTIF(top10Usrs[Top 10 Posters],tblPosts[[#This Row],[poster_id]])","v":0}]
[1497,1,410,4061,null,"2010-04-17T08:29:44",null,null,4,{"$f":"COUNTIF(top10Usrs[Top 10 Posters],tblPosts[[#This Row],[poster_id]])","v":0}]
[1498,1,410,4061,null,"2010-04-17T08:37:04",null,null,5,{"$f":"COUNTIF(top10Usrs[Top 10 Posters],tblPosts[[#This Row],[poster_id]])","v":0}]
[1499,1,410,24,null,"2010-04-17T11:59:16",null,null,6,{"$f":"COUNTIF(top10Usrs[Top 10 Posters],tblPosts[[#This Row],[poster_id]])","v":1}]
[1500,1,410,4061,null,"2010-04-17T13:21:33",null,null,7,{"$f":"COUNTIF(top10Usrs[Top 10 Posters],tblPosts[[#This Row],[poster_id]])","v":0}]
[1501,1,410,24,null,"2010-04-17T14:06:11",null,null,8,{"$f":"COUNTIF(top10Usrs[Top 10 Posters],tblPosts[[#This Row],[poster_id]])","v":1}]
[1502,1,410,2865,null,"2010-04-17T18:35:55",null,null,9,{"$f":"COUNTIF(top10Usrs[Top 10 Posters],tblPosts[[#This Row],[poster_id]])","v":0}]
[1503,1,411,5388,null,"2010-04-17T20:10:27",null,null,1,{"$f":"COUNTIF(top10Usrs[Top 10 Posters],tblPosts[[#This Row],[poster_id]])","v":0}]
[1504,1,411,1,null,"2010-04-18T00:03:09",null,null,2,{"$f":"COUNTIF(top10Usrs[Top 10 Posters],tblPosts[[#This Row],[poster_id]])","v":1}]
[1505,1,412,5365,null,"2010-04-18T17:57:02",null,null,1,{"$f":"COUNTIF(top10Usrs[Top 10 Posters],tblPosts[[#This Row],[poster_id]])","v":0}]
[1506,1,103,5415,null,"2010-04-18T19:08:03",null,null,3,{"$f":"COUNTIF(top10Usrs[Top 10 Posters],tblPosts[[#This Row],[poster_id]])","v":0}]
[1507,1,412,24,null,"2010-04-18T23:49:33",null,null,2,{"$f":"COUNTIF(top10Usrs[Top 10 Posters],tblPosts[[#This Row],[poster_id]])","v":1}]
[1508,1,413,5424,null,"2010-04-19T01:11:05",null,null,1,{"$f":"COUNTIF(top10Usrs[Top 10 Posters],tblPosts[[#This Row],[poster_id]])","v":0}]
[1509,1,413,24,null,"2010-04-19T02:37:40",null,null,2,{"$f":"COUNTIF(top10Usrs[Top 10 Posters],tblPosts[[#This Row],[poster_id]])","v":1}]
[1510,1,413,5424,null,"2010-04-19T06:00:34",null,null,3,{"$f":"COUNTIF(top10Usrs[Top 10 Posters],tblPosts[[#This Row],[poster_id]])","v":0}]
[1511,1,407,4068,null,"2010-04-19T11:10:49",null,null,3,{"$f":"COUNTIF(top10Usrs[Top 10 Posters],tblPosts[[#This Row],[poster_id]])","v":0}]
[1512,1,407,2865,null,"2010-04-19T13:19:31",null,null,4,{"$f":"COUNTIF(top10Usrs[Top 10 Posters],tblPosts[[#This Row],[poster_id]])","v":0}]
[1513,1,407,24,null,"2010-04-19T13:36:52",null,null,5,{"$f":"COUNTIF(top10Usrs[Top 10 Posters],tblPosts[[#This Row],[poster_id]])","v":1}]
[1514,1,409,5367,null,"2010-04-19T14:03:30",null,null,3,{"$f":"COUNTIF(top10Usrs[Top 10 Posters],tblPosts[[#This Row],[poster_id]])","v":0}]
[1515,1,409,2865,null,"2010-04-19T14:36:39",null,null,4,{"$f":"COUNTIF(top10Usrs[Top 10 Posters],tblPosts[[#This Row],[poster_id]])","v":0}]
[1516,1,411,5388,null,"2010-04-19T14:55:04",null,null,3,{"$f":"COUNTIF(top10Usrs[Top 10 Posters],tblPosts[[#This Row],[poster_id]])","v":0}]
[1517,4,414,5437,null,"2010-04-19T16:54:30",null,null,1,{"$f":"COUNTIF(top10Usrs[Top 10 Posters],tblPosts[[#This Row],[poster_id]])","v":0}]
[1518,1,409,5367,null,"2010-04-19T18:47:35",null,null,5,{"$f":"COUNTIF(top10Usrs[Top 10 Posters],tblPosts[[#This Row],[poster_id]])","v":0}]
[1519,1,409,2865,null,"2010-04-19T19:25:56",null,null,6,{"$f":"COUNTIF(top10Usrs[Top 10 Posters],tblPosts[[#This Row],[poster_id]])","v":0}]
[1520,1,415,5367,null,"2010-04-19T19:26:07",null,null,1,{"$f":"COUNTIF(top10Usrs[Top 10 Posters],tblPosts[[#This Row],[poster_id]])","v":0}]
[1521,1,409,5367,null,"2010-04-19T19:28:49",null,null,7,{"$f":"COUNTIF(top10Usrs[Top 10 Posters],tblPosts[[#This Row],[poster_id]])","v":0}]
[1522,1,415,2865,null,"2010-04-19T19:29:53",null,null,2,{"$f":"COUNTIF(top10Usrs[Top 10 Posters],tblPosts[[#This Row],[poster_id]])","v":0}]
[1523,1,409,2865,null,"2010-04-19T19:33:05",null,null,8,{"$f":"COUNTIF(top10Usrs[Top 10 Posters],tblPosts[[#This Row],[poster_id]])","v":0}]
[1524,1,415,5367,null,"2010-04-19T19:42:52",null,null,3,{"$f":"COUNTIF(top10Usrs[Top 10 Posters],tblPosts[[#This Row],[poster_id]])","v":0}]
[1525,1,409,5367,null,"2010-04-19T19:44:20",null,null,9,{"$f":"COUNTIF(top10Usrs[Top 10 Posters],tblPosts[[#This Row],[poster_id]])","v":0}]
[1526,1,415,2865,null,"2010-04-19T20:00:22",null,null,4,{"$f":"COUNTIF(top10Usrs[Top 10 Posters],tblPosts[[#This Row],[poster_id]])","v":0}]
[1527,1,415,5367,null,"2010-04-19T20:19:59",null,null,5,{"$f":"COUNTIF(top10Usrs[Top 10 Posters],tblPosts[[#This Row],[poster_id]])","v":0}]
[1528,1,415,2865,null,"2010-04-19T21:41:54",null,null,6,{"$f":"COUNTIF(top10Usrs[Top 10 Posters],tblPosts[[#This Row],[poster_id]])","v":0}]
[1529,1,413,5424,null,"2010-04-20T04:23:26",null,null,4,{"$f":"COUNTIF(top10Usrs[Top 10 Posters],tblPosts[[#This Row],[poster_id]])","v":0}]
[1530,1,413,24,null,"2010-04-20T08:37:36",null,null,5,{"$f":"COUNTIF(top10Usrs[Top 10 Posters],tblPosts[[#This Row],[poster_id]])","v":1}]
[1531,1,409,24,null,"2010-04-20T09:29:01",null,null,10,{"$f":"COUNTIF(top10Usrs[Top 10 Posters],tblPosts[[#This Row],[poster_id]])","v":1}]
[1532,4,414,1,null,"2010-04-20T10:25:58",null,null,2,{"$f":"COUNTIF(top10Usrs[Top 10 Posters],tblPosts[[#This Row],[poster_id]])","v":1}]
[1533,4,414,24,null,"2010-04-20T12:13:52",null,null,3,{"$f":"COUNTIF(top10Usrs[Top 10 Posters],tblPosts[[#This Row],[poster_id]])","v":1}]
[1534,1,409,5367,null,"2010-04-20T13:38:22",null,null,11,{"$f":"COUNTIF(top10Usrs[Top 10 Posters],tblPosts[[#This Row],[poster_id]])","v":0}]
[1535,1,415,2865,null,"2010-04-20T13:49:28",null,null,7,{"$f":"COUNTIF(top10Usrs[Top 10 Posters],tblPosts[[#This Row],[poster_id]])","v":0}]
[1536,1,415,5367,null,"2010-04-20T13:58:15",null,null,8,{"$f":"COUNTIF(top10Usrs[Top 10 Posters],tblPosts[[#This Row],[poster_id]])","v":0}]
[1537,1,409,24,null,"2010-04-20T14:05:52",null,null,12,{"$f":"COUNTIF(top10Usrs[Top 10 Posters],tblPosts[[#This Row],[poster_id]])","v":1}]
[1538,1,415,24,null,"2010-04-20T15:28:35",null,null,9,{"$f":"COUNTIF(top10Usrs[Top 10 Posters],tblPosts[[#This Row],[poster_id]])","v":1}]
[1539,1,409,5367,null,"2010-04-20T17:24:43",null,null,13,{"$f":"COUNTIF(top10Usrs[Top 10 Posters],tblPosts[[#This Row],[poster_id]])","v":0}]
[1540,1,409,2018,null,"2010-04-20T18:55:44",null,null,14,{"$f":"COUNTIF(top10Usrs[Top 10 Posters],tblPosts[[#This Row],[poster_id]])","v":0}]
[1541,1,415,2865,null,"2010-04-20T19:49:19",null,null,9,{"$f":"COUNTIF(top10Usrs[Top 10 Posters],tblPosts[[#This Row],[poster_id]])","v":0}]
[1542,1,407,4068,null,"2010-04-20T22:36:08",null,null,6,{"$f":"COUNTIF(top10Usrs[Top 10 Posters],tblPosts[[#This Row],[poster_id]])","v":0}]
[1543,1,416,5470,null,"2010-04-20T22:56:44",null,null,1,{"$f":"COUNTIF(top10Usrs[Top 10 Posters],tblPosts[[#This Row],[poster_id]])","v":0}]
[1544,4,414,1,null,"2010-04-21T02:12:30",null,null,4,{"$f":"COUNTIF(top10Usrs[Top 10 Posters],tblPosts[[#This Row],[poster_id]])","v":1}]
[1545,1,416,24,null,"2010-04-21T03:05:05",null,null,2,{"$f":"COUNTIF(top10Usrs[Top 10 Posters],tblPosts[[#This Row],[poster_id]])","v":1}]
[1546,1,417,2079,null,"2010-04-21T09:50:53",null,null,1,{"$f":"COUNTIF(top10Usrs[Top 10 Posters],tblPosts[[#This Row],[poster_id]])","v":0}]
[1547,1,417,24,null,"2010-04-21T10:11:40",null,null,2,{"$f":"COUNTIF(top10Usrs[Top 10 Posters],tblPosts[[#This Row],[poster_id]])","v":1}]
[1548,1,417,2079,null,"2010-04-21T11:03:38",null,null,3,{"$f":"COUNTIF(top10Usrs[Top 10 Posters],tblPosts[[#This Row],[poster_id]])","v":0}]
[1549,1,417,2018,null,"2010-04-21T12:26:06",null,null,4,{"$f":"COUNTIF(top10Usrs[Top 10 Posters],tblPosts[[#This Row],[poster_id]])","v":0}]
[1550,1,415,5367,null,"2010-04-21T12:45:23",null,null,10,{"$f":"COUNTIF(top10Usrs[Top 10 Posters],tblPosts[[#This Row],[poster_id]])","v":0}]
[1551,1,301,5489,null,"2010-04-21T12:46:02",null,null,2,{"$f":"COUNTIF(top10Usrs[Top 10 Posters],tblPosts[[#This Row],[poster_id]])","v":0}]
[1552,1,417,24,null,"2010-04-21T13:38:02",null,null,5,{"$f":"COUNTIF(top10Usrs[Top 10 Posters],tblPosts[[#This Row],[poster_id]])","v":1}]
[1553,1,415,2865,null,"2010-04-21T16:03:22",null,null,11,{"$f":"COUNTIF(top10Usrs[Top 10 Posters],tblPosts[[#This Row],[poster_id]])","v":0}]
[1554,1,415,5367,null,"2010-04-21T16:14:53",null,null,12,{"$f":"COUNTIF(top10Usrs[Top 10 Posters],tblPosts[[#This Row],[poster_id]])","v":0}]
[1555,1,379,4557,null,"2010-04-21T18:35:25",null,null,4,{"$f":"COUNTIF(top10Usrs[Top 10 Posters],tblPosts[[#This Row],[poster_id]])","v":0}]
[1556,1,396,4557,null,"2010-04-21T18:44:06",null,null,3,{"$f":"COUNTIF(top10Usrs[Top 10 Posters],tblPosts[[#This Row],[poster_id]])","v":0}]
[1557,1,418,5499,null,"2010-04-21T21:47:50",null,null,1,{"$f":"COUNTIF(top10Usrs[Top 10 Posters],tblPosts[[#This Row],[poster_id]])","v":0}]
[1558,1,418,24,null,"2010-04-22T01:59:30",null,null,2,{"$f":"COUNTIF(top10Usrs[Top 10 Posters],tblPosts[[#This Row],[poster_id]])","v":1}]
[1559,1,419,176,null,"2010-04-22T05:20:19",null,null,1,{"$f":"COUNTIF(top10Usrs[Top 10 Posters],tblPosts[[#This Row],[poster_id]])","v":0}]
[1560,1,413,5424,null,"2010-04-22T06:17:28",null,null,6,{"$f":"COUNTIF(top10Usrs[Top 10 Posters],tblPosts[[#This Row],[poster_id]])","v":0}]
[1561,1,419,2865,null,"2010-04-22T06:36:48",null,null,2,{"$f":"COUNTIF(top10Usrs[Top 10 Posters],tblPosts[[#This Row],[poster_id]])","v":0}]
[1562,1,419,176,null,"2010-04-22T06:54:05",null,null,3,{"$f":"COUNTIF(top10Usrs[Top 10 Posters],tblPosts[[#This Row],[poster_id]])","v":0}]
[1563,1,419,24,null,"2010-04-22T10:14:16",null,null,4,{"$f":"COUNTIF(top10Usrs[Top 10 Posters],tblPosts[[#This Row],[poster_id]])","v":1}]
[1564,1,420,4048,null,"2010-04-22T10:47:46",null,null,1,{"$f":"COUNTIF(top10Usrs[Top 10 Posters],tblPosts[[#This Row],[poster_id]])","v":0}]
[1565,1,421,5246,null,"2010-04-22T10:52:19",null,null,1,{"$f":"COUNTIF(top10Usrs[Top 10 Posters],tblPosts[[#This Row],[poster_id]])","v":0}]
[1566,1,421,5246,null,"2010-04-22T10:59:24",null,null,2,{"$f":"COUNTIF(top10Usrs[Top 10 Posters],tblPosts[[#This Row],[poster_id]])","v":0}]
[1567,1,419,176,null,"2010-04-22T11:37:59",null,null,5,{"$f":"COUNTIF(top10Usrs[Top 10 Posters],tblPosts[[#This Row],[poster_id]])","v":0}]
[1568,1,422,3983,null,"2010-04-22T12:54:57",null,null,1,{"$f":"COUNTIF(top10Usrs[Top 10 Posters],tblPosts[[#This Row],[poster_id]])","v":0}]
[1569,1,421,4048,null,"2010-04-22T13:34:31",null,null,3,{"$f":"COUNTIF(top10Usrs[Top 10 Posters],tblPosts[[#This Row],[poster_id]])","v":0}]
[1570,1,422,4048,null,"2010-04-22T13:36:52",null,null,2,{"$f":"COUNTIF(top10Usrs[Top 10 Posters],tblPosts[[#This Row],[poster_id]])","v":0}]
[1571,1,423,4712,null,"2010-04-22T13:58:25",null,null,1,{"$f":"COUNTIF(top10Usrs[Top 10 Posters],tblPosts[[#This Row],[poster_id]])","v":0}]
[1572,1,418,5499,null,"2010-04-22T15:44:33",null,null,3,{"$f":"COUNTIF(top10Usrs[Top 10 Posters],tblPosts[[#This Row],[poster_id]])","v":0}]
[1573,4,2,5499,null,"2010-04-22T15:51:31",null,null,45,{"$f":"COUNTIF(top10Usrs[Top 10 Posters],tblPosts[[#This Row],[poster_id]])","v":0}]
[1574,1,373,376,null,"2010-04-22T15:56:46",null,null,3,{"$f":"COUNTIF(top10Usrs[Top 10 Posters],tblPosts[[#This Row],[poster_id]])","v":0}]
[1575,1,373,376,null,"2010-04-22T17:31:35",null,null,4,{"$f":"COUNTIF(top10Usrs[Top 10 Posters],tblPosts[[#This Row],[poster_id]])","v":0}]
[1576,1,373,2865,null,"2010-04-22T17:32:42",null,null,5,{"$f":"COUNTIF(top10Usrs[Top 10 Posters],tblPosts[[#This Row],[poster_id]])","v":0}]
[1577,1,424,3983,null,"2010-04-22T17:56:23",null,null,1,{"$f":"COUNTIF(top10Usrs[Top 10 Posters],tblPosts[[#This Row],[poster_id]])","v":0}]
[1578,1,420,5499,null,"2010-04-22T19:56:22",null,null,2,{"$f":"COUNTIF(top10Usrs[Top 10 Posters],tblPosts[[#This Row],[poster_id]])","v":0}]
[1579,1,420,2865,null,"2010-04-22T21:00:07",null,null,3,{"$f":"COUNTIF(top10Usrs[Top 10 Posters],tblPosts[[#This Row],[poster_id]])","v":0}]
[1580,1,418,24,null,"2010-04-22T23:55:33",null,null,4,{"$f":"COUNTIF(top10Usrs[Top 10 Posters],tblPosts[[#This Row],[poster_id]])","v":1}]
[1581,1,422,24,null,"2010-04-23T00:06:36",null,null,3,{"$f":"COUNTIF(top10Usrs[Top 10 Posters],tblPosts[[#This Row],[poster_id]])","v":1}]
[1582,6,425,1,null,"2010-04-23T02:09:57",null,null,1,{"$f":"COUNTIF(top10Usrs[Top 10 Posters],tblPosts[[#This Row],[poster_id]])","v":1}]
[1583,6,425,3983,null,"2010-04-23T07:16:52",null,null,2,{"$f":"COUNTIF(top10Usrs[Top 10 Posters],tblPosts[[#This Row],[poster_id]])","v":0}]
[1584,4,2,4712,null,"2010-04-23T07:27:59",null,null,46,{"$f":"COUNTIF(top10Usrs[Top 10 Posters],tblPosts[[#This Row],[poster_id]])","v":0}]
[1585,1,426,4712,null,"2010-04-23T07:32:10",null,null,1,{"$f":"COUNTIF(top10Usrs[Top 10 Posters],tblPosts[[#This Row],[poster_id]])","v":0}]
[1586,1,422,3983,null,"2010-04-23T07:42:30",null,null,4,{"$f":"COUNTIF(top10Usrs[Top 10 Posters],tblPosts[[#This Row],[poster_id]])","v":0}]
[1587,1,424,3983,null,"2010-04-23T08:02:40",null,null,2,{"$f":"COUNTIF(top10Usrs[Top 10 Posters],tblPosts[[#This Row],[poster_id]])","v":0}]
[1588,1,424,24,null,"2010-04-23T08:11:14",null,null,3,{"$f":"COUNTIF(top10Usrs[Top 10 Posters],tblPosts[[#This Row],[poster_id]])","v":1}]
[1589,6,425,4557,null,"2010-04-23T08:19:40",null,null,3,{"$f":"COUNTIF(top10Usrs[Top 10 Posters],tblPosts[[#This Row],[poster_id]])","v":0}]
[1590,1,426,2018,null,"2010-04-23T08:20:04",null,null,2,{"$f":"COUNTIF(top10Usrs[Top 10 Posters],tblPosts[[#This Row],[poster_id]])","v":0}]
[1591,6,425,4557,null,"2010-04-23T08:25:36",null,null,4,{"$f":"COUNTIF(top10Usrs[Top 10 Posters],tblPosts[[#This Row],[poster_id]])","v":0}]
[1592,6,425,4557,null,"2010-04-23T08:41:03",null,null,5,{"$f":"COUNTIF(top10Usrs[Top 10 Posters],tblPosts[[#This Row],[poster_id]])","v":0}]
[1593,1,426,4712,null,"2010-04-23T09:08:51",null,null,3,{"$f":"COUNTIF(top10Usrs[Top 10 Posters],tblPosts[[#This Row],[poster_id]])","v":0}]
[1594,6,425,2865,null,"2010-04-23T10:12:15",null,null,6,{"$f":"COUNTIF(top10Usrs[Top 10 Posters],tblPosts[[#This Row],[poster_id]])","v":0}]
[1595,1,426,2018,null,"2010-04-23T10:16:33",null,null,4,{"$f":"COUNTIF(top10Usrs[Top 10 Posters],tblPosts[[#This Row],[poster_id]])","v":0}]
[1596,1,424,3983,null,"2010-04-23T10:53:31",null,null,4,{"$f":"COUNTIF(top10Usrs[Top 10 Posters],tblPosts[[#This Row],[poster_id]])","v":0}]
[1597,1,424,3983,null,"2010-04-23T10:54:42",null,null,5,{"$f":"COUNTIF(top10Usrs[Top 10 Posters],tblPosts[[#This Row],[poster_id]])","v":0}]
[1598,1,426,4712,null,"2010-04-23T11:17:25",null,null,5,{"$f":"COUNTIF(top10Usrs[Top 10 Posters],tblPosts[[#This Row],[poster_id]])","v":0}]
[1599,1,427,5559,null,"2010-04-23T12:10:17",null,null,1,{"$f":"COUNTIF(top10Usrs[Top 10 Posters],tblPosts[[#This Row],[poster_id]])","v":0}]
[1600,1,427,3983,null,"2010-04-23T12:36:00",null,null,2,{"$f":"COUNTIF(top10Usrs[Top 10 Posters],tblPosts[[#This Row],[poster_id]])","v":0}]
[1601,1,427,5559,null,"2010-04-23T16:35:43",null,null,3,{"$f":"COUNTIF(top10Usrs[Top 10 Posters],tblPosts[[#This Row],[poster_id]])","v":0}]
[1602,1,428,5569,null,"2010-04-23T18:26:43",null,null,1,{"$f":"COUNTIF(top10Usrs[Top 10 Posters],tblPosts[[#This Row],[poster_id]])","v":0}]
[1603,1,429,5574,null,"2010-04-23T20:45:02",null,null,0,{"$f":"COUNTIF(top10Usrs[Top 10 Posters],tblPosts[[#This Row],[poster_id]])","v":0}]
[1604,1,430,3983,null,"2010-04-23T21:43:49",null,null,1,{"$f":"COUNTIF(top10Usrs[Top 10 Posters],tblPosts[[#This Row],[poster_id]])","v":0}]
[1605,1,427,1,null,"2010-04-24T00:21:20",null,null,4,{"$f":"COUNTIF(top10Usrs[Top 10 Posters],tblPosts[[#This Row],[poster_id]])","v":1}]
[1606,1,431,5584,null,"2010-04-24T00:58:31",null,null,1,{"$f":"COUNTIF(top10Usrs[Top 10 Posters],tblPosts[[#This Row],[poster_id]])","v":0}]
[1607,1,427,24,null,"2010-04-24T01:21:04",null,null,5,{"$f":"COUNTIF(top10Usrs[Top 10 Posters],tblPosts[[#This Row],[poster_id]])","v":1}]
[1608,1,430,24,null,"2010-04-24T01:25:49",null,null,2,{"$f":"COUNTIF(top10Usrs[Top 10 Posters],tblPosts[[#This Row],[poster_id]])","v":1}]
[1609,1,428,24,null,"2010-04-24T01:28:07",null,null,2,{"$f":"COUNTIF(top10Usrs[Top 10 Posters],tblPosts[[#This Row],[poster_id]])","v":1}]
[1610,1,431,24,null,"2010-04-24T01:43:20",null,null,2,{"$f":"COUNTIF(top10Usrs[Top 10 Posters],tblPosts[[#This Row],[poster_id]])","v":1}]
[1611,6,425,2865,null,"2010-04-24T18:38:36",null,null,7,{"$f":"COUNTIF(top10Usrs[Top 10 Posters],tblPosts[[#This Row],[poster_id]])","v":0}]
[1612,6,425,2865,null,"2010-04-24T18:44:03",null,null,8,{"$f":"COUNTIF(top10Usrs[Top 10 Posters],tblPosts[[#This Row],[poster_id]])","v":0}]
[1613,1,432,5408,null,"2010-04-26T04:21:43",null,null,1,{"$f":"COUNTIF(top10Usrs[Top 10 Posters],tblPosts[[#This Row],[poster_id]])","v":1}]
[1614,1,432,1,null,"2010-04-26T05:52:03",null,null,2,{"$f":"COUNTIF(top10Usrs[Top 10 Posters],tblPosts[[#This Row],[poster_id]])","v":1}]
[1615,1,432,2018,null,"2010-04-26T06:25:28",null,null,3,{"$f":"COUNTIF(top10Usrs[Top 10 Posters],tblPosts[[#This Row],[poster_id]])","v":0}]
[1616,1,433,5246,null,"2010-04-26T06:44:50",null,null,1,{"$f":"COUNTIF(top10Usrs[Top 10 Posters],tblPosts[[#This Row],[poster_id]])","v":0}]
[1617,1,433,2865,null,"2010-04-26T08:09:16",null,null,2,{"$f":"COUNTIF(top10Usrs[Top 10 Posters],tblPosts[[#This Row],[poster_id]])","v":0}]
[1618,1,433,5246,null,"2010-04-26T08:53:58",null,null,3,{"$f":"COUNTIF(top10Usrs[Top 10 Posters],tblPosts[[#This Row],[poster_id]])","v":0}]
[1619,6,425,5246,null,"2010-04-26T09:52:24",null,null,9,{"$f":"COUNTIF(top10Usrs[Top 10 Posters],tblPosts[[#This Row],[poster_id]])","v":0}]
[1620,1,434,5628,null,"2010-04-26T10:31:41",null,null,1,{"$f":"COUNTIF(top10Usrs[Top 10 Posters],tblPosts[[#This Row],[poster_id]])","v":0}]
[1621,1,434,24,null,"2010-04-26T11:43:43",null,null,2,{"$f":"COUNTIF(top10Usrs[Top 10 Posters],tblPosts[[#This Row],[poster_id]])","v":1}]
[1622,1,428,5569,null,"2010-04-26T12:12:07",null,null,3,{"$f":"COUNTIF(top10Usrs[Top 10 Posters],tblPosts[[#This Row],[poster_id]])","v":0}]
[1623,1,428,2018,null,"2010-04-26T12:27:13",null,null,4,{"$f":"COUNTIF(top10Usrs[Top 10 Posters],tblPosts[[#This Row],[poster_id]])","v":0}]
[1624,1,428,24,null,"2010-04-26T12:32:22",null,null,5,{"$f":"COUNTIF(top10Usrs[Top 10 Posters],tblPosts[[#This Row],[poster_id]])","v":1}]
[1625,1,432,5408,null,"2010-04-26T13:06:53",null,null,4,{"$f":"COUNTIF(top10Usrs[Top 10 Posters],tblPosts[[#This Row],[poster_id]])","v":1}]
[1626,1,434,5628,null,"2010-04-26T14:58:19",null,null,3,{"$f":"COUNTIF(top10Usrs[Top 10 Posters],tblPosts[[#This Row],[poster_id]])","v":0}]
[1627,1,435,5574,null,"2010-04-26T15:07:32",null,null,1,{"$f":"COUNTIF(top10Usrs[Top 10 Posters],tblPosts[[#This Row],[poster_id]])","v":0}]
[1628,1,418,5499,null,"2010-04-26T21:20:57",null,null,5,{"$f":"COUNTIF(top10Usrs[Top 10 Posters],tblPosts[[#This Row],[poster_id]])","v":0}]
[1629,1,435,5408,null,"2010-04-26T21:53:02",null,null,2,{"$f":"COUNTIF(top10Usrs[Top 10 Posters],tblPosts[[#This Row],[poster_id]])","v":1}]
[1630,1,435,24,null,"2010-04-26T23:47:32",null,null,3,{"$f":"COUNTIF(top10Usrs[Top 10 Posters],tblPosts[[#This Row],[poster_id]])","v":1}]
[1631,1,424,24,null,"2010-04-27T05:22:40",null,null,6,{"$f":"COUNTIF(top10Usrs[Top 10 Posters],tblPosts[[#This Row],[poster_id]])","v":1}]
[1632,1,433,1,null,"2010-04-27T06:32:29",null,null,4,{"$f":"COUNTIF(top10Usrs[Top 10 Posters],tblPosts[[#This Row],[poster_id]])","v":1}]
[1633,1,422,24,null,"2010-04-27T08:10:34",null,null,5,{"$f":"COUNTIF(top10Usrs[Top 10 Posters],tblPosts[[#This Row],[poster_id]])","v":1}]
[1634,1,430,3983,null,"2010-04-27T09:19:06",null,null,3,{"$f":"COUNTIF(top10Usrs[Top 10 Posters],tblPosts[[#This Row],[poster_id]])","v":0}]
[1635,1,422,3983,null,"2010-04-27T12:01:08",null,null,6,{"$f":"COUNTIF(top10Usrs[Top 10 Posters],tblPosts[[#This Row],[poster_id]])","v":0}]
[1636,1,424,3983,null,"2010-04-27T12:04:07",null,null,7,{"$f":"COUNTIF(top10Usrs[Top 10 Posters],tblPosts[[#This Row],[poster_id]])","v":0}]
[1637,1,422,24,null,"2010-04-27T12:07:57",null,null,7,{"$f":"COUNTIF(top10Usrs[Top 10 Posters],tblPosts[[#This Row],[poster_id]])","v":1}]
[1638,1,410,4061,null,"2010-04-27T15:45:41",null,null,10,{"$f":"COUNTIF(top10Usrs[Top 10 Posters],tblPosts[[#This Row],[poster_id]])","v":0}]
[1639,1,435,5574,null,"2010-04-27T15:46:06",null,null,4,{"$f":"COUNTIF(top10Usrs[Top 10 Posters],tblPosts[[#This Row],[poster_id]])","v":0}]
[1640,6,425,5654,null,"2010-04-28T07:16:53",null,null,10,{"$f":"COUNTIF(top10Usrs[Top 10 Posters],tblPosts[[#This Row],[poster_id]])","v":0}]
[1641,1,410,24,null,"2010-04-28T12:09:14",null,null,11,{"$f":"COUNTIF(top10Usrs[Top 10 Posters],tblPosts[[#This Row],[poster_id]])","v":1}]
[1642,6,425,2865,null,"2010-04-28T12:20:01",null,null,11,{"$f":"COUNTIF(top10Usrs[Top 10 Posters],tblPosts[[#This Row],[poster_id]])","v":0}]
[1643,1,410,2865,null,"2010-04-29T12:44:01",null,null,12,{"$f":"COUNTIF(top10Usrs[Top 10 Posters],tblPosts[[#This Row],[poster_id]])","v":0}]
[1644,1,436,4530,null,"2010-04-30T13:37:36",null,null,1,{"$f":"COUNTIF(top10Usrs[Top 10 Posters],tblPosts[[#This Row],[poster_id]])","v":0}]
[1645,1,437,5408,null,"2010-04-30T18:18:26",null,null,1,{"$f":"COUNTIF(top10Usrs[Top 10 Posters],tblPosts[[#This Row],[poster_id]])","v":1}]
[1646,1,437,24,null,"2010-05-03T00:12:05",null,null,2,{"$f":"COUNTIF(top10Usrs[Top 10 Posters],tblPosts[[#This Row],[poster_id]])","v":1}]
[1647,1,438,3191,null,"2010-05-03T10:53:00",null,null,1,{"$f":"COUNTIF(top10Usrs[Top 10 Posters],tblPosts[[#This Row],[poster_id]])","v":0}]
[1648,1,438,2865,null,"2010-05-03T11:16:33",null,null,1,{"$f":"COUNTIF(top10Usrs[Top 10 Posters],tblPosts[[#This Row],[poster_id]])","v":0}]
[1649,1,436,4530,null,"2010-05-03T16:22:39",null,null,2,{"$f":"COUNTIF(top10Usrs[Top 10 Posters],tblPosts[[#This Row],[poster_id]])","v":0}]
[1650,1,436,24,null,"2010-05-03T23:26:21",null,null,3,{"$f":"COUNTIF(top10Usrs[Top 10 Posters],tblPosts[[#This Row],[poster_id]])","v":1}]
[1651,1,438,24,null,"2010-05-04T07:22:08",null,null,2,{"$f":"COUNTIF(top10Usrs[Top 10 Posters],tblPosts[[#This Row],[poster_id]])","v":1}]
[1652,1,439,178,null,"2010-05-04T09:35:37",null,null,1,{"$f":"COUNTIF(top10Usrs[Top 10 Posters],tblPosts[[#This Row],[poster_id]])","v":0}]
[1653,1,438,3191,null,"2010-05-04T11:25:33",null,null,3,{"$f":"COUNTIF(top10Usrs[Top 10 Posters],tblPosts[[#This Row],[poster_id]])","v":0}]
[1654,1,439,24,null,"2010-05-04T11:40:01",null,null,2,{"$f":"COUNTIF(top10Usrs[Top 10 Posters],tblPosts[[#This Row],[poster_id]])","v":1}]
[1655,1,439,178,null,"2010-05-04T12:05:10",null,null,3,{"$f":"COUNTIF(top10Usrs[Top 10 Posters],tblPosts[[#This Row],[poster_id]])","v":0}]
[1656,1,440,5837,null,"2010-05-04T12:52:48",null,null,1,{"$f":"COUNTIF(top10Usrs[Top 10 Posters],tblPosts[[#This Row],[poster_id]])","v":0}]
[1657,1,440,2018,null,"2010-05-04T13:07:09",null,null,2,{"$f":"COUNTIF(top10Usrs[Top 10 Posters],tblPosts[[#This Row],[poster_id]])","v":0}]
[1658,1,440,5837,null,"2010-05-04T13:17:38",null,null,3,{"$f":"COUNTIF(top10Usrs[Top 10 Posters],tblPosts[[#This Row],[poster_id]])","v":0}]
[1659,1,441,5839,null,"2010-05-04T13:51:07",null,null,1,{"$f":"COUNTIF(top10Usrs[Top 10 Posters],tblPosts[[#This Row],[poster_id]])","v":0}]
[1660,1,441,24,null,"2010-05-04T14:10:16",null,null,2,{"$f":"COUNTIF(top10Usrs[Top 10 Posters],tblPosts[[#This Row],[poster_id]])","v":1}]
[1661,1,441,5839,null,"2010-05-04T16:03:43",null,null,3,{"$f":"COUNTIF(top10Usrs[Top 10 Posters],tblPosts[[#This Row],[poster_id]])","v":0}]
[1662,1,442,5841,null,"2010-05-04T18:22:14",null,null,1,{"$f":"COUNTIF(top10Usrs[Top 10 Posters],tblPosts[[#This Row],[poster_id]])","v":0}]
[1663,1,441,24,null,"2010-05-04T19:51:28",null,null,4,{"$f":"COUNTIF(top10Usrs[Top 10 Posters],tblPosts[[#This Row],[poster_id]])","v":1}]
[1664,1,442,24,null,"2010-05-04T19:56:02",null,null,2,{"$f":"COUNTIF(top10Usrs[Top 10 Posters],tblPosts[[#This Row],[poster_id]])","v":1}]
[1665,1,442,2865,null,"2010-05-04T19:58:06",null,null,3,{"$f":"COUNTIF(top10Usrs[Top 10 Posters],tblPosts[[#This Row],[poster_id]])","v":0}]
[1666,4,443,2865,null,"2010-05-04T20:07:28",null,null,1,{"$f":"COUNTIF(top10Usrs[Top 10 Posters],tblPosts[[#This Row],[poster_id]])","v":0}]
[1667,1,444,5839,null,"2010-05-04T20:38:48",null,null,1,{"$f":"COUNTIF(top10Usrs[Top 10 Posters],tblPosts[[#This Row],[poster_id]])","v":0}]
[1668,1,444,5843,null,"2010-05-04T21:42:31",null,null,2,{"$f":"COUNTIF(top10Usrs[Top 10 Posters],tblPosts[[#This Row],[poster_id]])","v":0}]
[1669,1,445,5843,null,"2010-05-04T21:50:46",null,null,1,{"$f":"COUNTIF(top10Usrs[Top 10 Posters],tblPosts[[#This Row],[poster_id]])","v":0}]
[1670,4,443,1,null,"2010-05-04T23:12:31",null,null,2,{"$f":"COUNTIF(top10Usrs[Top 10 Posters],tblPosts[[#This Row],[poster_id]])","v":1}]
[1671,1,445,1,null,"2010-05-04T23:14:56",null,null,2,{"$f":"COUNTIF(top10Usrs[Top 10 Posters],tblPosts[[#This Row],[poster_id]])","v":1}]
[1672,1,446,5857,null,"2010-05-05T09:29:58",null,null,1,{"$f":"COUNTIF(top10Usrs[Top 10 Posters],tblPosts[[#This Row],[poster_id]])","v":0}]
[1673,1,446,24,null,"2010-05-05T13:33:19",null,null,2,{"$f":"COUNTIF(top10Usrs[Top 10 Posters],tblPosts[[#This Row],[poster_id]])","v":1}]
[1674,1,445,5843,null,"2010-05-05T17:14:54",null,null,3,{"$f":"COUNTIF(top10Usrs[Top 10 Posters],tblPosts[[#This Row],[poster_id]])","v":0}]
[1675,1,445,5843,null,"2010-05-05T17:22:53",null,null,4,{"$f":"COUNTIF(top10Usrs[Top 10 Posters],tblPosts[[#This Row],[poster_id]])","v":0}]
[1676,1,447,5891,null,"2010-05-06T14:11:08",null,null,1,{"$f":"COUNTIF(top10Usrs[Top 10 Posters],tblPosts[[#This Row],[poster_id]])","v":0}]
[1677,1,448,5905,null,"2010-05-07T00:29:17",null,null,1,{"$f":"COUNTIF(top10Usrs[Top 10 Posters],tblPosts[[#This Row],[poster_id]])","v":0}]
[1678,1,447,24,null,"2010-05-07T00:33:53",null,null,2,{"$f":"COUNTIF(top10Usrs[Top 10 Posters],tblPosts[[#This Row],[poster_id]])","v":1}]
[1679,1,448,24,null,"2010-05-07T00:58:36",null,null,2,{"$f":"COUNTIF(top10Usrs[Top 10 Posters],tblPosts[[#This Row],[poster_id]])","v":1}]
[1680,1,447,1,null,"2010-05-07T01:06:20",null,null,3,{"$f":"COUNTIF(top10Usrs[Top 10 Posters],tblPosts[[#This Row],[poster_id]])","v":1}]
[1681,4,449,3646,null,"2010-05-07T05:11:54",null,null,1,{"$f":"COUNTIF(top10Usrs[Top 10 Posters],tblPosts[[#This Row],[poster_id]])","v":0}]
[1682,4,449,1,null,"2010-05-07T08:28:06",null,null,2,{"$f":"COUNTIF(top10Usrs[Top 10 Posters],tblPosts[[#This Row],[poster_id]])","v":1}]
[1683,1,448,5905,null,"2010-05-07T13:25:24",null,null,3,{"$f":"COUNTIF(top10Usrs[Top 10 Posters],tblPosts[[#This Row],[poster_id]])","v":0}]
[1684,4,2,5905,null,"2010-05-07T13:35:31",null,null,47,{"$f":"COUNTIF(top10Usrs[Top 10 Posters],tblPosts[[#This Row],[poster_id]])","v":0}]
[1685,1,444,3622,null,"2010-05-08T07:25:31",null,null,3,{"$f":"COUNTIF(top10Usrs[Top 10 Posters],tblPosts[[#This Row],[poster_id]])","v":0}]
[1686,1,444,2865,null,"2010-05-08T09:32:52",null,null,4,{"$f":"COUNTIF(top10Usrs[Top 10 Posters],tblPosts[[#This Row],[poster_id]])","v":0}]
[1687,1,444,3622,null,"2010-05-08T10:14:45",null,null,5,{"$f":"COUNTIF(top10Usrs[Top 10 Posters],tblPosts[[#This Row],[poster_id]])","v":0}]
[1688,1,444,1,null,"2010-05-08T14:36:43",null,null,6,{"$f":"COUNTIF(top10Usrs[Top 10 Posters],tblPosts[[#This Row],[poster_id]])","v":1}]
[1689,1,450,5408,null,"2010-05-08T15:01:16",null,null,1,{"$f":"COUNTIF(top10Usrs[Top 10 Posters],tblPosts[[#This Row],[poster_id]])","v":1}]
[1690,1,451,5971,null,"2010-05-10T01:25:21",null,null,1,{"$f":"COUNTIF(top10Usrs[Top 10 Posters],tblPosts[[#This Row],[poster_id]])","v":0}]
[1691,1,451,24,null,"2010-05-10T03:03:04",null,null,2,{"$f":"COUNTIF(top10Usrs[Top 10 Posters],tblPosts[[#This Row],[poster_id]])","v":1}]
[1692,1,452,5120,null,"2010-05-10T05:51:29",null,null,1,{"$f":"COUNTIF(top10Usrs[Top 10 Posters],tblPosts[[#This Row],[poster_id]])","v":0}]
[1693,1,452,24,null,"2010-05-10T07:21:43",null,null,2,{"$f":"COUNTIF(top10Usrs[Top 10 Posters],tblPosts[[#This Row],[poster_id]])","v":1}]
[1694,1,438,3191,null,"2010-05-10T09:49:42",null,null,4,{"$f":"COUNTIF(top10Usrs[Top 10 Posters],tblPosts[[#This Row],[poster_id]])","v":0}]
[1695,1,438,24,null,"2010-05-10T10:00:06",null,null,5,{"$f":"COUNTIF(top10Usrs[Top 10 Posters],tblPosts[[#This Row],[poster_id]])","v":1}]
[1696,1,438,3191,null,"2010-05-10T10:34:00",null,null,6,{"$f":"COUNTIF(top10Usrs[Top 10 Posters],tblPosts[[#This Row],[poster_id]])","v":0}]
[1697,1,451,5971,null,"2010-05-10T14:22:49",null,null,3,{"$f":"COUNTIF(top10Usrs[Top 10 Posters],tblPosts[[#This Row],[poster_id]])","v":0}]
[1698,1,453,5991,null,"2010-05-10T16:06:40",null,null,1,{"$f":"COUNTIF(top10Usrs[Top 10 Posters],tblPosts[[#This Row],[poster_id]])","v":0}]
[1699,1,453,2865,null,"2010-05-10T16:30:30",null,null,2,{"$f":"COUNTIF(top10Usrs[Top 10 Posters],tblPosts[[#This Row],[poster_id]])","v":0}]
[1700,1,453,5991,null,"2010-05-10T16:55:54",null,null,3,{"$f":"COUNTIF(top10Usrs[Top 10 Posters],tblPosts[[#This Row],[poster_id]])","v":0}]
[1701,1,447,5891,null,"2010-05-10T17:40:48",null,null,4,{"$f":"COUNTIF(top10Usrs[Top 10 Posters],tblPosts[[#This Row],[poster_id]])","v":0}]
[1702,1,453,2865,null,"2010-05-10T18:13:56",null,null,4,{"$f":"COUNTIF(top10Usrs[Top 10 Posters],tblPosts[[#This Row],[poster_id]])","v":0}]
[1703,1,453,2865,null,"2010-05-10T18:32:14",null,null,5,{"$f":"COUNTIF(top10Usrs[Top 10 Posters],tblPosts[[#This Row],[poster_id]])","v":0}]
[1704,1,454,5971,null,"2010-05-10T18:45:18",null,null,1,{"$f":"COUNTIF(top10Usrs[Top 10 Posters],tblPosts[[#This Row],[poster_id]])","v":0}]
[1705,1,454,2865,null,"2010-05-10T19:47:56",null,null,2,{"$f":"COUNTIF(top10Usrs[Top 10 Posters],tblPosts[[#This Row],[poster_id]])","v":0}]
[1706,1,447,24,null,"2010-05-10T23:43:00",null,null,5,{"$f":"COUNTIF(top10Usrs[Top 10 Posters],tblPosts[[#This Row],[poster_id]])","v":1}]
[1707,1,453,5991,null,"2010-05-11T02:37:04",null,null,6,{"$f":"COUNTIF(top10Usrs[Top 10 Posters],tblPosts[[#This Row],[poster_id]])","v":0}]
[1708,1,453,24,null,"2010-05-11T04:44:36",null,null,7,{"$f":"COUNTIF(top10Usrs[Top 10 Posters],tblPosts[[#This Row],[poster_id]])","v":1}]
[1709,1,455,3008,null,"2010-05-11T05:37:05",null,null,1,{"$f":"COUNTIF(top10Usrs[Top 10 Posters],tblPosts[[#This Row],[poster_id]])","v":0}]
[1710,1,453,2865,null,"2010-05-11T06:36:39",null,null,8,{"$f":"COUNTIF(top10Usrs[Top 10 Posters],tblPosts[[#This Row],[poster_id]])","v":0}]
[1711,1,456,3983,null,"2010-05-11T10:02:40",null,null,1,{"$f":"COUNTIF(top10Usrs[Top 10 Posters],tblPosts[[#This Row],[poster_id]])","v":0}]
[1712,1,456,2758,null,"2010-05-11T12:16:33",null,null,2,{"$f":"COUNTIF(top10Usrs[Top 10 Posters],tblPosts[[#This Row],[poster_id]])","v":0}]
[1713,1,456,2758,null,"2010-05-11T12:22:02",null,null,3,{"$f":"COUNTIF(top10Usrs[Top 10 Posters],tblPosts[[#This Row],[poster_id]])","v":0}]
[1714,1,456,3983,null,"2010-05-11T12:52:38",null,null,4,{"$f":"COUNTIF(top10Usrs[Top 10 Posters],tblPosts[[#This Row],[poster_id]])","v":0}]
[1715,1,456,24,null,"2010-05-11T13:17:55",null,null,5,{"$f":"COUNTIF(top10Usrs[Top 10 Posters],tblPosts[[#This Row],[poster_id]])","v":1}]
[1716,1,456,3983,null,"2010-05-11T13:59:32",null,null,6,{"$f":"COUNTIF(top10Usrs[Top 10 Posters],tblPosts[[#This Row],[poster_id]])","v":0}]
[1717,1,450,5408,null,"2010-05-11T14:01:43",null,null,2,{"$f":"COUNTIF(top10Usrs[Top 10 Posters],tblPosts[[#This Row],[poster_id]])","v":1}]
[1718,1,456,2758,null,"2010-05-11T14:08:58",null,null,7,{"$f":"COUNTIF(top10Usrs[Top 10 Posters],tblPosts[[#This Row],[poster_id]])","v":0}]
[1719,1,456,24,null,"2010-05-11T14:56:54",null,null,8,{"$f":"COUNTIF(top10Usrs[Top 10 Posters],tblPosts[[#This Row],[poster_id]])","v":1}]
[1720,1,457,35,null,"2010-05-11T15:19:58",null,null,1,{"$f":"COUNTIF(top10Usrs[Top 10 Posters],tblPosts[[#This Row],[poster_id]])","v":0}]
[1721,1,457,35,null,"2010-05-11T15:54:08",null,null,2,{"$f":"COUNTIF(top10Usrs[Top 10 Posters],tblPosts[[#This Row],[poster_id]])","v":0}]
[1722,6,425,50,null,"2010-05-12T01:02:25",null,null,12,{"$f":"COUNTIF(top10Usrs[Top 10 Posters],tblPosts[[#This Row],[poster_id]])","v":0}]
[1723,1,456,3983,null,"2010-05-12T06:30:11",null,null,9,{"$f":"COUNTIF(top10Usrs[Top 10 Posters],tblPosts[[#This Row],[poster_id]])","v":0}]
[1724,1,453,5991,null,"2010-05-12T15:28:58",null,null,9,{"$f":"COUNTIF(top10Usrs[Top 10 Posters],tblPosts[[#This Row],[poster_id]])","v":0}]
[1725,1,456,24,null,"2010-05-12T23:53:31",null,null,10,{"$f":"COUNTIF(top10Usrs[Top 10 Posters],tblPosts[[#This Row],[poster_id]])","v":1}]
[1726,1,457,24,null,"2010-05-13T00:02:14",null,null,3,{"$f":"COUNTIF(top10Usrs[Top 10 Posters],tblPosts[[#This Row],[poster_id]])","v":1}]
[1727,1,455,24,null,"2010-05-13T03:57:45",null,null,2,{"$f":"COUNTIF(top10Usrs[Top 10 Posters],tblPosts[[#This Row],[poster_id]])","v":1}]
[1728,1,438,3191,null,"2010-05-13T09:02:40",null,null,7,{"$f":"COUNTIF(top10Usrs[Top 10 Posters],tblPosts[[#This Row],[poster_id]])","v":0}]
[1729,1,458,6061,null,"2010-05-13T10:35:44",null,null,1,{"$f":"COUNTIF(top10Usrs[Top 10 Posters],tblPosts[[#This Row],[poster_id]])","v":0}]
[1730,1,458,2865,null,"2010-05-13T11:58:13",null,null,2,{"$f":"COUNTIF(top10Usrs[Top 10 Posters],tblPosts[[#This Row],[poster_id]])","v":0}]
[1731,1,458,24,null,"2010-05-13T12:00:39",null,null,3,{"$f":"COUNTIF(top10Usrs[Top 10 Posters],tblPosts[[#This Row],[poster_id]])","v":1}]
[1732,1,458,2758,null,"2010-05-13T12:18:57",null,null,4,{"$f":"COUNTIF(top10Usrs[Top 10 Posters],tblPosts[[#This Row],[poster_id]])","v":0}]
[1733,1,459,6066,null,"2010-05-13T13:25:32",null,null,1,{"$f":"COUNTIF(top10Usrs[Top 10 Posters],tblPosts[[#This Row],[poster_id]])","v":0}]
[1734,1,459,24,null,"2010-05-13T13:58:00",null,null,2,{"$f":"COUNTIF(top10Usrs[Top 10 Posters],tblPosts[[#This Row],[poster_id]])","v":1}]
[1735,1,460,6067,null,"2010-05-13T14:44:59",null,null,1,{"$f":"COUNTIF(top10Usrs[Top 10 Posters],tblPosts[[#This Row],[poster_id]])","v":0}]
[1736,1,459,6066,null,"2010-05-13T15:14:40",null,null,3,{"$f":"COUNTIF(top10Usrs[Top 10 Posters],tblPosts[[#This Row],[poster_id]])","v":0}]
[1737,1,461,6071,null,"2010-05-13T19:32:15",null,null,1,{"$f":"COUNTIF(top10Usrs[Top 10 Posters],tblPosts[[#This Row],[poster_id]])","v":0}]
[1738,1,462,6066,null,"2010-05-13T20:01:43",null,null,1,{"$f":"COUNTIF(top10Usrs[Top 10 Posters],tblPosts[[#This Row],[poster_id]])","v":0}]
[1739,5,95,6071,null,"2010-05-13T20:51:56",null,null,2,{"$f":"COUNTIF(top10Usrs[Top 10 Posters],tblPosts[[#This Row],[poster_id]])","v":0}]
[1740,1,462,24,null,"2010-05-13T23:52:34",null,null,2,{"$f":"COUNTIF(top10Usrs[Top 10 Posters],tblPosts[[#This Row],[poster_id]])","v":1}]
[1741,1,461,24,null,"2010-05-13T23:57:32",null,null,2,{"$f":"COUNTIF(top10Usrs[Top 10 Posters],tblPosts[[#This Row],[poster_id]])","v":1}]
[1742,1,456,3983,null,"2010-05-14T14:11:33",null,null,11,{"$f":"COUNTIF(top10Usrs[Top 10 Posters],tblPosts[[#This Row],[poster_id]])","v":0}]
[1743,1,463,6090,null,"2010-05-14T15:19:53",null,null,1,{"$f":"COUNTIF(top10Usrs[Top 10 Posters],tblPosts[[#This Row],[poster_id]])","v":0}]
[1744,1,461,6071,null,"2010-05-14T17:38:11",null,null,3,{"$f":"COUNTIF(top10Usrs[Top 10 Posters],tblPosts[[#This Row],[poster_id]])","v":0}]
[1745,1,463,2865,null,"2010-05-14T18:13:27",null,null,2,{"$f":"COUNTIF(top10Usrs[Top 10 Posters],tblPosts[[#This Row],[poster_id]])","v":0}]
[1746,1,461,2865,null,"2010-05-14T18:15:36",null,null,4,{"$f":"COUNTIF(top10Usrs[Top 10 Posters],tblPosts[[#This Row],[poster_id]])","v":0}]
[1747,1,461,6071,null,"2010-05-14T19:04:47",null,null,5,{"$f":"COUNTIF(top10Usrs[Top 10 Posters],tblPosts[[#This Row],[poster_id]])","v":0}]
[1748,1,464,6092,null,"2010-05-14T19:25:12",null,null,1,{"$f":"COUNTIF(top10Usrs[Top 10 Posters],tblPosts[[#This Row],[poster_id]])","v":0}]
[1749,6,425,2865,null,"2010-05-14T22:28:37",null,null,13,{"$f":"COUNTIF(top10Usrs[Top 10 Posters],tblPosts[[#This Row],[poster_id]])","v":0}]
[1750,1,464,24,null,"2010-05-15T08:52:18",null,null,2,{"$f":"COUNTIF(top10Usrs[Top 10 Posters],tblPosts[[#This Row],[poster_id]])","v":1}]
[1751,1,461,24,null,"2010-05-15T09:31:20",null,null,6,{"$f":"COUNTIF(top10Usrs[Top 10 Posters],tblPosts[[#This Row],[poster_id]])","v":1}]
[1752,1,465,6071,null,"2010-05-15T10:48:52",null,null,1,{"$f":"COUNTIF(top10Usrs[Top 10 Posters],tblPosts[[#This Row],[poster_id]])","v":0}]
[1753,1,461,6071,null,"2010-05-15T11:42:52",null,null,7,{"$f":"COUNTIF(top10Usrs[Top 10 Posters],tblPosts[[#This Row],[poster_id]])","v":0}]
[1754,1,3,6071,null,"2010-05-15T11:57:38",null,null,6,{"$f":"COUNTIF(top10Usrs[Top 10 Posters],tblPosts[[#This Row],[poster_id]])","v":0}]
[1755,1,464,6092,null,"2010-05-15T13:20:50",null,null,3,{"$f":"COUNTIF(top10Usrs[Top 10 Posters],tblPosts[[#This Row],[poster_id]])","v":0}]
[1756,1,464,6092,null,"2010-05-15T13:27:32",null,null,4,{"$f":"COUNTIF(top10Usrs[Top 10 Posters],tblPosts[[#This Row],[poster_id]])","v":0}]
[1757,6,425,6071,null,"2010-05-15T18:00:36",null,null,14,{"$f":"COUNTIF(top10Usrs[Top 10 Posters],tblPosts[[#This Row],[poster_id]])","v":0}]
[1758,1,3,2865,null,"2010-05-15T18:49:46",null,null,7,{"$f":"COUNTIF(top10Usrs[Top 10 Posters],tblPosts[[#This Row],[poster_id]])","v":0}]
[1759,6,425,2865,null,"2010-05-15T19:00:25",null,null,15,{"$f":"COUNTIF(top10Usrs[Top 10 Posters],tblPosts[[#This Row],[poster_id]])","v":0}]
[1760,1,3,6071,null,"2010-05-16T04:13:25",null,null,8,{"$f":"COUNTIF(top10Usrs[Top 10 Posters],tblPosts[[#This Row],[poster_id]])","v":0}]
[1761,1,3,3622,null,"2010-05-16T05:32:27",null,null,9,{"$f":"COUNTIF(top10Usrs[Top 10 Posters],tblPosts[[#This Row],[poster_id]])","v":0}]
[1762,1,466,2369,null,"2010-05-17T05:00:22",null,null,1,{"$f":"COUNTIF(top10Usrs[Top 10 Posters],tblPosts[[#This Row],[poster_id]])","v":0}]
[1763,1,466,24,null,"2010-05-17T05:26:11",null,null,2,{"$f":"COUNTIF(top10Usrs[Top 10 Posters],tblPosts[[#This Row],[poster_id]])","v":1}]
[1764,1,466,2369,null,"2010-05-17T05:50:17",null,null,3,{"$f":"COUNTIF(top10Usrs[Top 10 Posters],tblPosts[[#This Row],[poster_id]])","v":0}]
[1765,1,466,24,null,"2010-05-17T06:06:51",null,null,4,{"$f":"COUNTIF(top10Usrs[Top 10 Posters],tblPosts[[#This Row],[poster_id]])","v":1}]
[1766,1,466,2369,null,"2010-05-17T06:16:44",null,null,5,{"$f":"COUNTIF(top10Usrs[Top 10 Posters],tblPosts[[#This Row],[poster_id]])","v":0}]
[1767,1,466,2865,null,"2010-05-17T06:32:16",null,null,6,{"$f":"COUNTIF(top10Usrs[Top 10 Posters],tblPosts[[#This Row],[poster_id]])","v":0}]
[1768,1,466,24,null,"2010-05-17T07:06:10",null,null,7,{"$f":"COUNTIF(top10Usrs[Top 10 Posters],tblPosts[[#This Row],[poster_id]])","v":1}]
[1769,1,465,24,null,"2010-05-17T12:50:42",null,null,2,{"$f":"COUNTIF(top10Usrs[Top 10 Posters],tblPosts[[#This Row],[poster_id]])","v":1}]
[1770,1,465,6071,null,"2010-05-17T14:20:19",null,null,3,{"$f":"COUNTIF(top10Usrs[Top 10 Posters],tblPosts[[#This Row],[poster_id]])","v":0}]
[1771,1,465,6071,null,"2010-05-17T16:41:21",null,null,4,{"$f":"COUNTIF(top10Usrs[Top 10 Posters],tblPosts[[#This Row],[poster_id]])","v":0}]
[1772,1,467,2176,null,"2010-05-17T23:03:44",null,null,1,{"$f":"COUNTIF(top10Usrs[Top 10 Posters],tblPosts[[#This Row],[poster_id]])","v":0}]
[1773,1,467,24,null,"2010-05-17T23:43:14",null,null,2,{"$f":"COUNTIF(top10Usrs[Top 10 Posters],tblPosts[[#This Row],[poster_id]])","v":1}]
[1774,1,468,4409,null,"2010-05-17T23:47:33",null,null,1,{"$f":"COUNTIF(top10Usrs[Top 10 Posters],tblPosts[[#This Row],[poster_id]])","v":0}]
[1775,1,468,24,null,"2010-05-18T02:09:23",null,null,2,{"$f":"COUNTIF(top10Usrs[Top 10 Posters],tblPosts[[#This Row],[poster_id]])","v":1}]
[1776,1,464,6092,null,"2010-05-18T08:05:20",null,null,5,{"$f":"COUNTIF(top10Usrs[Top 10 Posters],tblPosts[[#This Row],[poster_id]])","v":0}]
[1777,1,469,6171,null,"2010-05-18T09:44:21",null,null,1,{"$f":"COUNTIF(top10Usrs[Top 10 Posters],tblPosts[[#This Row],[poster_id]])","v":0}]
[1778,1,469,24,null,"2010-05-18T13:26:49",null,null,2,{"$f":"COUNTIF(top10Usrs[Top 10 Posters],tblPosts[[#This Row],[poster_id]])","v":1}]
[1779,1,470,6175,null,"2010-05-18T13:52:28",null,null,1,{"$f":"COUNTIF(top10Usrs[Top 10 Posters],tblPosts[[#This Row],[poster_id]])","v":0}]
[1780,1,468,4409,null,"2010-05-18T16:59:19",null,null,3,{"$f":"COUNTIF(top10Usrs[Top 10 Posters],tblPosts[[#This Row],[poster_id]])","v":0}]
[1781,1,467,2176,null,"2010-05-18T23:19:47",null,null,3,{"$f":"COUNTIF(top10Usrs[Top 10 Posters],tblPosts[[#This Row],[poster_id]])","v":0}]
[1782,1,471,2176,null,"2010-05-18T23:34:52",null,null,1,{"$f":"COUNTIF(top10Usrs[Top 10 Posters],tblPosts[[#This Row],[poster_id]])","v":0}]
[1783,1,471,24,null,"2010-05-19T01:39:01",null,null,2,{"$f":"COUNTIF(top10Usrs[Top 10 Posters],tblPosts[[#This Row],[poster_id]])","v":1}]
[1784,1,471,2176,null,"2010-05-19T02:06:23",null,null,3,{"$f":"COUNTIF(top10Usrs[Top 10 Posters],tblPosts[[#This Row],[poster_id]])","v":0}]
[1785,1,469,6171,null,"2010-05-19T09:50:51",null,null,3,{"$f":"COUNTIF(top10Usrs[Top 10 Posters],tblPosts[[#This Row],[poster_id]])","v":0}]
[1786,1,472,5837,null,"2010-05-19T13:00:55",null,null,1,{"$f":"COUNTIF(top10Usrs[Top 10 Posters],tblPosts[[#This Row],[poster_id]])","v":0}]
[1787,1,472,24,null,"2010-05-19T13:36:14",null,null,2,{"$f":"COUNTIF(top10Usrs[Top 10 Posters],tblPosts[[#This Row],[poster_id]])","v":1}]
[1788,1,473,843,null,"2010-05-19T15:08:46",null,null,1,{"$f":"COUNTIF(top10Usrs[Top 10 Posters],tblPosts[[#This Row],[poster_id]])","v":0}]
[1789,1,472,6195,null,"2010-05-19T17:24:08",null,null,3,{"$f":"COUNTIF(top10Usrs[Top 10 Posters],tblPosts[[#This Row],[poster_id]])","v":0}]
[1790,1,460,6067,null,"2010-05-19T20:20:10",null,null,2,{"$f":"COUNTIF(top10Usrs[Top 10 Posters],tblPosts[[#This Row],[poster_id]])","v":0}]
[1791,1,460,24,null,"2010-05-20T01:00:39",null,null,3,{"$f":"COUNTIF(top10Usrs[Top 10 Posters],tblPosts[[#This Row],[poster_id]])","v":1}]
[1792,1,472,5837,null,"2010-05-20T07:42:40",null,null,4,{"$f":"COUNTIF(top10Usrs[Top 10 Posters],tblPosts[[#This Row],[poster_id]])","v":0}]
[1793,1,474,6209,null,"2010-05-20T07:52:47",null,null,1,{"$f":"COUNTIF(top10Usrs[Top 10 Posters],tblPosts[[#This Row],[poster_id]])","v":0}]
[1794,1,474,24,null,"2010-05-20T12:30:40",null,null,2,{"$f":"COUNTIF(top10Usrs[Top 10 Posters],tblPosts[[#This Row],[poster_id]])","v":1}]
[1795,1,475,3496,null,"2010-05-20T20:21:22",null,null,1,{"$f":"COUNTIF(top10Usrs[Top 10 Posters],tblPosts[[#This Row],[poster_id]])","v":0}]
[1796,1,475,2865,null,"2010-05-20T21:42:11",null,null,2,{"$f":"COUNTIF(top10Usrs[Top 10 Posters],tblPosts[[#This Row],[poster_id]])","v":0}]
[1797,1,475,24,null,"2010-05-20T23:42:04",null,null,3,{"$f":"COUNTIF(top10Usrs[Top 10 Posters],tblPosts[[#This Row],[poster_id]])","v":1}]
[1798,1,476,6229,null,"2010-05-21T00:43:19",null,null,1,{"$f":"COUNTIF(top10Usrs[Top 10 Posters],tblPosts[[#This Row],[poster_id]])","v":0}]
[1799,1,476,24,null,"2010-05-21T08:16:16",null,null,2,{"$f":"COUNTIF(top10Usrs[Top 10 Posters],tblPosts[[#This Row],[poster_id]])","v":1}]
[1800,1,477,3983,null,"2010-05-21T12:57:12",null,null,1,{"$f":"COUNTIF(top10Usrs[Top 10 Posters],tblPosts[[#This Row],[poster_id]])","v":0}]
[1801,1,477,24,null,"2010-05-21T14:21:35",null,null,2,{"$f":"COUNTIF(top10Usrs[Top 10 Posters],tblPosts[[#This Row],[poster_id]])","v":1}]
[1802,1,478,3143,null,"2010-05-21T21:54:04",null,null,1,{"$f":"COUNTIF(top10Usrs[Top 10 Posters],tblPosts[[#This Row],[poster_id]])","v":0}]
[1803,1,477,3983,null,"2010-05-22T13:10:19",null,null,3,{"$f":"COUNTIF(top10Usrs[Top 10 Posters],tblPosts[[#This Row],[poster_id]])","v":0}]
[1804,1,478,24,null,"2010-05-22T13:28:35",null,null,2,{"$f":"COUNTIF(top10Usrs[Top 10 Posters],tblPosts[[#This Row],[poster_id]])","v":1}]
[2987,1,748,6693,null,"2010-09-06T15:01:28",null,null,3,{"$f":"COUNTIF(top10Usrs[Top 10 Posters],tblPosts[[#This Row],[poster_id]])","v":0}]
[1805,1,475,3496,null,"2010-05-23T06:47:29",null,null,4,{"$f":"COUNTIF(top10Usrs[Top 10 Posters],tblPosts[[#This Row],[poster_id]])","v":0}]
[1806,1,475,2865,null,"2010-05-23T08:21:14",null,null,5,{"$f":"COUNTIF(top10Usrs[Top 10 Posters],tblPosts[[#This Row],[poster_id]])","v":0}]
[1807,1,475,24,null,"2010-05-23T08:54:29",null,null,6,{"$f":"COUNTIF(top10Usrs[Top 10 Posters],tblPosts[[#This Row],[poster_id]])","v":1}]
[1808,1,466,2369,null,"2010-05-23T23:08:29",null,null,8,{"$f":"COUNTIF(top10Usrs[Top 10 Posters],tblPosts[[#This Row],[poster_id]])","v":0}]
[1809,1,479,6267,null,"2010-05-24T02:09:15",null,null,1,{"$f":"COUNTIF(top10Usrs[Top 10 Posters],tblPosts[[#This Row],[poster_id]])","v":0}]
[1810,1,479,24,null,"2010-05-24T02:33:19",null,null,2,{"$f":"COUNTIF(top10Usrs[Top 10 Posters],tblPosts[[#This Row],[poster_id]])","v":1}]
[1811,1,475,3496,null,"2010-05-24T21:40:30",null,null,7,{"$f":"COUNTIF(top10Usrs[Top 10 Posters],tblPosts[[#This Row],[poster_id]])","v":0}]
[1812,1,475,24,null,"2010-05-24T23:23:13",null,null,8,{"$f":"COUNTIF(top10Usrs[Top 10 Posters],tblPosts[[#This Row],[poster_id]])","v":1}]
[1813,1,480,5971,null,"2010-05-25T02:31:17",null,null,1,{"$f":"COUNTIF(top10Usrs[Top 10 Posters],tblPosts[[#This Row],[poster_id]])","v":0}]
[1814,1,481,3008,null,"2010-05-25T05:23:18",null,null,1,{"$f":"COUNTIF(top10Usrs[Top 10 Posters],tblPosts[[#This Row],[poster_id]])","v":0}]
[1815,1,455,3008,null,"2010-05-25T05:25:34",null,null,3,{"$f":"COUNTIF(top10Usrs[Top 10 Posters],tblPosts[[#This Row],[poster_id]])","v":0}]
[1816,1,482,6071,null,"2010-05-25T05:47:20",null,null,1,{"$f":"COUNTIF(top10Usrs[Top 10 Posters],tblPosts[[#This Row],[poster_id]])","v":0}]
[1817,1,481,1,null,"2010-05-25T05:48:37",null,null,2,{"$f":"COUNTIF(top10Usrs[Top 10 Posters],tblPosts[[#This Row],[poster_id]])","v":1}]
[1818,1,482,1,null,"2010-05-25T05:51:48",null,null,2,{"$f":"COUNTIF(top10Usrs[Top 10 Posters],tblPosts[[#This Row],[poster_id]])","v":1}]
[1819,1,480,1,null,"2010-05-25T05:58:27",null,null,2,{"$f":"COUNTIF(top10Usrs[Top 10 Posters],tblPosts[[#This Row],[poster_id]])","v":1}]
[1820,1,481,3008,null,"2010-05-25T06:07:10",null,null,3,{"$f":"COUNTIF(top10Usrs[Top 10 Posters],tblPosts[[#This Row],[poster_id]])","v":0}]
[1821,1,470,6175,null,"2010-05-25T07:26:03",null,null,2,{"$f":"COUNTIF(top10Usrs[Top 10 Posters],tblPosts[[#This Row],[poster_id]])","v":0}]
[1822,1,482,6071,null,"2010-05-25T08:05:09",null,null,3,{"$f":"COUNTIF(top10Usrs[Top 10 Posters],tblPosts[[#This Row],[poster_id]])","v":0}]
[1823,1,470,1,null,"2010-05-25T09:02:24",null,null,3,{"$f":"COUNTIF(top10Usrs[Top 10 Posters],tblPosts[[#This Row],[poster_id]])","v":1}]
[1824,1,482,5408,null,"2010-05-25T13:47:37",null,null,4,{"$f":"COUNTIF(top10Usrs[Top 10 Posters],tblPosts[[#This Row],[poster_id]])","v":1}]
[1825,1,480,24,null,"2010-05-25T15:29:02",null,null,3,{"$f":"COUNTIF(top10Usrs[Top 10 Posters],tblPosts[[#This Row],[poster_id]])","v":1}]
[1826,1,483,6317,null,"2010-05-25T20:33:27",null,null,1,{"$f":"COUNTIF(top10Usrs[Top 10 Posters],tblPosts[[#This Row],[poster_id]])","v":0}]
[1827,1,484,6318,null,"2010-05-25T20:37:54",null,null,1,{"$f":"COUNTIF(top10Usrs[Top 10 Posters],tblPosts[[#This Row],[poster_id]])","v":0}]
[1828,1,484,24,null,"2010-05-25T23:56:14",null,null,2,{"$f":"COUNTIF(top10Usrs[Top 10 Posters],tblPosts[[#This Row],[poster_id]])","v":1}]
[1829,1,483,1,null,"2010-05-25T23:58:41",null,null,2,{"$f":"COUNTIF(top10Usrs[Top 10 Posters],tblPosts[[#This Row],[poster_id]])","v":1}]
[1830,1,484,1,null,"2010-05-26T00:00:52",null,null,3,{"$f":"COUNTIF(top10Usrs[Top 10 Posters],tblPosts[[#This Row],[poster_id]])","v":1}]
[1831,1,485,2079,null,"2010-05-26T05:43:01",null,null,1,{"$f":"COUNTIF(top10Usrs[Top 10 Posters],tblPosts[[#This Row],[poster_id]])","v":0}]
[1832,1,482,6071,null,"2010-05-26T08:48:33",null,null,5,{"$f":"COUNTIF(top10Usrs[Top 10 Posters],tblPosts[[#This Row],[poster_id]])","v":0}]
[1833,1,482,6071,null,"2010-05-26T08:58:40",null,null,6,{"$f":"COUNTIF(top10Usrs[Top 10 Posters],tblPosts[[#This Row],[poster_id]])","v":0}]
[1834,1,485,24,null,"2010-05-26T10:47:16",null,null,2,{"$f":"COUNTIF(top10Usrs[Top 10 Posters],tblPosts[[#This Row],[poster_id]])","v":1}]
[1835,1,486,2176,null,"2010-05-26T17:59:00",null,null,1,{"$f":"COUNTIF(top10Usrs[Top 10 Posters],tblPosts[[#This Row],[poster_id]])","v":0}]
[1836,1,484,6318,null,"2010-05-26T22:57:15",null,null,4,{"$f":"COUNTIF(top10Usrs[Top 10 Posters],tblPosts[[#This Row],[poster_id]])","v":0}]
[1837,1,487,4792,null,"2010-05-26T23:24:11",null,null,1,{"$f":"COUNTIF(top10Usrs[Top 10 Posters],tblPosts[[#This Row],[poster_id]])","v":0}]
[1838,1,487,24,null,"2010-05-27T00:03:34",null,null,2,{"$f":"COUNTIF(top10Usrs[Top 10 Posters],tblPosts[[#This Row],[poster_id]])","v":1}]
[1839,1,486,5408,null,"2010-05-27T03:49:35",null,null,2,{"$f":"COUNTIF(top10Usrs[Top 10 Posters],tblPosts[[#This Row],[poster_id]])","v":1}]
[1840,1,487,4792,null,"2010-05-27T03:53:54",null,null,3,{"$f":"COUNTIF(top10Usrs[Top 10 Posters],tblPosts[[#This Row],[poster_id]])","v":0}]
[1841,1,485,2079,null,"2010-05-27T05:49:49",null,null,3,{"$f":"COUNTIF(top10Usrs[Top 10 Posters],tblPosts[[#This Row],[poster_id]])","v":0}]
[1842,1,486,24,null,"2010-05-27T07:46:48",null,null,3,{"$f":"COUNTIF(top10Usrs[Top 10 Posters],tblPosts[[#This Row],[poster_id]])","v":1}]
[1843,1,488,6367,null,"2010-05-27T15:55:39",null,null,1,{"$f":"COUNTIF(top10Usrs[Top 10 Posters],tblPosts[[#This Row],[poster_id]])","v":0}]
[1844,1,488,24,null,"2010-05-27T16:45:04",null,null,2,{"$f":"COUNTIF(top10Usrs[Top 10 Posters],tblPosts[[#This Row],[poster_id]])","v":1}]
[1845,1,488,2865,null,"2010-05-27T20:23:53",null,null,3,{"$f":"COUNTIF(top10Usrs[Top 10 Posters],tblPosts[[#This Row],[poster_id]])","v":0}]
[1846,1,486,2176,null,"2010-05-27T20:57:15",null,null,4,{"$f":"COUNTIF(top10Usrs[Top 10 Posters],tblPosts[[#This Row],[poster_id]])","v":0}]
[1847,4,2,6381,null,"2010-05-28T01:20:53",null,null,48,{"$f":"COUNTIF(top10Usrs[Top 10 Posters],tblPosts[[#This Row],[poster_id]])","v":0}]
[1848,1,489,6381,null,"2010-05-28T01:58:20",null,null,1,{"$f":"COUNTIF(top10Usrs[Top 10 Posters],tblPosts[[#This Row],[poster_id]])","v":0}]
[1849,1,475,3496,null,"2010-05-28T05:46:41",null,null,9,{"$f":"COUNTIF(top10Usrs[Top 10 Posters],tblPosts[[#This Row],[poster_id]])","v":0}]
[1850,1,475,2865,null,"2010-05-28T06:30:06",null,null,10,{"$f":"COUNTIF(top10Usrs[Top 10 Posters],tblPosts[[#This Row],[poster_id]])","v":0}]
[1851,1,490,6389,null,"2010-05-28T07:46:45",null,null,1,{"$f":"COUNTIF(top10Usrs[Top 10 Posters],tblPosts[[#This Row],[poster_id]])","v":0}]
[1852,1,490,1,null,"2010-05-28T08:44:27",null,null,2,{"$f":"COUNTIF(top10Usrs[Top 10 Posters],tblPosts[[#This Row],[poster_id]])","v":1}]
[1853,1,490,6389,null,"2010-05-28T09:15:37",null,null,3,{"$f":"COUNTIF(top10Usrs[Top 10 Posters],tblPosts[[#This Row],[poster_id]])","v":0}]
[1854,1,489,5408,null,"2010-05-28T13:37:36",null,null,2,{"$f":"COUNTIF(top10Usrs[Top 10 Posters],tblPosts[[#This Row],[poster_id]])","v":1}]
[1855,2,491,6395,null,"2010-05-28T13:38:29",null,null,1,{"$f":"COUNTIF(top10Usrs[Top 10 Posters],tblPosts[[#This Row],[poster_id]])","v":0}]
[1856,2,491,6395,null,"2010-05-28T15:02:49",null,null,2,{"$f":"COUNTIF(top10Usrs[Top 10 Posters],tblPosts[[#This Row],[poster_id]])","v":0}]
[1857,1,489,6381,null,"2010-05-28T23:55:16",null,null,3,{"$f":"COUNTIF(top10Usrs[Top 10 Posters],tblPosts[[#This Row],[poster_id]])","v":0}]
[1858,1,476,6417,null,"2010-05-29T11:58:36",null,null,3,{"$f":"COUNTIF(top10Usrs[Top 10 Posters],tblPosts[[#This Row],[poster_id]])","v":0}]
[1859,1,492,5297,null,"2010-05-30T01:53:08",null,null,1,{"$f":"COUNTIF(top10Usrs[Top 10 Posters],tblPosts[[#This Row],[poster_id]])","v":0}]
[1860,1,492,24,null,"2010-05-30T04:41:04",null,null,2,{"$f":"COUNTIF(top10Usrs[Top 10 Posters],tblPosts[[#This Row],[poster_id]])","v":1}]
[1861,1,493,6436,null,"2010-05-30T07:09:10",null,null,1,{"$f":"COUNTIF(top10Usrs[Top 10 Posters],tblPosts[[#This Row],[poster_id]])","v":0}]
[1862,4,2,6436,null,"2010-05-30T07:22:53",null,null,49,{"$f":"COUNTIF(top10Usrs[Top 10 Posters],tblPosts[[#This Row],[poster_id]])","v":0}]
[1863,1,410,4061,null,"2010-05-30T09:47:22",null,null,13,{"$f":"COUNTIF(top10Usrs[Top 10 Posters],tblPosts[[#This Row],[poster_id]])","v":0}]
[1864,1,494,4061,null,"2010-05-30T09:54:09",null,null,1,{"$f":"COUNTIF(top10Usrs[Top 10 Posters],tblPosts[[#This Row],[poster_id]])","v":0}]
[1865,1,492,5297,null,"2010-05-30T21:21:51",null,null,3,{"$f":"COUNTIF(top10Usrs[Top 10 Posters],tblPosts[[#This Row],[poster_id]])","v":0}]
[1866,1,492,24,null,"2010-05-31T01:37:43",null,null,4,{"$f":"COUNTIF(top10Usrs[Top 10 Posters],tblPosts[[#This Row],[poster_id]])","v":1}]
[1867,1,476,24,null,"2010-05-31T01:40:21",null,null,4,{"$f":"COUNTIF(top10Usrs[Top 10 Posters],tblPosts[[#This Row],[poster_id]])","v":1}]
[1868,1,493,24,null,"2010-05-31T01:47:28",null,null,2,{"$f":"COUNTIF(top10Usrs[Top 10 Posters],tblPosts[[#This Row],[poster_id]])","v":1}]
[1869,1,485,24,null,"2010-05-31T01:49:10",null,null,4,{"$f":"COUNTIF(top10Usrs[Top 10 Posters],tblPosts[[#This Row],[poster_id]])","v":1}]
[1870,1,494,6381,null,"2010-05-31T09:29:04",null,null,2,{"$f":"COUNTIF(top10Usrs[Top 10 Posters],tblPosts[[#This Row],[poster_id]])","v":0}]
[1871,1,495,6455,null,"2010-05-31T10:34:42",null,null,1,{"$f":"COUNTIF(top10Usrs[Top 10 Posters],tblPosts[[#This Row],[poster_id]])","v":0}]
[1872,1,495,24,null,"2010-05-31T11:26:48",null,null,2,{"$f":"COUNTIF(top10Usrs[Top 10 Posters],tblPosts[[#This Row],[poster_id]])","v":1}]
[1873,1,495,6458,null,"2010-05-31T12:25:31",null,null,3,{"$f":"COUNTIF(top10Usrs[Top 10 Posters],tblPosts[[#This Row],[poster_id]])","v":0}]
[1874,1,476,6417,null,"2010-05-31T20:48:28",null,null,5,{"$f":"COUNTIF(top10Usrs[Top 10 Posters],tblPosts[[#This Row],[poster_id]])","v":0}]
[1875,4,2,6473,null,"2010-06-01T04:44:40",null,null,50,{"$f":"COUNTIF(top10Usrs[Top 10 Posters],tblPosts[[#This Row],[poster_id]])","v":0}]
[1876,3,496,6473,null,"2010-06-01T04:53:15",null,null,1,{"$f":"COUNTIF(top10Usrs[Top 10 Posters],tblPosts[[#This Row],[poster_id]])","v":0}]
[1877,1,497,6389,null,"2010-06-01T08:49:12",null,null,1,{"$f":"COUNTIF(top10Usrs[Top 10 Posters],tblPosts[[#This Row],[poster_id]])","v":0}]
[1878,1,497,24,null,"2010-06-01T09:11:36",null,null,2,{"$f":"COUNTIF(top10Usrs[Top 10 Posters],tblPosts[[#This Row],[poster_id]])","v":1}]
[1879,1,497,2758,null,"2010-06-01T11:17:50",null,null,3,{"$f":"COUNTIF(top10Usrs[Top 10 Posters],tblPosts[[#This Row],[poster_id]])","v":0}]
[1880,1,495,3622,null,"2010-06-01T17:49:26",null,null,4,{"$f":"COUNTIF(top10Usrs[Top 10 Posters],tblPosts[[#This Row],[poster_id]])","v":0}]
[1881,1,493,6436,null,"2010-06-01T20:01:51",null,null,3,{"$f":"COUNTIF(top10Usrs[Top 10 Posters],tblPosts[[#This Row],[poster_id]])","v":0}]
[1882,1,493,24,null,"2010-06-01T23:34:47",null,null,4,{"$f":"COUNTIF(top10Usrs[Top 10 Posters],tblPosts[[#This Row],[poster_id]])","v":1}]
[1883,1,498,6494,null,"2010-06-01T23:53:24",null,null,1,{"$f":"COUNTIF(top10Usrs[Top 10 Posters],tblPosts[[#This Row],[poster_id]])","v":0}]
[1884,1,498,1,null,"2010-06-02T00:06:38",null,null,2,{"$f":"COUNTIF(top10Usrs[Top 10 Posters],tblPosts[[#This Row],[poster_id]])","v":1}]
[1885,1,499,6498,null,"2010-06-02T02:05:23",null,null,1,{"$f":"COUNTIF(top10Usrs[Top 10 Posters],tblPosts[[#This Row],[poster_id]])","v":0}]
[1886,1,493,6436,null,"2010-06-02T05:50:13",null,null,5,{"$f":"COUNTIF(top10Usrs[Top 10 Posters],tblPosts[[#This Row],[poster_id]])","v":0}]
[1887,1,499,2758,null,"2010-06-02T07:47:20",null,null,2,{"$f":"COUNTIF(top10Usrs[Top 10 Posters],tblPosts[[#This Row],[poster_id]])","v":0}]
[1888,1,499,6458,null,"2010-06-02T11:07:03",null,null,3,{"$f":"COUNTIF(top10Usrs[Top 10 Posters],tblPosts[[#This Row],[poster_id]])","v":0}]
[1889,1,420,4048,null,"2010-06-02T12:29:07",null,null,4,{"$f":"COUNTIF(top10Usrs[Top 10 Posters],tblPosts[[#This Row],[poster_id]])","v":0}]
[1890,1,420,24,null,"2010-06-02T12:48:58",null,null,5,{"$f":"COUNTIF(top10Usrs[Top 10 Posters],tblPosts[[#This Row],[poster_id]])","v":1}]
[1891,1,500,6500,null,"2010-06-02T15:31:07",null,null,1,{"$f":"COUNTIF(top10Usrs[Top 10 Posters],tblPosts[[#This Row],[poster_id]])","v":0}]
[1892,1,501,6501,null,"2010-06-02T16:14:14",null,null,1,{"$f":"COUNTIF(top10Usrs[Top 10 Posters],tblPosts[[#This Row],[poster_id]])","v":0}]
[1893,1,502,6066,null,"2010-06-02T16:52:00",null,null,1,{"$f":"COUNTIF(top10Usrs[Top 10 Posters],tblPosts[[#This Row],[poster_id]])","v":0}]
[1894,1,503,6503,null,"2010-06-02T17:24:25",null,null,1,{"$f":"COUNTIF(top10Usrs[Top 10 Posters],tblPosts[[#This Row],[poster_id]])","v":0}]
[1895,1,498,6494,null,"2010-06-02T19:23:18",null,null,3,{"$f":"COUNTIF(top10Usrs[Top 10 Posters],tblPosts[[#This Row],[poster_id]])","v":0}]
[1896,1,504,6504,null,"2010-06-02T21:33:36",null,null,1,{"$f":"COUNTIF(top10Usrs[Top 10 Posters],tblPosts[[#This Row],[poster_id]])","v":0}]
[1897,1,504,24,null,"2010-06-02T23:46:55",null,null,2,{"$f":"COUNTIF(top10Usrs[Top 10 Posters],tblPosts[[#This Row],[poster_id]])","v":1}]
[1898,1,503,24,null,"2010-06-02T23:50:58",null,null,2,{"$f":"COUNTIF(top10Usrs[Top 10 Posters],tblPosts[[#This Row],[poster_id]])","v":1}]
[1899,1,500,24,null,"2010-06-03T00:00:58",null,null,2,{"$f":"COUNTIF(top10Usrs[Top 10 Posters],tblPosts[[#This Row],[poster_id]])","v":1}]
[1900,1,501,24,null,"2010-06-03T00:13:38",null,null,2,{"$f":"COUNTIF(top10Usrs[Top 10 Posters],tblPosts[[#This Row],[poster_id]])","v":1}]
[1901,1,501,24,null,"2010-06-03T00:16:19",null,null,3,{"$f":"COUNTIF(top10Usrs[Top 10 Posters],tblPosts[[#This Row],[poster_id]])","v":1}]
[1902,1,502,1,null,"2010-06-03T01:47:32",null,null,2,{"$f":"COUNTIF(top10Usrs[Top 10 Posters],tblPosts[[#This Row],[poster_id]])","v":1}]
[1903,1,505,5424,null,"2010-06-03T04:36:05",null,null,1,{"$f":"COUNTIF(top10Usrs[Top 10 Posters],tblPosts[[#This Row],[poster_id]])","v":0}]
[1904,1,505,24,null,"2010-06-03T05:57:32",null,null,2,{"$f":"COUNTIF(top10Usrs[Top 10 Posters],tblPosts[[#This Row],[poster_id]])","v":1}]
[1905,1,501,6501,null,"2010-06-03T07:58:49",null,null,3,{"$f":"COUNTIF(top10Usrs[Top 10 Posters],tblPosts[[#This Row],[poster_id]])","v":0}]
[1906,1,506,6505,null,"2010-06-03T09:53:55",null,null,1,{"$f":"COUNTIF(top10Usrs[Top 10 Posters],tblPosts[[#This Row],[poster_id]])","v":0}]
[1907,1,506,6458,null,"2010-06-03T11:17:27",null,null,2,{"$f":"COUNTIF(top10Usrs[Top 10 Posters],tblPosts[[#This Row],[poster_id]])","v":0}]
[1908,1,507,6506,null,"2010-06-03T12:35:25",null,null,1,{"$f":"COUNTIF(top10Usrs[Top 10 Posters],tblPosts[[#This Row],[poster_id]])","v":0}]
[1909,1,507,24,null,"2010-06-03T13:14:35",null,null,2,{"$f":"COUNTIF(top10Usrs[Top 10 Posters],tblPosts[[#This Row],[poster_id]])","v":1}]
[1910,1,508,4409,null,"2010-06-03T16:50:09",null,null,1,{"$f":"COUNTIF(top10Usrs[Top 10 Posters],tblPosts[[#This Row],[poster_id]])","v":0}]
[1911,1,508,24,null,"2010-06-03T23:40:41",null,null,2,{"$f":"COUNTIF(top10Usrs[Top 10 Posters],tblPosts[[#This Row],[poster_id]])","v":1}]
[1912,1,507,6506,null,"2010-06-04T09:34:56",null,null,3,{"$f":"COUNTIF(top10Usrs[Top 10 Posters],tblPosts[[#This Row],[poster_id]])","v":0}]
[1913,1,509,6506,null,"2010-06-04T10:05:54",null,null,1,{"$f":"COUNTIF(top10Usrs[Top 10 Posters],tblPosts[[#This Row],[poster_id]])","v":0}]
[1914,1,509,24,null,"2010-06-04T14:07:10",null,null,2,{"$f":"COUNTIF(top10Usrs[Top 10 Posters],tblPosts[[#This Row],[poster_id]])","v":1}]
[1915,1,509,6458,null,"2010-06-04T14:19:11",null,null,3,{"$f":"COUNTIF(top10Usrs[Top 10 Posters],tblPosts[[#This Row],[poster_id]])","v":0}]
[1916,1,510,6507,null,"2010-06-04T15:26:22",null,null,1,{"$f":"COUNTIF(top10Usrs[Top 10 Posters],tblPosts[[#This Row],[poster_id]])","v":0}]
[1917,1,510,3622,null,"2010-06-04T16:53:42",null,null,2,{"$f":"COUNTIF(top10Usrs[Top 10 Posters],tblPosts[[#This Row],[poster_id]])","v":0}]
[1918,3,511,27,null,"2010-06-04T18:05:36",null,null,1,{"$f":"COUNTIF(top10Usrs[Top 10 Posters],tblPosts[[#This Row],[poster_id]])","v":0}]
[1919,1,494,4061,null,"2010-06-04T18:16:00",null,null,3,{"$f":"COUNTIF(top10Usrs[Top 10 Posters],tblPosts[[#This Row],[poster_id]])","v":0}]
[1920,1,512,6508,null,"2010-06-04T20:05:53",null,null,1,{"$f":"COUNTIF(top10Usrs[Top 10 Posters],tblPosts[[#This Row],[poster_id]])","v":0}]
[1921,1,513,2176,null,"2010-06-04T20:29:27",null,null,1,{"$f":"COUNTIF(top10Usrs[Top 10 Posters],tblPosts[[#This Row],[poster_id]])","v":0}]
[1922,1,510,6507,null,"2010-06-04T20:47:14",null,null,3,{"$f":"COUNTIF(top10Usrs[Top 10 Posters],tblPosts[[#This Row],[poster_id]])","v":0}]
[1923,1,513,6507,null,"2010-06-04T21:15:24",null,null,2,{"$f":"COUNTIF(top10Usrs[Top 10 Posters],tblPosts[[#This Row],[poster_id]])","v":0}]
[1924,1,512,24,null,"2010-06-05T02:36:32",null,null,2,{"$f":"COUNTIF(top10Usrs[Top 10 Posters],tblPosts[[#This Row],[poster_id]])","v":1}]
[1925,1,513,24,null,"2010-06-05T02:40:46",null,null,3,{"$f":"COUNTIF(top10Usrs[Top 10 Posters],tblPosts[[#This Row],[poster_id]])","v":1}]
[1926,1,509,6506,null,"2010-06-05T07:59:20",null,null,4,{"$f":"COUNTIF(top10Usrs[Top 10 Posters],tblPosts[[#This Row],[poster_id]])","v":0}]
[1927,1,509,24,null,"2010-06-05T14:04:02",null,null,5,{"$f":"COUNTIF(top10Usrs[Top 10 Posters],tblPosts[[#This Row],[poster_id]])","v":1}]
[1928,1,514,6509,null,"2010-06-05T14:25:21",null,null,1,{"$f":"COUNTIF(top10Usrs[Top 10 Posters],tblPosts[[#This Row],[poster_id]])","v":0}]
[1929,1,509,6506,null,"2010-06-05T14:44:37",null,null,6,{"$f":"COUNTIF(top10Usrs[Top 10 Posters],tblPosts[[#This Row],[poster_id]])","v":0}]
[1930,1,509,24,null,"2010-06-05T14:56:29",null,null,7,{"$f":"COUNTIF(top10Usrs[Top 10 Posters],tblPosts[[#This Row],[poster_id]])","v":1}]
[1931,1,514,24,null,"2010-06-05T15:29:20",null,null,2,{"$f":"COUNTIF(top10Usrs[Top 10 Posters],tblPosts[[#This Row],[poster_id]])","v":1}]
[1932,3,511,24,null,"2010-06-06T02:30:42",null,null,2,{"$f":"COUNTIF(top10Usrs[Top 10 Posters],tblPosts[[#This Row],[poster_id]])","v":1}]
[1933,3,496,6473,null,"2010-06-06T10:25:40",null,null,2,{"$f":"COUNTIF(top10Usrs[Top 10 Posters],tblPosts[[#This Row],[poster_id]])","v":0}]
[1934,1,510,3622,null,"2010-06-06T12:39:15",null,null,4,{"$f":"COUNTIF(top10Usrs[Top 10 Posters],tblPosts[[#This Row],[poster_id]])","v":0}]
[1935,4,2,6510,null,"2010-06-06T21:54:24",null,null,51,{"$f":"COUNTIF(top10Usrs[Top 10 Posters],tblPosts[[#This Row],[poster_id]])","v":0}]
[1936,1,515,6510,null,"2010-06-06T22:02:19",null,null,1,{"$f":"COUNTIF(top10Usrs[Top 10 Posters],tblPosts[[#This Row],[poster_id]])","v":0}]
[1937,1,515,24,null,"2010-06-07T02:25:25",null,null,2,{"$f":"COUNTIF(top10Usrs[Top 10 Posters],tblPosts[[#This Row],[poster_id]])","v":1}]
[1938,1,515,6510,null,"2010-06-07T06:35:13",null,null,3,{"$f":"COUNTIF(top10Usrs[Top 10 Posters],tblPosts[[#This Row],[poster_id]])","v":0}]
[1939,1,515,6510,null,"2010-06-07T06:37:52",null,null,4,{"$f":"COUNTIF(top10Usrs[Top 10 Posters],tblPosts[[#This Row],[poster_id]])","v":0}]
[1940,1,510,6507,null,"2010-06-07T07:28:12",null,null,5,{"$f":"COUNTIF(top10Usrs[Top 10 Posters],tblPosts[[#This Row],[poster_id]])","v":0}]
[1941,1,515,24,null,"2010-06-07T08:42:05",null,null,5,{"$f":"COUNTIF(top10Usrs[Top 10 Posters],tblPosts[[#This Row],[poster_id]])","v":1}]
[1942,1,516,6511,null,"2010-06-07T10:23:58",null,null,1,{"$f":"COUNTIF(top10Usrs[Top 10 Posters],tblPosts[[#This Row],[poster_id]])","v":0}]
[1943,1,516,24,null,"2010-06-07T10:50:01",null,null,2,{"$f":"COUNTIF(top10Usrs[Top 10 Posters],tblPosts[[#This Row],[poster_id]])","v":1}]
[1944,1,517,6512,null,"2010-06-07T12:40:41",null,null,1,{"$f":"COUNTIF(top10Usrs[Top 10 Posters],tblPosts[[#This Row],[poster_id]])","v":0}]
[1945,1,517,24,null,"2010-06-07T13:28:58",null,null,2,{"$f":"COUNTIF(top10Usrs[Top 10 Posters],tblPosts[[#This Row],[poster_id]])","v":1}]
[1946,1,517,6512,null,"2010-06-07T14:20:05",null,null,3,{"$f":"COUNTIF(top10Usrs[Top 10 Posters],tblPosts[[#This Row],[poster_id]])","v":0}]
[1947,1,517,24,null,"2010-06-07T14:39:28",null,null,4,{"$f":"COUNTIF(top10Usrs[Top 10 Posters],tblPosts[[#This Row],[poster_id]])","v":1}]
[1948,1,517,1,null,"2010-06-07T14:53:14",null,null,5,{"$f":"COUNTIF(top10Usrs[Top 10 Posters],tblPosts[[#This Row],[poster_id]])","v":1}]
[1949,1,517,6512,null,"2010-06-07T16:12:00",null,null,6,{"$f":"COUNTIF(top10Usrs[Top 10 Posters],tblPosts[[#This Row],[poster_id]])","v":0}]
[1950,1,515,6510,null,"2010-06-07T18:23:08",null,null,6,{"$f":"COUNTIF(top10Usrs[Top 10 Posters],tblPosts[[#This Row],[poster_id]])","v":0}]
[1951,1,510,3622,null,"2010-06-07T18:40:05",null,null,6,{"$f":"COUNTIF(top10Usrs[Top 10 Posters],tblPosts[[#This Row],[poster_id]])","v":0}]
[1952,1,517,6512,null,"2010-06-07T19:31:14",null,null,7,{"$f":"COUNTIF(top10Usrs[Top 10 Posters],tblPosts[[#This Row],[poster_id]])","v":0}]
[1953,1,518,5873,null,"2010-06-08T11:56:40",null,null,1,{"$f":"COUNTIF(top10Usrs[Top 10 Posters],tblPosts[[#This Row],[poster_id]])","v":0}]
[1954,3,511,27,null,"2010-06-08T12:10:57",null,null,3,{"$f":"COUNTIF(top10Usrs[Top 10 Posters],tblPosts[[#This Row],[poster_id]])","v":0}]
[1955,1,518,24,null,"2010-06-08T12:19:23",null,null,2,{"$f":"COUNTIF(top10Usrs[Top 10 Posters],tblPosts[[#This Row],[poster_id]])","v":1}]
[1956,1,519,5437,null,"2010-06-08T13:26:48",null,null,1,{"$f":"COUNTIF(top10Usrs[Top 10 Posters],tblPosts[[#This Row],[poster_id]])","v":0}]
[1957,3,511,24,null,"2010-06-08T13:28:43",null,null,4,{"$f":"COUNTIF(top10Usrs[Top 10 Posters],tblPosts[[#This Row],[poster_id]])","v":1}]
[1958,1,519,24,null,"2010-06-08T13:32:52",null,null,2,{"$f":"COUNTIF(top10Usrs[Top 10 Posters],tblPosts[[#This Row],[poster_id]])","v":1}]
[1959,1,520,843,null,"2010-06-08T13:33:53",null,null,1,{"$f":"COUNTIF(top10Usrs[Top 10 Posters],tblPosts[[#This Row],[poster_id]])","v":0}]
[1960,1,520,24,null,"2010-06-08T14:18:16",null,null,2,{"$f":"COUNTIF(top10Usrs[Top 10 Posters],tblPosts[[#This Row],[poster_id]])","v":1}]
[1961,1,520,843,null,"2010-06-08T15:00:34",null,null,3,{"$f":"COUNTIF(top10Usrs[Top 10 Posters],tblPosts[[#This Row],[poster_id]])","v":0}]
[1962,1,519,1,null,"2010-06-08T18:43:46",null,null,3,{"$f":"COUNTIF(top10Usrs[Top 10 Posters],tblPosts[[#This Row],[poster_id]])","v":1}]
[1963,1,521,4557,null,"2010-06-08T22:31:30",null,null,1,{"$f":"COUNTIF(top10Usrs[Top 10 Posters],tblPosts[[#This Row],[poster_id]])","v":0}]
[1964,2,522,4557,null,"2010-06-08T22:38:28",null,null,1,{"$f":"COUNTIF(top10Usrs[Top 10 Posters],tblPosts[[#This Row],[poster_id]])","v":0}]
[1965,1,519,24,null,"2010-06-09T00:11:20",null,null,4,{"$f":"COUNTIF(top10Usrs[Top 10 Posters],tblPosts[[#This Row],[poster_id]])","v":1}]
[1966,3,511,27,null,"2010-06-09T07:52:57",null,null,5,{"$f":"COUNTIF(top10Usrs[Top 10 Posters],tblPosts[[#This Row],[poster_id]])","v":0}]
[1967,1,523,28,null,"2010-06-09T15:37:58",null,null,1,{"$f":"COUNTIF(top10Usrs[Top 10 Posters],tblPosts[[#This Row],[poster_id]])","v":0}]
[1968,1,519,5437,null,"2010-06-09T17:39:10",null,null,5,{"$f":"COUNTIF(top10Usrs[Top 10 Posters],tblPosts[[#This Row],[poster_id]])","v":0}]
[1969,1,524,6431,null,"2010-06-09T18:06:03",null,null,0,{"$f":"COUNTIF(top10Usrs[Top 10 Posters],tblPosts[[#This Row],[poster_id]])","v":0}]
[1970,1,518,5873,null,"2010-06-09T19:57:48",null,null,3,{"$f":"COUNTIF(top10Usrs[Top 10 Posters],tblPosts[[#This Row],[poster_id]])","v":0}]
[1971,1,525,6431,null,"2010-06-09T23:36:04",null,null,1,{"$f":"COUNTIF(top10Usrs[Top 10 Posters],tblPosts[[#This Row],[poster_id]])","v":0}]
[1972,1,518,24,null,"2010-06-10T00:27:05",null,null,4,{"$f":"COUNTIF(top10Usrs[Top 10 Posters],tblPosts[[#This Row],[poster_id]])","v":1}]
[1973,1,521,24,null,"2010-06-10T00:36:50",null,null,2,{"$f":"COUNTIF(top10Usrs[Top 10 Posters],tblPosts[[#This Row],[poster_id]])","v":1}]
[1974,1,518,5873,null,"2010-06-10T01:54:34",null,null,5,{"$f":"COUNTIF(top10Usrs[Top 10 Posters],tblPosts[[#This Row],[poster_id]])","v":0}]
[1975,1,520,1,null,"2010-06-10T02:24:26",null,null,4,{"$f":"COUNTIF(top10Usrs[Top 10 Posters],tblPosts[[#This Row],[poster_id]])","v":1}]
[1976,1,523,1,null,"2010-06-10T03:43:30",null,null,2,{"$f":"COUNTIF(top10Usrs[Top 10 Posters],tblPosts[[#This Row],[poster_id]])","v":1}]
[1977,1,518,24,null,"2010-06-10T06:57:48",null,null,6,{"$f":"COUNTIF(top10Usrs[Top 10 Posters],tblPosts[[#This Row],[poster_id]])","v":1}]
[1978,1,523,28,null,"2010-06-10T13:11:17",null,null,3,{"$f":"COUNTIF(top10Usrs[Top 10 Posters],tblPosts[[#This Row],[poster_id]])","v":0}]
[1979,1,526,28,null,"2010-06-10T15:49:23",null,null,1,{"$f":"COUNTIF(top10Usrs[Top 10 Posters],tblPosts[[#This Row],[poster_id]])","v":0}]
[1980,1,526,24,null,"2010-06-10T16:10:58",null,null,2,{"$f":"COUNTIF(top10Usrs[Top 10 Posters],tblPosts[[#This Row],[poster_id]])","v":1}]
[1981,1,526,28,null,"2010-06-10T16:26:24",null,null,3,{"$f":"COUNTIF(top10Usrs[Top 10 Posters],tblPosts[[#This Row],[poster_id]])","v":0}]
[1982,1,527,6513,null,"2010-06-10T17:44:42",null,null,1,{"$f":"COUNTIF(top10Usrs[Top 10 Posters],tblPosts[[#This Row],[poster_id]])","v":0}]
[1983,1,527,3622,null,"2010-06-10T18:08:44",null,null,2,{"$f":"COUNTIF(top10Usrs[Top 10 Posters],tblPosts[[#This Row],[poster_id]])","v":0}]
[1984,1,528,6514,null,"2010-06-10T22:24:41",null,null,1,{"$f":"COUNTIF(top10Usrs[Top 10 Posters],tblPosts[[#This Row],[poster_id]])","v":0}]
[1985,1,528,24,null,"2010-06-11T00:03:57",null,null,2,{"$f":"COUNTIF(top10Usrs[Top 10 Posters],tblPosts[[#This Row],[poster_id]])","v":1}]
[1986,1,526,24,null,"2010-06-11T00:13:14",null,null,4,{"$f":"COUNTIF(top10Usrs[Top 10 Posters],tblPosts[[#This Row],[poster_id]])","v":1}]
[1987,1,528,6514,null,"2010-06-11T00:37:38",null,null,3,{"$f":"COUNTIF(top10Usrs[Top 10 Posters],tblPosts[[#This Row],[poster_id]])","v":0}]
[1988,1,523,1,null,"2010-06-11T01:54:38",null,null,4,{"$f":"COUNTIF(top10Usrs[Top 10 Posters],tblPosts[[#This Row],[poster_id]])","v":1}]
[1989,1,526,28,null,"2010-06-11T13:52:42",null,null,5,{"$f":"COUNTIF(top10Usrs[Top 10 Posters],tblPosts[[#This Row],[poster_id]])","v":0}]
[1990,1,526,24,null,"2010-06-11T14:17:37",null,null,6,{"$f":"COUNTIF(top10Usrs[Top 10 Posters],tblPosts[[#This Row],[poster_id]])","v":1}]
[1991,1,523,24,null,"2010-06-11T14:27:40",null,null,5,{"$f":"COUNTIF(top10Usrs[Top 10 Posters],tblPosts[[#This Row],[poster_id]])","v":1}]
[1992,1,529,6517,null,"2010-06-11T20:37:39",null,null,1,{"$f":"COUNTIF(top10Usrs[Top 10 Posters],tblPosts[[#This Row],[poster_id]])","v":0}]
[1993,1,529,2865,null,"2010-06-11T21:14:18",null,null,2,{"$f":"COUNTIF(top10Usrs[Top 10 Posters],tblPosts[[#This Row],[poster_id]])","v":0}]
[1994,1,530,6518,null,"2010-06-13T00:38:45",null,null,1,{"$f":"COUNTIF(top10Usrs[Top 10 Posters],tblPosts[[#This Row],[poster_id]])","v":0}]
[1995,1,530,24,null,"2010-06-13T02:44:59",null,null,2,{"$f":"COUNTIF(top10Usrs[Top 10 Posters],tblPosts[[#This Row],[poster_id]])","v":1}]
[1996,1,530,6518,null,"2010-06-13T06:08:03",null,null,3,{"$f":"COUNTIF(top10Usrs[Top 10 Posters],tblPosts[[#This Row],[poster_id]])","v":0}]
[1997,1,531,6519,null,"2010-06-13T15:04:57",null,null,1,{"$f":"COUNTIF(top10Usrs[Top 10 Posters],tblPosts[[#This Row],[poster_id]])","v":0}]
[1998,1,531,2865,null,"2010-06-13T17:01:58",null,null,2,{"$f":"COUNTIF(top10Usrs[Top 10 Posters],tblPosts[[#This Row],[poster_id]])","v":0}]
[2000,5,532,1,null,"2010-06-14T07:38:29",null,null,1,{"$f":"COUNTIF(top10Usrs[Top 10 Posters],tblPosts[[#This Row],[poster_id]])","v":1}]
[2011,1,536,3983,null,"2010-06-15T15:42:57",null,null,3,{"$f":"COUNTIF(top10Usrs[Top 10 Posters],tblPosts[[#This Row],[poster_id]])","v":0}]
[2023,1,526,28,null,"2010-06-16T08:53:58",null,null,7,{"$f":"COUNTIF(top10Usrs[Top 10 Posters],tblPosts[[#This Row],[poster_id]])","v":0}]
[2030,1,526,24,null,"2010-06-16T10:20:59",null,null,10,{"$f":"COUNTIF(top10Usrs[Top 10 Posters],tblPosts[[#This Row],[poster_id]])","v":1}]
[2042,1,543,24,null,"2010-06-17T07:31:45",null,null,2,{"$f":"COUNTIF(top10Usrs[Top 10 Posters],tblPosts[[#This Row],[poster_id]])","v":1}]
[2045,1,545,24,null,"2010-06-17T08:31:13",null,null,2,{"$f":"COUNTIF(top10Usrs[Top 10 Posters],tblPosts[[#This Row],[poster_id]])","v":1}]
[2052,1,545,1217,null,"2010-06-17T09:24:56",null,null,4,{"$f":"COUNTIF(top10Usrs[Top 10 Posters],tblPosts[[#This Row],[poster_id]])","v":0}]
[2064,1,544,28,null,"2010-06-17T14:05:37",null,null,6,{"$f":"COUNTIF(top10Usrs[Top 10 Posters],tblPosts[[#This Row],[poster_id]])","v":0}]
[2071,1,548,5873,null,"2010-06-18T01:08:55",null,null,1,{"$f":"COUNTIF(top10Usrs[Top 10 Posters],tblPosts[[#This Row],[poster_id]])","v":0}]
[2081,1,551,1,null,"2010-06-19T01:50:50",null,null,2,{"$f":"COUNTIF(top10Usrs[Top 10 Posters],tblPosts[[#This Row],[poster_id]])","v":1}]
[2094,1,553,6458,null,"2010-06-21T11:41:31",null,null,4,{"$f":"COUNTIF(top10Usrs[Top 10 Posters],tblPosts[[#This Row],[poster_id]])","v":0}]
[2101,1,547,24,null,"2010-06-21T14:55:01",null,null,7,{"$f":"COUNTIF(top10Usrs[Top 10 Posters],tblPosts[[#This Row],[poster_id]])","v":1}]
[2113,1,558,6534,null,"2010-06-22T14:07:18",null,null,1,{"$f":"COUNTIF(top10Usrs[Top 10 Posters],tblPosts[[#This Row],[poster_id]])","v":0}]
[2116,1,560,24,null,"2010-06-22T23:32:52",null,null,2,{"$f":"COUNTIF(top10Usrs[Top 10 Posters],tblPosts[[#This Row],[poster_id]])","v":1}]
[2123,1,547,2176,null,"2010-06-24T01:14:45",null,null,8,{"$f":"COUNTIF(top10Usrs[Top 10 Posters],tblPosts[[#This Row],[poster_id]])","v":0}]
[2135,1,568,6542,null,"2010-06-25T17:04:42",null,null,1,{"$f":"COUNTIF(top10Usrs[Top 10 Posters],tblPosts[[#This Row],[poster_id]])","v":0}]
[2142,1,550,3622,null,"2010-06-27T06:45:07",null,null,2,{"$f":"COUNTIF(top10Usrs[Top 10 Posters],tblPosts[[#This Row],[poster_id]])","v":0}]
[2154,1,571,6546,null,"2010-06-28T11:54:57",null,null,1,{"$f":"COUNTIF(top10Usrs[Top 10 Posters],tblPosts[[#This Row],[poster_id]])","v":0}]
[2166,1,574,2683,null,"2010-06-29T08:53:24",null,null,1,{"$f":"COUNTIF(top10Usrs[Top 10 Posters],tblPosts[[#This Row],[poster_id]])","v":0}]
[2172,1,575,1880,null,"2010-06-29T18:46:42",null,null,1,{"$f":"COUNTIF(top10Usrs[Top 10 Posters],tblPosts[[#This Row],[poster_id]])","v":0}]
[2184,1,577,24,null,"2010-06-30T14:46:03",null,null,2,{"$f":"COUNTIF(top10Usrs[Top 10 Posters],tblPosts[[#This Row],[poster_id]])","v":1}]
[2191,1,580,6552,null,"2010-06-30T19:49:44",null,null,1,{"$f":"COUNTIF(top10Usrs[Top 10 Posters],tblPosts[[#This Row],[poster_id]])","v":0}]
[2194,1,575,1880,null,"2010-06-30T21:35:13",null,null,5,{"$f":"COUNTIF(top10Usrs[Top 10 Posters],tblPosts[[#This Row],[poster_id]])","v":0}]
[2206,1,582,6389,null,"2010-07-01T10:23:03",null,null,1,{"$f":"COUNTIF(top10Usrs[Top 10 Posters],tblPosts[[#This Row],[poster_id]])","v":0}]
[2213,1,583,24,null,"2010-07-01T12:45:11",null,null,2,{"$f":"COUNTIF(top10Usrs[Top 10 Posters],tblPosts[[#This Row],[poster_id]])","v":1}]
[2225,1,582,6389,null,"2010-07-02T06:24:08",null,null,5,{"$f":"COUNTIF(top10Usrs[Top 10 Posters],tblPosts[[#This Row],[poster_id]])","v":0}]
[2237,1,584,6554,null,"2010-07-02T18:27:53",null,null,5,{"$f":"COUNTIF(top10Usrs[Top 10 Posters],tblPosts[[#This Row],[poster_id]])","v":0}]
[2244,1,587,6030,null,"2010-07-03T06:38:54",null,null,8,{"$f":"COUNTIF(top10Usrs[Top 10 Posters],tblPosts[[#This Row],[poster_id]])","v":0}]
[2253,1,591,6509,null,"2010-07-04T04:11:55",null,null,1,{"$f":"COUNTIF(top10Usrs[Top 10 Posters],tblPosts[[#This Row],[poster_id]])","v":0}]
[2262,4,2,6560,null,"2010-07-05T15:46:12",null,null,56,{"$f":"COUNTIF(top10Usrs[Top 10 Posters],tblPosts[[#This Row],[poster_id]])","v":0}]
[2265,1,595,6561,null,"2010-07-05T21:49:53",null,null,1,{"$f":"COUNTIF(top10Usrs[Top 10 Posters],tblPosts[[#This Row],[poster_id]])","v":0}]
[2277,1,597,24,null,"2010-07-06T14:58:45",null,null,2,{"$f":"COUNTIF(top10Usrs[Top 10 Posters],tblPosts[[#This Row],[poster_id]])","v":1}]
[2284,1,598,24,null,"2010-07-07T10:37:53",null,null,2,{"$f":"COUNTIF(top10Usrs[Top 10 Posters],tblPosts[[#This Row],[poster_id]])","v":1}]
[2296,2,585,6570,null,"2010-07-08T09:09:37",null,null,2,{"$f":"COUNTIF(top10Usrs[Top 10 Posters],tblPosts[[#This Row],[poster_id]])","v":0}]
[2308,1,589,24,null,"2010-07-09T12:51:45",null,null,10,{"$f":"COUNTIF(top10Usrs[Top 10 Posters],tblPosts[[#This Row],[poster_id]])","v":1}]
[2315,1,607,2865,null,"2010-07-11T20:43:13",null,null,3,{"$f":"COUNTIF(top10Usrs[Top 10 Posters],tblPosts[[#This Row],[poster_id]])","v":0}]
[2327,1,599,6565,null,"2010-07-12T17:21:29",null,null,3,{"$f":"COUNTIF(top10Usrs[Top 10 Posters],tblPosts[[#This Row],[poster_id]])","v":0}]
[2334,1,610,6576,null,"2010-07-13T04:21:50",null,null,1,{"$f":"COUNTIF(top10Usrs[Top 10 Posters],tblPosts[[#This Row],[poster_id]])","v":0}]
[2344,1,589,1880,null,"2010-07-13T20:44:49",null,null,17,{"$f":"COUNTIF(top10Usrs[Top 10 Posters],tblPosts[[#This Row],[poster_id]])","v":0}]
[2348,1,610,6576,null,"2010-07-14T05:46:06",null,null,5,{"$f":"COUNTIF(top10Usrs[Top 10 Posters],tblPosts[[#This Row],[poster_id]])","v":0}]
[2355,1,596,24,null,"2010-07-14T12:22:39",null,null,3,{"$f":"COUNTIF(top10Usrs[Top 10 Posters],tblPosts[[#This Row],[poster_id]])","v":1}]
[2367,1,615,6566,null,"2010-07-15T13:31:45",null,null,3,{"$f":"COUNTIF(top10Usrs[Top 10 Posters],tblPosts[[#This Row],[poster_id]])","v":0}]
[2374,1,616,6583,null,"2010-07-16T14:01:22",null,null,4,{"$f":"COUNTIF(top10Usrs[Top 10 Posters],tblPosts[[#This Row],[poster_id]])","v":0}]
[2386,1,617,6520,null,"2010-07-19T09:33:31",null,null,3,{"$f":"COUNTIF(top10Usrs[Top 10 Posters],tblPosts[[#This Row],[poster_id]])","v":0}]
[2398,1,599,6565,null,"2010-07-19T17:34:06",null,null,7,{"$f":"COUNTIF(top10Usrs[Top 10 Posters],tblPosts[[#This Row],[poster_id]])","v":0}]
[2405,1,611,6556,null,"2010-07-20T15:18:09",null,null,13,{"$f":"COUNTIF(top10Usrs[Top 10 Posters],tblPosts[[#This Row],[poster_id]])","v":0}]
[2408,1,624,1,null,"2010-07-21T02:16:14",null,null,2,{"$f":"COUNTIF(top10Usrs[Top 10 Posters],tblPosts[[#This Row],[poster_id]])","v":1}]
[2417,1,628,6458,null,"2010-07-21T23:19:55",null,null,2,{"$f":"COUNTIF(top10Usrs[Top 10 Posters],tblPosts[[#This Row],[poster_id]])","v":0}]
[2426,1,629,176,null,"2010-07-22T10:44:53",null,null,5,{"$f":"COUNTIF(top10Usrs[Top 10 Posters],tblPosts[[#This Row],[poster_id]])","v":0}]
[2438,2,626,6592,null,"2010-07-22T14:56:13",null,null,14,{"$f":"COUNTIF(top10Usrs[Top 10 Posters],tblPosts[[#This Row],[poster_id]])","v":0}]
[2445,2,630,6592,null,"2010-07-23T13:18:49",null,null,3,{"$f":"COUNTIF(top10Usrs[Top 10 Posters],tblPosts[[#This Row],[poster_id]])","v":0}]
[2457,1,634,2369,null,"2010-07-24T17:23:15",null,null,3,{"$f":"COUNTIF(top10Usrs[Top 10 Posters],tblPosts[[#This Row],[poster_id]])","v":0}]
[2469,1,638,6604,null,"2010-07-25T23:35:17",null,null,1,{"$f":"COUNTIF(top10Usrs[Top 10 Posters],tblPosts[[#This Row],[poster_id]])","v":0}]
[2476,1,574,24,null,"2010-07-26T13:15:55",null,null,6,{"$f":"COUNTIF(top10Usrs[Top 10 Posters],tblPosts[[#This Row],[poster_id]])","v":1}]
[2479,1,638,24,null,"2010-07-26T13:58:59",null,null,6,{"$f":"COUNTIF(top10Usrs[Top 10 Posters],tblPosts[[#This Row],[poster_id]])","v":1}]
[2495,1,641,2865,null,"2010-07-27T16:25:55",null,null,5,{"$f":"COUNTIF(top10Usrs[Top 10 Posters],tblPosts[[#This Row],[poster_id]])","v":0}]
[2498,1,639,6607,null,"2010-07-28T02:12:51",null,null,5,{"$f":"COUNTIF(top10Usrs[Top 10 Posters],tblPosts[[#This Row],[poster_id]])","v":0}]
[2508,1,617,6611,null,"2010-07-29T05:37:43",null,null,5,{"$f":"COUNTIF(top10Usrs[Top 10 Posters],tblPosts[[#This Row],[poster_id]])","v":0}]
[2516,1,647,24,null,"2010-07-29T10:38:38",null,null,2,{"$f":"COUNTIF(top10Usrs[Top 10 Posters],tblPosts[[#This Row],[poster_id]])","v":1}]
[2528,1,648,6611,null,"2010-07-30T04:53:41",null,null,6,{"$f":"COUNTIF(top10Usrs[Top 10 Posters],tblPosts[[#This Row],[poster_id]])","v":0}]
[2540,1,653,2865,null,"2010-07-30T21:44:05",null,null,2,{"$f":"COUNTIF(top10Usrs[Top 10 Posters],tblPosts[[#This Row],[poster_id]])","v":0}]
[2547,3,652,24,null,"2010-07-31T09:15:03",null,null,2,{"$f":"COUNTIF(top10Usrs[Top 10 Posters],tblPosts[[#This Row],[poster_id]])","v":1}]
[2549,1,650,6612,null,"2010-07-31T09:48:49",null,null,9,{"$f":"COUNTIF(top10Usrs[Top 10 Posters],tblPosts[[#This Row],[poster_id]])","v":0}]
[2566,1,656,6625,null,"2010-08-02T09:19:05",null,null,1,{"$f":"COUNTIF(top10Usrs[Top 10 Posters],tblPosts[[#This Row],[poster_id]])","v":0}]
[2569,1,657,6626,null,"2010-08-02T12:19:26",null,null,1,{"$f":"COUNTIF(top10Usrs[Top 10 Posters],tblPosts[[#This Row],[poster_id]])","v":0}]
[2581,3,652,24,null,"2010-08-02T13:41:11",null,null,4,{"$f":"COUNTIF(top10Usrs[Top 10 Posters],tblPosts[[#This Row],[poster_id]])","v":1}]
[2589,1,635,6611,null,"2010-08-03T04:58:25",null,null,4,{"$f":"COUNTIF(top10Usrs[Top 10 Posters],tblPosts[[#This Row],[poster_id]])","v":0}]
[2599,1,663,6631,null,"2010-08-04T06:15:12",null,null,1,{"$f":"COUNTIF(top10Usrs[Top 10 Posters],tblPosts[[#This Row],[poster_id]])","v":0}]
[2611,1,651,28,null,"2010-08-04T14:40:15",null,null,14,{"$f":"COUNTIF(top10Usrs[Top 10 Posters],tblPosts[[#This Row],[poster_id]])","v":0}]
[2618,1,665,2865,null,"2010-08-05T06:35:21",null,null,2,{"$f":"COUNTIF(top10Usrs[Top 10 Posters],tblPosts[[#This Row],[poster_id]])","v":0}]
[2621,1,666,24,null,"2010-08-05T08:58:57",null,null,2,{"$f":"COUNTIF(top10Usrs[Top 10 Posters],tblPosts[[#This Row],[poster_id]])","v":1}]
[2637,1,669,2865,null,"2010-08-05T21:47:22",null,null,2,{"$f":"COUNTIF(top10Usrs[Top 10 Posters],tblPosts[[#This Row],[poster_id]])","v":0}]
[2640,1,669,24,null,"2010-08-06T01:37:43",null,null,3,{"$f":"COUNTIF(top10Usrs[Top 10 Posters],tblPosts[[#This Row],[poster_id]])","v":1}]
[2652,1,664,5408,null,"2010-08-06T14:23:10",null,null,4,{"$f":"COUNTIF(top10Usrs[Top 10 Posters],tblPosts[[#This Row],[poster_id]])","v":1}]
[2659,1,674,6634,null,"2010-08-07T04:17:52",null,null,3,{"$f":"COUNTIF(top10Usrs[Top 10 Posters],tblPosts[[#This Row],[poster_id]])","v":0}]
[2671,1,677,6645,null,"2010-08-09T14:13:36",null,null,3,{"$f":"COUNTIF(top10Usrs[Top 10 Posters],tblPosts[[#This Row],[poster_id]])","v":0}]
[2680,1,680,347,null,"2010-08-10T14:13:14",null,null,3,{"$f":"COUNTIF(top10Usrs[Top 10 Posters],tblPosts[[#This Row],[poster_id]])","v":0}]
[2689,1,682,6569,null,"2010-08-11T19:57:47",null,null,3,{"$f":"COUNTIF(top10Usrs[Top 10 Posters],tblPosts[[#This Row],[poster_id]])","v":0}]
[2692,1,683,24,null,"2010-08-12T00:38:53",null,null,2,{"$f":"COUNTIF(top10Usrs[Top 10 Posters],tblPosts[[#This Row],[poster_id]])","v":1}]
[2708,1,685,24,null,"2010-08-13T06:12:13",null,null,4,{"$f":"COUNTIF(top10Usrs[Top 10 Posters],tblPosts[[#This Row],[poster_id]])","v":1}]
[2711,1,685,6647,null,"2010-08-13T19:30:27",null,null,6,{"$f":"COUNTIF(top10Usrs[Top 10 Posters],tblPosts[[#This Row],[poster_id]])","v":0}]
[2723,3,690,6654,null,"2010-08-15T15:04:05",null,null,1,{"$f":"COUNTIF(top10Usrs[Top 10 Posters],tblPosts[[#This Row],[poster_id]])","v":0}]
[2730,4,2,6655,null,"2010-08-16T05:57:00",null,null,64,{"$f":"COUNTIF(top10Usrs[Top 10 Posters],tblPosts[[#This Row],[poster_id]])","v":0}]
[2742,1,695,6658,null,"2010-08-17T16:37:04",null,null,1,{"$f":"COUNTIF(top10Usrs[Top 10 Posters],tblPosts[[#This Row],[poster_id]])","v":0}]
[2749,1,699,6616,null,"2010-08-17T22:32:22",null,null,1,{"$f":"COUNTIF(top10Usrs[Top 10 Posters],tblPosts[[#This Row],[poster_id]])","v":0}]
[2761,1,695,24,null,"2010-08-18T05:45:33",null,null,6,{"$f":"COUNTIF(top10Usrs[Top 10 Posters],tblPosts[[#This Row],[poster_id]])","v":1}]
[2771,1,701,24,null,"2010-08-18T12:04:20",null,null,4,{"$f":"COUNTIF(top10Usrs[Top 10 Posters],tblPosts[[#This Row],[poster_id]])","v":1}]
[2779,1,707,3008,null,"2010-08-19T06:58:10",null,null,1,{"$f":"COUNTIF(top10Usrs[Top 10 Posters],tblPosts[[#This Row],[poster_id]])","v":0}]
[2782,1,708,5971,null,"2010-08-19T11:23:10",null,null,1,{"$f":"COUNTIF(top10Usrs[Top 10 Posters],tblPosts[[#This Row],[poster_id]])","v":0}]
[2794,1,696,24,null,"2010-08-19T23:56:40",null,null,4,{"$f":"COUNTIF(top10Usrs[Top 10 Posters],tblPosts[[#This Row],[poster_id]])","v":1}]
[2801,1,701,6653,null,"2010-08-20T11:02:30",null,null,7,{"$f":"COUNTIF(top10Usrs[Top 10 Posters],tblPosts[[#This Row],[poster_id]])","v":0}]
[2813,1,696,24,null,"2010-08-23T10:42:42",null,null,6,{"$f":"COUNTIF(top10Usrs[Top 10 Posters],tblPosts[[#This Row],[poster_id]])","v":1}]
[2820,1,714,6669,null,"2010-08-23T14:14:58",null,null,5,{"$f":"COUNTIF(top10Usrs[Top 10 Posters],tblPosts[[#This Row],[poster_id]])","v":0}]
[2832,1,714,6669,null,"2010-08-24T14:36:36",null,null,7,{"$f":"COUNTIF(top10Usrs[Top 10 Posters],tblPosts[[#This Row],[poster_id]])","v":0}]
[2835,1,695,6658,null,"2010-08-24T14:48:34",null,null,11,{"$f":"COUNTIF(top10Usrs[Top 10 Posters],tblPosts[[#This Row],[poster_id]])","v":0}]
[2844,1,716,6673,null,"2010-08-25T04:44:27",null,null,3,{"$f":"COUNTIF(top10Usrs[Top 10 Posters],tblPosts[[#This Row],[poster_id]])","v":0}]
[2853,1,718,6675,null,"2010-08-25T20:22:37",null,null,1,{"$f":"COUNTIF(top10Usrs[Top 10 Posters],tblPosts[[#This Row],[poster_id]])","v":0}]
[2869,1,695,6658,null,"2010-08-26T15:22:43",null,null,16,{"$f":"COUNTIF(top10Usrs[Top 10 Posters],tblPosts[[#This Row],[poster_id]])","v":0}]
[2872,1,719,6677,null,"2010-08-26T17:10:53",null,null,5,{"$f":"COUNTIF(top10Usrs[Top 10 Posters],tblPosts[[#This Row],[poster_id]])","v":0}]
[2884,1,725,6680,null,"2010-08-27T13:30:47",null,null,1,{"$f":"COUNTIF(top10Usrs[Top 10 Posters],tblPosts[[#This Row],[poster_id]])","v":0}]
[2891,1,726,24,null,"2010-08-28T14:27:23",null,null,2,{"$f":"COUNTIF(top10Usrs[Top 10 Posters],tblPosts[[#This Row],[poster_id]])","v":1}]
[2903,1,731,24,null,"2010-08-29T23:46:25",null,null,3,{"$f":"COUNTIF(top10Usrs[Top 10 Posters],tblPosts[[#This Row],[poster_id]])","v":1}]
[2906,1,729,5408,null,"2010-08-30T04:09:11",null,null,3,{"$f":"COUNTIF(top10Usrs[Top 10 Posters],tblPosts[[#This Row],[poster_id]])","v":1}]
[2922,1,734,5408,null,"2010-08-31T13:19:26",null,null,3,{"$f":"COUNTIF(top10Usrs[Top 10 Posters],tblPosts[[#This Row],[poster_id]])","v":1}]
[2925,1,736,5408,null,"2010-08-31T13:40:45",null,null,1,{"$f":"COUNTIF(top10Usrs[Top 10 Posters],tblPosts[[#This Row],[poster_id]])","v":1}]
[2935,1,734,6607,null,"2010-09-01T01:41:07",null,null,5,{"$f":"COUNTIF(top10Usrs[Top 10 Posters],tblPosts[[#This Row],[poster_id]])","v":0}]
[2943,1,739,24,null,"2010-09-01T04:54:09",null,null,2,{"$f":"COUNTIF(top10Usrs[Top 10 Posters],tblPosts[[#This Row],[poster_id]])","v":1}]
[2955,1,739,1,null,"2010-09-02T00:19:06",null,null,6,{"$f":"COUNTIF(top10Usrs[Top 10 Posters],tblPosts[[#This Row],[poster_id]])","v":1}]
[2962,1,744,1,null,"2010-09-02T15:52:27",null,null,2,{"$f":"COUNTIF(top10Usrs[Top 10 Posters],tblPosts[[#This Row],[poster_id]])","v":1}]
[2974,1,707,6662,null,"2010-09-04T00:58:59",null,null,2,{"$f":"COUNTIF(top10Usrs[Top 10 Posters],tblPosts[[#This Row],[poster_id]])","v":0}]
[2981,1,748,6693,null,"2010-09-05T02:42:57",null,null,1,{"$f":"COUNTIF(top10Usrs[Top 10 Posters],tblPosts[[#This Row],[poster_id]])","v":0}]
[2994,1,749,6604,null,"2010-09-07T13:43:06",null,null,5,{"$f":"COUNTIF(top10Usrs[Top 10 Posters],tblPosts[[#This Row],[poster_id]])","v":0}]
[2997,1,750,5114,null,"2010-09-07T20:28:59",null,null,1,{"$f":"COUNTIF(top10Usrs[Top 10 Posters],tblPosts[[#This Row],[poster_id]])","v":0}]
[3013,1,754,6634,null,"2010-09-08T19:06:06",null,null,1,{"$f":"COUNTIF(top10Usrs[Top 10 Posters],tblPosts[[#This Row],[poster_id]])","v":0}]
[3017,1,751,1,null,"2010-09-09T02:32:37",null,null,5,{"$f":"COUNTIF(top10Usrs[Top 10 Posters],tblPosts[[#This Row],[poster_id]])","v":1}]
[3027,1,758,24,null,"2010-09-10T04:02:11",null,null,2,{"$f":"COUNTIF(top10Usrs[Top 10 Posters],tblPosts[[#This Row],[poster_id]])","v":1}]
[3034,1,761,6667,null,"2010-09-11T16:46:43",null,null,1,{"$f":"COUNTIF(top10Usrs[Top 10 Posters],tblPosts[[#This Row],[poster_id]])","v":0}]
[3046,1,761,6667,null,"2010-09-12T14:27:47",null,null,3,{"$f":"COUNTIF(top10Usrs[Top 10 Posters],tblPosts[[#This Row],[poster_id]])","v":0}]
[3053,2,765,6709,null,"2010-09-13T07:07:18",null,null,1,{"$f":"COUNTIF(top10Usrs[Top 10 Posters],tblPosts[[#This Row],[poster_id]])","v":0}]
[3065,1,766,6713,null,"2010-09-13T15:17:59",null,null,5,{"$f":"COUNTIF(top10Usrs[Top 10 Posters],tblPosts[[#This Row],[poster_id]])","v":0}]
[3068,1,764,5408,null,"2010-09-14T06:44:11",null,null,8,{"$f":"COUNTIF(top10Usrs[Top 10 Posters],tblPosts[[#This Row],[poster_id]])","v":1}]
[3084,1,770,24,null,"2010-09-15T00:21:52",null,null,4,{"$f":"COUNTIF(top10Usrs[Top 10 Posters],tblPosts[[#This Row],[poster_id]])","v":1}]
[3087,1,772,6717,null,"2010-09-15T10:36:04",null,null,1,{"$f":"COUNTIF(top10Usrs[Top 10 Posters],tblPosts[[#This Row],[poster_id]])","v":0}]
[3099,1,777,6030,null,"2010-09-16T10:26:28",null,null,1,{"$f":"COUNTIF(top10Usrs[Top 10 Posters],tblPosts[[#This Row],[poster_id]])","v":0}]
[3108,4,2,6728,null,"2010-09-17T07:37:39",null,null,68,{"$f":"COUNTIF(top10Usrs[Top 10 Posters],tblPosts[[#This Row],[poster_id]])","v":0}]
[3117,1,563,24,null,"2010-09-19T12:26:38",null,null,4,{"$f":"COUNTIF(top10Usrs[Top 10 Posters],tblPosts[[#This Row],[poster_id]])","v":1}]
[3124,1,785,24,null,"2010-09-20T14:41:51",null,null,2,{"$f":"COUNTIF(top10Usrs[Top 10 Posters],tblPosts[[#This Row],[poster_id]])","v":1}]
[3136,1,787,1159,null,"2010-09-22T14:40:07",null,null,7,{"$f":"COUNTIF(top10Usrs[Top 10 Posters],tblPosts[[#This Row],[poster_id]])","v":0}]
[3139,1,787,1159,null,"2010-09-22T15:25:44",null,null,9,{"$f":"COUNTIF(top10Usrs[Top 10 Posters],tblPosts[[#This Row],[poster_id]])","v":0}]
[3155,1,792,24,null,"2010-09-23T10:55:48",null,null,2,{"$f":"COUNTIF(top10Usrs[Top 10 Posters],tblPosts[[#This Row],[poster_id]])","v":1}]
[3158,1,787,1159,null,"2010-09-23T17:57:42",null,null,13,{"$f":"COUNTIF(top10Usrs[Top 10 Posters],tblPosts[[#This Row],[poster_id]])","v":0}]
[3165,1,794,6669,null,"2010-09-24T15:04:27",null,null,3,{"$f":"COUNTIF(top10Usrs[Top 10 Posters],tblPosts[[#This Row],[poster_id]])","v":0}]
[3177,1,799,24,null,"2010-09-25T02:25:16",null,null,2,{"$f":"COUNTIF(top10Usrs[Top 10 Posters],tblPosts[[#This Row],[poster_id]])","v":1}]
[3189,1,802,24,null,"2010-09-26T14:24:00",null,null,3,{"$f":"COUNTIF(top10Usrs[Top 10 Posters],tblPosts[[#This Row],[poster_id]])","v":1}]
[3195,1,797,6750,null,"2010-09-26T19:51:54",null,null,5,{"$f":"COUNTIF(top10Usrs[Top 10 Posters],tblPosts[[#This Row],[poster_id]])","v":0}]
[3207,1,807,1159,null,"2010-09-28T17:32:42",null,null,1,{"$f":"COUNTIF(top10Usrs[Top 10 Posters],tblPosts[[#This Row],[poster_id]])","v":0}]
[3210,4,2,6760,null,"2010-09-28T19:39:48",null,null,71,{"$f":"COUNTIF(top10Usrs[Top 10 Posters],tblPosts[[#This Row],[poster_id]])","v":0}]
[3226,1,808,5408,null,"2010-09-30T00:24:18",null,null,2,{"$f":"COUNTIF(top10Usrs[Top 10 Posters],tblPosts[[#This Row],[poster_id]])","v":1}]
[3229,1,799,6675,null,"2010-09-30T21:42:29",null,null,5,{"$f":"COUNTIF(top10Usrs[Top 10 Posters],tblPosts[[#This Row],[poster_id]])","v":0}]
[3236,1,811,24,null,"2010-10-01T07:25:59",null,null,2,{"$f":"COUNTIF(top10Usrs[Top 10 Posters],tblPosts[[#This Row],[poster_id]])","v":1}]
[3248,1,813,5408,null,"2010-10-01T23:35:07",null,null,5,{"$f":"COUNTIF(top10Usrs[Top 10 Posters],tblPosts[[#This Row],[poster_id]])","v":1}]
[3258,1,819,6781,null,"2010-10-03T16:32:31",null,null,1,{"$f":"COUNTIF(top10Usrs[Top 10 Posters],tblPosts[[#This Row],[poster_id]])","v":0}]
[3267,1,814,2758,null,"2010-10-04T11:43:31",null,null,2,{"$f":"COUNTIF(top10Usrs[Top 10 Posters],tblPosts[[#This Row],[poster_id]])","v":0}]
[3272,1,821,24,null,"2010-10-04T23:36:32",null,null,2,{"$f":"COUNTIF(top10Usrs[Top 10 Posters],tblPosts[[#This Row],[poster_id]])","v":1}]
[3285,1,822,24,null,"2010-10-06T05:59:05",null,null,6,{"$f":"COUNTIF(top10Usrs[Top 10 Posters],tblPosts[[#This Row],[poster_id]])","v":1}]
[3297,1,824,24,null,"2010-10-06T23:55:10",null,null,6,{"$f":"COUNTIF(top10Usrs[Top 10 Posters],tblPosts[[#This Row],[poster_id]])","v":1}]
[3300,1,825,6791,null,"2010-10-07T03:58:21",null,null,6,{"$f":"COUNTIF(top10Usrs[Top 10 Posters],tblPosts[[#This Row],[poster_id]])","v":0}]
[3307,1,826,24,null,"2010-10-07T14:21:05",null,null,3,{"$f":"COUNTIF(top10Usrs[Top 10 Posters],tblPosts[[#This Row],[poster_id]])","v":1}]
[3319,1,803,24,null,"2010-10-08T02:23:35",null,null,16,{"$f":"COUNTIF(top10Usrs[Top 10 Posters],tblPosts[[#This Row],[poster_id]])","v":1}]
[3331,1,831,5408,null,"2010-10-08T12:00:54",null,null,2,{"$f":"COUNTIF(top10Usrs[Top 10 Posters],tblPosts[[#This Row],[poster_id]])","v":1}]
[3338,1,835,6647,null,"2010-10-08T20:54:50",null,null,1,{"$f":"COUNTIF(top10Usrs[Top 10 Posters],tblPosts[[#This Row],[poster_id]])","v":0}]
[3350,1,831,5408,null,"2010-10-09T04:39:45",null,null,6,{"$f":"COUNTIF(top10Usrs[Top 10 Posters],tblPosts[[#This Row],[poster_id]])","v":1}]
[3357,1,839,6802,null,"2010-10-10T08:08:38",null,null,1,{"$f":"COUNTIF(top10Usrs[Top 10 Posters],tblPosts[[#This Row],[poster_id]])","v":0}]
[3363,1,840,24,null,"2010-10-10T23:59:27",null,null,2,{"$f":"COUNTIF(top10Usrs[Top 10 Posters],tblPosts[[#This Row],[poster_id]])","v":1}]
[3371,1,839,24,null,"2010-10-11T09:17:25",null,null,4,{"$f":"COUNTIF(top10Usrs[Top 10 Posters],tblPosts[[#This Row],[poster_id]])","v":1}]
[3378,1,841,24,null,"2010-10-11T13:09:41",null,null,2,{"$f":"COUNTIF(top10Usrs[Top 10 Posters],tblPosts[[#This Row],[poster_id]])","v":1}]
[3390,1,821,24,null,"2010-10-12T01:11:23",null,null,4,{"$f":"COUNTIF(top10Usrs[Top 10 Posters],tblPosts[[#This Row],[poster_id]])","v":1}]
[3402,1,843,6779,null,"2010-10-12T20:25:45",null,null,1,{"$f":"COUNTIF(top10Usrs[Top 10 Posters],tblPosts[[#This Row],[poster_id]])","v":1}]
[3409,1,846,6811,null,"2010-10-13T10:35:05",null,null,1,{"$f":"COUNTIF(top10Usrs[Top 10 Posters],tblPosts[[#This Row],[poster_id]])","v":0}]
[3421,1,849,6813,null,"2010-10-13T22:24:41",null,null,1,{"$f":"COUNTIF(top10Usrs[Top 10 Posters],tblPosts[[#This Row],[poster_id]])","v":0}]
[3428,1,844,6779,null,"2010-10-14T04:16:00",null,null,5,{"$f":"COUNTIF(top10Usrs[Top 10 Posters],tblPosts[[#This Row],[poster_id]])","v":1}]
[3440,1,850,6814,null,"2010-10-14T13:39:56",null,null,7,{"$f":"COUNTIF(top10Usrs[Top 10 Posters],tblPosts[[#This Row],[poster_id]])","v":0}]
[3444,1,848,6812,null,"2010-10-14T20:11:31",null,null,9,{"$f":"COUNTIF(top10Usrs[Top 10 Posters],tblPosts[[#This Row],[poster_id]])","v":0}]
[3449,1,844,24,null,"2010-10-15T04:33:22",null,null,9,{"$f":"COUNTIF(top10Usrs[Top 10 Posters],tblPosts[[#This Row],[poster_id]])","v":1}]
[3461,1,855,6821,null,"2010-10-16T04:36:21",null,null,6,{"$f":"COUNTIF(top10Usrs[Top 10 Posters],tblPosts[[#This Row],[poster_id]])","v":1}]
[3468,1,855,6821,null,"2010-10-16T16:17:17",null,null,11,{"$f":"COUNTIF(top10Usrs[Top 10 Posters],tblPosts[[#This Row],[poster_id]])","v":1}]
[3480,1,860,6821,null,"2010-10-18T04:55:52",null,null,3,{"$f":"COUNTIF(top10Usrs[Top 10 Posters],tblPosts[[#This Row],[poster_id]])","v":1}]
[3492,1,865,6833,null,"2010-10-19T18:14:27",null,null,2,{"$f":"COUNTIF(top10Usrs[Top 10 Posters],tblPosts[[#This Row],[poster_id]])","v":0}]
[3499,1,867,6835,null,"2010-10-20T08:19:59",null,null,1,{"$f":"COUNTIF(top10Usrs[Top 10 Posters],tblPosts[[#This Row],[poster_id]])","v":0}]
[3511,1,866,6821,null,"2010-10-21T01:30:36",null,null,11,{"$f":"COUNTIF(top10Usrs[Top 10 Posters],tblPosts[[#This Row],[poster_id]])","v":1}]
[3514,1,866,6821,null,"2010-10-21T03:12:15",null,null,13,{"$f":"COUNTIF(top10Usrs[Top 10 Posters],tblPosts[[#This Row],[poster_id]])","v":1}]
[3521,1,869,1886,null,"2010-10-21T10:34:19",null,null,3,{"$f":"COUNTIF(top10Usrs[Top 10 Posters],tblPosts[[#This Row],[poster_id]])","v":0}]
[3535,1,873,6841,null,"2010-10-21T23:46:47",null,null,4,{"$f":"COUNTIF(top10Usrs[Top 10 Posters],tblPosts[[#This Row],[poster_id]])","v":0}]
[3539,1,873,24,null,"2010-10-22T07:12:34",null,null,6,{"$f":"COUNTIF(top10Usrs[Top 10 Posters],tblPosts[[#This Row],[poster_id]])","v":1}]
[3551,1,881,5971,null,"2010-10-22T23:12:47",null,null,1,{"$f":"COUNTIF(top10Usrs[Top 10 Posters],tblPosts[[#This Row],[poster_id]])","v":0}]
[3563,1,860,6821,null,"2010-10-23T19:22:27",null,null,6,{"$f":"COUNTIF(top10Usrs[Top 10 Posters],tblPosts[[#This Row],[poster_id]])","v":1}]
[3570,1,883,1,null,"2010-10-24T01:13:15",null,null,2,{"$f":"COUNTIF(top10Usrs[Top 10 Posters],tblPosts[[#This Row],[poster_id]])","v":1}]
[3582,1,884,6850,null,"2010-10-24T12:37:43",null,null,3,{"$f":"COUNTIF(top10Usrs[Top 10 Posters],tblPosts[[#This Row],[poster_id]])","v":0}]
[3585,1,885,24,null,"2010-10-24T13:02:49",null,null,4,{"$f":"COUNTIF(top10Usrs[Top 10 Posters],tblPosts[[#This Row],[poster_id]])","v":1}]
[3592,1,886,24,null,"2010-10-24T21:46:38",null,null,4,{"$f":"COUNTIF(top10Usrs[Top 10 Posters],tblPosts[[#This Row],[poster_id]])","v":1}]
[3604,1,874,24,null,"2010-10-25T04:28:33",null,null,11,{"$f":"COUNTIF(top10Usrs[Top 10 Posters],tblPosts[[#This Row],[poster_id]])","v":1}]
[3616,1,891,176,null,"2010-10-25T08:46:55",null,null,3,{"$f":"COUNTIF(top10Usrs[Top 10 Posters],tblPosts[[#This Row],[poster_id]])","v":0}]
[3622,1,892,6071,null,"2010-10-25T14:10:05",null,null,1,{"$f":"COUNTIF(top10Usrs[Top 10 Posters],tblPosts[[#This Row],[poster_id]])","v":0}]
[3634,1,893,6713,null,"2010-10-26T07:57:51",null,null,2,{"$f":"COUNTIF(top10Usrs[Top 10 Posters],tblPosts[[#This Row],[poster_id]])","v":0}]
[3641,1,858,24,null,"2010-10-26T23:40:10",null,null,8,{"$f":"COUNTIF(top10Usrs[Top 10 Posters],tblPosts[[#This Row],[poster_id]])","v":1}]
[3653,1,898,24,null,"2010-10-28T00:23:29",null,null,2,{"$f":"COUNTIF(top10Usrs[Top 10 Posters],tblPosts[[#This Row],[poster_id]])","v":1}]
[3660,1,900,1,null,"2010-10-28T02:11:45",null,null,2,{"$f":"COUNTIF(top10Usrs[Top 10 Posters],tblPosts[[#This Row],[poster_id]])","v":1}]
[3663,1,900,24,null,"2010-10-28T05:51:03",null,null,4,{"$f":"COUNTIF(top10Usrs[Top 10 Posters],tblPosts[[#This Row],[poster_id]])","v":1}]
[3677,1,889,6458,null,"2010-10-28T23:22:02",null,null,6,{"$f":"COUNTIF(top10Usrs[Top 10 Posters],tblPosts[[#This Row],[poster_id]])","v":0}]
[3670,1,279,6859,null,"2010-10-28T08:31:11",null,null,2,{"$f":"COUNTIF(top10Usrs[Top 10 Posters],tblPosts[[#This Row],[poster_id]])","v":0}]
[3694,1,899,6857,null,"2010-10-29T11:05:56",null,null,3,{"$f":"COUNTIF(top10Usrs[Top 10 Posters],tblPosts[[#This Row],[poster_id]])","v":0}]
[3699,1,898,3108,null,"2010-10-29T13:45:22",null,null,4,{"$f":"COUNTIF(top10Usrs[Top 10 Posters],tblPosts[[#This Row],[poster_id]])","v":0}]
[3712,1,884,6850,null,"2010-10-30T08:12:28",null,null,9,{"$f":"COUNTIF(top10Usrs[Top 10 Posters],tblPosts[[#This Row],[poster_id]])","v":0}]
[3724,1,910,6566,null,"2010-10-31T08:36:48",null,null,3,{"$f":"COUNTIF(top10Usrs[Top 10 Posters],tblPosts[[#This Row],[poster_id]])","v":0}]
[3731,1,889,6458,null,"2010-11-01T02:31:19",null,null,10,{"$f":"COUNTIF(top10Usrs[Top 10 Posters],tblPosts[[#This Row],[poster_id]])","v":0}]
[3734,1,913,6867,null,"2010-11-01T06:22:09",null,null,3,{"$f":"COUNTIF(top10Usrs[Top 10 Posters],tblPosts[[#This Row],[poster_id]])","v":0}]
[3746,1,915,24,null,"2010-11-02T10:45:42",null,null,2,{"$f":"COUNTIF(top10Usrs[Top 10 Posters],tblPosts[[#This Row],[poster_id]])","v":1}]
[3753,1,918,24,null,"2010-11-03T04:14:33",null,null,3,{"$f":"COUNTIF(top10Usrs[Top 10 Posters],tblPosts[[#This Row],[poster_id]])","v":1}]
[3765,1,918,6873,null,"2010-11-03T17:59:04",null,null,4,{"$f":"COUNTIF(top10Usrs[Top 10 Posters],tblPosts[[#This Row],[poster_id]])","v":0}]
[3772,1,908,1,null,"2010-11-04T01:27:01",null,null,5,{"$f":"COUNTIF(top10Usrs[Top 10 Posters],tblPosts[[#This Row],[poster_id]])","v":1}]
[3780,1,917,6713,null,"2010-11-04T15:47:11",null,null,2,{"$f":"COUNTIF(top10Usrs[Top 10 Posters],tblPosts[[#This Row],[poster_id]])","v":0}]
[3795,1,923,1,null,"2010-11-05T08:06:05",null,null,3,{"$f":"COUNTIF(top10Usrs[Top 10 Posters],tblPosts[[#This Row],[poster_id]])","v":1}]
[3802,1,928,24,null,"2010-11-06T02:19:15",null,null,2,{"$f":"COUNTIF(top10Usrs[Top 10 Posters],tblPosts[[#This Row],[poster_id]])","v":1}]
[3805,1,887,6779,null,"2010-11-06T04:51:34",null,null,5,{"$f":"COUNTIF(top10Usrs[Top 10 Posters],tblPosts[[#This Row],[poster_id]])","v":1}]
[3817,1,915,6889,null,"2010-11-07T14:30:11",null,null,4,{"$f":"COUNTIF(top10Usrs[Top 10 Posters],tblPosts[[#This Row],[poster_id]])","v":0}]
[3824,1,931,6891,null,"2010-11-08T12:43:54",null,null,1,{"$f":"COUNTIF(top10Usrs[Top 10 Posters],tblPosts[[#This Row],[poster_id]])","v":0}]
[3836,1,921,6876,null,"2010-11-08T23:53:16",null,null,8,{"$f":"COUNTIF(top10Usrs[Top 10 Posters],tblPosts[[#This Row],[poster_id]])","v":0}]
[3843,1,936,1,null,"2010-11-09T01:52:06",null,null,6,{"$f":"COUNTIF(top10Usrs[Top 10 Posters],tblPosts[[#This Row],[poster_id]])","v":1}]
[3855,1,883,6891,null,"2010-11-09T11:30:35",null,null,17,{"$f":"COUNTIF(top10Usrs[Top 10 Posters],tblPosts[[#This Row],[poster_id]])","v":0}]
[3867,1,934,6458,null,"2010-11-09T22:17:28",null,null,6,{"$f":"COUNTIF(top10Usrs[Top 10 Posters],tblPosts[[#This Row],[poster_id]])","v":0}]
[3871,1,938,6894,null,"2010-11-10T01:07:40",null,null,1,{"$f":"COUNTIF(top10Usrs[Top 10 Posters],tblPosts[[#This Row],[poster_id]])","v":0}]
[3876,1,939,24,null,"2010-11-10T05:56:32",null,null,2,{"$f":"COUNTIF(top10Usrs[Top 10 Posters],tblPosts[[#This Row],[poster_id]])","v":1}]
[3888,1,941,6713,null,"2010-11-10T22:22:07",null,null,2,{"$f":"COUNTIF(top10Usrs[Top 10 Posters],tblPosts[[#This Row],[poster_id]])","v":0}]
[3895,1,945,5114,null,"2010-11-11T01:04:12",null,null,1,{"$f":"COUNTIF(top10Usrs[Top 10 Posters],tblPosts[[#This Row],[poster_id]])","v":0}]
[3907,1,939,24,null,"2010-11-11T05:52:54",null,null,4,{"$f":"COUNTIF(top10Usrs[Top 10 Posters],tblPosts[[#This Row],[poster_id]])","v":1}]
[3914,1,947,6894,null,"2010-11-11T20:34:09",null,null,1,{"$f":"COUNTIF(top10Usrs[Top 10 Posters],tblPosts[[#This Row],[poster_id]])","v":0}]
[3926,1,952,24,null,"2010-11-12T23:31:12",null,null,2,{"$f":"COUNTIF(top10Usrs[Top 10 Posters],tblPosts[[#This Row],[poster_id]])","v":1}]
[3938,1,955,6713,null,"2010-11-13T14:58:34",null,null,3,{"$f":"COUNTIF(top10Usrs[Top 10 Posters],tblPosts[[#This Row],[poster_id]])","v":0}]
[3945,1,939,6821,null,"2010-11-14T08:25:49",null,null,5,{"$f":"COUNTIF(top10Usrs[Top 10 Posters],tblPosts[[#This Row],[poster_id]])","v":1}]
[3948,1,959,6920,null,"2010-11-14T16:19:05",null,null,1,{"$f":"COUNTIF(top10Usrs[Top 10 Posters],tblPosts[[#This Row],[poster_id]])","v":0}]
[3962,1,962,6923,null,"2010-11-15T11:03:23",null,null,1,{"$f":"COUNTIF(top10Usrs[Top 10 Posters],tblPosts[[#This Row],[poster_id]])","v":0}]
[3966,1,963,6924,null,"2010-11-15T17:10:16",null,null,1,{"$f":"COUNTIF(top10Usrs[Top 10 Posters],tblPosts[[#This Row],[poster_id]])","v":0}]
[3978,1,883,6891,null,"2010-11-16T05:52:26",null,null,26,{"$f":"COUNTIF(top10Usrs[Top 10 Posters],tblPosts[[#This Row],[poster_id]])","v":0}]
[3985,1,965,24,null,"2010-11-16T12:23:33",null,null,3,{"$f":"COUNTIF(top10Usrs[Top 10 Posters],tblPosts[[#This Row],[poster_id]])","v":1}]
[3997,1,968,6926,null,"2010-11-16T15:56:07",null,null,1,{"$f":"COUNTIF(top10Usrs[Top 10 Posters],tblPosts[[#This Row],[poster_id]])","v":0}]
[4009,1,973,6925,null,"2010-11-16T21:08:48",null,null,1,{"$f":"COUNTIF(top10Usrs[Top 10 Posters],tblPosts[[#This Row],[poster_id]])","v":1}]
[4016,4,2,6957,null,"2010-11-17T00:12:38",null,null,89,{"$f":"COUNTIF(top10Usrs[Top 10 Posters],tblPosts[[#This Row],[poster_id]])","v":0}]
[4019,1,973,24,null,"2010-11-17T02:58:32",null,null,5,{"$f":"COUNTIF(top10Usrs[Top 10 Posters],tblPosts[[#This Row],[poster_id]])","v":1}]
[4035,1,962,6923,null,"2010-11-17T14:22:45",null,null,3,{"$f":"COUNTIF(top10Usrs[Top 10 Posters],tblPosts[[#This Row],[poster_id]])","v":0}]
[4043,1,931,6995,null,"2010-11-17T16:02:51",null,null,3,{"$f":"COUNTIF(top10Usrs[Top 10 Posters],tblPosts[[#This Row],[poster_id]])","v":0}]
[4049,1,986,7002,null,"2010-11-17T18:45:21",null,null,1,{"$f":"COUNTIF(top10Usrs[Top 10 Posters],tblPosts[[#This Row],[poster_id]])","v":0}]
[4056,1,988,6713,null,"2010-11-17T22:42:39",null,null,2,{"$f":"COUNTIF(top10Usrs[Top 10 Posters],tblPosts[[#This Row],[poster_id]])","v":0}]
[4068,4,2,7006,null,"2010-11-18T03:22:16",null,null,90,{"$f":"COUNTIF(top10Usrs[Top 10 Posters],tblPosts[[#This Row],[poster_id]])","v":0}]
[4080,6,425,6995,null,"2010-11-18T08:34:39",null,null,19,{"$f":"COUNTIF(top10Usrs[Top 10 Posters],tblPosts[[#This Row],[poster_id]])","v":0}]
[4087,1,994,7017,null,"2010-11-18T11:17:11",null,null,1,{"$f":"COUNTIF(top10Usrs[Top 10 Posters],tblPosts[[#This Row],[poster_id]])","v":0}]
[4090,1,993,24,null,"2010-11-18T11:53:50",null,null,6,{"$f":"COUNTIF(top10Usrs[Top 10 Posters],tblPosts[[#This Row],[poster_id]])","v":1}]
[4106,1,973,6925,null,"2010-11-18T21:58:08",null,null,8,{"$f":"COUNTIF(top10Usrs[Top 10 Posters],tblPosts[[#This Row],[poster_id]])","v":1}]
[4109,1,999,24,null,"2010-11-19T00:36:03",null,null,2,{"$f":"COUNTIF(top10Usrs[Top 10 Posters],tblPosts[[#This Row],[poster_id]])","v":1}]
[4121,4,2,7027,null,"2010-11-19T06:05:05",null,null,91,{"$f":"COUNTIF(top10Usrs[Top 10 Posters],tblPosts[[#This Row],[poster_id]])","v":0}]
[4126,4,2,6962,null,"2010-11-19T15:50:35",null,null,92,{"$f":"COUNTIF(top10Usrs[Top 10 Posters],tblPosts[[#This Row],[poster_id]])","v":0}]
[4139,1,1006,6894,null,"2010-11-19T20:47:03",null,null,1,{"$f":"COUNTIF(top10Usrs[Top 10 Posters],tblPosts[[#This Row],[poster_id]])","v":0}]
[4146,4,2,7013,null,"2010-11-20T05:26:06",null,null,93,{"$f":"COUNTIF(top10Usrs[Top 10 Posters],tblPosts[[#This Row],[poster_id]])","v":0}]
[4158,1,1007,6894,null,"2010-11-21T03:39:03",null,null,3,{"$f":"COUNTIF(top10Usrs[Top 10 Posters],tblPosts[[#This Row],[poster_id]])","v":0}]
[4161,1,1009,7046,null,"2010-11-21T05:48:46",null,null,2,{"$f":"COUNTIF(top10Usrs[Top 10 Posters],tblPosts[[#This Row],[poster_id]])","v":0}]
[4177,1,1017,7060,null,"2010-11-22T06:13:18",null,null,1,{"$f":"COUNTIF(top10Usrs[Top 10 Posters],tblPosts[[#This Row],[poster_id]])","v":0}]
[4180,1,1013,6720,null,"2010-11-22T07:40:49",null,null,3,{"$f":"COUNTIF(top10Usrs[Top 10 Posters],tblPosts[[#This Row],[poster_id]])","v":0}]
[4192,1,1016,6942,null,"2010-11-22T14:39:12",null,null,3,{"$f":"COUNTIF(top10Usrs[Top 10 Posters],tblPosts[[#This Row],[poster_id]])","v":0}]
[4199,1,1025,7070,null,"2010-11-22T18:25:35",null,null,1,{"$f":"COUNTIF(top10Usrs[Top 10 Posters],tblPosts[[#This Row],[poster_id]])","v":0}]
[4207,2,546,6925,null,"2010-11-22T23:26:10",null,null,5,{"$f":"COUNTIF(top10Usrs[Top 10 Posters],tblPosts[[#This Row],[poster_id]])","v":1}]
[4217,1,1029,7071,null,"2010-11-23T05:13:45",null,null,1,{"$f":"COUNTIF(top10Usrs[Top 10 Posters],tblPosts[[#This Row],[poster_id]])","v":0}]
[4229,1,1031,24,null,"2010-11-23T10:40:23",null,null,2,{"$f":"COUNTIF(top10Usrs[Top 10 Posters],tblPosts[[#This Row],[poster_id]])","v":1}]
[4232,1,1032,7079,null,"2010-11-23T14:08:39",null,null,1,{"$f":"COUNTIF(top10Usrs[Top 10 Posters],tblPosts[[#This Row],[poster_id]])","v":0}]
[4248,1,1026,1,null,"2010-11-24T01:27:46",null,null,4,{"$f":"COUNTIF(top10Usrs[Top 10 Posters],tblPosts[[#This Row],[poster_id]])","v":1}]
[4251,1,1035,6611,null,"2010-11-24T05:56:43",null,null,2,{"$f":"COUNTIF(top10Usrs[Top 10 Posters],tblPosts[[#This Row],[poster_id]])","v":0}]
[4267,1,1041,6632,null,"2010-11-24T19:12:46",null,null,1,{"$f":"COUNTIF(top10Usrs[Top 10 Posters],tblPosts[[#This Row],[poster_id]])","v":0}]
[4270,1,1038,24,null,"2010-11-25T04:20:07",null,null,4,{"$f":"COUNTIF(top10Usrs[Top 10 Posters],tblPosts[[#This Row],[poster_id]])","v":1}]
[4282,1,1044,7094,null,"2010-11-25T13:11:57",null,null,1,{"$f":"COUNTIF(top10Usrs[Top 10 Posters],tblPosts[[#This Row],[poster_id]])","v":0}]
[4289,1,1045,7095,null,"2010-11-25T23:16:45",null,null,3,{"$f":"COUNTIF(top10Usrs[Top 10 Posters],tblPosts[[#This Row],[poster_id]])","v":0}]
[4298,1,1048,6458,null,"2010-11-26T05:08:13",null,null,2,{"$f":"COUNTIF(top10Usrs[Top 10 Posters],tblPosts[[#This Row],[poster_id]])","v":0}]
[4303,1,1050,7098,null,"2010-11-26T06:50:49",null,null,0,{"$f":"COUNTIF(top10Usrs[Top 10 Posters],tblPosts[[#This Row],[poster_id]])","v":0}]
[4319,1,1052,6458,null,"2010-11-26T11:54:55",null,null,5,{"$f":"COUNTIF(top10Usrs[Top 10 Posters],tblPosts[[#This Row],[poster_id]])","v":0}]
[4322,1,1052,6713,null,"2010-11-26T12:50:32",null,null,7,{"$f":"COUNTIF(top10Usrs[Top 10 Posters],tblPosts[[#This Row],[poster_id]])","v":0}]
[4338,1,1044,7094,null,"2010-11-27T08:29:21",null,null,2,{"$f":"COUNTIF(top10Usrs[Top 10 Posters],tblPosts[[#This Row],[poster_id]])","v":0}]
[4341,1,1057,1,null,"2010-11-28T00:23:24",null,null,2,{"$f":"COUNTIF(top10Usrs[Top 10 Posters],tblPosts[[#This Row],[poster_id]])","v":1}]
[4353,1,1040,6458,null,"2010-11-28T22:52:41",null,null,9,{"$f":"COUNTIF(top10Usrs[Top 10 Posters],tblPosts[[#This Row],[poster_id]])","v":0}]
[4360,1,1057,24,null,"2010-11-29T05:36:57",null,null,6,{"$f":"COUNTIF(top10Usrs[Top 10 Posters],tblPosts[[#This Row],[poster_id]])","v":1}]
[4372,1,1063,7117,null,"2010-11-29T22:26:56",null,null,1,{"$f":"COUNTIF(top10Usrs[Top 10 Posters],tblPosts[[#This Row],[poster_id]])","v":0}]
[4379,1,1064,3008,null,"2010-11-30T05:47:11",null,null,3,{"$f":"COUNTIF(top10Usrs[Top 10 Posters],tblPosts[[#This Row],[poster_id]])","v":0}]
[4390,1,883,6891,null,"2010-11-30T07:30:29",null,null,39,{"$f":"COUNTIF(top10Usrs[Top 10 Posters],tblPosts[[#This Row],[poster_id]])","v":0}]
[4393,1,1005,6713,null,"2010-11-30T09:16:05",null,null,7,{"$f":"COUNTIF(top10Usrs[Top 10 Posters],tblPosts[[#This Row],[poster_id]])","v":0}]
[4409,1,1066,7120,null,"2010-11-30T13:42:24",null,null,7,{"$f":"COUNTIF(top10Usrs[Top 10 Posters],tblPosts[[#This Row],[poster_id]])","v":0}]
[4412,1,1066,24,null,"2010-11-30T14:02:38",null,null,10,{"$f":"COUNTIF(top10Usrs[Top 10 Posters],tblPosts[[#This Row],[poster_id]])","v":1}]
[4424,1,1005,7020,null,"2010-11-30T20:09:32",null,null,10,{"$f":"COUNTIF(top10Usrs[Top 10 Posters],tblPosts[[#This Row],[poster_id]])","v":0}]
[4431,1,1069,7120,null,"2010-12-01T06:01:34",null,null,3,{"$f":"COUNTIF(top10Usrs[Top 10 Posters],tblPosts[[#This Row],[poster_id]])","v":0}]
[4443,1,1072,6634,null,"2010-12-01T17:05:34",null,null,3,{"$f":"COUNTIF(top10Usrs[Top 10 Posters],tblPosts[[#This Row],[poster_id]])","v":0}]
[4450,1,1070,6458,null,"2010-12-01T21:56:05",null,null,6,{"$f":"COUNTIF(top10Usrs[Top 10 Posters],tblPosts[[#This Row],[poster_id]])","v":0}]
[4462,1,1078,6918,null,"2010-12-02T18:41:52",null,null,1,{"$f":"COUNTIF(top10Usrs[Top 10 Posters],tblPosts[[#This Row],[poster_id]])","v":0}]
[4470,1,1080,6954,null,"2010-12-03T04:13:53",null,null,1,{"$f":"COUNTIF(top10Usrs[Top 10 Posters],tblPosts[[#This Row],[poster_id]])","v":0}]
[4480,1,1030,6713,null,"2010-12-03T18:43:14",null,null,4,{"$f":"COUNTIF(top10Usrs[Top 10 Posters],tblPosts[[#This Row],[poster_id]])","v":0}]
[4483,1,1084,7146,null,"2010-12-04T12:30:26",null,null,3,{"$f":"COUNTIF(top10Usrs[Top 10 Posters],tblPosts[[#This Row],[poster_id]])","v":0}]
[4495,1,1084,7146,null,"2010-12-05T04:47:22",null,null,11,{"$f":"COUNTIF(top10Usrs[Top 10 Posters],tblPosts[[#This Row],[poster_id]])","v":0}]
[4502,1,1084,7146,null,"2010-12-05T11:39:07",null,null,14,{"$f":"COUNTIF(top10Usrs[Top 10 Posters],tblPosts[[#This Row],[poster_id]])","v":0}]
[4514,1,1084,7146,null,"2010-12-06T04:47:38",null,null,16,{"$f":"COUNTIF(top10Usrs[Top 10 Posters],tblPosts[[#This Row],[poster_id]])","v":0}]
[4521,1,1092,3008,null,"2010-12-06T11:25:23",null,null,1,{"$f":"COUNTIF(top10Usrs[Top 10 Posters],tblPosts[[#This Row],[poster_id]])","v":0}]
[4533,1,1093,6713,null,"2010-12-06T21:34:23",null,null,2,{"$f":"COUNTIF(top10Usrs[Top 10 Posters],tblPosts[[#This Row],[poster_id]])","v":0}]
[4536,1,1089,6779,null,"2010-12-06T23:43:22",null,null,3,{"$f":"COUNTIF(top10Usrs[Top 10 Posters],tblPosts[[#This Row],[poster_id]])","v":1}]
[4552,4,2,7121,null,"2010-12-07T08:16:39",null,null,97,{"$f":"COUNTIF(top10Usrs[Top 10 Posters],tblPosts[[#This Row],[poster_id]])","v":0}]
[4553,1,1097,7121,null,"2010-12-07T08:22:05",null,null,1,{"$f":"COUNTIF(top10Usrs[Top 10 Posters],tblPosts[[#This Row],[poster_id]])","v":0}]
[4561,1,1092,3008,null,"2010-12-07T11:47:08",null,null,4,{"$f":"COUNTIF(top10Usrs[Top 10 Posters],tblPosts[[#This Row],[poster_id]])","v":0}]
[4573,1,1100,6071,null,"2010-12-07T18:56:36",null,null,3,{"$f":"COUNTIF(top10Usrs[Top 10 Posters],tblPosts[[#This Row],[poster_id]])","v":0}]
[4585,1,1080,6954,null,"2010-12-07T23:02:29",null,null,9,{"$f":"COUNTIF(top10Usrs[Top 10 Posters],tblPosts[[#This Row],[poster_id]])","v":0}]
[4592,1,1090,7153,null,"2010-12-08T01:33:15",null,null,7,{"$f":"COUNTIF(top10Usrs[Top 10 Posters],tblPosts[[#This Row],[poster_id]])","v":0}]
[4604,1,1106,6632,null,"2010-12-08T15:25:26",null,null,1,{"$f":"COUNTIF(top10Usrs[Top 10 Posters],tblPosts[[#This Row],[poster_id]])","v":0}]
[4607,1,1107,7101,null,"2010-12-08T15:41:29",null,null,1,{"$f":"COUNTIF(top10Usrs[Top 10 Posters],tblPosts[[#This Row],[poster_id]])","v":0}]
[4623,1,1089,6998,null,"2010-12-09T19:04:43",null,null,6,{"$f":"COUNTIF(top10Usrs[Top 10 Posters],tblPosts[[#This Row],[poster_id]])","v":1}]
[4626,1,1110,6713,null,"2010-12-09T22:04:51",null,null,2,{"$f":"COUNTIF(top10Usrs[Top 10 Posters],tblPosts[[#This Row],[poster_id]])","v":0}]
[4634,1,1112,1728,null,"2010-12-10T05:46:07",null,null,1,{"$f":"COUNTIF(top10Usrs[Top 10 Posters],tblPosts[[#This Row],[poster_id]])","v":0}]
[4644,1,1114,7178,null,"2010-12-10T15:11:21",null,null,1,{"$f":"COUNTIF(top10Usrs[Top 10 Posters],tblPosts[[#This Row],[poster_id]])","v":0}]
[4656,1,1116,5408,null,"2010-12-11T16:05:20",null,null,2,{"$f":"COUNTIF(top10Usrs[Top 10 Posters],tblPosts[[#This Row],[poster_id]])","v":1}]
[4663,1,1117,1,null,"2010-12-12T00:50:57",null,null,3,{"$f":"COUNTIF(top10Usrs[Top 10 Posters],tblPosts[[#This Row],[poster_id]])","v":1}]
[4675,1,1121,24,null,"2010-12-12T23:42:19",null,null,3,{"$f":"COUNTIF(top10Usrs[Top 10 Posters],tblPosts[[#This Row],[poster_id]])","v":1}]
[4678,1,1105,6458,null,"2010-12-13T00:42:51",null,null,3,{"$f":"COUNTIF(top10Usrs[Top 10 Posters],tblPosts[[#This Row],[poster_id]])","v":0}]
[4694,1,1128,7195,null,"2010-12-13T14:34:39",null,null,1,{"$f":"COUNTIF(top10Usrs[Top 10 Posters],tblPosts[[#This Row],[poster_id]])","v":0}]
[4697,1,1129,6458,null,"2010-12-13T23:41:42",null,null,2,{"$f":"COUNTIF(top10Usrs[Top 10 Posters],tblPosts[[#This Row],[poster_id]])","v":0}]
[4704,1,1131,6611,null,"2010-12-14T06:59:49",null,null,2,{"$f":"COUNTIF(top10Usrs[Top 10 Posters],tblPosts[[#This Row],[poster_id]])","v":0}]
[4716,1,1130,6779,null,"2010-12-14T18:04:35",null,null,4,{"$f":"COUNTIF(top10Usrs[Top 10 Posters],tblPosts[[#This Row],[poster_id]])","v":1}]
[4725,1,1136,6713,null,"2010-12-15T11:18:08",null,null,2,{"$f":"COUNTIF(top10Usrs[Top 10 Posters],tblPosts[[#This Row],[poster_id]])","v":0}]
[4734,1,1138,7196,null,"2010-12-15T18:13:56",null,null,1,{"$f":"COUNTIF(top10Usrs[Top 10 Posters],tblPosts[[#This Row],[poster_id]])","v":0}]
[4746,1,1136,6713,null,"2010-12-16T09:26:56",null,null,6,{"$f":"COUNTIF(top10Usrs[Top 10 Posters],tblPosts[[#This Row],[poster_id]])","v":0}]
[4753,1,1143,6998,null,"2010-12-16T16:56:02",null,null,2,{"$f":"COUNTIF(top10Usrs[Top 10 Posters],tblPosts[[#This Row],[poster_id]])","v":1}]
[4765,1,1147,6458,null,"2010-12-17T06:07:48",null,null,2,{"$f":"COUNTIF(top10Usrs[Top 10 Posters],tblPosts[[#This Row],[poster_id]])","v":0}]
[4768,1,1145,24,null,"2010-12-17T06:31:37",null,null,5,{"$f":"COUNTIF(top10Usrs[Top 10 Posters],tblPosts[[#This Row],[poster_id]])","v":1}]
[4775,1,1144,7213,null,"2010-12-17T16:05:32",null,null,3,{"$f":"COUNTIF(top10Usrs[Top 10 Posters],tblPosts[[#This Row],[poster_id]])","v":0}]
[4787,1,778,7218,null,"2010-12-18T15:14:53",null,null,3,{"$f":"COUNTIF(top10Usrs[Top 10 Posters],tblPosts[[#This Row],[poster_id]])","v":0}]
[4799,1,1156,7222,null,"2010-12-20T04:01:24",null,null,1,{"$f":"COUNTIF(top10Usrs[Top 10 Posters],tblPosts[[#This Row],[poster_id]])","v":0}]
[4806,1,1156,6998,null,"2010-12-20T13:50:22",null,null,5,{"$f":"COUNTIF(top10Usrs[Top 10 Posters],tblPosts[[#This Row],[poster_id]])","v":1}]
[4817,1,1158,6779,null,"2010-12-20T21:10:59",null,null,3,{"$f":"COUNTIF(top10Usrs[Top 10 Posters],tblPosts[[#This Row],[poster_id]])","v":1}]
[4824,1,1158,6458,null,"2010-12-20T22:50:02",null,null,6,{"$f":"COUNTIF(top10Usrs[Top 10 Posters],tblPosts[[#This Row],[poster_id]])","v":0}]
[4836,1,1164,1886,null,"2010-12-21T10:50:26",null,null,1,{"$f":"COUNTIF(top10Usrs[Top 10 Posters],tblPosts[[#This Row],[poster_id]])","v":0}]
[4839,1,1157,24,null,"2010-12-21T11:46:36",null,null,6,{"$f":"COUNTIF(top10Usrs[Top 10 Posters],tblPosts[[#This Row],[poster_id]])","v":1}]
[4846,1,1158,6998,null,"2010-12-21T13:30:43",null,null,10,{"$f":"COUNTIF(top10Usrs[Top 10 Posters],tblPosts[[#This Row],[poster_id]])","v":1}]
[4858,1,1157,1,null,"2010-12-22T02:23:50",null,null,7,{"$f":"COUNTIF(top10Usrs[Top 10 Posters],tblPosts[[#This Row],[poster_id]])","v":1}]
[4870,3,1168,7228,null,"2010-12-22T13:57:17",null,null,1,{"$f":"COUNTIF(top10Usrs[Top 10 Posters],tblPosts[[#This Row],[poster_id]])","v":0}]
[4877,1,1171,6998,null,"2010-12-22T21:28:14",null,null,2,{"$f":"COUNTIF(top10Usrs[Top 10 Posters],tblPosts[[#This Row],[poster_id]])","v":1}]
[4889,1,1156,7222,null,"2010-12-23T06:43:53",null,null,9,{"$f":"COUNTIF(top10Usrs[Top 10 Posters],tblPosts[[#This Row],[poster_id]])","v":0}]
[4897,1,1177,7168,null,"2010-12-23T08:48:58",null,null,1,{"$f":"COUNTIF(top10Usrs[Top 10 Posters],tblPosts[[#This Row],[poster_id]])","v":0}]
[4907,1,1172,6713,null,"2010-12-23T12:18:37",null,null,12,{"$f":"COUNTIF(top10Usrs[Top 10 Posters],tblPosts[[#This Row],[poster_id]])","v":0}]
[4910,1,1172,6458,null,"2010-12-23T12:42:56",null,null,14,{"$f":"COUNTIF(top10Usrs[Top 10 Posters],tblPosts[[#This Row],[poster_id]])","v":0}]
[4917,1,1165,7235,null,"2010-12-23T19:27:08",null,null,7,{"$f":"COUNTIF(top10Usrs[Top 10 Posters],tblPosts[[#This Row],[poster_id]])","v":0}]
[4929,1,1172,7231,null,"2010-12-24T03:53:12",null,null,18,{"$f":"COUNTIF(top10Usrs[Top 10 Posters],tblPosts[[#This Row],[poster_id]])","v":0}]
[4936,1,1179,6851,null,"2010-12-24T15:37:42",null,null,3,{"$f":"COUNTIF(top10Usrs[Top 10 Posters],tblPosts[[#This Row],[poster_id]])","v":0}]
[4948,1,1180,24,null,"2010-12-25T13:54:32",null,null,7,{"$f":"COUNTIF(top10Usrs[Top 10 Posters],tblPosts[[#This Row],[poster_id]])","v":1}]
[4960,1,1187,24,null,"2010-12-26T11:50:12",null,null,4,{"$f":"COUNTIF(top10Usrs[Top 10 Posters],tblPosts[[#This Row],[poster_id]])","v":1}]
[4967,1,1185,7239,null,"2010-12-27T01:23:18",null,null,6,{"$f":"COUNTIF(top10Usrs[Top 10 Posters],tblPosts[[#This Row],[poster_id]])","v":0}]
[4978,1,1189,24,null,"2010-12-27T14:44:54",null,null,4,{"$f":"COUNTIF(top10Usrs[Top 10 Posters],tblPosts[[#This Row],[poster_id]])","v":1}]
[4981,1,1192,7118,null,"2010-12-28T00:57:36",null,null,1,{"$f":"COUNTIF(top10Usrs[Top 10 Posters],tblPosts[[#This Row],[poster_id]])","v":0}]
[4988,1,1185,24,null,"2010-12-28T15:09:40",null,null,9,{"$f":"COUNTIF(top10Usrs[Top 10 Posters],tblPosts[[#This Row],[poster_id]])","v":1}]
[5000,1,1193,6720,null,"2010-12-29T02:45:03",null,null,7,{"$f":"COUNTIF(top10Usrs[Top 10 Posters],tblPosts[[#This Row],[poster_id]])","v":0}]
[5007,1,1198,24,null,"2010-12-29T09:54:11",null,null,2,{"$f":"COUNTIF(top10Usrs[Top 10 Posters],tblPosts[[#This Row],[poster_id]])","v":1}]
[5019,1,1197,6713,null,"2010-12-30T10:43:19",null,null,6,{"$f":"COUNTIF(top10Usrs[Top 10 Posters],tblPosts[[#This Row],[poster_id]])","v":0}]
[5031,1,1204,6821,null,"2010-12-30T17:44:47",null,null,6,{"$f":"COUNTIF(top10Usrs[Top 10 Posters],tblPosts[[#This Row],[poster_id]])","v":1}]
[5038,4,1205,6713,null,"2010-12-30T19:50:53",null,null,3,{"$f":"COUNTIF(top10Usrs[Top 10 Posters],tblPosts[[#This Row],[poster_id]])","v":0}]
[5050,1,1210,5408,null,"2010-12-31T03:41:22",null,null,3,{"$f":"COUNTIF(top10Usrs[Top 10 Posters],tblPosts[[#This Row],[poster_id]])","v":1}]
[5057,4,1205,1,null,"2010-12-31T08:51:48",null,null,8,{"$f":"COUNTIF(top10Usrs[Top 10 Posters],tblPosts[[#This Row],[poster_id]])","v":1}]
[5061,1,1204,6821,null,"2010-12-31T14:09:12",null,null,8,{"$f":"COUNTIF(top10Usrs[Top 10 Posters],tblPosts[[#This Row],[poster_id]])","v":1}]
[5071,1,1213,24,null,"2011-01-01T00:50:53",null,null,2,{"$f":"COUNTIF(top10Usrs[Top 10 Posters],tblPosts[[#This Row],[poster_id]])","v":1}]
[5078,1,1214,6821,null,"2011-01-01T08:44:53",null,null,3,{"$f":"COUNTIF(top10Usrs[Top 10 Posters],tblPosts[[#This Row],[poster_id]])","v":1}]
[5090,1,1216,6821,null,"2011-01-03T08:13:03",null,null,2,{"$f":"COUNTIF(top10Usrs[Top 10 Posters],tblPosts[[#This Row],[poster_id]])","v":1}]
[5102,1,1175,7146,null,"2011-01-04T04:26:21",null,null,4,{"$f":"COUNTIF(top10Usrs[Top 10 Posters],tblPosts[[#This Row],[poster_id]])","v":0}]
[5109,1,1225,6866,null,"2011-01-04T14:02:13",null,null,1,{"$f":"COUNTIF(top10Usrs[Top 10 Posters],tblPosts[[#This Row],[poster_id]])","v":0}]
[5121,1,1220,7274,null,"2011-01-04T15:40:50",null,null,3,{"$f":"COUNTIF(top10Usrs[Top 10 Posters],tblPosts[[#This Row],[poster_id]])","v":0}]
[5128,1,1230,6821,null,"2011-01-04T19:58:47",null,null,0,{"$f":"COUNTIF(top10Usrs[Top 10 Posters],tblPosts[[#This Row],[poster_id]])","v":1}]
[5131,1,1221,6998,null,"2011-01-04T20:23:14",null,null,4,{"$f":"COUNTIF(top10Usrs[Top 10 Posters],tblPosts[[#This Row],[poster_id]])","v":1}]
[5143,1,1228,6779,null,"2011-01-05T06:21:58",null,null,3,{"$f":"COUNTIF(top10Usrs[Top 10 Posters],tblPosts[[#This Row],[poster_id]])","v":1}]
[5152,1,1234,7224,null,"2011-01-05T11:48:58",null,null,1,{"$f":"COUNTIF(top10Usrs[Top 10 Posters],tblPosts[[#This Row],[poster_id]])","v":0}]
[5161,1,1209,7262,null,"2011-01-05T19:02:15",null,null,9,{"$f":"COUNTIF(top10Usrs[Top 10 Posters],tblPosts[[#This Row],[poster_id]])","v":0}]
[5173,1,1175,24,null,"2011-01-06T07:23:57",null,null,12,{"$f":"COUNTIF(top10Usrs[Top 10 Posters],tblPosts[[#This Row],[poster_id]])","v":1}]
[5180,1,1240,7293,null,"2011-01-06T18:42:04",null,null,1,{"$f":"COUNTIF(top10Usrs[Top 10 Posters],tblPosts[[#This Row],[poster_id]])","v":0}]
[5192,1,1243,24,null,"2011-01-07T03:52:37",null,null,4,{"$f":"COUNTIF(top10Usrs[Top 10 Posters],tblPosts[[#This Row],[poster_id]])","v":1}]
[5199,1,1237,7269,null,"2011-01-07T06:26:37",null,null,7,{"$f":"COUNTIF(top10Usrs[Top 10 Posters],tblPosts[[#This Row],[poster_id]])","v":0}]
[5202,1,1244,7291,null,"2011-01-07T07:35:34",null,null,3,{"$f":"COUNTIF(top10Usrs[Top 10 Posters],tblPosts[[#This Row],[poster_id]])","v":0}]
[5214,1,1247,6821,null,"2011-01-07T22:07:31",null,null,1,{"$f":"COUNTIF(top10Usrs[Top 10 Posters],tblPosts[[#This Row],[poster_id]])","v":1}]
[5221,1,1248,24,null,"2011-01-08T11:39:36",null,null,2,{"$f":"COUNTIF(top10Usrs[Top 10 Posters],tblPosts[[#This Row],[poster_id]])","v":1}]
[5233,1,1253,7307,null,"2011-01-08T18:21:59",null,null,1,{"$f":"COUNTIF(top10Usrs[Top 10 Posters],tblPosts[[#This Row],[poster_id]])","v":0}]
[5239,1,1254,24,null,"2011-01-09T01:01:32",null,null,2,{"$f":"COUNTIF(top10Usrs[Top 10 Posters],tblPosts[[#This Row],[poster_id]])","v":1}]
[5251,1,1250,7306,null,"2011-01-09T16:10:30",null,null,3,{"$f":"COUNTIF(top10Usrs[Top 10 Posters],tblPosts[[#This Row],[poster_id]])","v":0}]
[5263,1,1258,7310,null,"2011-01-10T04:21:48",null,null,1,{"$f":"COUNTIF(top10Usrs[Top 10 Posters],tblPosts[[#This Row],[poster_id]])","v":0}]
[5270,1,1260,7269,null,"2011-01-10T07:07:25",null,null,1,{"$f":"COUNTIF(top10Usrs[Top 10 Posters],tblPosts[[#This Row],[poster_id]])","v":0}]
[5273,1,1259,5408,null,"2011-01-10T07:41:30",null,null,2,{"$f":"COUNTIF(top10Usrs[Top 10 Posters],tblPosts[[#This Row],[poster_id]])","v":1}]
[5285,1,1259,5408,null,"2011-01-10T15:35:51",null,null,3,{"$f":"COUNTIF(top10Usrs[Top 10 Posters],tblPosts[[#This Row],[poster_id]])","v":1}]
[5291,1,1221,6998,null,"2011-01-10T18:12:19",null,null,10,{"$f":"COUNTIF(top10Usrs[Top 10 Posters],tblPosts[[#This Row],[poster_id]])","v":1}]
[5303,1,1261,24,null,"2011-01-11T05:10:12",null,null,7,{"$f":"COUNTIF(top10Usrs[Top 10 Posters],tblPosts[[#This Row],[poster_id]])","v":1}]
[5310,1,1267,1886,null,"2011-01-11T08:01:11",null,null,2,{"$f":"COUNTIF(top10Usrs[Top 10 Posters],tblPosts[[#This Row],[poster_id]])","v":0}]
[5324,1,1270,7247,null,"2011-01-11T14:57:38",null,null,1,{"$f":"COUNTIF(top10Usrs[Top 10 Posters],tblPosts[[#This Row],[poster_id]])","v":0}]
[5334,1,1259,5408,null,"2011-01-12T05:11:51",null,null,6,{"$f":"COUNTIF(top10Usrs[Top 10 Posters],tblPosts[[#This Row],[poster_id]])","v":1}]
[5341,1,1261,7269,null,"2011-01-12T13:37:15",null,null,14,{"$f":"COUNTIF(top10Usrs[Top 10 Posters],tblPosts[[#This Row],[poster_id]])","v":0}]
[5344,1,1272,24,null,"2011-01-12T13:50:28",null,null,4,{"$f":"COUNTIF(top10Usrs[Top 10 Posters],tblPosts[[#This Row],[poster_id]])","v":1}]
[5360,1,1277,7320,null,"2011-01-13T00:47:15",null,null,3,{"$f":"COUNTIF(top10Usrs[Top 10 Posters],tblPosts[[#This Row],[poster_id]])","v":0}]
[5363,1,1235,6821,null,"2011-01-13T03:08:37",null,null,5,{"$f":"COUNTIF(top10Usrs[Top 10 Posters],tblPosts[[#This Row],[poster_id]])","v":1}]
[5375,1,1273,24,null,"2011-01-13T09:36:24",null,null,9,{"$f":"COUNTIF(top10Usrs[Top 10 Posters],tblPosts[[#This Row],[poster_id]])","v":1}]
[5382,1,1273,7323,null,"2011-01-13T10:41:02",null,null,14,{"$f":"COUNTIF(top10Usrs[Top 10 Posters],tblPosts[[#This Row],[poster_id]])","v":0}]
[5394,1,1283,7326,null,"2011-01-13T16:30:33",null,null,2,{"$f":"COUNTIF(top10Usrs[Top 10 Posters],tblPosts[[#This Row],[poster_id]])","v":0}]
[5405,1,1265,7309,null,"2011-01-14T02:32:28",null,null,5,{"$f":"COUNTIF(top10Usrs[Top 10 Posters],tblPosts[[#This Row],[poster_id]])","v":0}]
[5412,1,1286,7231,null,"2011-01-14T09:34:05",null,null,1,{"$f":"COUNTIF(top10Usrs[Top 10 Posters],tblPosts[[#This Row],[poster_id]])","v":0}]
[5415,1,1282,7335,null,"2011-01-14T09:42:54",null,null,7,{"$f":"COUNTIF(top10Usrs[Top 10 Posters],tblPosts[[#This Row],[poster_id]])","v":0}]
[5431,1,279,7345,null,"2011-01-16T02:40:06",null,null,2,{"$f":"COUNTIF(top10Usrs[Top 10 Posters],tblPosts[[#This Row],[poster_id]])","v":0}]
[5434,1,1288,1,null,"2011-01-16T11:25:38",null,null,2,{"$f":"COUNTIF(top10Usrs[Top 10 Posters],tblPosts[[#This Row],[poster_id]])","v":1}]
[5446,1,1293,24,null,"2011-01-17T05:07:50",null,null,5,{"$f":"COUNTIF(top10Usrs[Top 10 Posters],tblPosts[[#This Row],[poster_id]])","v":1}]
[5453,1,1272,7321,null,"2011-01-17T09:16:28",null,null,5,{"$f":"COUNTIF(top10Usrs[Top 10 Posters],tblPosts[[#This Row],[poster_id]])","v":0}]
[5465,1,1298,7331,null,"2011-01-17T12:36:39",null,null,5,{"$f":"COUNTIF(top10Usrs[Top 10 Posters],tblPosts[[#This Row],[poster_id]])","v":0}]
[5477,1,1259,7262,null,"2011-01-17T16:30:16",null,null,8,{"$f":"COUNTIF(top10Usrs[Top 10 Posters],tblPosts[[#This Row],[poster_id]])","v":0}]
[5484,1,1300,24,null,"2011-01-18T00:27:34",null,null,2,{"$f":"COUNTIF(top10Usrs[Top 10 Posters],tblPosts[[#This Row],[poster_id]])","v":1}]
[5488,3,1304,7348,null,"2011-01-18T03:27:36",null,null,1,{"$f":"COUNTIF(top10Usrs[Top 10 Posters],tblPosts[[#This Row],[poster_id]])","v":0}]
[5502,1,1291,6071,null,"2011-01-18T12:37:31",null,null,6,{"$f":"COUNTIF(top10Usrs[Top 10 Posters],tblPosts[[#This Row],[poster_id]])","v":0}]
[5505,1,1306,5408,null,"2011-01-18T14:05:14",null,null,1,{"$f":"COUNTIF(top10Usrs[Top 10 Posters],tblPosts[[#This Row],[poster_id]])","v":1}]
[5517,1,1303,6998,null,"2011-01-18T20:55:29",null,null,2,{"$f":"COUNTIF(top10Usrs[Top 10 Posters],tblPosts[[#This Row],[poster_id]])","v":1}]
[5524,1,1284,7339,null,"2011-01-19T08:36:58",null,null,4,{"$f":"COUNTIF(top10Usrs[Top 10 Posters],tblPosts[[#This Row],[poster_id]])","v":0}]
[5536,1,1284,6998,null,"2011-01-19T15:32:49",null,null,5,{"$f":"COUNTIF(top10Usrs[Top 10 Posters],tblPosts[[#This Row],[poster_id]])","v":1}]
[5543,1,1309,4753,null,"2011-01-19T20:30:27",null,null,10,{"$f":"COUNTIF(top10Usrs[Top 10 Posters],tblPosts[[#This Row],[poster_id]])","v":0}]
[5555,1,1313,24,null,"2011-01-20T08:36:41",null,null,4,{"$f":"COUNTIF(top10Usrs[Top 10 Posters],tblPosts[[#This Row],[poster_id]])","v":1}]
[5558,1,1315,7351,null,"2011-01-20T12:46:47",null,null,2,{"$f":"COUNTIF(top10Usrs[Top 10 Posters],tblPosts[[#This Row],[poster_id]])","v":1}]
[5569,1,1316,6998,null,"2011-01-20T16:42:14",null,null,3,{"$f":"COUNTIF(top10Usrs[Top 10 Posters],tblPosts[[#This Row],[poster_id]])","v":1}]
[5576,1,1317,7326,null,"2011-01-20T21:30:26",null,null,2,{"$f":"COUNTIF(top10Usrs[Top 10 Posters],tblPosts[[#This Row],[poster_id]])","v":0}]
[5588,1,1303,7351,null,"2011-01-21T06:50:50",null,null,16,{"$f":"COUNTIF(top10Usrs[Top 10 Posters],tblPosts[[#This Row],[poster_id]])","v":1}]
[5595,1,1315,6389,null,"2011-01-21T10:27:03",null,null,4,{"$f":"COUNTIF(top10Usrs[Top 10 Posters],tblPosts[[#This Row],[poster_id]])","v":0}]
[5607,1,1325,7326,null,"2011-01-21T16:05:34",null,null,1,{"$f":"COUNTIF(top10Usrs[Top 10 Posters],tblPosts[[#This Row],[poster_id]])","v":0}]
[5614,1,1327,6998,null,"2011-01-21T18:59:51",null,null,2,{"$f":"COUNTIF(top10Usrs[Top 10 Posters],tblPosts[[#This Row],[poster_id]])","v":1}]
[5626,1,1330,6909,null,"2011-01-23T04:53:05",null,null,1,{"$f":"COUNTIF(top10Usrs[Top 10 Posters],tblPosts[[#This Row],[poster_id]])","v":0}]
[5629,1,1328,1,null,"2011-01-23T08:51:49",null,null,2,{"$f":"COUNTIF(top10Usrs[Top 10 Posters],tblPosts[[#This Row],[poster_id]])","v":1}]
[5645,1,1331,6998,null,"2011-01-24T13:38:06",null,null,2,{"$f":"COUNTIF(top10Usrs[Top 10 Posters],tblPosts[[#This Row],[poster_id]])","v":1}]
[5648,1,1326,6998,null,"2011-01-24T13:50:12",null,null,5,{"$f":"COUNTIF(top10Usrs[Top 10 Posters],tblPosts[[#This Row],[poster_id]])","v":1}]
[5660,1,1335,6071,null,"2011-01-24T18:56:58",null,null,4,{"$f":"COUNTIF(top10Usrs[Top 10 Posters],tblPosts[[#This Row],[poster_id]])","v":0}]
[5666,1,1335,24,null,"2011-01-25T04:08:46",null,null,8,{"$f":"COUNTIF(top10Usrs[Top 10 Posters],tblPosts[[#This Row],[poster_id]])","v":1}]
[5678,1,1335,6071,null,"2011-01-25T07:20:06",null,null,17,{"$f":"COUNTIF(top10Usrs[Top 10 Posters],tblPosts[[#This Row],[poster_id]])","v":0}]
[5685,1,1331,6998,null,"2011-01-25T14:22:25",null,null,4,{"$f":"COUNTIF(top10Usrs[Top 10 Posters],tblPosts[[#This Row],[poster_id]])","v":1}]
[5697,5,1343,7385,null,"2011-01-26T05:49:16",null,null,0,{"$f":"COUNTIF(top10Usrs[Top 10 Posters],tblPosts[[#This Row],[poster_id]])","v":0}]
[5700,1,1337,7351,null,"2011-01-26T06:40:34",null,null,3,{"$f":"COUNTIF(top10Usrs[Top 10 Posters],tblPosts[[#This Row],[poster_id]])","v":1}]
[5716,1,1345,7351,null,"2011-01-26T12:34:21",null,null,9,{"$f":"COUNTIF(top10Usrs[Top 10 Posters],tblPosts[[#This Row],[poster_id]])","v":1}]
[5719,1,1339,6998,null,"2011-01-26T13:53:29",null,null,3,{"$f":"COUNTIF(top10Usrs[Top 10 Posters],tblPosts[[#This Row],[poster_id]])","v":1}]
[5735,1,1351,6998,null,"2011-01-26T21:45:39",null,null,4,{"$f":"COUNTIF(top10Usrs[Top 10 Posters],tblPosts[[#This Row],[poster_id]])","v":1}]
[5738,1,1345,3008,null,"2011-01-27T05:17:21",null,null,10,{"$f":"COUNTIF(top10Usrs[Top 10 Posters],tblPosts[[#This Row],[poster_id]])","v":0}]
[5751,2,1354,6998,null,"2011-01-27T18:00:56",null,null,2,{"$f":"COUNTIF(top10Usrs[Top 10 Posters],tblPosts[[#This Row],[poster_id]])","v":1}]
[5756,2,1354,7326,null,"2011-01-27T18:49:44",null,null,6,{"$f":"COUNTIF(top10Usrs[Top 10 Posters],tblPosts[[#This Row],[poster_id]])","v":0}]
[5768,1,463,6030,null,"2011-01-28T11:51:30",null,null,3,{"$f":"COUNTIF(top10Usrs[Top 10 Posters],tblPosts[[#This Row],[poster_id]])","v":0}]
[5771,1,463,6998,null,"2011-01-28T13:29:08",null,null,4,{"$f":"COUNTIF(top10Usrs[Top 10 Posters],tblPosts[[#This Row],[poster_id]])","v":1}]
[5787,1,1359,6998,null,"2011-01-28T20:55:02",null,null,6,{"$f":"COUNTIF(top10Usrs[Top 10 Posters],tblPosts[[#This Row],[poster_id]])","v":1}]
[5790,1,1361,6867,null,"2011-01-29T06:48:12",null,null,1,{"$f":"COUNTIF(top10Usrs[Top 10 Posters],tblPosts[[#This Row],[poster_id]])","v":0}]
[5806,1,1358,7394,null,"2011-01-31T10:19:19",null,null,8,{"$f":"COUNTIF(top10Usrs[Top 10 Posters],tblPosts[[#This Row],[poster_id]])","v":0}]
[5809,1,1358,7351,null,"2011-01-31T12:24:05",null,null,10,{"$f":"COUNTIF(top10Usrs[Top 10 Posters],tblPosts[[#This Row],[poster_id]])","v":1}]
[5821,1,1363,7403,null,"2011-02-01T00:53:35",null,null,3,{"$f":"COUNTIF(top10Usrs[Top 10 Posters],tblPosts[[#This Row],[poster_id]])","v":0}]
[5832,1,1370,7351,null,"2011-02-01T07:01:29",null,null,4,{"$f":"COUNTIF(top10Usrs[Top 10 Posters],tblPosts[[#This Row],[poster_id]])","v":1}]
[5839,1,1369,7410,null,"2011-02-01T12:26:54",null,null,8,{"$f":"COUNTIF(top10Usrs[Top 10 Posters],tblPosts[[#This Row],[poster_id]])","v":0}]
[5846,1,1375,6821,null,"2011-02-01T18:34:03",null,null,1,{"$f":"COUNTIF(top10Usrs[Top 10 Posters],tblPosts[[#This Row],[poster_id]])","v":1}]
[5858,1,1370,7351,null,"2011-02-02T07:03:20",null,null,6,{"$f":"COUNTIF(top10Usrs[Top 10 Posters],tblPosts[[#This Row],[poster_id]])","v":1}]
[5861,1,1369,7410,null,"2011-02-02T08:43:45",null,null,11,{"$f":"COUNTIF(top10Usrs[Top 10 Posters],tblPosts[[#This Row],[poster_id]])","v":0}]
[5877,1,1369,24,null,"2011-02-02T13:35:35",null,null,21,{"$f":"COUNTIF(top10Usrs[Top 10 Posters],tblPosts[[#This Row],[poster_id]])","v":1}]
[5880,1,1369,7410,null,"2011-02-02T17:17:53",null,null,23,{"$f":"COUNTIF(top10Usrs[Top 10 Posters],tblPosts[[#This Row],[poster_id]])","v":0}]
[5892,1,1370,7351,null,"2011-02-03T07:23:02",null,null,8,{"$f":"COUNTIF(top10Usrs[Top 10 Posters],tblPosts[[#This Row],[poster_id]])","v":1}]
[5899,1,1382,7351,null,"2011-02-03T08:42:38",null,null,2,{"$f":"COUNTIF(top10Usrs[Top 10 Posters],tblPosts[[#This Row],[poster_id]])","v":1}]
[5911,1,1382,7351,null,"2011-02-03T10:56:52",null,null,10,{"$f":"COUNTIF(top10Usrs[Top 10 Posters],tblPosts[[#This Row],[poster_id]])","v":1}]
[5915,1,1381,6030,null,"2011-02-03T13:31:52",null,null,4,{"$f":"COUNTIF(top10Usrs[Top 10 Posters],tblPosts[[#This Row],[poster_id]])","v":0}]
[5929,1,1385,6998,null,"2011-02-03T17:00:47",null,null,4,{"$f":"COUNTIF(top10Usrs[Top 10 Posters],tblPosts[[#This Row],[poster_id]])","v":1}]
[5932,1,1337,6998,null,"2011-02-03T18:17:41",null,null,7,{"$f":"COUNTIF(top10Usrs[Top 10 Posters],tblPosts[[#This Row],[poster_id]])","v":1}]
[5948,1,1390,7351,null,"2011-02-04T06:46:36",null,null,2,{"$f":"COUNTIF(top10Usrs[Top 10 Posters],tblPosts[[#This Row],[poster_id]])","v":1}]
[5951,1,1390,6720,null,"2011-02-04T07:17:54",null,null,4,{"$f":"COUNTIF(top10Usrs[Top 10 Posters],tblPosts[[#This Row],[poster_id]])","v":0}]
[5963,1,1395,7433,null,"2011-02-04T22:24:06",null,null,1,{"$f":"COUNTIF(top10Usrs[Top 10 Posters],tblPosts[[#This Row],[poster_id]])","v":0}]
[5970,1,1383,7422,null,"2011-02-05T02:39:29",null,null,5,{"$f":"COUNTIF(top10Usrs[Top 10 Posters],tblPosts[[#This Row],[poster_id]])","v":0}]
[5982,1,1370,6779,null,"2011-02-05T22:38:21",null,null,11,{"$f":"COUNTIF(top10Usrs[Top 10 Posters],tblPosts[[#This Row],[poster_id]])","v":1}]
[5989,1,1397,24,null,"2011-02-06T02:38:05",null,null,2,{"$f":"COUNTIF(top10Usrs[Top 10 Posters],tblPosts[[#This Row],[poster_id]])","v":1}]
[5996,1,1399,5408,null,"2011-02-06T17:47:38",null,null,1,{"$f":"COUNTIF(top10Usrs[Top 10 Posters],tblPosts[[#This Row],[poster_id]])","v":1}]
[6003,1,1400,24,null,"2011-02-07T07:56:59",null,null,2,{"$f":"COUNTIF(top10Usrs[Top 10 Posters],tblPosts[[#This Row],[poster_id]])","v":1}]
[6019,1,1402,5408,null,"2011-02-08T05:36:39",null,null,3,{"$f":"COUNTIF(top10Usrs[Top 10 Posters],tblPosts[[#This Row],[poster_id]])","v":1}]
[6022,1,1406,7413,null,"2011-02-08T08:40:46",null,null,1,{"$f":"COUNTIF(top10Usrs[Top 10 Posters],tblPosts[[#This Row],[poster_id]])","v":0}]
[6029,1,1405,6998,null,"2011-02-08T18:53:03",null,null,4,{"$f":"COUNTIF(top10Usrs[Top 10 Posters],tblPosts[[#This Row],[poster_id]])","v":1}]
[6041,1,1408,24,null,"2011-02-09T04:34:33",null,null,2,{"$f":"COUNTIF(top10Usrs[Top 10 Posters],tblPosts[[#This Row],[poster_id]])","v":1}]
[6053,1,1402,24,null,"2011-02-09T13:32:30",null,null,9,{"$f":"COUNTIF(top10Usrs[Top 10 Posters],tblPosts[[#This Row],[poster_id]])","v":1}]
[6060,1,1413,27,null,"2011-02-09T15:09:53",null,null,1,{"$f":"COUNTIF(top10Usrs[Top 10 Posters],tblPosts[[#This Row],[poster_id]])","v":0}]
[6072,1,1415,6615,null,"2011-02-09T21:02:58",null,null,1,{"$f":"COUNTIF(top10Usrs[Top 10 Posters],tblPosts[[#This Row],[poster_id]])","v":0}]
[6075,4,2,7405,null,"2011-02-09T23:13:02",null,null,110,{"$f":"COUNTIF(top10Usrs[Top 10 Posters],tblPosts[[#This Row],[poster_id]])","v":0}]
[6087,1,1417,6925,null,"2011-02-10T05:26:36",null,null,3,{"$f":"COUNTIF(top10Usrs[Top 10 Posters],tblPosts[[#This Row],[poster_id]])","v":1}]
[6093,1,1419,24,null,"2011-02-10T07:13:13",null,null,3,{"$f":"COUNTIF(top10Usrs[Top 10 Posters],tblPosts[[#This Row],[poster_id]])","v":1}]
[6100,2,106,5408,null,"2011-02-10T13:53:36",null,null,5,{"$f":"COUNTIF(top10Usrs[Top 10 Posters],tblPosts[[#This Row],[poster_id]])","v":1}]
[6112,1,1416,24,null,"2011-02-10T23:47:13",null,null,8,{"$f":"COUNTIF(top10Usrs[Top 10 Posters],tblPosts[[#This Row],[poster_id]])","v":1}]
[6124,1,1423,3983,null,"2011-02-11T09:32:18",null,null,3,{"$f":"COUNTIF(top10Usrs[Top 10 Posters],tblPosts[[#This Row],[poster_id]])","v":0}]
[6131,1,1416,6998,null,"2011-02-11T14:53:10",null,null,11,{"$f":"COUNTIF(top10Usrs[Top 10 Posters],tblPosts[[#This Row],[poster_id]])","v":1}]
[6143,1,1427,6821,null,"2011-02-12T16:23:37",null,null,3,{"$f":"COUNTIF(top10Usrs[Top 10 Posters],tblPosts[[#This Row],[poster_id]])","v":1}]
[6146,1,1428,24,null,"2011-02-12T23:22:07",null,null,3,{"$f":"COUNTIF(top10Usrs[Top 10 Posters],tblPosts[[#This Row],[poster_id]])","v":1}]
[6162,1,1433,6779,null,"2011-02-13T21:49:00",null,null,1,{"$f":"COUNTIF(top10Usrs[Top 10 Posters],tblPosts[[#This Row],[poster_id]])","v":1}]
[6168,1,1434,24,null,"2011-02-14T00:16:29",null,null,2,{"$f":"COUNTIF(top10Usrs[Top 10 Posters],tblPosts[[#This Row],[poster_id]])","v":1}]
[6171,1,1434,6779,null,"2011-02-14T06:33:53",null,null,3,{"$f":"COUNTIF(top10Usrs[Top 10 Posters],tblPosts[[#This Row],[poster_id]])","v":1}]
[6183,1,1432,6821,null,"2011-02-14T22:53:33",null,null,6,{"$f":"COUNTIF(top10Usrs[Top 10 Posters],tblPosts[[#This Row],[poster_id]])","v":1}]
[6195,1,1439,7331,null,"2011-02-15T13:37:15",null,null,1,{"$f":"COUNTIF(top10Usrs[Top 10 Posters],tblPosts[[#This Row],[poster_id]])","v":0}]
[6202,7,1440,7326,null,"2011-02-15T20:38:10",null,null,1,{"$f":"COUNTIF(top10Usrs[Top 10 Posters],tblPosts[[#This Row],[poster_id]])","v":0}]
[6214,1,1442,5246,null,"2011-02-16T07:21:08",null,null,4,{"$f":"COUNTIF(top10Usrs[Top 10 Posters],tblPosts[[#This Row],[poster_id]])","v":0}]
[6221,1,1442,7351,null,"2011-02-16T10:23:03",null,null,10,{"$f":"COUNTIF(top10Usrs[Top 10 Posters],tblPosts[[#This Row],[poster_id]])","v":1}]
[6233,1,1442,5246,null,"2011-02-17T07:42:57",null,null,11,{"$f":"COUNTIF(top10Usrs[Top 10 Posters],tblPosts[[#This Row],[poster_id]])","v":0}]
[6236,1,1443,6958,null,"2011-02-17T08:09:54",null,null,4,{"$f":"COUNTIF(top10Usrs[Top 10 Posters],tblPosts[[#This Row],[poster_id]])","v":0}]
[6243,1,1445,5284,null,"2011-02-17T10:30:31",null,null,3,{"$f":"COUNTIF(top10Usrs[Top 10 Posters],tblPosts[[#This Row],[poster_id]])","v":0}]
[6259,1,1447,6520,null,"2011-02-17T15:34:58",null,null,6,{"$f":"COUNTIF(top10Usrs[Top 10 Posters],tblPosts[[#This Row],[poster_id]])","v":0}]
[6266,1,1449,7351,null,"2011-02-18T07:11:35",null,null,4,{"$f":"COUNTIF(top10Usrs[Top 10 Posters],tblPosts[[#This Row],[poster_id]])","v":1}]
[6273,1,1452,6717,null,"2011-02-18T15:06:16",null,null,1,{"$f":"COUNTIF(top10Usrs[Top 10 Posters],tblPosts[[#This Row],[poster_id]])","v":0}]
[6285,1,1454,24,null,"2011-02-19T06:55:38",null,null,2,{"$f":"COUNTIF(top10Usrs[Top 10 Posters],tblPosts[[#This Row],[poster_id]])","v":1}]
[6292,1,1431,6720,null,"2011-02-19T20:53:35",null,null,3,{"$f":"COUNTIF(top10Usrs[Top 10 Posters],tblPosts[[#This Row],[poster_id]])","v":0}]
[6304,1,1459,24,null,"2011-02-21T04:49:28",null,null,8,{"$f":"COUNTIF(top10Usrs[Top 10 Posters],tblPosts[[#This Row],[poster_id]])","v":1}]
[6307,1,1460,7121,null,"2011-02-21T12:16:53",null,null,1,{"$f":"COUNTIF(top10Usrs[Top 10 Posters],tblPosts[[#This Row],[poster_id]])","v":0}]
[6314,1,1462,6542,null,"2011-02-22T06:06:42",null,null,1,{"$f":"COUNTIF(top10Usrs[Top 10 Posters],tblPosts[[#This Row],[poster_id]])","v":0}]
[6326,1,1465,7100,null,"2011-02-22T13:36:04",null,null,2,{"$f":"COUNTIF(top10Usrs[Top 10 Posters],tblPosts[[#This Row],[poster_id]])","v":0}]
[6333,1,1463,6867,null,"2011-02-23T08:53:27",null,null,5,{"$f":"COUNTIF(top10Usrs[Top 10 Posters],tblPosts[[#This Row],[poster_id]])","v":0}]
[6342,1,1470,6998,null,"2011-02-23T13:12:28",null,null,4,{"$f":"COUNTIF(top10Usrs[Top 10 Posters],tblPosts[[#This Row],[poster_id]])","v":1}]
[6356,1,1472,6821,null,"2011-02-24T03:29:22",null,null,3,{"$f":"COUNTIF(top10Usrs[Top 10 Posters],tblPosts[[#This Row],[poster_id]])","v":1}]
[6363,1,1473,6821,null,"2011-02-24T17:09:03",null,null,3,{"$f":"COUNTIF(top10Usrs[Top 10 Posters],tblPosts[[#This Row],[poster_id]])","v":1}]
[6375,1,1457,6720,null,"2011-02-25T08:31:53",null,null,3,{"$f":"COUNTIF(top10Usrs[Top 10 Posters],tblPosts[[#This Row],[poster_id]])","v":0}]
[6378,1,1478,7351,null,"2011-02-25T08:56:36",null,null,2,{"$f":"COUNTIF(top10Usrs[Top 10 Posters],tblPosts[[#This Row],[poster_id]])","v":1}]
[6385,1,1480,24,null,"2011-02-25T09:56:22",null,null,2,{"$f":"COUNTIF(top10Usrs[Top 10 Posters],tblPosts[[#This Row],[poster_id]])","v":1}]
[6397,1,1477,6779,null,"2011-02-26T00:53:12",null,null,5,{"$f":"COUNTIF(top10Usrs[Top 10 Posters],tblPosts[[#This Row],[poster_id]])","v":1}]
[6404,1,1482,6779,null,"2011-02-27T01:30:33",null,null,3,{"$f":"COUNTIF(top10Usrs[Top 10 Posters],tblPosts[[#This Row],[poster_id]])","v":1}]
[6416,1,1484,24,null,"2011-02-28T07:32:09",null,null,4,{"$f":"COUNTIF(top10Usrs[Top 10 Posters],tblPosts[[#This Row],[poster_id]])","v":1}]
[6423,1,1437,5654,null,"2011-02-28T10:08:30",null,null,10,{"$f":"COUNTIF(top10Usrs[Top 10 Posters],tblPosts[[#This Row],[poster_id]])","v":0}]
[6434,1,1487,6998,null,"2011-02-28T19:29:55",null,null,6,{"$f":"COUNTIF(top10Usrs[Top 10 Posters],tblPosts[[#This Row],[poster_id]])","v":1}]
[6446,1,1490,6821,null,"2011-03-02T03:06:04",null,null,1,{"$f":"COUNTIF(top10Usrs[Top 10 Posters],tblPosts[[#This Row],[poster_id]])","v":1}]
[6449,7,1491,27,null,"2011-03-02T09:48:02",null,null,1,{"$f":"COUNTIF(top10Usrs[Top 10 Posters],tblPosts[[#This Row],[poster_id]])","v":0}]
[6456,1,1490,6821,null,"2011-03-02T16:48:26",null,null,6,{"$f":"COUNTIF(top10Usrs[Top 10 Posters],tblPosts[[#This Row],[poster_id]])","v":1}]
[6468,1,1495,7197,null,"2011-03-03T04:32:10",null,null,3,{"$f":"COUNTIF(top10Usrs[Top 10 Posters],tblPosts[[#This Row],[poster_id]])","v":0}]
[6475,1,1495,24,null,"2011-03-03T11:55:54",null,null,7,{"$f":"COUNTIF(top10Usrs[Top 10 Posters],tblPosts[[#This Row],[poster_id]])","v":1}]
[6487,1,1499,6779,null,"2011-03-04T05:39:27",null,null,1,{"$f":"COUNTIF(top10Usrs[Top 10 Posters],tblPosts[[#This Row],[poster_id]])","v":1}]
[6499,1,1503,6821,null,"2011-03-05T04:15:21",null,null,1,{"$f":"COUNTIF(top10Usrs[Top 10 Posters],tblPosts[[#This Row],[poster_id]])","v":1}]
[6506,1,1506,6821,null,"2011-03-06T01:39:16",null,null,1,{"$f":"COUNTIF(top10Usrs[Top 10 Posters],tblPosts[[#This Row],[poster_id]])","v":1}]
[6514,1,1508,7605,null,"2011-03-06T16:19:05",null,null,1,{"$f":"COUNTIF(top10Usrs[Top 10 Posters],tblPosts[[#This Row],[poster_id]])","v":0}]
[6524,1,1511,7608,null,"2011-03-07T14:10:35",null,null,1,{"$f":"COUNTIF(top10Usrs[Top 10 Posters],tblPosts[[#This Row],[poster_id]])","v":0}]
[6527,1,1508,7605,null,"2011-03-07T16:28:17",null,null,3,{"$f":"COUNTIF(top10Usrs[Top 10 Posters],tblPosts[[#This Row],[poster_id]])","v":0}]
[6539,1,1477,6779,null,"2011-03-07T21:41:42",null,null,13,{"$f":"COUNTIF(top10Usrs[Top 10 Posters],tblPosts[[#This Row],[poster_id]])","v":1}]
[6546,1,1511,7608,null,"2011-03-08T12:05:05",null,null,4,{"$f":"COUNTIF(top10Usrs[Top 10 Posters],tblPosts[[#This Row],[poster_id]])","v":0}]
[6558,1,1516,6998,null,"2011-03-08T17:14:28",null,null,2,{"$f":"COUNTIF(top10Usrs[Top 10 Posters],tblPosts[[#This Row],[poster_id]])","v":1}]
[6570,1,1477,6779,null,"2011-03-09T06:32:33",null,null,17,{"$f":"COUNTIF(top10Usrs[Top 10 Posters],tblPosts[[#This Row],[poster_id]])","v":1}]
[6577,1,1520,7621,null,"2011-03-09T15:42:41",null,null,1,{"$f":"COUNTIF(top10Usrs[Top 10 Posters],tblPosts[[#This Row],[poster_id]])","v":0}]
[6589,1,1517,6998,null,"2011-03-09T19:37:57",null,null,13,{"$f":"COUNTIF(top10Usrs[Top 10 Posters],tblPosts[[#This Row],[poster_id]])","v":1}]
[6595,1,1523,6998,null,"2011-03-09T21:45:26",null,null,2,{"$f":"COUNTIF(top10Usrs[Top 10 Posters],tblPosts[[#This Row],[poster_id]])","v":1}]
[6598,1,1523,24,null,"2011-03-10T00:11:03",null,null,3,{"$f":"COUNTIF(top10Usrs[Top 10 Posters],tblPosts[[#This Row],[poster_id]])","v":1}]
[6610,6,1530,7630,null,"2011-03-10T08:19:00",null,null,0,{"$f":"COUNTIF(top10Usrs[Top 10 Posters],tblPosts[[#This Row],[poster_id]])","v":0}]
[6617,1,1514,24,null,"2011-03-10T13:01:25",null,null,2,{"$f":"COUNTIF(top10Usrs[Top 10 Posters],tblPosts[[#This Row],[poster_id]])","v":1}]
[6629,1,1538,6779,null,"2011-03-11T08:15:58",null,null,1,{"$f":"COUNTIF(top10Usrs[Top 10 Posters],tblPosts[[#This Row],[poster_id]])","v":1}]
[6636,1,1540,24,null,"2011-03-11T23:07:02",null,null,2,{"$f":"COUNTIF(top10Usrs[Top 10 Posters],tblPosts[[#This Row],[poster_id]])","v":1}]
[6648,1,1545,24,null,"2011-03-14T05:03:05",null,null,2,{"$f":"COUNTIF(top10Usrs[Top 10 Posters],tblPosts[[#This Row],[poster_id]])","v":1}]
[6660,1,1547,24,null,"2011-03-14T07:56:44",null,null,4,{"$f":"COUNTIF(top10Usrs[Top 10 Posters],tblPosts[[#This Row],[poster_id]])","v":1}]
[6667,2,1551,7646,null,"2011-03-14T14:42:23",null,null,1,{"$f":"COUNTIF(top10Usrs[Top 10 Posters],tblPosts[[#This Row],[poster_id]])","v":0}]
[6670,1,1552,6998,null,"2011-03-14T15:32:35",null,null,2,{"$f":"COUNTIF(top10Usrs[Top 10 Posters],tblPosts[[#This Row],[poster_id]])","v":1}]
[6686,1,1556,7323,null,"2011-03-14T21:49:28",null,null,1,{"$f":"COUNTIF(top10Usrs[Top 10 Posters],tblPosts[[#This Row],[poster_id]])","v":0}]
[6688,1,1548,6779,null,"2011-03-14T22:47:26",null,null,8,{"$f":"COUNTIF(top10Usrs[Top 10 Posters],tblPosts[[#This Row],[poster_id]])","v":1}]
[6700,7,1557,24,null,"2011-03-15T06:56:19",null,null,2,{"$f":"COUNTIF(top10Usrs[Top 10 Posters],tblPosts[[#This Row],[poster_id]])","v":1}]
[6707,1,1558,24,null,"2011-03-15T13:35:16",null,null,2,{"$f":"COUNTIF(top10Usrs[Top 10 Posters],tblPosts[[#This Row],[poster_id]])","v":1}]
[6719,1,1562,7227,null,"2011-03-15T21:21:05",null,null,1,{"$f":"COUNTIF(top10Usrs[Top 10 Posters],tblPosts[[#This Row],[poster_id]])","v":0}]
[6731,1,1550,7644,null,"2011-03-17T01:59:09",null,null,6,{"$f":"COUNTIF(top10Usrs[Top 10 Posters],tblPosts[[#This Row],[poster_id]])","v":0}]
[6738,1,1567,6998,null,"2011-03-17T19:26:18",null,null,2,{"$f":"COUNTIF(top10Usrs[Top 10 Posters],tblPosts[[#This Row],[poster_id]])","v":1}]
[6741,1,1569,7660,null,"2011-03-18T10:07:21",null,null,1,{"$f":"COUNTIF(top10Usrs[Top 10 Posters],tblPosts[[#This Row],[poster_id]])","v":0}]
[6753,1,1572,7662,null,"2011-03-19T04:03:07",null,null,5,{"$f":"COUNTIF(top10Usrs[Top 10 Posters],tblPosts[[#This Row],[poster_id]])","v":0}]
[6759,1,1573,7663,null,"2011-03-19T20:53:47",null,null,4,{"$f":"COUNTIF(top10Usrs[Top 10 Posters],tblPosts[[#This Row],[poster_id]])","v":0}]
[6771,1,1571,7661,null,"2011-03-21T07:40:12",null,null,3,{"$f":"COUNTIF(top10Usrs[Top 10 Posters],tblPosts[[#This Row],[poster_id]])","v":0}]
[6778,1,1574,24,null,"2011-03-21T12:10:38",null,null,5,{"$f":"COUNTIF(top10Usrs[Top 10 Posters],tblPosts[[#This Row],[poster_id]])","v":1}]
[6790,1,1576,27,null,"2011-03-21T14:38:26",null,null,4,{"$f":"COUNTIF(top10Usrs[Top 10 Posters],tblPosts[[#This Row],[poster_id]])","v":0}]
[6802,1,1582,3008,null,"2011-03-22T06:18:55",null,null,1,{"$f":"COUNTIF(top10Usrs[Top 10 Posters],tblPosts[[#This Row],[poster_id]])","v":0}]
[6809,7,1564,24,null,"2011-03-22T12:41:38",null,null,7,{"$f":"COUNTIF(top10Usrs[Top 10 Posters],tblPosts[[#This Row],[poster_id]])","v":1}]
[6812,7,1564,6998,null,"2011-03-22T18:37:36",null,null,9,{"$f":"COUNTIF(top10Usrs[Top 10 Posters],tblPosts[[#This Row],[poster_id]])","v":1}]
[6828,1,1581,7666,null,"2011-03-24T01:16:52",null,null,4,{"$f":"COUNTIF(top10Usrs[Top 10 Posters],tblPosts[[#This Row],[poster_id]])","v":0}]
[6831,7,1564,7655,null,"2011-03-24T05:50:36",null,null,11,{"$f":"COUNTIF(top10Usrs[Top 10 Posters],tblPosts[[#This Row],[poster_id]])","v":0}]
[6843,1,1592,7679,null,"2011-03-25T13:27:50",null,null,2,{"$f":"COUNTIF(top10Usrs[Top 10 Posters],tblPosts[[#This Row],[poster_id]])","v":0}]
[6850,1,1588,7675,null,"2011-03-25T19:07:19",null,null,3,{"$f":"COUNTIF(top10Usrs[Top 10 Posters],tblPosts[[#This Row],[poster_id]])","v":0}]
[6861,1,1596,24,null,"2011-03-26T09:17:39",null,null,2,{"$f":"COUNTIF(top10Usrs[Top 10 Posters],tblPosts[[#This Row],[poster_id]])","v":1}]
[6873,1,1600,24,null,"2011-03-27T08:27:47",null,null,2,{"$f":"COUNTIF(top10Usrs[Top 10 Posters],tblPosts[[#This Row],[poster_id]])","v":1}]
[6880,1,1606,6779,null,"2011-03-28T00:57:43",null,null,1,{"$f":"COUNTIF(top10Usrs[Top 10 Posters],tblPosts[[#This Row],[poster_id]])","v":1}]
[6883,1,1605,24,null,"2011-03-28T01:13:59",null,null,2,{"$f":"COUNTIF(top10Usrs[Top 10 Posters],tblPosts[[#This Row],[poster_id]])","v":1}]
[6899,1,1604,6998,null,"2011-03-28T16:56:53",null,null,2,{"$f":"COUNTIF(top10Usrs[Top 10 Posters],tblPosts[[#This Row],[poster_id]])","v":1}]
[6902,1,1602,7262,null,"2011-03-29T00:19:35",null,null,4,{"$f":"COUNTIF(top10Usrs[Top 10 Posters],tblPosts[[#This Row],[poster_id]])","v":0}]
[6914,1,1612,7694,null,"2011-03-29T17:15:42",null,null,3,{"$f":"COUNTIF(top10Usrs[Top 10 Posters],tblPosts[[#This Row],[poster_id]])","v":0}]
[6921,1,1614,24,null,"2011-03-30T14:08:24",null,null,2,{"$f":"COUNTIF(top10Usrs[Top 10 Posters],tblPosts[[#This Row],[poster_id]])","v":1}]
[6933,1,1615,6998,null,"2011-03-30T19:56:02",null,null,4,{"$f":"COUNTIF(top10Usrs[Top 10 Posters],tblPosts[[#This Row],[poster_id]])","v":1}]
[6941,1,1610,6998,null,"2011-03-31T14:44:29",null,null,7,{"$f":"COUNTIF(top10Usrs[Top 10 Posters],tblPosts[[#This Row],[poster_id]])","v":1}]
[6951,1,1622,7703,null,"2011-03-31T20:18:55",null,null,3,{"$f":"COUNTIF(top10Usrs[Top 10 Posters],tblPosts[[#This Row],[poster_id]])","v":0}]
[6954,1,596,24,null,"2011-04-01T06:20:36",null,null,6,{"$f":"COUNTIF(top10Usrs[Top 10 Posters],tblPosts[[#This Row],[poster_id]])","v":1}]
[6970,1,1626,24,null,"2011-04-02T02:09:01",null,null,2,{"$f":"COUNTIF(top10Usrs[Top 10 Posters],tblPosts[[#This Row],[poster_id]])","v":1}]
[6973,1,1631,7716,null,"2011-04-03T04:52:24",null,null,1,{"$f":"COUNTIF(top10Usrs[Top 10 Posters],tblPosts[[#This Row],[poster_id]])","v":0}]
[6985,7,1635,7719,null,"2011-04-04T10:30:53",null,null,1,{"$f":"COUNTIF(top10Usrs[Top 10 Posters],tblPosts[[#This Row],[poster_id]])","v":0}]
[6992,1,1633,7718,null,"2011-04-04T13:48:08",null,null,5,{"$f":"COUNTIF(top10Usrs[Top 10 Posters],tblPosts[[#This Row],[poster_id]])","v":0}]
[7004,1,1606,6779,null,"2011-04-05T05:46:25",null,null,5,{"$f":"COUNTIF(top10Usrs[Top 10 Posters],tblPosts[[#This Row],[poster_id]])","v":1}]
[7011,1,1627,6925,null,"2011-04-05T16:50:08",null,null,3,{"$f":"COUNTIF(top10Usrs[Top 10 Posters],tblPosts[[#This Row],[poster_id]])","v":1}]
[7022,1,1636,6925,null,"2011-04-05T21:52:05",null,null,11,{"$f":"COUNTIF(top10Usrs[Top 10 Posters],tblPosts[[#This Row],[poster_id]])","v":1}]
[7025,1,1626,24,null,"2011-04-06T00:17:17",null,null,4,{"$f":"COUNTIF(top10Usrs[Top 10 Posters],tblPosts[[#This Row],[poster_id]])","v":1}]
[7041,1,1616,7696,null,"2011-04-06T20:52:25",null,null,3,{"$f":"COUNTIF(top10Usrs[Top 10 Posters],tblPosts[[#This Row],[poster_id]])","v":0}]
[7044,1,1643,6925,null,"2011-04-06T22:03:42",null,null,2,{"$f":"COUNTIF(top10Usrs[Top 10 Posters],tblPosts[[#This Row],[poster_id]])","v":1}]
[7056,1,1646,24,null,"2011-04-07T09:49:06",null,null,2,{"$f":"COUNTIF(top10Usrs[Top 10 Posters],tblPosts[[#This Row],[poster_id]])","v":1}]
[7063,1,1647,24,null,"2011-04-07T13:06:47",null,null,3,{"$f":"COUNTIF(top10Usrs[Top 10 Posters],tblPosts[[#This Row],[poster_id]])","v":1}]
[7075,1,1627,6925,null,"2011-04-07T18:27:20",null,null,7,{"$f":"COUNTIF(top10Usrs[Top 10 Posters],tblPosts[[#This Row],[poster_id]])","v":1}]
[7082,1,1651,6867,null,"2011-04-07T19:12:56",null,null,3,{"$f":"COUNTIF(top10Usrs[Top 10 Posters],tblPosts[[#This Row],[poster_id]])","v":0}]
[7094,1,1654,7677,null,"2011-04-08T12:34:58",null,null,3,{"$f":"COUNTIF(top10Usrs[Top 10 Posters],tblPosts[[#This Row],[poster_id]])","v":0}]
[7097,1,1655,6998,null,"2011-04-08T13:47:08",null,null,2,{"$f":"COUNTIF(top10Usrs[Top 10 Posters],tblPosts[[#This Row],[poster_id]])","v":1}]
[7113,4,1658,24,null,"2011-04-08T22:42:11",null,null,2,{"$f":"COUNTIF(top10Usrs[Top 10 Posters],tblPosts[[#This Row],[poster_id]])","v":1}]
[7115,1,1660,7687,null,"2011-04-09T09:36:56",null,null,1,{"$f":"COUNTIF(top10Usrs[Top 10 Posters],tblPosts[[#This Row],[poster_id]])","v":0}]
[7131,1,1663,24,null,"2011-04-11T00:02:28",null,null,2,{"$f":"COUNTIF(top10Usrs[Top 10 Posters],tblPosts[[#This Row],[poster_id]])","v":1}]
[7134,1,1660,24,null,"2011-04-11T11:47:46",null,null,6,{"$f":"COUNTIF(top10Usrs[Top 10 Posters],tblPosts[[#This Row],[poster_id]])","v":1}]
[7146,1,1667,24,null,"2011-04-12T01:21:40",null,null,2,{"$f":"COUNTIF(top10Usrs[Top 10 Posters],tblPosts[[#This Row],[poster_id]])","v":1}]
[7153,1,1667,7758,null,"2011-04-12T04:09:00",null,null,4,{"$f":"COUNTIF(top10Usrs[Top 10 Posters],tblPosts[[#This Row],[poster_id]])","v":0}]
[7165,1,1673,7761,null,"2011-04-12T10:51:26",null,null,3,{"$f":"COUNTIF(top10Usrs[Top 10 Posters],tblPosts[[#This Row],[poster_id]])","v":0}]
[7168,1,1673,24,null,"2011-04-12T13:21:48",null,null,6,{"$f":"COUNTIF(top10Usrs[Top 10 Posters],tblPosts[[#This Row],[poster_id]])","v":1}]
[7184,2,1674,7762,null,"2011-04-12T18:21:26",null,null,7,{"$f":"COUNTIF(top10Usrs[Top 10 Posters],tblPosts[[#This Row],[poster_id]])","v":0}]
[7186,1,1676,6925,null,"2011-04-12T18:26:17",null,null,2,{"$f":"COUNTIF(top10Usrs[Top 10 Posters],tblPosts[[#This Row],[poster_id]])","v":1}]
[7202,1,1679,24,null,"2011-04-13T06:57:00",null,null,2,{"$f":"COUNTIF(top10Usrs[Top 10 Posters],tblPosts[[#This Row],[poster_id]])","v":1}]
[7205,1,1681,7766,null,"2011-04-13T14:10:40",null,null,3,{"$f":"COUNTIF(top10Usrs[Top 10 Posters],tblPosts[[#This Row],[poster_id]])","v":0}]
[7217,1,1684,6867,null,"2011-04-14T08:39:01",null,null,1,{"$f":"COUNTIF(top10Usrs[Top 10 Posters],tblPosts[[#This Row],[poster_id]])","v":0}]
[7224,1,1688,7729,null,"2011-04-14T15:45:00",null,null,3,{"$f":"COUNTIF(top10Usrs[Top 10 Posters],tblPosts[[#This Row],[poster_id]])","v":0}]
[7236,1,1692,7780,null,"2011-04-15T09:36:03",null,null,1,{"$f":"COUNTIF(top10Usrs[Top 10 Posters],tblPosts[[#This Row],[poster_id]])","v":0}]
[7239,1,1692,7780,null,"2011-04-15T10:17:57",null,null,4,{"$f":"COUNTIF(top10Usrs[Top 10 Posters],tblPosts[[#This Row],[poster_id]])","v":0}]
[7255,1,1697,5120,null,"2011-04-16T14:18:15",null,null,1,{"$f":"COUNTIF(top10Usrs[Top 10 Posters],tblPosts[[#This Row],[poster_id]])","v":0}]
[7258,1,1699,7785,null,"2011-04-17T03:58:52",null,null,1,{"$f":"COUNTIF(top10Usrs[Top 10 Posters],tblPosts[[#This Row],[poster_id]])","v":0}]
[7274,1,1705,7321,null,"2011-04-18T10:05:30",null,null,1,{"$f":"COUNTIF(top10Usrs[Top 10 Posters],tblPosts[[#This Row],[poster_id]])","v":0}]
[7277,1,1704,6998,null,"2011-04-18T12:27:10",null,null,2,{"$f":"COUNTIF(top10Usrs[Top 10 Posters],tblPosts[[#This Row],[poster_id]])","v":1}]
[7288,1,1700,24,null,"2011-04-19T00:28:06",null,null,4,{"$f":"COUNTIF(top10Usrs[Top 10 Posters],tblPosts[[#This Row],[poster_id]])","v":1}]
[7295,1,1710,6779,null,"2011-04-19T07:57:19",null,null,1,{"$f":"COUNTIF(top10Usrs[Top 10 Posters],tblPosts[[#This Row],[poster_id]])","v":1}]
[7307,1,1713,6998,null,"2011-04-19T13:17:09",null,null,2,{"$f":"COUNTIF(top10Usrs[Top 10 Posters],tblPosts[[#This Row],[poster_id]])","v":1}]
[7314,1,1700,24,null,"2011-04-20T00:06:02",null,null,8,{"$f":"COUNTIF(top10Usrs[Top 10 Posters],tblPosts[[#This Row],[poster_id]])","v":1}]
[7326,1,1700,24,null,"2011-04-20T10:05:03",null,null,13,{"$f":"COUNTIF(top10Usrs[Top 10 Posters],tblPosts[[#This Row],[poster_id]])","v":1}]
[7329,1,1716,6998,null,"2011-04-20T12:14:49",null,null,2,{"$f":"COUNTIF(top10Usrs[Top 10 Posters],tblPosts[[#This Row],[poster_id]])","v":1}]
[7345,1,1713,7780,null,"2011-04-20T20:16:02",null,null,8,{"$f":"COUNTIF(top10Usrs[Top 10 Posters],tblPosts[[#This Row],[poster_id]])","v":0}]
[7348,1,1720,6925,null,"2011-04-20T22:58:55",null,null,3,{"$f":"COUNTIF(top10Usrs[Top 10 Posters],tblPosts[[#This Row],[poster_id]])","v":1}]
[7358,1,1722,24,null,"2011-04-21T11:02:26",null,null,4,{"$f":"COUNTIF(top10Usrs[Top 10 Posters],tblPosts[[#This Row],[poster_id]])","v":1}]
[7366,1,1723,7780,null,"2011-04-21T14:45:58",null,null,6,{"$f":"COUNTIF(top10Usrs[Top 10 Posters],tblPosts[[#This Row],[poster_id]])","v":0}]
[7378,1,1723,6998,null,"2011-04-21T17:33:52",null,null,7,{"$f":"COUNTIF(top10Usrs[Top 10 Posters],tblPosts[[#This Row],[poster_id]])","v":1}]
[7385,1,1730,7814,null,"2011-04-21T21:46:09",null,null,3,{"$f":"COUNTIF(top10Usrs[Top 10 Posters],tblPosts[[#This Row],[poster_id]])","v":0}]
[7397,1,1700,7787,null,"2011-04-22T06:19:19",null,null,18,{"$f":"COUNTIF(top10Usrs[Top 10 Posters],tblPosts[[#This Row],[poster_id]])","v":0}]
[7400,1,1733,24,null,"2011-04-22T07:38:40",null,null,2,{"$f":"COUNTIF(top10Usrs[Top 10 Posters],tblPosts[[#This Row],[poster_id]])","v":1}]
[7416,1,1735,24,null,"2011-04-23T03:51:02",null,null,3,{"$f":"COUNTIF(top10Usrs[Top 10 Posters],tblPosts[[#This Row],[poster_id]])","v":1}]
[7419,1,1715,7820,null,"2011-04-23T10:04:23",null,null,4,{"$f":"COUNTIF(top10Usrs[Top 10 Posters],tblPosts[[#This Row],[poster_id]])","v":0}]
[7431,1,1741,6779,null,"2011-04-24T05:07:01",null,null,1,{"$f":"COUNTIF(top10Usrs[Top 10 Posters],tblPosts[[#This Row],[poster_id]])","v":1}]
[7438,1,1715,7820,null,"2011-04-25T04:49:23",null,null,6,{"$f":"COUNTIF(top10Usrs[Top 10 Posters],tblPosts[[#This Row],[poster_id]])","v":0}]
[7449,1,1634,6531,null,"2011-04-25T18:09:40",null,null,4,{"$f":"COUNTIF(top10Usrs[Top 10 Posters],tblPosts[[#This Row],[poster_id]])","v":0}]
[7456,1,1745,24,null,"2011-04-26T03:05:50",null,null,2,{"$f":"COUNTIF(top10Usrs[Top 10 Posters],tblPosts[[#This Row],[poster_id]])","v":1}]
[7468,1,1751,24,null,"2011-04-26T14:19:42",null,null,2,{"$f":"COUNTIF(top10Usrs[Top 10 Posters],tblPosts[[#This Row],[poster_id]])","v":1}]
[7471,1,1752,24,null,"2011-04-26T15:00:35",null,null,2,{"$f":"COUNTIF(top10Usrs[Top 10 Posters],tblPosts[[#This Row],[poster_id]])","v":1}]
[7487,1,1754,7831,null,"2011-04-26T18:24:22",null,null,3,{"$f":"COUNTIF(top10Usrs[Top 10 Posters],tblPosts[[#This Row],[poster_id]])","v":0}]
[7490,1,1754,6998,null,"2011-04-26T19:20:12",null,null,6,{"$f":"COUNTIF(top10Usrs[Top 10 Posters],tblPosts[[#This Row],[poster_id]])","v":1}]
[7497,1,1756,7835,null,"2011-04-26T21:36:09",null,null,1,{"$f":"COUNTIF(top10Usrs[Top 10 Posters],tblPosts[[#This Row],[poster_id]])","v":0}]
[7509,1,1755,24,null,"2011-04-27T05:21:57",null,null,5,{"$f":"COUNTIF(top10Usrs[Top 10 Posters],tblPosts[[#This Row],[poster_id]])","v":1}]
[7521,1,1760,7840,null,"2011-04-27T13:19:53",null,null,3,{"$f":"COUNTIF(top10Usrs[Top 10 Posters],tblPosts[[#This Row],[poster_id]])","v":0}]
[7528,1,1756,24,null,"2011-04-27T14:33:41",null,null,4,{"$f":"COUNTIF(top10Usrs[Top 10 Posters],tblPosts[[#This Row],[poster_id]])","v":1}]
[7540,1,1762,6867,null,"2011-04-28T07:50:33",null,null,1,{"$f":"COUNTIF(top10Usrs[Top 10 Posters],tblPosts[[#This Row],[poster_id]])","v":0}]
[7542,1,1100,7842,null,"2011-04-28T11:09:54",null,null,6,{"$f":"COUNTIF(top10Usrs[Top 10 Posters],tblPosts[[#This Row],[poster_id]])","v":0}]
[7558,1,1750,7323,null,"2011-04-28T14:45:12",null,null,14,{"$f":"COUNTIF(top10Usrs[Top 10 Posters],tblPosts[[#This Row],[poster_id]])","v":0}]
[7561,1,1750,24,null,"2011-04-28T15:19:58",null,null,16,{"$f":"COUNTIF(top10Usrs[Top 10 Posters],tblPosts[[#This Row],[poster_id]])","v":1}]
[7568,1,1765,24,null,"2011-04-28T22:56:24",null,null,3,{"$f":"COUNTIF(top10Usrs[Top 10 Posters],tblPosts[[#This Row],[poster_id]])","v":1}]
[7580,1,1757,7837,null,"2011-04-29T03:15:04",null,null,12,{"$f":"COUNTIF(top10Usrs[Top 10 Posters],tblPosts[[#This Row],[poster_id]])","v":0}]
[7592,1,1766,7845,null,"2011-04-29T10:59:33",null,null,12,{"$f":"COUNTIF(top10Usrs[Top 10 Posters],tblPosts[[#This Row],[poster_id]])","v":0}]
[7599,1,1769,7762,null,"2011-04-29T16:57:24",null,null,1,{"$f":"COUNTIF(top10Usrs[Top 10 Posters],tblPosts[[#This Row],[poster_id]])","v":0}]
[7611,5,1770,24,null,"2011-04-30T16:05:46",null,null,2,{"$f":"COUNTIF(top10Usrs[Top 10 Posters],tblPosts[[#This Row],[poster_id]])","v":1}]
[7613,1,1766,7845,null,"2011-04-30T20:46:13",null,null,14,{"$f":"COUNTIF(top10Usrs[Top 10 Posters],tblPosts[[#This Row],[poster_id]])","v":0}]
[7629,1,1746,6779,null,"2011-05-02T03:52:32",null,null,8,{"$f":"COUNTIF(top10Usrs[Top 10 Posters],tblPosts[[#This Row],[poster_id]])","v":1}]
[7632,1,1723,7780,null,"2011-05-02T10:10:20",null,null,10,{"$f":"COUNTIF(top10Usrs[Top 10 Posters],tblPosts[[#This Row],[poster_id]])","v":0}]
[7639,1,1746,7826,null,"2011-05-02T21:12:02",null,null,9,{"$f":"COUNTIF(top10Usrs[Top 10 Posters],tblPosts[[#This Row],[poster_id]])","v":0}]
[7651,7,1783,6071,null,"2011-05-03T12:51:32",null,null,1,{"$f":"COUNTIF(top10Usrs[Top 10 Posters],tblPosts[[#This Row],[poster_id]])","v":0}]
[7663,1,1787,7866,null,"2011-05-04T11:34:32",null,null,1,{"$f":"COUNTIF(top10Usrs[Top 10 Posters],tblPosts[[#This Row],[poster_id]])","v":0}]
[7670,1,1789,5408,null,"2011-05-04T13:05:58",null,null,3,{"$f":"COUNTIF(top10Usrs[Top 10 Posters],tblPosts[[#This Row],[poster_id]])","v":1}]
[7682,7,1783,24,null,"2011-05-05T01:45:05",null,null,7,{"$f":"COUNTIF(top10Usrs[Top 10 Posters],tblPosts[[#This Row],[poster_id]])","v":1}]
[7689,2,1793,7410,null,"2011-05-05T10:59:01",null,null,2,{"$f":"COUNTIF(top10Usrs[Top 10 Posters],tblPosts[[#This Row],[poster_id]])","v":0}]
[7701,2,1793,6998,null,"2011-05-05T17:09:44",null,null,3,{"$f":"COUNTIF(top10Usrs[Top 10 Posters],tblPosts[[#This Row],[poster_id]])","v":1}]
[7704,7,1783,6071,null,"2011-05-05T17:37:51",null,null,8,{"$f":"COUNTIF(top10Usrs[Top 10 Posters],tblPosts[[#This Row],[poster_id]])","v":0}]
[7710,1,1790,7236,null,"2011-05-05T19:49:18",null,null,3,{"$f":"COUNTIF(top10Usrs[Top 10 Posters],tblPosts[[#This Row],[poster_id]])","v":0}]
[7722,1,1798,7323,null,"2011-05-06T09:18:30",null,null,5,{"$f":"COUNTIF(top10Usrs[Top 10 Posters],tblPosts[[#This Row],[poster_id]])","v":0}]
[7734,1,1803,6998,null,"2011-05-06T18:49:04",null,null,4,{"$f":"COUNTIF(top10Usrs[Top 10 Posters],tblPosts[[#This Row],[poster_id]])","v":1}]
[7741,1,1806,1,null,"2011-05-07T01:13:09",null,null,2,{"$f":"COUNTIF(top10Usrs[Top 10 Posters],tblPosts[[#This Row],[poster_id]])","v":1}]
[7753,1,1809,7826,null,"2011-05-07T13:32:43",null,null,1,{"$f":"COUNTIF(top10Usrs[Top 10 Posters],tblPosts[[#This Row],[poster_id]])","v":0}]
[7760,1,1809,24,null,"2011-05-08T02:39:16",null,null,2,{"$f":"COUNTIF(top10Usrs[Top 10 Posters],tblPosts[[#This Row],[poster_id]])","v":1}]
[7772,1,1808,6951,null,"2011-05-08T10:26:24",null,null,5,{"$f":"COUNTIF(top10Usrs[Top 10 Posters],tblPosts[[#This Row],[poster_id]])","v":0}]
[7775,1,1808,24,null,"2011-05-09T02:39:52",null,null,7,{"$f":"COUNTIF(top10Usrs[Top 10 Posters],tblPosts[[#This Row],[poster_id]])","v":1}]
[7785,7,1816,3983,null,"2011-05-09T13:44:20",null,null,1,{"$f":"COUNTIF(top10Usrs[Top 10 Posters],tblPosts[[#This Row],[poster_id]])","v":0}]
[7793,1,1817,7830,null,"2011-05-09T18:39:39",null,null,3,{"$f":"COUNTIF(top10Usrs[Top 10 Posters],tblPosts[[#This Row],[poster_id]])","v":0}]
[7800,1,1819,7888,null,"2011-05-10T06:50:42",null,null,2,{"$f":"COUNTIF(top10Usrs[Top 10 Posters],tblPosts[[#This Row],[poster_id]])","v":0}]
[7812,1,1821,3008,null,"2011-05-10T08:01:36",null,null,1,{"$f":"COUNTIF(top10Usrs[Top 10 Posters],tblPosts[[#This Row],[poster_id]])","v":0}]
[7824,1,1728,24,null,"2011-05-10T09:23:11",null,null,3,{"$f":"COUNTIF(top10Usrs[Top 10 Posters],tblPosts[[#This Row],[poster_id]])","v":1}]
[7831,1,1818,7888,null,"2011-05-10T10:36:01",null,null,7,{"$f":"COUNTIF(top10Usrs[Top 10 Posters],tblPosts[[#This Row],[poster_id]])","v":0}]
[7843,1,1795,7840,null,"2011-05-10T13:38:00",null,null,4,{"$f":"COUNTIF(top10Usrs[Top 10 Posters],tblPosts[[#This Row],[poster_id]])","v":0}]
[7846,7,1810,7881,null,"2011-05-10T14:42:29",null,null,12,{"$f":"COUNTIF(top10Usrs[Top 10 Posters],tblPosts[[#This Row],[poster_id]])","v":0}]
[7853,1,1825,7263,null,"2011-05-10T15:25:08",null,null,1,{"$f":"COUNTIF(top10Usrs[Top 10 Posters],tblPosts[[#This Row],[poster_id]])","v":0}]
[7865,1,1829,7892,null,"2011-05-11T06:17:21",null,null,1,{"$f":"COUNTIF(top10Usrs[Top 10 Posters],tblPosts[[#This Row],[poster_id]])","v":0}]
[7876,1,1830,3008,null,"2011-05-11T10:11:24",null,null,5,{"$f":"COUNTIF(top10Usrs[Top 10 Posters],tblPosts[[#This Row],[poster_id]])","v":0}]
[7883,1,1832,7830,null,"2011-05-11T13:29:01",null,null,1,{"$f":"COUNTIF(top10Usrs[Top 10 Posters],tblPosts[[#This Row],[poster_id]])","v":0}]
[7895,3,1814,6998,null,"2011-05-11T17:43:25",null,null,4,{"$f":"COUNTIF(top10Usrs[Top 10 Posters],tblPosts[[#This Row],[poster_id]])","v":1}]
[7902,1,1828,7868,null,"2011-05-12T00:30:36",null,null,5,{"$f":"COUNTIF(top10Usrs[Top 10 Posters],tblPosts[[#This Row],[poster_id]])","v":0}]
[7914,1,1833,7898,null,"2011-05-12T12:27:16",null,null,4,{"$f":"COUNTIF(top10Usrs[Top 10 Posters],tblPosts[[#This Row],[poster_id]])","v":0}]
[7921,1,1839,24,null,"2011-05-12T14:03:38",null,null,2,{"$f":"COUNTIF(top10Usrs[Top 10 Posters],tblPosts[[#This Row],[poster_id]])","v":1}]
[7924,1,1840,7762,null,"2011-05-12T15:05:44",null,null,1,{"$f":"COUNTIF(top10Usrs[Top 10 Posters],tblPosts[[#This Row],[poster_id]])","v":0}]
[7936,1,1837,7899,null,"2011-05-12T16:06:53",null,null,3,{"$f":"COUNTIF(top10Usrs[Top 10 Posters],tblPosts[[#This Row],[poster_id]])","v":0}]
[7943,1,1842,6821,null,"2011-05-12T18:10:29",null,null,1,{"$f":"COUNTIF(top10Usrs[Top 10 Posters],tblPosts[[#This Row],[poster_id]])","v":1}]
[7957,1,1844,24,null,"2011-05-13T03:48:53",null,null,2,{"$f":"COUNTIF(top10Usrs[Top 10 Posters],tblPosts[[#This Row],[poster_id]])","v":1}]
[7966,1,1760,7840,null,"2011-05-13T14:28:24",null,null,5,{"$f":"COUNTIF(top10Usrs[Top 10 Posters],tblPosts[[#This Row],[poster_id]])","v":0}]
[7973,1,1844,6604,null,"2011-05-14T02:17:53",null,null,8,{"$f":"COUNTIF(top10Usrs[Top 10 Posters],tblPosts[[#This Row],[poster_id]])","v":0}]
[7985,1,1849,24,null,"2011-05-15T10:29:42",null,null,2,{"$f":"COUNTIF(top10Usrs[Top 10 Posters],tblPosts[[#This Row],[poster_id]])","v":1}]
[7992,1,1852,24,null,"2011-05-15T23:53:31",null,null,2,{"$f":"COUNTIF(top10Usrs[Top 10 Posters],tblPosts[[#This Row],[poster_id]])","v":1}]
[7995,1,1856,3008,null,"2011-05-16T04:48:41",null,null,1,{"$f":"COUNTIF(top10Usrs[Top 10 Posters],tblPosts[[#This Row],[poster_id]])","v":0}]
[8007,1,1855,7911,null,"2011-05-16T14:12:32",null,null,3,{"$f":"COUNTIF(top10Usrs[Top 10 Posters],tblPosts[[#This Row],[poster_id]])","v":0}]
[8014,1,1855,7902,null,"2011-05-17T08:25:00",null,null,4,{"$f":"COUNTIF(top10Usrs[Top 10 Posters],tblPosts[[#This Row],[poster_id]])","v":0}]
[8026,1,1862,7889,null,"2011-05-18T06:27:25",null,null,1,{"$f":"COUNTIF(top10Usrs[Top 10 Posters],tblPosts[[#This Row],[poster_id]])","v":0}]
[8038,1,1864,7881,null,"2011-05-18T10:54:16",null,null,1,{"$f":"COUNTIF(top10Usrs[Top 10 Posters],tblPosts[[#This Row],[poster_id]])","v":0}]
[8040,1,1863,7902,null,"2011-05-18T11:14:46",null,null,5,{"$f":"COUNTIF(top10Usrs[Top 10 Posters],tblPosts[[#This Row],[poster_id]])","v":0}]
[8056,1,1867,7898,null,"2011-05-18T13:22:09",null,null,5,{"$f":"COUNTIF(top10Usrs[Top 10 Posters],tblPosts[[#This Row],[poster_id]])","v":0}]
[8063,1,1868,7914,null,"2011-05-18T13:58:31",null,null,1,{"$f":"COUNTIF(top10Usrs[Top 10 Posters],tblPosts[[#This Row],[poster_id]])","v":0}]
[8066,1,1868,24,null,"2011-05-18T14:04:22",null,null,2,{"$f":"COUNTIF(top10Usrs[Top 10 Posters],tblPosts[[#This Row],[poster_id]])","v":1}]
[8078,1,1760,7840,null,"2011-05-18T17:35:14",null,null,12,{"$f":"COUNTIF(top10Usrs[Top 10 Posters],tblPosts[[#This Row],[poster_id]])","v":0}]
[8085,1,1872,7922,null,"2011-05-19T04:37:38",null,null,1,{"$f":"COUNTIF(top10Usrs[Top 10 Posters],tblPosts[[#This Row],[poster_id]])","v":0}]
[8097,1,1869,7917,null,"2011-05-19T13:38:53",null,null,13,{"$f":"COUNTIF(top10Usrs[Top 10 Posters],tblPosts[[#This Row],[poster_id]])","v":0}]
[8104,1,1875,7928,null,"2011-05-19T15:11:53",null,null,1,{"$f":"COUNTIF(top10Usrs[Top 10 Posters],tblPosts[[#This Row],[poster_id]])","v":0}]
[8116,1,1877,7919,null,"2011-05-19T19:59:30",null,null,3,{"$f":"COUNTIF(top10Usrs[Top 10 Posters],tblPosts[[#This Row],[poster_id]])","v":0}]
[8121,4,2,7933,null,"2011-05-19T21:43:59",null,null,124,{"$f":"COUNTIF(top10Usrs[Top 10 Posters],tblPosts[[#This Row],[poster_id]])","v":0}]
[8134,1,1875,7928,null,"2011-05-20T08:41:14",null,null,7,{"$f":"COUNTIF(top10Usrs[Top 10 Posters],tblPosts[[#This Row],[poster_id]])","v":0}]
[8137,1,1875,24,null,"2011-05-20T08:54:44",null,null,8,{"$f":"COUNTIF(top10Usrs[Top 10 Posters],tblPosts[[#This Row],[poster_id]])","v":1}]
[8149,4,2,7902,null,"2011-05-20T11:40:26",null,null,125,{"$f":"COUNTIF(top10Usrs[Top 10 Posters],tblPosts[[#This Row],[poster_id]])","v":0}]
[8156,1,1882,7902,null,"2011-05-20T13:09:47",null,null,2,{"$f":"COUNTIF(top10Usrs[Top 10 Posters],tblPosts[[#This Row],[poster_id]])","v":0}]
[8168,1,1884,6998,null,"2011-05-20T16:50:29",null,null,2,{"$f":"COUNTIF(top10Usrs[Top 10 Posters],tblPosts[[#This Row],[poster_id]])","v":1}]
[8175,1,1884,7940,null,"2011-05-20T22:23:03",null,null,3,{"$f":"COUNTIF(top10Usrs[Top 10 Posters],tblPosts[[#This Row],[poster_id]])","v":0}]
[8187,1,1784,7410,null,"2011-05-23T10:01:25",null,null,12,{"$f":"COUNTIF(top10Usrs[Top 10 Posters],tblPosts[[#This Row],[poster_id]])","v":0}]
[8199,1,1891,6998,null,"2011-05-23T13:16:46",null,null,2,{"$f":"COUNTIF(top10Usrs[Top 10 Posters],tblPosts[[#This Row],[poster_id]])","v":1}]
[8206,1,1894,7262,null,"2011-05-23T20:51:06",null,null,1,{"$f":"COUNTIF(top10Usrs[Top 10 Posters],tblPosts[[#This Row],[poster_id]])","v":0}]
[8212,1,1892,7306,null,"2011-05-24T07:50:19",null,null,3,{"$f":"COUNTIF(top10Usrs[Top 10 Posters],tblPosts[[#This Row],[poster_id]])","v":0}]
[8220,1,1894,7262,null,"2011-05-24T14:39:59",null,null,3,{"$f":"COUNTIF(top10Usrs[Top 10 Posters],tblPosts[[#This Row],[poster_id]])","v":0}]
[8227,1,1897,7762,null,"2011-05-24T18:03:50",null,null,1,{"$f":"COUNTIF(top10Usrs[Top 10 Posters],tblPosts[[#This Row],[poster_id]])","v":0}]
[8239,1,1902,7898,null,"2011-05-25T07:13:22",null,null,2,{"$f":"COUNTIF(top10Usrs[Top 10 Posters],tblPosts[[#This Row],[poster_id]])","v":0}]
[8246,1,1905,7939,null,"2011-05-25T18:44:06",null,null,1,{"$f":"COUNTIF(top10Usrs[Top 10 Posters],tblPosts[[#This Row],[poster_id]])","v":0}]
[8258,7,1903,6998,null,"2011-05-26T12:41:47",null,null,4,{"$f":"COUNTIF(top10Usrs[Top 10 Posters],tblPosts[[#This Row],[poster_id]])","v":1}]
[8270,1,1909,6998,null,"2011-05-26T16:42:42",null,null,2,{"$f":"COUNTIF(top10Usrs[Top 10 Posters],tblPosts[[#This Row],[poster_id]])","v":1}]
[8277,1,1868,7914,null,"2011-05-26T19:07:01",null,null,5,{"$f":"COUNTIF(top10Usrs[Top 10 Posters],tblPosts[[#This Row],[poster_id]])","v":0}]
[8280,1,1910,7802,null,"2011-05-26T20:38:02",null,null,3,{"$f":"COUNTIF(top10Usrs[Top 10 Posters],tblPosts[[#This Row],[poster_id]])","v":0}]
[8296,1,1917,7762,null,"2011-05-27T15:19:44",null,null,5,{"$f":"COUNTIF(top10Usrs[Top 10 Posters],tblPosts[[#This Row],[poster_id]])","v":0}]
[8303,1,1918,6713,null,"2011-05-27T18:02:02",null,null,2,{"$f":"COUNTIF(top10Usrs[Top 10 Posters],tblPosts[[#This Row],[poster_id]])","v":0}]
[8310,1,1917,7762,null,"2011-05-27T19:53:30",null,null,7,{"$f":"COUNTIF(top10Usrs[Top 10 Posters],tblPosts[[#This Row],[poster_id]])","v":0}]
[8317,1,1924,7975,null,"2011-05-28T15:35:46",null,null,1,{"$f":"COUNTIF(top10Usrs[Top 10 Posters],tblPosts[[#This Row],[poster_id]])","v":0}]
[8329,7,1929,7898,null,"2011-05-30T13:57:05",null,null,3,{"$f":"COUNTIF(top10Usrs[Top 10 Posters],tblPosts[[#This Row],[poster_id]])","v":0}]
[8341,1,1900,6779,null,"2011-05-30T21:41:36",null,null,5,{"$f":"COUNTIF(top10Usrs[Top 10 Posters],tblPosts[[#This Row],[poster_id]])","v":1}]
[8348,7,1929,7898,null,"2011-05-31T07:15:54",null,null,9,{"$f":"COUNTIF(top10Usrs[Top 10 Posters],tblPosts[[#This Row],[poster_id]])","v":0}]
[8351,1,1933,7987,null,"2011-05-31T09:19:18",null,null,3,{"$f":"COUNTIF(top10Usrs[Top 10 Posters],tblPosts[[#This Row],[poster_id]])","v":0}]
[8367,1,1917,7993,null,"2011-06-01T04:10:42",null,null,8,{"$f":"COUNTIF(top10Usrs[Top 10 Posters],tblPosts[[#This Row],[poster_id]])","v":0}]
[8370,1,1936,7990,null,"2011-06-01T11:02:57",null,null,1,{"$f":"COUNTIF(top10Usrs[Top 10 Posters],tblPosts[[#This Row],[poster_id]])","v":0}]
[8384,1,1937,7994,null,"2011-06-01T13:50:58",null,null,11,{"$f":"COUNTIF(top10Usrs[Top 10 Posters],tblPosts[[#This Row],[poster_id]])","v":0}]
[8388,1,1937,7994,null,"2011-06-01T14:27:30",null,null,13,{"$f":"COUNTIF(top10Usrs[Top 10 Posters],tblPosts[[#This Row],[poster_id]])","v":0}]
[8400,1,1939,24,null,"2011-06-02T07:14:10",null,null,2,{"$f":"COUNTIF(top10Usrs[Top 10 Posters],tblPosts[[#This Row],[poster_id]])","v":1}]
[8407,1,1939,6998,null,"2011-06-02T14:58:12",null,null,6,{"$f":"COUNTIF(top10Usrs[Top 10 Posters],tblPosts[[#This Row],[poster_id]])","v":1}]
[8419,1,1941,1,null,"2011-06-03T06:01:34",null,null,2,{"$f":"COUNTIF(top10Usrs[Top 10 Posters],tblPosts[[#This Row],[poster_id]])","v":1}]
[8422,1,1944,1,null,"2011-06-03T07:30:18",null,null,3,{"$f":"COUNTIF(top10Usrs[Top 10 Posters],tblPosts[[#This Row],[poster_id]])","v":1}]
[8438,1,1946,6998,null,"2011-06-03T15:14:49",null,null,2,{"$f":"COUNTIF(top10Usrs[Top 10 Posters],tblPosts[[#This Row],[poster_id]])","v":1}]
[8441,1,1948,6998,null,"2011-06-03T15:45:55",null,null,3,{"$f":"COUNTIF(top10Usrs[Top 10 Posters],tblPosts[[#This Row],[poster_id]])","v":1}]
[8453,1,1950,24,null,"2011-06-04T01:18:15",null,null,2,{"$f":"COUNTIF(top10Usrs[Top 10 Posters],tblPosts[[#This Row],[poster_id]])","v":1}]
[8460,1,1951,24,null,"2011-06-04T08:59:12",null,null,4,{"$f":"COUNTIF(top10Usrs[Top 10 Posters],tblPosts[[#This Row],[poster_id]])","v":1}]
[8467,1,1951,8001,null,"2011-06-04T10:47:33",null,null,5,{"$f":"COUNTIF(top10Usrs[Top 10 Posters],tblPosts[[#This Row],[poster_id]])","v":0}]
[8478,1,1955,8001,null,"2011-06-04T17:44:28",null,null,1,{"$f":"COUNTIF(top10Usrs[Top 10 Posters],tblPosts[[#This Row],[poster_id]])","v":0}]
[8490,1,1952,24,null,"2011-06-05T02:54:29",null,null,4,{"$f":"COUNTIF(top10Usrs[Top 10 Posters],tblPosts[[#This Row],[poster_id]])","v":1}]
[8493,1,1956,7974,null,"2011-06-05T09:10:45",null,null,8,{"$f":"COUNTIF(top10Usrs[Top 10 Posters],tblPosts[[#This Row],[poster_id]])","v":0}]
[8509,1,1961,5408,null,"2011-06-06T12:05:01",null,null,2,{"$f":"COUNTIF(top10Usrs[Top 10 Posters],tblPosts[[#This Row],[poster_id]])","v":1}]
[8512,1,1961,7974,null,"2011-06-06T12:13:32",null,null,3,{"$f":"COUNTIF(top10Usrs[Top 10 Posters],tblPosts[[#This Row],[poster_id]])","v":0}]
[8524,1,1962,7729,null,"2011-06-06T18:27:17",null,null,1,{"$f":"COUNTIF(top10Usrs[Top 10 Posters],tblPosts[[#This Row],[poster_id]])","v":0}]
[8531,1,1952,24,null,"2011-06-07T00:57:53",null,null,12,{"$f":"COUNTIF(top10Usrs[Top 10 Posters],tblPosts[[#This Row],[poster_id]])","v":1}]
[8543,1,1967,6998,null,"2011-06-07T14:07:56",null,null,2,{"$f":"COUNTIF(top10Usrs[Top 10 Posters],tblPosts[[#This Row],[poster_id]])","v":1}]
[8548,2,1971,8016,null,"2011-06-07T18:04:59",null,null,1,{"$f":"COUNTIF(top10Usrs[Top 10 Posters],tblPosts[[#This Row],[poster_id]])","v":0}]
[8561,1,1973,7919,null,"2011-06-07T21:54:09",null,null,3,{"$f":"COUNTIF(top10Usrs[Top 10 Posters],tblPosts[[#This Row],[poster_id]])","v":0}]
[8564,1,1973,24,null,"2011-06-08T00:22:37",null,null,4,{"$f":"COUNTIF(top10Usrs[Top 10 Posters],tblPosts[[#This Row],[poster_id]])","v":1}]
[8580,1,1979,7996,null,"2011-06-08T13:01:34",null,null,1,{"$f":"COUNTIF(top10Usrs[Top 10 Posters],tblPosts[[#This Row],[poster_id]])","v":0}]
[8583,1,1979,6998,null,"2011-06-08T14:02:20",null,null,3,{"$f":"COUNTIF(top10Usrs[Top 10 Posters],tblPosts[[#This Row],[poster_id]])","v":1}]
[8599,1,1975,5248,null,"2011-06-08T18:41:12",null,null,3,{"$f":"COUNTIF(top10Usrs[Top 10 Posters],tblPosts[[#This Row],[poster_id]])","v":0}]
[8602,1,1978,6998,null,"2011-06-08T20:09:22",null,null,8,{"$f":"COUNTIF(top10Usrs[Top 10 Posters],tblPosts[[#This Row],[poster_id]])","v":1}]
[8614,4,1984,24,null,"2011-06-09T07:33:16",null,null,1,{"$f":"COUNTIF(top10Usrs[Top 10 Posters],tblPosts[[#This Row],[poster_id]])","v":1}]
[8621,1,1983,2865,null,"2011-06-09T12:19:39",null,null,6,{"$f":"COUNTIF(top10Usrs[Top 10 Posters],tblPosts[[#This Row],[poster_id]])","v":0}]
[8633,1,1983,8025,null,"2011-06-09T18:00:10",null,null,7,{"$f":"COUNTIF(top10Usrs[Top 10 Posters],tblPosts[[#This Row],[poster_id]])","v":0}]
[8639,1,1983,24,null,"2011-06-09T21:33:30",null,null,13,{"$f":"COUNTIF(top10Usrs[Top 10 Posters],tblPosts[[#This Row],[poster_id]])","v":1}]
[8651,1,1983,24,null,"2011-06-10T09:42:14",null,null,16,{"$f":"COUNTIF(top10Usrs[Top 10 Posters],tblPosts[[#This Row],[poster_id]])","v":1}]
[8654,6,1990,24,null,"2011-06-10T11:00:37",null,null,1,{"$f":"COUNTIF(top10Usrs[Top 10 Posters],tblPosts[[#This Row],[poster_id]])","v":1}]
[8670,1,1992,7939,null,"2011-06-11T03:21:31",null,null,1,{"$f":"COUNTIF(top10Usrs[Top 10 Posters],tblPosts[[#This Row],[poster_id]])","v":0}]
[8673,1,1993,24,null,"2011-06-11T12:00:48",null,null,2,{"$f":"COUNTIF(top10Usrs[Top 10 Posters],tblPosts[[#This Row],[poster_id]])","v":1}]
[8685,7,1996,6071,null,"2011-06-12T13:24:17",null,null,1,{"$f":"COUNTIF(top10Usrs[Top 10 Posters],tblPosts[[#This Row],[poster_id]])","v":0}]
[8692,7,1996,24,null,"2011-06-13T07:07:49",null,null,8,{"$f":"COUNTIF(top10Usrs[Top 10 Posters],tblPosts[[#This Row],[poster_id]])","v":1}]
[8704,1,1997,8035,null,"2011-06-13T15:13:44",null,null,6,{"$f":"COUNTIF(top10Usrs[Top 10 Posters],tblPosts[[#This Row],[poster_id]])","v":0}]
[8711,1,2003,7996,null,"2011-06-14T11:26:57",null,null,1,{"$f":"COUNTIF(top10Usrs[Top 10 Posters],tblPosts[[#This Row],[poster_id]])","v":0}]
[8720,1,2003,24,null,"2011-06-14T12:45:34",null,null,4,{"$f":"COUNTIF(top10Usrs[Top 10 Posters],tblPosts[[#This Row],[poster_id]])","v":1}]
[8725,1,2003,24,null,"2011-06-14T13:36:46",null,null,8,{"$f":"COUNTIF(top10Usrs[Top 10 Posters],tblPosts[[#This Row],[poster_id]])","v":1}]
[8741,7,2008,24,null,"2011-06-15T00:20:13",null,null,3,{"$f":"COUNTIF(top10Usrs[Top 10 Posters],tblPosts[[#This Row],[poster_id]])","v":1}]
[8744,1,1998,6389,null,"2011-06-15T07:28:40",null,null,3,{"$f":"COUNTIF(top10Usrs[Top 10 Posters],tblPosts[[#This Row],[poster_id]])","v":0}]
[8756,1,2014,6925,null,"2011-06-15T19:52:41",null,null,2,{"$f":"COUNTIF(top10Usrs[Top 10 Posters],tblPosts[[#This Row],[poster_id]])","v":1}]
[8763,1,599,7885,null,"2011-06-15T20:46:56",null,null,12,{"$f":"COUNTIF(top10Usrs[Top 10 Posters],tblPosts[[#This Row],[poster_id]])","v":0}]
[8775,1,2017,6998,null,"2011-06-16T14:22:20",null,null,3,{"$f":"COUNTIF(top10Usrs[Top 10 Posters],tblPosts[[#This Row],[poster_id]])","v":1}]
[8782,3,2015,6998,null,"2011-06-16T20:20:34",null,null,4,{"$f":"COUNTIF(top10Usrs[Top 10 Posters],tblPosts[[#This Row],[poster_id]])","v":1}]
[8794,1,2022,6998,null,"2011-06-17T12:15:21",null,null,2,{"$f":"COUNTIF(top10Usrs[Top 10 Posters],tblPosts[[#This Row],[poster_id]])","v":1}]
[8797,1,2024,8050,null,"2011-06-17T12:42:02",null,null,1,{"$f":"COUNTIF(top10Usrs[Top 10 Posters],tblPosts[[#This Row],[poster_id]])","v":0}]
[8811,1,1999,8036,null,"2011-06-17T14:50:20",null,null,3,{"$f":"COUNTIF(top10Usrs[Top 10 Posters],tblPosts[[#This Row],[poster_id]])","v":0}]
[8815,3,2015,8051,null,"2011-06-17T17:35:11",null,null,7,{"$f":"COUNTIF(top10Usrs[Top 10 Posters],tblPosts[[#This Row],[poster_id]])","v":0}]
[8827,3,2015,6998,null,"2011-06-17T20:07:10",null,null,10,{"$f":"COUNTIF(top10Usrs[Top 10 Posters],tblPosts[[#This Row],[poster_id]])","v":1}]
[8834,1,2030,8066,null,"2011-06-18T03:57:09",null,null,0,{"$f":"COUNTIF(top10Usrs[Top 10 Posters],tblPosts[[#This Row],[poster_id]])","v":0}]
[8846,1,2035,5408,null,"2011-06-19T04:31:34",null,null,3,{"$f":"COUNTIF(top10Usrs[Top 10 Posters],tblPosts[[#This Row],[poster_id]])","v":1}]
[8853,1,2037,7974,null,"2011-06-19T14:49:40",null,null,3,{"$f":"COUNTIF(top10Usrs[Top 10 Posters],tblPosts[[#This Row],[poster_id]])","v":0}]
[8865,7,2033,6998,null,"2011-06-20T15:38:38",null,null,2,{"$f":"COUNTIF(top10Usrs[Top 10 Posters],tblPosts[[#This Row],[poster_id]])","v":1}]
[8868,1,2040,6821,null,"2011-06-20T17:32:19",null,null,1,{"$f":"COUNTIF(top10Usrs[Top 10 Posters],tblPosts[[#This Row],[poster_id]])","v":1}]
[8884,1,2046,8050,null,"2011-06-21T12:59:30",null,null,1,{"$f":"COUNTIF(top10Usrs[Top 10 Posters],tblPosts[[#This Row],[poster_id]])","v":0}]
[8887,1,2046,8050,null,"2011-06-21T13:23:45",null,null,3,{"$f":"COUNTIF(top10Usrs[Top 10 Posters],tblPosts[[#This Row],[poster_id]])","v":0}]
[8894,1,2034,8013,null,"2011-06-21T15:50:18",null,null,3,{"$f":"COUNTIF(top10Usrs[Top 10 Posters],tblPosts[[#This Row],[poster_id]])","v":0}]
[8905,7,2033,6998,null,"2011-06-21T17:10:31",null,null,8,{"$f":"COUNTIF(top10Usrs[Top 10 Posters],tblPosts[[#This Row],[poster_id]])","v":1}]
[8917,1,2046,6998,null,"2011-06-21T19:23:55",null,null,10,{"$f":"COUNTIF(top10Usrs[Top 10 Posters],tblPosts[[#This Row],[poster_id]])","v":1}]
[8924,1,2053,6998,null,"2011-06-21T20:10:11",null,null,2,{"$f":"COUNTIF(top10Usrs[Top 10 Posters],tblPosts[[#This Row],[poster_id]])","v":1}]
[8936,1,2043,6779,null,"2011-06-22T01:14:27",null,null,5,{"$f":"COUNTIF(top10Usrs[Top 10 Posters],tblPosts[[#This Row],[poster_id]])","v":1}]
[8939,1,2049,24,null,"2011-06-22T09:15:06",null,null,7,{"$f":"COUNTIF(top10Usrs[Top 10 Posters],tblPosts[[#This Row],[poster_id]])","v":1}]
[8955,1,2058,8092,null,"2011-06-22T13:37:55",null,null,1,{"$f":"COUNTIF(top10Usrs[Top 10 Posters],tblPosts[[#This Row],[poster_id]])","v":0}]
[8958,1,2055,8051,null,"2011-06-22T14:04:53",null,null,9,{"$f":"COUNTIF(top10Usrs[Top 10 Posters],tblPosts[[#This Row],[poster_id]])","v":0}]
[8965,1,2059,2865,null,"2011-06-22T14:57:36",null,null,1,{"$f":"COUNTIF(top10Usrs[Top 10 Posters],tblPosts[[#This Row],[poster_id]])","v":0}]
[8975,1,2058,24,null,"2011-06-22T23:53:40",null,null,4,{"$f":"COUNTIF(top10Usrs[Top 10 Posters],tblPosts[[#This Row],[poster_id]])","v":1}]
[8988,1,2062,6998,null,"2011-06-23T12:52:53",null,null,2,{"$f":"COUNTIF(top10Usrs[Top 10 Posters],tblPosts[[#This Row],[poster_id]])","v":1}]
[8995,1,966,6998,null,"2011-06-23T13:55:48",null,null,5,{"$f":"COUNTIF(top10Usrs[Top 10 Posters],tblPosts[[#This Row],[poster_id]])","v":1}]
[9007,1,2066,6998,null,"2011-06-23T20:18:26",null,null,2,{"$f":"COUNTIF(top10Usrs[Top 10 Posters],tblPosts[[#This Row],[poster_id]])","v":1}]
[9010,1,2067,8097,null,"2011-06-23T20:30:00",null,null,1,{"$f":"COUNTIF(top10Usrs[Top 10 Posters],tblPosts[[#This Row],[poster_id]])","v":0}]
[9026,1,2069,6998,null,"2011-06-24T13:42:30",null,null,2,{"$f":"COUNTIF(top10Usrs[Top 10 Posters],tblPosts[[#This Row],[poster_id]])","v":1}]
[9029,1,2069,6998,null,"2011-06-24T14:27:49",null,null,4,{"$f":"COUNTIF(top10Usrs[Top 10 Posters],tblPosts[[#This Row],[poster_id]])","v":1}]
[9036,1,2067,6925,null,"2011-06-24T16:32:27",null,null,5,{"$f":"COUNTIF(top10Usrs[Top 10 Posters],tblPosts[[#This Row],[poster_id]])","v":1}]
[9048,1,2060,7914,null,"2011-06-24T20:56:50",null,null,9,{"$f":"COUNTIF(top10Usrs[Top 10 Posters],tblPosts[[#This Row],[poster_id]])","v":0}]
[9060,1,2077,2865,null,"2011-06-25T20:14:13",null,null,2,{"$f":"COUNTIF(top10Usrs[Top 10 Posters],tblPosts[[#This Row],[poster_id]])","v":0}]
[9066,1,1450,24,null,"2011-06-26T02:28:47",null,null,8,{"$f":"COUNTIF(top10Usrs[Top 10 Posters],tblPosts[[#This Row],[poster_id]])","v":1}]
[9078,1,2079,24,null,"2011-06-27T00:04:46",null,null,2,{"$f":"COUNTIF(top10Usrs[Top 10 Posters],tblPosts[[#This Row],[poster_id]])","v":1}]
[9085,7,2065,6938,null,"2011-06-27T12:51:38",null,null,8,{"$f":"COUNTIF(top10Usrs[Top 10 Posters],tblPosts[[#This Row],[poster_id]])","v":0}]
[9097,1,2084,24,null,"2011-06-28T00:29:03",null,null,2,{"$f":"COUNTIF(top10Usrs[Top 10 Posters],tblPosts[[#This Row],[poster_id]])","v":1}]
[9100,1,1450,6867,null,"2011-06-28T05:27:02",null,null,11,{"$f":"COUNTIF(top10Usrs[Top 10 Posters],tblPosts[[#This Row],[poster_id]])","v":0}]
[9107,7,2012,6531,null,"2011-06-28T15:04:07",null,null,3,{"$f":"COUNTIF(top10Usrs[Top 10 Posters],tblPosts[[#This Row],[poster_id]])","v":0}]
[9119,1,2089,7898,null,"2011-06-29T13:00:51",null,null,2,{"$f":"COUNTIF(top10Usrs[Top 10 Posters],tblPosts[[#This Row],[poster_id]])","v":0}]
[9131,1,2094,6938,null,"2011-06-29T18:43:29",null,null,1,{"$f":"COUNTIF(top10Usrs[Top 10 Posters],tblPosts[[#This Row],[poster_id]])","v":0}]
[9138,1,2092,8120,null,"2011-06-29T23:22:57",null,null,3,{"$f":"COUNTIF(top10Usrs[Top 10 Posters],tblPosts[[#This Row],[poster_id]])","v":0}]
[9147,1,2091,8116,null,"2011-06-30T02:28:50",null,null,5,{"$f":"COUNTIF(top10Usrs[Top 10 Posters],tblPosts[[#This Row],[poster_id]])","v":0}]
[9156,1,2043,24,null,"2011-06-30T12:57:53",null,null,9,{"$f":"COUNTIF(top10Usrs[Top 10 Posters],tblPosts[[#This Row],[poster_id]])","v":1}]
[9168,1,2100,8111,null,"2011-06-30T16:41:08",null,null,3,{"$f":"COUNTIF(top10Usrs[Top 10 Posters],tblPosts[[#This Row],[poster_id]])","v":0}]
[9171,1,769,8126,null,"2011-06-30T18:02:26",null,null,5,{"$f":"COUNTIF(top10Usrs[Top 10 Posters],tblPosts[[#This Row],[poster_id]])","v":0}]
[9178,1,2104,8111,null,"2011-07-01T08:36:27",null,null,2,{"$f":"COUNTIF(top10Usrs[Top 10 Posters],tblPosts[[#This Row],[poster_id]])","v":0}]
[9190,1,2108,8036,null,"2011-07-03T11:49:26",null,null,1,{"$f":"COUNTIF(top10Usrs[Top 10 Posters],tblPosts[[#This Row],[poster_id]])","v":0}]
[9197,1,2080,8105,null,"2011-07-04T04:02:35",null,null,3,{"$f":"COUNTIF(top10Usrs[Top 10 Posters],tblPosts[[#This Row],[poster_id]])","v":0}]
[9209,1,2111,7236,null,"2011-07-04T16:04:22",null,null,1,{"$f":"COUNTIF(top10Usrs[Top 10 Posters],tblPosts[[#This Row],[poster_id]])","v":0}]
[9221,1,2080,8105,null,"2011-07-05T10:06:16",null,null,8,{"$f":"COUNTIF(top10Usrs[Top 10 Posters],tblPosts[[#This Row],[poster_id]])","v":0}]
[9228,1,2118,8111,null,"2011-07-05T17:09:55",null,null,2,{"$f":"COUNTIF(top10Usrs[Top 10 Posters],tblPosts[[#This Row],[poster_id]])","v":0}]
[9238,1,2122,8069,null,"2011-07-06T07:51:07",null,null,1,{"$f":"COUNTIF(top10Usrs[Top 10 Posters],tblPosts[[#This Row],[poster_id]])","v":0}]
[9242,1,2120,24,null,"2011-07-06T08:47:44",null,null,2,{"$f":"COUNTIF(top10Usrs[Top 10 Posters],tblPosts[[#This Row],[poster_id]])","v":1}]
[9249,1,2119,24,null,"2011-07-06T12:54:02",null,null,2,{"$f":"COUNTIF(top10Usrs[Top 10 Posters],tblPosts[[#This Row],[poster_id]])","v":1}]
[9261,1,2124,7863,null,"2011-07-07T05:46:12",null,null,1,{"$f":"COUNTIF(top10Usrs[Top 10 Posters],tblPosts[[#This Row],[poster_id]])","v":0}]
[9268,1,2128,7802,null,"2011-07-07T15:17:18",null,null,1,{"$f":"COUNTIF(top10Usrs[Top 10 Posters],tblPosts[[#This Row],[poster_id]])","v":0}]
[9280,1,2106,8153,null,"2011-07-08T07:57:39",null,null,2,{"$f":"COUNTIF(top10Usrs[Top 10 Posters],tblPosts[[#This Row],[poster_id]])","v":0}]
[9292,1,2133,6821,null,"2011-07-09T01:34:25",null,null,1,{"$f":"COUNTIF(top10Usrs[Top 10 Posters],tblPosts[[#This Row],[poster_id]])","v":1}]
[9299,1,2131,5408,null,"2011-07-09T15:22:10",null,null,3,{"$f":"COUNTIF(top10Usrs[Top 10 Posters],tblPosts[[#This Row],[poster_id]])","v":1}]
[9311,1,2136,8174,null,"2011-07-11T00:58:05",null,null,1,{"$f":"COUNTIF(top10Usrs[Top 10 Posters],tblPosts[[#This Row],[poster_id]])","v":0}]
[9319,1,2123,6998,null,"2011-07-11T18:20:20",null,null,2,{"$f":"COUNTIF(top10Usrs[Top 10 Posters],tblPosts[[#This Row],[poster_id]])","v":1}]
[9320,1,2131,8160,null,"2011-07-11T18:31:12",null,null,5,{"$f":"COUNTIF(top10Usrs[Top 10 Posters],tblPosts[[#This Row],[poster_id]])","v":0}]
[9332,1,2131,8160,null,"2011-07-12T12:44:05",null,null,7,{"$f":"COUNTIF(top10Usrs[Top 10 Posters],tblPosts[[#This Row],[poster_id]])","v":0}]
[9339,1,2142,7524,null,"2011-07-12T17:51:51",null,null,1,{"$f":"COUNTIF(top10Usrs[Top 10 Posters],tblPosts[[#This Row],[poster_id]])","v":0}]
[9351,1,2143,6998,null,"2011-07-12T19:26:46",null,null,7,{"$f":"COUNTIF(top10Usrs[Top 10 Posters],tblPosts[[#This Row],[poster_id]])","v":1}]
[9363,7,2147,8189,null,"2011-07-13T09:17:01",null,null,1,{"$f":"COUNTIF(top10Usrs[Top 10 Posters],tblPosts[[#This Row],[poster_id]])","v":0}]
[9370,1,2062,6998,null,"2011-07-13T12:55:44",null,null,10,{"$f":"COUNTIF(top10Usrs[Top 10 Posters],tblPosts[[#This Row],[poster_id]])","v":1}]
[9382,1,2152,7524,null,"2011-07-13T15:17:10",null,null,1,{"$f":"COUNTIF(top10Usrs[Top 10 Posters],tblPosts[[#This Row],[poster_id]])","v":0}]
[9389,1,2151,6998,null,"2011-07-13T17:05:19",null,null,4,{"$f":"COUNTIF(top10Usrs[Top 10 Posters],tblPosts[[#This Row],[poster_id]])","v":1}]
[9392,1,2152,6998,null,"2011-07-13T17:17:21",null,null,3,{"$f":"COUNTIF(top10Usrs[Top 10 Posters],tblPosts[[#This Row],[poster_id]])","v":1}]
[9402,1,2143,8186,null,"2011-07-13T17:49:19",null,null,24,{"$f":"COUNTIF(top10Usrs[Top 10 Posters],tblPosts[[#This Row],[poster_id]])","v":0}]
[9410,1,2131,5408,null,"2011-07-14T04:35:44",null,null,10,{"$f":"COUNTIF(top10Usrs[Top 10 Posters],tblPosts[[#This Row],[poster_id]])","v":1}]
[9422,1,2131,8160,null,"2011-07-14T18:51:42",null,null,11,{"$f":"COUNTIF(top10Usrs[Top 10 Posters],tblPosts[[#This Row],[poster_id]])","v":0}]
[9434,1,2157,8001,null,"2011-07-15T12:16:53",null,null,3,{"$f":"COUNTIF(top10Usrs[Top 10 Posters],tblPosts[[#This Row],[poster_id]])","v":0}]
[9441,1,2159,8207,null,"2011-07-15T16:51:48",null,null,1,{"$f":"COUNTIF(top10Usrs[Top 10 Posters],tblPosts[[#This Row],[poster_id]])","v":0}]
[9453,1,2160,24,null,"2011-07-17T02:35:27",null,null,2,{"$f":"COUNTIF(top10Usrs[Top 10 Posters],tblPosts[[#This Row],[poster_id]])","v":1}]
[9460,1,2163,8211,null,"2011-07-18T12:26:46",null,null,1,{"$f":"COUNTIF(top10Usrs[Top 10 Posters],tblPosts[[#This Row],[poster_id]])","v":0}]
[9463,1,2131,8160,null,"2011-07-18T12:57:05",null,null,15,{"$f":"COUNTIF(top10Usrs[Top 10 Posters],tblPosts[[#This Row],[poster_id]])","v":0}]
[9475,1,2165,8186,null,"2011-07-18T18:39:00",null,null,7,{"$f":"COUNTIF(top10Usrs[Top 10 Posters],tblPosts[[#This Row],[poster_id]])","v":0}]
[9482,1,2165,8186,null,"2011-07-18T19:18:07",null,null,14,{"$f":"COUNTIF(top10Usrs[Top 10 Posters],tblPosts[[#This Row],[poster_id]])","v":0}]
[9493,1,2162,6821,null,"2011-07-19T03:36:05",null,null,4,{"$f":"COUNTIF(top10Usrs[Top 10 Posters],tblPosts[[#This Row],[poster_id]])","v":1}]
[9505,1,2171,6821,null,"2011-07-19T04:36:59",null,null,1,{"$f":"COUNTIF(top10Usrs[Top 10 Posters],tblPosts[[#This Row],[poster_id]])","v":1}]
[9511,1,2161,24,null,"2011-07-19T07:36:51",null,null,6,{"$f":"COUNTIF(top10Usrs[Top 10 Posters],tblPosts[[#This Row],[poster_id]])","v":1}]
[9524,1,2176,8223,null,"2011-07-19T16:57:58",null,null,1,{"$f":"COUNTIF(top10Usrs[Top 10 Posters],tblPosts[[#This Row],[poster_id]])","v":0}]
[9531,1,2161,24,null,"2011-07-20T02:52:35",null,null,8,{"$f":"COUNTIF(top10Usrs[Top 10 Posters],tblPosts[[#This Row],[poster_id]])","v":1}]
[9534,1,2178,5408,null,"2011-07-20T12:12:46",null,null,1,{"$f":"COUNTIF(top10Usrs[Top 10 Posters],tblPosts[[#This Row],[poster_id]])","v":1}]
[9546,1,2171,6998,null,"2011-07-21T12:33:17",null,null,6,{"$f":"COUNTIF(top10Usrs[Top 10 Posters],tblPosts[[#This Row],[poster_id]])","v":1}]
[9553,1,2183,6998,null,"2011-07-21T14:21:28",null,null,2,{"$f":"COUNTIF(top10Usrs[Top 10 Posters],tblPosts[[#This Row],[poster_id]])","v":1}]
[9565,1,2187,4654,null,"2011-07-22T13:44:59",null,null,1,{"$f":"COUNTIF(top10Usrs[Top 10 Posters],tblPosts[[#This Row],[poster_id]])","v":0}]
[9574,1,2188,24,null,"2011-07-24T09:54:03",null,null,6,{"$f":"COUNTIF(top10Usrs[Top 10 Posters],tblPosts[[#This Row],[poster_id]])","v":1}]
[9583,1,2187,6458,null,"2011-07-25T05:02:03",null,null,4,{"$f":"COUNTIF(top10Usrs[Top 10 Posters],tblPosts[[#This Row],[poster_id]])","v":0}]
[9595,7,2196,8247,null,"2011-07-25T14:07:24",null,null,1,{"$f":"COUNTIF(top10Usrs[Top 10 Posters],tblPosts[[#This Row],[poster_id]])","v":0}]
[9602,1,2187,6458,null,"2011-07-26T01:13:37",null,null,9,{"$f":"COUNTIF(top10Usrs[Top 10 Posters],tblPosts[[#This Row],[poster_id]])","v":0}]
[9605,1,2198,6821,null,"2011-07-26T04:33:35",null,null,1,{"$f":"COUNTIF(top10Usrs[Top 10 Posters],tblPosts[[#This Row],[poster_id]])","v":1}]
[9617,1,2201,6998,null,"2011-07-26T13:15:43",null,null,2,{"$f":"COUNTIF(top10Usrs[Top 10 Posters],tblPosts[[#This Row],[poster_id]])","v":1}]
[9624,7,2196,6458,null,"2011-07-27T01:11:39",null,null,7,{"$f":"COUNTIF(top10Usrs[Top 10 Posters],tblPosts[[#This Row],[poster_id]])","v":0}]
[9636,1,2205,6998,null,"2011-07-27T15:19:32",null,null,2,{"$f":"COUNTIF(top10Usrs[Top 10 Posters],tblPosts[[#This Row],[poster_id]])","v":1}]
[9643,1,2206,6821,null,"2011-07-27T17:00:08",null,null,4,{"$f":"COUNTIF(top10Usrs[Top 10 Posters],tblPosts[[#This Row],[poster_id]])","v":1}]
[9655,1,2206,6458,null,"2011-07-28T09:19:50",null,null,7,{"$f":"COUNTIF(top10Usrs[Top 10 Posters],tblPosts[[#This Row],[poster_id]])","v":0}]
[9665,1,2211,6998,null,"2011-07-29T14:01:22",null,null,2,{"$f":"COUNTIF(top10Usrs[Top 10 Posters],tblPosts[[#This Row],[poster_id]])","v":1}]
[9673,1,2211,24,null,"2011-07-29T23:36:31",null,null,4,{"$f":"COUNTIF(top10Usrs[Top 10 Posters],tblPosts[[#This Row],[poster_id]])","v":1}]
[9676,1,2215,24,null,"2011-07-30T00:53:01",null,null,3,{"$f":"COUNTIF(top10Usrs[Top 10 Posters],tblPosts[[#This Row],[poster_id]])","v":1}]
[9692,1,2220,176,null,"2011-07-31T10:44:11",null,null,1,{"$f":"COUNTIF(top10Usrs[Top 10 Posters],tblPosts[[#This Row],[poster_id]])","v":0}]
[9695,1,2221,6821,null,"2011-07-31T16:01:42",null,null,1,{"$f":"COUNTIF(top10Usrs[Top 10 Posters],tblPosts[[#This Row],[poster_id]])","v":1}]
[9707,1,2220,176,null,"2011-08-02T06:42:31",null,null,9,{"$f":"COUNTIF(top10Usrs[Top 10 Posters],tblPosts[[#This Row],[poster_id]])","v":0}]
[9714,1,2218,24,null,"2011-08-02T09:27:22",null,null,4,{"$f":"COUNTIF(top10Usrs[Top 10 Posters],tblPosts[[#This Row],[poster_id]])","v":1}]
[9726,1,2117,6938,null,"2011-08-02T18:22:03",null,null,5,{"$f":"COUNTIF(top10Usrs[Top 10 Posters],tblPosts[[#This Row],[poster_id]])","v":0}]
[9738,2,2231,7326,null,"2011-08-03T18:42:38",null,null,1,{"$f":"COUNTIF(top10Usrs[Top 10 Posters],tblPosts[[#This Row],[poster_id]])","v":0}]
[9746,1,2232,24,null,"2011-08-04T08:16:55",null,null,2,{"$f":"COUNTIF(top10Usrs[Top 10 Posters],tblPosts[[#This Row],[poster_id]])","v":1}]
[9747,1,2234,8221,null,"2011-08-04T08:17:16",null,null,3,{"$f":"COUNTIF(top10Usrs[Top 10 Posters],tblPosts[[#This Row],[poster_id]])","v":0}]
[9763,1,279,8305,null,"2011-08-05T04:39:56",null,null,7,{"$f":"COUNTIF(top10Usrs[Top 10 Posters],tblPosts[[#This Row],[poster_id]])","v":0}]
[9766,1,2238,8305,null,"2011-08-05T06:31:28",null,null,3,{"$f":"COUNTIF(top10Usrs[Top 10 Posters],tblPosts[[#This Row],[poster_id]])","v":0}]
[9778,1,2240,8161,null,"2011-08-06T23:53:36",null,null,2,{"$f":"COUNTIF(top10Usrs[Top 10 Posters],tblPosts[[#This Row],[poster_id]])","v":0}]
[9785,7,2243,8308,null,"2011-08-07T21:22:37",null,null,1,{"$f":"COUNTIF(top10Usrs[Top 10 Posters],tblPosts[[#This Row],[poster_id]])","v":0}]
[9797,7,2243,8308,null,"2011-08-08T13:55:02",null,null,3,{"$f":"COUNTIF(top10Usrs[Top 10 Posters],tblPosts[[#This Row],[poster_id]])","v":0}]
[9809,3,2251,6998,null,"2011-08-08T19:53:56",null,null,3,{"$f":"COUNTIF(top10Usrs[Top 10 Posters],tblPosts[[#This Row],[poster_id]])","v":1}]
[9816,7,2243,6458,null,"2011-08-09T01:11:18",null,null,4,{"$f":"COUNTIF(top10Usrs[Top 10 Posters],tblPosts[[#This Row],[poster_id]])","v":0}]
[9819,2,2254,7410,null,"2011-08-09T09:51:15",null,null,1,{"$f":"COUNTIF(top10Usrs[Top 10 Posters],tblPosts[[#This Row],[poster_id]])","v":0}]
[9829,7,2246,50,null,"2011-08-09T15:11:56",null,null,3,{"$f":"COUNTIF(top10Usrs[Top 10 Posters],tblPosts[[#This Row],[poster_id]])","v":0}]
[9837,1,2257,8320,null,"2011-08-09T17:05:15",null,null,1,{"$f":"COUNTIF(top10Usrs[Top 10 Posters],tblPosts[[#This Row],[poster_id]])","v":0}]
[9849,1,2256,6925,null,"2011-08-09T18:02:30",null,null,7,{"$f":"COUNTIF(top10Usrs[Top 10 Posters],tblPosts[[#This Row],[poster_id]])","v":1}]
[9856,7,2250,8315,null,"2011-08-09T21:08:51",null,null,5,{"$f":"COUNTIF(top10Usrs[Top 10 Posters],tblPosts[[#This Row],[poster_id]])","v":0}]
[9868,1,2260,7840,null,"2011-08-10T14:42:07",null,null,1,{"$f":"COUNTIF(top10Usrs[Top 10 Posters],tblPosts[[#This Row],[poster_id]])","v":0}]
[9875,1,2259,8315,null,"2011-08-10T18:04:05",null,null,3,{"$f":"COUNTIF(top10Usrs[Top 10 Posters],tblPosts[[#This Row],[poster_id]])","v":0}]
[9887,1,2262,6458,null,"2011-08-11T00:27:49",null,null,2,{"$f":"COUNTIF(top10Usrs[Top 10 Posters],tblPosts[[#This Row],[poster_id]])","v":0}]
[9890,1,2261,6458,null,"2011-08-11T00:58:23",null,null,6,{"$f":"COUNTIF(top10Usrs[Top 10 Posters],tblPosts[[#This Row],[poster_id]])","v":0}]
[9906,1,2265,6998,null,"2011-08-11T12:34:32",null,null,2,{"$f":"COUNTIF(top10Usrs[Top 10 Posters],tblPosts[[#This Row],[poster_id]])","v":1}]
[9910,1,2265,7016,null,"2011-08-11T13:43:22",null,null,5,{"$f":"COUNTIF(top10Usrs[Top 10 Posters],tblPosts[[#This Row],[poster_id]])","v":0}]
[9920,1,2259,8315,null,"2011-08-11T18:15:28",null,null,6,{"$f":"COUNTIF(top10Usrs[Top 10 Posters],tblPosts[[#This Row],[poster_id]])","v":0}]
[9927,1,2270,7914,null,"2011-08-11T20:08:56",null,null,4,{"$f":"COUNTIF(top10Usrs[Top 10 Posters],tblPosts[[#This Row],[poster_id]])","v":0}]
[9939,1,2272,8186,null,"2011-08-12T13:17:11",null,null,4,{"$f":"COUNTIF(top10Usrs[Top 10 Posters],tblPosts[[#This Row],[poster_id]])","v":0}]
[9946,1,2272,6998,null,"2011-08-12T14:54:39",null,null,8,{"$f":"COUNTIF(top10Usrs[Top 10 Posters],tblPosts[[#This Row],[poster_id]])","v":1}]
[9958,1,2273,6925,null,"2011-08-12T16:55:19",null,null,7,{"$f":"COUNTIF(top10Usrs[Top 10 Posters],tblPosts[[#This Row],[poster_id]])","v":1}]
[9961,1,2271,8315,null,"2011-08-13T00:16:38",null,null,4,{"$f":"COUNTIF(top10Usrs[Top 10 Posters],tblPosts[[#This Row],[poster_id]])","v":0}]
[9977,1,2259,24,null,"2011-08-14T03:26:19",null,null,13,{"$f":"COUNTIF(top10Usrs[Top 10 Posters],tblPosts[[#This Row],[poster_id]])","v":1}]
[9980,1,2278,6779,null,"2011-08-14T07:48:54",null,null,1,{"$f":"COUNTIF(top10Usrs[Top 10 Posters],tblPosts[[#This Row],[poster_id]])","v":1}]
[9996,1,2281,6998,null,"2011-08-15T14:41:34",null,null,2,{"$f":"COUNTIF(top10Usrs[Top 10 Posters],tblPosts[[#This Row],[poster_id]])","v":1}]
[10001,1,2280,7845,null,"2011-08-15T19:04:28",null,null,3,{"$f":"COUNTIF(top10Usrs[Top 10 Posters],tblPosts[[#This Row],[poster_id]])","v":0}]
[10010,1,2281,8357,null,"2011-08-16T14:27:27",null,null,9,{"$f":"COUNTIF(top10Usrs[Top 10 Posters],tblPosts[[#This Row],[poster_id]])","v":0}]
[10017,7,2283,8361,null,"2011-08-16T16:14:27",null,null,1,{"$f":"COUNTIF(top10Usrs[Top 10 Posters],tblPosts[[#This Row],[poster_id]])","v":0}]
[10029,1,2284,8315,null,"2011-08-16T21:10:54",null,null,5,{"$f":"COUNTIF(top10Usrs[Top 10 Posters],tblPosts[[#This Row],[poster_id]])","v":0}]
[10032,1,2284,24,null,"2011-08-17T00:01:20",null,null,7,{"$f":"COUNTIF(top10Usrs[Top 10 Posters],tblPosts[[#This Row],[poster_id]])","v":1}]
[10048,1,2290,8374,null,"2011-08-17T10:23:36",null,null,1,{"$f":"COUNTIF(top10Usrs[Top 10 Posters],tblPosts[[#This Row],[poster_id]])","v":0}]
[10050,1,2287,8370,null,"2011-08-17T10:55:24",null,null,6,{"$f":"COUNTIF(top10Usrs[Top 10 Posters],tblPosts[[#This Row],[poster_id]])","v":0}]
[10067,1,2272,6998,null,"2011-08-17T17:16:36",null,null,10,{"$f":"COUNTIF(top10Usrs[Top 10 Posters],tblPosts[[#This Row],[poster_id]])","v":1}]
[10070,1,2296,8376,null,"2011-08-17T18:19:28",null,null,1,{"$f":"COUNTIF(top10Usrs[Top 10 Posters],tblPosts[[#This Row],[poster_id]])","v":0}]
[10082,1,2259,8315,null,"2011-08-18T00:10:35",null,null,22,{"$f":"COUNTIF(top10Usrs[Top 10 Posters],tblPosts[[#This Row],[poster_id]])","v":0}]
[10092,1,2299,8383,null,"2011-08-18T07:36:12",null,null,1,{"$f":"COUNTIF(top10Usrs[Top 10 Posters],tblPosts[[#This Row],[poster_id]])","v":0}]
[10100,1,2301,6998,null,"2011-08-18T12:32:14",null,null,2,{"$f":"COUNTIF(top10Usrs[Top 10 Posters],tblPosts[[#This Row],[poster_id]])","v":1}]
[10103,1,2302,8234,null,"2011-08-18T13:32:48",null,null,1,{"$f":"COUNTIF(top10Usrs[Top 10 Posters],tblPosts[[#This Row],[poster_id]])","v":0}]
[10119,3,2306,8315,null,"2011-08-19T00:26:19",null,null,1,{"$f":"COUNTIF(top10Usrs[Top 10 Posters],tblPosts[[#This Row],[poster_id]])","v":0}]
[10122,1,2298,8315,null,"2011-08-19T00:57:34",null,null,6,{"$f":"COUNTIF(top10Usrs[Top 10 Posters],tblPosts[[#This Row],[poster_id]])","v":0}]
[10138,1,2309,6779,null,"2011-08-19T04:58:51",null,null,3,{"$f":"COUNTIF(top10Usrs[Top 10 Posters],tblPosts[[#This Row],[poster_id]])","v":1}]
[10141,1,2308,6779,null,"2011-08-19T05:13:54",null,null,3,{"$f":"COUNTIF(top10Usrs[Top 10 Posters],tblPosts[[#This Row],[poster_id]])","v":1}]
[10153,1,2311,8373,null,"2011-08-19T09:44:12",null,null,3,{"$f":"COUNTIF(top10Usrs[Top 10 Posters],tblPosts[[#This Row],[poster_id]])","v":0}]
[10160,1,2311,6998,null,"2011-08-19T13:57:34",null,null,6,{"$f":"COUNTIF(top10Usrs[Top 10 Posters],tblPosts[[#This Row],[poster_id]])","v":1}]
[10173,3,2306,24,null,"2011-08-21T05:54:12",null,null,9,{"$f":"COUNTIF(top10Usrs[Top 10 Posters],tblPosts[[#This Row],[poster_id]])","v":1}]
[10178,1,2318,6458,null,"2011-08-22T08:27:04",null,null,2,{"$f":"COUNTIF(top10Usrs[Top 10 Posters],tblPosts[[#This Row],[poster_id]])","v":0}]
[10190,1,2320,6998,null,"2011-08-22T13:53:51",null,null,2,{"$f":"COUNTIF(top10Usrs[Top 10 Posters],tblPosts[[#This Row],[poster_id]])","v":1}]
[10193,1,2317,24,null,"2011-08-22T14:27:35",null,null,6,{"$f":"COUNTIF(top10Usrs[Top 10 Posters],tblPosts[[#This Row],[poster_id]])","v":1}]
[10209,1,2318,6458,null,"2011-08-23T01:17:36",null,null,6,{"$f":"COUNTIF(top10Usrs[Top 10 Posters],tblPosts[[#This Row],[poster_id]])","v":0}]
[10212,3,2306,8315,null,"2011-08-23T04:44:53",null,null,10,{"$f":"COUNTIF(top10Usrs[Top 10 Posters],tblPosts[[#This Row],[poster_id]])","v":0}]
[10224,1,2323,7729,null,"2011-08-23T18:09:39",null,null,3,{"$f":"COUNTIF(top10Usrs[Top 10 Posters],tblPosts[[#This Row],[poster_id]])","v":0}]
[10231,1,2325,8410,null,"2011-08-23T19:50:44",null,null,3,{"$f":"COUNTIF(top10Usrs[Top 10 Posters],tblPosts[[#This Row],[poster_id]])","v":0}]
[10243,1,2325,8410,null,"2011-08-24T13:49:48",null,null,8,{"$f":"COUNTIF(top10Usrs[Top 10 Posters],tblPosts[[#This Row],[poster_id]])","v":0}]
[10250,1,2330,7840,null,"2011-08-24T19:52:26",null,null,2,{"$f":"COUNTIF(top10Usrs[Top 10 Posters],tblPosts[[#This Row],[poster_id]])","v":0}]
[10256,1,2331,24,null,"2011-08-25T00:48:25",null,null,4,{"$f":"COUNTIF(top10Usrs[Top 10 Posters],tblPosts[[#This Row],[poster_id]])","v":1}]
[10264,1,2335,8429,null,"2011-08-25T13:59:45",null,null,1,{"$f":"COUNTIF(top10Usrs[Top 10 Posters],tblPosts[[#This Row],[poster_id]])","v":0}]
[10280,7,2340,24,null,"2011-08-26T11:43:57",null,null,4,{"$f":"COUNTIF(top10Usrs[Top 10 Posters],tblPosts[[#This Row],[poster_id]])","v":1}]
[10283,1,2338,6998,null,"2011-08-26T13:41:12",null,null,2,{"$f":"COUNTIF(top10Usrs[Top 10 Posters],tblPosts[[#This Row],[poster_id]])","v":1}]
[10295,7,2343,8432,null,"2011-08-27T19:35:23",null,null,1,{"$f":"COUNTIF(top10Usrs[Top 10 Posters],tblPosts[[#This Row],[poster_id]])","v":0}]
[10302,1,2345,24,null,"2011-08-28T01:15:01",null,null,2,{"$f":"COUNTIF(top10Usrs[Top 10 Posters],tblPosts[[#This Row],[poster_id]])","v":1}]
[10314,1,2346,24,null,"2011-08-28T23:55:30",null,null,2,{"$f":"COUNTIF(top10Usrs[Top 10 Posters],tblPosts[[#This Row],[poster_id]])","v":1}]
[10321,4,2,8456,null,"2011-08-29T11:16:55",null,null,145,{"$f":"COUNTIF(top10Usrs[Top 10 Posters],tblPosts[[#This Row],[poster_id]])","v":0}]
[10333,7,2352,24,null,"2011-08-29T23:36:30",null,null,2,{"$f":"COUNTIF(top10Usrs[Top 10 Posters],tblPosts[[#This Row],[poster_id]])","v":1}]
[10337,1,2356,6542,null,"2011-08-30T05:52:40",null,null,1,{"$f":"COUNTIF(top10Usrs[Top 10 Posters],tblPosts[[#This Row],[poster_id]])","v":0}]
[10351,1,2358,6925,null,"2011-08-30T17:19:02",null,null,2,{"$f":"COUNTIF(top10Usrs[Top 10 Posters],tblPosts[[#This Row],[poster_id]])","v":1}]
[10354,1,2293,6998,null,"2011-08-30T17:59:32",null,null,10,{"$f":"COUNTIF(top10Usrs[Top 10 Posters],tblPosts[[#This Row],[poster_id]])","v":1}]
[10361,1,2361,8466,null,"2011-08-31T00:31:38",null,null,1,{"$f":"COUNTIF(top10Usrs[Top 10 Posters],tblPosts[[#This Row],[poster_id]])","v":0}]
[10373,1,2362,6998,null,"2011-08-31T14:28:19",null,null,5,{"$f":"COUNTIF(top10Usrs[Top 10 Posters],tblPosts[[#This Row],[poster_id]])","v":1}]
[10385,1,2273,6998,null,"2011-08-31T18:03:18",null,null,12,{"$f":"COUNTIF(top10Usrs[Top 10 Posters],tblPosts[[#This Row],[poster_id]])","v":1}]
[10392,1,2362,24,null,"2011-09-01T08:48:57",null,null,11,{"$f":"COUNTIF(top10Usrs[Top 10 Posters],tblPosts[[#This Row],[poster_id]])","v":1}]
[10404,1,2368,8477,null,"2011-09-01T15:15:00",null,null,3,{"$f":"COUNTIF(top10Usrs[Top 10 Posters],tblPosts[[#This Row],[poster_id]])","v":0}]
[10407,1,2368,24,null,"2011-09-01T15:21:30",null,null,4,{"$f":"COUNTIF(top10Usrs[Top 10 Posters],tblPosts[[#This Row],[poster_id]])","v":1}]
[10423,1,2370,6998,null,"2011-09-02T14:16:08",null,null,2,{"$f":"COUNTIF(top10Usrs[Top 10 Posters],tblPosts[[#This Row],[poster_id]])","v":1}]
[10428,1,2372,7729,null,"2011-09-02T15:47:15",null,null,1,{"$f":"COUNTIF(top10Usrs[Top 10 Posters],tblPosts[[#This Row],[poster_id]])","v":0}]
[10432,1,2373,6801,null,"2011-09-02T19:27:37",null,null,1,{"$f":"COUNTIF(top10Usrs[Top 10 Posters],tblPosts[[#This Row],[poster_id]])","v":0}]
[10444,1,2376,8493,null,"2011-09-03T05:14:01",null,null,1,{"$f":"COUNTIF(top10Usrs[Top 10 Posters],tblPosts[[#This Row],[poster_id]])","v":0}]
[10456,1,2380,8496,null,"2011-09-04T14:32:53",null,null,2,{"$f":"COUNTIF(top10Usrs[Top 10 Posters],tblPosts[[#This Row],[poster_id]])","v":0}]
[10463,1,2380,6922,null,"2011-09-04T17:11:57",null,null,3,{"$f":"COUNTIF(top10Usrs[Top 10 Posters],tblPosts[[#This Row],[poster_id]])","v":0}]
[10475,1,2388,6909,null,"2011-09-05T02:18:34",null,null,1,{"$f":"COUNTIF(top10Usrs[Top 10 Posters],tblPosts[[#This Row],[poster_id]])","v":0}]
[10482,1,2389,8502,null,"2011-09-05T09:44:33",null,null,1,{"$f":"COUNTIF(top10Usrs[Top 10 Posters],tblPosts[[#This Row],[poster_id]])","v":0}]
[10494,1,2392,8470,null,"2011-09-06T13:00:26",null,null,4,{"$f":"COUNTIF(top10Usrs[Top 10 Posters],tblPosts[[#This Row],[poster_id]])","v":0}]
[10497,1,2372,24,null,"2011-09-06T13:43:29",null,null,4,{"$f":"COUNTIF(top10Usrs[Top 10 Posters],tblPosts[[#This Row],[poster_id]])","v":1}]
[10509,1,2395,24,null,"2011-09-07T05:01:01",null,null,2,{"$f":"COUNTIF(top10Usrs[Top 10 Posters],tblPosts[[#This Row],[poster_id]])","v":1}]
[10515,1,2397,24,null,"2011-09-07T12:51:18",null,null,2,{"$f":"COUNTIF(top10Usrs[Top 10 Posters],tblPosts[[#This Row],[poster_id]])","v":1}]
[10527,7,2315,6998,null,"2011-09-07T14:21:06",null,null,6,{"$f":"COUNTIF(top10Usrs[Top 10 Posters],tblPosts[[#This Row],[poster_id]])","v":1}]
[10534,1,2372,7729,null,"2011-09-07T15:27:05",null,null,16,{"$f":"COUNTIF(top10Usrs[Top 10 Posters],tblPosts[[#This Row],[poster_id]])","v":0}]
[10546,1,2391,6801,null,"2011-09-07T19:19:48",null,null,4,{"$f":"COUNTIF(top10Usrs[Top 10 Posters],tblPosts[[#This Row],[poster_id]])","v":0}]
[10553,1,2399,8507,null,"2011-09-07T20:51:32",null,null,14,{"$f":"COUNTIF(top10Usrs[Top 10 Posters],tblPosts[[#This Row],[poster_id]])","v":0}]
[10565,1,2406,8518,null,"2011-09-08T10:05:53",null,null,0,{"$f":"COUNTIF(top10Usrs[Top 10 Posters],tblPosts[[#This Row],[poster_id]])","v":0}]
[10568,1,2407,6998,null,"2011-09-08T12:45:58",null,null,2,{"$f":"COUNTIF(top10Usrs[Top 10 Posters],tblPosts[[#This Row],[poster_id]])","v":1}]
[10575,1,2410,7729,null,"2011-09-08T18:55:56",null,null,1,{"$f":"COUNTIF(top10Usrs[Top 10 Posters],tblPosts[[#This Row],[poster_id]])","v":0}]
[10587,1,2411,6713,null,"2011-09-09T12:42:52",null,null,2,{"$f":"COUNTIF(top10Usrs[Top 10 Posters],tblPosts[[#This Row],[poster_id]])","v":0}]
[10600,1,2418,6951,null,"2011-09-10T01:07:56",null,null,1,{"$f":"COUNTIF(top10Usrs[Top 10 Posters],tblPosts[[#This Row],[poster_id]])","v":0}]
[10605,1,2418,6951,null,"2011-09-10T01:41:12",null,null,3,{"$f":"COUNTIF(top10Usrs[Top 10 Posters],tblPosts[[#This Row],[poster_id]])","v":0}]
[10617,1,2419,6951,null,"2011-09-11T00:33:35",null,null,3,{"$f":"COUNTIF(top10Usrs[Top 10 Posters],tblPosts[[#This Row],[poster_id]])","v":0}]
[10624,1,2419,6713,null,"2011-09-11T13:31:09",null,null,6,{"$f":"COUNTIF(top10Usrs[Top 10 Posters],tblPosts[[#This Row],[poster_id]])","v":0}]
[10636,7,2424,8501,null,"2011-09-12T06:57:37",null,null,1,{"$f":"COUNTIF(top10Usrs[Top 10 Posters],tblPosts[[#This Row],[poster_id]])","v":0}]
[10639,1,2407,7533,null,"2011-09-12T11:30:15",null,null,4,{"$f":"COUNTIF(top10Usrs[Top 10 Posters],tblPosts[[#This Row],[poster_id]])","v":0}]
[10646,7,2415,24,null,"2011-09-12T13:35:22",null,null,4,{"$f":"COUNTIF(top10Usrs[Top 10 Posters],tblPosts[[#This Row],[poster_id]])","v":1}]
[10658,1,2423,8537,null,"2011-09-12T20:10:06",null,null,4,{"$f":"COUNTIF(top10Usrs[Top 10 Posters],tblPosts[[#This Row],[poster_id]])","v":0}]
[10665,1,2429,6779,null,"2011-09-13T03:51:02",null,null,1,{"$f":"COUNTIF(top10Usrs[Top 10 Posters],tblPosts[[#This Row],[poster_id]])","v":1}]
[10677,1,2435,7840,null,"2011-09-13T12:41:44",null,null,1,{"$f":"COUNTIF(top10Usrs[Top 10 Posters],tblPosts[[#This Row],[poster_id]])","v":0}]
[10683,1,2435,6998,null,"2011-09-13T13:10:40",null,null,2,{"$f":"COUNTIF(top10Usrs[Top 10 Posters],tblPosts[[#This Row],[poster_id]])","v":1}]
[10695,1,2436,6998,null,"2011-09-13T15:58:55",null,null,4,{"$f":"COUNTIF(top10Usrs[Top 10 Posters],tblPosts[[#This Row],[poster_id]])","v":1}]
[10707,7,2439,6998,null,"2011-09-13T18:29:46",null,null,2,{"$f":"COUNTIF(top10Usrs[Top 10 Posters],tblPosts[[#This Row],[poster_id]])","v":1}]
[10710,1,2430,8543,null,"2011-09-13T21:08:26",null,null,5,{"$f":"COUNTIF(top10Usrs[Top 10 Posters],tblPosts[[#This Row],[poster_id]])","v":0}]
[10717,1,2444,8553,null,"2011-09-14T04:37:49",null,null,1,{"$f":"COUNTIF(top10Usrs[Top 10 Posters],tblPosts[[#This Row],[poster_id]])","v":0}]
[10729,1,2448,5408,null,"2011-09-14T13:02:12",null,null,3,{"$f":"COUNTIF(top10Usrs[Top 10 Posters],tblPosts[[#This Row],[poster_id]])","v":1}]
[10736,1,2450,50,null,"2011-09-14T19:27:53",null,null,2,{"$f":"COUNTIF(top10Usrs[Top 10 Posters],tblPosts[[#This Row],[poster_id]])","v":0}]
[10748,1,2453,6713,null,"2011-09-15T10:07:57",null,null,2,{"$f":"COUNTIF(top10Usrs[Top 10 Posters],tblPosts[[#This Row],[poster_id]])","v":0}]
[10760,1,2455,8569,null,"2011-09-15T14:31:27",null,null,5,{"$f":"COUNTIF(top10Usrs[Top 10 Posters],tblPosts[[#This Row],[poster_id]])","v":0}]
[10764,7,2458,8486,null,"2011-09-15T16:34:43",null,null,1,{"$f":"COUNTIF(top10Usrs[Top 10 Posters],tblPosts[[#This Row],[poster_id]])","v":0}]
[10778,1,2417,8529,null,"2011-09-16T20:26:42",null,null,3,{"$f":"COUNTIF(top10Usrs[Top 10 Posters],tblPosts[[#This Row],[poster_id]])","v":0}]
[10785,1,2464,24,null,"2011-09-17T08:38:32",null,null,2,{"$f":"COUNTIF(top10Usrs[Top 10 Posters],tblPosts[[#This Row],[poster_id]])","v":1}]
[10788,1,2465,24,null,"2011-09-17T15:08:23",null,null,2,{"$f":"COUNTIF(top10Usrs[Top 10 Posters],tblPosts[[#This Row],[poster_id]])","v":1}]
[10800,1,2461,8578,null,"2011-09-19T10:36:12",null,null,4,{"$f":"COUNTIF(top10Usrs[Top 10 Posters],tblPosts[[#This Row],[poster_id]])","v":0}]
[10807,7,2470,6998,null,"2011-09-19T13:34:25",null,null,4,{"$f":"COUNTIF(top10Usrs[Top 10 Posters],tblPosts[[#This Row],[poster_id]])","v":1}]
[10819,1,2471,8592,null,"2011-09-19T17:46:38",null,null,3,{"$f":"COUNTIF(top10Usrs[Top 10 Posters],tblPosts[[#This Row],[poster_id]])","v":0}]
[10831,1,2477,7429,null,"2011-09-20T07:31:32",null,null,1,{"$f":"COUNTIF(top10Usrs[Top 10 Posters],tblPosts[[#This Row],[poster_id]])","v":0}]
[10838,1,2477,24,null,"2011-09-20T12:01:51",null,null,6,{"$f":"COUNTIF(top10Usrs[Top 10 Posters],tblPosts[[#This Row],[poster_id]])","v":1}]
[10850,1,2481,8507,null,"2011-09-20T16:34:48",null,null,2,{"$f":"COUNTIF(top10Usrs[Top 10 Posters],tblPosts[[#This Row],[poster_id]])","v":0}]
[10855,1,2461,6998,null,"2011-09-20T18:23:34",null,null,8,{"$f":"COUNTIF(top10Usrs[Top 10 Posters],tblPosts[[#This Row],[poster_id]])","v":1}]
[10859,1,2481,6821,null,"2011-09-20T18:47:16",null,null,5,{"$f":"COUNTIF(top10Usrs[Top 10 Posters],tblPosts[[#This Row],[poster_id]])","v":1}]
[10871,1,2485,8610,null,"2011-09-20T21:51:28",null,null,1,{"$f":"COUNTIF(top10Usrs[Top 10 Posters],tblPosts[[#This Row],[poster_id]])","v":0}]
[10878,1,2486,7898,null,"2011-09-21T07:35:52",null,null,2,{"$f":"COUNTIF(top10Usrs[Top 10 Posters],tblPosts[[#This Row],[poster_id]])","v":0}]
[10890,1,2488,7429,null,"2011-09-21T13:02:41",null,null,3,{"$f":"COUNTIF(top10Usrs[Top 10 Posters],tblPosts[[#This Row],[poster_id]])","v":0}]
[10902,1,1850,24,null,"2011-09-21T14:57:18",null,null,13,{"$f":"COUNTIF(top10Usrs[Top 10 Posters],tblPosts[[#This Row],[poster_id]])","v":1}]
[10909,7,2489,24,null,"2011-09-21T15:24:51",null,null,5,{"$f":"COUNTIF(top10Usrs[Top 10 Posters],tblPosts[[#This Row],[poster_id]])","v":1}]
[10921,7,2489,8617,null,"2011-09-21T17:54:54",null,null,7,{"$f":"COUNTIF(top10Usrs[Top 10 Posters],tblPosts[[#This Row],[poster_id]])","v":0}]
[10928,1,2494,7840,null,"2011-09-21T18:38:11",null,null,3,{"$f":"COUNTIF(top10Usrs[Top 10 Posters],tblPosts[[#This Row],[poster_id]])","v":0}]
[10936,1,2496,24,null,"2011-09-22T00:16:38",null,null,2,{"$f":"COUNTIF(top10Usrs[Top 10 Posters],tblPosts[[#This Row],[poster_id]])","v":1}]
[10942,1,2495,8622,null,"2011-09-22T02:05:57",null,null,4,{"$f":"COUNTIF(top10Usrs[Top 10 Posters],tblPosts[[#This Row],[poster_id]])","v":0}]
[10949,1,2499,8628,null,"2011-09-22T06:19:22",null,null,0,{"$f":"COUNTIF(top10Usrs[Top 10 Posters],tblPosts[[#This Row],[poster_id]])","v":0}]
[10960,1,2501,7840,null,"2011-09-22T13:51:14",null,null,3,{"$f":"COUNTIF(top10Usrs[Top 10 Posters],tblPosts[[#This Row],[poster_id]])","v":0}]
[10968,1,2496,6998,null,"2011-09-22T17:22:45",null,null,4,{"$f":"COUNTIF(top10Usrs[Top 10 Posters],tblPosts[[#This Row],[poster_id]])","v":1}]
[10980,1,2504,24,null,"2011-09-23T05:45:58",null,null,2,{"$f":"COUNTIF(top10Usrs[Top 10 Posters],tblPosts[[#This Row],[poster_id]])","v":1}]
[10992,1,2506,7351,null,"2011-09-23T08:58:42",null,null,2,{"$f":"COUNTIF(top10Usrs[Top 10 Posters],tblPosts[[#This Row],[poster_id]])","v":1}]
[10999,1,2507,7351,null,"2011-09-23T10:41:57",null,null,4,{"$f":"COUNTIF(top10Usrs[Top 10 Posters],tblPosts[[#This Row],[poster_id]])","v":1}]
[11002,1,2506,4551,null,"2011-09-23T11:18:56",null,null,6,{"$f":"COUNTIF(top10Usrs[Top 10 Posters],tblPosts[[#This Row],[poster_id]])","v":0}]
[11014,1,2475,8600,null,"2011-09-23T17:27:13",null,null,5,{"$f":"COUNTIF(top10Usrs[Top 10 Posters],tblPosts[[#This Row],[poster_id]])","v":0}]
[11027,3,2443,5408,null,"2011-09-24T14:53:34",null,null,4,{"$f":"COUNTIF(top10Usrs[Top 10 Posters],tblPosts[[#This Row],[poster_id]])","v":1}]
[11032,1,2513,5408,null,"2011-09-24T19:26:36",null,null,2,{"$f":"COUNTIF(top10Usrs[Top 10 Posters],tblPosts[[#This Row],[poster_id]])","v":1}]
[11039,1,1850,7881,null,"2011-09-25T08:05:13",null,null,22,{"$f":"COUNTIF(top10Usrs[Top 10 Posters],tblPosts[[#This Row],[poster_id]])","v":0}]
[11051,1,2517,8651,null,"2011-09-25T15:30:58",null,null,6,{"$f":"COUNTIF(top10Usrs[Top 10 Posters],tblPosts[[#This Row],[poster_id]])","v":0}]
[11063,1,2524,8186,null,"2011-09-26T12:09:36",null,null,1,{"$f":"COUNTIF(top10Usrs[Top 10 Posters],tblPosts[[#This Row],[poster_id]])","v":0}]
[11070,1,2524,8186,null,"2011-09-26T12:59:59",null,null,4,{"$f":"COUNTIF(top10Usrs[Top 10 Posters],tblPosts[[#This Row],[poster_id]])","v":0}]
[11073,7,2474,7351,null,"2011-09-26T13:11:58",null,null,13,{"$f":"COUNTIF(top10Usrs[Top 10 Posters],tblPosts[[#This Row],[poster_id]])","v":1}]
[11085,1,2527,7351,null,"2011-09-26T14:34:52",null,null,2,{"$f":"COUNTIF(top10Usrs[Top 10 Posters],tblPosts[[#This Row],[poster_id]])","v":1}]
[11092,4,443,24,null,"2011-09-26T15:36:07",null,null,2,{"$f":"COUNTIF(top10Usrs[Top 10 Posters],tblPosts[[#This Row],[poster_id]])","v":1}]
[11100,1,2514,8651,null,"2011-09-27T01:37:08",null,null,9,{"$f":"COUNTIF(top10Usrs[Top 10 Posters],tblPosts[[#This Row],[poster_id]])","v":0}]
[11110,1,2532,24,null,"2011-09-27T12:02:06",null,null,2,{"$f":"COUNTIF(top10Usrs[Top 10 Posters],tblPosts[[#This Row],[poster_id]])","v":1}]
[11122,1,2536,7974,null,"2011-09-27T13:27:21",null,null,1,{"$f":"COUNTIF(top10Usrs[Top 10 Posters],tblPosts[[#This Row],[poster_id]])","v":0}]
[11134,1,2490,8616,null,"2011-09-27T14:44:07",null,null,8,{"$f":"COUNTIF(top10Usrs[Top 10 Posters],tblPosts[[#This Row],[poster_id]])","v":0}]
[11141,1,2540,8665,null,"2011-09-27T17:02:42",null,null,1,{"$f":"COUNTIF(top10Usrs[Top 10 Posters],tblPosts[[#This Row],[poster_id]])","v":0}]
[11144,1,2541,8528,null,"2011-09-27T18:49:12",null,null,1,{"$f":"COUNTIF(top10Usrs[Top 10 Posters],tblPosts[[#This Row],[poster_id]])","v":0}]
[11160,1,2532,3008,null,"2011-09-28T03:58:51",null,null,3,{"$f":"COUNTIF(top10Usrs[Top 10 Posters],tblPosts[[#This Row],[poster_id]])","v":0}]
[11163,1,2546,8501,null,"2011-09-28T05:43:56",null,null,1,{"$f":"COUNTIF(top10Usrs[Top 10 Posters],tblPosts[[#This Row],[poster_id]])","v":0}]
[11175,7,2542,6542,null,"2011-09-28T11:22:18",null,null,2,{"$f":"COUNTIF(top10Usrs[Top 10 Posters],tblPosts[[#This Row],[poster_id]])","v":0}]
[11182,1,2547,7429,null,"2011-09-28T12:35:40",null,null,6,{"$f":"COUNTIF(top10Usrs[Top 10 Posters],tblPosts[[#This Row],[poster_id]])","v":0}]
[11191,1,2548,6998,null,"2011-09-28T13:13:55",null,null,2,{"$f":"COUNTIF(top10Usrs[Top 10 Posters],tblPosts[[#This Row],[poster_id]])","v":1}]
[11205,1,2549,8528,null,"2011-09-28T16:06:21",null,null,3,{"$f":"COUNTIF(top10Usrs[Top 10 Posters],tblPosts[[#This Row],[poster_id]])","v":0}]
[11212,1,2550,6998,null,"2011-09-28T16:52:55",null,null,6,{"$f":"COUNTIF(top10Usrs[Top 10 Posters],tblPosts[[#This Row],[poster_id]])","v":1}]
[11215,1,2549,8651,null,"2011-09-28T17:36:04",null,null,7,{"$f":"COUNTIF(top10Usrs[Top 10 Posters],tblPosts[[#This Row],[poster_id]])","v":0}]
[11231,1,2555,7802,null,"2011-09-28T20:53:18",null,null,1,{"$f":"COUNTIF(top10Usrs[Top 10 Posters],tblPosts[[#This Row],[poster_id]])","v":0}]
[11234,1,2556,8674,null,"2011-09-28T21:16:20",null,null,1,{"$f":"COUNTIF(top10Usrs[Top 10 Posters],tblPosts[[#This Row],[poster_id]])","v":0}]
[11246,1,2514,8647,null,"2011-09-29T08:19:43",null,null,22,{"$f":"COUNTIF(top10Usrs[Top 10 Posters],tblPosts[[#This Row],[poster_id]])","v":0}]
[11252,1,2561,7195,null,"2011-09-29T11:49:10",null,null,3,{"$f":"COUNTIF(top10Usrs[Top 10 Posters],tblPosts[[#This Row],[poster_id]])","v":0}]
[11265,1,2562,6998,null,"2011-09-29T13:57:22",null,null,2,{"$f":"COUNTIF(top10Usrs[Top 10 Posters],tblPosts[[#This Row],[poster_id]])","v":1}]
[11272,1,2563,6998,null,"2011-09-29T14:53:57",null,null,2,{"$f":"COUNTIF(top10Usrs[Top 10 Posters],tblPosts[[#This Row],[poster_id]])","v":1}]
[11282,1,2565,8683,null,"2011-09-29T15:56:05",null,null,3,{"$f":"COUNTIF(top10Usrs[Top 10 Posters],tblPosts[[#This Row],[poster_id]])","v":0}]
[11286,1,2565,8683,null,"2011-09-29T16:13:11",null,null,6,{"$f":"COUNTIF(top10Usrs[Top 10 Posters],tblPosts[[#This Row],[poster_id]])","v":0}]
[11302,1,2566,8656,null,"2011-09-29T19:36:17",null,null,1,{"$f":"COUNTIF(top10Usrs[Top 10 Posters],tblPosts[[#This Row],[poster_id]])","v":0}]
[11305,1,2535,7974,null,"2011-09-29T22:48:34",null,null,11,{"$f":"COUNTIF(top10Usrs[Top 10 Posters],tblPosts[[#This Row],[poster_id]])","v":0}]
[11317,1,2571,8651,null,"2011-09-30T10:34:39",null,null,2,{"$f":"COUNTIF(top10Usrs[Top 10 Posters],tblPosts[[#This Row],[poster_id]])","v":0}]
[11324,1,2567,6998,null,"2011-09-30T13:55:10",null,null,4,{"$f":"COUNTIF(top10Usrs[Top 10 Posters],tblPosts[[#This Row],[poster_id]])","v":1}]
[11336,1,2574,6998,null,"2011-09-30T18:58:25",null,null,2,{"$f":"COUNTIF(top10Usrs[Top 10 Posters],tblPosts[[#This Row],[poster_id]])","v":1}]
[11343,1,2577,7974,null,"2011-09-30T21:45:08",null,null,1,{"$f":"COUNTIF(top10Usrs[Top 10 Posters],tblPosts[[#This Row],[poster_id]])","v":0}]
[11355,1,2568,8687,null,"2011-10-01T22:32:12",null,null,3,{"$f":"COUNTIF(top10Usrs[Top 10 Posters],tblPosts[[#This Row],[poster_id]])","v":0}]
[11363,1,2582,8707,null,"2011-10-02T10:10:41",null,null,1,{"$f":"COUNTIF(top10Usrs[Top 10 Posters],tblPosts[[#This Row],[poster_id]])","v":0}]
[11373,1,2585,24,null,"2011-10-02T23:42:02",null,null,2,{"$f":"COUNTIF(top10Usrs[Top 10 Posters],tblPosts[[#This Row],[poster_id]])","v":1}]
[11376,2,2581,8706,null,"2011-10-02T23:56:29",null,null,3,{"$f":"COUNTIF(top10Usrs[Top 10 Posters],tblPosts[[#This Row],[poster_id]])","v":0}]
[11388,1,2588,8501,null,"2011-10-03T09:09:13",null,null,3,{"$f":"COUNTIF(top10Usrs[Top 10 Posters],tblPosts[[#This Row],[poster_id]])","v":0}]
[11395,1,2573,8712,null,"2011-10-03T14:51:52",null,null,2,{"$f":"COUNTIF(top10Usrs[Top 10 Posters],tblPosts[[#This Row],[poster_id]])","v":0}]
[11407,1,2593,8717,null,"2011-10-03T18:21:14",null,null,2,{"$f":"COUNTIF(top10Usrs[Top 10 Posters],tblPosts[[#This Row],[poster_id]])","v":0}]
[11414,1,2594,8725,null,"2011-10-03T18:50:52",null,null,3,{"$f":"COUNTIF(top10Usrs[Top 10 Posters],tblPosts[[#This Row],[poster_id]])","v":0}]
[11426,1,2595,6925,null,"2011-10-03T19:36:58",null,null,4,{"$f":"COUNTIF(top10Usrs[Top 10 Posters],tblPosts[[#This Row],[poster_id]])","v":1}]
[11429,1,2598,8727,null,"2011-10-03T19:40:12",null,null,1,{"$f":"COUNTIF(top10Usrs[Top 10 Posters],tblPosts[[#This Row],[poster_id]])","v":0}]
[11445,1,2591,6998,null,"2011-10-03T20:33:42",null,null,5,{"$f":"COUNTIF(top10Usrs[Top 10 Posters],tblPosts[[#This Row],[poster_id]])","v":1}]
[11454,1,2600,8700,null,"2011-10-04T01:16:40",null,null,1,{"$f":"COUNTIF(top10Usrs[Top 10 Posters],tblPosts[[#This Row],[poster_id]])","v":0}]
[11463,1,2585,8651,null,"2011-10-04T04:29:37",null,null,5,{"$f":"COUNTIF(top10Usrs[Top 10 Posters],tblPosts[[#This Row],[poster_id]])","v":0}]
[11466,7,2584,8651,null,"2011-10-04T05:27:24",null,null,3,{"$f":"COUNTIF(top10Usrs[Top 10 Posters],tblPosts[[#This Row],[poster_id]])","v":0}]
[11478,1,2587,8751,null,"2011-10-04T09:39:53",null,null,5,{"$f":"COUNTIF(top10Usrs[Top 10 Posters],tblPosts[[#This Row],[poster_id]])","v":0}]
[11485,1,2609,4661,null,"2011-10-04T12:00:43",null,null,1,{"$f":"COUNTIF(top10Usrs[Top 10 Posters],tblPosts[[#This Row],[poster_id]])","v":0}]
[11497,1,2591,8715,null,"2011-10-04T13:32:54",null,null,6,{"$f":"COUNTIF(top10Usrs[Top 10 Posters],tblPosts[[#This Row],[poster_id]])","v":0}]
[11500,2,2608,7869,null,"2011-10-04T13:48:32",null,null,3,{"$f":"COUNTIF(top10Usrs[Top 10 Posters],tblPosts[[#This Row],[poster_id]])","v":0}]
[11516,1,2591,8757,null,"2011-10-04T16:59:57",null,null,9,{"$f":"COUNTIF(top10Usrs[Top 10 Posters],tblPosts[[#This Row],[poster_id]])","v":0}]
[11519,1,2591,6998,null,"2011-10-04T17:24:39",null,null,12,{"$f":"COUNTIF(top10Usrs[Top 10 Posters],tblPosts[[#This Row],[poster_id]])","v":1}]
[11527,1,2615,8572,null,"2011-10-04T18:18:18",null,null,2,{"$f":"COUNTIF(top10Usrs[Top 10 Posters],tblPosts[[#This Row],[poster_id]])","v":0}]
[11537,1,2616,8759,null,"2011-10-04T19:18:56",null,null,3,{"$f":"COUNTIF(top10Usrs[Top 10 Posters],tblPosts[[#This Row],[poster_id]])","v":0}]
[11549,1,2612,8759,null,"2011-10-04T23:38:28",null,null,4,{"$f":"COUNTIF(top10Usrs[Top 10 Posters],tblPosts[[#This Row],[poster_id]])","v":0}]
[11556,1,2602,7898,null,"2011-10-05T07:06:41",null,null,5,{"$f":"COUNTIF(top10Usrs[Top 10 Posters],tblPosts[[#This Row],[poster_id]])","v":0}]
[11568,1,2621,7195,null,"2011-10-05T14:36:07",null,null,4,{"$f":"COUNTIF(top10Usrs[Top 10 Posters],tblPosts[[#This Row],[poster_id]])","v":0}]
[11571,1,2621,8737,null,"2011-10-05T15:05:37",null,null,7,{"$f":"COUNTIF(top10Usrs[Top 10 Posters],tblPosts[[#This Row],[poster_id]])","v":0}]
[11587,4,2625,8759,null,"2011-10-05T17:51:01",null,null,1,{"$f":"COUNTIF(top10Usrs[Top 10 Posters],tblPosts[[#This Row],[poster_id]])","v":0}]
[11590,1,2618,8429,null,"2011-10-05T18:22:23",null,null,7,{"$f":"COUNTIF(top10Usrs[Top 10 Posters],tblPosts[[#This Row],[poster_id]])","v":0}]
[11606,1,2629,6998,null,"2011-10-05T20:22:44",null,null,2,{"$f":"COUNTIF(top10Usrs[Top 10 Posters],tblPosts[[#This Row],[poster_id]])","v":1}]
[11609,4,2622,6925,null,"2011-10-05T20:33:35",null,null,7,{"$f":"COUNTIF(top10Usrs[Top 10 Posters],tblPosts[[#This Row],[poster_id]])","v":1}]
[11618,1,2620,6925,null,"2011-10-05T23:23:22",null,null,6,{"$f":"COUNTIF(top10Usrs[Top 10 Posters],tblPosts[[#This Row],[poster_id]])","v":1}]
[11627,1,2628,6998,null,"2011-10-06T12:51:47",null,null,4,{"$f":"COUNTIF(top10Usrs[Top 10 Posters],tblPosts[[#This Row],[poster_id]])","v":1}]
[11639,1,2620,6957,null,"2011-10-06T14:40:08",null,null,10,{"$f":"COUNTIF(top10Usrs[Top 10 Posters],tblPosts[[#This Row],[poster_id]])","v":0}]
[11646,2,2632,6998,null,"2011-10-06T16:43:12",null,null,2,{"$f":"COUNTIF(top10Usrs[Top 10 Posters],tblPosts[[#This Row],[poster_id]])","v":1}]
[11658,1,2627,6925,null,"2011-10-06T18:44:38",null,null,12,{"$f":"COUNTIF(top10Usrs[Top 10 Posters],tblPosts[[#This Row],[poster_id]])","v":1}]
[11661,1,2626,6671,null,"2011-10-06T18:57:57",null,null,8,{"$f":"COUNTIF(top10Usrs[Top 10 Posters],tblPosts[[#This Row],[poster_id]])","v":0}]
[11677,1,2605,8747,null,"2011-10-07T05:27:43",null,null,8,{"$f":"COUNTIF(top10Usrs[Top 10 Posters],tblPosts[[#This Row],[poster_id]])","v":0}]
[11680,2,2341,8783,null,"2011-10-07T06:50:41",null,null,2,{"$f":"COUNTIF(top10Usrs[Top 10 Posters],tblPosts[[#This Row],[poster_id]])","v":0}]
[11692,1,2636,8782,null,"2011-10-07T11:57:39",null,null,3,{"$f":"COUNTIF(top10Usrs[Top 10 Posters],tblPosts[[#This Row],[poster_id]])","v":0}]
[11699,1,2636,8782,null,"2011-10-07T13:40:47",null,null,4,{"$f":"COUNTIF(top10Usrs[Top 10 Posters],tblPosts[[#This Row],[poster_id]])","v":0}]
[11710,1,2641,6821,null,"2011-10-07T15:01:49",null,null,3,{"$f":"COUNTIF(top10Usrs[Top 10 Posters],tblPosts[[#This Row],[poster_id]])","v":1}]
[11717,1,2636,6925,null,"2011-10-07T17:55:35",null,null,5,{"$f":"COUNTIF(top10Usrs[Top 10 Posters],tblPosts[[#This Row],[poster_id]])","v":1}]
[11729,1,2635,8572,null,"2011-10-08T14:14:51",null,null,10,{"$f":"COUNTIF(top10Usrs[Top 10 Posters],tblPosts[[#This Row],[poster_id]])","v":0}]
[11732,1,2643,8789,null,"2011-10-08T15:14:11",null,null,3,{"$f":"COUNTIF(top10Usrs[Top 10 Posters],tblPosts[[#This Row],[poster_id]])","v":0}]
[11748,7,2637,8742,null,"2011-10-09T03:01:56",null,null,3,{"$f":"COUNTIF(top10Usrs[Top 10 Posters],tblPosts[[#This Row],[poster_id]])","v":0}]
[11751,1,2647,8790,null,"2011-10-09T06:47:45",null,null,3,{"$f":"COUNTIF(top10Usrs[Top 10 Posters],tblPosts[[#This Row],[poster_id]])","v":0}]
[11758,1,2650,7974,null,"2011-10-09T12:51:23",null,null,1,{"$f":"COUNTIF(top10Usrs[Top 10 Posters],tblPosts[[#This Row],[poster_id]])","v":0}]
[11770,7,2655,8297,null,"2011-10-09T23:41:15",null,null,1,{"$f":"COUNTIF(top10Usrs[Top 10 Posters],tblPosts[[#This Row],[poster_id]])","v":0}]
[11783,1,2656,8638,null,"2011-10-10T11:45:13",null,null,1,{"$f":"COUNTIF(top10Usrs[Top 10 Posters],tblPosts[[#This Row],[poster_id]])","v":0}]
[11790,7,2655,8297,null,"2011-10-10T13:07:08",null,null,6,{"$f":"COUNTIF(top10Usrs[Top 10 Posters],tblPosts[[#This Row],[poster_id]])","v":0}]
[11800,1,2658,8717,null,"2011-10-10T15:49:59",null,null,2,{"$f":"COUNTIF(top10Usrs[Top 10 Posters],tblPosts[[#This Row],[poster_id]])","v":0}]
[11803,1,2656,8651,null,"2011-10-10T15:57:02",null,null,6,{"$f":"COUNTIF(top10Usrs[Top 10 Posters],tblPosts[[#This Row],[poster_id]])","v":0}]
[11819,7,2655,8651,null,"2011-10-11T01:13:29",null,null,13,{"$f":"COUNTIF(top10Usrs[Top 10 Posters],tblPosts[[#This Row],[poster_id]])","v":0}]
[11822,1,2653,8651,null,"2011-10-11T03:10:33",null,null,4,{"$f":"COUNTIF(top10Usrs[Top 10 Posters],tblPosts[[#This Row],[poster_id]])","v":0}]
[11829,4,2,8755,null,"2011-10-11T09:05:02",null,null,161,{"$f":"COUNTIF(top10Usrs[Top 10 Posters],tblPosts[[#This Row],[poster_id]])","v":0}]
[11841,1,2667,8811,null,"2011-10-11T12:54:31",null,null,2,{"$f":"COUNTIF(top10Usrs[Top 10 Posters],tblPosts[[#This Row],[poster_id]])","v":0}]
[11853,1,2669,8695,null,"2011-10-11T16:08:12",null,null,2,{"$f":"COUNTIF(top10Usrs[Top 10 Posters],tblPosts[[#This Row],[poster_id]])","v":0}]
[11860,1,2670,8706,null,"2011-10-11T17:03:53",null,null,3,{"$f":"COUNTIF(top10Usrs[Top 10 Posters],tblPosts[[#This Row],[poster_id]])","v":0}]
[11872,1,2640,7323,null,"2011-10-11T19:40:37",null,null,6,{"$f":"COUNTIF(top10Usrs[Top 10 Posters],tblPosts[[#This Row],[poster_id]])","v":0}]
[11881,1,2671,4409,null,"2011-10-11T20:46:26",null,null,5,{"$f":"COUNTIF(top10Usrs[Top 10 Posters],tblPosts[[#This Row],[poster_id]])","v":0}]
[11890,1,2676,8818,null,"2011-10-12T01:05:56",null,null,1,{"$f":"COUNTIF(top10Usrs[Top 10 Posters],tblPosts[[#This Row],[poster_id]])","v":0}]
[11893,1,2673,6957,null,"2011-10-12T03:20:09",null,null,6,{"$f":"COUNTIF(top10Usrs[Top 10 Posters],tblPosts[[#This Row],[poster_id]])","v":0}]
[11900,1,2677,8823,null,"2011-10-12T06:48:36",null,null,1,{"$f":"COUNTIF(top10Usrs[Top 10 Posters],tblPosts[[#This Row],[poster_id]])","v":0}]
[11912,1,2461,8578,null,"2011-10-12T10:06:56",null,null,11,{"$f":"COUNTIF(top10Usrs[Top 10 Posters],tblPosts[[#This Row],[poster_id]])","v":0}]
[11924,1,2680,8717,null,"2011-10-12T14:34:29",null,null,2,{"$f":"COUNTIF(top10Usrs[Top 10 Posters],tblPosts[[#This Row],[poster_id]])","v":0}]
[11931,4,2681,6998,null,"2011-10-12T17:14:45",null,null,2,{"$f":"COUNTIF(top10Usrs[Top 10 Posters],tblPosts[[#This Row],[poster_id]])","v":1}]
[11943,1,2679,6998,null,"2011-10-12T20:18:07",null,null,6,{"$f":"COUNTIF(top10Usrs[Top 10 Posters],tblPosts[[#This Row],[poster_id]])","v":1}]
[11950,1,2678,6925,null,"2011-10-12T22:17:42",null,null,3,{"$f":"COUNTIF(top10Usrs[Top 10 Posters],tblPosts[[#This Row],[poster_id]])","v":1}]
[11954,1,2684,8572,null,"2011-10-13T01:21:08",null,null,3,{"$f":"COUNTIF(top10Usrs[Top 10 Posters],tblPosts[[#This Row],[poster_id]])","v":0}]
[11964,1,2687,8834,null,"2011-10-13T03:53:16",null,null,1,{"$f":"COUNTIF(top10Usrs[Top 10 Posters],tblPosts[[#This Row],[poster_id]])","v":0}]
[11971,1,2670,8651,null,"2011-10-13T06:14:51",null,null,20,{"$f":"COUNTIF(top10Usrs[Top 10 Posters],tblPosts[[#This Row],[poster_id]])","v":0}]
[11983,1,2678,8821,null,"2011-10-13T08:56:48",null,null,6,{"$f":"COUNTIF(top10Usrs[Top 10 Posters],tblPosts[[#This Row],[poster_id]])","v":1}]
[11995,1,2684,7898,null,"2011-10-13T14:07:08",null,null,6,{"$f":"COUNTIF(top10Usrs[Top 10 Posters],tblPosts[[#This Row],[poster_id]])","v":0}]
[12002,1,2682,8825,null,"2011-10-13T19:35:09",null,null,7,{"$f":"COUNTIF(top10Usrs[Top 10 Posters],tblPosts[[#This Row],[poster_id]])","v":0}]
[12014,2,2691,7025,null,"2011-10-13T23:09:16",null,null,1,{"$f":"COUNTIF(top10Usrs[Top 10 Posters],tblPosts[[#This Row],[poster_id]])","v":0}]
[12021,1,2692,8821,null,"2011-10-14T06:53:06",null,null,2,{"$f":"COUNTIF(top10Usrs[Top 10 Posters],tblPosts[[#This Row],[poster_id]])","v":1}]
[12033,1,2692,8821,null,"2011-10-14T09:05:18",null,null,7,{"$f":"COUNTIF(top10Usrs[Top 10 Posters],tblPosts[[#This Row],[poster_id]])","v":1}]
[12036,1,2692,8651,null,"2011-10-14T09:37:07",null,null,9,{"$f":"COUNTIF(top10Usrs[Top 10 Posters],tblPosts[[#This Row],[poster_id]])","v":0}]
[12045,1,2696,7840,null,"2011-10-14T13:53:16",null,null,1,{"$f":"COUNTIF(top10Usrs[Top 10 Posters],tblPosts[[#This Row],[poster_id]])","v":0}]
[12054,7,2698,8695,null,"2011-10-14T16:45:07",null,null,3,{"$f":"COUNTIF(top10Usrs[Top 10 Posters],tblPosts[[#This Row],[poster_id]])","v":0}]
[12061,1,2701,6821,null,"2011-10-14T17:16:58",null,null,1,{"$f":"COUNTIF(top10Usrs[Top 10 Posters],tblPosts[[#This Row],[poster_id]])","v":1}]
[12073,7,2704,6998,null,"2011-10-14T19:09:46",null,null,2,{"$f":"COUNTIF(top10Usrs[Top 10 Posters],tblPosts[[#This Row],[poster_id]])","v":1}]
[12085,1,2705,8853,null,"2011-10-14T20:00:29",null,null,4,{"$f":"COUNTIF(top10Usrs[Top 10 Posters],tblPosts[[#This Row],[poster_id]])","v":0}]
[12092,2,2691,7025,null,"2011-10-14T20:56:20",null,null,4,{"$f":"COUNTIF(top10Usrs[Top 10 Posters],tblPosts[[#This Row],[poster_id]])","v":0}]
[12104,1,2708,8855,null,"2011-10-15T03:07:00",null,null,1,{"$f":"COUNTIF(top10Usrs[Top 10 Posters],tblPosts[[#This Row],[poster_id]])","v":0}]
[12107,1,2707,8839,null,"2011-10-15T05:12:20",null,null,2,{"$f":"COUNTIF(top10Usrs[Top 10 Posters],tblPosts[[#This Row],[poster_id]])","v":0}]
[12114,1,2711,8859,null,"2011-10-15T14:09:14",null,null,1,{"$f":"COUNTIF(top10Usrs[Top 10 Posters],tblPosts[[#This Row],[poster_id]])","v":0}]
[12126,1,2712,8821,null,"2011-10-16T08:46:01",null,null,6,{"$f":"COUNTIF(top10Usrs[Top 10 Posters],tblPosts[[#This Row],[poster_id]])","v":1}]
[12132,1,2714,8861,null,"2011-10-16T15:44:21",null,null,1,{"$f":"COUNTIF(top10Usrs[Top 10 Posters],tblPosts[[#This Row],[poster_id]])","v":0}]
[12144,1,2518,8651,null,"2011-10-17T08:45:25",null,null,4,{"$f":"COUNTIF(top10Usrs[Top 10 Posters],tblPosts[[#This Row],[poster_id]])","v":0}]
[12156,1,2695,8638,null,"2011-10-17T12:34:37",null,null,4,{"$f":"COUNTIF(top10Usrs[Top 10 Posters],tblPosts[[#This Row],[poster_id]])","v":0}]
[12163,1,1223,6709,null,"2011-10-17T14:11:05",null,null,4,{"$f":"COUNTIF(top10Usrs[Top 10 Posters],tblPosts[[#This Row],[poster_id]])","v":0}]
[12175,1,2721,8673,null,"2011-10-17T18:55:19",null,null,1,{"$f":"COUNTIF(top10Usrs[Top 10 Posters],tblPosts[[#This Row],[poster_id]])","v":0}]
[12178,1,2721,8717,null,"2011-10-17T22:51:59",null,null,2,{"$f":"COUNTIF(top10Usrs[Top 10 Posters],tblPosts[[#This Row],[poster_id]])","v":0}]
[12185,1,2723,8821,null,"2011-10-18T05:34:03",null,null,3,{"$f":"COUNTIF(top10Usrs[Top 10 Posters],tblPosts[[#This Row],[poster_id]])","v":1}]
[12197,1,2728,8882,null,"2011-10-18T11:34:40",null,null,1,{"$f":"COUNTIF(top10Usrs[Top 10 Posters],tblPosts[[#This Row],[poster_id]])","v":0}]
[12204,2,2727,6998,null,"2011-10-18T12:40:49",null,null,2,{"$f":"COUNTIF(top10Usrs[Top 10 Posters],tblPosts[[#This Row],[poster_id]])","v":1}]
[12217,7,2724,8717,null,"2011-10-18T18:24:52",null,null,4,{"$f":"COUNTIF(top10Usrs[Top 10 Posters],tblPosts[[#This Row],[poster_id]])","v":0}]
[12227,1,2732,8886,null,"2011-10-18T22:58:24",null,null,5,{"$f":"COUNTIF(top10Usrs[Top 10 Posters],tblPosts[[#This Row],[poster_id]])","v":0}]
[12234,1,2653,8797,null,"2011-10-19T02:13:27",null,null,14,{"$f":"COUNTIF(top10Usrs[Top 10 Posters],tblPosts[[#This Row],[poster_id]])","v":0}]
[12246,1,2738,8821,null,"2011-10-19T04:37:23",null,null,4,{"$f":"COUNTIF(top10Usrs[Top 10 Posters],tblPosts[[#This Row],[poster_id]])","v":1}]
[12253,1,2730,8883,null,"2011-10-19T09:19:57",null,null,3,{"$f":"COUNTIF(top10Usrs[Top 10 Posters],tblPosts[[#This Row],[poster_id]])","v":0}]
[12256,1,2741,8894,null,"2011-10-19T10:08:19",null,null,1,{"$f":"COUNTIF(top10Usrs[Top 10 Posters],tblPosts[[#This Row],[poster_id]])","v":0}]
[12268,1,2741,24,null,"2011-10-19T12:09:31",null,null,9,{"$f":"COUNTIF(top10Usrs[Top 10 Posters],tblPosts[[#This Row],[poster_id]])","v":1}]
[12275,1,2735,7175,null,"2011-10-19T12:40:32",null,null,5,{"$f":"COUNTIF(top10Usrs[Top 10 Posters],tblPosts[[#This Row],[poster_id]])","v":0}]
[12287,1,2746,8898,null,"2011-10-19T14:54:35",null,null,1,{"$f":"COUNTIF(top10Usrs[Top 10 Posters],tblPosts[[#This Row],[poster_id]])","v":0}]
[12298,1,2748,8901,null,"2011-10-19T17:01:25",null,null,1,{"$f":"COUNTIF(top10Usrs[Top 10 Posters],tblPosts[[#This Row],[poster_id]])","v":0}]
[12305,1,2746,6998,null,"2011-10-19T18:57:34",null,null,7,{"$f":"COUNTIF(top10Usrs[Top 10 Posters],tblPosts[[#This Row],[poster_id]])","v":1}]
[12317,1,2730,8883,null,"2011-10-19T22:30:44",null,null,10,{"$f":"COUNTIF(top10Usrs[Top 10 Posters],tblPosts[[#This Row],[poster_id]])","v":0}]
[12324,1,2682,8825,null,"2011-10-20T04:21:15",null,null,19,{"$f":"COUNTIF(top10Usrs[Top 10 Posters],tblPosts[[#This Row],[poster_id]])","v":0}]
[12327,1,2751,7863,null,"2011-10-20T05:54:03",null,null,5,{"$f":"COUNTIF(top10Usrs[Top 10 Posters],tblPosts[[#This Row],[poster_id]])","v":0}]
[12339,1,2755,8896,null,"2011-10-20T11:39:25",null,null,1,{"$f":"COUNTIF(top10Usrs[Top 10 Posters],tblPosts[[#This Row],[poster_id]])","v":0}]
[12345,1,2753,6998,null,"2011-10-20T12:24:11",null,null,6,{"$f":"COUNTIF(top10Usrs[Top 10 Posters],tblPosts[[#This Row],[poster_id]])","v":1}]
[12358,1,2682,8651,null,"2011-10-20T15:50:22",null,null,20,{"$f":"COUNTIF(top10Usrs[Top 10 Posters],tblPosts[[#This Row],[poster_id]])","v":0}]
[12370,1,2762,7326,null,"2011-10-20T19:00:30",null,null,0,{"$f":"COUNTIF(top10Usrs[Top 10 Posters],tblPosts[[#This Row],[poster_id]])","v":0}]
[12377,7,2765,8913,null,"2011-10-20T23:05:27",null,null,1,{"$f":"COUNTIF(top10Usrs[Top 10 Posters],tblPosts[[#This Row],[poster_id]])","v":0}]
[12381,1,2750,8868,null,"2011-10-21T01:52:28",null,null,4,{"$f":"COUNTIF(top10Usrs[Top 10 Posters],tblPosts[[#This Row],[poster_id]])","v":0}]
[12395,1,2768,8821,null,"2011-10-21T08:25:10",null,null,4,{"$f":"COUNTIF(top10Usrs[Top 10 Posters],tblPosts[[#This Row],[poster_id]])","v":1}]
[12398,1,2769,24,null,"2011-10-21T11:23:54",null,null,3,{"$f":"COUNTIF(top10Usrs[Top 10 Posters],tblPosts[[#This Row],[poster_id]])","v":1}]
[12410,1,2682,8651,null,"2011-10-21T16:03:20",null,null,25,{"$f":"COUNTIF(top10Usrs[Top 10 Posters],tblPosts[[#This Row],[poster_id]])","v":0}]
[12417,1,2749,8902,null,"2011-10-21T19:59:57",null,null,3,{"$f":"COUNTIF(top10Usrs[Top 10 Posters],tblPosts[[#This Row],[poster_id]])","v":0}]
[12429,1,2774,8315,null,"2011-10-21T23:26:26",null,null,5,{"$f":"COUNTIF(top10Usrs[Top 10 Posters],tblPosts[[#This Row],[poster_id]])","v":0}]
[12436,4,2681,8315,null,"2011-10-22T01:31:31",null,null,6,{"$f":"COUNTIF(top10Usrs[Top 10 Posters],tblPosts[[#This Row],[poster_id]])","v":0}]
[12448,7,2775,8821,null,"2011-10-22T05:49:39",null,null,2,{"$f":"COUNTIF(top10Usrs[Top 10 Posters],tblPosts[[#This Row],[poster_id]])","v":1}]
[12460,1,2776,8821,null,"2011-10-22T14:18:38",null,null,4,{"$f":"COUNTIF(top10Usrs[Top 10 Posters],tblPosts[[#This Row],[poster_id]])","v":1}]
[12467,1,2682,8651,null,"2011-10-23T00:54:17",null,null,30,{"$f":"COUNTIF(top10Usrs[Top 10 Posters],tblPosts[[#This Row],[poster_id]])","v":0}]
[12472,1,2777,8651,null,"2011-10-23T02:09:01",null,null,2,{"$f":"COUNTIF(top10Usrs[Top 10 Posters],tblPosts[[#This Row],[poster_id]])","v":0}]
[12481,1,2760,8651,null,"2011-10-23T04:36:30",null,null,18,{"$f":"COUNTIF(top10Usrs[Top 10 Posters],tblPosts[[#This Row],[poster_id]])","v":0}]
[12488,1,2760,8651,null,"2011-10-23T07:47:26",null,null,20,{"$f":"COUNTIF(top10Usrs[Top 10 Posters],tblPosts[[#This Row],[poster_id]])","v":0}]
[12500,7,2775,8821,null,"2011-10-23T15:58:02",null,null,8,{"$f":"COUNTIF(top10Usrs[Top 10 Posters],tblPosts[[#This Row],[poster_id]])","v":1}]
[12507,1,2779,8706,null,"2011-10-24T00:11:18",null,null,3,{"$f":"COUNTIF(top10Usrs[Top 10 Posters],tblPosts[[#This Row],[poster_id]])","v":0}]
[12519,7,2781,8821,null,"2011-10-24T04:58:34",null,null,7,{"$f":"COUNTIF(top10Usrs[Top 10 Posters],tblPosts[[#This Row],[poster_id]])","v":1}]
[12531,1,2785,8863,null,"2011-10-24T06:06:15",null,null,3,{"$f":"COUNTIF(top10Usrs[Top 10 Posters],tblPosts[[#This Row],[poster_id]])","v":0}]
[12538,1,2783,8322,null,"2011-10-24T10:10:52",null,null,2,{"$f":"COUNTIF(top10Usrs[Top 10 Posters],tblPosts[[#This Row],[poster_id]])","v":0}]
[12541,7,2775,8315,null,"2011-10-24T11:41:37",null,null,10,{"$f":"COUNTIF(top10Usrs[Top 10 Posters],tblPosts[[#This Row],[poster_id]])","v":0}]
[12553,1,2788,8528,null,"2011-10-24T15:17:18",null,null,3,{"$f":"COUNTIF(top10Usrs[Top 10 Posters],tblPosts[[#This Row],[poster_id]])","v":0}]
[12559,1,2789,8883,null,"2011-10-24T16:25:50",null,null,1,{"$f":"COUNTIF(top10Usrs[Top 10 Posters],tblPosts[[#This Row],[poster_id]])","v":0}]
[12571,1,2791,6998,null,"2011-10-24T17:59:46",null,null,2,{"$f":"COUNTIF(top10Usrs[Top 10 Posters],tblPosts[[#This Row],[poster_id]])","v":1}]
[12578,1,2792,6998,null,"2011-10-24T19:06:00",null,null,2,{"$f":"COUNTIF(top10Usrs[Top 10 Posters],tblPosts[[#This Row],[poster_id]])","v":1}]
[12590,4,2796,24,null,"2011-10-25T00:21:34",null,null,1,{"$f":"COUNTIF(top10Usrs[Top 10 Posters],tblPosts[[#This Row],[poster_id]])","v":1}]
[12602,7,2799,24,null,"2011-10-25T04:48:30",null,null,2,{"$f":"COUNTIF(top10Usrs[Top 10 Posters],tblPosts[[#This Row],[poster_id]])","v":1}]
[12609,7,2800,24,null,"2011-10-25T06:44:01",null,null,4,{"$f":"COUNTIF(top10Usrs[Top 10 Posters],tblPosts[[#This Row],[poster_id]])","v":1}]
[12612,7,2800,8821,null,"2011-10-25T06:57:25",null,null,5,{"$f":"COUNTIF(top10Usrs[Top 10 Posters],tblPosts[[#This Row],[poster_id]])","v":1}]
[12628,1,2802,6867,null,"2011-10-25T10:15:32",null,null,3,{"$f":"COUNTIF(top10Usrs[Top 10 Posters],tblPosts[[#This Row],[poster_id]])","v":0}]
[12631,1,2803,8945,null,"2011-10-25T10:53:31",null,null,1,{"$f":"COUNTIF(top10Usrs[Top 10 Posters],tblPosts[[#This Row],[poster_id]])","v":0}]
[12644,1,2794,8821,null,"2011-10-25T12:58:18",null,null,6,{"$f":"COUNTIF(top10Usrs[Top 10 Posters],tblPosts[[#This Row],[poster_id]])","v":1}]
[12649,1,2792,7840,null,"2011-10-25T13:16:21",null,null,6,{"$f":"COUNTIF(top10Usrs[Top 10 Posters],tblPosts[[#This Row],[poster_id]])","v":0}]
[12661,1,2807,8717,null,"2011-10-25T16:33:54",null,null,3,{"$f":"COUNTIF(top10Usrs[Top 10 Posters],tblPosts[[#This Row],[poster_id]])","v":0}]
[12673,1,2806,8821,null,"2011-10-25T17:35:40",null,null,11,{"$f":"COUNTIF(top10Usrs[Top 10 Posters],tblPosts[[#This Row],[poster_id]])","v":1}]
[12680,1,2794,6925,null,"2011-10-25T18:13:07",null,null,7,{"$f":"COUNTIF(top10Usrs[Top 10 Posters],tblPosts[[#This Row],[poster_id]])","v":1}]
[12683,1,2806,6998,null,"2011-10-25T18:43:14",null,null,17,{"$f":"COUNTIF(top10Usrs[Top 10 Posters],tblPosts[[#This Row],[poster_id]])","v":1}]
[12699,1,2776,8797,null,"2011-10-26T01:38:40",null,null,12,{"$f":"COUNTIF(top10Usrs[Top 10 Posters],tblPosts[[#This Row],[poster_id]])","v":0}]
[12702,1,2808,8572,null,"2011-10-26T02:24:53",null,null,3,{"$f":"COUNTIF(top10Usrs[Top 10 Posters],tblPosts[[#This Row],[poster_id]])","v":0}]
[12714,1,2786,6957,null,"2011-10-26T07:00:04",null,null,4,{"$f":"COUNTIF(top10Usrs[Top 10 Posters],tblPosts[[#This Row],[poster_id]])","v":0}]
[12725,1,2774,8315,null,"2011-10-26T12:59:58",null,null,15,{"$f":"COUNTIF(top10Usrs[Top 10 Posters],tblPosts[[#This Row],[poster_id]])","v":0}]
[12732,4,2,8957,null,"2011-10-26T14:07:44",null,null,165,{"$f":"COUNTIF(top10Usrs[Top 10 Posters],tblPosts[[#This Row],[poster_id]])","v":0}]
[12739,1,2808,8821,null,"2011-10-26T14:38:48",null,null,7,{"$f":"COUNTIF(top10Usrs[Top 10 Posters],tblPosts[[#This Row],[poster_id]])","v":1}]
[12751,7,2812,6998,null,"2011-10-26T16:37:46",null,null,11,{"$f":"COUNTIF(top10Usrs[Top 10 Posters],tblPosts[[#This Row],[poster_id]])","v":1}]
[12754,1,2815,6998,null,"2011-10-26T16:57:37",null,null,2,{"$f":"COUNTIF(top10Usrs[Top 10 Posters],tblPosts[[#This Row],[poster_id]])","v":1}]
[12770,1,2817,8717,null,"2011-10-26T20:06:31",null,null,3,{"$f":"COUNTIF(top10Usrs[Top 10 Posters],tblPosts[[#This Row],[poster_id]])","v":0}]
[12773,1,2816,6925,null,"2011-10-26T20:16:52",null,null,7,{"$f":"COUNTIF(top10Usrs[Top 10 Posters],tblPosts[[#This Row],[poster_id]])","v":1}]
[12785,1,2802,8651,null,"2011-10-27T01:27:27",null,null,5,{"$f":"COUNTIF(top10Usrs[Top 10 Posters],tblPosts[[#This Row],[poster_id]])","v":0}]
[12792,1,2818,8821,null,"2011-10-27T06:37:47",null,null,2,{"$f":"COUNTIF(top10Usrs[Top 10 Posters],tblPosts[[#This Row],[poster_id]])","v":1}]
[12804,1,1234,8709,null,"2011-10-27T09:09:24",null,null,12,{"$f":"COUNTIF(top10Usrs[Top 10 Posters],tblPosts[[#This Row],[poster_id]])","v":0}]
[12808,1,2820,8597,null,"2011-10-27T09:55:49",null,null,5,{"$f":"COUNTIF(top10Usrs[Top 10 Posters],tblPosts[[#This Row],[poster_id]])","v":0}]
[12822,1,2815,6998,null,"2011-10-27T14:02:00",null,null,7,{"$f":"COUNTIF(top10Usrs[Top 10 Posters],tblPosts[[#This Row],[poster_id]])","v":1}]
[12825,1,2816,6998,null,"2011-10-27T14:27:57",null,null,19,{"$f":"COUNTIF(top10Usrs[Top 10 Posters],tblPosts[[#This Row],[poster_id]])","v":1}]
[12841,1,2824,8673,null,"2011-10-27T19:08:41",null,null,3,{"$f":"COUNTIF(top10Usrs[Top 10 Posters],tblPosts[[#This Row],[poster_id]])","v":0}]
[12844,1,2824,6998,null,"2011-10-27T19:53:02",null,null,6,{"$f":"COUNTIF(top10Usrs[Top 10 Posters],tblPosts[[#This Row],[poster_id]])","v":1}]
[12856,1,2827,7974,null,"2011-10-27T21:57:15",null,null,3,{"$f":"COUNTIF(top10Usrs[Top 10 Posters],tblPosts[[#This Row],[poster_id]])","v":0}]
[12863,1,2827,7974,null,"2011-10-27T22:54:48",null,null,9,{"$f":"COUNTIF(top10Usrs[Top 10 Posters],tblPosts[[#This Row],[poster_id]])","v":0}]
[12875,3,2822,8920,null,"2011-10-28T04:10:17",null,null,9,{"$f":"COUNTIF(top10Usrs[Top 10 Posters],tblPosts[[#This Row],[poster_id]])","v":0}]
[12882,1,2829,8862,null,"2011-10-28T06:53:28",null,null,3,{"$f":"COUNTIF(top10Usrs[Top 10 Posters],tblPosts[[#This Row],[poster_id]])","v":0}]
[12889,1,2834,8955,null,"2011-10-28T10:43:30",null,null,1,{"$f":"COUNTIF(top10Usrs[Top 10 Posters],tblPosts[[#This Row],[poster_id]])","v":0}]
[12896,1,2825,8673,null,"2011-10-28T11:49:51",null,null,6,{"$f":"COUNTIF(top10Usrs[Top 10 Posters],tblPosts[[#This Row],[poster_id]])","v":0}]
[12912,1,2836,8695,null,"2011-10-28T14:15:15",null,null,2,{"$f":"COUNTIF(top10Usrs[Top 10 Posters],tblPosts[[#This Row],[poster_id]])","v":0}]
[12915,1,2802,6867,null,"2011-10-28T14:58:47",null,null,6,{"$f":"COUNTIF(top10Usrs[Top 10 Posters],tblPosts[[#This Row],[poster_id]])","v":0}]
[12931,1,2838,8695,null,"2011-10-28T17:16:55",null,null,4,{"$f":"COUNTIF(top10Usrs[Top 10 Posters],tblPosts[[#This Row],[poster_id]])","v":0}]
[12934,1,2774,8315,null,"2011-10-28T17:37:36",null,null,26,{"$f":"COUNTIF(top10Usrs[Top 10 Posters],tblPosts[[#This Row],[poster_id]])","v":0}]
[12946,1,2774,6998,null,"2011-10-28T18:24:17",null,null,27,{"$f":"COUNTIF(top10Usrs[Top 10 Posters],tblPosts[[#This Row],[poster_id]])","v":1}]
[12953,1,2807,8717,null,"2011-10-28T19:17:05",null,null,8,{"$f":"COUNTIF(top10Usrs[Top 10 Posters],tblPosts[[#This Row],[poster_id]])","v":0}]
[12965,1,2843,8478,null,"2011-10-29T02:51:52",null,null,3,{"$f":"COUNTIF(top10Usrs[Top 10 Posters],tblPosts[[#This Row],[poster_id]])","v":0}]
[12968,1,2839,8478,null,"2011-10-29T03:19:59",null,null,9,{"$f":"COUNTIF(top10Usrs[Top 10 Posters],tblPosts[[#This Row],[poster_id]])","v":0}]
[12980,1,2827,7974,null,"2011-10-29T08:27:50",null,null,12,{"$f":"COUNTIF(top10Usrs[Top 10 Posters],tblPosts[[#This Row],[poster_id]])","v":0}]
[12986,4,2,8752,null,"2011-10-29T09:59:43",null,null,166,{"$f":"COUNTIF(top10Usrs[Top 10 Posters],tblPosts[[#This Row],[poster_id]])","v":0}]
[13002,1,2845,24,null,"2011-10-29T14:27:02",null,null,6,{"$f":"COUNTIF(top10Usrs[Top 10 Posters],tblPosts[[#This Row],[poster_id]])","v":1}]
[13005,1,2849,8986,null,"2011-10-29T15:39:01",null,null,1,{"$f":"COUNTIF(top10Usrs[Top 10 Posters],tblPosts[[#This Row],[poster_id]])","v":0}]
[13017,1,2839,8478,null,"2011-10-29T22:36:31",null,null,16,{"$f":"COUNTIF(top10Usrs[Top 10 Posters],tblPosts[[#This Row],[poster_id]])","v":0}]
[13024,1,2829,8821,null,"2011-10-30T04:08:43",null,null,8,{"$f":"COUNTIF(top10Usrs[Top 10 Posters],tblPosts[[#This Row],[poster_id]])","v":1}]
[13036,7,2844,8821,null,"2011-10-30T08:08:17",null,null,14,{"$f":"COUNTIF(top10Usrs[Top 10 Posters],tblPosts[[#This Row],[poster_id]])","v":1}]
[13043,1,2852,8942,null,"2011-10-30T12:52:03",null,null,2,{"$f":"COUNTIF(top10Usrs[Top 10 Posters],tblPosts[[#This Row],[poster_id]])","v":0}]
[13055,1,2856,24,null,"2011-10-31T00:45:31",null,null,2,{"$f":"COUNTIF(top10Usrs[Top 10 Posters],tblPosts[[#This Row],[poster_id]])","v":1}]
[13058,1,2854,8651,null,"2011-10-31T00:48:37",null,null,7,{"$f":"COUNTIF(top10Usrs[Top 10 Posters],tblPosts[[#This Row],[poster_id]])","v":0}]
[13071,1,2860,8973,null,"2011-10-31T11:09:55",null,null,1,{"$f":"COUNTIF(top10Usrs[Top 10 Posters],tblPosts[[#This Row],[poster_id]])","v":0}]
[13076,1,2862,8996,null,"2011-10-31T12:29:09",null,null,1,{"$f":"COUNTIF(top10Usrs[Top 10 Posters],tblPosts[[#This Row],[poster_id]])","v":0}]
[13088,1,2864,6998,null,"2011-10-31T14:49:30",null,null,11,{"$f":"COUNTIF(top10Usrs[Top 10 Posters],tblPosts[[#This Row],[poster_id]])","v":1}]
[13095,1,2862,6998,null,"2011-10-31T15:18:22",null,null,2,{"$f":"COUNTIF(top10Usrs[Top 10 Posters],tblPosts[[#This Row],[poster_id]])","v":1}]
[13107,1,2864,8695,null,"2011-10-31T15:41:59",null,null,15,{"$f":"COUNTIF(top10Usrs[Top 10 Posters],tblPosts[[#This Row],[poster_id]])","v":0}]
[13114,1,2864,8956,null,"2011-10-31T16:05:00",null,null,8,{"$f":"COUNTIF(top10Usrs[Top 10 Posters],tblPosts[[#This Row],[poster_id]])","v":0}]
[13126,1,2864,8956,null,"2011-10-31T16:28:12",null,null,10,{"$f":"COUNTIF(top10Usrs[Top 10 Posters],tblPosts[[#This Row],[poster_id]])","v":0}]
[13129,1,2864,8956,null,"2011-10-31T16:34:02",null,null,5,{"$f":"COUNTIF(top10Usrs[Top 10 Posters],tblPosts[[#This Row],[poster_id]])","v":0}]
[13145,1,2870,8673,null,"2011-10-31T17:56:41",null,null,3,{"$f":"COUNTIF(top10Usrs[Top 10 Posters],tblPosts[[#This Row],[poster_id]])","v":0}]
[13152,1,2871,6998,null,"2011-10-31T18:46:14",null,null,4,{"$f":"COUNTIF(top10Usrs[Top 10 Posters],tblPosts[[#This Row],[poster_id]])","v":1}]
[13159,1,2872,6998,null,"2011-10-31T20:05:40",null,null,2,{"$f":"COUNTIF(top10Usrs[Top 10 Posters],tblPosts[[#This Row],[poster_id]])","v":1}]
[13166,1,2861,8883,null,"2011-10-31T20:53:43",null,null,5,{"$f":"COUNTIF(top10Usrs[Top 10 Posters],tblPosts[[#This Row],[poster_id]])","v":0}]
[13178,1,2864,8956,null,"2011-11-01T00:11:13",null,null,8,{"$f":"COUNTIF(top10Usrs[Top 10 Posters],tblPosts[[#This Row],[poster_id]])","v":0}]
[13185,1,2874,8821,null,"2011-11-01T02:23:02",null,null,3,{"$f":"COUNTIF(top10Usrs[Top 10 Posters],tblPosts[[#This Row],[poster_id]])","v":1}]
[13197,1,2875,8695,null,"2011-11-01T12:01:30",null,null,2,{"$f":"COUNTIF(top10Usrs[Top 10 Posters],tblPosts[[#This Row],[poster_id]])","v":0}]
[13200,1,2875,8695,null,"2011-11-01T12:19:34",null,null,4,{"$f":"COUNTIF(top10Usrs[Top 10 Posters],tblPosts[[#This Row],[poster_id]])","v":0}]
[13216,7,2250,8315,null,"2011-11-01T14:52:27",null,null,24,{"$f":"COUNTIF(top10Usrs[Top 10 Posters],tblPosts[[#This Row],[poster_id]])","v":0}]
[13219,1,2862,6998,null,"2011-11-01T15:09:54",null,null,6,{"$f":"COUNTIF(top10Usrs[Top 10 Posters],tblPosts[[#This Row],[poster_id]])","v":1}]
[13226,1,2878,9005,null,"2011-11-01T16:59:35",null,null,1,{"$f":"COUNTIF(top10Usrs[Top 10 Posters],tblPosts[[#This Row],[poster_id]])","v":0}]
[13235,7,2250,8315,null,"2011-11-01T17:40:17",null,null,30,{"$f":"COUNTIF(top10Usrs[Top 10 Posters],tblPosts[[#This Row],[poster_id]])","v":0}]
[13249,1,2882,9009,null,"2011-11-01T19:57:40",null,null,1,{"$f":"COUNTIF(top10Usrs[Top 10 Posters],tblPosts[[#This Row],[poster_id]])","v":0}]
[13256,1,2880,8821,null,"2011-11-02T02:59:20",null,null,4,{"$f":"COUNTIF(top10Usrs[Top 10 Posters],tblPosts[[#This Row],[poster_id]])","v":1}]
[13268,1,2877,8972,null,"2011-11-02T09:26:03",null,null,3,{"$f":"COUNTIF(top10Usrs[Top 10 Posters],tblPosts[[#This Row],[poster_id]])","v":0}]
[13271,1,2885,8673,null,"2011-11-02T12:49:26",null,null,1,{"$f":"COUNTIF(top10Usrs[Top 10 Posters],tblPosts[[#This Row],[poster_id]])","v":0}]
[13287,7,2759,8753,null,"2011-11-02T16:43:00",null,null,2,{"$f":"COUNTIF(top10Usrs[Top 10 Posters],tblPosts[[#This Row],[poster_id]])","v":0}]
[13290,1,2888,6925,null,"2011-11-02T17:13:18",null,null,4,{"$f":"COUNTIF(top10Usrs[Top 10 Posters],tblPosts[[#This Row],[poster_id]])","v":1}]
[13297,1,2876,8956,null,"2011-11-02T18:40:41",null,null,17,{"$f":"COUNTIF(top10Usrs[Top 10 Posters],tblPosts[[#This Row],[poster_id]])","v":0}]
[13309,1,2891,6925,null,"2011-11-02T23:09:21",null,null,2,{"$f":"COUNTIF(top10Usrs[Top 10 Posters],tblPosts[[#This Row],[poster_id]])","v":1}]
[13316,1,2883,24,null,"2011-11-03T10:07:18",null,null,4,{"$f":"COUNTIF(top10Usrs[Top 10 Posters],tblPosts[[#This Row],[poster_id]])","v":1}]
[13327,1,2894,8132,null,"2011-11-03T19:44:38",null,null,1,{"$f":"COUNTIF(top10Usrs[Top 10 Posters],tblPosts[[#This Row],[poster_id]])","v":0}]
[13339,1,2894,8132,null,"2011-11-03T22:53:52",null,null,3,{"$f":"COUNTIF(top10Usrs[Top 10 Posters],tblPosts[[#This Row],[poster_id]])","v":0}]
[13346,1,2898,5408,null,"2011-11-04T05:22:53",null,null,2,{"$f":"COUNTIF(top10Usrs[Top 10 Posters],tblPosts[[#This Row],[poster_id]])","v":1}]
[13358,2,2903,5408,null,"2011-11-04T12:26:37",null,null,2,{"$f":"COUNTIF(top10Usrs[Top 10 Posters],tblPosts[[#This Row],[poster_id]])","v":1}]
[13361,1,2897,6998,null,"2011-11-04T13:07:39",null,null,3,{"$f":"COUNTIF(top10Usrs[Top 10 Posters],tblPosts[[#This Row],[poster_id]])","v":1}]
[13368,1,2898,6998,null,"2011-11-04T14:54:02",null,null,4,{"$f":"COUNTIF(top10Usrs[Top 10 Posters],tblPosts[[#This Row],[poster_id]])","v":1}]
[13380,1,2898,9025,null,"2011-11-04T18:34:26",null,null,11,{"$f":"COUNTIF(top10Usrs[Top 10 Posters],tblPosts[[#This Row],[poster_id]])","v":0}]
[13392,6,2908,8315,null,"2011-11-05T00:38:54",null,null,1,{"$f":"COUNTIF(top10Usrs[Top 10 Posters],tblPosts[[#This Row],[poster_id]])","v":0}]
[13399,1,2909,8821,null,"2011-11-05T05:57:26",null,null,3,{"$f":"COUNTIF(top10Usrs[Top 10 Posters],tblPosts[[#This Row],[poster_id]])","v":1}]
[13407,1,2910,8973,null,"2011-11-05T11:30:54",null,null,8,{"$f":"COUNTIF(top10Usrs[Top 10 Posters],tblPosts[[#This Row],[poster_id]])","v":0}]
[13417,6,2908,8572,null,"2011-11-05T21:22:14",null,null,4,{"$f":"COUNTIF(top10Usrs[Top 10 Posters],tblPosts[[#This Row],[poster_id]])","v":0}]
[13429,1,2906,24,null,"2011-11-06T09:05:22",null,null,3,{"$f":"COUNTIF(top10Usrs[Top 10 Posters],tblPosts[[#This Row],[poster_id]])","v":1}]
[13432,1,2893,9021,null,"2011-11-06T10:43:55",null,null,6,{"$f":"COUNTIF(top10Usrs[Top 10 Posters],tblPosts[[#This Row],[poster_id]])","v":0}]
[13439,1,2911,9037,null,"2011-11-06T16:52:38",null,null,11,{"$f":"COUNTIF(top10Usrs[Top 10 Posters],tblPosts[[#This Row],[poster_id]])","v":0}]
[13451,1,2918,8821,null,"2011-11-07T08:39:43",null,null,2,{"$f":"COUNTIF(top10Usrs[Top 10 Posters],tblPosts[[#This Row],[poster_id]])","v":1}]
[13463,1,2905,8956,null,"2011-11-07T12:42:06",null,null,5,{"$f":"COUNTIF(top10Usrs[Top 10 Posters],tblPosts[[#This Row],[poster_id]])","v":0}]
[13470,1,2877,8821,null,"2011-11-07T14:08:06",null,null,6,{"$f":"COUNTIF(top10Usrs[Top 10 Posters],tblPosts[[#This Row],[poster_id]])","v":1}]
[13482,1,2925,9045,null,"2011-11-07T15:16:19",null,null,1,{"$f":"COUNTIF(top10Usrs[Top 10 Posters],tblPosts[[#This Row],[poster_id]])","v":0}]
[13488,1,2927,9046,null,"2011-11-07T16:57:11",null,null,1,{"$f":"COUNTIF(top10Usrs[Top 10 Posters],tblPosts[[#This Row],[poster_id]])","v":0}]
[13500,1,2895,8695,null,"2011-11-07T18:46:46",null,null,4,{"$f":"COUNTIF(top10Usrs[Top 10 Posters],tblPosts[[#This Row],[poster_id]])","v":0}]
[13503,1,2925,6998,null,"2011-11-07T19:23:59",null,null,2,{"$f":"COUNTIF(top10Usrs[Top 10 Posters],tblPosts[[#This Row],[poster_id]])","v":1}]
[13510,1,2929,6998,null,"2011-11-07T20:22:27",null,null,3,{"$f":"COUNTIF(top10Usrs[Top 10 Posters],tblPosts[[#This Row],[poster_id]])","v":1}]
[13522,1,2927,8839,null,"2011-11-07T20:53:04",null,null,12,{"$f":"COUNTIF(top10Usrs[Top 10 Posters],tblPosts[[#This Row],[poster_id]])","v":0}]
[13529,1,2927,8839,null,"2011-11-07T21:09:01",null,null,16,{"$f":"COUNTIF(top10Usrs[Top 10 Posters],tblPosts[[#This Row],[poster_id]])","v":0}]
[13541,1,2931,9045,null,"2011-11-08T00:55:20",null,null,3,{"$f":"COUNTIF(top10Usrs[Top 10 Posters],tblPosts[[#This Row],[poster_id]])","v":0}]
[13553,1,2918,8001,null,"2011-11-08T02:46:02",null,null,11,{"$f":"COUNTIF(top10Usrs[Top 10 Posters],tblPosts[[#This Row],[poster_id]])","v":0}]
[13560,1,2918,8821,null,"2011-11-08T04:20:30",null,null,16,{"$f":"COUNTIF(top10Usrs[Top 10 Posters],tblPosts[[#This Row],[poster_id]])","v":1}]
[13572,1,2927,9046,null,"2011-11-08T09:57:46",null,null,19,{"$f":"COUNTIF(top10Usrs[Top 10 Posters],tblPosts[[#This Row],[poster_id]])","v":0}]
[13579,1,2924,8821,null,"2011-11-08T12:40:19",null,null,6,{"$f":"COUNTIF(top10Usrs[Top 10 Posters],tblPosts[[#This Row],[poster_id]])","v":1}]
[13581,1,2931,8821,null,"2011-11-08T12:47:06",null,null,6,{"$f":"COUNTIF(top10Usrs[Top 10 Posters],tblPosts[[#This Row],[poster_id]])","v":1}]
[13593,1,2936,6998,null,"2011-11-08T15:00:14",null,null,2,{"$f":"COUNTIF(top10Usrs[Top 10 Posters],tblPosts[[#This Row],[poster_id]])","v":1}]
[13600,1,2937,9025,null,"2011-11-08T16:26:30",null,null,3,{"$f":"COUNTIF(top10Usrs[Top 10 Posters],tblPosts[[#This Row],[poster_id]])","v":0}]
[13612,2,2940,6998,null,"2011-11-08T18:47:16",null,null,2,{"$f":"COUNTIF(top10Usrs[Top 10 Posters],tblPosts[[#This Row],[poster_id]])","v":1}]
[13624,1,2924,8821,null,"2011-11-09T02:18:59",null,null,8,{"$f":"COUNTIF(top10Usrs[Top 10 Posters],tblPosts[[#This Row],[poster_id]])","v":1}]
[13631,1,2924,8956,null,"2011-11-09T09:49:38",null,null,9,{"$f":"COUNTIF(top10Usrs[Top 10 Posters],tblPosts[[#This Row],[poster_id]])","v":0}]
[13643,1,2938,6998,null,"2011-11-09T13:11:44",null,null,4,{"$f":"COUNTIF(top10Usrs[Top 10 Posters],tblPosts[[#This Row],[poster_id]])","v":1}]
[13646,1,2924,8651,null,"2011-11-09T13:30:36",null,null,15,{"$f":"COUNTIF(top10Usrs[Top 10 Posters],tblPosts[[#This Row],[poster_id]])","v":0}]
[13653,1,2950,9058,null,"2011-11-09T14:46:23",null,null,3,{"$f":"COUNTIF(top10Usrs[Top 10 Posters],tblPosts[[#This Row],[poster_id]])","v":0}]
[13662,1,2949,6998,null,"2011-11-09T15:15:57",null,null,5,{"$f":"COUNTIF(top10Usrs[Top 10 Posters],tblPosts[[#This Row],[poster_id]])","v":1}]
[13671,1,2948,8695,null,"2011-11-09T18:11:02",null,null,4,{"$f":"COUNTIF(top10Usrs[Top 10 Posters],tblPosts[[#This Row],[poster_id]])","v":0}]
[13683,1,2954,6998,null,"2011-11-09T19:28:52",null,null,2,{"$f":"COUNTIF(top10Usrs[Top 10 Posters],tblPosts[[#This Row],[poster_id]])","v":1}]
[13695,7,2956,8695,null,"2011-11-09T21:05:23",null,null,4,{"$f":"COUNTIF(top10Usrs[Top 10 Posters],tblPosts[[#This Row],[poster_id]])","v":0}]
[13702,1,2958,9064,null,"2011-11-10T01:23:55",null,null,1,{"$f":"COUNTIF(top10Usrs[Top 10 Posters],tblPosts[[#This Row],[poster_id]])","v":0}]
[13714,1,2960,8821,null,"2011-11-10T06:24:35",null,null,4,{"$f":"COUNTIF(top10Usrs[Top 10 Posters],tblPosts[[#This Row],[poster_id]])","v":1}]
[13721,1,2819,8825,null,"2011-11-10T08:21:27",null,null,7,{"$f":"COUNTIF(top10Usrs[Top 10 Posters],tblPosts[[#This Row],[poster_id]])","v":0}]
[13724,1,2819,8651,null,"2011-11-10T08:38:34",null,null,9,{"$f":"COUNTIF(top10Usrs[Top 10 Posters],tblPosts[[#This Row],[poster_id]])","v":0}]
[13736,1,2964,24,null,"2011-11-10T12:10:46",null,null,2,{"$f":"COUNTIF(top10Usrs[Top 10 Posters],tblPosts[[#This Row],[poster_id]])","v":1}]
[13743,1,2961,9068,null,"2011-11-10T15:58:10",null,null,7,{"$f":"COUNTIF(top10Usrs[Top 10 Posters],tblPosts[[#This Row],[poster_id]])","v":0}]
[13754,1,2961,9068,null,"2011-11-10T17:40:23",null,null,9,{"$f":"COUNTIF(top10Usrs[Top 10 Posters],tblPosts[[#This Row],[poster_id]])","v":0}]
[13766,1,2969,8478,null,"2011-11-10T18:48:38",null,null,4,{"$f":"COUNTIF(top10Usrs[Top 10 Posters],tblPosts[[#This Row],[poster_id]])","v":0}]
[13773,1,2970,8478,null,"2011-11-10T19:12:37",null,null,6,{"$f":"COUNTIF(top10Usrs[Top 10 Posters],tblPosts[[#This Row],[poster_id]])","v":0}]
[13785,1,2972,9075,null,"2011-11-10T22:08:05",null,null,1,{"$f":"COUNTIF(top10Usrs[Top 10 Posters],tblPosts[[#This Row],[poster_id]])","v":0}]
[13792,1,2972,7536,null,"2011-11-11T02:43:30",null,null,3,{"$f":"COUNTIF(top10Usrs[Top 10 Posters],tblPosts[[#This Row],[poster_id]])","v":0}]
[13795,1,2973,7536,null,"2011-11-11T02:57:06",null,null,2,{"$f":"COUNTIF(top10Usrs[Top 10 Posters],tblPosts[[#This Row],[poster_id]])","v":0}]
[13807,1,2979,9078,null,"2011-11-11T05:33:07",null,null,1,{"$f":"COUNTIF(top10Usrs[Top 10 Posters],tblPosts[[#This Row],[poster_id]])","v":0}]
[13814,1,2934,8821,null,"2011-11-11T07:32:56",null,null,20,{"$f":"COUNTIF(top10Usrs[Top 10 Posters],tblPosts[[#This Row],[poster_id]])","v":1}]
[13826,1,2979,7351,null,"2011-11-11T11:31:15",null,null,2,{"$f":"COUNTIF(top10Usrs[Top 10 Posters],tblPosts[[#This Row],[poster_id]])","v":1}]
[13834,1,2983,5408,null,"2011-11-11T14:00:42",null,null,3,{"$f":"COUNTIF(top10Usrs[Top 10 Posters],tblPosts[[#This Row],[poster_id]])","v":1}]
[13844,1,2987,8861,null,"2011-11-11T16:10:38",null,null,1,{"$f":"COUNTIF(top10Usrs[Top 10 Posters],tblPosts[[#This Row],[poster_id]])","v":0}]
[13856,1,2988,8821,null,"2011-11-12T02:59:56",null,null,2,{"$f":"COUNTIF(top10Usrs[Top 10 Posters],tblPosts[[#This Row],[poster_id]])","v":1}]
[13863,1,2959,9066,null,"2011-11-12T06:14:15",null,null,5,{"$f":"COUNTIF(top10Usrs[Top 10 Posters],tblPosts[[#This Row],[poster_id]])","v":0}]
[13866,1,2992,8597,null,"2011-11-12T08:49:16",null,null,1,{"$f":"COUNTIF(top10Usrs[Top 10 Posters],tblPosts[[#This Row],[poster_id]])","v":0}]
[13878,1,2988,9083,null,"2011-11-12T13:05:23",null,null,14,{"$f":"COUNTIF(top10Usrs[Top 10 Posters],tblPosts[[#This Row],[poster_id]])","v":0}]
[13885,1,2988,9083,null,"2011-11-12T18:51:22",null,null,18,{"$f":"COUNTIF(top10Usrs[Top 10 Posters],tblPosts[[#This Row],[poster_id]])","v":0}]
[13897,1,2992,8002,null,"2011-11-13T01:48:55",null,null,3,{"$f":"COUNTIF(top10Usrs[Top 10 Posters],tblPosts[[#This Row],[poster_id]])","v":0}]
[13904,1,2983,24,null,"2011-11-13T08:07:57",null,null,6,{"$f":"COUNTIF(top10Usrs[Top 10 Posters],tblPosts[[#This Row],[poster_id]])","v":1}]
[13915,1,3000,8825,null,"2011-11-13T22:13:57",null,null,1,{"$f":"COUNTIF(top10Usrs[Top 10 Posters],tblPosts[[#This Row],[poster_id]])","v":0}]
[13927,7,3004,6884,null,"2011-11-14T06:54:45",null,null,1,{"$f":"COUNTIF(top10Usrs[Top 10 Posters],tblPosts[[#This Row],[poster_id]])","v":0}]
[13934,1,3002,7351,null,"2011-11-14T09:28:20",null,null,2,{"$f":"COUNTIF(top10Usrs[Top 10 Posters],tblPosts[[#This Row],[poster_id]])","v":1}]
[13937,1,3000,6957,null,"2011-11-14T09:33:31",null,null,4,{"$f":"COUNTIF(top10Usrs[Top 10 Posters],tblPosts[[#This Row],[poster_id]])","v":0}]
[13949,1,2965,6998,null,"2011-11-14T13:52:13",null,null,6,{"$f":"COUNTIF(top10Usrs[Top 10 Posters],tblPosts[[#This Row],[poster_id]])","v":1}]
[13956,1,3006,8821,null,"2011-11-14T15:15:01",null,null,8,{"$f":"COUNTIF(top10Usrs[Top 10 Posters],tblPosts[[#This Row],[poster_id]])","v":1}]
[13968,1,2998,8821,null,"2011-11-14T16:28:10",null,null,4,{"$f":"COUNTIF(top10Usrs[Top 10 Posters],tblPosts[[#This Row],[poster_id]])","v":1}]
[13975,2,3010,9099,null,"2011-11-14T17:59:39",null,null,4,{"$f":"COUNTIF(top10Usrs[Top 10 Posters],tblPosts[[#This Row],[poster_id]])","v":0}]
[13987,7,3004,8821,null,"2011-11-15T01:48:21",null,null,4,{"$f":"COUNTIF(top10Usrs[Top 10 Posters],tblPosts[[#This Row],[poster_id]])","v":1}]
[13999,1,3014,8441,null,"2011-11-15T07:51:42",null,null,1,{"$f":"COUNTIF(top10Usrs[Top 10 Posters],tblPosts[[#This Row],[poster_id]])","v":0}]
[14006,1,2982,9021,null,"2011-11-15T10:47:51",null,null,2,{"$f":"COUNTIF(top10Usrs[Top 10 Posters],tblPosts[[#This Row],[poster_id]])","v":0}]
[14008,1,3016,8821,null,"2011-11-15T11:18:17",null,null,2,{"$f":"COUNTIF(top10Usrs[Top 10 Posters],tblPosts[[#This Row],[poster_id]])","v":1}]
[14024,7,3007,6995,null,"2011-11-15T16:40:44",null,null,7,{"$f":"COUNTIF(top10Usrs[Top 10 Posters],tblPosts[[#This Row],[poster_id]])","v":0}]
[14027,1,3019,9113,null,"2011-11-15T19:11:16",null,null,1,{"$f":"COUNTIF(top10Usrs[Top 10 Posters],tblPosts[[#This Row],[poster_id]])","v":0}]
[14039,7,3013,6884,null,"2011-11-16T05:41:32",null,null,9,{"$f":"COUNTIF(top10Usrs[Top 10 Posters],tblPosts[[#This Row],[poster_id]])","v":0}]
[14046,1,3023,8821,null,"2011-11-16T07:56:49",null,null,2,{"$f":"COUNTIF(top10Usrs[Top 10 Posters],tblPosts[[#This Row],[poster_id]])","v":1}]
[14058,1,3009,8956,null,"2011-11-16T14:57:12",null,null,4,{"$f":"COUNTIF(top10Usrs[Top 10 Posters],tblPosts[[#This Row],[poster_id]])","v":0}]
[14070,1,3030,6998,null,"2011-11-16T18:09:44",null,null,3,{"$f":"COUNTIF(top10Usrs[Top 10 Posters],tblPosts[[#This Row],[poster_id]])","v":1}]
[14077,1,2997,9091,null,"2011-11-16T19:26:20",null,null,4,{"$f":"COUNTIF(top10Usrs[Top 10 Posters],tblPosts[[#This Row],[poster_id]])","v":0}]
[14087,1,3023,8572,null,"2011-11-16T22:35:12",null,null,3,{"$f":"COUNTIF(top10Usrs[Top 10 Posters],tblPosts[[#This Row],[poster_id]])","v":0}]
[14095,1,3030,8266,null,"2011-11-17T06:03:59",null,null,4,{"$f":"COUNTIF(top10Usrs[Top 10 Posters],tblPosts[[#This Row],[poster_id]])","v":0}]
[14098,1,3030,8821,null,"2011-11-17T07:50:18",null,null,5,{"$f":"COUNTIF(top10Usrs[Top 10 Posters],tblPosts[[#This Row],[poster_id]])","v":1}]
[14110,1,3041,8656,null,"2011-11-17T13:12:45",null,null,1,{"$f":"COUNTIF(top10Usrs[Top 10 Posters],tblPosts[[#This Row],[poster_id]])","v":0}]
[14117,1,3031,7840,null,"2011-11-17T14:24:49",null,null,6,{"$f":"COUNTIF(top10Usrs[Top 10 Posters],tblPosts[[#This Row],[poster_id]])","v":0}]
[14129,7,3042,6998,null,"2011-11-17T16:26:10",null,null,4,{"$f":"COUNTIF(top10Usrs[Top 10 Posters],tblPosts[[#This Row],[poster_id]])","v":1}]
[14136,1,3044,6998,null,"2011-11-17T17:20:29",null,null,2,{"$f":"COUNTIF(top10Usrs[Top 10 Posters],tblPosts[[#This Row],[poster_id]])","v":1}]
[14148,1,3047,9074,null,"2011-11-17T20:49:56",null,null,1,{"$f":"COUNTIF(top10Usrs[Top 10 Posters],tblPosts[[#This Row],[poster_id]])","v":0}]
[14151,1,3048,8883,null,"2011-11-17T21:13:09",null,null,1,{"$f":"COUNTIF(top10Usrs[Top 10 Posters],tblPosts[[#This Row],[poster_id]])","v":0}]
[14167,7,3013,6884,null,"2011-11-18T03:36:37",null,null,11,{"$f":"COUNTIF(top10Usrs[Top 10 Posters],tblPosts[[#This Row],[poster_id]])","v":0}]
[14170,1,3048,8821,null,"2011-11-18T04:48:21",null,null,2,{"$f":"COUNTIF(top10Usrs[Top 10 Posters],tblPosts[[#This Row],[poster_id]])","v":1}]
[14181,1,3053,8956,null,"2011-11-18T10:16:42",null,null,1,{"$f":"COUNTIF(top10Usrs[Top 10 Posters],tblPosts[[#This Row],[poster_id]])","v":0}]
[14188,1,2819,8651,null,"2011-11-18T12:28:12",null,null,11,{"$f":"COUNTIF(top10Usrs[Top 10 Posters],tblPosts[[#This Row],[poster_id]])","v":0}]
[14200,1,3054,24,null,"2011-11-18T14:54:57",null,null,2,{"$f":"COUNTIF(top10Usrs[Top 10 Posters],tblPosts[[#This Row],[poster_id]])","v":1}]
[14207,1,3027,6998,null,"2011-11-18T16:06:30",null,null,13,{"$f":"COUNTIF(top10Usrs[Top 10 Posters],tblPosts[[#This Row],[poster_id]])","v":1}]
[14219,1,3058,9085,null,"2011-11-18T18:17:17",null,null,1,{"$f":"COUNTIF(top10Usrs[Top 10 Posters],tblPosts[[#This Row],[poster_id]])","v":0}]
[14222,1,3057,9144,null,"2011-11-18T18:38:06",null,null,3,{"$f":"COUNTIF(top10Usrs[Top 10 Posters],tblPosts[[#This Row],[poster_id]])","v":0}]
[14238,1,3000,8821,null,"2011-11-19T01:27:34",null,null,21,{"$f":"COUNTIF(top10Usrs[Top 10 Posters],tblPosts[[#This Row],[poster_id]])","v":1}]
[14241,1,3049,9148,null,"2011-11-19T02:26:01",null,null,4,{"$f":"COUNTIF(top10Usrs[Top 10 Posters],tblPosts[[#This Row],[poster_id]])","v":0}]
[14251,1,3061,8885,null,"2011-11-19T10:02:20",null,null,1,{"$f":"COUNTIF(top10Usrs[Top 10 Posters],tblPosts[[#This Row],[poster_id]])","v":0}]
[14259,1,3063,8821,null,"2011-11-19T11:49:52",null,null,2,{"$f":"COUNTIF(top10Usrs[Top 10 Posters],tblPosts[[#This Row],[poster_id]])","v":1}]
[14271,1,2982,8821,null,"2011-11-19T17:36:02",null,null,9,{"$f":"COUNTIF(top10Usrs[Top 10 Posters],tblPosts[[#This Row],[poster_id]])","v":1}]
[14278,7,3013,8821,null,"2011-11-20T04:20:30",null,null,14,{"$f":"COUNTIF(top10Usrs[Top 10 Posters],tblPosts[[#This Row],[poster_id]])","v":1}]
[14290,1,3017,8821,null,"2011-11-20T13:48:03",null,null,8,{"$f":"COUNTIF(top10Usrs[Top 10 Posters],tblPosts[[#This Row],[poster_id]])","v":1}]
[14293,1,3066,9083,null,"2011-11-20T15:48:56",null,null,8,{"$f":"COUNTIF(top10Usrs[Top 10 Posters],tblPosts[[#This Row],[poster_id]])","v":0}]
[14309,1,3027,9148,null,"2011-11-21T10:09:40",null,null,25,{"$f":"COUNTIF(top10Usrs[Top 10 Posters],tblPosts[[#This Row],[poster_id]])","v":0}]
[14312,1,3018,8213,null,"2011-11-21T12:30:43",null,null,4,{"$f":"COUNTIF(top10Usrs[Top 10 Posters],tblPosts[[#This Row],[poster_id]])","v":0}]
[14328,1,3027,9123,null,"2011-11-21T15:53:36",null,null,30,{"$f":"COUNTIF(top10Usrs[Top 10 Posters],tblPosts[[#This Row],[poster_id]])","v":0}]
[14331,1,3075,6998,null,"2011-11-21T16:17:09",null,null,2,{"$f":"COUNTIF(top10Usrs[Top 10 Posters],tblPosts[[#This Row],[poster_id]])","v":1}]
[14342,1,3075,6998,null,"2011-11-21T18:34:10",null,null,5,{"$f":"COUNTIF(top10Usrs[Top 10 Posters],tblPosts[[#This Row],[poster_id]])","v":1}]
[14349,1,3075,8528,null,"2011-11-21T19:35:40",null,null,6,{"$f":"COUNTIF(top10Usrs[Top 10 Posters],tblPosts[[#This Row],[poster_id]])","v":0}]
[14361,1,3082,7175,null,"2011-11-21T21:26:39",null,null,1,{"$f":"COUNTIF(top10Usrs[Top 10 Posters],tblPosts[[#This Row],[poster_id]])","v":0}]
[14364,1,3084,8825,null,"2011-11-22T01:00:44",null,null,1,{"$f":"COUNTIF(top10Usrs[Top 10 Posters],tblPosts[[#This Row],[poster_id]])","v":0}]
[14380,1,3064,9083,null,"2011-11-22T08:12:58",null,null,3,{"$f":"COUNTIF(top10Usrs[Top 10 Posters],tblPosts[[#This Row],[poster_id]])","v":0}]
[14383,1,3067,9149,null,"2011-11-22T08:39:48",null,null,7,{"$f":"COUNTIF(top10Usrs[Top 10 Posters],tblPosts[[#This Row],[poster_id]])","v":0}]
[14399,1,3067,8695,null,"2011-11-22T14:28:41",null,null,8,{"$f":"COUNTIF(top10Usrs[Top 10 Posters],tblPosts[[#This Row],[poster_id]])","v":0}]
[14402,1,3070,8695,null,"2011-11-22T15:10:35",null,null,4,{"$f":"COUNTIF(top10Usrs[Top 10 Posters],tblPosts[[#This Row],[poster_id]])","v":0}]
[14414,1,3092,9170,null,"2011-11-22T18:06:53",null,null,4,{"$f":"COUNTIF(top10Usrs[Top 10 Posters],tblPosts[[#This Row],[poster_id]])","v":0}]
[14421,1,3094,9171,null,"2011-11-22T19:38:35",null,null,1,{"$f":"COUNTIF(top10Usrs[Top 10 Posters],tblPosts[[#This Row],[poster_id]])","v":0}]
[14433,7,3096,8590,null,"2011-11-22T22:14:41",null,null,1,{"$f":"COUNTIF(top10Usrs[Top 10 Posters],tblPosts[[#This Row],[poster_id]])","v":0}]
[14435,1,3094,9171,null,"2011-11-22T23:05:50",null,null,7,{"$f":"COUNTIF(top10Usrs[Top 10 Posters],tblPosts[[#This Row],[poster_id]])","v":0}]
[14451,1,3080,6957,null,"2011-11-23T08:50:29",null,null,4,{"$f":"COUNTIF(top10Usrs[Top 10 Posters],tblPosts[[#This Row],[poster_id]])","v":0}]
[14454,1,3078,8885,null,"2011-11-23T11:05:04",null,null,2,{"$f":"COUNTIF(top10Usrs[Top 10 Posters],tblPosts[[#This Row],[poster_id]])","v":0}]
[14470,1,3100,376,null,"2011-11-23T15:03:35",null,null,7,{"$f":"COUNTIF(top10Usrs[Top 10 Posters],tblPosts[[#This Row],[poster_id]])","v":0}]
[14473,1,3068,6998,null,"2011-11-23T15:09:08",null,null,5,{"$f":"COUNTIF(top10Usrs[Top 10 Posters],tblPosts[[#This Row],[poster_id]])","v":1}]
[14485,1,3100,6998,null,"2011-11-23T18:38:48",null,null,14,{"$f":"COUNTIF(top10Usrs[Top 10 Posters],tblPosts[[#This Row],[poster_id]])","v":1}]
[14492,1,3103,6998,null,"2011-11-23T19:33:13",null,null,2,{"$f":"COUNTIF(top10Usrs[Top 10 Posters],tblPosts[[#This Row],[poster_id]])","v":1}]
[14504,1,3084,8825,null,"2011-11-23T22:29:46",null,null,12,{"$f":"COUNTIF(top10Usrs[Top 10 Posters],tblPosts[[#This Row],[poster_id]])","v":0}]
[14514,1,2685,8821,null,"2011-11-24T07:50:15",null,null,14,{"$f":"COUNTIF(top10Usrs[Top 10 Posters],tblPosts[[#This Row],[poster_id]])","v":1}]
[14522,1,3108,8821,null,"2011-11-24T15:02:01",null,null,2,{"$f":"COUNTIF(top10Usrs[Top 10 Posters],tblPosts[[#This Row],[poster_id]])","v":1}]
[14525,1,2911,9037,null,"2011-11-24T16:36:19",null,null,26,{"$f":"COUNTIF(top10Usrs[Top 10 Posters],tblPosts[[#This Row],[poster_id]])","v":0}]
[14541,1,3113,9185,null,"2011-11-25T08:47:03",null,null,1,{"$f":"COUNTIF(top10Usrs[Top 10 Posters],tblPosts[[#This Row],[poster_id]])","v":0}]
[14544,1,3107,7898,null,"2011-11-25T09:18:52",null,null,3,{"$f":"COUNTIF(top10Usrs[Top 10 Posters],tblPosts[[#This Row],[poster_id]])","v":0}]
[14556,1,3027,8821,null,"2011-11-25T12:16:30",null,null,42,{"$f":"COUNTIF(top10Usrs[Top 10 Posters],tblPosts[[#This Row],[poster_id]])","v":1}]
[14563,1,3106,9179,null,"2011-11-25T23:17:42",null,null,5,{"$f":"COUNTIF(top10Usrs[Top 10 Posters],tblPosts[[#This Row],[poster_id]])","v":0}]
[14575,1,3121,9195,null,"2011-11-26T23:07:15",null,null,2,{"$f":"COUNTIF(top10Usrs[Top 10 Posters],tblPosts[[#This Row],[poster_id]])","v":0}]
[14582,1,3124,9201,null,"2011-11-28T04:27:03",null,null,0,{"$f":"COUNTIF(top10Usrs[Top 10 Posters],tblPosts[[#This Row],[poster_id]])","v":0}]
[14594,1,3028,9125,null,"2011-11-28T10:28:09",null,null,6,{"$f":"COUNTIF(top10Usrs[Top 10 Posters],tblPosts[[#This Row],[poster_id]])","v":0}]
[14597,1,3129,8821,null,"2011-11-28T11:55:34",null,null,2,{"$f":"COUNTIF(top10Usrs[Top 10 Posters],tblPosts[[#This Row],[poster_id]])","v":1}]
[14612,1,3084,8821,null,"2011-11-29T03:02:50",null,null,16,{"$f":"COUNTIF(top10Usrs[Top 10 Posters],tblPosts[[#This Row],[poster_id]])","v":1}]
[14615,1,2776,8821,null,"2011-11-29T03:28:03",null,null,27,{"$f":"COUNTIF(top10Usrs[Top 10 Posters],tblPosts[[#This Row],[poster_id]])","v":1}]
[14622,1,3132,9210,null,"2011-11-29T06:51:17",null,null,3,{"$f":"COUNTIF(top10Usrs[Top 10 Posters],tblPosts[[#This Row],[poster_id]])","v":0}]
[14634,1,3129,9205,null,"2011-11-29T10:01:48",null,null,5,{"$f":"COUNTIF(top10Usrs[Top 10 Posters],tblPosts[[#This Row],[poster_id]])","v":0}]
[14646,1,3137,9220,null,"2011-11-30T03:36:12",null,null,1,{"$f":"COUNTIF(top10Usrs[Top 10 Posters],tblPosts[[#This Row],[poster_id]])","v":0}]
[14653,1,3136,8821,null,"2011-11-30T05:45:44",null,null,2,{"$f":"COUNTIF(top10Usrs[Top 10 Posters],tblPosts[[#This Row],[poster_id]])","v":1}]
[14665,1,2776,8797,null,"2011-11-30T12:00:03",null,null,30,{"$f":"COUNTIF(top10Usrs[Top 10 Posters],tblPosts[[#This Row],[poster_id]])","v":0}]
[14668,1,3139,8695,null,"2011-11-30T13:18:24",null,null,3,{"$f":"COUNTIF(top10Usrs[Top 10 Posters],tblPosts[[#This Row],[poster_id]])","v":0}]
[14678,3,2887,9017,null,"2011-11-30T16:08:20",null,null,16,{"$f":"COUNTIF(top10Usrs[Top 10 Posters],tblPosts[[#This Row],[poster_id]])","v":0}]
[14686,1,2999,9092,null,"2011-11-30T17:19:37",null,null,2,{"$f":"COUNTIF(top10Usrs[Top 10 Posters],tblPosts[[#This Row],[poster_id]])","v":0}]
[14693,1,3148,8216,null,"2011-12-01T01:46:38",null,null,1,{"$f":"COUNTIF(top10Usrs[Top 10 Posters],tblPosts[[#This Row],[poster_id]])","v":0}]
[14705,1,3149,8821,null,"2011-12-01T05:53:46",null,null,7,{"$f":"COUNTIF(top10Usrs[Top 10 Posters],tblPosts[[#This Row],[poster_id]])","v":1}]
[14717,1,3147,9231,null,"2011-12-01T10:44:19",null,null,2,{"$f":"COUNTIF(top10Usrs[Top 10 Posters],tblPosts[[#This Row],[poster_id]])","v":0}]
[14724,1,3153,8821,null,"2011-12-01T12:54:02",null,null,4,{"$f":"COUNTIF(top10Usrs[Top 10 Posters],tblPosts[[#This Row],[poster_id]])","v":1}]
[14736,1,3156,8357,null,"2011-12-01T15:09:33",null,null,2,{"$f":"COUNTIF(top10Usrs[Top 10 Posters],tblPosts[[#This Row],[poster_id]])","v":0}]
[14739,1,3156,6998,null,"2011-12-01T15:20:03",null,null,5,{"$f":"COUNTIF(top10Usrs[Top 10 Posters],tblPosts[[#This Row],[poster_id]])","v":1}]
[14755,1,3146,8559,null,"2011-12-01T19:58:27",null,null,9,{"$f":"COUNTIF(top10Usrs[Top 10 Posters],tblPosts[[#This Row],[poster_id]])","v":0}]
[14758,1,3157,6662,null,"2011-12-01T23:59:41",null,null,2,{"$f":"COUNTIF(top10Usrs[Top 10 Posters],tblPosts[[#This Row],[poster_id]])","v":0}]
[14769,1,3137,9220,null,"2011-12-02T12:26:05",null,null,5,{"$f":"COUNTIF(top10Usrs[Top 10 Posters],tblPosts[[#This Row],[poster_id]])","v":0}]
[14776,6,2908,8821,null,"2011-12-02T13:59:42",null,null,12,{"$f":"COUNTIF(top10Usrs[Top 10 Posters],tblPosts[[#This Row],[poster_id]])","v":1}]
[14788,4,2,9241,null,"2011-12-02T16:27:15",null,null,173,{"$f":"COUNTIF(top10Usrs[Top 10 Posters],tblPosts[[#This Row],[poster_id]])","v":0}]
[14795,1,3142,9083,null,"2011-12-02T18:30:59",null,null,7,{"$f":"COUNTIF(top10Usrs[Top 10 Posters],tblPosts[[#This Row],[poster_id]])","v":0}]
[14807,1,3162,6998,null,"2011-12-02T20:34:41",null,null,2,{"$f":"COUNTIF(top10Usrs[Top 10 Posters],tblPosts[[#This Row],[poster_id]])","v":1}]
[14814,1,3161,6925,null,"2011-12-02T22:17:07",null,null,3,{"$f":"COUNTIF(top10Usrs[Top 10 Posters],tblPosts[[#This Row],[poster_id]])","v":1}]
[14826,1,3164,8821,null,"2011-12-03T07:04:33",null,null,3,{"$f":"COUNTIF(top10Usrs[Top 10 Posters],tblPosts[[#This Row],[poster_id]])","v":1}]
[14829,1,3166,8821,null,"2011-12-03T10:13:43",null,null,2,{"$f":"COUNTIF(top10Usrs[Top 10 Posters],tblPosts[[#This Row],[poster_id]])","v":1}]
[14836,1,3168,9250,null,"2011-12-03T14:43:50",null,null,1,{"$f":"COUNTIF(top10Usrs[Top 10 Posters],tblPosts[[#This Row],[poster_id]])","v":0}]
[14850,1,3172,9252,null,"2011-12-03T21:01:13",null,null,1,{"$f":"COUNTIF(top10Usrs[Top 10 Posters],tblPosts[[#This Row],[poster_id]])","v":0}]
[14859,1,3172,8821,null,"2011-12-04T04:27:10",null,null,2,{"$f":"COUNTIF(top10Usrs[Top 10 Posters],tblPosts[[#This Row],[poster_id]])","v":1}]
[14866,1,3173,8821,null,"2011-12-04T09:06:31",null,null,4,{"$f":"COUNTIF(top10Usrs[Top 10 Posters],tblPosts[[#This Row],[poster_id]])","v":1}]
[14878,1,3137,8821,null,"2011-12-04T17:44:58",null,null,12,{"$f":"COUNTIF(top10Usrs[Top 10 Posters],tblPosts[[#This Row],[poster_id]])","v":1}]
[14885,1,3173,6779,null,"2011-12-05T01:13:10",null,null,5,{"$f":"COUNTIF(top10Usrs[Top 10 Posters],tblPosts[[#This Row],[poster_id]])","v":1}]
[14897,4,3177,9254,null,"2011-12-05T06:04:14",null,null,5,{"$f":"COUNTIF(top10Usrs[Top 10 Posters],tblPosts[[#This Row],[poster_id]])","v":0}]
[14900,1,3071,8825,null,"2011-12-05T06:21:52",null,null,11,{"$f":"COUNTIF(top10Usrs[Top 10 Posters],tblPosts[[#This Row],[poster_id]])","v":0}]
[14907,1,3151,7351,null,"2011-12-05T07:23:03",null,null,11,{"$f":"COUNTIF(top10Usrs[Top 10 Posters],tblPosts[[#This Row],[poster_id]])","v":1}]
[14919,7,3182,6531,null,"2011-12-05T12:42:12",null,null,1,{"$f":"COUNTIF(top10Usrs[Top 10 Posters],tblPosts[[#This Row],[poster_id]])","v":0}]
[14931,1,3161,6998,null,"2011-12-05T14:09:45",null,null,4,{"$f":"COUNTIF(top10Usrs[Top 10 Posters],tblPosts[[#This Row],[poster_id]])","v":1}]
[14941,1,3157,9234,null,"2011-12-05T14:36:32",null,null,6,{"$f":"COUNTIF(top10Usrs[Top 10 Posters],tblPosts[[#This Row],[poster_id]])","v":0}]
[14949,1,3189,9262,null,"2011-12-05T15:54:13",null,null,1,{"$f":"COUNTIF(top10Usrs[Top 10 Posters],tblPosts[[#This Row],[poster_id]])","v":0}]
[14957,1,3168,8821,null,"2011-12-05T17:21:12",null,null,11,{"$f":"COUNTIF(top10Usrs[Top 10 Posters],tblPosts[[#This Row],[poster_id]])","v":1}]
[14968,1,3190,9263,null,"2011-12-05T20:26:36",null,null,1,{"$f":"COUNTIF(top10Usrs[Top 10 Posters],tblPosts[[#This Row],[poster_id]])","v":0}]
[14971,1,3191,8850,null,"2011-12-05T21:10:24",null,null,1,{"$f":"COUNTIF(top10Usrs[Top 10 Posters],tblPosts[[#This Row],[poster_id]])","v":0}]
[14978,1,3168,8656,null,"2011-12-05T22:02:45",null,null,12,{"$f":"COUNTIF(top10Usrs[Top 10 Posters],tblPosts[[#This Row],[poster_id]])","v":0}]
[14990,1,3194,8942,null,"2011-12-06T02:53:21",null,null,2,{"$f":"COUNTIF(top10Usrs[Top 10 Posters],tblPosts[[#This Row],[poster_id]])","v":0}]
[14997,1,3174,7351,null,"2011-12-06T05:16:10",null,null,7,{"$f":"COUNTIF(top10Usrs[Top 10 Posters],tblPosts[[#This Row],[poster_id]])","v":1}]
[15009,1,3198,7863,null,"2011-12-06T07:14:47",null,null,1,{"$f":"COUNTIF(top10Usrs[Top 10 Posters],tblPosts[[#This Row],[poster_id]])","v":0}]
[15021,1,3071,8825,null,"2011-12-06T08:45:10",null,null,15,{"$f":"COUNTIF(top10Usrs[Top 10 Posters],tblPosts[[#This Row],[poster_id]])","v":0}]
[15024,1,3202,9267,null,"2011-12-06T09:23:42",null,null,0,{"$f":"COUNTIF(top10Usrs[Top 10 Posters],tblPosts[[#This Row],[poster_id]])","v":0}]
[15039,1,3205,9170,null,"2011-12-06T15:44:10",null,null,1,{"$f":"COUNTIF(top10Usrs[Top 10 Posters],tblPosts[[#This Row],[poster_id]])","v":0}]
[15042,1,3179,9227,null,"2011-12-06T17:16:24",null,null,8,{"$f":"COUNTIF(top10Usrs[Top 10 Posters],tblPosts[[#This Row],[poster_id]])","v":0}]
[15049,1,3208,24,null,"2011-12-07T01:05:54",null,null,2,{"$f":"COUNTIF(top10Usrs[Top 10 Posters],tblPosts[[#This Row],[poster_id]])","v":1}]
[15061,1,3213,8821,null,"2011-12-07T13:30:09",null,null,2,{"$f":"COUNTIF(top10Usrs[Top 10 Posters],tblPosts[[#This Row],[poster_id]])","v":1}]
[15068,1,3214,6998,null,"2011-12-07T17:57:26",null,null,2,{"$f":"COUNTIF(top10Usrs[Top 10 Posters],tblPosts[[#This Row],[poster_id]])","v":1}]
[15080,1,3217,8234,null,"2011-12-08T06:05:55",null,null,1,{"$f":"COUNTIF(top10Usrs[Top 10 Posters],tblPosts[[#This Row],[poster_id]])","v":0}]
[15092,1,3218,7898,null,"2011-12-08T08:27:53",null,null,2,{"$f":"COUNTIF(top10Usrs[Top 10 Posters],tblPosts[[#This Row],[poster_id]])","v":0}]
[15099,1,3204,8821,null,"2011-12-08T11:55:30",null,null,5,{"$f":"COUNTIF(top10Usrs[Top 10 Posters],tblPosts[[#This Row],[poster_id]])","v":1}]
[15105,1,3222,24,null,"2011-12-08T13:27:58",null,null,2,{"$f":"COUNTIF(top10Usrs[Top 10 Posters],tblPosts[[#This Row],[poster_id]])","v":1}]
[15117,1,3223,6925,null,"2011-12-08T17:48:57",null,null,2,{"$f":"COUNTIF(top10Usrs[Top 10 Posters],tblPosts[[#This Row],[poster_id]])","v":1}]
[15120,4,2,9293,null,"2011-12-08T19:17:53",null,null,177,{"$f":"COUNTIF(top10Usrs[Top 10 Posters],tblPosts[[#This Row],[poster_id]])","v":0}]
[15132,1,3228,9295,null,"2011-12-09T04:41:32",null,null,1,{"$f":"COUNTIF(top10Usrs[Top 10 Posters],tblPosts[[#This Row],[poster_id]])","v":0}]
[15139,1,3231,9300,null,"2011-12-09T12:11:56",null,null,1,{"$f":"COUNTIF(top10Usrs[Top 10 Posters],tblPosts[[#This Row],[poster_id]])","v":0}]
[15151,1,3226,6998,null,"2011-12-09T15:21:56",null,null,9,{"$f":"COUNTIF(top10Usrs[Top 10 Posters],tblPosts[[#This Row],[poster_id]])","v":1}]
[15163,1,3234,6998,null,"2011-12-09T20:57:07",null,null,2,{"$f":"COUNTIF(top10Usrs[Top 10 Posters],tblPosts[[#This Row],[poster_id]])","v":1}]
[15170,1,3234,8821,null,"2011-12-10T04:05:39",null,null,4,{"$f":"COUNTIF(top10Usrs[Top 10 Posters],tblPosts[[#This Row],[poster_id]])","v":1}]
[15182,1,3028,8821,null,"2011-12-10T12:19:07",null,null,11,{"$f":"COUNTIF(top10Usrs[Top 10 Posters],tblPosts[[#This Row],[poster_id]])","v":1}]
[15189,7,3013,6884,null,"2011-12-10T23:09:07",null,null,19,{"$f":"COUNTIF(top10Usrs[Top 10 Posters],tblPosts[[#This Row],[poster_id]])","v":0}]
[15196,7,3013,6884,null,"2011-12-11T08:20:21",null,null,21,{"$f":"COUNTIF(top10Usrs[Top 10 Posters],tblPosts[[#This Row],[poster_id]])","v":0}]
[15203,2,2946,9311,null,"2011-12-11T20:39:44",null,null,2,{"$f":"COUNTIF(top10Usrs[Top 10 Posters],tblPosts[[#This Row],[poster_id]])","v":1}]
[15210,4,3177,8821,null,"2011-12-12T05:23:04",null,null,7,{"$f":"COUNTIF(top10Usrs[Top 10 Posters],tblPosts[[#This Row],[poster_id]])","v":1}]
[15222,1,3227,2865,null,"2011-12-12T13:49:33",null,null,5,{"$f":"COUNTIF(top10Usrs[Top 10 Posters],tblPosts[[#This Row],[poster_id]])","v":0}]
[15234,1,3247,8478,null,"2011-12-12T18:27:05",null,null,1,{"$f":"COUNTIF(top10Usrs[Top 10 Posters],tblPosts[[#This Row],[poster_id]])","v":0}]
[15241,1,3248,9025,null,"2011-12-12T20:37:58",null,null,1,{"$f":"COUNTIF(top10Usrs[Top 10 Posters],tblPosts[[#This Row],[poster_id]])","v":0}]
[15253,1,3252,9323,null,"2011-12-13T01:43:01",null,null,1,{"$f":"COUNTIF(top10Usrs[Top 10 Posters],tblPosts[[#This Row],[poster_id]])","v":0}]
[15260,1,3256,7682,null,"2011-12-13T09:54:52",null,null,1,{"$f":"COUNTIF(top10Usrs[Top 10 Posters],tblPosts[[#This Row],[poster_id]])","v":0}]
[15263,1,3253,9331,null,"2011-12-13T12:19:04",null,null,3,{"$f":"COUNTIF(top10Usrs[Top 10 Posters],tblPosts[[#This Row],[poster_id]])","v":0}]
[15277,1,3240,9310,null,"2011-12-13T16:10:39",null,null,6,{"$f":"COUNTIF(top10Usrs[Top 10 Posters],tblPosts[[#This Row],[poster_id]])","v":0}]
[15281,7,3242,8651,null,"2011-12-13T16:57:33",null,null,8,{"$f":"COUNTIF(top10Usrs[Top 10 Posters],tblPosts[[#This Row],[poster_id]])","v":0}]
[15293,1,3260,6998,null,"2011-12-13T18:16:01",null,null,2,{"$f":"COUNTIF(top10Usrs[Top 10 Posters],tblPosts[[#This Row],[poster_id]])","v":1}]
[15300,1,3258,6998,null,"2011-12-13T18:29:44",null,null,3,{"$f":"COUNTIF(top10Usrs[Top 10 Posters],tblPosts[[#This Row],[poster_id]])","v":1}]
[15312,1,3231,6998,null,"2011-12-13T19:27:47",null,null,4,{"$f":"COUNTIF(top10Usrs[Top 10 Posters],tblPosts[[#This Row],[poster_id]])","v":1}]
[15324,1,3267,8697,null,"2011-12-13T21:54:22",null,null,1,{"$f":"COUNTIF(top10Usrs[Top 10 Posters],tblPosts[[#This Row],[poster_id]])","v":0}]
[15331,7,3242,8651,null,"2011-12-14T00:29:17",null,null,14,{"$f":"COUNTIF(top10Usrs[Top 10 Posters],tblPosts[[#This Row],[poster_id]])","v":0}]
[15334,7,3242,8821,null,"2011-12-14T04:24:05",null,null,15,{"$f":"COUNTIF(top10Usrs[Top 10 Posters],tblPosts[[#This Row],[poster_id]])","v":1}]
[15346,1,3268,8821,null,"2011-12-14T06:23:14",null,null,7,{"$f":"COUNTIF(top10Usrs[Top 10 Posters],tblPosts[[#This Row],[poster_id]])","v":1}]
[15353,1,3272,7840,null,"2011-12-14T13:46:40",null,null,1,{"$f":"COUNTIF(top10Usrs[Top 10 Posters],tblPosts[[#This Row],[poster_id]])","v":0}]
[15368,1,3168,9250,null,"2011-12-14T17:32:54",null,null,14,{"$f":"COUNTIF(top10Usrs[Top 10 Posters],tblPosts[[#This Row],[poster_id]])","v":0}]
[15371,1,3261,6998,null,"2011-12-14T18:58:33",null,null,9,{"$f":"COUNTIF(top10Usrs[Top 10 Posters],tblPosts[[#This Row],[poster_id]])","v":1}]
[15383,1,3084,8825,null,"2011-12-15T01:48:42",null,null,32,{"$f":"COUNTIF(top10Usrs[Top 10 Posters],tblPosts[[#This Row],[poster_id]])","v":0}]
[15395,1,3277,8821,null,"2011-12-15T08:17:41",null,null,3,{"$f":"COUNTIF(top10Usrs[Top 10 Posters],tblPosts[[#This Row],[poster_id]])","v":1}]
[15402,1,3280,9282,null,"2011-12-15T14:20:45",null,null,3,{"$f":"COUNTIF(top10Usrs[Top 10 Posters],tblPosts[[#This Row],[poster_id]])","v":0}]
[15405,1,3234,8821,null,"2011-12-15T15:25:12",null,null,6,{"$f":"COUNTIF(top10Usrs[Top 10 Posters],tblPosts[[#This Row],[poster_id]])","v":1}]
[15421,1,3285,6998,null,"2011-12-15T20:26:32",null,null,2,{"$f":"COUNTIF(top10Usrs[Top 10 Posters],tblPosts[[#This Row],[poster_id]])","v":1}]
[15424,1,3285,6925,null,"2011-12-15T20:39:34",null,null,4,{"$f":"COUNTIF(top10Usrs[Top 10 Posters],tblPosts[[#This Row],[poster_id]])","v":1}]
[15436,1,3287,9311,null,"2011-12-15T23:29:38",null,null,2,{"$f":"COUNTIF(top10Usrs[Top 10 Posters],tblPosts[[#This Row],[poster_id]])","v":1}]
[15441,1,3284,1,null,"2011-12-16T00:33:14",null,null,3,{"$f":"COUNTIF(top10Usrs[Top 10 Posters],tblPosts[[#This Row],[poster_id]])","v":1}]
[15454,1,3227,5367,null,"2011-12-16T04:37:26",null,null,7,{"$f":"COUNTIF(top10Usrs[Top 10 Posters],tblPosts[[#This Row],[poster_id]])","v":0}]
[15466,1,3291,8656,null,"2011-12-16T11:33:33",null,null,3,{"$f":"COUNTIF(top10Usrs[Top 10 Posters],tblPosts[[#This Row],[poster_id]])","v":0}]
[15473,1,3292,9311,null,"2011-12-16T13:29:53",null,null,2,{"$f":"COUNTIF(top10Usrs[Top 10 Posters],tblPosts[[#This Row],[poster_id]])","v":1}]
[15476,1,3292,9311,null,"2011-12-16T14:57:24",null,null,4,{"$f":"COUNTIF(top10Usrs[Top 10 Posters],tblPosts[[#This Row],[poster_id]])","v":1}]
[15492,1,3300,9362,null,"2011-12-16T23:48:12",null,null,1,{"$f":"COUNTIF(top10Usrs[Top 10 Posters],tblPosts[[#This Row],[poster_id]])","v":0}]
[15495,1,3300,24,null,"2011-12-17T00:46:23",null,null,2,{"$f":"COUNTIF(top10Usrs[Top 10 Posters],tblPosts[[#This Row],[poster_id]])","v":1}]
[15507,1,3301,8821,null,"2011-12-17T08:34:07",null,null,2,{"$f":"COUNTIF(top10Usrs[Top 10 Posters],tblPosts[[#This Row],[poster_id]])","v":1}]
[15514,1,3301,8821,null,"2011-12-17T08:49:47",null,null,1,{"$f":"COUNTIF(top10Usrs[Top 10 Posters],tblPosts[[#This Row],[poster_id]])","v":1}]
[15526,7,3210,9276,null,"2011-12-17T20:32:10",null,null,7,{"$f":"COUNTIF(top10Usrs[Top 10 Posters],tblPosts[[#This Row],[poster_id]])","v":0}]
[15532,1,3302,24,null,"2011-12-18T02:57:44",null,null,2,{"$f":"COUNTIF(top10Usrs[Top 10 Posters],tblPosts[[#This Row],[poster_id]])","v":1}]
[15544,1,3291,8656,null,"2011-12-18T18:41:18",null,null,6,{"$f":"COUNTIF(top10Usrs[Top 10 Posters],tblPosts[[#This Row],[poster_id]])","v":0}]
[15547,1,3308,6821,null,"2011-12-18T22:46:08",null,null,2,{"$f":"COUNTIF(top10Usrs[Top 10 Posters],tblPosts[[#This Row],[poster_id]])","v":1}]
[15563,5,3311,9368,null,"2011-12-19T10:27:47",null,null,1,{"$f":"COUNTIF(top10Usrs[Top 10 Posters],tblPosts[[#This Row],[poster_id]])","v":0}]
[15566,1,3231,9300,null,"2011-12-19T12:36:45",null,null,6,{"$f":"COUNTIF(top10Usrs[Top 10 Posters],tblPosts[[#This Row],[poster_id]])","v":0}]
[15578,1,3314,7974,null,"2011-12-19T18:25:52",null,null,3,{"$f":"COUNTIF(top10Usrs[Top 10 Posters],tblPosts[[#This Row],[poster_id]])","v":0}]
[15585,1,3318,6998,null,"2011-12-19T19:27:02",null,null,2,{"$f":"COUNTIF(top10Usrs[Top 10 Posters],tblPosts[[#This Row],[poster_id]])","v":1}]
[15597,1,3304,7996,null,"2011-12-20T05:00:32",null,null,5,{"$f":"COUNTIF(top10Usrs[Top 10 Posters],tblPosts[[#This Row],[poster_id]])","v":0}]
[15604,1,3309,8090,null,"2011-12-20T10:36:01",null,null,3,{"$f":"COUNTIF(top10Usrs[Top 10 Posters],tblPosts[[#This Row],[poster_id]])","v":0}]
[15616,1,3322,8821,null,"2011-12-20T14:37:47",null,null,4,{"$f":"COUNTIF(top10Usrs[Top 10 Posters],tblPosts[[#This Row],[poster_id]])","v":1}]
[15623,1,3327,9379,null,"2011-12-20T19:47:03",null,null,1,{"$f":"COUNTIF(top10Usrs[Top 10 Posters],tblPosts[[#This Row],[poster_id]])","v":0}]
[15634,1,3329,8528,null,"2011-12-20T21:32:21",null,null,2,{"$f":"COUNTIF(top10Usrs[Top 10 Posters],tblPosts[[#This Row],[poster_id]])","v":0}]
[15637,1,3314,24,null,"2011-12-21T04:33:51",null,null,5,{"$f":"COUNTIF(top10Usrs[Top 10 Posters],tblPosts[[#This Row],[poster_id]])","v":1}]
[15649,1,3333,5246,null,"2011-12-21T09:23:37",null,null,0,{"$f":"COUNTIF(top10Usrs[Top 10 Posters],tblPosts[[#This Row],[poster_id]])","v":0}]
[15656,1,3334,6998,null,"2011-12-21T13:41:29",null,null,2,{"$f":"COUNTIF(top10Usrs[Top 10 Posters],tblPosts[[#This Row],[poster_id]])","v":1}]
[15668,1,3335,6998,null,"2011-12-21T17:28:10",null,null,3,{"$f":"COUNTIF(top10Usrs[Top 10 Posters],tblPosts[[#This Row],[poster_id]])","v":1}]
[15675,1,3338,9392,null,"2011-12-21T22:13:51",null,null,1,{"$f":"COUNTIF(top10Usrs[Top 10 Posters],tblPosts[[#This Row],[poster_id]])","v":0}]
[15687,1,3326,9378,null,"2011-12-22T11:18:04",null,null,3,{"$f":"COUNTIF(top10Usrs[Top 10 Posters],tblPosts[[#This Row],[poster_id]])","v":0}]
[15690,1,3342,9399,null,"2011-12-22T12:04:55",null,null,1,{"$f":"COUNTIF(top10Usrs[Top 10 Posters],tblPosts[[#This Row],[poster_id]])","v":0}]
[15704,1,3345,9311,null,"2011-12-22T19:30:46",null,null,2,{"$f":"COUNTIF(top10Usrs[Top 10 Posters],tblPosts[[#This Row],[poster_id]])","v":1}]
[15708,1,3345,6925,null,"2011-12-22T20:12:37",null,null,3,{"$f":"COUNTIF(top10Usrs[Top 10 Posters],tblPosts[[#This Row],[poster_id]])","v":1}]
[15720,1,3326,9378,null,"2011-12-23T07:45:37",null,null,8,{"$f":"COUNTIF(top10Usrs[Top 10 Posters],tblPosts[[#This Row],[poster_id]])","v":0}]
[15727,1,3346,1144,null,"2011-12-23T13:27:54",null,null,3,{"$f":"COUNTIF(top10Usrs[Top 10 Posters],tblPosts[[#This Row],[poster_id]])","v":0}]
[15739,1,3348,9311,null,"2011-12-23T18:15:34",null,null,2,{"$f":"COUNTIF(top10Usrs[Top 10 Posters],tblPosts[[#This Row],[poster_id]])","v":1}]
[15746,1,3351,9311,null,"2011-12-24T03:41:50",null,null,4,{"$f":"COUNTIF(top10Usrs[Top 10 Posters],tblPosts[[#This Row],[poster_id]])","v":1}]
[15758,1,3355,8821,null,"2011-12-24T08:28:36",null,null,4,{"$f":"COUNTIF(top10Usrs[Top 10 Posters],tblPosts[[#This Row],[poster_id]])","v":1}]
[15761,1,3310,9367,null,"2011-12-24T09:37:09",null,null,26,{"$f":"COUNTIF(top10Usrs[Top 10 Posters],tblPosts[[#This Row],[poster_id]])","v":0}]
[15777,4,3357,9325,null,"2011-12-25T02:14:42",null,null,4,{"$f":"COUNTIF(top10Usrs[Top 10 Posters],tblPosts[[#This Row],[poster_id]])","v":0}]
[15780,1,3359,9423,null,"2011-12-25T17:38:00",null,null,1,{"$f":"COUNTIF(top10Usrs[Top 10 Posters],tblPosts[[#This Row],[poster_id]])","v":0}]
[15795,7,3363,7159,null,"2011-12-27T12:19:49",null,null,1,{"$f":"COUNTIF(top10Usrs[Top 10 Posters],tblPosts[[#This Row],[poster_id]])","v":0}]
[15798,1,3351,9311,null,"2011-12-27T15:11:38",null,null,6,{"$f":"COUNTIF(top10Usrs[Top 10 Posters],tblPosts[[#This Row],[poster_id]])","v":1}]
[15810,1,3071,8825,null,"2011-12-27T20:07:18",null,null,19,{"$f":"COUNTIF(top10Usrs[Top 10 Posters],tblPosts[[#This Row],[poster_id]])","v":0}]
[15817,1,3365,9311,null,"2011-12-28T00:02:18",null,null,2,{"$f":"COUNTIF(top10Usrs[Top 10 Posters],tblPosts[[#This Row],[poster_id]])","v":1}]
[15829,1,3366,8821,null,"2011-12-28T05:19:02",null,null,3,{"$f":"COUNTIF(top10Usrs[Top 10 Posters],tblPosts[[#This Row],[poster_id]])","v":1}]
[15832,1,3084,8821,null,"2011-12-28T05:39:05",null,null,39,{"$f":"COUNTIF(top10Usrs[Top 10 Posters],tblPosts[[#This Row],[poster_id]])","v":1}]
[15848,7,3370,9438,null,"2011-12-28T10:04:56",null,null,1,{"$f":"COUNTIF(top10Usrs[Top 10 Posters],tblPosts[[#This Row],[poster_id]])","v":0}]
[15851,1,3369,9441,null,"2011-12-28T12:21:11",null,null,3,{"$f":"COUNTIF(top10Usrs[Top 10 Posters],tblPosts[[#This Row],[poster_id]])","v":0}]
[15867,7,3372,6925,null,"2011-12-28T18:22:17",null,null,2,{"$f":"COUNTIF(top10Usrs[Top 10 Posters],tblPosts[[#This Row],[poster_id]])","v":1}]
[15868,7,3372,8695,null,"2011-12-28T18:56:42",null,null,3,{"$f":"COUNTIF(top10Usrs[Top 10 Posters],tblPosts[[#This Row],[poster_id]])","v":0}]
[15881,1,3351,8825,null,"2011-12-28T23:28:06",null,null,18,{"$f":"COUNTIF(top10Usrs[Top 10 Posters],tblPosts[[#This Row],[poster_id]])","v":0}]
[15888,1,3373,9441,null,"2011-12-29T09:10:07",null,null,2,{"$f":"COUNTIF(top10Usrs[Top 10 Posters],tblPosts[[#This Row],[poster_id]])","v":0}]
[15900,1,3377,9450,null,"2011-12-29T14:01:17",null,null,1,{"$f":"COUNTIF(top10Usrs[Top 10 Posters],tblPosts[[#This Row],[poster_id]])","v":0}]
[15907,7,3370,8695,null,"2011-12-29T15:23:10",null,null,2,{"$f":"COUNTIF(top10Usrs[Top 10 Posters],tblPosts[[#This Row],[poster_id]])","v":0}]
[15919,1,3383,9459,null,"2011-12-29T22:17:22",null,null,1,{"$f":"COUNTIF(top10Usrs[Top 10 Posters],tblPosts[[#This Row],[poster_id]])","v":0}]
[15922,1,3383,24,null,"2011-12-30T02:13:07",null,null,2,{"$f":"COUNTIF(top10Usrs[Top 10 Posters],tblPosts[[#This Row],[poster_id]])","v":1}]
[15938,1,3385,9464,null,"2011-12-30T14:35:54",null,null,2,{"$f":"COUNTIF(top10Usrs[Top 10 Posters],tblPosts[[#This Row],[poster_id]])","v":0}]
[15941,1,3383,9459,null,"2011-12-30T15:36:41",null,null,5,{"$f":"COUNTIF(top10Usrs[Top 10 Posters],tblPosts[[#This Row],[poster_id]])","v":0}]
[15953,7,3378,6071,null,"2011-12-30T20:16:36",null,null,5,{"$f":"COUNTIF(top10Usrs[Top 10 Posters],tblPosts[[#This Row],[poster_id]])","v":0}]
[15959,1,3387,9463,null,"2011-12-31T00:23:20",null,null,3,{"$f":"COUNTIF(top10Usrs[Top 10 Posters],tblPosts[[#This Row],[poster_id]])","v":0}]
[15971,7,3378,6071,null,"2011-12-31T17:02:13",null,null,8,{"$f":"COUNTIF(top10Usrs[Top 10 Posters],tblPosts[[#This Row],[poster_id]])","v":0}]
[15978,1,3392,6779,null,"2012-01-01T03:07:37",null,null,1,{"$f":"COUNTIF(top10Usrs[Top 10 Posters],tblPosts[[#This Row],[poster_id]])","v":1}]
[15990,1,3389,8821,null,"2012-01-01T11:27:31",null,null,3,{"$f":"COUNTIF(top10Usrs[Top 10 Posters],tblPosts[[#This Row],[poster_id]])","v":1}]
[15993,7,3391,8590,null,"2012-01-01T23:01:54",null,null,3,{"$f":"COUNTIF(top10Usrs[Top 10 Posters],tblPosts[[#This Row],[poster_id]])","v":0}]
[16009,1,3387,9311,null,"2012-01-02T18:23:42",null,null,8,{"$f":"COUNTIF(top10Usrs[Top 10 Posters],tblPosts[[#This Row],[poster_id]])","v":1}]
[16012,1,3395,9474,null,"2012-01-03T02:52:26",null,null,1,{"$f":"COUNTIF(top10Usrs[Top 10 Posters],tblPosts[[#This Row],[poster_id]])","v":0}]
[16024,1,3398,8821,null,"2012-01-03T08:55:43",null,null,2,{"$f":"COUNTIF(top10Usrs[Top 10 Posters],tblPosts[[#This Row],[poster_id]])","v":1}]
[16031,7,3399,8821,null,"2012-01-03T11:50:30",null,null,5,{"$f":"COUNTIF(top10Usrs[Top 10 Posters],tblPosts[[#This Row],[poster_id]])","v":1}]
[16040,1,3344,2758,null,"2012-01-03T18:39:02",null,null,1,{"$f":"COUNTIF(top10Usrs[Top 10 Posters],tblPosts[[#This Row],[poster_id]])","v":0}]
[16049,1,3401,9481,null,"2012-01-03T23:14:37",null,null,1,{"$f":"COUNTIF(top10Usrs[Top 10 Posters],tblPosts[[#This Row],[poster_id]])","v":0}]
[16061,1,3402,8821,null,"2012-01-04T05:30:41",null,null,2,{"$f":"COUNTIF(top10Usrs[Top 10 Posters],tblPosts[[#This Row],[poster_id]])","v":1}]
[16064,1,3393,9471,null,"2012-01-04T06:43:18",null,null,3,{"$f":"COUNTIF(top10Usrs[Top 10 Posters],tblPosts[[#This Row],[poster_id]])","v":0}]
[16080,1,3402,9482,null,"2012-01-04T14:10:03",null,null,3,{"$f":"COUNTIF(top10Usrs[Top 10 Posters],tblPosts[[#This Row],[poster_id]])","v":0}]
[16083,1,3402,9482,null,"2012-01-04T15:23:18",null,null,5,{"$f":"COUNTIF(top10Usrs[Top 10 Posters],tblPosts[[#This Row],[poster_id]])","v":0}]
[16090,1,3402,9482,null,"2012-01-04T18:33:22",null,null,11,{"$f":"COUNTIF(top10Usrs[Top 10 Posters],tblPosts[[#This Row],[poster_id]])","v":0}]
[16102,1,3407,6925,null,"2012-01-04T22:10:14",null,null,2,{"$f":"COUNTIF(top10Usrs[Top 10 Posters],tblPosts[[#This Row],[poster_id]])","v":1}]
[16114,1,3405,24,null,"2012-01-05T07:16:00",null,null,6,{"$f":"COUNTIF(top10Usrs[Top 10 Posters],tblPosts[[#This Row],[poster_id]])","v":1}]
[16121,1,3405,9487,null,"2012-01-05T08:35:18",null,null,12,{"$f":"COUNTIF(top10Usrs[Top 10 Posters],tblPosts[[#This Row],[poster_id]])","v":0}]
[16131,1,3411,9046,null,"2012-01-05T16:52:15",null,null,3,{"$f":"COUNTIF(top10Usrs[Top 10 Posters],tblPosts[[#This Row],[poster_id]])","v":0}]
[16135,7,3403,6998,null,"2012-01-05T20:06:46",null,null,6,{"$f":"COUNTIF(top10Usrs[Top 10 Posters],tblPosts[[#This Row],[poster_id]])","v":1}]
[16151,1,3415,8821,null,"2012-01-06T07:38:28",null,null,3,{"$f":"COUNTIF(top10Usrs[Top 10 Posters],tblPosts[[#This Row],[poster_id]])","v":1}]
[16154,1,3417,9512,null,"2012-01-06T10:37:32",null,null,1,{"$f":"COUNTIF(top10Usrs[Top 10 Posters],tblPosts[[#This Row],[poster_id]])","v":0}]
[16161,1,3421,9516,null,"2012-01-06T12:53:13",null,null,3,{"$f":"COUNTIF(top10Usrs[Top 10 Posters],tblPosts[[#This Row],[poster_id]])","v":0}]
[16173,1,3420,6925,null,"2012-01-06T17:40:12",null,null,2,{"$f":"COUNTIF(top10Usrs[Top 10 Posters],tblPosts[[#This Row],[poster_id]])","v":1}]
[16185,1,3425,9521,null,"2012-01-06T20:00:49",null,null,3,{"$f":"COUNTIF(top10Usrs[Top 10 Posters],tblPosts[[#This Row],[poster_id]])","v":0}]
[16192,1,3424,6841,null,"2012-01-06T20:51:09",null,null,8,{"$f":"COUNTIF(top10Usrs[Top 10 Posters],tblPosts[[#This Row],[poster_id]])","v":0}]
[16204,1,3428,24,null,"2012-01-07T06:04:49",null,null,2,{"$f":"COUNTIF(top10Usrs[Top 10 Posters],tblPosts[[#This Row],[poster_id]])","v":1}]
[16207,1,3428,9528,null,"2012-01-07T10:09:23",null,null,3,{"$f":"COUNTIF(top10Usrs[Top 10 Posters],tblPosts[[#This Row],[poster_id]])","v":0}]
[16222,1,3436,9539,null,"2012-01-07T21:33:01",null,null,1,{"$f":"COUNTIF(top10Usrs[Top 10 Posters],tblPosts[[#This Row],[poster_id]])","v":0}]
[16225,1,3438,9258,null,"2012-01-08T00:49:44",null,null,1,{"$f":"COUNTIF(top10Usrs[Top 10 Posters],tblPosts[[#This Row],[poster_id]])","v":0}]
[16232,1,3434,9311,null,"2012-01-08T04:19:10",null,null,2,{"$f":"COUNTIF(top10Usrs[Top 10 Posters],tblPosts[[#This Row],[poster_id]])","v":1}]
[16244,1,3442,9450,null,"2012-01-08T15:10:26",null,null,1,{"$f":"COUNTIF(top10Usrs[Top 10 Posters],tblPosts[[#This Row],[poster_id]])","v":0}]
[16256,1,3434,9311,null,"2012-01-09T05:18:53",null,null,6,{"$f":"COUNTIF(top10Usrs[Top 10 Posters],tblPosts[[#This Row],[poster_id]])","v":1}]
[16263,1,3286,9548,null,"2012-01-09T11:12:56",null,null,8,{"$f":"COUNTIF(top10Usrs[Top 10 Posters],tblPosts[[#This Row],[poster_id]])","v":0}]
[16275,1,3445,7974,null,"2012-01-09T17:44:28",null,null,1,{"$f":"COUNTIF(top10Usrs[Top 10 Posters],tblPosts[[#This Row],[poster_id]])","v":0}]
[16282,1,3426,9311,null,"2012-01-09T21:38:17",null,null,5,{"$f":"COUNTIF(top10Usrs[Top 10 Posters],tblPosts[[#This Row],[poster_id]])","v":1}]
[16294,1,3448,9558,null,"2012-01-10T14:42:02",null,null,3,{"$f":"COUNTIF(top10Usrs[Top 10 Posters],tblPosts[[#This Row],[poster_id]])","v":0}]
[16295,1,3448,8821,null,"2012-01-10T14:45:13",null,null,4,{"$f":"COUNTIF(top10Usrs[Top 10 Posters],tblPosts[[#This Row],[poster_id]])","v":1}]
[16303,1,3452,9311,null,"2012-01-10T16:36:36",null,null,3,{"$f":"COUNTIF(top10Usrs[Top 10 Posters],tblPosts[[#This Row],[poster_id]])","v":1}]
[16315,1,3451,9311,null,"2012-01-10T18:03:19",null,null,2,{"$f":"COUNTIF(top10Usrs[Top 10 Posters],tblPosts[[#This Row],[poster_id]])","v":1}]
[16327,1,3453,6998,null,"2012-01-10T19:50:42",null,null,6,{"$f":"COUNTIF(top10Usrs[Top 10 Posters],tblPosts[[#This Row],[poster_id]])","v":1}]
[16334,1,3456,6925,null,"2012-01-10T21:29:06",null,null,2,{"$f":"COUNTIF(top10Usrs[Top 10 Posters],tblPosts[[#This Row],[poster_id]])","v":1}]
[16346,1,3456,8821,null,"2012-01-11T05:40:37",null,null,5,{"$f":"COUNTIF(top10Usrs[Top 10 Posters],tblPosts[[#This Row],[poster_id]])","v":1}]
[16353,2,3464,9568,null,"2012-01-11T10:14:28",null,null,3,{"$f":"COUNTIF(top10Usrs[Top 10 Posters],tblPosts[[#This Row],[poster_id]])","v":0}]
[16365,1,3467,9322,null,"2012-01-11T15:09:38",null,null,3,{"$f":"COUNTIF(top10Usrs[Top 10 Posters],tblPosts[[#This Row],[poster_id]])","v":0}]
[16368,1,3468,9576,null,"2012-01-11T15:25:46",null,null,3,{"$f":"COUNTIF(top10Usrs[Top 10 Posters],tblPosts[[#This Row],[poster_id]])","v":0}]
[16375,1,3468,9576,null,"2012-01-11T17:04:55",null,null,5,{"$f":"COUNTIF(top10Usrs[Top 10 Posters],tblPosts[[#This Row],[poster_id]])","v":0}]
[16386,1,3473,9525,null,"2012-01-11T19:54:04",null,null,1,{"$f":"COUNTIF(top10Usrs[Top 10 Posters],tblPosts[[#This Row],[poster_id]])","v":0}]
[16393,1,3472,9311,null,"2012-01-11T20:57:43",null,null,2,{"$f":"COUNTIF(top10Usrs[Top 10 Posters],tblPosts[[#This Row],[poster_id]])","v":1}]
[16405,2,3478,9581,null,"2012-01-12T03:42:14",null,null,0,{"$f":"COUNTIF(top10Usrs[Top 10 Posters],tblPosts[[#This Row],[poster_id]])","v":0}]
[16417,1,3326,24,null,"2012-01-12T12:20:11",null,null,21,{"$f":"COUNTIF(top10Usrs[Top 10 Posters],tblPosts[[#This Row],[poster_id]])","v":1}]
[16424,1,3393,9471,null,"2012-01-12T16:43:05",null,null,6,{"$f":"COUNTIF(top10Usrs[Top 10 Posters],tblPosts[[#This Row],[poster_id]])","v":0}]
[16436,7,3481,24,null,"2012-01-13T01:24:48",null,null,2,{"$f":"COUNTIF(top10Usrs[Top 10 Posters],tblPosts[[#This Row],[poster_id]])","v":1}]
[16439,1,3482,9571,null,"2012-01-13T05:02:40",null,null,2,{"$f":"COUNTIF(top10Usrs[Top 10 Posters],tblPosts[[#This Row],[poster_id]])","v":0}]
[16446,1,3482,8821,null,"2012-01-13T09:06:48",null,null,4,{"$f":"COUNTIF(top10Usrs[Top 10 Posters],tblPosts[[#This Row],[poster_id]])","v":1}]
[16458,1,3487,8821,null,"2012-01-13T14:30:57",null,null,4,{"$f":"COUNTIF(top10Usrs[Top 10 Posters],tblPosts[[#This Row],[poster_id]])","v":1}]
[16467,1,3483,9311,null,"2012-01-13T16:52:19",null,null,3,{"$f":"COUNTIF(top10Usrs[Top 10 Posters],tblPosts[[#This Row],[poster_id]])","v":1}]
[16476,1,3490,8137,null,"2012-01-13T19:58:51",null,null,2,{"$f":"COUNTIF(top10Usrs[Top 10 Posters],tblPosts[[#This Row],[poster_id]])","v":0}]
[16488,1,3496,8821,null,"2012-01-14T08:04:07",null,null,4,{"$f":"COUNTIF(top10Usrs[Top 10 Posters],tblPosts[[#This Row],[poster_id]])","v":1}]
[16495,1,3498,9571,null,"2012-01-14T11:06:08",null,null,2,{"$f":"COUNTIF(top10Usrs[Top 10 Posters],tblPosts[[#This Row],[poster_id]])","v":0}]
[16507,1,3505,8821,null,"2012-01-15T03:13:23",null,null,2,{"$f":"COUNTIF(top10Usrs[Top 10 Posters],tblPosts[[#This Row],[poster_id]])","v":1}]
[16510,1,3506,6779,null,"2012-01-15T09:20:58",null,null,1,{"$f":"COUNTIF(top10Usrs[Top 10 Posters],tblPosts[[#This Row],[poster_id]])","v":1}]
[16517,1,3504,9459,null,"2012-01-15T17:32:59",null,null,3,{"$f":"COUNTIF(top10Usrs[Top 10 Posters],tblPosts[[#This Row],[poster_id]])","v":0}]
[16529,1,3509,9311,null,"2012-01-16T04:59:40",null,null,2,{"$f":"COUNTIF(top10Usrs[Top 10 Posters],tblPosts[[#This Row],[poster_id]])","v":1}]
[16536,1,3515,9623,null,"2012-01-16T11:07:20",null,null,1,{"$f":"COUNTIF(top10Usrs[Top 10 Posters],tblPosts[[#This Row],[poster_id]])","v":0}]
[16548,1,3513,7863,null,"2012-01-16T14:45:19",null,null,2,{"$f":"COUNTIF(top10Usrs[Top 10 Posters],tblPosts[[#This Row],[poster_id]])","v":0}]
[16558,1,3521,9629,null,"2012-01-16T17:11:46",null,null,1,{"$f":"COUNTIF(top10Usrs[Top 10 Posters],tblPosts[[#This Row],[poster_id]])","v":0}]
[16566,1,3520,9311,null,"2012-01-16T18:46:00",null,null,2,{"$f":"COUNTIF(top10Usrs[Top 10 Posters],tblPosts[[#This Row],[poster_id]])","v":1}]
[16578,1,3522,9311,null,"2012-01-16T19:26:11",null,null,2,{"$f":"COUNTIF(top10Usrs[Top 10 Posters],tblPosts[[#This Row],[poster_id]])","v":1}]
[16585,1,3507,9614,null,"2012-01-16T19:51:08",null,null,5,{"$f":"COUNTIF(top10Usrs[Top 10 Posters],tblPosts[[#This Row],[poster_id]])","v":0}]
[16588,1,3510,9617,null,"2012-01-16T21:09:19",null,null,3,{"$f":"COUNTIF(top10Usrs[Top 10 Posters],tblPosts[[#This Row],[poster_id]])","v":0}]
[16600,1,3519,5246,null,"2012-01-17T04:27:25",null,null,3,{"$f":"COUNTIF(top10Usrs[Top 10 Posters],tblPosts[[#This Row],[poster_id]])","v":0}]
[16607,1,3527,6566,null,"2012-01-17T06:18:15",null,null,1,{"$f":"COUNTIF(top10Usrs[Top 10 Posters],tblPosts[[#This Row],[poster_id]])","v":0}]
[16619,1,3529,24,null,"2012-01-17T09:56:59",null,null,2,{"$f":"COUNTIF(top10Usrs[Top 10 Posters],tblPosts[[#This Row],[poster_id]])","v":1}]
[16631,1,3526,8695,null,"2012-01-17T13:17:54",null,null,3,{"$f":"COUNTIF(top10Usrs[Top 10 Posters],tblPosts[[#This Row],[poster_id]])","v":0}]
[16639,1,3532,9644,null,"2012-01-17T14:25:06",null,null,1,{"$f":"COUNTIF(top10Usrs[Top 10 Posters],tblPosts[[#This Row],[poster_id]])","v":0}]
[16649,1,3524,9596,null,"2012-01-17T15:04:11",null,null,4,{"$f":"COUNTIF(top10Usrs[Top 10 Posters],tblPosts[[#This Row],[poster_id]])","v":0}]
[16656,1,3534,8752,null,"2012-01-17T16:34:41",null,null,1,{"$f":"COUNTIF(top10Usrs[Top 10 Posters],tblPosts[[#This Row],[poster_id]])","v":0}]
[16659,1,3534,8752,null,"2012-01-17T17:18:42",null,null,3,{"$f":"COUNTIF(top10Usrs[Top 10 Posters],tblPosts[[#This Row],[poster_id]])","v":0}]
[16671,1,3536,6925,null,"2012-01-17T19:38:14",null,null,4,{"$f":"COUNTIF(top10Usrs[Top 10 Posters],tblPosts[[#This Row],[poster_id]])","v":1}]
[16678,1,3523,8886,null,"2012-01-17T23:05:58",null,null,8,{"$f":"COUNTIF(top10Usrs[Top 10 Posters],tblPosts[[#This Row],[poster_id]])","v":0}]
[16690,1,3540,8478,null,"2012-01-18T04:14:45",null,null,1,{"$f":"COUNTIF(top10Usrs[Top 10 Posters],tblPosts[[#This Row],[poster_id]])","v":0}]
[16697,1,3539,6779,null,"2012-01-18T06:23:01",null,null,5,{"$f":"COUNTIF(top10Usrs[Top 10 Posters],tblPosts[[#This Row],[poster_id]])","v":1}]
[16709,1,3488,9322,null,"2012-01-18T08:58:43",null,null,3,{"$f":"COUNTIF(top10Usrs[Top 10 Posters],tblPosts[[#This Row],[poster_id]])","v":0}]
[16721,1,3547,7898,null,"2012-01-18T11:38:45",null,null,2,{"$f":"COUNTIF(top10Usrs[Top 10 Posters],tblPosts[[#This Row],[poster_id]])","v":0}]
[16722,1,3538,7898,null,"2012-01-18T11:41:36",null,null,3,{"$f":"COUNTIF(top10Usrs[Top 10 Posters],tblPosts[[#This Row],[poster_id]])","v":0}]
[16730,1,3548,9583,null,"2012-01-18T13:30:50",null,null,1,{"$f":"COUNTIF(top10Usrs[Top 10 Posters],tblPosts[[#This Row],[poster_id]])","v":0}]
[16742,1,3537,9650,null,"2012-01-18T16:08:59",null,null,4,{"$f":"COUNTIF(top10Usrs[Top 10 Posters],tblPosts[[#This Row],[poster_id]])","v":0}]
[16749,1,3537,6998,null,"2012-01-18T16:38:28",null,null,7,{"$f":"COUNTIF(top10Usrs[Top 10 Posters],tblPosts[[#This Row],[poster_id]])","v":1}]
[16761,1,3548,6998,null,"2012-01-18T17:04:02",null,null,4,{"$f":"COUNTIF(top10Usrs[Top 10 Posters],tblPosts[[#This Row],[poster_id]])","v":1}]
[16768,1,3525,6998,null,"2012-01-18T18:01:56",null,null,7,{"$f":"COUNTIF(top10Usrs[Top 10 Posters],tblPosts[[#This Row],[poster_id]])","v":1}]
[16780,1,3552,8829,null,"2012-01-18T20:53:26",null,null,3,{"$f":"COUNTIF(top10Usrs[Top 10 Posters],tblPosts[[#This Row],[poster_id]])","v":0}]
[16792,1,3552,9311,null,"2012-01-18T21:56:36",null,null,9,{"$f":"COUNTIF(top10Usrs[Top 10 Posters],tblPosts[[#This Row],[poster_id]])","v":1}]
[16799,1,3540,5408,null,"2012-01-19T02:18:54",null,null,4,{"$f":"COUNTIF(top10Usrs[Top 10 Posters],tblPosts[[#This Row],[poster_id]])","v":1}]
[16802,1,3549,8821,null,"2012-01-19T03:06:44",null,null,3,{"$f":"COUNTIF(top10Usrs[Top 10 Posters],tblPosts[[#This Row],[poster_id]])","v":1}]
[16813,1,3554,9311,null,"2012-01-19T04:57:28",null,null,11,{"$f":"COUNTIF(top10Usrs[Top 10 Posters],tblPosts[[#This Row],[poster_id]])","v":1}]
[16820,1,3561,9662,null,"2012-01-19T07:36:40",null,null,3,{"$f":"COUNTIF(top10Usrs[Top 10 Posters],tblPosts[[#This Row],[poster_id]])","v":0}]
[16832,1,3564,6531,null,"2012-01-19T10:04:36",null,null,3,{"$f":"COUNTIF(top10Usrs[Top 10 Posters],tblPosts[[#This Row],[poster_id]])","v":0}]
[16839,1,3527,8821,null,"2012-01-19T13:16:19",null,null,4,{"$f":"COUNTIF(top10Usrs[Top 10 Posters],tblPosts[[#This Row],[poster_id]])","v":1}]
[16851,1,3459,8478,null,"2012-01-19T14:37:35",null,null,5,{"$f":"COUNTIF(top10Usrs[Top 10 Posters],tblPosts[[#This Row],[poster_id]])","v":0}]
[16863,1,3538,8821,null,"2012-01-19T15:31:03",null,null,6,{"$f":"COUNTIF(top10Usrs[Top 10 Posters],tblPosts[[#This Row],[poster_id]])","v":1}]
[16870,7,3569,9311,null,"2012-01-19T15:58:20",null,null,4,{"$f":"COUNTIF(top10Usrs[Top 10 Posters],tblPosts[[#This Row],[poster_id]])","v":1}]
[16873,7,3569,6763,null,"2012-01-19T16:16:46",null,null,6,{"$f":"COUNTIF(top10Usrs[Top 10 Posters],tblPosts[[#This Row],[poster_id]])","v":0}]
[16889,1,3567,4061,null,"2012-01-19T17:36:48",null,null,8,{"$f":"COUNTIF(top10Usrs[Top 10 Posters],tblPosts[[#This Row],[poster_id]])","v":0}]
[16894,1,3567,4061,null,"2012-01-19T18:15:58",null,null,9,{"$f":"COUNTIF(top10Usrs[Top 10 Posters],tblPosts[[#This Row],[poster_id]])","v":0}]
[16903,1,3573,9482,null,"2012-01-19T21:05:31",null,null,3,{"$f":"COUNTIF(top10Usrs[Top 10 Posters],tblPosts[[#This Row],[poster_id]])","v":0}]
[16910,1,3576,24,null,"2012-01-20T01:19:07",null,null,2,{"$f":"COUNTIF(top10Usrs[Top 10 Posters],tblPosts[[#This Row],[poster_id]])","v":1}]
[16922,1,3579,8821,null,"2012-01-20T10:18:14",null,null,2,{"$f":"COUNTIF(top10Usrs[Top 10 Posters],tblPosts[[#This Row],[poster_id]])","v":1}]
[16934,1,3491,9596,null,"2012-01-20T15:03:43",null,null,14,{"$f":"COUNTIF(top10Usrs[Top 10 Posters],tblPosts[[#This Row],[poster_id]])","v":0}]
[16941,1,3482,8559,null,"2012-01-20T16:06:43",null,null,7,{"$f":"COUNTIF(top10Usrs[Top 10 Posters],tblPosts[[#This Row],[poster_id]])","v":0}]
[16944,1,3540,8478,null,"2012-01-20T17:01:12",null,null,7,{"$f":"COUNTIF(top10Usrs[Top 10 Posters],tblPosts[[#This Row],[poster_id]])","v":0}]
[16960,1,3584,9650,null,"2012-01-20T23:32:23",null,null,1,{"$f":"COUNTIF(top10Usrs[Top 10 Posters],tblPosts[[#This Row],[poster_id]])","v":0}]
[16963,1,3584,8821,null,"2012-01-21T03:08:34",null,null,2,{"$f":"COUNTIF(top10Usrs[Top 10 Posters],tblPosts[[#This Row],[poster_id]])","v":1}]
[16975,1,3585,6542,null,"2012-01-21T15:33:43",null,null,3,{"$f":"COUNTIF(top10Usrs[Top 10 Posters],tblPosts[[#This Row],[poster_id]])","v":0}]
[16985,1,3590,8137,null,"2012-01-22T14:23:41",null,null,1,{"$f":"COUNTIF(top10Usrs[Top 10 Posters],tblPosts[[#This Row],[poster_id]])","v":0}]
[16993,1,3540,8478,null,"2012-01-22T19:06:40",null,null,13,{"$f":"COUNTIF(top10Usrs[Top 10 Posters],tblPosts[[#This Row],[poster_id]])","v":0}]
[17005,1,3540,5408,null,"2012-01-23T05:49:31",null,null,14,{"$f":"COUNTIF(top10Usrs[Top 10 Posters],tblPosts[[#This Row],[poster_id]])","v":1}]
[17012,1,3593,9629,null,"2012-01-23T10:52:19",null,null,5,{"$f":"COUNTIF(top10Usrs[Top 10 Posters],tblPosts[[#This Row],[poster_id]])","v":0}]
[17015,7,3569,6763,null,"2012-01-23T11:14:47",null,null,17,{"$f":"COUNTIF(top10Usrs[Top 10 Posters],tblPosts[[#This Row],[poster_id]])","v":0}]
[17031,7,3596,6531,null,"2012-01-23T15:51:42",null,null,2,{"$f":"COUNTIF(top10Usrs[Top 10 Posters],tblPosts[[#This Row],[poster_id]])","v":0}]
[17034,1,3491,8821,null,"2012-01-23T16:29:02",null,null,19,{"$f":"COUNTIF(top10Usrs[Top 10 Posters],tblPosts[[#This Row],[poster_id]])","v":1}]
[17046,1,3419,9311,null,"2012-01-23T18:52:27",null,null,8,{"$f":"COUNTIF(top10Usrs[Top 10 Posters],tblPosts[[#This Row],[poster_id]])","v":1}]
[17053,1,3576,9646,null,"2012-01-23T20:02:10",null,null,9,{"$f":"COUNTIF(top10Usrs[Top 10 Posters],tblPosts[[#This Row],[poster_id]])","v":0}]
[17066,1,3583,8160,null,"2012-01-23T21:34:34",null,null,3,{"$f":"COUNTIF(top10Usrs[Top 10 Posters],tblPosts[[#This Row],[poster_id]])","v":0}]
[17071,1,3573,8821,null,"2012-01-24T02:37:37",null,null,8,{"$f":"COUNTIF(top10Usrs[Top 10 Posters],tblPosts[[#This Row],[poster_id]])","v":1}]
[17083,1,3600,8821,null,"2012-01-24T07:21:01",null,null,2,{"$f":"COUNTIF(top10Usrs[Top 10 Posters],tblPosts[[#This Row],[poster_id]])","v":1}]
[17086,1,3601,9689,null,"2012-01-24T08:03:43",null,null,1,{"$f":"COUNTIF(top10Usrs[Top 10 Posters],tblPosts[[#This Row],[poster_id]])","v":0}]
[17102,1,3601,7898,null,"2012-01-24T13:33:21",null,null,9,{"$f":"COUNTIF(top10Usrs[Top 10 Posters],tblPosts[[#This Row],[poster_id]])","v":0}]
[17105,1,3601,8821,null,"2012-01-24T13:54:22",null,null,10,{"$f":"COUNTIF(top10Usrs[Top 10 Posters],tblPosts[[#This Row],[poster_id]])","v":1}]
[17116,1,3606,8821,null,"2012-01-24T15:01:34",null,null,7,{"$f":"COUNTIF(top10Usrs[Top 10 Posters],tblPosts[[#This Row],[poster_id]])","v":1}]
[17124,1,3609,9697,null,"2012-01-24T15:59:26",null,null,1,{"$f":"COUNTIF(top10Usrs[Top 10 Posters],tblPosts[[#This Row],[poster_id]])","v":0}]
[17136,1,3611,9614,null,"2012-01-24T18:47:47",null,null,1,{"$f":"COUNTIF(top10Usrs[Top 10 Posters],tblPosts[[#This Row],[poster_id]])","v":0}]
[17143,7,3613,9699,null,"2012-01-24T19:51:14",null,null,2,{"$f":"COUNTIF(top10Usrs[Top 10 Posters],tblPosts[[#This Row],[poster_id]])","v":0}]
[17149,1,3583,6925,null,"2012-01-24T20:20:32",null,null,13,{"$f":"COUNTIF(top10Usrs[Top 10 Posters],tblPosts[[#This Row],[poster_id]])","v":1}]
[17157,1,3576,9311,null,"2012-01-24T21:01:02",null,null,12,{"$f":"COUNTIF(top10Usrs[Top 10 Posters],tblPosts[[#This Row],[poster_id]])","v":1}]
[17173,1,3614,9702,null,"2012-01-24T22:19:35",null,null,6,{"$f":"COUNTIF(top10Usrs[Top 10 Posters],tblPosts[[#This Row],[poster_id]])","v":0}]
[17176,1,3616,9704,null,"2012-01-24T22:52:10",null,null,7,{"$f":"COUNTIF(top10Usrs[Top 10 Posters],tblPosts[[#This Row],[poster_id]])","v":0}]
[17192,1,3615,9311,null,"2012-01-25T06:36:42",null,null,7,{"$f":"COUNTIF(top10Usrs[Top 10 Posters],tblPosts[[#This Row],[poster_id]])","v":1}]
[17195,1,3618,9311,null,"2012-01-25T06:51:52",null,null,3,{"$f":"COUNTIF(top10Usrs[Top 10 Posters],tblPosts[[#This Row],[poster_id]])","v":1}]
[17207,1,3607,8821,null,"2012-01-25T11:38:35",null,null,8,{"$f":"COUNTIF(top10Usrs[Top 10 Posters],tblPosts[[#This Row],[poster_id]])","v":1}]
[17214,1,3620,7898,null,"2012-01-25T12:24:50",null,null,3,{"$f":"COUNTIF(top10Usrs[Top 10 Posters],tblPosts[[#This Row],[poster_id]])","v":0}]
[17226,1,3617,8821,null,"2012-01-25T14:40:19",null,null,10,{"$f":"COUNTIF(top10Usrs[Top 10 Posters],tblPosts[[#This Row],[poster_id]])","v":1}]
[17230,1,3618,8821,null,"2012-01-25T15:42:54",null,null,8,{"$f":"COUNTIF(top10Usrs[Top 10 Posters],tblPosts[[#This Row],[poster_id]])","v":1}]
[17244,1,3617,9311,null,"2012-01-25T18:28:53",null,null,12,{"$f":"COUNTIF(top10Usrs[Top 10 Posters],tblPosts[[#This Row],[poster_id]])","v":1}]
[17247,1,3599,8382,null,"2012-01-25T19:06:39",null,null,10,{"$f":"COUNTIF(top10Usrs[Top 10 Posters],tblPosts[[#This Row],[poster_id]])","v":0}]
[17263,1,3625,9311,null,"2012-01-25T23:28:55",null,null,6,{"$f":"COUNTIF(top10Usrs[Top 10 Posters],tblPosts[[#This Row],[poster_id]])","v":1}]
[17266,1,3616,9704,null,"2012-01-25T23:44:51",null,null,13,{"$f":"COUNTIF(top10Usrs[Top 10 Posters],tblPosts[[#This Row],[poster_id]])","v":0}]
[17278,1,3627,8821,null,"2012-01-26T06:52:13",null,null,2,{"$f":"COUNTIF(top10Usrs[Top 10 Posters],tblPosts[[#This Row],[poster_id]])","v":1}]
[17285,1,3629,9724,null,"2012-01-26T09:38:57",null,null,1,{"$f":"COUNTIF(top10Usrs[Top 10 Posters],tblPosts[[#This Row],[poster_id]])","v":0}]
[17297,1,3629,8821,null,"2012-01-26T14:30:25",null,null,6,{"$f":"COUNTIF(top10Usrs[Top 10 Posters],tblPosts[[#This Row],[poster_id]])","v":1}]
[17300,1,3632,9718,null,"2012-01-26T15:25:03",null,null,1,{"$f":"COUNTIF(top10Usrs[Top 10 Posters],tblPosts[[#This Row],[poster_id]])","v":0}]
[17316,1,3627,9311,null,"2012-01-26T17:31:11",null,null,4,{"$f":"COUNTIF(top10Usrs[Top 10 Posters],tblPosts[[#This Row],[poster_id]])","v":1}]
[17321,1,3636,9730,null,"2012-01-26T18:45:26",null,null,1,{"$f":"COUNTIF(top10Usrs[Top 10 Posters],tblPosts[[#This Row],[poster_id]])","v":0}]
[17334,1,3585,9678,null,"2012-01-26T23:11:31",null,null,10,{"$f":"COUNTIF(top10Usrs[Top 10 Posters],tblPosts[[#This Row],[poster_id]])","v":0}]
[17337,1,3640,9731,null,"2012-01-27T03:10:34",null,null,1,{"$f":"COUNTIF(top10Usrs[Top 10 Posters],tblPosts[[#This Row],[poster_id]])","v":0}]
[17349,1,3625,9311,null,"2012-01-27T06:32:04",null,null,11,{"$f":"COUNTIF(top10Usrs[Top 10 Posters],tblPosts[[#This Row],[poster_id]])","v":1}]
[17356,1,3638,7038,null,"2012-01-27T09:50:28",null,null,4,{"$f":"COUNTIF(top10Usrs[Top 10 Posters],tblPosts[[#This Row],[poster_id]])","v":0}]
[17368,1,3632,9718,null,"2012-01-27T13:05:32",null,null,4,{"$f":"COUNTIF(top10Usrs[Top 10 Posters],tblPosts[[#This Row],[poster_id]])","v":0}]
[17375,1,3640,8821,null,"2012-01-27T14:45:20",null,null,6,{"$f":"COUNTIF(top10Usrs[Top 10 Posters],tblPosts[[#This Row],[poster_id]])","v":1}]
[17387,1,3632,9311,null,"2012-01-27T16:22:33",null,null,5,{"$f":"COUNTIF(top10Usrs[Top 10 Posters],tblPosts[[#This Row],[poster_id]])","v":1}]
[17390,1,3640,9311,null,"2012-01-27T16:31:13",null,null,9,{"$f":"COUNTIF(top10Usrs[Top 10 Posters],tblPosts[[#This Row],[poster_id]])","v":1}]
[17406,1,3648,9311,null,"2012-01-27T19:46:25",null,null,2,{"$f":"COUNTIF(top10Usrs[Top 10 Posters],tblPosts[[#This Row],[poster_id]])","v":1}]
[17412,1,3648,8695,null,"2012-01-27T21:37:15",null,null,7,{"$f":"COUNTIF(top10Usrs[Top 10 Posters],tblPosts[[#This Row],[poster_id]])","v":0}]
[17420,1,3540,8478,null,"2012-01-28T06:46:02",null,null,21,{"$f":"COUNTIF(top10Usrs[Top 10 Posters],tblPosts[[#This Row],[poster_id]])","v":0}]
[17427,1,3630,7974,null,"2012-01-28T11:43:11",null,null,16,{"$f":"COUNTIF(top10Usrs[Top 10 Posters],tblPosts[[#This Row],[poster_id]])","v":0}]
[17439,3,3651,8315,null,"2012-01-28T20:59:43",null,null,6,{"$f":"COUNTIF(top10Usrs[Top 10 Posters],tblPosts[[#This Row],[poster_id]])","v":0}]
[17446,1,3653,8821,null,"2012-01-29T04:39:37",null,null,2,{"$f":"COUNTIF(top10Usrs[Top 10 Posters],tblPosts[[#This Row],[poster_id]])","v":1}]
[17458,1,3654,5408,null,"2012-01-29T15:20:57",null,null,3,{"$f":"COUNTIF(top10Usrs[Top 10 Posters],tblPosts[[#This Row],[poster_id]])","v":1}]
[17461,1,3654,8821,null,"2012-01-29T16:23:29",null,null,4,{"$f":"COUNTIF(top10Usrs[Top 10 Posters],tblPosts[[#This Row],[poster_id]])","v":1}]
[17477,1,3559,6779,null,"2012-01-30T00:41:09",null,null,5,{"$f":"COUNTIF(top10Usrs[Top 10 Posters],tblPosts[[#This Row],[poster_id]])","v":1}]
[17480,1,3657,24,null,"2012-01-30T03:31:08",null,null,2,{"$f":"COUNTIF(top10Usrs[Top 10 Posters],tblPosts[[#This Row],[poster_id]])","v":1}]
[17493,1,3659,8821,null,"2012-01-30T09:08:16",null,null,2,{"$f":"COUNTIF(top10Usrs[Top 10 Posters],tblPosts[[#This Row],[poster_id]])","v":1}]
[17498,1,3647,6998,null,"2012-01-30T13:40:05",null,null,4,{"$f":"COUNTIF(top10Usrs[Top 10 Posters],tblPosts[[#This Row],[poster_id]])","v":1}]
[17510,7,3660,8821,null,"2012-01-30T16:53:56",null,null,4,{"$f":"COUNTIF(top10Usrs[Top 10 Posters],tblPosts[[#This Row],[poster_id]])","v":1}]
[17517,1,3662,6998,null,"2012-01-30T17:59:13",null,null,4,{"$f":"COUNTIF(top10Usrs[Top 10 Posters],tblPosts[[#This Row],[poster_id]])","v":1}]
[17529,7,3656,9741,null,"2012-01-30T20:28:30",null,null,7,{"$f":"COUNTIF(top10Usrs[Top 10 Posters],tblPosts[[#This Row],[poster_id]])","v":0}]
[17532,1,3662,9742,null,"2012-01-30T21:32:37",null,null,12,{"$f":"COUNTIF(top10Usrs[Top 10 Posters],tblPosts[[#This Row],[poster_id]])","v":0}]
[17548,2,3665,5408,null,"2012-01-31T06:19:41",null,null,5,{"$f":"COUNTIF(top10Usrs[Top 10 Posters],tblPosts[[#This Row],[poster_id]])","v":1}]
[17551,1,1288,8793,null,"2012-01-31T09:10:00",null,null,8,{"$f":"COUNTIF(top10Usrs[Top 10 Posters],tblPosts[[#This Row],[poster_id]])","v":0}]
[17561,1,3667,9756,null,"2012-01-31T12:39:03",null,null,1,{"$f":"COUNTIF(top10Usrs[Top 10 Posters],tblPosts[[#This Row],[poster_id]])","v":0}]
[17570,1,3667,9571,null,"2012-01-31T16:18:19",null,null,2,{"$f":"COUNTIF(top10Usrs[Top 10 Posters],tblPosts[[#This Row],[poster_id]])","v":0}]
[17576,1,3674,7038,null,"2012-01-31T17:52:36",null,null,1,{"$f":"COUNTIF(top10Usrs[Top 10 Posters],tblPosts[[#This Row],[poster_id]])","v":0}]
[17588,2,3665,9732,null,"2012-01-31T22:00:40",null,null,6,{"$f":"COUNTIF(top10Usrs[Top 10 Posters],tblPosts[[#This Row],[poster_id]])","v":0}]
[17600,1,3679,9595,null,"2012-02-02T10:37:19",null,null,3,{"$f":"COUNTIF(top10Usrs[Top 10 Posters],tblPosts[[#This Row],[poster_id]])","v":0}]
[17603,1,3679,9595,null,"2012-02-02T11:08:44",null,null,5,{"$f":"COUNTIF(top10Usrs[Top 10 Posters],tblPosts[[#This Row],[poster_id]])","v":0}]
[17619,3,3651,8315,null,"2012-02-02T14:32:12",null,null,8,{"$f":"COUNTIF(top10Usrs[Top 10 Posters],tblPosts[[#This Row],[poster_id]])","v":0}]
[17622,7,3656,8821,null,"2012-02-02T15:50:05",null,null,14,{"$f":"COUNTIF(top10Usrs[Top 10 Posters],tblPosts[[#This Row],[poster_id]])","v":1}]
[17629,1,3683,8821,null,"2012-02-02T16:31:57",null,null,2,{"$f":"COUNTIF(top10Usrs[Top 10 Posters],tblPosts[[#This Row],[poster_id]])","v":1}]
[17641,1,3685,6998,null,"2012-02-02T17:52:01",null,null,3,{"$f":"COUNTIF(top10Usrs[Top 10 Posters],tblPosts[[#This Row],[poster_id]])","v":1}]
[17653,1,3685,6998,null,"2012-02-02T18:48:44",null,null,6,{"$f":"COUNTIF(top10Usrs[Top 10 Posters],tblPosts[[#This Row],[poster_id]])","v":1}]
[17657,1,3688,8695,null,"2012-02-02T18:58:27",null,null,5,{"$f":"COUNTIF(top10Usrs[Top 10 Posters],tblPosts[[#This Row],[poster_id]])","v":0}]
[17671,7,3691,8621,null,"2012-02-02T22:38:22",null,null,1,{"$f":"COUNTIF(top10Usrs[Top 10 Posters],tblPosts[[#This Row],[poster_id]])","v":0}]
[17678,1,3657,24,null,"2012-02-03T01:21:43",null,null,3,{"$f":"COUNTIF(top10Usrs[Top 10 Posters],tblPosts[[#This Row],[poster_id]])","v":1}]
[17690,1,3673,9311,null,"2012-02-03T06:35:57",null,null,4,{"$f":"COUNTIF(top10Usrs[Top 10 Posters],tblPosts[[#This Row],[poster_id]])","v":1}]
[17693,1,3675,9311,null,"2012-02-03T06:46:36",null,null,7,{"$f":"COUNTIF(top10Usrs[Top 10 Posters],tblPosts[[#This Row],[poster_id]])","v":1}]
[17700,1,3659,8821,null,"2012-02-03T08:45:10",null,null,7,{"$f":"COUNTIF(top10Usrs[Top 10 Posters],tblPosts[[#This Row],[poster_id]])","v":1}]
[17712,1,3683,8821,null,"2012-02-03T15:20:47",null,null,13,{"$f":"COUNTIF(top10Usrs[Top 10 Posters],tblPosts[[#This Row],[poster_id]])","v":1}]
[17724,1,3690,6925,null,"2012-02-03T18:10:19",null,null,8,{"$f":"COUNTIF(top10Usrs[Top 10 Posters],tblPosts[[#This Row],[poster_id]])","v":1}]
[17731,1,3700,9752,null,"2012-02-03T20:17:11",null,null,1,{"$f":"COUNTIF(top10Usrs[Top 10 Posters],tblPosts[[#This Row],[poster_id]])","v":0}]
[17743,7,3699,9311,null,"2012-02-03T23:37:46",null,null,2,{"$f":"COUNTIF(top10Usrs[Top 10 Posters],tblPosts[[#This Row],[poster_id]])","v":1}]
[17748,4,3678,1,null,"2012-02-04T00:19:38",null,null,2,{"$f":"COUNTIF(top10Usrs[Top 10 Posters],tblPosts[[#This Row],[poster_id]])","v":1}]
[17761,1,3526,5408,null,"2012-02-04T14:44:55",null,null,14,{"$f":"COUNTIF(top10Usrs[Top 10 Posters],tblPosts[[#This Row],[poster_id]])","v":1}]
[17764,3,3651,9742,null,"2012-02-04T16:02:26",null,null,12,{"$f":"COUNTIF(top10Usrs[Top 10 Posters],tblPosts[[#This Row],[poster_id]])","v":0}]
[17771,7,3656,9742,null,"2012-02-04T16:59:27",null,null,17,{"$f":"COUNTIF(top10Usrs[Top 10 Posters],tblPosts[[#This Row],[poster_id]])","v":0}]
[17783,1,3708,8926,null,"2012-02-05T04:02:03",null,null,1,{"$f":"COUNTIF(top10Usrs[Top 10 Posters],tblPosts[[#This Row],[poster_id]])","v":0}]
[17795,1,3701,9571,null,"2012-02-05T08:46:28",null,null,9,{"$f":"COUNTIF(top10Usrs[Top 10 Posters],tblPosts[[#This Row],[poster_id]])","v":0}]
[17802,1,3701,8821,null,"2012-02-05T12:13:42",null,null,11,{"$f":"COUNTIF(top10Usrs[Top 10 Posters],tblPosts[[#This Row],[poster_id]])","v":1}]
[17814,1,3705,8821,null,"2012-02-06T03:52:39",null,null,3,{"$f":"COUNTIF(top10Usrs[Top 10 Posters],tblPosts[[#This Row],[poster_id]])","v":1}]
[17821,1,3714,24,null,"2012-02-06T09:54:52",null,null,2,{"$f":"COUNTIF(top10Usrs[Top 10 Posters],tblPosts[[#This Row],[poster_id]])","v":1}]
[17829,1,3692,9494,null,"2012-02-06T13:04:17",null,null,3,{"$f":"COUNTIF(top10Usrs[Top 10 Posters],tblPosts[[#This Row],[poster_id]])","v":0}]
[17835,1,3698,8695,null,"2012-02-06T13:25:28",null,null,6,{"$f":"COUNTIF(top10Usrs[Top 10 Posters],tblPosts[[#This Row],[poster_id]])","v":0}]
[17842,1,3719,9036,null,"2012-02-06T16:10:39",null,null,1,{"$f":"COUNTIF(top10Usrs[Top 10 Posters],tblPosts[[#This Row],[poster_id]])","v":0}]
[17854,1,3720,9445,null,"2012-02-06T17:16:57",null,null,1,{"$f":"COUNTIF(top10Usrs[Top 10 Posters],tblPosts[[#This Row],[poster_id]])","v":0}]
[17861,1,3721,9798,null,"2012-02-06T18:58:16",null,null,1,{"$f":"COUNTIF(top10Usrs[Top 10 Posters],tblPosts[[#This Row],[poster_id]])","v":0}]
[17873,1,3723,9311,null,"2012-02-06T21:17:05",null,null,2,{"$f":"COUNTIF(top10Usrs[Top 10 Posters],tblPosts[[#This Row],[poster_id]])","v":1}]
[17885,1,1655,9801,null,"2012-02-07T01:42:28",null,null,10,{"$f":"COUNTIF(top10Usrs[Top 10 Posters],tblPosts[[#This Row],[poster_id]])","v":0}]
[17892,1,1655,5408,null,"2012-02-07T04:58:48",null,null,11,{"$f":"COUNTIF(top10Usrs[Top 10 Posters],tblPosts[[#This Row],[poster_id]])","v":1}]
[17904,1,3728,8695,null,"2012-02-07T11:37:38",null,null,2,{"$f":"COUNTIF(top10Usrs[Top 10 Posters],tblPosts[[#This Row],[poster_id]])","v":0}]
[17907,1,3728,6542,null,"2012-02-07T12:13:01",null,null,3,{"$f":"COUNTIF(top10Usrs[Top 10 Posters],tblPosts[[#This Row],[poster_id]])","v":0}]
[17920,1,3731,9808,null,"2012-02-07T14:32:11",null,null,0,{"$f":"COUNTIF(top10Usrs[Top 10 Posters],tblPosts[[#This Row],[poster_id]])","v":0}]
[17925,1,3723,9311,null,"2012-02-07T15:25:36",null,null,7,{"$f":"COUNTIF(top10Usrs[Top 10 Posters],tblPosts[[#This Row],[poster_id]])","v":1}]
[17932,1,3732,8559,null,"2012-02-07T16:41:24",null,null,1,{"$f":"COUNTIF(top10Usrs[Top 10 Posters],tblPosts[[#This Row],[poster_id]])","v":0}]
[17944,1,3732,6998,null,"2012-02-07T17:48:37",null,null,5,{"$f":"COUNTIF(top10Usrs[Top 10 Posters],tblPosts[[#This Row],[poster_id]])","v":1}]
[17956,7,3737,9311,null,"2012-02-07T18:27:49",null,null,2,{"$f":"COUNTIF(top10Usrs[Top 10 Posters],tblPosts[[#This Row],[poster_id]])","v":1}]
[17963,7,3737,9813,null,"2012-02-07T19:01:45",null,null,3,{"$f":"COUNTIF(top10Usrs[Top 10 Posters],tblPosts[[#This Row],[poster_id]])","v":0}]
[17975,1,3744,6925,null,"2012-02-07T23:15:23",null,null,1,{"$f":"COUNTIF(top10Usrs[Top 10 Posters],tblPosts[[#This Row],[poster_id]])","v":1}]
[17982,1,3733,9811,null,"2012-02-08T01:32:27",null,null,5,{"$f":"COUNTIF(top10Usrs[Top 10 Posters],tblPosts[[#This Row],[poster_id]])","v":0}]
[17985,1,3748,6779,null,"2012-02-08T04:47:03",null,null,1,{"$f":"COUNTIF(top10Usrs[Top 10 Posters],tblPosts[[#This Row],[poster_id]])","v":1}]
[17997,1,3753,9777,null,"2012-02-08T12:39:21",null,null,1,{"$f":"COUNTIF(top10Usrs[Top 10 Posters],tblPosts[[#This Row],[poster_id]])","v":0}]
[18003,6,3752,6998,null,"2012-02-08T14:23:38",null,null,2,{"$f":"COUNTIF(top10Usrs[Top 10 Posters],tblPosts[[#This Row],[poster_id]])","v":1}]
[18015,1,3733,9811,null,"2012-02-08T16:15:34",null,null,6,{"$f":"COUNTIF(top10Usrs[Top 10 Posters],tblPosts[[#This Row],[poster_id]])","v":0}]
[18027,1,3735,9311,null,"2012-02-08T19:13:14",null,null,4,{"$f":"COUNTIF(top10Usrs[Top 10 Posters],tblPosts[[#This Row],[poster_id]])","v":1}]
[18034,1,3757,9311,null,"2012-02-08T20:06:37",null,null,2,{"$f":"COUNTIF(top10Usrs[Top 10 Posters],tblPosts[[#This Row],[poster_id]])","v":1}]
[18046,1,3764,8695,null,"2012-02-08T21:20:05",null,null,1,{"$f":"COUNTIF(top10Usrs[Top 10 Posters],tblPosts[[#This Row],[poster_id]])","v":0}]
[18053,1,3755,9311,null,"2012-02-08T22:19:15",null,null,4,{"$f":"COUNTIF(top10Usrs[Top 10 Posters],tblPosts[[#This Row],[poster_id]])","v":1}]
[18056,1,3761,9828,null,"2012-02-08T22:57:59",null,null,5,{"$f":"COUNTIF(top10Usrs[Top 10 Posters],tblPosts[[#This Row],[poster_id]])","v":0}]
[18068,1,3767,9311,null,"2012-02-09T00:43:10",null,null,2,{"$f":"COUNTIF(top10Usrs[Top 10 Posters],tblPosts[[#This Row],[poster_id]])","v":1}]
[18075,1,3763,8821,null,"2012-02-09T02:23:09",null,null,2,{"$f":"COUNTIF(top10Usrs[Top 10 Posters],tblPosts[[#This Row],[poster_id]])","v":1}]
[18084,1,3771,9311,null,"2012-02-09T03:39:41",null,null,3,{"$f":"COUNTIF(top10Usrs[Top 10 Posters],tblPosts[[#This Row],[poster_id]])","v":1}]
[18098,1,3772,9834,null,"2012-02-09T06:32:42",null,null,1,{"$f":"COUNTIF(top10Usrs[Top 10 Posters],tblPosts[[#This Row],[poster_id]])","v":0}]
[18105,1,3767,8821,null,"2012-02-09T11:14:24",null,null,9,{"$f":"COUNTIF(top10Usrs[Top 10 Posters],tblPosts[[#This Row],[poster_id]])","v":1}]
[18117,1,3767,9831,null,"2012-02-09T13:22:04",null,null,12,{"$f":"COUNTIF(top10Usrs[Top 10 Posters],tblPosts[[#This Row],[poster_id]])","v":0}]
[18124,1,3775,9777,null,"2012-02-09T14:27:50",null,null,1,{"$f":"COUNTIF(top10Usrs[Top 10 Posters],tblPosts[[#This Row],[poster_id]])","v":0}]
[18127,1,3767,8821,null,"2012-02-09T14:56:11",null,null,14,{"$f":"COUNTIF(top10Usrs[Top 10 Posters],tblPosts[[#This Row],[poster_id]])","v":1}]
[18139,1,3781,9445,null,"2012-02-09T16:50:00",null,null,1,{"$f":"COUNTIF(top10Usrs[Top 10 Posters],tblPosts[[#This Row],[poster_id]])","v":0}]
[18146,1,3779,6998,null,"2012-02-09T18:23:23",null,null,2,{"$f":"COUNTIF(top10Usrs[Top 10 Posters],tblPosts[[#This Row],[poster_id]])","v":1}]
[18158,3,3651,9311,null,"2012-02-09T20:04:22",null,null,23,{"$f":"COUNTIF(top10Usrs[Top 10 Posters],tblPosts[[#This Row],[poster_id]])","v":1}]
[18165,1,3786,9839,null,"2012-02-09T21:00:51",null,null,1,{"$f":"COUNTIF(top10Usrs[Top 10 Posters],tblPosts[[#This Row],[poster_id]])","v":0}]
[18175,1,3763,9829,null,"2012-02-09T21:40:03",null,null,3,{"$f":"COUNTIF(top10Usrs[Top 10 Posters],tblPosts[[#This Row],[poster_id]])","v":0}]
[18188,1,3787,24,null,"2012-02-10T02:59:12",null,null,3,{"$f":"COUNTIF(top10Usrs[Top 10 Posters],tblPosts[[#This Row],[poster_id]])","v":1}]
[18195,1,3788,9482,null,"2012-02-10T03:47:03",null,null,1,{"$f":"COUNTIF(top10Usrs[Top 10 Posters],tblPosts[[#This Row],[poster_id]])","v":0}]
[18198,1,3789,9787,null,"2012-02-10T04:41:54",null,null,1,{"$f":"COUNTIF(top10Usrs[Top 10 Posters],tblPosts[[#This Row],[poster_id]])","v":0}]
[18210,1,3735,9629,null,"2012-02-10T10:10:04",null,null,8,{"$f":"COUNTIF(top10Usrs[Top 10 Posters],tblPosts[[#This Row],[poster_id]])","v":0}]
[18217,1,3788,9482,null,"2012-02-10T13:28:58",null,null,6,{"$f":"COUNTIF(top10Usrs[Top 10 Posters],tblPosts[[#This Row],[poster_id]])","v":0}]
[18229,1,3783,9838,null,"2012-02-10T15:08:39",null,null,4,{"$f":"COUNTIF(top10Usrs[Top 10 Posters],tblPosts[[#This Row],[poster_id]])","v":0}]
[18236,1,3792,9045,null,"2012-02-10T15:30:25",null,null,5,{"$f":"COUNTIF(top10Usrs[Top 10 Posters],tblPosts[[#This Row],[poster_id]])","v":0}]
[18248,1,3794,9850,null,"2012-02-10T19:22:44",null,null,1,{"$f":"COUNTIF(top10Usrs[Top 10 Posters],tblPosts[[#This Row],[poster_id]])","v":0}]
[18256,1,3795,24,null,"2012-02-10T23:19:48",null,null,2,{"$f":"COUNTIF(top10Usrs[Top 10 Posters],tblPosts[[#This Row],[poster_id]])","v":1}]
[18266,1,3798,8821,null,"2012-02-11T08:40:07",null,null,2,{"$f":"COUNTIF(top10Usrs[Top 10 Posters],tblPosts[[#This Row],[poster_id]])","v":1}]
[18269,1,3799,9463,null,"2012-02-11T11:20:44",null,null,1,{"$f":"COUNTIF(top10Usrs[Top 10 Posters],tblPosts[[#This Row],[poster_id]])","v":0}]
[18281,1,3803,9860,null,"2012-02-12T06:49:53",null,null,1,{"$f":"COUNTIF(top10Usrs[Top 10 Posters],tblPosts[[#This Row],[poster_id]])","v":0}]
[18288,1,3803,9571,null,"2012-02-12T08:30:03",null,null,4,{"$f":"COUNTIF(top10Usrs[Top 10 Posters],tblPosts[[#This Row],[poster_id]])","v":0}]
[18300,1,3803,9860,null,"2012-02-12T13:20:38",null,null,10,{"$f":"COUNTIF(top10Usrs[Top 10 Posters],tblPosts[[#This Row],[poster_id]])","v":0}]
[18307,1,3805,9445,null,"2012-02-12T17:25:11",null,null,1,{"$f":"COUNTIF(top10Usrs[Top 10 Posters],tblPosts[[#This Row],[poster_id]])","v":0}]
[18319,1,3809,9857,null,"2012-02-13T02:04:49",null,null,0,{"$f":"COUNTIF(top10Usrs[Top 10 Posters],tblPosts[[#This Row],[poster_id]])","v":0}]
[18331,1,3817,9343,null,"2012-02-13T10:38:03",null,null,2,{"$f":"COUNTIF(top10Usrs[Top 10 Posters],tblPosts[[#This Row],[poster_id]])","v":0}]
[18338,1,3799,6998,null,"2012-02-13T13:22:01",null,null,2,{"$f":"COUNTIF(top10Usrs[Top 10 Posters],tblPosts[[#This Row],[poster_id]])","v":1}]
[18347,1,3818,8821,null,"2012-02-13T15:11:03",null,null,6,{"$f":"COUNTIF(top10Usrs[Top 10 Posters],tblPosts[[#This Row],[poster_id]])","v":1}]
[18356,1,3744,6998,null,"2012-02-13T20:57:39",null,null,6,{"$f":"COUNTIF(top10Usrs[Top 10 Posters],tblPosts[[#This Row],[poster_id]])","v":1}]
[18359,1,3805,9742,null,"2012-02-13T21:43:40",null,null,5,{"$f":"COUNTIF(top10Usrs[Top 10 Posters],tblPosts[[#This Row],[poster_id]])","v":0}]
[18371,1,3744,5408,null,"2012-02-14T05:00:11",null,null,8,{"$f":"COUNTIF(top10Usrs[Top 10 Posters],tblPosts[[#This Row],[poster_id]])","v":1}]
[18378,1,3828,6713,null,"2012-02-14T09:55:24",null,null,2,{"$f":"COUNTIF(top10Usrs[Top 10 Posters],tblPosts[[#This Row],[poster_id]])","v":0}]
[18390,1,3829,9877,null,"2012-02-14T12:43:06",null,null,2,{"$f":"COUNTIF(top10Usrs[Top 10 Posters],tblPosts[[#This Row],[poster_id]])","v":0}]
[18402,1,3808,5408,null,"2012-02-14T13:44:14",null,null,3,{"$f":"COUNTIF(top10Usrs[Top 10 Posters],tblPosts[[#This Row],[poster_id]])","v":1}]
[18409,1,3830,6998,null,"2012-02-14T14:17:25",null,null,4,{"$f":"COUNTIF(top10Usrs[Top 10 Posters],tblPosts[[#This Row],[poster_id]])","v":1}]
[18412,1,3831,9571,null,"2012-02-14T14:28:56",null,null,2,{"$f":"COUNTIF(top10Usrs[Top 10 Posters],tblPosts[[#This Row],[poster_id]])","v":0}]
[18428,3,3651,9311,null,"2012-02-14T17:35:33",null,null,32,{"$f":"COUNTIF(top10Usrs[Top 10 Posters],tblPosts[[#This Row],[poster_id]])","v":1}]
[18430,1,3841,6998,null,"2012-02-14T17:45:37",null,null,2,{"$f":"COUNTIF(top10Usrs[Top 10 Posters],tblPosts[[#This Row],[poster_id]])","v":1}]
[18442,1,3836,9571,null,"2012-02-14T18:13:23",null,null,5,{"$f":"COUNTIF(top10Usrs[Top 10 Posters],tblPosts[[#This Row],[poster_id]])","v":0}]
[18449,1,3835,6925,null,"2012-02-14T19:00:34",null,null,5,{"$f":"COUNTIF(top10Usrs[Top 10 Posters],tblPosts[[#This Row],[poster_id]])","v":1}]
[18461,1,3819,8695,null,"2012-02-14T21:09:57",null,null,5,{"$f":"COUNTIF(top10Usrs[Top 10 Posters],tblPosts[[#This Row],[poster_id]])","v":0}]
[18468,1,3843,9311,null,"2012-02-14T21:52:38",null,null,6,{"$f":"COUNTIF(top10Usrs[Top 10 Posters],tblPosts[[#This Row],[poster_id]])","v":1}]
[18480,4,2021,9311,null,"2012-02-14T23:43:50",null,null,14,{"$f":"COUNTIF(top10Usrs[Top 10 Posters],tblPosts[[#This Row],[poster_id]])","v":1}]
[18483,1,3823,9859,null,"2012-02-15T03:01:29",null,null,3,{"$f":"COUNTIF(top10Usrs[Top 10 Posters],tblPosts[[#This Row],[poster_id]])","v":0}]
[18499,1,3835,8821,null,"2012-02-15T06:52:08",null,null,7,{"$f":"COUNTIF(top10Usrs[Top 10 Posters],tblPosts[[#This Row],[poster_id]])","v":1}]
[18502,1,3848,9480,null,"2012-02-15T07:03:24",null,null,8,{"$f":"COUNTIF(top10Usrs[Top 10 Posters],tblPosts[[#This Row],[poster_id]])","v":0}]
[18511,1,3801,7520,null,"2012-02-15T09:43:47",null,null,3,{"$f":"COUNTIF(top10Usrs[Top 10 Posters],tblPosts[[#This Row],[poster_id]])","v":0}]
[18520,1,3835,9879,null,"2012-02-15T11:35:21",null,null,21,{"$f":"COUNTIF(top10Usrs[Top 10 Posters],tblPosts[[#This Row],[poster_id]])","v":0}]
[18532,1,3838,9880,null,"2012-02-15T12:31:08",null,null,6,{"$f":"COUNTIF(top10Usrs[Top 10 Posters],tblPosts[[#This Row],[poster_id]])","v":0}]
[18539,1,3838,9880,null,"2012-02-15T13:33:24",null,null,9,{"$f":"COUNTIF(top10Usrs[Top 10 Posters],tblPosts[[#This Row],[poster_id]])","v":0}]
[18551,1,3836,9571,null,"2012-02-15T16:31:53",null,null,7,{"$f":"COUNTIF(top10Usrs[Top 10 Posters],tblPosts[[#This Row],[poster_id]])","v":0}]
[18554,1,3856,9445,null,"2012-02-15T17:01:44",null,null,1,{"$f":"COUNTIF(top10Usrs[Top 10 Posters],tblPosts[[#This Row],[poster_id]])","v":0}]
[18570,1,3857,9897,null,"2012-02-15T17:49:46",null,null,4,{"$f":"COUNTIF(top10Usrs[Top 10 Posters],tblPosts[[#This Row],[poster_id]])","v":0}]
[18573,1,3860,7787,null,"2012-02-15T18:15:41",null,null,1,{"$f":"COUNTIF(top10Usrs[Top 10 Posters],tblPosts[[#This Row],[poster_id]])","v":0}]
[18585,1,3860,7787,null,"2012-02-15T19:07:54",null,null,9,{"$f":"COUNTIF(top10Usrs[Top 10 Posters],tblPosts[[#This Row],[poster_id]])","v":0}]
[18592,1,3860,6998,null,"2012-02-15T19:27:32",null,null,12,{"$f":"COUNTIF(top10Usrs[Top 10 Posters],tblPosts[[#This Row],[poster_id]])","v":1}]
[18606,1,3865,9445,null,"2012-02-16T06:50:39",null,null,1,{"$f":"COUNTIF(top10Usrs[Top 10 Posters],tblPosts[[#This Row],[poster_id]])","v":0}]
[18601,1,3850,9480,null,"2012-02-16T06:04:40",null,null,4,{"$f":"COUNTIF(top10Usrs[Top 10 Posters],tblPosts[[#This Row],[poster_id]])","v":0}]
[18622,1,3816,8751,null,"2012-02-16T09:45:36",null,null,2,{"$f":"COUNTIF(top10Usrs[Top 10 Posters],tblPosts[[#This Row],[poster_id]])","v":0}]
[18625,1,3869,9904,null,"2012-02-16T10:35:25",null,null,1,{"$f":"COUNTIF(top10Usrs[Top 10 Posters],tblPosts[[#This Row],[poster_id]])","v":0}]
[18641,1,3869,7263,null,"2012-02-16T13:39:25",null,null,3,{"$f":"COUNTIF(top10Usrs[Top 10 Posters],tblPosts[[#This Row],[poster_id]])","v":0}]
[18644,1,3858,6998,null,"2012-02-16T14:20:17",null,null,4,{"$f":"COUNTIF(top10Usrs[Top 10 Posters],tblPosts[[#This Row],[poster_id]])","v":1}]
[18660,1,3874,7520,null,"2012-02-16T16:52:51",null,null,1,{"$f":"COUNTIF(top10Usrs[Top 10 Posters],tblPosts[[#This Row],[poster_id]])","v":0}]
[18663,1,3866,9445,null,"2012-02-16T17:06:42",null,null,4,{"$f":"COUNTIF(top10Usrs[Top 10 Posters],tblPosts[[#This Row],[poster_id]])","v":0}]
[18675,1,3877,9311,null,"2012-02-16T17:59:48",null,null,2,{"$f":"COUNTIF(top10Usrs[Top 10 Posters],tblPosts[[#This Row],[poster_id]])","v":1}]
[18683,1,3876,9311,null,"2012-02-16T18:40:43",null,null,8,{"$f":"COUNTIF(top10Usrs[Top 10 Posters],tblPosts[[#This Row],[poster_id]])","v":1}]
[18693,1,3880,9813,null,"2012-02-16T20:26:23",null,null,1,{"$f":"COUNTIF(top10Usrs[Top 10 Posters],tblPosts[[#This Row],[poster_id]])","v":0}]
[18696,1,3880,6998,null,"2012-02-16T20:32:46",null,null,2,{"$f":"COUNTIF(top10Usrs[Top 10 Posters],tblPosts[[#This Row],[poster_id]])","v":1}]
[18712,1,3836,9571,null,"2012-02-17T04:36:50",null,null,9,{"$f":"COUNTIF(top10Usrs[Top 10 Posters],tblPosts[[#This Row],[poster_id]])","v":0}]
[18715,1,3825,6779,null,"2012-02-17T05:56:40",null,null,5,{"$f":"COUNTIF(top10Usrs[Top 10 Posters],tblPosts[[#This Row],[poster_id]])","v":1}]
[18731,1,3875,6998,null,"2012-02-17T13:08:55",null,null,7,{"$f":"COUNTIF(top10Usrs[Top 10 Posters],tblPosts[[#This Row],[poster_id]])","v":1}]
[18734,1,3825,5408,null,"2012-02-17T13:15:32",null,null,6,{"$f":"COUNTIF(top10Usrs[Top 10 Posters],tblPosts[[#This Row],[poster_id]])","v":1}]
[18746,1,3853,8821,null,"2012-02-17T15:26:18",null,null,5,{"$f":"COUNTIF(top10Usrs[Top 10 Posters],tblPosts[[#This Row],[poster_id]])","v":1}]
[18753,1,3885,9897,null,"2012-02-17T16:56:22",null,null,7,{"$f":"COUNTIF(top10Usrs[Top 10 Posters],tblPosts[[#This Row],[poster_id]])","v":0}]
[18765,1,3891,8821,null,"2012-02-17T17:37:54",null,null,2,{"$f":"COUNTIF(top10Usrs[Top 10 Posters],tblPosts[[#This Row],[poster_id]])","v":1}]
[18774,1,3836,9571,null,"2012-02-17T18:31:02",null,null,13,{"$f":"COUNTIF(top10Usrs[Top 10 Posters],tblPosts[[#This Row],[poster_id]])","v":0}]
[18783,1,3894,9923,null,"2012-02-17T22:55:55",null,null,1,{"$f":"COUNTIF(top10Usrs[Top 10 Posters],tblPosts[[#This Row],[poster_id]])","v":0}]
[18786,1,3659,9745,null,"2012-02-17T23:22:47",null,null,16,{"$f":"COUNTIF(top10Usrs[Top 10 Posters],tblPosts[[#This Row],[poster_id]])","v":0}]
[18802,1,3885,9571,null,"2012-02-18T04:42:35",null,null,10,{"$f":"COUNTIF(top10Usrs[Top 10 Posters],tblPosts[[#This Row],[poster_id]])","v":0}]
[18805,1,3904,9929,null,"2012-02-18T05:12:07",null,null,0,{"$f":"COUNTIF(top10Usrs[Top 10 Posters],tblPosts[[#This Row],[poster_id]])","v":0}]
[18817,1,3893,6708,null,"2012-02-18T09:42:11",null,null,4,{"$f":"COUNTIF(top10Usrs[Top 10 Posters],tblPosts[[#This Row],[poster_id]])","v":0}]
[18824,1,3893,8821,null,"2012-02-18T12:57:23",null,null,7,{"$f":"COUNTIF(top10Usrs[Top 10 Posters],tblPosts[[#This Row],[poster_id]])","v":1}]
[18836,1,3801,7520,null,"2012-02-18T16:46:52",null,null,8,{"$f":"COUNTIF(top10Usrs[Top 10 Posters],tblPosts[[#This Row],[poster_id]])","v":0}]
[18843,1,3911,7787,null,"2012-02-18T17:56:09",null,null,1,{"$f":"COUNTIF(top10Usrs[Top 10 Posters],tblPosts[[#This Row],[poster_id]])","v":0}]
[18855,1,3908,9571,null,"2012-02-18T21:38:45",null,null,7,{"$f":"COUNTIF(top10Usrs[Top 10 Posters],tblPosts[[#This Row],[poster_id]])","v":0}]
[18857,1,3890,9629,null,"2012-02-18T21:51:02",null,null,5,{"$f":"COUNTIF(top10Usrs[Top 10 Posters],tblPosts[[#This Row],[poster_id]])","v":0}]
[18873,1,3914,9629,null,"2012-02-19T11:40:13",null,null,5,{"$f":"COUNTIF(top10Usrs[Top 10 Posters],tblPosts[[#This Row],[poster_id]])","v":0}]
[18876,7,3917,5408,null,"2012-02-19T14:42:18",null,null,2,{"$f":"COUNTIF(top10Usrs[Top 10 Posters],tblPosts[[#This Row],[poster_id]])","v":1}]
[18888,1,3920,24,null,"2012-02-20T01:13:37",null,null,2,{"$f":"COUNTIF(top10Usrs[Top 10 Posters],tblPosts[[#This Row],[poster_id]])","v":1}]
[18895,2,3927,9938,null,"2012-02-20T02:27:23",null,null,1,{"$f":"COUNTIF(top10Usrs[Top 10 Posters],tblPosts[[#This Row],[poster_id]])","v":0}]
[18907,1,3929,9480,null,"2012-02-20T05:44:55",null,null,3,{"$f":"COUNTIF(top10Usrs[Top 10 Posters],tblPosts[[#This Row],[poster_id]])","v":0}]
[18914,1,3825,8217,null,"2012-02-20T06:40:40",null,null,10,{"$f":"COUNTIF(top10Usrs[Top 10 Posters],tblPosts[[#This Row],[poster_id]])","v":0}]
[18926,1,2953,9571,null,"2012-02-20T10:02:28",null,null,20,{"$f":"COUNTIF(top10Usrs[Top 10 Posters],tblPosts[[#This Row],[poster_id]])","v":0}]
[18929,2,3930,9571,null,"2012-02-20T11:23:26",null,null,6,{"$f":"COUNTIF(top10Usrs[Top 10 Posters],tblPosts[[#This Row],[poster_id]])","v":0}]
[18938,1,3933,24,null,"2012-02-20T13:08:33",null,null,6,{"$f":"COUNTIF(top10Usrs[Top 10 Posters],tblPosts[[#This Row],[poster_id]])","v":1}]
[18947,2,3935,9935,null,"2012-02-20T13:57:29",null,null,9,{"$f":"COUNTIF(top10Usrs[Top 10 Posters],tblPosts[[#This Row],[poster_id]])","v":0}]
[18954,1,3933,9897,null,"2012-02-20T14:28:03",null,null,4,{"$f":"COUNTIF(top10Usrs[Top 10 Posters],tblPosts[[#This Row],[poster_id]])","v":0}]
[18966,1,3936,8213,null,"2012-02-20T15:11:47",null,null,4,{"$f":"COUNTIF(top10Usrs[Top 10 Posters],tblPosts[[#This Row],[poster_id]])","v":0}]
[18978,1,3825,6998,null,"2012-02-20T15:43:17",null,null,14,{"$f":"COUNTIF(top10Usrs[Top 10 Posters],tblPosts[[#This Row],[poster_id]])","v":1}]
[18985,1,3913,9351,null,"2012-02-20T16:10:18",null,null,7,{"$f":"COUNTIF(top10Usrs[Top 10 Posters],tblPosts[[#This Row],[poster_id]])","v":0}]
[18997,1,3920,9935,null,"2012-02-20T18:01:57",null,null,5,{"$f":"COUNTIF(top10Usrs[Top 10 Posters],tblPosts[[#This Row],[poster_id]])","v":0}]
[19000,2,3930,5408,null,"2012-02-20T18:17:10",null,null,11,{"$f":"COUNTIF(top10Usrs[Top 10 Posters],tblPosts[[#This Row],[poster_id]])","v":1}]
[19016,1,3944,6779,null,"2012-02-21T04:20:59",null,null,1,{"$f":"COUNTIF(top10Usrs[Top 10 Posters],tblPosts[[#This Row],[poster_id]])","v":1}]
[19019,1,3945,8821,null,"2012-02-21T05:13:07",null,null,2,{"$f":"COUNTIF(top10Usrs[Top 10 Posters],tblPosts[[#This Row],[poster_id]])","v":1}]
[19025,1,3946,8821,null,"2012-02-21T06:17:27",null,null,2,{"$f":"COUNTIF(top10Usrs[Top 10 Posters],tblPosts[[#This Row],[poster_id]])","v":1}]
[19037,2,3935,9571,null,"2012-02-21T10:15:34",null,null,16,{"$f":"COUNTIF(top10Usrs[Top 10 Posters],tblPosts[[#This Row],[poster_id]])","v":0}]
[19049,7,3941,8821,null,"2012-02-21T12:27:31",null,null,6,{"$f":"COUNTIF(top10Usrs[Top 10 Posters],tblPosts[[#This Row],[poster_id]])","v":1}]
[19056,1,3887,7591,null,"2012-02-21T13:48:03",null,null,5,{"$f":"COUNTIF(top10Usrs[Top 10 Posters],tblPosts[[#This Row],[poster_id]])","v":0}]
[19068,5,3956,9960,null,"2012-02-21T15:50:03",null,null,1,{"$f":"COUNTIF(top10Usrs[Top 10 Posters],tblPosts[[#This Row],[poster_id]])","v":0}]
[19071,1,3958,8132,null,"2012-02-21T16:03:11",null,null,1,{"$f":"COUNTIF(top10Usrs[Top 10 Posters],tblPosts[[#This Row],[poster_id]])","v":0}]
[19087,1,3959,9946,null,"2012-02-21T16:57:16",null,null,5,{"$f":"COUNTIF(top10Usrs[Top 10 Posters],tblPosts[[#This Row],[poster_id]])","v":0}]
[19090,1,3959,9935,null,"2012-02-21T17:03:25",null,null,6,{"$f":"COUNTIF(top10Usrs[Top 10 Posters],tblPosts[[#This Row],[poster_id]])","v":0}]
[19097,1,3957,9311,null,"2012-02-21T17:21:43",null,null,12,{"$f":"COUNTIF(top10Usrs[Top 10 Posters],tblPosts[[#This Row],[poster_id]])","v":1}]
[19110,1,3744,6925,null,"2012-02-21T21:03:34",null,null,9,{"$f":"COUNTIF(top10Usrs[Top 10 Posters],tblPosts[[#This Row],[poster_id]])","v":1}]
[19120,1,3965,9963,null,"2012-02-22T04:00:23",null,null,1,{"$f":"COUNTIF(top10Usrs[Top 10 Posters],tblPosts[[#This Row],[poster_id]])","v":0}]
[19127,1,3943,5408,null,"2012-02-22T04:44:00",null,null,5,{"$f":"COUNTIF(top10Usrs[Top 10 Posters],tblPosts[[#This Row],[poster_id]])","v":1}]
[19139,1,3939,9944,null,"2012-02-22T07:13:04",null,null,13,{"$f":"COUNTIF(top10Usrs[Top 10 Posters],tblPosts[[#This Row],[poster_id]])","v":0}]
[19146,1,3939,9571,null,"2012-02-22T07:51:29",null,null,18,{"$f":"COUNTIF(top10Usrs[Top 10 Posters],tblPosts[[#This Row],[poster_id]])","v":0}]
[19158,1,3951,8956,null,"2012-02-22T09:45:05",null,null,5,{"$f":"COUNTIF(top10Usrs[Top 10 Posters],tblPosts[[#This Row],[poster_id]])","v":0}]
[19161,1,3959,9946,null,"2012-02-22T11:38:52",null,null,11,{"$f":"COUNTIF(top10Usrs[Top 10 Posters],tblPosts[[#This Row],[poster_id]])","v":0}]
[19168,1,3975,9959,null,"2012-02-22T14:12:11",null,null,1,{"$f":"COUNTIF(top10Usrs[Top 10 Posters],tblPosts[[#This Row],[poster_id]])","v":0}]
[19180,1,3939,9311,null,"2012-02-22T15:21:15",null,null,25,{"$f":"COUNTIF(top10Usrs[Top 10 Posters],tblPosts[[#This Row],[poster_id]])","v":1}]
[19192,4,3972,9571,null,"2012-02-22T16:51:02",null,null,4,{"$f":"COUNTIF(top10Usrs[Top 10 Posters],tblPosts[[#This Row],[poster_id]])","v":0}]
[19201,1,3976,9311,null,"2012-02-22T17:26:59",null,null,4,{"$f":"COUNTIF(top10Usrs[Top 10 Posters],tblPosts[[#This Row],[poster_id]])","v":1}]
[19210,1,3969,9311,null,"2012-02-22T18:35:38",null,null,7,{"$f":"COUNTIF(top10Usrs[Top 10 Posters],tblPosts[[#This Row],[poster_id]])","v":1}]
[19217,1,3981,6998,null,"2012-02-22T20:50:31",null,null,2,{"$f":"COUNTIF(top10Usrs[Top 10 Posters],tblPosts[[#This Row],[poster_id]])","v":1}]
[19229,1,3977,2543,null,"2012-02-22T22:17:46",null,null,3,{"$f":"COUNTIF(top10Usrs[Top 10 Posters],tblPosts[[#This Row],[poster_id]])","v":0}]
[19232,4,2,9978,null,"2012-02-23T00:34:49",null,null,204,{"$f":"COUNTIF(top10Usrs[Top 10 Posters],tblPosts[[#This Row],[poster_id]])","v":0}]
[19239,1,3988,9980,null,"2012-02-23T01:51:55",null,null,1,{"$f":"COUNTIF(top10Usrs[Top 10 Posters],tblPosts[[#This Row],[poster_id]])","v":0}]
[19251,1,3964,9311,null,"2012-02-23T03:39:07",null,null,7,{"$f":"COUNTIF(top10Usrs[Top 10 Posters],tblPosts[[#This Row],[poster_id]])","v":1}]
[19258,7,3995,9311,null,"2012-02-23T05:06:43",null,null,1,{"$f":"COUNTIF(top10Usrs[Top 10 Posters],tblPosts[[#This Row],[poster_id]])","v":1}]
[19270,1,3971,8501,null,"2012-02-23T09:44:19",null,null,5,{"$f":"COUNTIF(top10Usrs[Top 10 Posters],tblPosts[[#This Row],[poster_id]])","v":0}]
[19282,1,3836,9838,null,"2012-02-23T13:13:26",null,null,14,{"$f":"COUNTIF(top10Usrs[Top 10 Posters],tblPosts[[#This Row],[poster_id]])","v":0}]
[19288,1,4004,9991,null,"2012-02-23T13:31:03",null,null,1,{"$f":"COUNTIF(top10Usrs[Top 10 Posters],tblPosts[[#This Row],[poster_id]])","v":0}]
[19300,1,3999,6998,null,"2012-02-23T15:37:42",null,null,4,{"$f":"COUNTIF(top10Usrs[Top 10 Posters],tblPosts[[#This Row],[poster_id]])","v":1}]
[19303,1,4006,9992,null,"2012-02-23T15:50:23",null,null,1,{"$f":"COUNTIF(top10Usrs[Top 10 Posters],tblPosts[[#This Row],[poster_id]])","v":0}]
[19310,1,4006,9992,null,"2012-02-23T16:16:50",null,null,3,{"$f":"COUNTIF(top10Usrs[Top 10 Posters],tblPosts[[#This Row],[poster_id]])","v":0}]
[19322,1,3981,9972,null,"2012-02-23T18:56:04",null,null,4,{"$f":"COUNTIF(top10Usrs[Top 10 Posters],tblPosts[[#This Row],[poster_id]])","v":0}]
[19329,7,3941,9947,null,"2012-02-23T19:52:01",null,null,9,{"$f":"COUNTIF(top10Usrs[Top 10 Posters],tblPosts[[#This Row],[poster_id]])","v":0}]
[19341,1,4011,5408,null,"2012-02-24T04:47:57",null,null,4,{"$f":"COUNTIF(top10Usrs[Top 10 Posters],tblPosts[[#This Row],[poster_id]])","v":1}]
[19353,1,4016,10002,null,"2012-02-24T07:16:15",null,null,0,{"$f":"COUNTIF(top10Usrs[Top 10 Posters],tblPosts[[#This Row],[poster_id]])","v":0}]
[19360,1,4019,9994,null,"2012-02-24T13:45:31",null,null,1,{"$f":"COUNTIF(top10Usrs[Top 10 Posters],tblPosts[[#This Row],[poster_id]])","v":0}]
[19365,1,3983,9974,null,"2012-02-24T14:10:08",null,null,3,{"$f":"COUNTIF(top10Usrs[Top 10 Posters],tblPosts[[#This Row],[poster_id]])","v":0}]
[19374,1,4017,7263,null,"2012-02-24T15:05:56",null,null,4,{"$f":"COUNTIF(top10Usrs[Top 10 Posters],tblPosts[[#This Row],[poster_id]])","v":0}]
[19381,1,4010,6998,null,"2012-02-24T17:03:43",null,null,4,{"$f":"COUNTIF(top10Usrs[Top 10 Posters],tblPosts[[#This Row],[poster_id]])","v":1}]
[19393,1,4027,6925,null,"2012-02-24T23:00:25",null,null,1,{"$f":"COUNTIF(top10Usrs[Top 10 Posters],tblPosts[[#This Row],[poster_id]])","v":1}]
[19400,1,4030,10002,null,"2012-02-25T03:25:19",null,null,0,{"$f":"COUNTIF(top10Usrs[Top 10 Posters],tblPosts[[#This Row],[poster_id]])","v":0}]
[19412,1,4032,9935,null,"2012-02-25T06:17:12",null,null,2,{"$f":"COUNTIF(top10Usrs[Top 10 Posters],tblPosts[[#This Row],[poster_id]])","v":0}]
[19424,1,4033,7323,null,"2012-02-25T14:11:54",null,null,4,{"$f":"COUNTIF(top10Usrs[Top 10 Posters],tblPosts[[#This Row],[poster_id]])","v":0}]
[19432,1,4033,8821,null,"2012-02-25T17:02:23",null,null,8,{"$f":"COUNTIF(top10Usrs[Top 10 Posters],tblPosts[[#This Row],[poster_id]])","v":1}]
[19443,7,3941,9947,null,"2012-02-26T00:39:42",null,null,11,{"$f":"COUNTIF(top10Usrs[Top 10 Posters],tblPosts[[#This Row],[poster_id]])","v":0}]
[19446,1,4040,10016,null,"2012-02-26T02:33:24",null,null,1,{"$f":"COUNTIF(top10Usrs[Top 10 Posters],tblPosts[[#This Row],[poster_id]])","v":0}]
[19452,1,4043,9021,null,"2012-02-26T06:24:23",null,null,1,{"$f":"COUNTIF(top10Usrs[Top 10 Posters],tblPosts[[#This Row],[poster_id]])","v":0}]
[19464,1,4044,9571,null,"2012-02-26T10:28:16",null,null,2,{"$f":"COUNTIF(top10Usrs[Top 10 Posters],tblPosts[[#This Row],[poster_id]])","v":0}]
[19471,1,4045,24,null,"2012-02-26T13:00:23",null,null,4,{"$f":"COUNTIF(top10Usrs[Top 10 Posters],tblPosts[[#This Row],[poster_id]])","v":1}]
[19483,1,4047,9935,null,"2012-02-26T17:09:01",null,null,4,{"$f":"COUNTIF(top10Usrs[Top 10 Posters],tblPosts[[#This Row],[poster_id]])","v":0}]
[19495,1,4047,8821,null,"2012-02-27T03:10:21",null,null,7,{"$f":"COUNTIF(top10Usrs[Top 10 Posters],tblPosts[[#This Row],[poster_id]])","v":1}]
[19502,1,4050,9571,null,"2012-02-27T04:53:17",null,null,2,{"$f":"COUNTIF(top10Usrs[Top 10 Posters],tblPosts[[#This Row],[poster_id]])","v":0}]
[19514,1,4047,9935,null,"2012-02-27T10:16:28",null,null,13,{"$f":"COUNTIF(top10Usrs[Top 10 Posters],tblPosts[[#This Row],[poster_id]])","v":0}]
[19521,1,4043,9021,null,"2012-02-27T10:48:29",null,null,10,{"$f":"COUNTIF(top10Usrs[Top 10 Posters],tblPosts[[#This Row],[poster_id]])","v":0}]
[19524,1,4052,8821,null,"2012-02-27T11:13:56",null,null,2,{"$f":"COUNTIF(top10Usrs[Top 10 Posters],tblPosts[[#This Row],[poster_id]])","v":1}]
[19537,1,4052,8821,null,"2012-02-27T14:58:23",null,null,6,{"$f":"COUNTIF(top10Usrs[Top 10 Posters],tblPosts[[#This Row],[poster_id]])","v":1}]
[19542,1,4046,9880,null,"2012-02-27T16:20:48",null,null,9,{"$f":"COUNTIF(top10Usrs[Top 10 Posters],tblPosts[[#This Row],[poster_id]])","v":0}]
[19554,1,4059,8231,null,"2012-02-27T18:05:52",null,null,1,{"$f":"COUNTIF(top10Usrs[Top 10 Posters],tblPosts[[#This Row],[poster_id]])","v":0}]
[19561,1,4011,9997,null,"2012-02-27T18:55:33",null,null,8,{"$f":"COUNTIF(top10Usrs[Top 10 Posters],tblPosts[[#This Row],[poster_id]])","v":0}]
[19573,1,4061,9551,null,"2012-02-27T23:30:07",null,null,1,{"$f":"COUNTIF(top10Usrs[Top 10 Posters],tblPosts[[#This Row],[poster_id]])","v":0}]
[19585,1,4043,9021,null,"2012-02-28T05:06:42",null,null,12,{"$f":"COUNTIF(top10Usrs[Top 10 Posters],tblPosts[[#This Row],[poster_id]])","v":0}]
[19592,1,4046,8821,null,"2012-02-28T06:50:22",null,null,10,{"$f":"COUNTIF(top10Usrs[Top 10 Posters],tblPosts[[#This Row],[poster_id]])","v":1}]
[19595,1,4052,843,null,"2012-02-28T08:53:39",null,null,9,{"$f":"COUNTIF(top10Usrs[Top 10 Posters],tblPosts[[#This Row],[poster_id]])","v":0}]
[19607,1,4034,8821,null,"2012-02-28T11:02:36",null,null,10,{"$f":"COUNTIF(top10Usrs[Top 10 Posters],tblPosts[[#This Row],[poster_id]])","v":1}]
[19618,1,4067,2865,null,"2012-02-28T13:45:49",null,null,3,{"$f":"COUNTIF(top10Usrs[Top 10 Posters],tblPosts[[#This Row],[poster_id]])","v":0}]
[19625,1,4010,9995,null,"2012-02-28T15:53:33",null,null,9,{"$f":"COUNTIF(top10Usrs[Top 10 Posters],tblPosts[[#This Row],[poster_id]])","v":0}]
[19632,1,4005,7914,null,"2012-02-28T16:51:06",null,null,3,{"$f":"COUNTIF(top10Usrs[Top 10 Posters],tblPosts[[#This Row],[poster_id]])","v":0}]
[19644,1,4005,6998,null,"2012-02-28T19:29:01",null,null,6,{"$f":"COUNTIF(top10Usrs[Top 10 Posters],tblPosts[[#This Row],[poster_id]])","v":1}]
[19656,1,4071,10034,null,"2012-02-28T20:53:53",null,null,1,{"$f":"COUNTIF(top10Usrs[Top 10 Posters],tblPosts[[#This Row],[poster_id]])","v":0}]
[19663,1,4072,10035,null,"2012-02-29T00:28:04",null,null,1,{"$f":"COUNTIF(top10Usrs[Top 10 Posters],tblPosts[[#This Row],[poster_id]])","v":0}]
[19666,1,4046,8821,null,"2012-02-29T03:12:23",null,null,14,{"$f":"COUNTIF(top10Usrs[Top 10 Posters],tblPosts[[#This Row],[poster_id]])","v":1}]
[19678,1,4073,8821,null,"2012-02-29T04:39:05",null,null,10,{"$f":"COUNTIF(top10Usrs[Top 10 Posters],tblPosts[[#This Row],[poster_id]])","v":1}]
[19685,1,4072,9571,null,"2012-02-29T06:09:37",null,null,2,{"$f":"COUNTIF(top10Usrs[Top 10 Posters],tblPosts[[#This Row],[poster_id]])","v":0}]
[19697,1,4076,9796,null,"2012-02-29T09:12:27",null,null,1,{"$f":"COUNTIF(top10Usrs[Top 10 Posters],tblPosts[[#This Row],[poster_id]])","v":0}]
[19709,1,4079,9796,null,"2012-02-29T12:07:19",null,null,1,{"$f":"COUNTIF(top10Usrs[Top 10 Posters],tblPosts[[#This Row],[poster_id]])","v":0}]
[19715,1,4078,6998,null,"2012-02-29T14:10:56",null,null,3,{"$f":"COUNTIF(top10Usrs[Top 10 Posters],tblPosts[[#This Row],[poster_id]])","v":1}]
[19727,1,4078,10041,null,"2012-02-29T15:14:22",null,null,4,{"$f":"COUNTIF(top10Usrs[Top 10 Posters],tblPosts[[#This Row],[poster_id]])","v":0}]
[19734,1,4080,6998,null,"2012-02-29T15:53:56",null,null,4,{"$f":"COUNTIF(top10Usrs[Top 10 Posters],tblPosts[[#This Row],[poster_id]])","v":1}]
[19737,1,4046,9880,null,"2012-02-29T16:00:23",null,null,18,{"$f":"COUNTIF(top10Usrs[Top 10 Posters],tblPosts[[#This Row],[poster_id]])","v":0}]
[19753,1,4087,10049,null,"2012-02-29T22:14:58",null,null,1,{"$f":"COUNTIF(top10Usrs[Top 10 Posters],tblPosts[[#This Row],[poster_id]])","v":0}]
[19756,1,4084,6925,null,"2012-02-29T22:58:17",null,null,4,{"$f":"COUNTIF(top10Usrs[Top 10 Posters],tblPosts[[#This Row],[poster_id]])","v":1}]
[19768,1,4095,10051,null,"2012-03-01T03:33:17",null,null,1,{"$f":"COUNTIF(top10Usrs[Top 10 Posters],tblPosts[[#This Row],[poster_id]])","v":0}]
[19775,1,4087,9571,null,"2012-03-01T06:20:50",null,null,3,{"$f":"COUNTIF(top10Usrs[Top 10 Posters],tblPosts[[#This Row],[poster_id]])","v":0}]
[19787,1,4101,8727,null,"2012-03-01T11:57:10",null,null,1,{"$f":"COUNTIF(top10Usrs[Top 10 Posters],tblPosts[[#This Row],[poster_id]])","v":0}]
[19791,1,4085,10046,null,"2012-03-01T12:48:33",null,null,5,{"$f":"COUNTIF(top10Usrs[Top 10 Posters],tblPosts[[#This Row],[poster_id]])","v":0}]
[19792,1,4101,8727,null,"2012-03-01T12:59:51",null,null,3,{"$f":"COUNTIF(top10Usrs[Top 10 Posters],tblPosts[[#This Row],[poster_id]])","v":0}]
[19793,1,4101,5408,null,"2012-03-01T13:19:58",null,null,4,{"$f":"COUNTIF(top10Usrs[Top 10 Posters],tblPosts[[#This Row],[poster_id]])","v":1}]
[19794,1,4084,6998,null,"2012-03-01T13:25:08",null,null,5,{"$f":"COUNTIF(top10Usrs[Top 10 Posters],tblPosts[[#This Row],[poster_id]])","v":1}]
[19795,1,4081,6998,null,"2012-03-01T13:28:54",null,null,8,{"$f":"COUNTIF(top10Usrs[Top 10 Posters],tblPosts[[#This Row],[poster_id]])","v":1}]
[19796,1,4099,6998,null,"2012-03-01T13:34:23",null,null,2,{"$f":"COUNTIF(top10Usrs[Top 10 Posters],tblPosts[[#This Row],[poster_id]])","v":1}]
[19797,1,4095,6998,null,"2012-03-01T13:39:09",null,null,3,{"$f":"COUNTIF(top10Usrs[Top 10 Posters],tblPosts[[#This Row],[poster_id]])","v":1}]
[19798,1,4091,6998,null,"2012-03-01T13:50:51",null,null,3,{"$f":"COUNTIF(top10Usrs[Top 10 Posters],tblPosts[[#This Row],[poster_id]])","v":1}]
[19799,1,4102,10055,null,"2012-03-01T14:38:23",null,null,1,{"$f":"COUNTIF(top10Usrs[Top 10 Posters],tblPosts[[#This Row],[poster_id]])","v":0}]
[19800,1,4083,24,null,"2012-03-01T14:56:23",null,null,2,{"$f":"COUNTIF(top10Usrs[Top 10 Posters],tblPosts[[#This Row],[poster_id]])","v":1}]
[19801,1,4067,24,null,"2012-03-01T14:59:39",null,null,10,{"$f":"COUNTIF(top10Usrs[Top 10 Posters],tblPosts[[#This Row],[poster_id]])","v":1}]
[19802,1,4102,6998,null,"2012-03-01T15:06:21",null,null,2,{"$f":"COUNTIF(top10Usrs[Top 10 Posters],tblPosts[[#This Row],[poster_id]])","v":1}]
[19803,1,4067,6998,null,"2012-03-01T15:24:29",null,null,11,{"$f":"COUNTIF(top10Usrs[Top 10 Posters],tblPosts[[#This Row],[poster_id]])","v":1}]
[19804,1,4077,9796,null,"2012-03-01T15:24:29",null,null,6,{"$f":"COUNTIF(top10Usrs[Top 10 Posters],tblPosts[[#This Row],[poster_id]])","v":0}]
[19805,1,4077,9796,null,"2012-03-01T15:43:59",null,null,7,{"$f":"COUNTIF(top10Usrs[Top 10 Posters],tblPosts[[#This Row],[poster_id]])","v":0}]
[19806,1,4100,7351,null,"2012-03-01T16:03:19",null,null,3,{"$f":"COUNTIF(top10Usrs[Top 10 Posters],tblPosts[[#This Row],[poster_id]])","v":1}]
[19807,1,4046,9880,null,"2012-03-01T16:08:15",null,null,21,{"$f":"COUNTIF(top10Usrs[Top 10 Posters],tblPosts[[#This Row],[poster_id]])","v":0}]
[19808,1,4026,7351,null,"2012-03-01T16:08:32",null,null,2,{"$f":"COUNTIF(top10Usrs[Top 10 Posters],tblPosts[[#This Row],[poster_id]])","v":1}]
[19809,1,4083,10044,null,"2012-03-01T16:16:21",null,null,3,{"$f":"COUNTIF(top10Usrs[Top 10 Posters],tblPosts[[#This Row],[poster_id]])","v":0}]
[19810,1,4103,9445,null,"2012-03-01T16:38:28",null,null,1,{"$f":"COUNTIF(top10Usrs[Top 10 Posters],tblPosts[[#This Row],[poster_id]])","v":0}]
[19811,1,4082,10042,null,"2012-03-01T16:38:58",null,null,3,{"$f":"COUNTIF(top10Usrs[Top 10 Posters],tblPosts[[#This Row],[poster_id]])","v":0}]
[19812,1,4046,8821,null,"2012-03-01T17:03:08",null,null,22,{"$f":"COUNTIF(top10Usrs[Top 10 Posters],tblPosts[[#This Row],[poster_id]])","v":1}]
[19813,1,4103,6998,null,"2012-03-01T17:05:17",null,null,2,{"$f":"COUNTIF(top10Usrs[Top 10 Posters],tblPosts[[#This Row],[poster_id]])","v":1}]
[19814,1,4082,6998,null,"2012-03-01T17:08:08",null,null,4,{"$f":"COUNTIF(top10Usrs[Top 10 Posters],tblPosts[[#This Row],[poster_id]])","v":1}]
[19815,1,4026,6998,null,"2012-03-01T17:58:27",null,null,3,{"$f":"COUNTIF(top10Usrs[Top 10 Posters],tblPosts[[#This Row],[poster_id]])","v":1}]
[19816,1,4084,6925,null,"2012-03-01T18:10:03",null,null,6,{"$f":"COUNTIF(top10Usrs[Top 10 Posters],tblPosts[[#This Row],[poster_id]])","v":1}]
[19817,1,4087,10049,null,"2012-03-01T18:17:54",null,null,4,{"$f":"COUNTIF(top10Usrs[Top 10 Posters],tblPosts[[#This Row],[poster_id]])","v":0}]
[19818,1,4084,6998,null,"2012-03-01T18:30:14",null,null,7,{"$f":"COUNTIF(top10Usrs[Top 10 Posters],tblPosts[[#This Row],[poster_id]])","v":1}]
[19819,1,4104,10049,null,"2012-03-01T18:31:26",null,null,1,{"$f":"COUNTIF(top10Usrs[Top 10 Posters],tblPosts[[#This Row],[poster_id]])","v":0}]
[19820,1,4084,6925,null,"2012-03-01T18:44:08",null,null,8,{"$f":"COUNTIF(top10Usrs[Top 10 Posters],tblPosts[[#This Row],[poster_id]])","v":1}]
[19821,1,4105,10058,null,"2012-03-01T19:52:47",null,null,1,{"$f":"COUNTIF(top10Usrs[Top 10 Posters],tblPosts[[#This Row],[poster_id]])","v":0}]
[19822,1,4087,2865,null,"2012-03-01T19:57:09",null,null,5,{"$f":"COUNTIF(top10Usrs[Top 10 Posters],tblPosts[[#This Row],[poster_id]])","v":0}]
[19823,1,4104,9571,null,"2012-03-01T20:00:25",null,null,2,{"$f":"COUNTIF(top10Usrs[Top 10 Posters],tblPosts[[#This Row],[poster_id]])","v":0}]
[19824,1,4105,6998,null,"2012-03-01T20:04:11",null,null,2,{"$f":"COUNTIF(top10Usrs[Top 10 Posters],tblPosts[[#This Row],[poster_id]])","v":1}]
[19825,1,4087,9571,null,"2012-03-01T20:05:04",null,null,6,{"$f":"COUNTIF(top10Usrs[Top 10 Posters],tblPosts[[#This Row],[poster_id]])","v":0}]
[19826,1,4106,8695,null,"2012-03-01T20:17:01",null,null,1,{"$f":"COUNTIF(top10Usrs[Top 10 Posters],tblPosts[[#This Row],[poster_id]])","v":0}]
[19827,1,4104,10049,null,"2012-03-01T20:38:37",null,null,3,{"$f":"COUNTIF(top10Usrs[Top 10 Posters],tblPosts[[#This Row],[poster_id]])","v":0}]
[19828,1,4104,10049,null,"2012-03-01T20:42:28",null,null,4,{"$f":"COUNTIF(top10Usrs[Top 10 Posters],tblPosts[[#This Row],[poster_id]])","v":0}]
[19829,1,4099,10054,null,"2012-03-01T20:53:10",null,null,3,{"$f":"COUNTIF(top10Usrs[Top 10 Posters],tblPosts[[#This Row],[poster_id]])","v":0}]
[19830,1,4105,10058,null,"2012-03-01T21:33:12",null,null,3,{"$f":"COUNTIF(top10Usrs[Top 10 Posters],tblPosts[[#This Row],[poster_id]])","v":0}]
[19831,1,4090,7974,null,"2012-03-01T21:38:11",null,null,4,{"$f":"COUNTIF(top10Usrs[Top 10 Posters],tblPosts[[#This Row],[poster_id]])","v":0}]
[19832,1,4107,7974,null,"2012-03-01T21:43:21",null,null,1,{"$f":"COUNTIF(top10Usrs[Top 10 Posters],tblPosts[[#This Row],[poster_id]])","v":0}]
[19833,1,4107,7500,null,"2012-03-01T21:59:01",null,null,2,{"$f":"COUNTIF(top10Usrs[Top 10 Posters],tblPosts[[#This Row],[poster_id]])","v":0}]
[19834,1,4106,2865,null,"2012-03-01T22:03:21",null,null,2,{"$f":"COUNTIF(top10Usrs[Top 10 Posters],tblPosts[[#This Row],[poster_id]])","v":0}]
[19835,1,4107,7974,null,"2012-03-01T22:07:09",null,null,3,{"$f":"COUNTIF(top10Usrs[Top 10 Posters],tblPosts[[#This Row],[poster_id]])","v":0}]
[19836,1,4108,10060,null,"2012-03-01T22:15:26",null,null,1,{"$f":"COUNTIF(top10Usrs[Top 10 Posters],tblPosts[[#This Row],[poster_id]])","v":0}]
[19837,1,4095,10051,null,"2012-03-01T22:19:39",null,null,4,{"$f":"COUNTIF(top10Usrs[Top 10 Posters],tblPosts[[#This Row],[poster_id]])","v":0}]
[19838,1,4108,9702,null,"2012-03-01T22:27:21",null,null,2,{"$f":"COUNTIF(top10Usrs[Top 10 Posters],tblPosts[[#This Row],[poster_id]])","v":0}]
[19839,1,4108,9702,null,"2012-03-01T22:31:27",null,null,3,{"$f":"COUNTIF(top10Usrs[Top 10 Posters],tblPosts[[#This Row],[poster_id]])","v":0}]
[19840,7,4025,10006,null,"2012-03-01T22:47:39",null,null,5,{"$f":"COUNTIF(top10Usrs[Top 10 Posters],tblPosts[[#This Row],[poster_id]])","v":0}]
[19841,1,4108,10060,null,"2012-03-01T22:51:43",null,null,4,{"$f":"COUNTIF(top10Usrs[Top 10 Posters],tblPosts[[#This Row],[poster_id]])","v":0}]
[19842,1,4082,10042,null,"2012-03-01T23:30:05",null,null,5,{"$f":"COUNTIF(top10Usrs[Top 10 Posters],tblPosts[[#This Row],[poster_id]])","v":0}]
[19843,7,4109,8886,null,"2012-03-02T00:23:56",null,null,1,{"$f":"COUNTIF(top10Usrs[Top 10 Posters],tblPosts[[#This Row],[poster_id]])","v":0}]
[19844,1,4083,24,null,"2012-03-02T00:52:33",null,null,4,{"$f":"COUNTIF(top10Usrs[Top 10 Posters],tblPosts[[#This Row],[poster_id]])","v":1}]
[19845,1,4037,10013,null,"2012-03-02T00:56:43",null,null,5,{"$f":"COUNTIF(top10Usrs[Top 10 Posters],tblPosts[[#This Row],[poster_id]])","v":0}]
[19846,1,4100,5408,null,"2012-03-02T02:01:07",null,null,4,{"$f":"COUNTIF(top10Usrs[Top 10 Posters],tblPosts[[#This Row],[poster_id]])","v":1}]
[19847,4,2,10038,null,"2012-03-02T03:26:21",null,null,209,{"$f":"COUNTIF(top10Usrs[Top 10 Posters],tblPosts[[#This Row],[poster_id]])","v":0}]
[19848,1,4095,10051,null,"2012-03-02T04:03:15",null,null,5,{"$f":"COUNTIF(top10Usrs[Top 10 Posters],tblPosts[[#This Row],[poster_id]])","v":0}]
[19849,7,4109,24,null,"2012-03-02T04:16:35",null,null,2,{"$f":"COUNTIF(top10Usrs[Top 10 Posters],tblPosts[[#This Row],[poster_id]])","v":1}]
[19850,1,4091,10050,null,"2012-03-02T04:44:59",null,null,4,{"$f":"COUNTIF(top10Usrs[Top 10 Posters],tblPosts[[#This Row],[poster_id]])","v":0}]
[19851,1,4110,9935,null,"2012-03-02T05:12:23",null,null,1,{"$f":"COUNTIF(top10Usrs[Top 10 Posters],tblPosts[[#This Row],[poster_id]])","v":0}]
[19852,1,4111,10063,null,"2012-03-02T05:59:58",null,null,0,{"$f":"COUNTIF(top10Usrs[Top 10 Posters],tblPosts[[#This Row],[poster_id]])","v":0}]
[19853,1,4083,10044,null,"2012-03-02T09:01:23",null,null,5,{"$f":"COUNTIF(top10Usrs[Top 10 Posters],tblPosts[[#This Row],[poster_id]])","v":0}]
[19854,1,4083,24,null,"2012-03-02T09:13:10",null,null,6,{"$f":"COUNTIF(top10Usrs[Top 10 Posters],tblPosts[[#This Row],[poster_id]])","v":1}]
[19855,1,4112,10062,null,"2012-03-02T09:14:12",null,null,0,{"$f":"COUNTIF(top10Usrs[Top 10 Posters],tblPosts[[#This Row],[poster_id]])","v":0}]
[19856,1,4113,10062,null,"2012-03-02T09:15:13",null,null,0,{"$f":"COUNTIF(top10Usrs[Top 10 Posters],tblPosts[[#This Row],[poster_id]])","v":0}]
[19857,1,4110,24,null,"2012-03-02T09:17:58",null,null,2,{"$f":"COUNTIF(top10Usrs[Top 10 Posters],tblPosts[[#This Row],[poster_id]])","v":1}]
[19858,1,4082,8821,null,"2012-03-02T09:24:27",null,null,6,{"$f":"COUNTIF(top10Usrs[Top 10 Posters],tblPosts[[#This Row],[poster_id]])","v":1}]
[19859,1,4114,8331,null,"2012-03-02T09:45:50",null,null,1,{"$f":"COUNTIF(top10Usrs[Top 10 Posters],tblPosts[[#This Row],[poster_id]])","v":0}]
[19860,1,4083,10044,null,"2012-03-02T10:04:26",null,null,7,{"$f":"COUNTIF(top10Usrs[Top 10 Posters],tblPosts[[#This Row],[poster_id]])","v":0}]
[19861,1,4115,7222,null,"2012-03-02T10:50:57",null,null,1,{"$f":"COUNTIF(top10Usrs[Top 10 Posters],tblPosts[[#This Row],[poster_id]])","v":0}]
[19862,1,4116,9480,null,"2012-03-02T11:28:27",null,null,1,{"$f":"COUNTIF(top10Usrs[Top 10 Posters],tblPosts[[#This Row],[poster_id]])","v":0}]
[19863,1,4117,10067,null,"2012-03-02T12:03:20",null,null,1,{"$f":"COUNTIF(top10Usrs[Top 10 Posters],tblPosts[[#This Row],[poster_id]])","v":0}]
[19864,1,4110,9935,null,"2012-03-02T12:42:24",null,null,3,{"$f":"COUNTIF(top10Usrs[Top 10 Posters],tblPosts[[#This Row],[poster_id]])","v":0}]
[19865,7,4118,8593,null,"2012-03-02T12:52:59",null,null,1,{"$f":"COUNTIF(top10Usrs[Top 10 Posters],tblPosts[[#This Row],[poster_id]])","v":0}]
[19866,1,4114,6998,null,"2012-03-02T13:23:45",null,null,2,{"$f":"COUNTIF(top10Usrs[Top 10 Posters],tblPosts[[#This Row],[poster_id]])","v":1}]
[19867,1,4117,9935,null,"2012-03-02T13:24:53",null,null,2,{"$f":"COUNTIF(top10Usrs[Top 10 Posters],tblPosts[[#This Row],[poster_id]])","v":0}]
[19868,1,4115,6998,null,"2012-03-02T13:25:49",null,null,2,{"$f":"COUNTIF(top10Usrs[Top 10 Posters],tblPosts[[#This Row],[poster_id]])","v":1}]
[19869,1,4116,6998,null,"2012-03-02T13:27:21",null,null,2,{"$f":"COUNTIF(top10Usrs[Top 10 Posters],tblPosts[[#This Row],[poster_id]])","v":1}]
[19870,1,4117,6998,null,"2012-03-02T13:29:55",null,null,3,{"$f":"COUNTIF(top10Usrs[Top 10 Posters],tblPosts[[#This Row],[poster_id]])","v":1}]
[19871,7,4118,7351,null,"2012-03-02T13:41:11",null,null,2,{"$f":"COUNTIF(top10Usrs[Top 10 Posters],tblPosts[[#This Row],[poster_id]])","v":1}]
[19872,7,4118,6998,null,"2012-03-02T13:43:10",null,null,3,{"$f":"COUNTIF(top10Usrs[Top 10 Posters],tblPosts[[#This Row],[poster_id]])","v":1}]
[19873,1,4114,9322,null,"2012-03-02T13:45:39",null,null,3,{"$f":"COUNTIF(top10Usrs[Top 10 Posters],tblPosts[[#This Row],[poster_id]])","v":0}]
[19874,1,4110,5408,null,"2012-03-02T13:48:36",null,null,4,{"$f":"COUNTIF(top10Usrs[Top 10 Posters],tblPosts[[#This Row],[poster_id]])","v":1}]
[19875,1,4119,9322,null,"2012-03-02T13:49:02",null,null,1,{"$f":"COUNTIF(top10Usrs[Top 10 Posters],tblPosts[[#This Row],[poster_id]])","v":0}]
[19876,1,4119,6998,null,"2012-03-02T13:54:20",null,null,2,{"$f":"COUNTIF(top10Usrs[Top 10 Posters],tblPosts[[#This Row],[poster_id]])","v":1}]
[19877,1,4110,9935,null,"2012-03-02T13:59:10",null,null,5,{"$f":"COUNTIF(top10Usrs[Top 10 Posters],tblPosts[[#This Row],[poster_id]])","v":0}]
[19878,7,4118,8593,null,"2012-03-02T14:07:44",null,null,4,{"$f":"COUNTIF(top10Usrs[Top 10 Posters],tblPosts[[#This Row],[poster_id]])","v":0}]
[19879,1,4119,9322,null,"2012-03-02T14:28:05",null,null,3,{"$f":"COUNTIF(top10Usrs[Top 10 Posters],tblPosts[[#This Row],[poster_id]])","v":0}]
[19880,7,4118,7500,null,"2012-03-02T14:30:32",null,null,5,{"$f":"COUNTIF(top10Usrs[Top 10 Posters],tblPosts[[#This Row],[poster_id]])","v":0}]
[19881,1,4120,9911,null,"2012-03-02T14:34:03",null,null,1,{"$f":"COUNTIF(top10Usrs[Top 10 Posters],tblPosts[[#This Row],[poster_id]])","v":0}]
[19882,7,4118,6998,null,"2012-03-02T14:34:49",null,null,6,{"$f":"COUNTIF(top10Usrs[Top 10 Posters],tblPosts[[#This Row],[poster_id]])","v":1}]
[19883,1,4120,6998,null,"2012-03-02T14:44:49",null,null,2,{"$f":"COUNTIF(top10Usrs[Top 10 Posters],tblPosts[[#This Row],[poster_id]])","v":1}]
[19884,3,3651,9311,null,"2012-03-02T14:53:24",null,null,38,{"$f":"COUNTIF(top10Usrs[Top 10 Posters],tblPosts[[#This Row],[poster_id]])","v":1}]
[19885,1,4120,9911,null,"2012-03-02T14:53:39",null,null,3,{"$f":"COUNTIF(top10Usrs[Top 10 Posters],tblPosts[[#This Row],[poster_id]])","v":0}]
[19886,1,4078,9311,null,"2012-03-02T14:56:13",null,null,6,{"$f":"COUNTIF(top10Usrs[Top 10 Posters],tblPosts[[#This Row],[poster_id]])","v":1}]
[19887,1,4120,6998,null,"2012-03-02T14:58:22",null,null,4,{"$f":"COUNTIF(top10Usrs[Top 10 Posters],tblPosts[[#This Row],[poster_id]])","v":1}]
[19888,1,4120,9911,null,"2012-03-02T15:04:18",null,null,5,{"$f":"COUNTIF(top10Usrs[Top 10 Posters],tblPosts[[#This Row],[poster_id]])","v":0}]
[19889,1,4106,8695,null,"2012-03-02T15:14:27",null,null,3,{"$f":"COUNTIF(top10Usrs[Top 10 Posters],tblPosts[[#This Row],[poster_id]])","v":0}]
[19890,7,4118,8593,null,"2012-03-02T15:18:54",null,null,7,{"$f":"COUNTIF(top10Usrs[Top 10 Posters],tblPosts[[#This Row],[poster_id]])","v":0}]
[19891,1,4088,9311,null,"2012-03-02T15:21:04",null,null,4,{"$f":"COUNTIF(top10Usrs[Top 10 Posters],tblPosts[[#This Row],[poster_id]])","v":1}]
[19892,1,4037,9513,null,"2012-03-02T15:38:32",null,null,6,{"$f":"COUNTIF(top10Usrs[Top 10 Posters],tblPosts[[#This Row],[poster_id]])","v":0}]
[19893,1,4037,8695,null,"2012-03-02T15:47:22",null,null,7,{"$f":"COUNTIF(top10Usrs[Top 10 Posters],tblPosts[[#This Row],[poster_id]])","v":0}]
[19894,1,4121,8559,null,"2012-03-02T15:48:08",null,null,1,{"$f":"COUNTIF(top10Usrs[Top 10 Posters],tblPosts[[#This Row],[poster_id]])","v":0}]
[19895,1,4108,9311,null,"2012-03-02T15:50:16",null,null,5,{"$f":"COUNTIF(top10Usrs[Top 10 Posters],tblPosts[[#This Row],[poster_id]])","v":1}]
[19896,1,4120,6998,null,"2012-03-02T15:56:18",null,null,6,{"$f":"COUNTIF(top10Usrs[Top 10 Posters],tblPosts[[#This Row],[poster_id]])","v":1}]
[19897,1,4082,9311,null,"2012-03-02T16:05:09",null,null,7,{"$f":"COUNTIF(top10Usrs[Top 10 Posters],tblPosts[[#This Row],[poster_id]])","v":1}]
[19898,1,4121,6998,null,"2012-03-02T16:11:42",null,null,2,{"$f":"COUNTIF(top10Usrs[Top 10 Posters],tblPosts[[#This Row],[poster_id]])","v":1}]
[19899,1,4120,9935,null,"2012-03-02T16:41:35",null,null,7,{"$f":"COUNTIF(top10Usrs[Top 10 Posters],tblPosts[[#This Row],[poster_id]])","v":0}]
[19900,1,4110,9311,null,"2012-03-02T16:48:01",null,null,6,{"$f":"COUNTIF(top10Usrs[Top 10 Posters],tblPosts[[#This Row],[poster_id]])","v":1}]
[19901,1,4110,9571,null,"2012-03-02T16:52:15",null,null,7,{"$f":"COUNTIF(top10Usrs[Top 10 Posters],tblPosts[[#This Row],[poster_id]])","v":0}]
[19902,1,4122,9445,null,"2012-03-02T16:53:39",null,null,1,{"$f":"COUNTIF(top10Usrs[Top 10 Posters],tblPosts[[#This Row],[poster_id]])","v":0}]
[19903,1,4110,9935,null,"2012-03-02T16:55:02",null,null,7,{"$f":"COUNTIF(top10Usrs[Top 10 Posters],tblPosts[[#This Row],[poster_id]])","v":0}]
[19904,1,4106,9311,null,"2012-03-02T16:56:11",null,null,4,{"$f":"COUNTIF(top10Usrs[Top 10 Posters],tblPosts[[#This Row],[poster_id]])","v":1}]
[19905,1,4110,9311,null,"2012-03-02T17:00:13",null,null,8,{"$f":"COUNTIF(top10Usrs[Top 10 Posters],tblPosts[[#This Row],[poster_id]])","v":1}]
[19906,1,4122,9311,null,"2012-03-02T17:15:13",null,null,2,{"$f":"COUNTIF(top10Usrs[Top 10 Posters],tblPosts[[#This Row],[poster_id]])","v":1}]
[19907,1,4123,10069,null,"2012-03-02T17:31:51",null,null,1,{"$f":"COUNTIF(top10Usrs[Top 10 Posters],tblPosts[[#This Row],[poster_id]])","v":0}]
[19908,3,3651,8315,null,"2012-03-02T17:46:54",null,null,39,{"$f":"COUNTIF(top10Usrs[Top 10 Posters],tblPosts[[#This Row],[poster_id]])","v":0}]
[19909,1,4122,9445,null,"2012-03-02T17:47:06",null,null,3,{"$f":"COUNTIF(top10Usrs[Top 10 Posters],tblPosts[[#This Row],[poster_id]])","v":0}]
[19910,1,4123,9311,null,"2012-03-02T17:47:21",null,null,2,{"$f":"COUNTIF(top10Usrs[Top 10 Posters],tblPosts[[#This Row],[poster_id]])","v":1}]
[19911,1,4122,9311,null,"2012-03-02T17:48:25",null,null,4,{"$f":"COUNTIF(top10Usrs[Top 10 Posters],tblPosts[[#This Row],[poster_id]])","v":1}]
[19912,1,4121,8559,null,"2012-03-02T17:52:04",null,null,3,{"$f":"COUNTIF(top10Usrs[Top 10 Posters],tblPosts[[#This Row],[poster_id]])","v":0}]
[19913,3,3651,9311,null,"2012-03-02T17:58:51",null,null,40,{"$f":"COUNTIF(top10Usrs[Top 10 Posters],tblPosts[[#This Row],[poster_id]])","v":1}]
[19914,1,4120,9311,null,"2012-03-02T18:01:45",null,null,8,{"$f":"COUNTIF(top10Usrs[Top 10 Posters],tblPosts[[#This Row],[poster_id]])","v":1}]
[19915,1,4121,9935,null,"2012-03-02T18:02:26",null,null,4,{"$f":"COUNTIF(top10Usrs[Top 10 Posters],tblPosts[[#This Row],[poster_id]])","v":0}]
[19916,1,4037,9311,null,"2012-03-02T18:15:47",null,null,8,{"$f":"COUNTIF(top10Usrs[Top 10 Posters],tblPosts[[#This Row],[poster_id]])","v":1}]
[19917,7,4109,8886,null,"2012-03-02T18:22:28",null,null,3,{"$f":"COUNTIF(top10Usrs[Top 10 Posters],tblPosts[[#This Row],[poster_id]])","v":0}]
[19918,7,4109,6998,null,"2012-03-02T18:27:29",null,null,4,{"$f":"COUNTIF(top10Usrs[Top 10 Posters],tblPosts[[#This Row],[poster_id]])","v":1}]
[19919,7,4109,8886,null,"2012-03-02T18:40:28",null,null,5,{"$f":"COUNTIF(top10Usrs[Top 10 Posters],tblPosts[[#This Row],[poster_id]])","v":0}]
[19920,7,4109,8886,null,"2012-03-02T18:47:23",null,null,6,{"$f":"COUNTIF(top10Usrs[Top 10 Posters],tblPosts[[#This Row],[poster_id]])","v":0}]
[19921,1,4114,9702,null,"2012-03-02T18:47:29",null,null,3,{"$f":"COUNTIF(top10Usrs[Top 10 Posters],tblPosts[[#This Row],[poster_id]])","v":0}]
[19922,1,4124,8624,null,"2012-03-02T18:53:12",null,null,1,{"$f":"COUNTIF(top10Usrs[Top 10 Posters],tblPosts[[#This Row],[poster_id]])","v":0}]
[19923,1,4125,8459,null,"2012-03-02T19:00:42",null,null,1,{"$f":"COUNTIF(top10Usrs[Top 10 Posters],tblPosts[[#This Row],[poster_id]])","v":0}]
[19924,1,4125,9935,null,"2012-03-02T19:08:40",null,null,2,{"$f":"COUNTIF(top10Usrs[Top 10 Posters],tblPosts[[#This Row],[poster_id]])","v":0}]
[19925,7,4109,6998,null,"2012-03-02T19:12:04",null,null,7,{"$f":"COUNTIF(top10Usrs[Top 10 Posters],tblPosts[[#This Row],[poster_id]])","v":1}]
[19926,1,4125,9935,null,"2012-03-02T19:12:06",null,null,2,{"$f":"COUNTIF(top10Usrs[Top 10 Posters],tblPosts[[#This Row],[poster_id]])","v":0}]
[19927,1,4125,9935,null,"2012-03-02T19:12:59",null,null,2,{"$f":"COUNTIF(top10Usrs[Top 10 Posters],tblPosts[[#This Row],[poster_id]])","v":0}]
[19928,1,4125,8459,null,"2012-03-02T19:26:18",null,null,3,{"$f":"COUNTIF(top10Usrs[Top 10 Posters],tblPosts[[#This Row],[poster_id]])","v":0}]
[19929,1,4124,6998,null,"2012-03-02T19:28:17",null,null,2,{"$f":"COUNTIF(top10Usrs[Top 10 Posters],tblPosts[[#This Row],[poster_id]])","v":1}]
[19930,1,4125,6998,null,"2012-03-02T19:30:10",null,null,4,{"$f":"COUNTIF(top10Usrs[Top 10 Posters],tblPosts[[#This Row],[poster_id]])","v":1}]
[19931,1,4125,9311,null,"2012-03-02T19:34:37",null,null,5,{"$f":"COUNTIF(top10Usrs[Top 10 Posters],tblPosts[[#This Row],[poster_id]])","v":1}]
[19932,7,4109,8886,null,"2012-03-02T19:35:23",null,null,8,{"$f":"COUNTIF(top10Usrs[Top 10 Posters],tblPosts[[#This Row],[poster_id]])","v":0}]
[19933,1,4125,9935,null,"2012-03-02T19:37:13",null,null,6,{"$f":"COUNTIF(top10Usrs[Top 10 Posters],tblPosts[[#This Row],[poster_id]])","v":0}]
[19934,1,4125,8459,null,"2012-03-02T19:41:56",null,null,7,{"$f":"COUNTIF(top10Usrs[Top 10 Posters],tblPosts[[#This Row],[poster_id]])","v":0}]
[19935,1,4125,9935,null,"2012-03-02T19:46:53",null,null,8,{"$f":"COUNTIF(top10Usrs[Top 10 Posters],tblPosts[[#This Row],[poster_id]])","v":0}]
[19936,1,4125,9935,null,"2012-03-02T19:59:43",null,null,9,{"$f":"COUNTIF(top10Usrs[Top 10 Posters],tblPosts[[#This Row],[poster_id]])","v":0}]
[19937,1,4108,10060,null,"2012-03-02T20:03:34",null,null,6,{"$f":"COUNTIF(top10Usrs[Top 10 Posters],tblPosts[[#This Row],[poster_id]])","v":0}]
[19938,7,4109,6998,null,"2012-03-02T20:21:58",null,null,9,{"$f":"COUNTIF(top10Usrs[Top 10 Posters],tblPosts[[#This Row],[poster_id]])","v":1}]
[19939,1,4125,6925,null,"2012-03-02T20:32:50",null,null,10,{"$f":"COUNTIF(top10Usrs[Top 10 Posters],tblPosts[[#This Row],[poster_id]])","v":1}]
[19940,1,4125,9935,null,"2012-03-02T20:38:05",null,null,11,{"$f":"COUNTIF(top10Usrs[Top 10 Posters],tblPosts[[#This Row],[poster_id]])","v":0}]
[19941,1,4082,10042,null,"2012-03-02T20:41:21",null,null,8,{"$f":"COUNTIF(top10Usrs[Top 10 Posters],tblPosts[[#This Row],[poster_id]])","v":0}]
[19942,1,4082,10042,null,"2012-03-02T20:42:22",null,null,9,{"$f":"COUNTIF(top10Usrs[Top 10 Posters],tblPosts[[#This Row],[poster_id]])","v":0}]
[19943,1,4108,9311,null,"2012-03-02T20:42:37",null,null,7,{"$f":"COUNTIF(top10Usrs[Top 10 Posters],tblPosts[[#This Row],[poster_id]])","v":1}]
[19944,1,4082,9311,null,"2012-03-02T20:45:17",null,null,10,{"$f":"COUNTIF(top10Usrs[Top 10 Posters],tblPosts[[#This Row],[poster_id]])","v":1}]
[19945,1,4125,8459,null,"2012-03-02T20:56:29",null,null,12,{"$f":"COUNTIF(top10Usrs[Top 10 Posters],tblPosts[[#This Row],[poster_id]])","v":0}]
[19946,1,4082,6998,null,"2012-03-02T20:59:31",null,null,11,{"$f":"COUNTIF(top10Usrs[Top 10 Posters],tblPosts[[#This Row],[poster_id]])","v":1}]
[19947,1,4125,6998,null,"2012-03-02T21:00:30",null,null,13,{"$f":"COUNTIF(top10Usrs[Top 10 Posters],tblPosts[[#This Row],[poster_id]])","v":1}]
[19948,1,4120,9911,null,"2012-03-02T21:01:27",null,null,9,{"$f":"COUNTIF(top10Usrs[Top 10 Posters],tblPosts[[#This Row],[poster_id]])","v":0}]
[19949,1,4125,9935,null,"2012-03-02T21:04:44",null,null,14,{"$f":"COUNTIF(top10Usrs[Top 10 Posters],tblPosts[[#This Row],[poster_id]])","v":0}]
[19950,1,4125,9935,null,"2012-03-02T21:05:44",null,null,15,{"$f":"COUNTIF(top10Usrs[Top 10 Posters],tblPosts[[#This Row],[poster_id]])","v":0}]
[19951,1,4082,9311,null,"2012-03-02T21:08:45",null,null,12,{"$f":"COUNTIF(top10Usrs[Top 10 Posters],tblPosts[[#This Row],[poster_id]])","v":1}]
[19952,1,4125,8459,null,"2012-03-02T21:17:20",null,null,16,{"$f":"COUNTIF(top10Usrs[Top 10 Posters],tblPosts[[#This Row],[poster_id]])","v":0}]
[19953,1,4125,6998,null,"2012-03-02T21:28:19",null,null,17,{"$f":"COUNTIF(top10Usrs[Top 10 Posters],tblPosts[[#This Row],[poster_id]])","v":1}]
[19954,1,4125,9935,null,"2012-03-02T21:32:19",null,null,18,{"$f":"COUNTIF(top10Usrs[Top 10 Posters],tblPosts[[#This Row],[poster_id]])","v":0}]
[19955,1,4082,10042,null,"2012-03-02T23:13:20",null,null,13,{"$f":"COUNTIF(top10Usrs[Top 10 Posters],tblPosts[[#This Row],[poster_id]])","v":0}]
[19956,1,4126,9938,null,"2012-03-03T01:02:30",null,null,1,{"$f":"COUNTIF(top10Usrs[Top 10 Posters],tblPosts[[#This Row],[poster_id]])","v":0}]
[19957,1,4082,9311,null,"2012-03-03T01:21:56",null,null,14,{"$f":"COUNTIF(top10Usrs[Top 10 Posters],tblPosts[[#This Row],[poster_id]])","v":1}]
[19958,1,4126,9311,null,"2012-03-03T02:40:13",null,null,2,{"$f":"COUNTIF(top10Usrs[Top 10 Posters],tblPosts[[#This Row],[poster_id]])","v":1}]
[19959,1,4126,9938,null,"2012-03-03T03:22:39",null,null,3,{"$f":"COUNTIF(top10Usrs[Top 10 Posters],tblPosts[[#This Row],[poster_id]])","v":0}]
[19960,1,4126,8821,null,"2012-03-03T03:34:57",null,null,4,{"$f":"COUNTIF(top10Usrs[Top 10 Posters],tblPosts[[#This Row],[poster_id]])","v":1}]
[19961,1,4127,9036,null,"2012-03-03T03:44:14",null,null,1,{"$f":"COUNTIF(top10Usrs[Top 10 Posters],tblPosts[[#This Row],[poster_id]])","v":0}]
[19962,1,4126,9938,null,"2012-03-03T03:52:17",null,null,5,{"$f":"COUNTIF(top10Usrs[Top 10 Posters],tblPosts[[#This Row],[poster_id]])","v":0}]
[19963,1,4126,8821,null,"2012-03-03T04:18:50",null,null,6,{"$f":"COUNTIF(top10Usrs[Top 10 Posters],tblPosts[[#This Row],[poster_id]])","v":1}]
[19964,1,4126,5408,null,"2012-03-03T04:19:22",null,null,7,{"$f":"COUNTIF(top10Usrs[Top 10 Posters],tblPosts[[#This Row],[poster_id]])","v":1}]
[19965,1,4127,9311,null,"2012-03-03T04:21:17",null,null,2,{"$f":"COUNTIF(top10Usrs[Top 10 Posters],tblPosts[[#This Row],[poster_id]])","v":1}]
[19966,1,4127,8821,null,"2012-03-03T04:27:53",null,null,3,{"$f":"COUNTIF(top10Usrs[Top 10 Posters],tblPosts[[#This Row],[poster_id]])","v":1}]
[19967,1,4126,9938,null,"2012-03-03T04:29:18",null,null,8,{"$f":"COUNTIF(top10Usrs[Top 10 Posters],tblPosts[[#This Row],[poster_id]])","v":0}]
[19968,1,4121,5408,null,"2012-03-03T04:36:01",null,null,5,{"$f":"COUNTIF(top10Usrs[Top 10 Posters],tblPosts[[#This Row],[poster_id]])","v":1}]
[19969,1,4110,5408,null,"2012-03-03T04:41:33",null,null,9,{"$f":"COUNTIF(top10Usrs[Top 10 Posters],tblPosts[[#This Row],[poster_id]])","v":1}]
[19970,1,4116,9480,null,"2012-03-03T04:42:58",null,null,3,{"$f":"COUNTIF(top10Usrs[Top 10 Posters],tblPosts[[#This Row],[poster_id]])","v":0}]
[19971,1,4126,8821,null,"2012-03-03T04:43:39",null,null,9,{"$f":"COUNTIF(top10Usrs[Top 10 Posters],tblPosts[[#This Row],[poster_id]])","v":1}]
[19972,1,4127,9036,null,"2012-03-03T04:47:30",null,null,4,{"$f":"COUNTIF(top10Usrs[Top 10 Posters],tblPosts[[#This Row],[poster_id]])","v":0}]
[19973,1,4116,9571,null,"2012-03-03T04:50:56",null,null,4,{"$f":"COUNTIF(top10Usrs[Top 10 Posters],tblPosts[[#This Row],[poster_id]])","v":0}]
[19974,1,4126,5408,null,"2012-03-03T04:53:31",null,null,10,{"$f":"COUNTIF(top10Usrs[Top 10 Posters],tblPosts[[#This Row],[poster_id]])","v":1}]
[19975,1,4127,9571,null,"2012-03-03T04:56:10",null,null,5,{"$f":"COUNTIF(top10Usrs[Top 10 Posters],tblPosts[[#This Row],[poster_id]])","v":0}]
[19976,1,4121,9935,null,"2012-03-03T05:04:03",null,null,6,{"$f":"COUNTIF(top10Usrs[Top 10 Posters],tblPosts[[#This Row],[poster_id]])","v":0}]
[19977,1,4126,9938,null,"2012-03-03T05:04:20",null,null,11,{"$f":"COUNTIF(top10Usrs[Top 10 Posters],tblPosts[[#This Row],[poster_id]])","v":0}]
[19978,1,4128,5408,null,"2012-03-03T05:06:56",null,null,1,{"$f":"COUNTIF(top10Usrs[Top 10 Posters],tblPosts[[#This Row],[poster_id]])","v":1}]
[19979,1,4116,9036,null,"2012-03-03T05:10:57",null,null,5,{"$f":"COUNTIF(top10Usrs[Top 10 Posters],tblPosts[[#This Row],[poster_id]])","v":0}]
[19980,1,4127,9935,null,"2012-03-03T05:18:43",null,null,6,{"$f":"COUNTIF(top10Usrs[Top 10 Posters],tblPosts[[#This Row],[poster_id]])","v":0}]
[19981,1,4127,9036,null,"2012-03-03T05:32:54",null,null,7,{"$f":"COUNTIF(top10Usrs[Top 10 Posters],tblPosts[[#This Row],[poster_id]])","v":0}]
[19982,1,4126,5408,null,"2012-03-03T05:35:01",null,null,12,{"$f":"COUNTIF(top10Usrs[Top 10 Posters],tblPosts[[#This Row],[poster_id]])","v":1}]
[19983,1,4126,9938,null,"2012-03-03T05:40:06",null,null,13,{"$f":"COUNTIF(top10Usrs[Top 10 Posters],tblPosts[[#This Row],[poster_id]])","v":0}]
[19984,1,4127,9571,null,"2012-03-03T07:05:49",null,null,8,{"$f":"COUNTIF(top10Usrs[Top 10 Posters],tblPosts[[#This Row],[poster_id]])","v":0}]
[19985,1,4127,9036,null,"2012-03-03T07:21:52",null,null,9,{"$f":"COUNTIF(top10Usrs[Top 10 Posters],tblPosts[[#This Row],[poster_id]])","v":0}]
[19986,1,4127,9571,null,"2012-03-03T07:30:38",null,null,10,{"$f":"COUNTIF(top10Usrs[Top 10 Posters],tblPosts[[#This Row],[poster_id]])","v":0}]
[19987,1,4126,8821,null,"2012-03-03T07:36:01",null,null,14,{"$f":"COUNTIF(top10Usrs[Top 10 Posters],tblPosts[[#This Row],[poster_id]])","v":1}]
[19988,1,4127,9036,null,"2012-03-03T07:48:49",null,null,11,{"$f":"COUNTIF(top10Usrs[Top 10 Posters],tblPosts[[#This Row],[poster_id]])","v":0}]
[19989,1,4083,10044,null,"2012-03-03T09:02:37",null,null,8,{"$f":"COUNTIF(top10Usrs[Top 10 Posters],tblPosts[[#This Row],[poster_id]])","v":0}]
[19990,1,4127,9571,null,"2012-03-03T09:15:35",null,null,12,{"$f":"COUNTIF(top10Usrs[Top 10 Posters],tblPosts[[#This Row],[poster_id]])","v":0}]
[19991,1,4116,8821,null,"2012-03-03T09:26:57",null,null,6,{"$f":"COUNTIF(top10Usrs[Top 10 Posters],tblPosts[[#This Row],[poster_id]])","v":1}]
[19992,1,4129,7869,null,"2012-03-03T09:31:33",null,null,1,{"$f":"COUNTIF(top10Usrs[Top 10 Posters],tblPosts[[#This Row],[poster_id]])","v":0}]
[19993,1,4129,9571,null,"2012-03-03T09:55:41",null,null,2,{"$f":"COUNTIF(top10Usrs[Top 10 Posters],tblPosts[[#This Row],[poster_id]])","v":0}]
[19994,1,4127,9571,null,"2012-03-03T10:46:24",null,null,13,{"$f":"COUNTIF(top10Usrs[Top 10 Posters],tblPosts[[#This Row],[poster_id]])","v":0}]
[19995,1,4129,8821,null,"2012-03-03T11:51:33",null,null,3,{"$f":"COUNTIF(top10Usrs[Top 10 Posters],tblPosts[[#This Row],[poster_id]])","v":1}]
[19996,7,4130,10071,null,"2012-03-03T13:43:00",null,null,1,{"$f":"COUNTIF(top10Usrs[Top 10 Posters],tblPosts[[#This Row],[poster_id]])","v":0}]
[19997,1,4126,9938,null,"2012-03-03T14:01:41",null,null,15,{"$f":"COUNTIF(top10Usrs[Top 10 Posters],tblPosts[[#This Row],[poster_id]])","v":0}]
[19998,1,4126,5408,null,"2012-03-03T14:32:58",null,null,16,{"$f":"COUNTIF(top10Usrs[Top 10 Posters],tblPosts[[#This Row],[poster_id]])","v":1}]
[19999,1,4121,5408,null,"2012-03-03T14:37:57",null,null,7,{"$f":"COUNTIF(top10Usrs[Top 10 Posters],tblPosts[[#This Row],[poster_id]])","v":1}]
[20000,1,4126,9938,null,"2012-03-03T14:43:17",null,null,17,{"$f":"COUNTIF(top10Usrs[Top 10 Posters],tblPosts[[#This Row],[poster_id]])","v":0}]
[20001,1,4131,9535,null,"2012-03-03T14:48:57",null,null,1,{"$f":"COUNTIF(top10Usrs[Top 10 Posters],tblPosts[[#This Row],[poster_id]])","v":0}]
[20002,1,4126,5408,null,"2012-03-03T15:20:37",null,null,18,{"$f":"COUNTIF(top10Usrs[Top 10 Posters],tblPosts[[#This Row],[poster_id]])","v":1}]
[20003,1,4126,9938,null,"2012-03-03T15:54:56",null,null,19,{"$f":"COUNTIF(top10Usrs[Top 10 Posters],tblPosts[[#This Row],[poster_id]])","v":0}]
[20004,1,4126,5408,null,"2012-03-03T16:04:23",null,null,20,{"$f":"COUNTIF(top10Usrs[Top 10 Posters],tblPosts[[#This Row],[poster_id]])","v":1}]
[20005,1,4127,9036,null,"2012-03-03T16:18:04",null,null,14,{"$f":"COUNTIF(top10Usrs[Top 10 Posters],tblPosts[[#This Row],[poster_id]])","v":0}]
[20006,1,4126,9938,null,"2012-03-03T16:45:16",null,null,21,{"$f":"COUNTIF(top10Usrs[Top 10 Posters],tblPosts[[#This Row],[poster_id]])","v":0}]
[20007,1,4128,9311,null,"2012-03-03T16:49:04",null,null,2,{"$f":"COUNTIF(top10Usrs[Top 10 Posters],tblPosts[[#This Row],[poster_id]])","v":1}]
[20008,1,4103,9445,null,"2012-03-03T17:03:19",null,null,3,{"$f":"COUNTIF(top10Usrs[Top 10 Posters],tblPosts[[#This Row],[poster_id]])","v":0}]
[20009,1,4132,9445,null,"2012-03-03T17:18:37",null,null,1,{"$f":"COUNTIF(top10Usrs[Top 10 Posters],tblPosts[[#This Row],[poster_id]])","v":0}]
[20010,1,4083,9311,null,"2012-03-03T17:21:00",null,null,9,{"$f":"COUNTIF(top10Usrs[Top 10 Posters],tblPosts[[#This Row],[poster_id]])","v":1}]
[20011,1,4127,9036,null,"2012-03-03T17:31:57",null,null,15,{"$f":"COUNTIF(top10Usrs[Top 10 Posters],tblPosts[[#This Row],[poster_id]])","v":0}]
[20012,1,4126,9311,null,"2012-03-03T17:33:24",null,null,22,{"$f":"COUNTIF(top10Usrs[Top 10 Posters],tblPosts[[#This Row],[poster_id]])","v":1}]
[20013,1,4128,9935,null,"2012-03-03T17:38:13",null,null,3,{"$f":"COUNTIF(top10Usrs[Top 10 Posters],tblPosts[[#This Row],[poster_id]])","v":0}]
[20014,1,4127,9311,null,"2012-03-03T17:38:35",null,null,16,{"$f":"COUNTIF(top10Usrs[Top 10 Posters],tblPosts[[#This Row],[poster_id]])","v":1}]
[20015,1,4128,9311,null,"2012-03-03T17:52:57",null,null,4,{"$f":"COUNTIF(top10Usrs[Top 10 Posters],tblPosts[[#This Row],[poster_id]])","v":1}]
[20016,1,4132,9311,null,"2012-03-03T17:59:44",null,null,2,{"$f":"COUNTIF(top10Usrs[Top 10 Posters],tblPosts[[#This Row],[poster_id]])","v":1}]
[20017,1,4127,9571,null,"2012-03-03T18:07:15",null,null,17,{"$f":"COUNTIF(top10Usrs[Top 10 Posters],tblPosts[[#This Row],[poster_id]])","v":0}]
[20018,1,4129,8821,null,"2012-03-03T18:10:11",null,null,4,{"$f":"COUNTIF(top10Usrs[Top 10 Posters],tblPosts[[#This Row],[poster_id]])","v":1}]
[20019,1,4132,9445,null,"2012-03-03T18:18:42",null,null,3,{"$f":"COUNTIF(top10Usrs[Top 10 Posters],tblPosts[[#This Row],[poster_id]])","v":0}]
[20020,1,4129,9935,null,"2012-03-03T18:21:59",null,null,5,{"$f":"COUNTIF(top10Usrs[Top 10 Posters],tblPosts[[#This Row],[poster_id]])","v":0}]
[20021,1,4103,9311,null,"2012-03-03T18:23:34",null,null,4,{"$f":"COUNTIF(top10Usrs[Top 10 Posters],tblPosts[[#This Row],[poster_id]])","v":1}]
[20022,1,4129,9311,null,"2012-03-03T18:26:41",null,null,6,{"$f":"COUNTIF(top10Usrs[Top 10 Posters],tblPosts[[#This Row],[poster_id]])","v":1}]
[20023,7,4130,9935,null,"2012-03-03T18:26:53",null,null,2,{"$f":"COUNTIF(top10Usrs[Top 10 Posters],tblPosts[[#This Row],[poster_id]])","v":0}]
[20024,1,4132,9311,null,"2012-03-03T18:31:57",null,null,4,{"$f":"COUNTIF(top10Usrs[Top 10 Posters],tblPosts[[#This Row],[poster_id]])","v":1}]
[20025,1,4083,10044,null,"2012-03-03T18:34:58",null,null,10,{"$f":"COUNTIF(top10Usrs[Top 10 Posters],tblPosts[[#This Row],[poster_id]])","v":0}]
[20026,1,4126,9938,null,"2012-03-03T18:37:56",null,null,23,{"$f":"COUNTIF(top10Usrs[Top 10 Posters],tblPosts[[#This Row],[poster_id]])","v":0}]
[20027,1,4126,5408,null,"2012-03-03T19:02:15",null,null,24,{"$f":"COUNTIF(top10Usrs[Top 10 Posters],tblPosts[[#This Row],[poster_id]])","v":1}]
[20028,1,4126,9938,null,"2012-03-03T19:06:13",null,null,25,{"$f":"COUNTIF(top10Usrs[Top 10 Posters],tblPosts[[#This Row],[poster_id]])","v":0}]
[20029,1,4067,10031,null,"2012-03-03T19:21:14",null,null,12,{"$f":"COUNTIF(top10Usrs[Top 10 Posters],tblPosts[[#This Row],[poster_id]])","v":0}]
[20030,1,4133,9629,null,"2012-03-03T19:51:01",null,null,1,{"$f":"COUNTIF(top10Usrs[Top 10 Posters],tblPosts[[#This Row],[poster_id]])","v":0}]
[20031,1,4134,10075,null,"2012-03-03T19:55:21",null,null,1,{"$f":"COUNTIF(top10Usrs[Top 10 Posters],tblPosts[[#This Row],[poster_id]])","v":0}]
[20032,1,4134,9571,null,"2012-03-03T20:19:19",null,null,2,{"$f":"COUNTIF(top10Usrs[Top 10 Posters],tblPosts[[#This Row],[poster_id]])","v":0}]
[20033,1,4135,10071,null,"2012-03-03T20:25:05",null,null,1,{"$f":"COUNTIF(top10Usrs[Top 10 Posters],tblPosts[[#This Row],[poster_id]])","v":0}]
[20034,1,4134,10075,null,"2012-03-03T20:54:06",null,null,3,{"$f":"COUNTIF(top10Usrs[Top 10 Posters],tblPosts[[#This Row],[poster_id]])","v":0}]
[20035,1,4127,9036,null,"2012-03-03T21:03:37",null,null,18,{"$f":"COUNTIF(top10Usrs[Top 10 Posters],tblPosts[[#This Row],[poster_id]])","v":0}]
[20036,1,4134,9571,null,"2012-03-03T21:03:57",null,null,4,{"$f":"COUNTIF(top10Usrs[Top 10 Posters],tblPosts[[#This Row],[poster_id]])","v":0}]
[20037,1,4136,9947,null,"2012-03-03T21:44:54",null,null,1,{"$f":"COUNTIF(top10Usrs[Top 10 Posters],tblPosts[[#This Row],[poster_id]])","v":0}]
[20038,1,4134,10075,null,"2012-03-03T21:45:53",null,null,5,{"$f":"COUNTIF(top10Usrs[Top 10 Posters],tblPosts[[#This Row],[poster_id]])","v":0}]
[20039,1,4133,9629,null,"2012-03-03T21:51:56",null,null,2,{"$f":"COUNTIF(top10Usrs[Top 10 Posters],tblPosts[[#This Row],[poster_id]])","v":0}]
[20040,1,4082,10042,null,"2012-03-03T21:55:25",null,null,15,{"$f":"COUNTIF(top10Usrs[Top 10 Posters],tblPosts[[#This Row],[poster_id]])","v":0}]
[20041,1,4136,8821,null,"2012-03-04T01:12:40",null,null,2,{"$f":"COUNTIF(top10Usrs[Top 10 Posters],tblPosts[[#This Row],[poster_id]])","v":1}]
[20042,1,4127,9571,null,"2012-03-04T02:27:02",null,null,19,{"$f":"COUNTIF(top10Usrs[Top 10 Posters],tblPosts[[#This Row],[poster_id]])","v":0}]
[20043,1,4135,10071,null,"2012-03-04T05:29:17",null,null,2,{"$f":"COUNTIF(top10Usrs[Top 10 Posters],tblPosts[[#This Row],[poster_id]])","v":0}]
[20044,1,4137,9427,null,"2012-03-04T07:00:54",null,null,1,{"$f":"COUNTIF(top10Usrs[Top 10 Posters],tblPosts[[#This Row],[poster_id]])","v":0}]
[20045,4,4138,10071,null,"2012-03-04T07:26:48",null,null,1,{"$f":"COUNTIF(top10Usrs[Top 10 Posters],tblPosts[[#This Row],[poster_id]])","v":0}]
[20046,1,4123,10069,null,"2012-03-04T09:18:31",null,null,3,{"$f":"COUNTIF(top10Usrs[Top 10 Posters],tblPosts[[#This Row],[poster_id]])","v":0}]
[20047,1,4134,9571,null,"2012-03-04T10:27:44",null,null,6,{"$f":"COUNTIF(top10Usrs[Top 10 Posters],tblPosts[[#This Row],[poster_id]])","v":0}]
[20048,1,4135,9571,null,"2012-03-04T10:42:12",null,null,3,{"$f":"COUNTIF(top10Usrs[Top 10 Posters],tblPosts[[#This Row],[poster_id]])","v":0}]
[20049,1,4135,24,null,"2012-03-04T10:43:57",null,null,4,{"$f":"COUNTIF(top10Usrs[Top 10 Posters],tblPosts[[#This Row],[poster_id]])","v":1}]
[20050,1,4101,8821,null,"2012-03-04T11:42:18",null,null,5,{"$f":"COUNTIF(top10Usrs[Top 10 Posters],tblPosts[[#This Row],[poster_id]])","v":1}]
[20051,1,4139,9796,null,"2012-03-04T12:47:04",null,null,1,{"$f":"COUNTIF(top10Usrs[Top 10 Posters],tblPosts[[#This Row],[poster_id]])","v":0}]
[20052,1,4140,9796,null,"2012-03-04T12:48:13",null,null,1,{"$f":"COUNTIF(top10Usrs[Top 10 Posters],tblPosts[[#This Row],[poster_id]])","v":0}]
[20053,1,4136,9947,null,"2012-03-04T13:36:49",null,null,3,{"$f":"COUNTIF(top10Usrs[Top 10 Posters],tblPosts[[#This Row],[poster_id]])","v":0}]
[20054,1,4140,5408,null,"2012-03-04T13:49:54",null,null,2,{"$f":"COUNTIF(top10Usrs[Top 10 Posters],tblPosts[[#This Row],[poster_id]])","v":1}]
[20055,1,4135,10071,null,"2012-03-04T13:59:23",null,null,5,{"$f":"COUNTIF(top10Usrs[Top 10 Posters],tblPosts[[#This Row],[poster_id]])","v":0}]
[20056,1,4140,2865,null,"2012-03-04T14:48:57",null,null,3,{"$f":"COUNTIF(top10Usrs[Top 10 Posters],tblPosts[[#This Row],[poster_id]])","v":0}]
[20057,1,4136,8821,null,"2012-03-04T14:59:49",null,null,4,{"$f":"COUNTIF(top10Usrs[Top 10 Posters],tblPosts[[#This Row],[poster_id]])","v":1}]
[20058,1,4127,9036,null,"2012-03-04T16:06:52",null,null,20,{"$f":"COUNTIF(top10Usrs[Top 10 Posters],tblPosts[[#This Row],[poster_id]])","v":0}]
[20059,1,4141,9445,null,"2012-03-04T16:30:02",null,null,1,{"$f":"COUNTIF(top10Usrs[Top 10 Posters],tblPosts[[#This Row],[poster_id]])","v":0}]
[20060,1,4142,9445,null,"2012-03-04T17:03:05",null,null,1,{"$f":"COUNTIF(top10Usrs[Top 10 Posters],tblPosts[[#This Row],[poster_id]])","v":0}]
[20061,1,4132,7520,null,"2012-03-04T17:37:47",null,null,5,{"$f":"COUNTIF(top10Usrs[Top 10 Posters],tblPosts[[#This Row],[poster_id]])","v":0}]
[20062,1,4143,7520,null,"2012-03-04T17:51:17",null,null,1,{"$f":"COUNTIF(top10Usrs[Top 10 Posters],tblPosts[[#This Row],[poster_id]])","v":0}]
[20063,1,4144,7520,null,"2012-03-04T17:53:56",null,null,1,{"$f":"COUNTIF(top10Usrs[Top 10 Posters],tblPosts[[#This Row],[poster_id]])","v":0}]
[20064,1,4145,9445,null,"2012-03-04T18:22:14",null,null,1,{"$f":"COUNTIF(top10Usrs[Top 10 Posters],tblPosts[[#This Row],[poster_id]])","v":0}]
[20065,7,4146,8137,null,"2012-03-04T19:58:32",null,null,1,{"$f":"COUNTIF(top10Usrs[Top 10 Posters],tblPosts[[#This Row],[poster_id]])","v":0}]
[20066,1,4147,10080,null,"2012-03-04T22:17:46",null,null,1,{"$f":"COUNTIF(top10Usrs[Top 10 Posters],tblPosts[[#This Row],[poster_id]])","v":0}]
[20067,1,4148,7729,null,"2012-03-04T22:33:07",null,null,1,{"$f":"COUNTIF(top10Usrs[Top 10 Posters],tblPosts[[#This Row],[poster_id]])","v":0}]
[20068,1,4144,1,null,"2012-03-05T00:31:39",null,null,2,{"$f":"COUNTIF(top10Usrs[Top 10 Posters],tblPosts[[#This Row],[poster_id]])","v":1}]
[20069,7,4146,1,null,"2012-03-05T00:33:56",null,null,2,{"$f":"COUNTIF(top10Usrs[Top 10 Posters],tblPosts[[#This Row],[poster_id]])","v":1}]
[20070,1,4148,9935,null,"2012-03-05T01:47:42",null,null,2,{"$f":"COUNTIF(top10Usrs[Top 10 Posters],tblPosts[[#This Row],[poster_id]])","v":0}]
[20071,1,4145,8821,null,"2012-03-05T02:20:40",null,null,2,{"$f":"COUNTIF(top10Usrs[Top 10 Posters],tblPosts[[#This Row],[poster_id]])","v":1}]
[20072,1,4141,8821,null,"2012-03-05T02:24:40",null,null,2,{"$f":"COUNTIF(top10Usrs[Top 10 Posters],tblPosts[[#This Row],[poster_id]])","v":1}]
[20073,1,4143,5408,null,"2012-03-05T03:11:50",null,null,2,{"$f":"COUNTIF(top10Usrs[Top 10 Posters],tblPosts[[#This Row],[poster_id]])","v":1}]
[20074,1,4149,10062,null,"2012-03-05T03:17:21",null,null,0,{"$f":"COUNTIF(top10Usrs[Top 10 Posters],tblPosts[[#This Row],[poster_id]])","v":0}]
[20075,1,4148,7729,null,"2012-03-05T03:53:15",null,null,3,{"$f":"COUNTIF(top10Usrs[Top 10 Posters],tblPosts[[#This Row],[poster_id]])","v":0}]
[20076,1,4115,7222,null,"2012-03-05T05:38:47",null,null,3,{"$f":"COUNTIF(top10Usrs[Top 10 Posters],tblPosts[[#This Row],[poster_id]])","v":0}]
[20077,1,4115,8821,null,"2012-03-05T05:49:23",null,null,4,{"$f":"COUNTIF(top10Usrs[Top 10 Posters],tblPosts[[#This Row],[poster_id]])","v":1}]
[20078,7,4146,8137,null,"2012-03-05T05:59:35",null,null,3,{"$f":"COUNTIF(top10Usrs[Top 10 Posters],tblPosts[[#This Row],[poster_id]])","v":0}]
[20079,1,4115,7222,null,"2012-03-05T06:34:37",null,null,5,{"$f":"COUNTIF(top10Usrs[Top 10 Posters],tblPosts[[#This Row],[poster_id]])","v":0}]
[20080,1,4115,8821,null,"2012-03-05T06:37:24",null,null,6,{"$f":"COUNTIF(top10Usrs[Top 10 Posters],tblPosts[[#This Row],[poster_id]])","v":1}]
[20081,1,4140,9796,null,"2012-03-05T07:03:11",null,null,4,{"$f":"COUNTIF(top10Usrs[Top 10 Posters],tblPosts[[#This Row],[poster_id]])","v":0}]
[20082,1,4140,8821,null,"2012-03-05T07:04:29",null,null,5,{"$f":"COUNTIF(top10Usrs[Top 10 Posters],tblPosts[[#This Row],[poster_id]])","v":1}]
[20083,1,4150,10080,null,"2012-03-05T08:11:03",null,null,1,{"$f":"COUNTIF(top10Usrs[Top 10 Posters],tblPosts[[#This Row],[poster_id]])","v":0}]
[20084,1,4137,10080,null,"2012-03-05T08:28:06",null,null,2,{"$f":"COUNTIF(top10Usrs[Top 10 Posters],tblPosts[[#This Row],[poster_id]])","v":0}]
[20085,1,4148,9571,null,"2012-03-05T10:17:14",null,null,4,{"$f":"COUNTIF(top10Usrs[Top 10 Posters],tblPosts[[#This Row],[poster_id]])","v":0}]
[20086,1,4114,8331,null,"2012-03-05T11:09:26",null,null,4,{"$f":"COUNTIF(top10Usrs[Top 10 Posters],tblPosts[[#This Row],[poster_id]])","v":0}]
[20087,1,3868,9902,null,"2012-03-05T12:43:03",null,null,7,{"$f":"COUNTIF(top10Usrs[Top 10 Posters],tblPosts[[#This Row],[poster_id]])","v":0}]
[20088,1,4142,9322,null,"2012-03-05T13:10:11",null,null,2,{"$f":"COUNTIF(top10Usrs[Top 10 Posters],tblPosts[[#This Row],[poster_id]])","v":0}]
[20089,1,4143,7520,null,"2012-03-05T13:18:37",null,null,3,{"$f":"COUNTIF(top10Usrs[Top 10 Posters],tblPosts[[#This Row],[poster_id]])","v":0}]
[20090,1,4144,7520,null,"2012-03-05T13:21:22",null,null,3,{"$f":"COUNTIF(top10Usrs[Top 10 Posters],tblPosts[[#This Row],[poster_id]])","v":0}]
[20091,1,4143,5408,null,"2012-03-05T13:34:46",null,null,4,{"$f":"COUNTIF(top10Usrs[Top 10 Posters],tblPosts[[#This Row],[poster_id]])","v":1}]
[20092,1,4151,10080,null,"2012-03-05T13:53:36",null,null,1,{"$f":"COUNTIF(top10Usrs[Top 10 Posters],tblPosts[[#This Row],[poster_id]])","v":0}]
[20093,1,4143,7520,null,"2012-03-05T14:02:59",null,null,5,{"$f":"COUNTIF(top10Usrs[Top 10 Posters],tblPosts[[#This Row],[poster_id]])","v":0}]
[20094,1,4151,7351,null,"2012-03-05T14:10:03",null,null,2,{"$f":"COUNTIF(top10Usrs[Top 10 Posters],tblPosts[[#This Row],[poster_id]])","v":1}]
[20095,1,4131,9535,null,"2012-03-05T14:49:30",null,null,2,{"$f":"COUNTIF(top10Usrs[Top 10 Posters],tblPosts[[#This Row],[poster_id]])","v":0}]
[20096,1,4131,8821,null,"2012-03-05T14:53:49",null,null,3,{"$f":"COUNTIF(top10Usrs[Top 10 Posters],tblPosts[[#This Row],[poster_id]])","v":1}]
[20097,1,3868,8821,null,"2012-03-05T14:55:35",null,null,8,{"$f":"COUNTIF(top10Usrs[Top 10 Posters],tblPosts[[#This Row],[poster_id]])","v":1}]
[20098,1,4131,9535,null,"2012-03-05T14:59:33",null,null,4,{"$f":"COUNTIF(top10Usrs[Top 10 Posters],tblPosts[[#This Row],[poster_id]])","v":0}]
[20099,1,4131,9535,null,"2012-03-05T15:31:17",null,null,5,{"$f":"COUNTIF(top10Usrs[Top 10 Posters],tblPosts[[#This Row],[poster_id]])","v":0}]
[20100,1,4131,9535,null,"2012-03-05T15:33:06",null,null,6,{"$f":"COUNTIF(top10Usrs[Top 10 Posters],tblPosts[[#This Row],[poster_id]])","v":0}]
[20101,1,4131,9535,null,"2012-03-05T15:33:40",null,null,7,{"$f":"COUNTIF(top10Usrs[Top 10 Posters],tblPosts[[#This Row],[poster_id]])","v":0}]
[20102,1,4151,10080,null,"2012-03-05T16:07:34",null,null,3,{"$f":"COUNTIF(top10Usrs[Top 10 Posters],tblPosts[[#This Row],[poster_id]])","v":0}]
[20103,1,4131,8821,null,"2012-03-05T16:19:43",null,null,8,{"$f":"COUNTIF(top10Usrs[Top 10 Posters],tblPosts[[#This Row],[poster_id]])","v":1}]
[20104,1,4152,9036,null,"2012-03-05T16:42:49",null,null,1,{"$f":"COUNTIF(top10Usrs[Top 10 Posters],tblPosts[[#This Row],[poster_id]])","v":0}]
[20105,1,4152,9571,null,"2012-03-05T17:02:04",null,null,2,{"$f":"COUNTIF(top10Usrs[Top 10 Posters],tblPosts[[#This Row],[poster_id]])","v":0}]
[20106,1,4153,9445,null,"2012-03-05T17:22:40",null,null,1,{"$f":"COUNTIF(top10Usrs[Top 10 Posters],tblPosts[[#This Row],[poster_id]])","v":0}]
[20107,1,4142,9445,null,"2012-03-05T17:26:52",null,null,3,{"$f":"COUNTIF(top10Usrs[Top 10 Posters],tblPosts[[#This Row],[poster_id]])","v":0}]
[20108,1,4005,7914,null,"2012-03-05T17:53:52",null,null,10,{"$f":"COUNTIF(top10Usrs[Top 10 Posters],tblPosts[[#This Row],[poster_id]])","v":0}]
[20109,1,4154,9445,null,"2012-03-05T18:30:40",null,null,1,{"$f":"COUNTIF(top10Usrs[Top 10 Posters],tblPosts[[#This Row],[poster_id]])","v":0}]
[20110,1,4154,6925,null,"2012-03-05T19:29:42",null,null,2,{"$f":"COUNTIF(top10Usrs[Top 10 Posters],tblPosts[[#This Row],[poster_id]])","v":1}]
[20111,1,4153,10080,null,"2012-03-05T20:04:08",null,null,2,{"$f":"COUNTIF(top10Usrs[Top 10 Posters],tblPosts[[#This Row],[poster_id]])","v":0}]
[20112,1,4155,10085,null,"2012-03-05T20:17:50",null,null,1,{"$f":"COUNTIF(top10Usrs[Top 10 Posters],tblPosts[[#This Row],[poster_id]])","v":0}]
[20113,1,4155,10080,null,"2012-03-05T20:33:39",null,null,2,{"$f":"COUNTIF(top10Usrs[Top 10 Posters],tblPosts[[#This Row],[poster_id]])","v":0}]
[20114,1,4073,7025,null,"2012-03-05T20:39:09",null,null,18,{"$f":"COUNTIF(top10Usrs[Top 10 Posters],tblPosts[[#This Row],[poster_id]])","v":0}]
[20115,1,4073,7025,null,"2012-03-05T20:39:55",null,null,19,{"$f":"COUNTIF(top10Usrs[Top 10 Posters],tblPosts[[#This Row],[poster_id]])","v":0}]
[20116,1,4156,9967,null,"2012-03-05T22:05:28",null,null,1,{"$f":"COUNTIF(top10Usrs[Top 10 Posters],tblPosts[[#This Row],[poster_id]])","v":0}]
[20117,1,4156,6925,null,"2012-03-05T22:22:06",null,null,2,{"$f":"COUNTIF(top10Usrs[Top 10 Posters],tblPosts[[#This Row],[poster_id]])","v":1}]
[20118,1,4073,8821,null,"2012-03-06T00:21:58",null,null,20,{"$f":"COUNTIF(top10Usrs[Top 10 Posters],tblPosts[[#This Row],[poster_id]])","v":1}]
[20119,1,4157,9831,null,"2012-03-06T00:41:11",null,null,1,{"$f":"COUNTIF(top10Usrs[Top 10 Posters],tblPosts[[#This Row],[poster_id]])","v":0}]
[20120,1,4157,6458,null,"2012-03-06T01:15:37",null,null,2,{"$f":"COUNTIF(top10Usrs[Top 10 Posters],tblPosts[[#This Row],[poster_id]])","v":0}]
[20121,1,4157,9831,null,"2012-03-06T01:19:50",null,null,3,{"$f":"COUNTIF(top10Usrs[Top 10 Posters],tblPosts[[#This Row],[poster_id]])","v":0}]
[20122,1,4156,9571,null,"2012-03-06T02:34:48",null,null,3,{"$f":"COUNTIF(top10Usrs[Top 10 Posters],tblPosts[[#This Row],[poster_id]])","v":0}]
[20123,1,4158,10088,null,"2012-03-06T03:33:04",null,null,0,{"$f":"COUNTIF(top10Usrs[Top 10 Posters],tblPosts[[#This Row],[poster_id]])","v":0}]
[20124,1,4126,9938,null,"2012-03-06T04:04:35",null,null,26,{"$f":"COUNTIF(top10Usrs[Top 10 Posters],tblPosts[[#This Row],[poster_id]])","v":0}]
[20125,1,4159,9066,null,"2012-03-06T04:34:50",null,null,1,{"$f":"COUNTIF(top10Usrs[Top 10 Posters],tblPosts[[#This Row],[poster_id]])","v":0}]
[20126,1,4159,9935,null,"2012-03-06T05:13:23",null,null,2,{"$f":"COUNTIF(top10Usrs[Top 10 Posters],tblPosts[[#This Row],[poster_id]])","v":0}]
[20127,1,4159,9066,null,"2012-03-06T05:34:50",null,null,3,{"$f":"COUNTIF(top10Usrs[Top 10 Posters],tblPosts[[#This Row],[poster_id]])","v":0}]
[20128,1,4160,9796,null,"2012-03-06T05:49:17",null,null,1,{"$f":"COUNTIF(top10Usrs[Top 10 Posters],tblPosts[[#This Row],[poster_id]])","v":0}]
[20129,1,4159,9935,null,"2012-03-06T06:04:02",null,null,4,{"$f":"COUNTIF(top10Usrs[Top 10 Posters],tblPosts[[#This Row],[poster_id]])","v":0}]
[20130,1,4132,9311,null,"2012-03-06T06:55:28",null,null,6,{"$f":"COUNTIF(top10Usrs[Top 10 Posters],tblPosts[[#This Row],[poster_id]])","v":1}]
[20131,1,4161,7642,null,"2012-03-06T06:56:06",null,null,1,{"$f":"COUNTIF(top10Usrs[Top 10 Posters],tblPosts[[#This Row],[poster_id]])","v":0}]
[20132,1,4143,9311,null,"2012-03-06T07:04:03",null,null,6,{"$f":"COUNTIF(top10Usrs[Top 10 Posters],tblPosts[[#This Row],[poster_id]])","v":1}]
[20133,1,4160,24,null,"2012-03-06T07:13:37",null,null,2,{"$f":"COUNTIF(top10Usrs[Top 10 Posters],tblPosts[[#This Row],[poster_id]])","v":1}]
[20134,1,3868,9311,null,"2012-03-06T07:21:18",null,null,9,{"$f":"COUNTIF(top10Usrs[Top 10 Posters],tblPosts[[#This Row],[poster_id]])","v":1}]
[20135,1,4160,9796,null,"2012-03-06T09:32:24",null,null,3,{"$f":"COUNTIF(top10Usrs[Top 10 Posters],tblPosts[[#This Row],[poster_id]])","v":0}]
[20136,1,4161,9571,null,"2012-03-06T10:04:05",null,null,2,{"$f":"COUNTIF(top10Usrs[Top 10 Posters],tblPosts[[#This Row],[poster_id]])","v":0}]
[20137,1,4161,7642,null,"2012-03-06T10:07:27",null,null,3,{"$f":"COUNTIF(top10Usrs[Top 10 Posters],tblPosts[[#This Row],[poster_id]])","v":0}]
[20138,1,4126,9571,null,"2012-03-06T10:08:22",null,null,27,{"$f":"COUNTIF(top10Usrs[Top 10 Posters],tblPosts[[#This Row],[poster_id]])","v":0}]
[20139,1,4162,10095,null,"2012-03-06T10:31:08",null,null,1,{"$f":"COUNTIF(top10Usrs[Top 10 Posters],tblPosts[[#This Row],[poster_id]])","v":0}]
[20140,1,4162,9571,null,"2012-03-06T11:13:50",null,null,2,{"$f":"COUNTIF(top10Usrs[Top 10 Posters],tblPosts[[#This Row],[poster_id]])","v":0}]
[20141,1,4163,10097,null,"2012-03-06T11:23:51",null,null,1,{"$f":"COUNTIF(top10Usrs[Top 10 Posters],tblPosts[[#This Row],[poster_id]])","v":0}]
[20142,1,4163,9571,null,"2012-03-06T12:10:10",null,null,2,{"$f":"COUNTIF(top10Usrs[Top 10 Posters],tblPosts[[#This Row],[poster_id]])","v":0}]
[20143,1,4164,8803,null,"2012-03-06T12:33:22",null,null,1,{"$f":"COUNTIF(top10Usrs[Top 10 Posters],tblPosts[[#This Row],[poster_id]])","v":0}]
[20144,1,4126,8627,null,"2012-03-06T12:41:41",null,null,28,{"$f":"COUNTIF(top10Usrs[Top 10 Posters],tblPosts[[#This Row],[poster_id]])","v":0}]
[20145,1,4126,5408,null,"2012-03-06T12:57:09",null,null,29,{"$f":"COUNTIF(top10Usrs[Top 10 Posters],tblPosts[[#This Row],[poster_id]])","v":1}]
[20146,1,4126,24,null,"2012-03-06T12:57:34",null,null,30,{"$f":"COUNTIF(top10Usrs[Top 10 Posters],tblPosts[[#This Row],[poster_id]])","v":1}]
[20147,1,4126,24,null,"2012-03-06T13:00:52",null,null,31,{"$f":"COUNTIF(top10Usrs[Top 10 Posters],tblPosts[[#This Row],[poster_id]])","v":1}]
[20148,1,4164,6542,null,"2012-03-06T13:50:54",null,null,2,{"$f":"COUNTIF(top10Usrs[Top 10 Posters],tblPosts[[#This Row],[poster_id]])","v":0}]
[20149,1,4156,9967,null,"2012-03-06T13:55:49",null,null,4,{"$f":"COUNTIF(top10Usrs[Top 10 Posters],tblPosts[[#This Row],[poster_id]])","v":0}]
[20150,1,4156,24,null,"2012-03-06T13:57:59",null,null,5,{"$f":"COUNTIF(top10Usrs[Top 10 Posters],tblPosts[[#This Row],[poster_id]])","v":1}]
[20151,1,4165,10098,null,"2012-03-06T14:08:49",null,null,1,{"$f":"COUNTIF(top10Usrs[Top 10 Posters],tblPosts[[#This Row],[poster_id]])","v":0}]
[20152,1,4126,9571,null,"2012-03-06T14:19:38",null,null,32,{"$f":"COUNTIF(top10Usrs[Top 10 Posters],tblPosts[[#This Row],[poster_id]])","v":0}]
[20153,1,3466,9478,null,"2012-03-06T14:21:50",null,null,8,{"$f":"COUNTIF(top10Usrs[Top 10 Posters],tblPosts[[#This Row],[poster_id]])","v":0}]
[20154,1,4165,24,null,"2012-03-06T14:24:36",null,null,2,{"$f":"COUNTIF(top10Usrs[Top 10 Posters],tblPosts[[#This Row],[poster_id]])","v":1}]
[20155,1,3466,24,null,"2012-03-06T14:28:04",null,null,9,{"$f":"COUNTIF(top10Usrs[Top 10 Posters],tblPosts[[#This Row],[poster_id]])","v":1}]
[20156,1,4126,24,null,"2012-03-06T14:29:38",null,null,33,{"$f":"COUNTIF(top10Usrs[Top 10 Posters],tblPosts[[#This Row],[poster_id]])","v":1}]
[20157,1,4126,9571,null,"2012-03-06T14:36:25",null,null,34,{"$f":"COUNTIF(top10Usrs[Top 10 Posters],tblPosts[[#This Row],[poster_id]])","v":0}]
[20158,1,4161,7642,null,"2012-03-06T14:47:34",null,null,4,{"$f":"COUNTIF(top10Usrs[Top 10 Posters],tblPosts[[#This Row],[poster_id]])","v":0}]
[20159,1,4166,9796,null,"2012-03-06T14:49:34",null,null,1,{"$f":"COUNTIF(top10Usrs[Top 10 Posters],tblPosts[[#This Row],[poster_id]])","v":0}]
[20160,1,4166,24,null,"2012-03-06T14:52:52",null,null,2,{"$f":"COUNTIF(top10Usrs[Top 10 Posters],tblPosts[[#This Row],[poster_id]])","v":1}]
[20161,1,4161,9571,null,"2012-03-06T15:00:54",null,null,5,{"$f":"COUNTIF(top10Usrs[Top 10 Posters],tblPosts[[#This Row],[poster_id]])","v":0}]
[20162,1,4126,24,null,"2012-03-06T15:03:28",null,null,35,{"$f":"COUNTIF(top10Usrs[Top 10 Posters],tblPosts[[#This Row],[poster_id]])","v":1}]
[20163,1,4005,7914,null,"2012-03-06T15:10:53",null,null,11,{"$f":"COUNTIF(top10Usrs[Top 10 Posters],tblPosts[[#This Row],[poster_id]])","v":0}]
[20164,1,4126,9938,null,"2012-03-06T15:30:22",null,null,36,{"$f":"COUNTIF(top10Usrs[Top 10 Posters],tblPosts[[#This Row],[poster_id]])","v":0}]
[20165,1,4167,7818,null,"2012-03-06T15:59:30",null,null,1,{"$f":"COUNTIF(top10Usrs[Top 10 Posters],tblPosts[[#This Row],[poster_id]])","v":0}]
[20166,1,4168,9911,null,"2012-03-06T16:02:55",null,null,1,{"$f":"COUNTIF(top10Usrs[Top 10 Posters],tblPosts[[#This Row],[poster_id]])","v":0}]
[20167,1,4168,9343,null,"2012-03-06T16:06:58",null,null,2,{"$f":"COUNTIF(top10Usrs[Top 10 Posters],tblPosts[[#This Row],[poster_id]])","v":0}]
[20168,1,4169,10100,null,"2012-03-06T16:19:48",null,null,1,{"$f":"COUNTIF(top10Usrs[Top 10 Posters],tblPosts[[#This Row],[poster_id]])","v":0}]
[20169,1,4169,9322,null,"2012-03-06T16:38:39",null,null,2,{"$f":"COUNTIF(top10Usrs[Top 10 Posters],tblPosts[[#This Row],[poster_id]])","v":0}]
[20170,1,4168,9311,null,"2012-03-06T16:42:23",null,null,3,{"$f":"COUNTIF(top10Usrs[Top 10 Posters],tblPosts[[#This Row],[poster_id]])","v":1}]
[20171,1,4168,10101,null,"2012-03-06T16:51:35",null,null,4,{"$f":"COUNTIF(top10Usrs[Top 10 Posters],tblPosts[[#This Row],[poster_id]])","v":0}]
[20172,1,4170,10102,null,"2012-03-06T17:07:41",null,null,1,{"$f":"COUNTIF(top10Usrs[Top 10 Posters],tblPosts[[#This Row],[poster_id]])","v":0}]
[20173,1,4171,9445,null,"2012-03-06T17:18:31",null,null,1,{"$f":"COUNTIF(top10Usrs[Top 10 Posters],tblPosts[[#This Row],[poster_id]])","v":0}]
[20174,1,4143,7520,null,"2012-03-06T17:20:41",null,null,7,{"$f":"COUNTIF(top10Usrs[Top 10 Posters],tblPosts[[#This Row],[poster_id]])","v":0}]
[20175,1,4168,9311,null,"2012-03-06T17:26:05",null,null,5,{"$f":"COUNTIF(top10Usrs[Top 10 Posters],tblPosts[[#This Row],[poster_id]])","v":1}]
[20176,1,4170,9571,null,"2012-03-06T17:26:39",null,null,2,{"$f":"COUNTIF(top10Usrs[Top 10 Posters],tblPosts[[#This Row],[poster_id]])","v":0}]
[20177,1,4161,9571,null,"2012-03-06T17:36:17",null,null,6,{"$f":"COUNTIF(top10Usrs[Top 10 Posters],tblPosts[[#This Row],[poster_id]])","v":0}]
[20178,1,4143,9311,null,"2012-03-06T17:41:07",null,null,8,{"$f":"COUNTIF(top10Usrs[Top 10 Posters],tblPosts[[#This Row],[poster_id]])","v":1}]
[20179,1,4171,9311,null,"2012-03-06T17:45:30",null,null,2,{"$f":"COUNTIF(top10Usrs[Top 10 Posters],tblPosts[[#This Row],[poster_id]])","v":1}]
[20180,7,4025,10006,null,"2012-03-06T17:56:33",null,null,6,{"$f":"COUNTIF(top10Usrs[Top 10 Posters],tblPosts[[#This Row],[poster_id]])","v":0}]
[20181,7,4025,9311,null,"2012-03-06T18:08:20",null,null,7,{"$f":"COUNTIF(top10Usrs[Top 10 Posters],tblPosts[[#This Row],[poster_id]])","v":1}]
[20182,1,3850,10101,null,"2012-03-06T18:17:47",null,null,18,{"$f":"COUNTIF(top10Usrs[Top 10 Posters],tblPosts[[#This Row],[poster_id]])","v":0}]
[20183,1,4165,10098,null,"2012-03-06T18:22:39",null,null,3,{"$f":"COUNTIF(top10Usrs[Top 10 Posters],tblPosts[[#This Row],[poster_id]])","v":0}]
[20184,1,3850,9311,null,"2012-03-06T18:55:15",null,null,19,{"$f":"COUNTIF(top10Usrs[Top 10 Posters],tblPosts[[#This Row],[poster_id]])","v":1}]
[20185,1,3850,9311,null,"2012-03-06T19:00:40",null,null,20,{"$f":"COUNTIF(top10Usrs[Top 10 Posters],tblPosts[[#This Row],[poster_id]])","v":1}]
[20186,1,4172,10106,null,"2012-03-06T19:56:15",null,null,1,{"$f":"COUNTIF(top10Usrs[Top 10 Posters],tblPosts[[#This Row],[poster_id]])","v":0}]
[20187,1,4172,6925,null,"2012-03-06T20:06:31",null,null,2,{"$f":"COUNTIF(top10Usrs[Top 10 Posters],tblPosts[[#This Row],[poster_id]])","v":1}]
[20188,1,4170,10102,null,"2012-03-06T20:23:59",null,null,3,{"$f":"COUNTIF(top10Usrs[Top 10 Posters],tblPosts[[#This Row],[poster_id]])","v":0}]
[20189,1,4173,8478,null,"2012-03-06T20:44:29",null,null,1,{"$f":"COUNTIF(top10Usrs[Top 10 Posters],tblPosts[[#This Row],[poster_id]])","v":0}]
[20190,1,4172,10106,null,"2012-03-06T20:55:11",null,null,3,{"$f":"COUNTIF(top10Usrs[Top 10 Posters],tblPosts[[#This Row],[poster_id]])","v":0}]
[20191,1,4161,7642,null,"2012-03-06T21:07:23",null,null,7,{"$f":"COUNTIF(top10Usrs[Top 10 Posters],tblPosts[[#This Row],[poster_id]])","v":0}]
[20192,1,4173,9311,null,"2012-03-06T21:14:25",null,null,2,{"$f":"COUNTIF(top10Usrs[Top 10 Posters],tblPosts[[#This Row],[poster_id]])","v":1}]
[20193,1,4173,8478,null,"2012-03-06T21:30:25",null,null,3,{"$f":"COUNTIF(top10Usrs[Top 10 Posters],tblPosts[[#This Row],[poster_id]])","v":0}]
[20194,1,4172,9311,null,"2012-03-06T21:42:27",null,null,4,{"$f":"COUNTIF(top10Usrs[Top 10 Posters],tblPosts[[#This Row],[poster_id]])","v":1}]
[20195,1,4173,9311,null,"2012-03-06T21:59:31",null,null,4,{"$f":"COUNTIF(top10Usrs[Top 10 Posters],tblPosts[[#This Row],[poster_id]])","v":1}]
[20196,1,4156,9967,null,"2012-03-06T22:08:18",null,null,6,{"$f":"COUNTIF(top10Usrs[Top 10 Posters],tblPosts[[#This Row],[poster_id]])","v":0}]
[20197,1,4173,8478,null,"2012-03-06T22:30:02",null,null,5,{"$f":"COUNTIF(top10Usrs[Top 10 Posters],tblPosts[[#This Row],[poster_id]])","v":0}]
[20198,1,4174,10108,null,"2012-03-06T23:02:50",null,null,1,{"$f":"COUNTIF(top10Usrs[Top 10 Posters],tblPosts[[#This Row],[poster_id]])","v":0}]
[20199,1,4148,7729,null,"2012-03-06T23:18:55",null,null,5,{"$f":"COUNTIF(top10Usrs[Top 10 Posters],tblPosts[[#This Row],[poster_id]])","v":0}]
[20200,1,4173,9311,null,"2012-03-07T00:02:58",null,null,6,{"$f":"COUNTIF(top10Usrs[Top 10 Posters],tblPosts[[#This Row],[poster_id]])","v":1}]
[20201,1,4173,8478,null,"2012-03-07T00:31:46",null,null,7,{"$f":"COUNTIF(top10Usrs[Top 10 Posters],tblPosts[[#This Row],[poster_id]])","v":0}]
[20202,1,4174,9311,null,"2012-03-07T00:38:24",null,null,2,{"$f":"COUNTIF(top10Usrs[Top 10 Posters],tblPosts[[#This Row],[poster_id]])","v":1}]
[20203,7,4175,10109,null,"2012-03-07T01:56:49",null,null,1,{"$f":"COUNTIF(top10Usrs[Top 10 Posters],tblPosts[[#This Row],[poster_id]])","v":0}]
[20204,1,4173,8478,null,"2012-03-07T02:27:42",null,null,8,{"$f":"COUNTIF(top10Usrs[Top 10 Posters],tblPosts[[#This Row],[poster_id]])","v":0}]
[20205,1,4176,10111,null,"2012-03-07T02:38:51",null,null,0,{"$f":"COUNTIF(top10Usrs[Top 10 Posters],tblPosts[[#This Row],[poster_id]])","v":0}]
[20206,7,4175,6458,null,"2012-03-07T02:44:55",null,null,2,{"$f":"COUNTIF(top10Usrs[Top 10 Posters],tblPosts[[#This Row],[poster_id]])","v":0}]
[20207,7,4175,10109,null,"2012-03-07T04:01:44",null,null,3,{"$f":"COUNTIF(top10Usrs[Top 10 Posters],tblPosts[[#This Row],[poster_id]])","v":0}]
[20208,7,4175,10109,null,"2012-03-07T04:20:37",null,null,4,{"$f":"COUNTIF(top10Usrs[Top 10 Posters],tblPosts[[#This Row],[poster_id]])","v":0}]
[20209,1,4116,9480,null,"2012-03-07T04:29:57",null,null,7,{"$f":"COUNTIF(top10Usrs[Top 10 Posters],tblPosts[[#This Row],[poster_id]])","v":0}]
[20210,1,4173,8821,null,"2012-03-07T04:35:49",null,null,9,{"$f":"COUNTIF(top10Usrs[Top 10 Posters],tblPosts[[#This Row],[poster_id]])","v":1}]
[20211,1,4116,8821,null,"2012-03-07T04:41:27",null,null,8,{"$f":"COUNTIF(top10Usrs[Top 10 Posters],tblPosts[[#This Row],[poster_id]])","v":1}]
[20212,1,4116,9480,null,"2012-03-07T04:51:38",null,null,9,{"$f":"COUNTIF(top10Usrs[Top 10 Posters],tblPosts[[#This Row],[poster_id]])","v":0}]
[20213,7,4175,6458,null,"2012-03-07T04:52:09",null,null,5,{"$f":"COUNTIF(top10Usrs[Top 10 Posters],tblPosts[[#This Row],[poster_id]])","v":0}]
[20214,7,4175,10109,null,"2012-03-07T05:01:22",null,null,6,{"$f":"COUNTIF(top10Usrs[Top 10 Posters],tblPosts[[#This Row],[poster_id]])","v":0}]
[20215,1,4177,10112,null,"2012-03-07T05:03:27",null,null,0,{"$f":"COUNTIF(top10Usrs[Top 10 Posters],tblPosts[[#This Row],[poster_id]])","v":0}]
[20216,1,4178,10112,null,"2012-03-07T05:05:44",null,null,0,{"$f":"COUNTIF(top10Usrs[Top 10 Posters],tblPosts[[#This Row],[poster_id]])","v":0}]
[20217,1,4179,10113,null,"2012-03-07T05:09:52",null,null,0,{"$f":"COUNTIF(top10Usrs[Top 10 Posters],tblPosts[[#This Row],[poster_id]])","v":0}]
[20218,1,4180,10113,null,"2012-03-07T05:10:34",null,null,1,{"$f":"COUNTIF(top10Usrs[Top 10 Posters],tblPosts[[#This Row],[poster_id]])","v":0}]
[20219,1,4181,10113,null,"2012-03-07T05:12:13",null,null,1,{"$f":"COUNTIF(top10Usrs[Top 10 Posters],tblPosts[[#This Row],[poster_id]])","v":0}]
[20220,1,4182,10113,null,"2012-03-07T05:13:44",null,null,1,{"$f":"COUNTIF(top10Usrs[Top 10 Posters],tblPosts[[#This Row],[poster_id]])","v":0}]
[20221,1,4183,10112,null,"2012-03-07T05:14:10",null,null,1,{"$f":"COUNTIF(top10Usrs[Top 10 Posters],tblPosts[[#This Row],[poster_id]])","v":0}]
[20222,1,4184,10113,null,"2012-03-07T05:15:28",null,null,1,{"$f":"COUNTIF(top10Usrs[Top 10 Posters],tblPosts[[#This Row],[poster_id]])","v":0}]
[20223,1,4185,10112,null,"2012-03-07T05:15:42",null,null,1,{"$f":"COUNTIF(top10Usrs[Top 10 Posters],tblPosts[[#This Row],[poster_id]])","v":0}]
[20224,1,4186,10112,null,"2012-03-07T05:17:09",null,null,1,{"$f":"COUNTIF(top10Usrs[Top 10 Posters],tblPosts[[#This Row],[poster_id]])","v":0}]
[20225,1,4187,10112,null,"2012-03-07T05:18:29",null,null,1,{"$f":"COUNTIF(top10Usrs[Top 10 Posters],tblPosts[[#This Row],[poster_id]])","v":0}]
[20226,7,4175,10109,null,"2012-03-07T05:21:43",null,null,7,{"$f":"COUNTIF(top10Usrs[Top 10 Posters],tblPosts[[#This Row],[poster_id]])","v":0}]
[20227,2,4188,10114,null,"2012-03-07T05:28:49",null,null,1,{"$f":"COUNTIF(top10Usrs[Top 10 Posters],tblPosts[[#This Row],[poster_id]])","v":0}]
[20228,7,4175,6458,null,"2012-03-07T07:06:24",null,null,8,{"$f":"COUNTIF(top10Usrs[Top 10 Posters],tblPosts[[#This Row],[poster_id]])","v":0}]
[20229,1,4189,10062,null,"2012-03-07T07:40:40",null,null,0,{"$f":"COUNTIF(top10Usrs[Top 10 Posters],tblPosts[[#This Row],[poster_id]])","v":0}]
[20230,1,4190,10062,null,"2012-03-07T07:41:16",null,null,0,{"$f":"COUNTIF(top10Usrs[Top 10 Posters],tblPosts[[#This Row],[poster_id]])","v":0}]
[20231,1,4161,7642,null,"2012-03-07T07:55:55",null,null,8,{"$f":"COUNTIF(top10Usrs[Top 10 Posters],tblPosts[[#This Row],[poster_id]])","v":0}]
[20232,1,4161,9571,null,"2012-03-07T08:26:55",null,null,9,{"$f":"COUNTIF(top10Usrs[Top 10 Posters],tblPosts[[#This Row],[poster_id]])","v":0}]
[20233,1,4170,9571,null,"2012-03-07T09:25:18",null,null,4,{"$f":"COUNTIF(top10Usrs[Top 10 Posters],tblPosts[[#This Row],[poster_id]])","v":0}]
[20234,1,4191,10116,null,"2012-03-07T09:52:40",null,null,1,{"$f":"COUNTIF(top10Usrs[Top 10 Posters],tblPosts[[#This Row],[poster_id]])","v":0}]
[20235,7,4175,10109,null,"2012-03-07T09:58:17",null,null,9,{"$f":"COUNTIF(top10Usrs[Top 10 Posters],tblPosts[[#This Row],[poster_id]])","v":0}]
[20236,1,4161,7642,null,"2012-03-07T10:40:43",null,null,10,{"$f":"COUNTIF(top10Usrs[Top 10 Posters],tblPosts[[#This Row],[poster_id]])","v":0}]
[20237,1,4161,9571,null,"2012-03-07T10:49:36",null,null,11,{"$f":"COUNTIF(top10Usrs[Top 10 Posters],tblPosts[[#This Row],[poster_id]])","v":0}]
[20238,1,3850,10101,null,"2012-03-07T10:54:59",null,null,21,{"$f":"COUNTIF(top10Usrs[Top 10 Posters],tblPosts[[#This Row],[poster_id]])","v":0}]
[20239,1,4148,9571,null,"2012-03-07T11:01:35",null,null,6,{"$f":"COUNTIF(top10Usrs[Top 10 Posters],tblPosts[[#This Row],[poster_id]])","v":0}]
[20240,1,4192,10117,null,"2012-03-07T11:17:51",null,null,1,{"$f":"COUNTIF(top10Usrs[Top 10 Posters],tblPosts[[#This Row],[poster_id]])","v":0}]
[20241,1,4161,8821,null,"2012-03-07T11:18:11",null,null,12,{"$f":"COUNTIF(top10Usrs[Top 10 Posters],tblPosts[[#This Row],[poster_id]])","v":1}]
[20242,1,4193,10101,null,"2012-03-07T11:31:08",null,null,1,{"$f":"COUNTIF(top10Usrs[Top 10 Posters],tblPosts[[#This Row],[poster_id]])","v":0}]
[20243,1,4194,9322,null,"2012-03-07T11:41:23",null,null,1,{"$f":"COUNTIF(top10Usrs[Top 10 Posters],tblPosts[[#This Row],[poster_id]])","v":0}]
[20244,1,4193,9322,null,"2012-03-07T11:44:47",null,null,2,{"$f":"COUNTIF(top10Usrs[Top 10 Posters],tblPosts[[#This Row],[poster_id]])","v":0}]
[20245,1,4161,7642,null,"2012-03-07T12:07:53",null,null,13,{"$f":"COUNTIF(top10Usrs[Top 10 Posters],tblPosts[[#This Row],[poster_id]])","v":0}]
[20246,1,4194,8821,null,"2012-03-07T12:09:02",null,null,2,{"$f":"COUNTIF(top10Usrs[Top 10 Posters],tblPosts[[#This Row],[poster_id]])","v":1}]
[20247,1,4194,9322,null,"2012-03-07T12:11:29",null,null,3,{"$f":"COUNTIF(top10Usrs[Top 10 Posters],tblPosts[[#This Row],[poster_id]])","v":0}]
[20248,1,4161,8821,null,"2012-03-07T12:13:57",null,null,14,{"$f":"COUNTIF(top10Usrs[Top 10 Posters],tblPosts[[#This Row],[poster_id]])","v":1}]
[20249,1,4161,7642,null,"2012-03-07T12:17:42",null,null,15,{"$f":"COUNTIF(top10Usrs[Top 10 Posters],tblPosts[[#This Row],[poster_id]])","v":0}]
[20250,1,4161,7642,null,"2012-03-07T12:23:56",null,null,16,{"$f":"COUNTIF(top10Usrs[Top 10 Posters],tblPosts[[#This Row],[poster_id]])","v":0}]
[20251,1,4193,8821,null,"2012-03-07T12:29:47",null,null,3,{"$f":"COUNTIF(top10Usrs[Top 10 Posters],tblPosts[[#This Row],[poster_id]])","v":1}]
[20252,1,4161,9571,null,"2012-03-07T12:40:08",null,null,17,{"$f":"COUNTIF(top10Usrs[Top 10 Posters],tblPosts[[#This Row],[poster_id]])","v":0}]
[20253,1,4161,8821,null,"2012-03-07T12:43:15",null,null,18,{"$f":"COUNTIF(top10Usrs[Top 10 Posters],tblPosts[[#This Row],[poster_id]])","v":1}]
[20254,1,4161,7642,null,"2012-03-07T12:52:10",null,null,19,{"$f":"COUNTIF(top10Usrs[Top 10 Posters],tblPosts[[#This Row],[poster_id]])","v":0}]
[20255,1,4161,8821,null,"2012-03-07T13:28:40",null,null,20,{"$f":"COUNTIF(top10Usrs[Top 10 Posters],tblPosts[[#This Row],[poster_id]])","v":1}]
[20256,1,4193,10101,null,"2012-03-07T16:01:06",null,null,4,{"$f":"COUNTIF(top10Usrs[Top 10 Posters],tblPosts[[#This Row],[poster_id]])","v":0}]
[20257,1,4161,9571,null,"2012-03-07T16:02:47",null,null,21,{"$f":"COUNTIF(top10Usrs[Top 10 Posters],tblPosts[[#This Row],[poster_id]])","v":0}]
[20258,1,4195,6542,null,"2012-03-07T16:07:47",null,null,1,{"$f":"COUNTIF(top10Usrs[Top 10 Posters],tblPosts[[#This Row],[poster_id]])","v":0}]
[20259,1,3850,9311,null,"2012-03-07T16:09:49",null,null,22,{"$f":"COUNTIF(top10Usrs[Top 10 Posters],tblPosts[[#This Row],[poster_id]])","v":1}]
[20260,1,4195,9311,null,"2012-03-07T16:57:39",null,null,2,{"$f":"COUNTIF(top10Usrs[Top 10 Posters],tblPosts[[#This Row],[poster_id]])","v":1}]
[20261,1,4195,8821,null,"2012-03-07T16:58:12",null,null,3,{"$f":"COUNTIF(top10Usrs[Top 10 Posters],tblPosts[[#This Row],[poster_id]])","v":1}]
[20262,1,4195,9311,null,"2012-03-07T16:59:45",null,null,4,{"$f":"COUNTIF(top10Usrs[Top 10 Posters],tblPosts[[#This Row],[poster_id]])","v":1}]
[20263,1,4195,8821,null,"2012-03-07T17:01:04",null,null,5,{"$f":"COUNTIF(top10Usrs[Top 10 Posters],tblPosts[[#This Row],[poster_id]])","v":1}]
[20264,1,4195,9571,null,"2012-03-07T17:05:28",null,null,6,{"$f":"COUNTIF(top10Usrs[Top 10 Posters],tblPosts[[#This Row],[poster_id]])","v":0}]
[20265,1,4195,9311,null,"2012-03-07T17:13:33",null,null,7,{"$f":"COUNTIF(top10Usrs[Top 10 Posters],tblPosts[[#This Row],[poster_id]])","v":1}]
[20266,1,4196,10087,null,"2012-03-07T17:21:13",null,null,1,{"$f":"COUNTIF(top10Usrs[Top 10 Posters],tblPosts[[#This Row],[poster_id]])","v":0}]
[20267,1,4126,8315,null,"2012-03-07T17:40:40",null,null,37,{"$f":"COUNTIF(top10Usrs[Top 10 Posters],tblPosts[[#This Row],[poster_id]])","v":0}]
[20268,1,3850,10101,null,"2012-03-07T17:44:05",null,null,23,{"$f":"COUNTIF(top10Usrs[Top 10 Posters],tblPosts[[#This Row],[poster_id]])","v":0}]
[20269,3,3651,8315,null,"2012-03-07T17:59:21",null,null,41,{"$f":"COUNTIF(top10Usrs[Top 10 Posters],tblPosts[[#This Row],[poster_id]])","v":0}]
[20270,1,3850,9311,null,"2012-03-07T18:26:49",null,null,24,{"$f":"COUNTIF(top10Usrs[Top 10 Posters],tblPosts[[#This Row],[poster_id]])","v":1}]
[20271,1,3850,10101,null,"2012-03-07T18:45:51",null,null,25,{"$f":"COUNTIF(top10Usrs[Top 10 Posters],tblPosts[[#This Row],[poster_id]])","v":0}]
[20272,7,4197,10121,null,"2012-03-07T18:51:26",null,null,1,{"$f":"COUNTIF(top10Usrs[Top 10 Posters],tblPosts[[#This Row],[poster_id]])","v":0}]
[20273,1,4198,7203,null,"2012-03-07T19:03:57",null,null,1,{"$f":"COUNTIF(top10Usrs[Top 10 Posters],tblPosts[[#This Row],[poster_id]])","v":0}]
[20274,1,4199,10122,null,"2012-03-07T19:39:25",null,null,1,{"$f":"COUNTIF(top10Usrs[Top 10 Posters],tblPosts[[#This Row],[poster_id]])","v":0}]
[20275,1,3850,9311,null,"2012-03-07T20:24:59",null,null,26,{"$f":"COUNTIF(top10Usrs[Top 10 Posters],tblPosts[[#This Row],[poster_id]])","v":1}]
[20276,1,4126,9938,null,"2012-03-07T20:34:15",null,null,38,{"$f":"COUNTIF(top10Usrs[Top 10 Posters],tblPosts[[#This Row],[poster_id]])","v":0}]
[20277,1,4170,10102,null,"2012-03-07T21:09:07",null,null,5,{"$f":"COUNTIF(top10Usrs[Top 10 Posters],tblPosts[[#This Row],[poster_id]])","v":0}]
[20278,1,4198,2865,null,"2012-03-07T21:33:36",null,null,2,{"$f":"COUNTIF(top10Usrs[Top 10 Posters],tblPosts[[#This Row],[poster_id]])","v":0}]
[20279,7,4197,2865,null,"2012-03-07T21:38:39",null,null,2,{"$f":"COUNTIF(top10Usrs[Top 10 Posters],tblPosts[[#This Row],[poster_id]])","v":0}]
[20280,1,4200,10123,null,"2012-03-07T21:39:26",null,null,1,{"$f":"COUNTIF(top10Usrs[Top 10 Posters],tblPosts[[#This Row],[poster_id]])","v":0}]
[20281,1,4200,2865,null,"2012-03-07T22:03:31",null,null,2,{"$f":"COUNTIF(top10Usrs[Top 10 Posters],tblPosts[[#This Row],[poster_id]])","v":0}]
[20282,1,4201,8803,null,"2012-03-07T22:08:00",null,null,1,{"$f":"COUNTIF(top10Usrs[Top 10 Posters],tblPosts[[#This Row],[poster_id]])","v":0}]
[20283,1,4201,24,null,"2012-03-08T00:45:52",null,null,2,{"$f":"COUNTIF(top10Usrs[Top 10 Posters],tblPosts[[#This Row],[poster_id]])","v":1}]
[20284,1,4202,10110,null,"2012-03-08T01:49:33",null,null,0,{"$f":"COUNTIF(top10Usrs[Top 10 Posters],tblPosts[[#This Row],[poster_id]])","v":0}]
[20285,1,4200,8821,null,"2012-03-08T02:13:55",null,null,3,{"$f":"COUNTIF(top10Usrs[Top 10 Posters],tblPosts[[#This Row],[poster_id]])","v":1}]
[20286,1,4196,8821,null,"2012-03-08T03:04:22",null,null,2,{"$f":"COUNTIF(top10Usrs[Top 10 Posters],tblPosts[[#This Row],[poster_id]])","v":1}]
[20287,1,4195,6542,null,"2012-03-08T03:33:35",null,null,8,{"$f":"COUNTIF(top10Usrs[Top 10 Posters],tblPosts[[#This Row],[poster_id]])","v":0}]
[20288,4,443,10121,null,"2012-03-08T03:51:48",null,null,2,{"$f":"COUNTIF(top10Usrs[Top 10 Posters],tblPosts[[#This Row],[poster_id]])","v":0}]
[20289,3,3651,9742,null,"2012-03-08T04:03:53",null,null,42,{"$f":"COUNTIF(top10Usrs[Top 10 Posters],tblPosts[[#This Row],[poster_id]])","v":0}]
[20290,1,4123,10069,null,"2012-03-08T04:20:45",null,null,4,{"$f":"COUNTIF(top10Usrs[Top 10 Posters],tblPosts[[#This Row],[poster_id]])","v":0}]

{"sheet":"top 10 users","index":2,"n_rows":11,"n_cols":3,"rows_kept":11,"cut":false,"hidden":false,"merged":[]}
[null,"Top 10 Posters","Name"]
[null,24,"Hui"]
[null,6998,"Luke"]
[null,8821,"Narayan"]
[null,9311]
[null,5408]
[null,6925]
[null,1]
[null,6821]
[null,6779]
[null,7351]

{"sheet":"calculations","index":3,"n_rows":144,"n_cols":29,"rows_kept":144,"cut":false,"hidden":false,"merged":[]}
[null,null,"User ID",null,null,null,null,null,null,null,null,null,null,"Counter",1,null,"Dumpdate","2012-03-08"]
[null,"Week",24,6998,8821,9311,5408,6925,1,6821,6779,7351,null,null,{"$f":"COUNTIF(O4:O144,\">0\")","v":137},{"$f":"COUNTIF(P4:P144,\">0\")","v":69},22,13,98,69,137,73,75,60,null,null,"Summaries"]
[null,"Date of Join","2009-07-27T11:35:05","2010-11-17T15:41:31","2011-10-12T02:33:17","2011-12-11T07:28:25","2010-04-18T14:12:03","2010-11-15T19:55:51","2009-07-24T17:24:37","2010-10-16T01:58:00","2010-10-03T06:19:08","2011-01-17T11:12:46",null,"Week","Hui","Luke","Narayank",{"$f":"F2","v":9311},5408,6925,1,6821,6779,{"$f":"L2","v":7351},"Dummy",null,{"$f":"O3","v":"Hui"},"Luke","Narayank"]
[null,1,{"$f":"COUNTIFS(tblPosts[poster_id],C$2,tblPosts[post_time],\">=\"&(C$3+($B4-1)*7),tblPosts[post_time],\"<\"&(C$3+($B4)*7))","v":1},{"$f":"COUNTIFS(tblPosts[poster_id],D$2,tblPosts[post_time],\">=\"&(D$3+($B4-1)*7),tblPosts[post_time],\"<\"&(D$3+($B4)*7))","v":13},{"$f":"COUNTIFS(tblPosts[poster_id],E$2,tblPosts[post_time],\">=\"&(E$3+($B4-1)*7),tblPosts[post_time],\"<\"&(E$3+($B4)*7))","v":38},{"$f":"COUNTIFS(tblPosts[poster_id],F$2,tblPosts[post_time],\">=\"&(F$3+($B4-1)*7),tblPosts[post_time],\"<\"&(F$3+($B4)*7))","v":44},{"$f":"COUNTIFS(tblPosts[poster_id],G$2,tblPosts[post_time],\">=\"&(G$3+($B4-1)*7),tblPosts[post_time],\"<\"&(G$3+($B4)*7))","v":0},{"$f":"COUNTIFS(tblPosts[poster_id],H$2,tblPosts[post_time],\">=\"&(H$3+($B4-1)*7),tblPosts[post_time],\"<\"&(H$3+($B4)*7))","v":5},{"$f":"COUNTIFS(tblPosts[poster_id],I$2,tblPosts[post_time],\">=\"&(I$3+($B4-1)*7),tblPosts[post_time],\"<\"&(I$3+($B4)*7))","v":15},{"$f":"COUNTIFS(tblPosts[poster_id],J$2,tblPosts[post_time],\">=\"&(J$3+($B4-1)*7),tblPosts[post_time],\"<\"&(J$3+($B4)*7))","v":21},{"$f":"COUNTIFS(tblPosts[poster_id],K$2,tblPosts[post_time],\">=\"&(K$3+($B4-1)*7),tblPosts[post_time],\"<\"&(K$3+($B4)*7))","v":4},{"$f":"COUNTIFS(tblPosts[poster_id],L$2,tblPosts[post_time],\">=\"&(L$3+($B4-1)*7),tblPosts[post_time],\"<\"&(L$3+($B4)*7))","v":15},null,1,{"$f":"C4","v":1},{"$f":"D4","v":13},38,44,0,5,15,21,4,15,0,"SUM",{"$f":"SUM(OFFSET(C4,,,valCounter,1))","v":1},{"$f":"SUM(OFFSET(D4,,,valCounter,1))","v":13},{"$f":"SUM(OFFSET(E4,,,valCounter,1))","v":38}]
[null,2,{"$f":"COUNTIFS(tblPosts[poster_id],C$2,tblPosts[post_time],\">=\"&(C$3+($B5-1)*7),tblPosts[post_time],\"<\"&(C$3+($B5)*7))","v":0},{"$f":"COUNTIFS(tblPosts[poster_id],D$2,tblPosts[post_time],\">=\"&(D$3+($B5-1)*7),tblPosts[post_time],\"<\"&(D$3+($B5)*7))","v":4},{"$f":"COUNTIFS(tblPosts[poster_id],E$2,tblPosts[post_time],\">=\"&(E$3+($B5-1)*7),tblPosts[post_time],\"<\"&(E$3+($B5)*7))","v":64},{"$f":"COUNTIFS(tblPosts[poster_id],F$2,tblPosts[post_time],\">=\"&(F$3+($B5-1)*7),tblPosts[post_time],\"<\"&(F$3+($B5)*7))","v":32},{"$f":"COUNTIFS(tblPosts[poster_id],G$2,tblPosts[post_time],\">=\"&(G$3+($B5-1)*7),tblPosts[post_time],\"<\"&(G$3+($B5)*7))","v":4},{"$f":"COUNTIFS(tblPosts[poster_id],H$2,tblPosts[post_time],\">=\"&(H$3+($B5-1)*7),tblPosts[post_time],\"<\"&(H$3+($B5)*7))","v":11},{"$f":"COUNTIFS(tblPosts[poster_id],I$2,tblPosts[post_time],\">=\"&(I$3+($B5-1)*7),tblPosts[post_time],\"<\"&(I$3+($B5)*7))","v":10},{"$f":"COUNTIFS(tblPosts[poster_id],J$2,tblPosts[post_time],\">=\"&(J$3+($B5-1)*7),tblPosts[post_time],\"<\"&(J$3+($B5)*7))","v":25},{"$f":"COUNTIFS(tblPosts[poster_id],K$2,tblPosts[post_time],\">=\"&(K$3+($B5-1)*7),tblPosts[post_time],\"<\"&(K$3+($B5)*7))","v":7},{"$f":"COUNTIFS(tblPosts[poster_id],L$2,tblPosts[post_time],\">=\"&(L$3+($B5-1)*7),tblPosts[post_time],\"<\"&(L$3+($B5)*7))","v":18},null,2,{"$f":"IF(C$3+$B4*7>dumpDate,NA(),O4+C5)","v":1},{"$f":"IF(D$3+$B4*7>dumpDate,NA(),P4+D5)","v":17},{"$f":"IF(E$3+$B4*7>dumpDate,NA(),Q4+E5)","v":102},{"$f":"IF(F$3+$B4*7>dumpDate,NA(),R4+F5)","v":76},{"$f":"IF(G$3+$B4*7>dumpDate,NA(),S4+G5)","v":4},{"$f":"IF(H$3+$B4*7>dumpDate,NA(),T4+H5)","v":16},{"$f":"IF(I$3+$B4*7>dumpDate,NA(),U4+I5)","v":25},{"$f":"IF(J$3+$B4*7>dumpDate,NA(),V4+J5)","v":46},{"$f":"IF(K$3+$B4*7>dumpDate,NA(),W4+K5)","v":11},{"$f":"IF(L$3+$B4*7>dumpDate,NA(),X4+L5)","v":33},0,"AVERAGE",{"$f":"AA4/MIN(valCounter,O2)","v":1},{"$f":"AB4/MIN(valCounter,P2)","v":13},{"$f":"AC4/MIN(valCounter,Q2)","v":38}]
[null,3,{"$f":"COUNTIFS(tblPosts[poster_id],C$2,tblPosts[post_time],\">=\"&(C$3+($B6-1)*7),tblPosts[post_time],\"<\"&(C$3+($B6)*7))","v":0},{"$f":"COUNTIFS(tblPosts[poster_id],D$2,tblPosts[post_time],\">=\"&(D$3+($B6-1)*7),tblPosts[post_time],\"<\"&(D$3+($B6)*7))","v":11},{"$f":"COUNTIFS(tblPosts[poster_id],E$2,tblPosts[post_time],\">=\"&(E$3+($B6-1)*7),tblPosts[post_time],\"<\"&(E$3+($B6)*7))","v":55},{"$f":"COUNTIFS(tblPosts[poster_id],F$2,tblPosts[post_time],\">=\"&(F$3+($B6-1)*7),tblPosts[post_time],\"<\"&(F$3+($B6)*7))","v":21},{"$f":"COUNTIFS(tblPosts[poster_id],G$2,tblPosts[post_time],\">=\"&(G$3+($B6-1)*7),tblPosts[post_time],\"<\"&(G$3+($B6)*7))","v":1},{"$f":"COUNTIFS(tblPosts[poster_id],H$2,tblPosts[post_time],\">=\"&(H$3+($B6-1)*7),tblPosts[post_time],\"<\"&(H$3+($B6)*7))","v":6},{"$f":"COUNTIFS(tblPosts[poster_id],I$2,tblPosts[post_time],\">=\"&(I$3+($B6-1)*7),tblPosts[post_time],\"<\"&(I$3+($B6)*7))","v":5},{"$f":"COUNTIFS(tblPosts[poster_id],J$2,tblPosts[post_time],\">=\"&(J$3+($B6-1)*7),tblPosts[post_time],\"<\"&(J$3+($B6)*7))","v":3},{"$f":"COUNTIFS(tblPosts[poster_id],K$2,tblPosts[post_time],\">=\"&(K$3+($B6-1)*7),tblPosts[post_time],\"<\"&(K$3+($B6)*7))","v":0},{"$f":"COUNTIFS(tblPosts[poster_id],L$2,tblPosts[post_time],\">=\"&(L$3+($B6-1)*7),tblPosts[post_time],\"<\"&(L$3+($B6)*7))","v":31},null,3,1,28,157,97,5,22,30,49,11,64,0]
[null,4,{"$f":"COUNTIFS(tblPosts[poster_id],C$2,tblPosts[post_time],\">=\"&(C$3+($B7-1)*7),tblPosts[post_time],\"<\"&(C$3+($B7)*7))","v":0},{"$f":"COUNTIFS(tblPosts[poster_id],D$2,tblPosts[post_time],\">=\"&(D$3+($B7-1)*7),tblPosts[post_time],\"<\"&(D$3+($B7)*7))","v":8},{"$f":"COUNTIFS(tblPosts[poster_id],E$2,tblPosts[post_time],\">=\"&(E$3+($B7-1)*7),tblPosts[post_time],\"<\"&(E$3+($B7)*7))","v":60},{"$f":"COUNTIFS(tblPosts[poster_id],F$2,tblPosts[post_time],\">=\"&(F$3+($B7-1)*7),tblPosts[post_time],\"<\"&(F$3+($B7)*7))","v":20},{"$f":"COUNTIFS(tblPosts[poster_id],G$2,tblPosts[post_time],\">=\"&(G$3+($B7-1)*7),tblPosts[post_time],\"<\"&(G$3+($B7)*7))","v":1},{"$f":"COUNTIFS(tblPosts[poster_id],H$2,tblPosts[post_time],\">=\"&(H$3+($B7-1)*7),tblPosts[post_time],\"<\"&(H$3+($B7)*7))","v":4},{"$f":"COUNTIFS(tblPosts[poster_id],I$2,tblPosts[post_time],\">=\"&(I$3+($B7-1)*7),tblPosts[post_time],\"<\"&(I$3+($B7)*7))","v":12},{"$f":"COUNTIFS(tblPosts[poster_id],J$2,tblPosts[post_time],\">=\"&(J$3+($B7-1)*7),tblPosts[post_time],\"<\"&(J$3+($B7)*7))","v":2},{"$f":"COUNTIFS(tblPosts[poster_id],K$2,tblPosts[post_time],\">=\"&(K$3+($B7-1)*7),tblPosts[post_time],\"<\"&(K$3+($B7)*7))","v":2},{"$f":"COUNTIFS(tblPosts[poster_id],L$2,tblPosts[post_time],\">=\"&(L$3+($B7-1)*7),tblPosts[post_time],\"<\"&(L$3+($B7)*7))","v":4},null,4,1,36,217,117,6,26,42,51,13,68,0,"Labels",{"$f":"\"Week \"&valCounter","v":"Week 1"}]
[null,5,{"$f":"COUNTIFS(tblPosts[poster_id],C$2,tblPosts[post_time],\">=\"&(C$3+($B8-1)*7),tblPosts[post_time],\"<\"&(C$3+($B8)*7))","v":0},{"$f":"COUNTIFS(tblPosts[poster_id],D$2,tblPosts[post_time],\">=\"&(D$3+($B8-1)*7),tblPosts[post_time],\"<\"&(D$3+($B8)*7))","v":19},{"$f":"COUNTIFS(tblPosts[poster_id],E$2,tblPosts[post_time],\">=\"&(E$3+($B8-1)*7),tblPosts[post_time],\"<\"&(E$3+($B8)*7))","v":74},{"$f":"COUNTIFS(tblPosts[poster_id],F$2,tblPosts[post_time],\">=\"&(F$3+($B8-1)*7),tblPosts[post_time],\"<\"&(F$3+($B8)*7))","v":42},{"$f":"COUNTIFS(tblPosts[poster_id],G$2,tblPosts[post_time],\">=\"&(G$3+($B8-1)*7),tblPosts[post_time],\"<\"&(G$3+($B8)*7))","v":0},{"$f":"COUNTIFS(tblPosts[poster_id],H$2,tblPosts[post_time],\">=\"&(H$3+($B8-1)*7),tblPosts[post_time],\"<\"&(H$3+($B8)*7))","v":5},{"$f":"COUNTIFS(tblPosts[poster_id],I$2,tblPosts[post_time],\">=\"&(I$3+($B8-1)*7),tblPosts[post_time],\"<\"&(I$3+($B8)*7))","v":8},{"$f":"COUNTIFS(tblPosts[poster_id],J$2,tblPosts[post_time],\">=\"&(J$3+($B8-1)*7),tblPosts[post_time],\"<\"&(J$3+($B8)*7))","v":6},{"$f":"COUNTIFS(tblPosts[poster_id],K$2,tblPosts[post_time],\">=\"&(K$3+($B8-1)*7),tblPosts[post_time],\"<\"&(K$3+($B8)*7))","v":1},{"$f":"COUNTIFS(tblPosts[poster_id],L$2,tblPosts[post_time],\">=\"&(L$3+($B8-1)*7),tblPosts[post_time],\"<\"&(L$3+($B8)*7))","v":23},null,5,1,55,291,159,6,31,50,57,14,91,0,null,{"$f":"AA4","v":1},{"$f":"AB4","v":13},38]
[null,6,{"$f":"COUNTIFS(tblPosts[poster_id],C$2,tblPosts[post_time],\">=\"&(C$3+($B9-1)*7),tblPosts[post_time],\"<\"&(C$3+($B9)*7))","v":0},{"$f":"COUNTIFS(tblPosts[poster_id],D$2,tblPosts[post_time],\">=\"&(D$3+($B9-1)*7),tblPosts[post_time],\"<\"&(D$3+($B9)*7))","v":2},{"$f":"COUNTIFS(tblPosts[poster_id],E$2,tblPosts[post_time],\">=\"&(E$3+($B9-1)*7),tblPosts[post_time],\"<\"&(E$3+($B9)*7))","v":64},{"$f":"COUNTIFS(tblPosts[poster_id],F$2,tblPosts[post_time],\">=\"&(F$3+($B9-1)*7),tblPosts[post_time],\"<\"&(F$3+($B9)*7))","v":78},{"$f":"COUNTIFS(tblPosts[poster_id],G$2,tblPosts[post_time],\">=\"&(G$3+($B9-1)*7),tblPosts[post_time],\"<\"&(G$3+($B9)*7))","v":3},{"$f":"COUNTIFS(tblPosts[poster_id],H$2,tblPosts[post_time],\">=\"&(H$3+($B9-1)*7),tblPosts[post_time],\"<\"&(H$3+($B9)*7))","v":0},{"$f":"COUNTIFS(tblPosts[poster_id],I$2,tblPosts[post_time],\">=\"&(I$3+($B9-1)*7),tblPosts[post_time],\"<\"&(I$3+($B9)*7))","v":5},{"$f":"COUNTIFS(tblPosts[poster_id],J$2,tblPosts[post_time],\">=\"&(J$3+($B9-1)*7),tblPosts[post_time],\"<\"&(J$3+($B9)*7))","v":0},{"$f":"COUNTIFS(tblPosts[poster_id],K$2,tblPosts[post_time],\">=\"&(K$3+($B9-1)*7),tblPosts[post_time],\"<\"&(K$3+($B9)*7))","v":1},{"$f":"COUNTIFS(tblPosts[poster_id],L$2,tblPosts[post_time],\">=\"&(L$3+($B9-1)*7),tblPosts[post_time],\"<\"&(L$3+($B9)*7))","v":13},null,6,1,57,355,237,9,31,55,57,15,104,0,null,{"$f":"ROUND(AA5,1)","v":1},{"$f":"ROUND(AB5,1)","v":13},38]
[null,7,{"$f":"COUNTIFS(tblPosts[poster_id],C$2,tblPosts[post_time],\">=\"&(C$3+($B10-1)*7),tblPosts[post_time],\"<\"&(C$3+($B10)*7))","v":0},{"$f":"COUNTIFS(tblPosts[poster_id],D$2,tblPosts[post_time],\">=\"&(D$3+($B10-1)*7),tblPosts[post_time],\"<\"&(D$3+($B10)*7))","v":6},{"$f":"COUNTIFS(tblPosts[poster_id],E$2,tblPosts[post_time],\">=\"&(E$3+($B10-1)*7),tblPosts[post_time],\"<\"&(E$3+($B10)*7))","v":39},{"$f":"COUNTIFS(tblPosts[poster_id],F$2,tblPosts[post_time],\">=\"&(F$3+($B10-1)*7),tblPosts[post_time],\"<\"&(F$3+($B10)*7))","v":87},{"$f":"COUNTIFS(tblPosts[poster_id],G$2,tblPosts[post_time],\">=\"&(G$3+($B10-1)*7),tblPosts[post_time],\"<\"&(G$3+($B10)*7))","v":0},{"$f":"COUNTIFS(tblPosts[poster_id],H$2,tblPosts[post_time],\">=\"&(H$3+($B10-1)*7),tblPosts[post_time],\"<\"&(H$3+($B10)*7))","v":4},{"$f":"COUNTIFS(tblPosts[poster_id],I$2,tblPosts[post_time],\">=\"&(I$3+($B10-1)*7),tblPosts[post_time],\"<\"&(I$3+($B10)*7))","v":8},{"$f":"COUNTIFS(tblPosts[poster_id],J$2,tblPosts[post_time],\">=\"&(J$3+($B10-1)*7),tblPosts[post_time],\"<\"&(J$3+($B10)*7))","v":0},{"$f":"COUNTIFS(tblPosts[poster_id],K$2,tblPosts[post_time],\">=\"&(K$3+($B10-1)*7),tblPosts[post_time],\"<\"&(K$3+($B10)*7))","v":3},{"$f":"COUNTIFS(tblPosts[poster_id],L$2,tblPosts[post_time],\">=\"&(L$3+($B10-1)*7),tblPosts[post_time],\"<\"&(L$3+($B10)*7))","v":1},null,7,1,63,394,324,9,35,63,57,18,105,0]
[null,8,{"$f":"COUNTIFS(tblPosts[poster_id],C$2,tblPosts[post_time],\">=\"&(C$3+($B11-1)*7),tblPosts[post_time],\"<\"&(C$3+($B11)*7))","v":0},{"$f":"COUNTIFS(tblPosts[poster_id],D$2,tblPosts[post_time],\">=\"&(D$3+($B11-1)*7),tblPosts[post_time],\"<\"&(D$3+($B11)*7))","v":8},{"$f":"COUNTIFS(tblPosts[poster_id],E$2,tblPosts[post_time],\">=\"&(E$3+($B11-1)*7),tblPosts[post_time],\"<\"&(E$3+($B11)*7))","v":76},{"$f":"COUNTIFS(tblPosts[poster_id],F$2,tblPosts[post_time],\">=\"&(F$3+($B11-1)*7),tblPosts[post_time],\"<\"&(F$3+($B11)*7))","v":47},{"$f":"COUNTIFS(tblPosts[poster_id],G$2,tblPosts[post_time],\">=\"&(G$3+($B11-1)*7),tblPosts[post_time],\"<\"&(G$3+($B11)*7))","v":0},{"$f":"COUNTIFS(tblPosts[poster_id],H$2,tblPosts[post_time],\">=\"&(H$3+($B11-1)*7),tblPosts[post_time],\"<\"&(H$3+($B11)*7))","v":3},{"$f":"COUNTIFS(tblPosts[poster_id],I$2,tblPosts[post_time],\">=\"&(I$3+($B11-1)*7),tblPosts[post_time],\"<\"&(I$3+($B11)*7))","v":9},{"$f":"COUNTIFS(tblPosts[poster_id],J$2,tblPosts[post_time],\">=\"&(J$3+($B11-1)*7),tblPosts[post_time],\"<\"&(J$3+($B11)*7))","v":0},{"$f":"COUNTIFS(tblPosts[poster_id],K$2,tblPosts[post_time],\">=\"&(K$3+($B11-1)*7),tblPosts[post_time],\"<\"&(K$3+($B11)*7))","v":7},{"$f":"COUNTIFS(tblPosts[poster_id],L$2,tblPosts[post_time],\">=\"&(L$3+($B11-1)*7),tblPosts[post_time],\"<\"&(L$3+($B11)*7))","v":0},null,8,1,71,470,371,9,38,72,57,25,105,0]
[null,9,{"$f":"COUNTIFS(tblPosts[poster_id],C$2,tblPosts[post_time],\">=\"&(C$3+($B12-1)*7),tblPosts[post_time],\"<\"&(C$3+($B12)*7))","v":0},{"$f":"COUNTIFS(tblPosts[poster_id],D$2,tblPosts[post_time],\">=\"&(D$3+($B12-1)*7),tblPosts[post_time],\"<\"&(D$3+($B12)*7))","v":20},{"$f":"COUNTIFS(tblPosts[poster_id],E$2,tblPosts[post_time],\">=\"&(E$3+($B12-1)*7),tblPosts[post_time],\"<\"&(E$3+($B12)*7))","v":44},{"$f":"COUNTIFS(tblPosts[poster_id],F$2,tblPosts[post_time],\">=\"&(F$3+($B12-1)*7),tblPosts[post_time],\"<\"&(F$3+($B12)*7))","v":69},{"$f":"COUNTIFS(tblPosts[poster_id],G$2,tblPosts[post_time],\">=\"&(G$3+($B12-1)*7),tblPosts[post_time],\"<\"&(G$3+($B12)*7))","v":0},{"$f":"COUNTIFS(tblPosts[poster_id],H$2,tblPosts[post_time],\">=\"&(H$3+($B12-1)*7),tblPosts[post_time],\"<\"&(H$3+($B12)*7))","v":0},{"$f":"COUNTIFS(tblPosts[poster_id],I$2,tblPosts[post_time],\">=\"&(I$3+($B12-1)*7),tblPosts[post_time],\"<\"&(I$3+($B12)*7))","v":4},{"$f":"COUNTIFS(tblPosts[poster_id],J$2,tblPosts[post_time],\">=\"&(J$3+($B12-1)*7),tblPosts[post_time],\"<\"&(J$3+($B12)*7))","v":5},{"$f":"COUNTIFS(tblPosts[poster_id],K$2,tblPosts[post_time],\">=\"&(K$3+($B12-1)*7),tblPosts[post_time],\"<\"&(K$3+($B12)*7))","v":2},{"$f":"COUNTIFS(tblPosts[poster_id],L$2,tblPosts[post_time],\">=\"&(L$3+($B12-1)*7),tblPosts[post_time],\"<\"&(L$3+($B12)*7))","v":0},null,9,1,91,514,440,9,38,76,62,27,105,0]
[null,10,{"$f":"COUNTIFS(tblPosts[poster_id],C$2,tblPosts[post_time],\">=\"&(C$3+($B13-1)*7),tblPosts[post_time],\"<\"&(C$3+($B13)*7))","v":0},{"$f":"COUNTIFS(tblPosts[poster_id],D$2,tblPosts[post_time],\">=\"&(D$3+($B13-1)*7),tblPosts[post_time],\"<\"&(D$3+($B13)*7))","v":34},{"$f":"COUNTIFS(tblPosts[poster_id],E$2,tblPosts[post_time],\">=\"&(E$3+($B13-1)*7),tblPosts[post_time],\"<\"&(E$3+($B13)*7))","v":41},{"$f":"COUNTIFS(tblPosts[poster_id],F$2,tblPosts[post_time],\">=\"&(F$3+($B13-1)*7),tblPosts[post_time],\"<\"&(F$3+($B13)*7))","v":64},{"$f":"COUNTIFS(tblPosts[poster_id],G$2,tblPosts[post_time],\">=\"&(G$3+($B13-1)*7),tblPosts[post_time],\"<\"&(G$3+($B13)*7))","v":0},{"$f":"COUNTIFS(tblPosts[poster_id],H$2,tblPosts[post_time],\">=\"&(H$3+($B13-1)*7),tblPosts[post_time],\"<\"&(H$3+($B13)*7))","v":5},{"$f":"COUNTIFS(tblPosts[poster_id],I$2,tblPosts[post_time],\">=\"&(I$3+($B13-1)*7),tblPosts[post_time],\"<\"&(I$3+($B13)*7))","v":3},{"$f":"COUNTIFS(tblPosts[poster_id],J$2,tblPosts[post_time],\">=\"&(J$3+($B13-1)*7),tblPosts[post_time],\"<\"&(J$3+($B13)*7))","v":10},{"$f":"COUNTIFS(tblPosts[poster_id],K$2,tblPosts[post_time],\">=\"&(K$3+($B13-1)*7),tblPosts[post_time],\"<\"&(K$3+($B13)*7))","v":15},{"$f":"COUNTIFS(tblPosts[poster_id],L$2,tblPosts[post_time],\">=\"&(L$3+($B13-1)*7),tblPosts[post_time],\"<\"&(L$3+($B13)*7))","v":0},null,10,1,125,555,504,9,43,79,72,42,105,0]
[null,11,{"$f":"COUNTIFS(tblPosts[poster_id],C$2,tblPosts[post_time],\">=\"&(C$3+($B14-1)*7),tblPosts[post_time],\"<\"&(C$3+($B14)*7))","v":0},{"$f":"COUNTIFS(tblPosts[poster_id],D$2,tblPosts[post_time],\">=\"&(D$3+($B14-1)*7),tblPosts[post_time],\"<\"&(D$3+($B14)*7))","v":24},{"$f":"COUNTIFS(tblPosts[poster_id],E$2,tblPosts[post_time],\">=\"&(E$3+($B14-1)*7),tblPosts[post_time],\"<\"&(E$3+($B14)*7))","v":23},{"$f":"COUNTIFS(tblPosts[poster_id],F$2,tblPosts[post_time],\">=\"&(F$3+($B14-1)*7),tblPosts[post_time],\"<\"&(F$3+($B14)*7))","v":50},{"$f":"COUNTIFS(tblPosts[poster_id],G$2,tblPosts[post_time],\">=\"&(G$3+($B14-1)*7),tblPosts[post_time],\"<\"&(G$3+($B14)*7))","v":0},{"$f":"COUNTIFS(tblPosts[poster_id],H$2,tblPosts[post_time],\">=\"&(H$3+($B14-1)*7),tblPosts[post_time],\"<\"&(H$3+($B14)*7))","v":6},{"$f":"COUNTIFS(tblPosts[poster_id],I$2,tblPosts[post_time],\">=\"&(I$3+($B14-1)*7),tblPosts[post_time],\"<\"&(I$3+($B14)*7))","v":1},{"$f":"COUNTIFS(tblPosts[poster_id],J$2,tblPosts[post_time],\">=\"&(J$3+($B14-1)*7),tblPosts[post_time],\"<\"&(J$3+($B14)*7))","v":9},{"$f":"COUNTIFS(tblPosts[poster_id],K$2,tblPosts[post_time],\">=\"&(K$3+($B14-1)*7),tblPosts[post_time],\"<\"&(K$3+($B14)*7))","v":2},{"$f":"COUNTIFS(tblPosts[poster_id],L$2,tblPosts[post_time],\">=\"&(L$3+($B14-1)*7),tblPosts[post_time],\"<\"&(L$3+($B14)*7))","v":0},null,11,1,149,578,554,9,49,80,81,44,105,0]
[null,12,{"$f":"COUNTIFS(tblPosts[poster_id],C$2,tblPosts[post_time],\">=\"&(C$3+($B15-1)*7),tblPosts[post_time],\"<\"&(C$3+($B15)*7))","v":5},{"$f":"COUNTIFS(tblPosts[poster_id],D$2,tblPosts[post_time],\">=\"&(D$3+($B15-1)*7),tblPosts[post_time],\"<\"&(D$3+($B15)*7))","v":24},{"$f":"COUNTIFS(tblPosts[poster_id],E$2,tblPosts[post_time],\">=\"&(E$3+($B15-1)*7),tblPosts[post_time],\"<\"&(E$3+($B15)*7))","v":36},{"$f":"COUNTIFS(tblPosts[poster_id],F$2,tblPosts[post_time],\">=\"&(F$3+($B15-1)*7),tblPosts[post_time],\"<\"&(F$3+($B15)*7))","v":39},{"$f":"COUNTIFS(tblPosts[poster_id],G$2,tblPosts[post_time],\">=\"&(G$3+($B15-1)*7),tblPosts[post_time],\"<\"&(G$3+($B15)*7))","v":0},{"$f":"COUNTIFS(tblPosts[poster_id],H$2,tblPosts[post_time],\">=\"&(H$3+($B15-1)*7),tblPosts[post_time],\"<\"&(H$3+($B15)*7))","v":6},{"$f":"COUNTIFS(tblPosts[poster_id],I$2,tblPosts[post_time],\">=\"&(I$3+($B15-1)*7),tblPosts[post_time],\"<\"&(I$3+($B15)*7))","v":5},{"$f":"COUNTIFS(tblPosts[poster_id],J$2,tblPosts[post_time],\">=\"&(J$3+($B15-1)*7),tblPosts[post_time],\"<\"&(J$3+($B15)*7))","v":18},{"$f":"COUNTIFS(tblPosts[poster_id],K$2,tblPosts[post_time],\">=\"&(K$3+($B15-1)*7),tblPosts[post_time],\"<\"&(K$3+($B15)*7))","v":11},{"$f":"COUNTIFS(tblPosts[poster_id],L$2,tblPosts[post_time],\">=\"&(L$3+($B15-1)*7),tblPosts[post_time],\"<\"&(L$3+($B15)*7))","v":1},null,12,6,173,614,593,9,55,85,99,55,106,0]
[null,13,{"$f":"COUNTIFS(tblPosts[poster_id],C$2,tblPosts[post_time],\">=\"&(C$3+($B16-1)*7),tblPosts[post_time],\"<\"&(C$3+($B16)*7))","v":2},{"$f":"COUNTIFS(tblPosts[poster_id],D$2,tblPosts[post_time],\">=\"&(D$3+($B16-1)*7),tblPosts[post_time],\"<\"&(D$3+($B16)*7))","v":13},{"$f":"COUNTIFS(tblPosts[poster_id],E$2,tblPosts[post_time],\">=\"&(E$3+($B16-1)*7),tblPosts[post_time],\"<\"&(E$3+($B16)*7))","v":30},{"$f":"COUNTIFS(tblPosts[poster_id],F$2,tblPosts[post_time],\">=\"&(F$3+($B16-1)*7),tblPosts[post_time],\"<\"&(F$3+($B16)*7))","v":21},{"$f":"COUNTIFS(tblPosts[poster_id],G$2,tblPosts[post_time],\">=\"&(G$3+($B16-1)*7),tblPosts[post_time],\"<\"&(G$3+($B16)*7))","v":0},{"$f":"COUNTIFS(tblPosts[poster_id],H$2,tblPosts[post_time],\">=\"&(H$3+($B16-1)*7),tblPosts[post_time],\"<\"&(H$3+($B16)*7))","v":4},{"$f":"COUNTIFS(tblPosts[poster_id],I$2,tblPosts[post_time],\">=\"&(I$3+($B16-1)*7),tblPosts[post_time],\"<\"&(I$3+($B16)*7))","v":3},{"$f":"COUNTIFS(tblPosts[poster_id],J$2,tblPosts[post_time],\">=\"&(J$3+($B16-1)*7),tblPosts[post_time],\"<\"&(J$3+($B16)*7))","v":13},{"$f":"COUNTIFS(tblPosts[poster_id],K$2,tblPosts[post_time],\">=\"&(K$3+($B16-1)*7),tblPosts[post_time],\"<\"&(K$3+($B16)*7))","v":0},{"$f":"COUNTIFS(tblPosts[poster_id],L$2,tblPosts[post_time],\">=\"&(L$3+($B16-1)*7),tblPosts[post_time],\"<\"&(L$3+($B16)*7))","v":0},null,13,8,186,644,614,9,59,88,112,55,106,0]
[null,14,{"$f":"COUNTIFS(tblPosts[poster_id],C$2,tblPosts[post_time],\">=\"&(C$3+($B17-1)*7),tblPosts[post_time],\"<\"&(C$3+($B17)*7))","v":8},{"$f":"COUNTIFS(tblPosts[poster_id],D$2,tblPosts[post_time],\">=\"&(D$3+($B17-1)*7),tblPosts[post_time],\"<\"&(D$3+($B17)*7))","v":10},{"$f":"COUNTIFS(tblPosts[poster_id],E$2,tblPosts[post_time],\">=\"&(E$3+($B17-1)*7),tblPosts[post_time],\"<\"&(E$3+($B17)*7))","v":57},{"$f":"COUNTIFS(tblPosts[poster_id],F$2,tblPosts[post_time],\">=\"&(F$3+($B17-1)*7),tblPosts[post_time],\"<\"&(F$3+($B17)*7))","v":0},{"$f":"COUNTIFS(tblPosts[poster_id],G$2,tblPosts[post_time],\">=\"&(G$3+($B17-1)*7),tblPosts[post_time],\"<\"&(G$3+($B17)*7))","v":0},{"$f":"COUNTIFS(tblPosts[poster_id],H$2,tblPosts[post_time],\">=\"&(H$3+($B17-1)*7),tblPosts[post_time],\"<\"&(H$3+($B17)*7))","v":2},{"$f":"COUNTIFS(tblPosts[poster_id],I$2,tblPosts[post_time],\">=\"&(I$3+($B17-1)*7),tblPosts[post_time],\"<\"&(I$3+($B17)*7))","v":3},{"$f":"COUNTIFS(tblPosts[poster_id],J$2,tblPosts[post_time],\">=\"&(J$3+($B17-1)*7),tblPosts[post_time],\"<\"&(J$3+($B17)*7))","v":11},{"$f":"COUNTIFS(tblPosts[poster_id],K$2,tblPosts[post_time],\">=\"&(K$3+($B17-1)*7),tblPosts[post_time],\"<\"&(K$3+($B17)*7))","v":7},{"$f":"COUNTIFS(tblPosts[poster_id],L$2,tblPosts[post_time],\">=\"&(L$3+($B17-1)*7),tblPosts[post_time],\"<\"&(L$3+($B17)*7))","v":0},null,14,16,196,701,{"$error":"#N/A"},9,61,91,123,62,106,0]
[null,15,{"$f":"COUNTIFS(tblPosts[poster_id],C$2,tblPosts[post_time],\">=\"&(C$3+($B18-1)*7),tblPosts[post_time],\"<\"&(C$3+($B18)*7))","v":6},{"$f":"COUNTIFS(tblPosts[poster_id],D$2,tblPosts[post_time],\">=\"&(D$3+($B18-1)*7),tblPosts[post_time],\"<\"&(D$3+($B18)*7))","v":19},{"$f":"COUNTIFS(tblPosts[poster_id],E$2,tblPosts[post_time],\">=\"&(E$3+($B18-1)*7),tblPosts[post_time],\"<\"&(E$3+($B18)*7))","v":56},{"$f":"COUNTIFS(tblPosts[poster_id],F$2,tblPosts[post_time],\">=\"&(F$3+($B18-1)*7),tblPosts[post_time],\"<\"&(F$3+($B18)*7))","v":0},{"$f":"COUNTIFS(tblPosts[poster_id],G$2,tblPosts[post_time],\">=\"&(G$3+($B18-1)*7),tblPosts[post_time],\"<\"&(G$3+($B18)*7))","v":0},{"$f":"COUNTIFS(tblPosts[poster_id],H$2,tblPosts[post_time],\">=\"&(H$3+($B18-1)*7),tblPosts[post_time],\"<\"&(H$3+($B18)*7))","v":0},{"$f":"COUNTIFS(tblPosts[poster_id],I$2,tblPosts[post_time],\">=\"&(I$3+($B18-1)*7),tblPosts[post_time],\"<\"&(I$3+($B18)*7))","v":5},{"$f":"COUNTIFS(tblPosts[poster_id],J$2,tblPosts[post_time],\">=\"&(J$3+($B18-1)*7),tblPosts[post_time],\"<\"&(J$3+($B18)*7))","v":8},{"$f":"COUNTIFS(tblPosts[poster_id],K$2,tblPosts[post_time],\">=\"&(K$3+($B18-1)*7),tblPosts[post_time],\"<\"&(K$3+($B18)*7))","v":0},{"$f":"COUNTIFS(tblPosts[poster_id],L$2,tblPosts[post_time],\">=\"&(L$3+($B18-1)*7),tblPosts[post_time],\"<\"&(L$3+($B18)*7))","v":5},null,15,22,215,757,{"$error":"#N/A"},9,61,96,131,62,111,0]
[null,16,{"$f":"COUNTIFS(tblPosts[poster_id],C$2,tblPosts[post_time],\">=\"&(C$3+($B19-1)*7),tblPosts[post_time],\"<\"&(C$3+($B19)*7))","v":6},{"$f":"COUNTIFS(tblPosts[poster_id],D$2,tblPosts[post_time],\">=\"&(D$3+($B19-1)*7),tblPosts[post_time],\"<\"&(D$3+($B19)*7))","v":24},{"$f":"COUNTIFS(tblPosts[poster_id],E$2,tblPosts[post_time],\">=\"&(E$3+($B19-1)*7),tblPosts[post_time],\"<\"&(E$3+($B19)*7))","v":53},{"$f":"COUNTIFS(tblPosts[poster_id],F$2,tblPosts[post_time],\">=\"&(F$3+($B19-1)*7),tblPosts[post_time],\"<\"&(F$3+($B19)*7))","v":0},{"$f":"COUNTIFS(tblPosts[poster_id],G$2,tblPosts[post_time],\">=\"&(G$3+($B19-1)*7),tblPosts[post_time],\"<\"&(G$3+($B19)*7))","v":6},{"$f":"COUNTIFS(tblPosts[poster_id],H$2,tblPosts[post_time],\">=\"&(H$3+($B19-1)*7),tblPosts[post_time],\"<\"&(H$3+($B19)*7))","v":0},{"$f":"COUNTIFS(tblPosts[poster_id],I$2,tblPosts[post_time],\">=\"&(I$3+($B19-1)*7),tblPosts[post_time],\"<\"&(I$3+($B19)*7))","v":6},{"$f":"COUNTIFS(tblPosts[poster_id],J$2,tblPosts[post_time],\">=\"&(J$3+($B19-1)*7),tblPosts[post_time],\"<\"&(J$3+($B19)*7))","v":10},{"$f":"COUNTIFS(tblPosts[poster_id],K$2,tblPosts[post_time],\">=\"&(K$3+($B19-1)*7),tblPosts[post_time],\"<\"&(K$3+($B19)*7))","v":3},{"$f":"COUNTIFS(tblPosts[poster_id],L$2,tblPosts[post_time],\">=\"&(L$3+($B19-1)*7),tblPosts[post_time],\"<\"&(L$3+($B19)*7))","v":1},null,16,28,239,810,{"$error":"#N/A"},15,61,102,141,65,112,0]
[null,17,{"$f":"COUNTIFS(tblPosts[poster_id],C$2,tblPosts[post_time],\">=\"&(C$3+($B20-1)*7),tblPosts[post_time],\"<\"&(C$3+($B20)*7))","v":13},{"$f":"COUNTIFS(tblPosts[poster_id],D$2,tblPosts[post_time],\">=\"&(D$3+($B20-1)*7),tblPosts[post_time],\"<\"&(D$3+($B20)*7))","v":22},{"$f":"COUNTIFS(tblPosts[poster_id],E$2,tblPosts[post_time],\">=\"&(E$3+($B20-1)*7),tblPosts[post_time],\"<\"&(E$3+($B20)*7))","v":42},{"$f":"COUNTIFS(tblPosts[poster_id],F$2,tblPosts[post_time],\">=\"&(F$3+($B20-1)*7),tblPosts[post_time],\"<\"&(F$3+($B20)*7))","v":0},{"$f":"COUNTIFS(tblPosts[poster_id],G$2,tblPosts[post_time],\">=\"&(G$3+($B20-1)*7),tblPosts[post_time],\"<\"&(G$3+($B20)*7))","v":6},{"$f":"COUNTIFS(tblPosts[poster_id],H$2,tblPosts[post_time],\">=\"&(H$3+($B20-1)*7),tblPosts[post_time],\"<\"&(H$3+($B20)*7))","v":0},{"$f":"COUNTIFS(tblPosts[poster_id],I$2,tblPosts[post_time],\">=\"&(I$3+($B20-1)*7),tblPosts[post_time],\"<\"&(I$3+($B20)*7))","v":7},{"$f":"COUNTIFS(tblPosts[poster_id],J$2,tblPosts[post_time],\">=\"&(J$3+($B20-1)*7),tblPosts[post_time],\"<\"&(J$3+($B20)*7))","v":27},{"$f":"COUNTIFS(tblPosts[poster_id],K$2,tblPosts[post_time],\">=\"&(K$3+($B20-1)*7),tblPosts[post_time],\"<\"&(K$3+($B20)*7))","v":4},{"$f":"COUNTIFS(tblPosts[poster_id],L$2,tblPosts[post_time],\">=\"&(L$3+($B20-1)*7),tblPosts[post_time],\"<\"&(L$3+($B20)*7))","v":3},null,17,41,261,852,{"$error":"#N/A"},21,61,109,168,69,115,0]
[null,18,{"$f":"COUNTIFS(tblPosts[poster_id],C$2,tblPosts[post_time],\">=\"&(C$3+($B21-1)*7),tblPosts[post_time],\"<\"&(C$3+($B21)*7))","v":2},{"$f":"COUNTIFS(tblPosts[poster_id],D$2,tblPosts[post_time],\">=\"&(D$3+($B21-1)*7),tblPosts[post_time],\"<\"&(D$3+($B21)*7))","v":13},{"$f":"COUNTIFS(tblPosts[poster_id],E$2,tblPosts[post_time],\">=\"&(E$3+($B21-1)*7),tblPosts[post_time],\"<\"&(E$3+($B21)*7))","v":57},{"$f":"COUNTIFS(tblPosts[poster_id],F$2,tblPosts[post_time],\">=\"&(F$3+($B21-1)*7),tblPosts[post_time],\"<\"&(F$3+($B21)*7))","v":0},{"$f":"COUNTIFS(tblPosts[poster_id],G$2,tblPosts[post_time],\">=\"&(G$3+($B21-1)*7),tblPosts[post_time],\"<\"&(G$3+($B21)*7))","v":7},{"$f":"COUNTIFS(tblPosts[poster_id],H$2,tblPosts[post_time],\">=\"&(H$3+($B21-1)*7),tblPosts[post_time],\"<\"&(H$3+($B21)*7))","v":0},{"$f":"COUNTIFS(tblPosts[poster_id],I$2,tblPosts[post_time],\">=\"&(I$3+($B21-1)*7),tblPosts[post_time],\"<\"&(I$3+($B21)*7))","v":5},{"$f":"COUNTIFS(tblPosts[poster_id],J$2,tblPosts[post_time],\">=\"&(J$3+($B21-1)*7),tblPosts[post_time],\"<\"&(J$3+($B21)*7))","v":14},{"$f":"COUNTIFS(tblPosts[poster_id],K$2,tblPosts[post_time],\">=\"&(K$3+($B21-1)*7),tblPosts[post_time],\"<\"&(K$3+($B21)*7))","v":17},{"$f":"COUNTIFS(tblPosts[poster_id],L$2,tblPosts[post_time],\">=\"&(L$3+($B21-1)*7),tblPosts[post_time],\"<\"&(L$3+($B21)*7))","v":1},null,18,43,274,909,{"$error":"#N/A"},28,61,114,182,86,116,0]
[null,19,{"$f":"COUNTIFS(tblPosts[poster_id],C$2,tblPosts[post_time],\">=\"&(C$3+($B22-1)*7),tblPosts[post_time],\"<\"&(C$3+($B22)*7))","v":10},{"$f":"COUNTIFS(tblPosts[poster_id],D$2,tblPosts[post_time],\">=\"&(D$3+($B22-1)*7),tblPosts[post_time],\"<\"&(D$3+($B22)*7))","v":10},{"$f":"COUNTIFS(tblPosts[poster_id],E$2,tblPosts[post_time],\">=\"&(E$3+($B22-1)*7),tblPosts[post_time],\"<\"&(E$3+($B22)*7))","v":58},{"$f":"COUNTIFS(tblPosts[poster_id],F$2,tblPosts[post_time],\">=\"&(F$3+($B22-1)*7),tblPosts[post_time],\"<\"&(F$3+($B22)*7))","v":0},{"$f":"COUNTIFS(tblPosts[poster_id],G$2,tblPosts[post_time],\">=\"&(G$3+($B22-1)*7),tblPosts[post_time],\"<\"&(G$3+($B22)*7))","v":1},{"$f":"COUNTIFS(tblPosts[poster_id],H$2,tblPosts[post_time],\">=\"&(H$3+($B22-1)*7),tblPosts[post_time],\"<\"&(H$3+($B22)*7))","v":0},{"$f":"COUNTIFS(tblPosts[poster_id],I$2,tblPosts[post_time],\">=\"&(I$3+($B22-1)*7),tblPosts[post_time],\"<\"&(I$3+($B22)*7))","v":0},{"$f":"COUNTIFS(tblPosts[poster_id],J$2,tblPosts[post_time],\">=\"&(J$3+($B22-1)*7),tblPosts[post_time],\"<\"&(J$3+($B22)*7))","v":22},{"$f":"COUNTIFS(tblPosts[poster_id],K$2,tblPosts[post_time],\">=\"&(K$3+($B22-1)*7),tblPosts[post_time],\"<\"&(K$3+($B22)*7))","v":3},{"$f":"COUNTIFS(tblPosts[poster_id],L$2,tblPosts[post_time],\">=\"&(L$3+($B22-1)*7),tblPosts[post_time],\"<\"&(L$3+($B22)*7))","v":3},null,19,53,284,967,{"$error":"#N/A"},29,61,114,204,89,119,0]
[null,20,{"$f":"COUNTIFS(tblPosts[poster_id],C$2,tblPosts[post_time],\">=\"&(C$3+($B23-1)*7),tblPosts[post_time],\"<\"&(C$3+($B23)*7))","v":11},{"$f":"COUNTIFS(tblPosts[poster_id],D$2,tblPosts[post_time],\">=\"&(D$3+($B23-1)*7),tblPosts[post_time],\"<\"&(D$3+($B23)*7))","v":15},{"$f":"COUNTIFS(tblPosts[poster_id],E$2,tblPosts[post_time],\">=\"&(E$3+($B23-1)*7),tblPosts[post_time],\"<\"&(E$3+($B23)*7))","v":51},{"$f":"COUNTIFS(tblPosts[poster_id],F$2,tblPosts[post_time],\">=\"&(F$3+($B23-1)*7),tblPosts[post_time],\"<\"&(F$3+($B23)*7))","v":0},{"$f":"COUNTIFS(tblPosts[poster_id],G$2,tblPosts[post_time],\">=\"&(G$3+($B23-1)*7),tblPosts[post_time],\"<\"&(G$3+($B23)*7))","v":9},{"$f":"COUNTIFS(tblPosts[poster_id],H$2,tblPosts[post_time],\">=\"&(H$3+($B23-1)*7),tblPosts[post_time],\"<\"&(H$3+($B23)*7))","v":2},{"$f":"COUNTIFS(tblPosts[poster_id],I$2,tblPosts[post_time],\">=\"&(I$3+($B23-1)*7),tblPosts[post_time],\"<\"&(I$3+($B23)*7))","v":1},{"$f":"COUNTIFS(tblPosts[poster_id],J$2,tblPosts[post_time],\">=\"&(J$3+($B23-1)*7),tblPosts[post_time],\"<\"&(J$3+($B23)*7))","v":9},{"$f":"COUNTIFS(tblPosts[poster_id],K$2,tblPosts[post_time],\">=\"&(K$3+($B23-1)*7),tblPosts[post_time],\"<\"&(K$3+($B23)*7))","v":7},{"$f":"COUNTIFS(tblPosts[poster_id],L$2,tblPosts[post_time],\">=\"&(L$3+($B23-1)*7),tblPosts[post_time],\"<\"&(L$3+($B23)*7))","v":0},null,20,64,299,1018,{"$error":"#N/A"},38,63,115,213,96,119,0]
[null,21,{"$f":"COUNTIFS(tblPosts[poster_id],C$2,tblPosts[post_time],\">=\"&(C$3+($B24-1)*7),tblPosts[post_time],\"<\"&(C$3+($B24)*7))","v":15},{"$f":"COUNTIFS(tblPosts[poster_id],D$2,tblPosts[post_time],\">=\"&(D$3+($B24-1)*7),tblPosts[post_time],\"<\"&(D$3+($B24)*7))","v":19},{"$f":"COUNTIFS(tblPosts[poster_id],E$2,tblPosts[post_time],\">=\"&(E$3+($B24-1)*7),tblPosts[post_time],\"<\"&(E$3+($B24)*7))","v":39},{"$f":"COUNTIFS(tblPosts[poster_id],F$2,tblPosts[post_time],\">=\"&(F$3+($B24-1)*7),tblPosts[post_time],\"<\"&(F$3+($B24)*7))","v":0},{"$f":"COUNTIFS(tblPosts[poster_id],G$2,tblPosts[post_time],\">=\"&(G$3+($B24-1)*7),tblPosts[post_time],\"<\"&(G$3+($B24)*7))","v":0},{"$f":"COUNTIFS(tblPosts[poster_id],H$2,tblPosts[post_time],\">=\"&(H$3+($B24-1)*7),tblPosts[post_time],\"<\"&(H$3+($B24)*7))","v":19},{"$f":"COUNTIFS(tblPosts[poster_id],I$2,tblPosts[post_time],\">=\"&(I$3+($B24-1)*7),tblPosts[post_time],\"<\"&(I$3+($B24)*7))","v":2},{"$f":"COUNTIFS(tblPosts[poster_id],J$2,tblPosts[post_time],\">=\"&(J$3+($B24-1)*7),tblPosts[post_time],\"<\"&(J$3+($B24)*7))","v":24},{"$f":"COUNTIFS(tblPosts[poster_id],K$2,tblPosts[post_time],\">=\"&(K$3+($B24-1)*7),tblPosts[post_time],\"<\"&(K$3+($B24)*7))","v":11},{"$f":"COUNTIFS(tblPosts[poster_id],L$2,tblPosts[post_time],\">=\"&(L$3+($B24-1)*7),tblPosts[post_time],\"<\"&(L$3+($B24)*7))","v":3},null,21,79,318,1057,{"$error":"#N/A"},38,82,117,237,107,122,0]
[null,22,{"$f":"COUNTIFS(tblPosts[poster_id],C$2,tblPosts[post_time],\">=\"&(C$3+($B25-1)*7),tblPosts[post_time],\"<\"&(C$3+($B25)*7))","v":15},{"$f":"COUNTIFS(tblPosts[poster_id],D$2,tblPosts[post_time],\">=\"&(D$3+($B25-1)*7),tblPosts[post_time],\"<\"&(D$3+($B25)*7))","v":17},{"$f":"COUNTIFS(tblPosts[poster_id],E$2,tblPosts[post_time],\">=\"&(E$3+($B25-1)*7),tblPosts[post_time],\"<\"&(E$3+($B25)*7))","v":12},{"$f":"COUNTIFS(tblPosts[poster_id],F$2,tblPosts[post_time],\">=\"&(F$3+($B25-1)*7),tblPosts[post_time],\"<\"&(F$3+($B25)*7))","v":0},{"$f":"COUNTIFS(tblPosts[poster_id],G$2,tblPosts[post_time],\">=\"&(G$3+($B25-1)*7),tblPosts[post_time],\"<\"&(G$3+($B25)*7))","v":6},{"$f":"COUNTIFS(tblPosts[poster_id],H$2,tblPosts[post_time],\">=\"&(H$3+($B25-1)*7),tblPosts[post_time],\"<\"&(H$3+($B25)*7))","v":3},{"$f":"COUNTIFS(tblPosts[poster_id],I$2,tblPosts[post_time],\">=\"&(I$3+($B25-1)*7),tblPosts[post_time],\"<\"&(I$3+($B25)*7))","v":3},{"$f":"COUNTIFS(tblPosts[poster_id],J$2,tblPosts[post_time],\">=\"&(J$3+($B25-1)*7),tblPosts[post_time],\"<\"&(J$3+($B25)*7))","v":0},{"$f":"COUNTIFS(tblPosts[poster_id],K$2,tblPosts[post_time],\">=\"&(K$3+($B25-1)*7),tblPosts[post_time],\"<\"&(K$3+($B25)*7))","v":11},{"$f":"COUNTIFS(tblPosts[poster_id],L$2,tblPosts[post_time],\">=\"&(L$3+($B25-1)*7),tblPosts[post_time],\"<\"&(L$3+($B25)*7))","v":0},null,22,94,335,1069,{"$error":"#N/A"},44,85,120,237,118,122,0]
[null,23,{"$f":"COUNTIFS(tblPosts[poster_id],C$2,tblPosts[post_time],\">=\"&(C$3+($B26-1)*7),tblPosts[post_time],\"<\"&(C$3+($B26)*7))","v":2},{"$f":"COUNTIFS(tblPosts[poster_id],D$2,tblPosts[post_time],\">=\"&(D$3+($B26-1)*7),tblPosts[post_time],\"<\"&(D$3+($B26)*7))","v":24},{"$f":"COUNTIFS(tblPosts[poster_id],E$2,tblPosts[post_time],\">=\"&(E$3+($B26-1)*7),tblPosts[post_time],\"<\"&(E$3+($B26)*7))","v":0},{"$f":"COUNTIFS(tblPosts[poster_id],F$2,tblPosts[post_time],\">=\"&(F$3+($B26-1)*7),tblPosts[post_time],\"<\"&(F$3+($B26)*7))","v":0},{"$f":"COUNTIFS(tblPosts[poster_id],G$2,tblPosts[post_time],\">=\"&(G$3+($B26-1)*7),tblPosts[post_time],\"<\"&(G$3+($B26)*7))","v":10},{"$f":"COUNTIFS(tblPosts[poster_id],H$2,tblPosts[post_time],\">=\"&(H$3+($B26-1)*7),tblPosts[post_time],\"<\"&(H$3+($B26)*7))","v":8},{"$f":"COUNTIFS(tblPosts[poster_id],I$2,tblPosts[post_time],\">=\"&(I$3+($B26-1)*7),tblPosts[post_time],\"<\"&(I$3+($B26)*7))","v":1},{"$f":"COUNTIFS(tblPosts[poster_id],J$2,tblPosts[post_time],\">=\"&(J$3+($B26-1)*7),tblPosts[post_time],\"<\"&(J$3+($B26)*7))","v":0},{"$f":"COUNTIFS(tblPosts[poster_id],K$2,tblPosts[post_time],\">=\"&(K$3+($B26-1)*7),tblPosts[post_time],\"<\"&(K$3+($B26)*7))","v":6},{"$f":"COUNTIFS(tblPosts[poster_id],L$2,tblPosts[post_time],\">=\"&(L$3+($B26-1)*7),tblPosts[post_time],\"<\"&(L$3+($B26)*7))","v":2},null,23,96,359,{"$error":"#N/A"},{"$error":"#N/A"},54,93,121,237,124,124,0]
[null,24,{"$f":"COUNTIFS(tblPosts[poster_id],C$2,tblPosts[post_time],\">=\"&(C$3+($B27-1)*7),tblPosts[post_time],\"<\"&(C$3+($B27)*7))","v":22},{"$f":"COUNTIFS(tblPosts[poster_id],D$2,tblPosts[post_time],\">=\"&(D$3+($B27-1)*7),tblPosts[post_time],\"<\"&(D$3+($B27)*7))","v":14},{"$f":"COUNTIFS(tblPosts[poster_id],E$2,tblPosts[post_time],\">=\"&(E$3+($B27-1)*7),tblPosts[post_time],\"<\"&(E$3+($B27)*7))","v":0},{"$f":"COUNTIFS(tblPosts[poster_id],F$2,tblPosts[post_time],\">=\"&(F$3+($B27-1)*7),tblPosts[post_time],\"<\"&(F$3+($B27)*7))","v":0},{"$f":"COUNTIFS(tblPosts[poster_id],G$2,tblPosts[post_time],\">=\"&(G$3+($B27-1)*7),tblPosts[post_time],\"<\"&(G$3+($B27)*7))","v":10},{"$f":"COUNTIFS(tblPosts[poster_id],H$2,tblPosts[post_time],\">=\"&(H$3+($B27-1)*7),tblPosts[post_time],\"<\"&(H$3+($B27)*7))","v":6},{"$f":"COUNTIFS(tblPosts[poster_id],I$2,tblPosts[post_time],\">=\"&(I$3+($B27-1)*7),tblPosts[post_time],\"<\"&(I$3+($B27)*7))","v":5},{"$f":"COUNTIFS(tblPosts[poster_id],J$2,tblPosts[post_time],\">=\"&(J$3+($B27-1)*7),tblPosts[post_time],\"<\"&(J$3+($B27)*7))","v":2},{"$f":"COUNTIFS(tblPosts[poster_id],K$2,tblPosts[post_time],\">=\"&(K$3+($B27-1)*7),tblPosts[post_time],\"<\"&(K$3+($B27)*7))","v":10},{"$f":"COUNTIFS(tblPosts[poster_id],L$2,tblPosts[post_time],\">=\"&(L$3+($B27-1)*7),tblPosts[post_time],\"<\"&(L$3+($B27)*7))","v":0},null,24,118,373,{"$error":"#N/A"},{"$error":"#N/A"},64,99,126,239,134,124,0]
[null,25,{"$f":"COUNTIFS(tblPosts[poster_id],C$2,tblPosts[post_time],\">=\"&(C$3+($B28-1)*7),tblPosts[post_time],\"<\"&(C$3+($B28)*7))","v":27},{"$f":"COUNTIFS(tblPosts[poster_id],D$2,tblPosts[post_time],\">=\"&(D$3+($B28-1)*7),tblPosts[post_time],\"<\"&(D$3+($B28)*7))","v":18},{"$f":"COUNTIFS(tblPosts[poster_id],E$2,tblPosts[post_time],\">=\"&(E$3+($B28-1)*7),tblPosts[post_time],\"<\"&(E$3+($B28)*7))","v":0},{"$f":"COUNTIFS(tblPosts[poster_id],F$2,tblPosts[post_time],\">=\"&(F$3+($B28-1)*7),tblPosts[post_time],\"<\"&(F$3+($B28)*7))","v":0},{"$f":"COUNTIFS(tblPosts[poster_id],G$2,tblPosts[post_time],\">=\"&(G$3+($B28-1)*7),tblPosts[post_time],\"<\"&(G$3+($B28)*7))","v":7},{"$f":"COUNTIFS(tblPosts[poster_id],H$2,tblPosts[post_time],\">=\"&(H$3+($B28-1)*7),tblPosts[post_time],\"<\"&(H$3+($B28)*7))","v":3},{"$f":"COUNTIFS(tblPosts[poster_id],I$2,tblPosts[post_time],\">=\"&(I$3+($B28-1)*7),tblPosts[post_time],\"<\"&(I$3+($B28)*7))","v":5},{"$f":"COUNTIFS(tblPosts[poster_id],J$2,tblPosts[post_time],\">=\"&(J$3+($B28-1)*7),tblPosts[post_time],\"<\"&(J$3+($B28)*7))","v":0},{"$f":"COUNTIFS(tblPosts[poster_id],K$2,tblPosts[post_time],\">=\"&(K$3+($B28-1)*7),tblPosts[post_time],\"<\"&(K$3+($B28)*7))","v":0},{"$f":"COUNTIFS(tblPosts[poster_id],L$2,tblPosts[post_time],\">=\"&(L$3+($B28-1)*7),tblPosts[post_time],\"<\"&(L$3+($B28)*7))","v":0},null,25,145,391,{"$error":"#N/A"},{"$error":"#N/A"},71,102,131,239,134,124,0]
[null,26,{"$f":"COUNTIFS(tblPosts[poster_id],C$2,tblPosts[post_time],\">=\"&(C$3+($B29-1)*7),tblPosts[post_time],\"<\"&(C$3+($B29)*7))","v":21},{"$f":"COUNTIFS(tblPosts[poster_id],D$2,tblPosts[post_time],\">=\"&(D$3+($B29-1)*7),tblPosts[post_time],\"<\"&(D$3+($B29)*7))","v":18},{"$f":"COUNTIFS(tblPosts[poster_id],E$2,tblPosts[post_time],\">=\"&(E$3+($B29-1)*7),tblPosts[post_time],\"<\"&(E$3+($B29)*7))","v":0},{"$f":"COUNTIFS(tblPosts[poster_id],F$2,tblPosts[post_time],\">=\"&(F$3+($B29-1)*7),tblPosts[post_time],\"<\"&(F$3+($B29)*7))","v":0},{"$f":"COUNTIFS(tblPosts[poster_id],G$2,tblPosts[post_time],\">=\"&(G$3+($B29-1)*7),tblPosts[post_time],\"<\"&(G$3+($B29)*7))","v":9},{"$f":"COUNTIFS(tblPosts[poster_id],H$2,tblPosts[post_time],\">=\"&(H$3+($B29-1)*7),tblPosts[post_time],\"<\"&(H$3+($B29)*7))","v":0},{"$f":"COUNTIFS(tblPosts[poster_id],I$2,tblPosts[post_time],\">=\"&(I$3+($B29-1)*7),tblPosts[post_time],\"<\"&(I$3+($B29)*7))","v":7},{"$f":"COUNTIFS(tblPosts[poster_id],J$2,tblPosts[post_time],\">=\"&(J$3+($B29-1)*7),tblPosts[post_time],\"<\"&(J$3+($B29)*7))","v":0},{"$f":"COUNTIFS(tblPosts[poster_id],K$2,tblPosts[post_time],\">=\"&(K$3+($B29-1)*7),tblPosts[post_time],\"<\"&(K$3+($B29)*7))","v":9},{"$f":"COUNTIFS(tblPosts[poster_id],L$2,tblPosts[post_time],\">=\"&(L$3+($B29-1)*7),tblPosts[post_time],\"<\"&(L$3+($B29)*7))","v":0},null,26,166,409,{"$error":"#N/A"},{"$error":"#N/A"},80,102,138,239,143,124,0]
[null,27,{"$f":"COUNTIFS(tblPosts[poster_id],C$2,tblPosts[post_time],\">=\"&(C$3+($B30-1)*7),tblPosts[post_time],\"<\"&(C$3+($B30)*7))","v":7},{"$f":"COUNTIFS(tblPosts[poster_id],D$2,tblPosts[post_time],\">=\"&(D$3+($B30-1)*7),tblPosts[post_time],\"<\"&(D$3+($B30)*7))","v":24},{"$f":"COUNTIFS(tblPosts[poster_id],E$2,tblPosts[post_time],\">=\"&(E$3+($B30-1)*7),tblPosts[post_time],\"<\"&(E$3+($B30)*7))","v":0},{"$f":"COUNTIFS(tblPosts[poster_id],F$2,tblPosts[post_time],\">=\"&(F$3+($B30-1)*7),tblPosts[post_time],\"<\"&(F$3+($B30)*7))","v":0},{"$f":"COUNTIFS(tblPosts[poster_id],G$2,tblPosts[post_time],\">=\"&(G$3+($B30-1)*7),tblPosts[post_time],\"<\"&(G$3+($B30)*7))","v":1},{"$f":"COUNTIFS(tblPosts[poster_id],H$2,tblPosts[post_time],\">=\"&(H$3+($B30-1)*7),tblPosts[post_time],\"<\"&(H$3+($B30)*7))","v":2},{"$f":"COUNTIFS(tblPosts[poster_id],I$2,tblPosts[post_time],\">=\"&(I$3+($B30-1)*7),tblPosts[post_time],\"<\"&(I$3+($B30)*7))","v":2},{"$f":"COUNTIFS(tblPosts[poster_id],J$2,tblPosts[post_time],\">=\"&(J$3+($B30-1)*7),tblPosts[post_time],\"<\"&(J$3+($B30)*7))","v":0},{"$f":"COUNTIFS(tblPosts[poster_id],K$2,tblPosts[post_time],\">=\"&(K$3+($B30-1)*7),tblPosts[post_time],\"<\"&(K$3+($B30)*7))","v":2},{"$f":"COUNTIFS(tblPosts[poster_id],L$2,tblPosts[post_time],\">=\"&(L$3+($B30-1)*7),tblPosts[post_time],\"<\"&(L$3+($B30)*7))","v":0},null,27,173,433,{"$error":"#N/A"},{"$error":"#N/A"},81,104,140,239,145,124,0]
[null,28,{"$f":"COUNTIFS(tblPosts[poster_id],C$2,tblPosts[post_time],\">=\"&(C$3+($B31-1)*7),tblPosts[post_time],\"<\"&(C$3+($B31)*7))","v":15},{"$f":"COUNTIFS(tblPosts[poster_id],D$2,tblPosts[post_time],\">=\"&(D$3+($B31-1)*7),tblPosts[post_time],\"<\"&(D$3+($B31)*7))","v":26},{"$f":"COUNTIFS(tblPosts[poster_id],E$2,tblPosts[post_time],\">=\"&(E$3+($B31-1)*7),tblPosts[post_time],\"<\"&(E$3+($B31)*7))","v":0},{"$f":"COUNTIFS(tblPosts[poster_id],F$2,tblPosts[post_time],\">=\"&(F$3+($B31-1)*7),tblPosts[post_time],\"<\"&(F$3+($B31)*7))","v":0},{"$f":"COUNTIFS(tblPosts[poster_id],G$2,tblPosts[post_time],\">=\"&(G$3+($B31-1)*7),tblPosts[post_time],\"<\"&(G$3+($B31)*7))","v":0},{"$f":"COUNTIFS(tblPosts[poster_id],H$2,tblPosts[post_time],\">=\"&(H$3+($B31-1)*7),tblPosts[post_time],\"<\"&(H$3+($B31)*7))","v":0},{"$f":"COUNTIFS(tblPosts[poster_id],I$2,tblPosts[post_time],\">=\"&(I$3+($B31-1)*7),tblPosts[post_time],\"<\"&(I$3+($B31)*7))","v":1},{"$f":"COUNTIFS(tblPosts[poster_id],J$2,tblPosts[post_time],\">=\"&(J$3+($B31-1)*7),tblPosts[post_time],\"<\"&(J$3+($B31)*7))","v":0},{"$f":"COUNTIFS(tblPosts[poster_id],K$2,tblPosts[post_time],\">=\"&(K$3+($B31-1)*7),tblPosts[post_time],\"<\"&(K$3+($B31)*7))","v":2},{"$f":"COUNTIFS(tblPosts[poster_id],L$2,tblPosts[post_time],\">=\"&(L$3+($B31-1)*7),tblPosts[post_time],\"<\"&(L$3+($B31)*7))","v":0},null,28,188,459,{"$error":"#N/A"},{"$error":"#N/A"},81,104,141,239,147,124,0]
[null,29,{"$f":"COUNTIFS(tblPosts[poster_id],C$2,tblPosts[post_time],\">=\"&(C$3+($B32-1)*7),tblPosts[post_time],\"<\"&(C$3+($B32)*7))","v":7},{"$f":"COUNTIFS(tblPosts[poster_id],D$2,tblPosts[post_time],\">=\"&(D$3+($B32-1)*7),tblPosts[post_time],\"<\"&(D$3+($B32)*7))","v":24},{"$f":"COUNTIFS(tblPosts[poster_id],E$2,tblPosts[post_time],\">=\"&(E$3+($B32-1)*7),tblPosts[post_time],\"<\"&(E$3+($B32)*7))","v":0},{"$f":"COUNTIFS(tblPosts[poster_id],F$2,tblPosts[post_time],\">=\"&(F$3+($B32-1)*7),tblPosts[post_time],\"<\"&(F$3+($B32)*7))","v":0},{"$f":"COUNTIFS(tblPosts[poster_id],G$2,tblPosts[post_time],\">=\"&(G$3+($B32-1)*7),tblPosts[post_time],\"<\"&(G$3+($B32)*7))","v":0},{"$f":"COUNTIFS(tblPosts[poster_id],H$2,tblPosts[post_time],\">=\"&(H$3+($B32-1)*7),tblPosts[post_time],\"<\"&(H$3+($B32)*7))","v":1},{"$f":"COUNTIFS(tblPosts[poster_id],I$2,tblPosts[post_time],\">=\"&(I$3+($B32-1)*7),tblPosts[post_time],\"<\"&(I$3+($B32)*7))","v":2},{"$f":"COUNTIFS(tblPosts[poster_id],J$2,tblPosts[post_time],\">=\"&(J$3+($B32-1)*7),tblPosts[post_time],\"<\"&(J$3+($B32)*7))","v":3},{"$f":"COUNTIFS(tblPosts[poster_id],K$2,tblPosts[post_time],\">=\"&(K$3+($B32-1)*7),tblPosts[post_time],\"<\"&(K$3+($B32)*7))","v":4},{"$f":"COUNTIFS(tblPosts[poster_id],L$2,tblPosts[post_time],\">=\"&(L$3+($B32-1)*7),tblPosts[post_time],\"<\"&(L$3+($B32)*7))","v":0},null,29,195,483,{"$error":"#N/A"},{"$error":"#N/A"},81,105,143,242,151,124,0]
[null,30,{"$f":"COUNTIFS(tblPosts[poster_id],C$2,tblPosts[post_time],\">=\"&(C$3+($B33-1)*7),tblPosts[post_time],\"<\"&(C$3+($B33)*7))","v":18},{"$f":"COUNTIFS(tblPosts[poster_id],D$2,tblPosts[post_time],\">=\"&(D$3+($B33-1)*7),tblPosts[post_time],\"<\"&(D$3+($B33)*7))","v":23},{"$f":"COUNTIFS(tblPosts[poster_id],E$2,tblPosts[post_time],\">=\"&(E$3+($B33-1)*7),tblPosts[post_time],\"<\"&(E$3+($B33)*7))","v":0},{"$f":"COUNTIFS(tblPosts[poster_id],F$2,tblPosts[post_time],\">=\"&(F$3+($B33-1)*7),tblPosts[post_time],\"<\"&(F$3+($B33)*7))","v":0},{"$f":"COUNTIFS(tblPosts[poster_id],G$2,tblPosts[post_time],\">=\"&(G$3+($B33-1)*7),tblPosts[post_time],\"<\"&(G$3+($B33)*7))","v":2},{"$f":"COUNTIFS(tblPosts[poster_id],H$2,tblPosts[post_time],\">=\"&(H$3+($B33-1)*7),tblPosts[post_time],\"<\"&(H$3+($B33)*7))","v":4},{"$f":"COUNTIFS(tblPosts[poster_id],I$2,tblPosts[post_time],\">=\"&(I$3+($B33-1)*7),tblPosts[post_time],\"<\"&(I$3+($B33)*7))","v":4},{"$f":"COUNTIFS(tblPosts[poster_id],J$2,tblPosts[post_time],\">=\"&(J$3+($B33-1)*7),tblPosts[post_time],\"<\"&(J$3+($B33)*7))","v":2},{"$f":"COUNTIFS(tblPosts[poster_id],K$2,tblPosts[post_time],\">=\"&(K$3+($B33-1)*7),tblPosts[post_time],\"<\"&(K$3+($B33)*7))","v":11},{"$f":"COUNTIFS(tblPosts[poster_id],L$2,tblPosts[post_time],\">=\"&(L$3+($B33-1)*7),tblPosts[post_time],\"<\"&(L$3+($B33)*7))","v":0},null,30,213,506,{"$error":"#N/A"},{"$error":"#N/A"},83,109,147,244,162,124,0]
[null,31,{"$f":"COUNTIFS(tblPosts[poster_id],C$2,tblPosts[post_time],\">=\"&(C$3+($B34-1)*7),tblPosts[post_time],\"<\"&(C$3+($B34)*7))","v":18},{"$f":"COUNTIFS(tblPosts[poster_id],D$2,tblPosts[post_time],\">=\"&(D$3+($B34-1)*7),tblPosts[post_time],\"<\"&(D$3+($B34)*7))","v":51},{"$f":"COUNTIFS(tblPosts[poster_id],E$2,tblPosts[post_time],\">=\"&(E$3+($B34-1)*7),tblPosts[post_time],\"<\"&(E$3+($B34)*7))","v":0},{"$f":"COUNTIFS(tblPosts[poster_id],F$2,tblPosts[post_time],\">=\"&(F$3+($B34-1)*7),tblPosts[post_time],\"<\"&(F$3+($B34)*7))","v":0},{"$f":"COUNTIFS(tblPosts[poster_id],G$2,tblPosts[post_time],\">=\"&(G$3+($B34-1)*7),tblPosts[post_time],\"<\"&(G$3+($B34)*7))","v":5},{"$f":"COUNTIFS(tblPosts[poster_id],H$2,tblPosts[post_time],\">=\"&(H$3+($B34-1)*7),tblPosts[post_time],\"<\"&(H$3+($B34)*7))","v":4},{"$f":"COUNTIFS(tblPosts[poster_id],I$2,tblPosts[post_time],\">=\"&(I$3+($B34-1)*7),tblPosts[post_time],\"<\"&(I$3+($B34)*7))","v":0},{"$f":"COUNTIFS(tblPosts[poster_id],J$2,tblPosts[post_time],\">=\"&(J$3+($B34-1)*7),tblPosts[post_time],\"<\"&(J$3+($B34)*7))","v":5},{"$f":"COUNTIFS(tblPosts[poster_id],K$2,tblPosts[post_time],\">=\"&(K$3+($B34-1)*7),tblPosts[post_time],\"<\"&(K$3+($B34)*7))","v":3},{"$f":"COUNTIFS(tblPosts[poster_id],L$2,tblPosts[post_time],\">=\"&(L$3+($B34-1)*7),tblPosts[post_time],\"<\"&(L$3+($B34)*7))","v":0},null,31,231,557,{"$error":"#N/A"},{"$error":"#N/A"},88,113,147,249,165,124,0]
[null,32,{"$f":"COUNTIFS(tblPosts[poster_id],C$2,tblPosts[post_time],\">=\"&(C$3+($B35-1)*7),tblPosts[post_time],\"<\"&(C$3+($B35)*7))","v":5},{"$f":"COUNTIFS(tblPosts[poster_id],D$2,tblPosts[post_time],\">=\"&(D$3+($B35-1)*7),tblPosts[post_time],\"<\"&(D$3+($B35)*7))","v":22},{"$f":"COUNTIFS(tblPosts[poster_id],E$2,tblPosts[post_time],\">=\"&(E$3+($B35-1)*7),tblPosts[post_time],\"<\"&(E$3+($B35)*7))","v":0},{"$f":"COUNTIFS(tblPosts[poster_id],F$2,tblPosts[post_time],\">=\"&(F$3+($B35-1)*7),tblPosts[post_time],\"<\"&(F$3+($B35)*7))","v":0},{"$f":"COUNTIFS(tblPosts[poster_id],G$2,tblPosts[post_time],\">=\"&(G$3+($B35-1)*7),tblPosts[post_time],\"<\"&(G$3+($B35)*7))","v":5},{"$f":"COUNTIFS(tblPosts[poster_id],H$2,tblPosts[post_time],\">=\"&(H$3+($B35-1)*7),tblPosts[post_time],\"<\"&(H$3+($B35)*7))","v":10},{"$f":"COUNTIFS(tblPosts[poster_id],I$2,tblPosts[post_time],\">=\"&(I$3+($B35-1)*7),tblPosts[post_time],\"<\"&(I$3+($B35)*7))","v":1},{"$f":"COUNTIFS(tblPosts[poster_id],J$2,tblPosts[post_time],\">=\"&(J$3+($B35-1)*7),tblPosts[post_time],\"<\"&(J$3+($B35)*7))","v":0},{"$f":"COUNTIFS(tblPosts[poster_id],K$2,tblPosts[post_time],\">=\"&(K$3+($B35-1)*7),tblPosts[post_time],\"<\"&(K$3+($B35)*7))","v":0},{"$f":"COUNTIFS(tblPosts[poster_id],L$2,tblPosts[post_time],\">=\"&(L$3+($B35-1)*7),tblPosts[post_time],\"<\"&(L$3+($B35)*7))","v":0},null,32,236,579,{"$error":"#N/A"},{"$error":"#N/A"},93,123,148,249,165,124,0]
[null,33,{"$f":"COUNTIFS(tblPosts[poster_id],C$2,tblPosts[post_time],\">=\"&(C$3+($B36-1)*7),tblPosts[post_time],\"<\"&(C$3+($B36)*7))","v":10},{"$f":"COUNTIFS(tblPosts[poster_id],D$2,tblPosts[post_time],\">=\"&(D$3+($B36-1)*7),tblPosts[post_time],\"<\"&(D$3+($B36)*7))","v":0},{"$f":"COUNTIFS(tblPosts[poster_id],E$2,tblPosts[post_time],\">=\"&(E$3+($B36-1)*7),tblPosts[post_time],\"<\"&(E$3+($B36)*7))","v":0},{"$f":"COUNTIFS(tblPosts[poster_id],F$2,tblPosts[post_time],\">=\"&(F$3+($B36-1)*7),tblPosts[post_time],\"<\"&(F$3+($B36)*7))","v":0},{"$f":"COUNTIFS(tblPosts[poster_id],G$2,tblPosts[post_time],\">=\"&(G$3+($B36-1)*7),tblPosts[post_time],\"<\"&(G$3+($B36)*7))","v":4},{"$f":"COUNTIFS(tblPosts[poster_id],H$2,tblPosts[post_time],\">=\"&(H$3+($B36-1)*7),tblPosts[post_time],\"<\"&(H$3+($B36)*7))","v":4},{"$f":"COUNTIFS(tblPosts[poster_id],I$2,tblPosts[post_time],\">=\"&(I$3+($B36-1)*7),tblPosts[post_time],\"<\"&(I$3+($B36)*7))","v":0},{"$f":"COUNTIFS(tblPosts[poster_id],J$2,tblPosts[post_time],\">=\"&(J$3+($B36-1)*7),tblPosts[post_time],\"<\"&(J$3+($B36)*7))","v":0},{"$f":"COUNTIFS(tblPosts[poster_id],K$2,tblPosts[post_time],\">=\"&(K$3+($B36-1)*7),tblPosts[post_time],\"<\"&(K$3+($B36)*7))","v":0},{"$f":"COUNTIFS(tblPosts[poster_id],L$2,tblPosts[post_time],\">=\"&(L$3+($B36-1)*7),tblPosts[post_time],\"<\"&(L$3+($B36)*7))","v":3},null,33,246,579,{"$error":"#N/A"},{"$error":"#N/A"},97,127,148,249,165,127,0]
[null,34,{"$f":"COUNTIFS(tblPosts[poster_id],C$2,tblPosts[post_time],\">=\"&(C$3+($B37-1)*7),tblPosts[post_time],\"<\"&(C$3+($B37)*7))","v":14},{"$f":"COUNTIFS(tblPosts[poster_id],D$2,tblPosts[post_time],\">=\"&(D$3+($B37-1)*7),tblPosts[post_time],\"<\"&(D$3+($B37)*7))","v":13},{"$f":"COUNTIFS(tblPosts[poster_id],E$2,tblPosts[post_time],\">=\"&(E$3+($B37-1)*7),tblPosts[post_time],\"<\"&(E$3+($B37)*7))","v":0},{"$f":"COUNTIFS(tblPosts[poster_id],F$2,tblPosts[post_time],\">=\"&(F$3+($B37-1)*7),tblPosts[post_time],\"<\"&(F$3+($B37)*7))","v":0},{"$f":"COUNTIFS(tblPosts[poster_id],G$2,tblPosts[post_time],\">=\"&(G$3+($B37-1)*7),tblPosts[post_time],\"<\"&(G$3+($B37)*7))","v":6},{"$f":"COUNTIFS(tblPosts[poster_id],H$2,tblPosts[post_time],\">=\"&(H$3+($B37-1)*7),tblPosts[post_time],\"<\"&(H$3+($B37)*7))","v":5},{"$f":"COUNTIFS(tblPosts[poster_id],I$2,tblPosts[post_time],\">=\"&(I$3+($B37-1)*7),tblPosts[post_time],\"<\"&(I$3+($B37)*7))","v":1},{"$f":"COUNTIFS(tblPosts[poster_id],J$2,tblPosts[post_time],\">=\"&(J$3+($B37-1)*7),tblPosts[post_time],\"<\"&(J$3+($B37)*7))","v":0},{"$f":"COUNTIFS(tblPosts[poster_id],K$2,tblPosts[post_time],\">=\"&(K$3+($B37-1)*7),tblPosts[post_time],\"<\"&(K$3+($B37)*7))","v":4},{"$f":"COUNTIFS(tblPosts[poster_id],L$2,tblPosts[post_time],\">=\"&(L$3+($B37-1)*7),tblPosts[post_time],\"<\"&(L$3+($B37)*7))","v":0},null,34,{"$f":"IF(C$3+$B36*7>dumpDate,NA(),O36+C37)","v":260},{"$f":"IF(D$3+$B36*7>dumpDate,NA(),P36+D37)","v":592},{"$f":"IF(E$3+$B36*7>dumpDate,NA(),Q36+E37)","v":{"$error":"#N/A"}},{"$f":"IF(F$3+$B36*7>dumpDate,NA(),R36+F37)","v":{"$error":"#N/A"}},{"$f":"IF(G$3+$B36*7>dumpDate,NA(),S36+G37)","v":103},{"$f":"IF(H$3+$B36*7>dumpDate,NA(),T36+H37)","v":132},{"$f":"IF(I$3+$B36*7>dumpDate,NA(),U36+I37)","v":149},{"$f":"IF(J$3+$B36*7>dumpDate,NA(),V36+J37)","v":249},{"$f":"IF(K$3+$B36*7>dumpDate,NA(),W36+K37)","v":169},{"$f":"IF(L$3+$B36*7>dumpDate,NA(),X36+L37)","v":127},0]
[null,35,{"$f":"COUNTIFS(tblPosts[poster_id],C$2,tblPosts[post_time],\">=\"&(C$3+($B38-1)*7),tblPosts[post_time],\"<\"&(C$3+($B38)*7))","v":30},{"$f":"COUNTIFS(tblPosts[poster_id],D$2,tblPosts[post_time],\">=\"&(D$3+($B38-1)*7),tblPosts[post_time],\"<\"&(D$3+($B38)*7))","v":23},{"$f":"COUNTIFS(tblPosts[poster_id],E$2,tblPosts[post_time],\">=\"&(E$3+($B38-1)*7),tblPosts[post_time],\"<\"&(E$3+($B38)*7))","v":0},{"$f":"COUNTIFS(tblPosts[poster_id],F$2,tblPosts[post_time],\">=\"&(F$3+($B38-1)*7),tblPosts[post_time],\"<\"&(F$3+($B38)*7))","v":0},{"$f":"COUNTIFS(tblPosts[poster_id],G$2,tblPosts[post_time],\">=\"&(G$3+($B38-1)*7),tblPosts[post_time],\"<\"&(G$3+($B38)*7))","v":7},{"$f":"COUNTIFS(tblPosts[poster_id],H$2,tblPosts[post_time],\">=\"&(H$3+($B38-1)*7),tblPosts[post_time],\"<\"&(H$3+($B38)*7))","v":19},{"$f":"COUNTIFS(tblPosts[poster_id],I$2,tblPosts[post_time],\">=\"&(I$3+($B38-1)*7),tblPosts[post_time],\"<\"&(I$3+($B38)*7))","v":1},{"$f":"COUNTIFS(tblPosts[poster_id],J$2,tblPosts[post_time],\">=\"&(J$3+($B38-1)*7),tblPosts[post_time],\"<\"&(J$3+($B38)*7))","v":0},{"$f":"COUNTIFS(tblPosts[poster_id],K$2,tblPosts[post_time],\">=\"&(K$3+($B38-1)*7),tblPosts[post_time],\"<\"&(K$3+($B38)*7))","v":6},{"$f":"COUNTIFS(tblPosts[poster_id],L$2,tblPosts[post_time],\">=\"&(L$3+($B38-1)*7),tblPosts[post_time],\"<\"&(L$3+($B38)*7))","v":0},null,35,290,615,{"$error":"#N/A"},{"$error":"#N/A"},110,151,150,249,175,127,0]
[null,36,{"$f":"COUNTIFS(tblPosts[poster_id],C$2,tblPosts[post_time],\">=\"&(C$3+($B39-1)*7),tblPosts[post_time],\"<\"&(C$3+($B39)*7))","v":12},{"$f":"COUNTIFS(tblPosts[poster_id],D$2,tblPosts[post_time],\">=\"&(D$3+($B39-1)*7),tblPosts[post_time],\"<\"&(D$3+($B39)*7))","v":22},{"$f":"COUNTIFS(tblPosts[poster_id],E$2,tblPosts[post_time],\">=\"&(E$3+($B39-1)*7),tblPosts[post_time],\"<\"&(E$3+($B39)*7))","v":0},{"$f":"COUNTIFS(tblPosts[poster_id],F$2,tblPosts[post_time],\">=\"&(F$3+($B39-1)*7),tblPosts[post_time],\"<\"&(F$3+($B39)*7))","v":0},{"$f":"COUNTIFS(tblPosts[poster_id],G$2,tblPosts[post_time],\">=\"&(G$3+($B39-1)*7),tblPosts[post_time],\"<\"&(G$3+($B39)*7))","v":8},{"$f":"COUNTIFS(tblPosts[poster_id],H$2,tblPosts[post_time],\">=\"&(H$3+($B39-1)*7),tblPosts[post_time],\"<\"&(H$3+($B39)*7))","v":7},{"$f":"COUNTIFS(tblPosts[poster_id],I$2,tblPosts[post_time],\">=\"&(I$3+($B39-1)*7),tblPosts[post_time],\"<\"&(I$3+($B39)*7))","v":2},{"$f":"COUNTIFS(tblPosts[poster_id],J$2,tblPosts[post_time],\">=\"&(J$3+($B39-1)*7),tblPosts[post_time],\"<\"&(J$3+($B39)*7))","v":7},{"$f":"COUNTIFS(tblPosts[poster_id],K$2,tblPosts[post_time],\">=\"&(K$3+($B39-1)*7),tblPosts[post_time],\"<\"&(K$3+($B39)*7))","v":1},{"$f":"COUNTIFS(tblPosts[poster_id],L$2,tblPosts[post_time],\">=\"&(L$3+($B39-1)*7),tblPosts[post_time],\"<\"&(L$3+($B39)*7))","v":9},null,36,302,637,{"$error":"#N/A"},{"$error":"#N/A"},118,158,152,256,176,136,0]
[null,37,{"$f":"COUNTIFS(tblPosts[poster_id],C$2,tblPosts[post_time],\">=\"&(C$3+($B40-1)*7),tblPosts[post_time],\"<\"&(C$3+($B40)*7))","v":23},{"$f":"COUNTIFS(tblPosts[poster_id],D$2,tblPosts[post_time],\">=\"&(D$3+($B40-1)*7),tblPosts[post_time],\"<\"&(D$3+($B40)*7))","v":12},{"$f":"COUNTIFS(tblPosts[poster_id],E$2,tblPosts[post_time],\">=\"&(E$3+($B40-1)*7),tblPosts[post_time],\"<\"&(E$3+($B40)*7))","v":0},{"$f":"COUNTIFS(tblPosts[poster_id],F$2,tblPosts[post_time],\">=\"&(F$3+($B40-1)*7),tblPosts[post_time],\"<\"&(F$3+($B40)*7))","v":0},{"$f":"COUNTIFS(tblPosts[poster_id],G$2,tblPosts[post_time],\">=\"&(G$3+($B40-1)*7),tblPosts[post_time],\"<\"&(G$3+($B40)*7))","v":9},{"$f":"COUNTIFS(tblPosts[poster_id],H$2,tblPosts[post_time],\">=\"&(H$3+($B40-1)*7),tblPosts[post_time],\"<\"&(H$3+($B40)*7))","v":1},{"$f":"COUNTIFS(tblPosts[poster_id],I$2,tblPosts[post_time],\">=\"&(I$3+($B40-1)*7),tblPosts[post_time],\"<\"&(I$3+($B40)*7))","v":1},{"$f":"COUNTIFS(tblPosts[poster_id],J$2,tblPosts[post_time],\">=\"&(J$3+($B40-1)*7),tblPosts[post_time],\"<\"&(J$3+($B40)*7))","v":9},{"$f":"COUNTIFS(tblPosts[poster_id],K$2,tblPosts[post_time],\">=\"&(K$3+($B40-1)*7),tblPosts[post_time],\"<\"&(K$3+($B40)*7))","v":0},{"$f":"COUNTIFS(tblPosts[poster_id],L$2,tblPosts[post_time],\">=\"&(L$3+($B40-1)*7),tblPosts[post_time],\"<\"&(L$3+($B40)*7))","v":17},null,37,325,649,{"$error":"#N/A"},{"$error":"#N/A"},127,159,153,265,176,153,0]
[null,38,{"$f":"COUNTIFS(tblPosts[poster_id],C$2,tblPosts[post_time],\">=\"&(C$3+($B41-1)*7),tblPosts[post_time],\"<\"&(C$3+($B41)*7))","v":18},{"$f":"COUNTIFS(tblPosts[poster_id],D$2,tblPosts[post_time],\">=\"&(D$3+($B41-1)*7),tblPosts[post_time],\"<\"&(D$3+($B41)*7))","v":17},{"$f":"COUNTIFS(tblPosts[poster_id],E$2,tblPosts[post_time],\">=\"&(E$3+($B41-1)*7),tblPosts[post_time],\"<\"&(E$3+($B41)*7))","v":0},{"$f":"COUNTIFS(tblPosts[poster_id],F$2,tblPosts[post_time],\">=\"&(F$3+($B41-1)*7),tblPosts[post_time],\"<\"&(F$3+($B41)*7))","v":0},{"$f":"COUNTIFS(tblPosts[poster_id],G$2,tblPosts[post_time],\">=\"&(G$3+($B41-1)*7),tblPosts[post_time],\"<\"&(G$3+($B41)*7))","v":6},{"$f":"COUNTIFS(tblPosts[poster_id],H$2,tblPosts[post_time],\">=\"&(H$3+($B41-1)*7),tblPosts[post_time],\"<\"&(H$3+($B41)*7))","v":4},{"$f":"COUNTIFS(tblPosts[poster_id],I$2,tblPosts[post_time],\">=\"&(I$3+($B41-1)*7),tblPosts[post_time],\"<\"&(I$3+($B41)*7))","v":3},{"$f":"COUNTIFS(tblPosts[poster_id],J$2,tblPosts[post_time],\">=\"&(J$3+($B41-1)*7),tblPosts[post_time],\"<\"&(J$3+($B41)*7))","v":2},{"$f":"COUNTIFS(tblPosts[poster_id],K$2,tblPosts[post_time],\">=\"&(K$3+($B41-1)*7),tblPosts[post_time],\"<\"&(K$3+($B41)*7))","v":3},{"$f":"COUNTIFS(tblPosts[poster_id],L$2,tblPosts[post_time],\">=\"&(L$3+($B41-1)*7),tblPosts[post_time],\"<\"&(L$3+($B41)*7))","v":6},null,38,343,666,{"$error":"#N/A"},{"$error":"#N/A"},133,163,156,267,179,159,0]
[null,39,{"$f":"COUNTIFS(tblPosts[poster_id],C$2,tblPosts[post_time],\">=\"&(C$3+($B42-1)*7),tblPosts[post_time],\"<\"&(C$3+($B42)*7))","v":18},{"$f":"COUNTIFS(tblPosts[poster_id],D$2,tblPosts[post_time],\">=\"&(D$3+($B42-1)*7),tblPosts[post_time],\"<\"&(D$3+($B42)*7))","v":39},{"$f":"COUNTIFS(tblPosts[poster_id],E$2,tblPosts[post_time],\">=\"&(E$3+($B42-1)*7),tblPosts[post_time],\"<\"&(E$3+($B42)*7))","v":0},{"$f":"COUNTIFS(tblPosts[poster_id],F$2,tblPosts[post_time],\">=\"&(F$3+($B42-1)*7),tblPosts[post_time],\"<\"&(F$3+($B42)*7))","v":0},{"$f":"COUNTIFS(tblPosts[poster_id],G$2,tblPosts[post_time],\">=\"&(G$3+($B42-1)*7),tblPosts[post_time],\"<\"&(G$3+($B42)*7))","v":18},{"$f":"COUNTIFS(tblPosts[poster_id],H$2,tblPosts[post_time],\">=\"&(H$3+($B42-1)*7),tblPosts[post_time],\"<\"&(H$3+($B42)*7))","v":11},{"$f":"COUNTIFS(tblPosts[poster_id],I$2,tblPosts[post_time],\">=\"&(I$3+($B42-1)*7),tblPosts[post_time],\"<\"&(I$3+($B42)*7))","v":4},{"$f":"COUNTIFS(tblPosts[poster_id],J$2,tblPosts[post_time],\">=\"&(J$3+($B42-1)*7),tblPosts[post_time],\"<\"&(J$3+($B42)*7))","v":3},{"$f":"COUNTIFS(tblPosts[poster_id],K$2,tblPosts[post_time],\">=\"&(K$3+($B42-1)*7),tblPosts[post_time],\"<\"&(K$3+($B42)*7))","v":0},{"$f":"COUNTIFS(tblPosts[poster_id],L$2,tblPosts[post_time],\">=\"&(L$3+($B42-1)*7),tblPosts[post_time],\"<\"&(L$3+($B42)*7))","v":0},null,39,361,705,{"$error":"#N/A"},{"$error":"#N/A"},151,174,160,270,179,159,0]
[null,40,{"$f":"COUNTIFS(tblPosts[poster_id],C$2,tblPosts[post_time],\">=\"&(C$3+($B43-1)*7),tblPosts[post_time],\"<\"&(C$3+($B43)*7))","v":8},{"$f":"COUNTIFS(tblPosts[poster_id],D$2,tblPosts[post_time],\">=\"&(D$3+($B43-1)*7),tblPosts[post_time],\"<\"&(D$3+($B43)*7))","v":37},{"$f":"COUNTIFS(tblPosts[poster_id],E$2,tblPosts[post_time],\">=\"&(E$3+($B43-1)*7),tblPosts[post_time],\"<\"&(E$3+($B43)*7))","v":0},{"$f":"COUNTIFS(tblPosts[poster_id],F$2,tblPosts[post_time],\">=\"&(F$3+($B43-1)*7),tblPosts[post_time],\"<\"&(F$3+($B43)*7))","v":0},{"$f":"COUNTIFS(tblPosts[poster_id],G$2,tblPosts[post_time],\">=\"&(G$3+($B43-1)*7),tblPosts[post_time],\"<\"&(G$3+($B43)*7))","v":13},{"$f":"COUNTIFS(tblPosts[poster_id],H$2,tblPosts[post_time],\">=\"&(H$3+($B43-1)*7),tblPosts[post_time],\"<\"&(H$3+($B43)*7))","v":4},{"$f":"COUNTIFS(tblPosts[poster_id],I$2,tblPosts[post_time],\">=\"&(I$3+($B43-1)*7),tblPosts[post_time],\"<\"&(I$3+($B43)*7))","v":3},{"$f":"COUNTIFS(tblPosts[poster_id],J$2,tblPosts[post_time],\">=\"&(J$3+($B43-1)*7),tblPosts[post_time],\"<\"&(J$3+($B43)*7))","v":11},{"$f":"COUNTIFS(tblPosts[poster_id],K$2,tblPosts[post_time],\">=\"&(K$3+($B43-1)*7),tblPosts[post_time],\"<\"&(K$3+($B43)*7))","v":0},{"$f":"COUNTIFS(tblPosts[poster_id],L$2,tblPosts[post_time],\">=\"&(L$3+($B43-1)*7),tblPosts[post_time],\"<\"&(L$3+($B43)*7))","v":4},null,40,369,742,{"$error":"#N/A"},{"$error":"#N/A"},164,178,163,281,179,163,0]
[null,41,{"$f":"COUNTIFS(tblPosts[poster_id],C$2,tblPosts[post_time],\">=\"&(C$3+($B44-1)*7),tblPosts[post_time],\"<\"&(C$3+($B44)*7))","v":12},{"$f":"COUNTIFS(tblPosts[poster_id],D$2,tblPosts[post_time],\">=\"&(D$3+($B44-1)*7),tblPosts[post_time],\"<\"&(D$3+($B44)*7))","v":24},{"$f":"COUNTIFS(tblPosts[poster_id],E$2,tblPosts[post_time],\">=\"&(E$3+($B44-1)*7),tblPosts[post_time],\"<\"&(E$3+($B44)*7))","v":0},{"$f":"COUNTIFS(tblPosts[poster_id],F$2,tblPosts[post_time],\">=\"&(F$3+($B44-1)*7),tblPosts[post_time],\"<\"&(F$3+($B44)*7))","v":0},{"$f":"COUNTIFS(tblPosts[poster_id],G$2,tblPosts[post_time],\">=\"&(G$3+($B44-1)*7),tblPosts[post_time],\"<\"&(G$3+($B44)*7))","v":5},{"$f":"COUNTIFS(tblPosts[poster_id],H$2,tblPosts[post_time],\">=\"&(H$3+($B44-1)*7),tblPosts[post_time],\"<\"&(H$3+($B44)*7))","v":2},{"$f":"COUNTIFS(tblPosts[poster_id],I$2,tblPosts[post_time],\">=\"&(I$3+($B44-1)*7),tblPosts[post_time],\"<\"&(I$3+($B44)*7))","v":4},{"$f":"COUNTIFS(tblPosts[poster_id],J$2,tblPosts[post_time],\">=\"&(J$3+($B44-1)*7),tblPosts[post_time],\"<\"&(J$3+($B44)*7))","v":9},{"$f":"COUNTIFS(tblPosts[poster_id],K$2,tblPosts[post_time],\">=\"&(K$3+($B44-1)*7),tblPosts[post_time],\"<\"&(K$3+($B44)*7))","v":0},{"$f":"COUNTIFS(tblPosts[poster_id],L$2,tblPosts[post_time],\">=\"&(L$3+($B44-1)*7),tblPosts[post_time],\"<\"&(L$3+($B44)*7))","v":1},null,41,381,766,{"$error":"#N/A"},{"$error":"#N/A"},169,180,167,290,179,164,0]
[null,42,{"$f":"COUNTIFS(tblPosts[poster_id],C$2,tblPosts[post_time],\">=\"&(C$3+($B45-1)*7),tblPosts[post_time],\"<\"&(C$3+($B45)*7))","v":16},{"$f":"COUNTIFS(tblPosts[poster_id],D$2,tblPosts[post_time],\">=\"&(D$3+($B45-1)*7),tblPosts[post_time],\"<\"&(D$3+($B45)*7))","v":7},{"$f":"COUNTIFS(tblPosts[poster_id],E$2,tblPosts[post_time],\">=\"&(E$3+($B45-1)*7),tblPosts[post_time],\"<\"&(E$3+($B45)*7))","v":0},{"$f":"COUNTIFS(tblPosts[poster_id],F$2,tblPosts[post_time],\">=\"&(F$3+($B45-1)*7),tblPosts[post_time],\"<\"&(F$3+($B45)*7))","v":0},{"$f":"COUNTIFS(tblPosts[poster_id],G$2,tblPosts[post_time],\">=\"&(G$3+($B45-1)*7),tblPosts[post_time],\"<\"&(G$3+($B45)*7))","v":4},{"$f":"COUNTIFS(tblPosts[poster_id],H$2,tblPosts[post_time],\">=\"&(H$3+($B45-1)*7),tblPosts[post_time],\"<\"&(H$3+($B45)*7))","v":3},{"$f":"COUNTIFS(tblPosts[poster_id],I$2,tblPosts[post_time],\">=\"&(I$3+($B45-1)*7),tblPosts[post_time],\"<\"&(I$3+($B45)*7))","v":1},{"$f":"COUNTIFS(tblPosts[poster_id],J$2,tblPosts[post_time],\">=\"&(J$3+($B45-1)*7),tblPosts[post_time],\"<\"&(J$3+($B45)*7))","v":5},{"$f":"COUNTIFS(tblPosts[poster_id],K$2,tblPosts[post_time],\">=\"&(K$3+($B45-1)*7),tblPosts[post_time],\"<\"&(K$3+($B45)*7))","v":0},{"$f":"COUNTIFS(tblPosts[poster_id],L$2,tblPosts[post_time],\">=\"&(L$3+($B45-1)*7),tblPosts[post_time],\"<\"&(L$3+($B45)*7))","v":0},null,42,397,773,{"$error":"#N/A"},{"$error":"#N/A"},173,183,168,295,179,164,0]
[null,43,{"$f":"COUNTIFS(tblPosts[poster_id],C$2,tblPosts[post_time],\">=\"&(C$3+($B46-1)*7),tblPosts[post_time],\"<\"&(C$3+($B46)*7))","v":14},{"$f":"COUNTIFS(tblPosts[poster_id],D$2,tblPosts[post_time],\">=\"&(D$3+($B46-1)*7),tblPosts[post_time],\"<\"&(D$3+($B46)*7))","v":24},{"$f":"COUNTIFS(tblPosts[poster_id],E$2,tblPosts[post_time],\">=\"&(E$3+($B46-1)*7),tblPosts[post_time],\"<\"&(E$3+($B46)*7))","v":0},{"$f":"COUNTIFS(tblPosts[poster_id],F$2,tblPosts[post_time],\">=\"&(F$3+($B46-1)*7),tblPosts[post_time],\"<\"&(F$3+($B46)*7))","v":0},{"$f":"COUNTIFS(tblPosts[poster_id],G$2,tblPosts[post_time],\">=\"&(G$3+($B46-1)*7),tblPosts[post_time],\"<\"&(G$3+($B46)*7))","v":9},{"$f":"COUNTIFS(tblPosts[poster_id],H$2,tblPosts[post_time],\">=\"&(H$3+($B46-1)*7),tblPosts[post_time],\"<\"&(H$3+($B46)*7))","v":2},{"$f":"COUNTIFS(tblPosts[poster_id],I$2,tblPosts[post_time],\">=\"&(I$3+($B46-1)*7),tblPosts[post_time],\"<\"&(I$3+($B46)*7))","v":0},{"$f":"COUNTIFS(tblPosts[poster_id],J$2,tblPosts[post_time],\">=\"&(J$3+($B46-1)*7),tblPosts[post_time],\"<\"&(J$3+($B46)*7))","v":3},{"$f":"COUNTIFS(tblPosts[poster_id],K$2,tblPosts[post_time],\">=\"&(K$3+($B46-1)*7),tblPosts[post_time],\"<\"&(K$3+($B46)*7))","v":0},{"$f":"COUNTIFS(tblPosts[poster_id],L$2,tblPosts[post_time],\">=\"&(L$3+($B46-1)*7),tblPosts[post_time],\"<\"&(L$3+($B46)*7))","v":9},null,43,411,797,{"$error":"#N/A"},{"$error":"#N/A"},182,185,168,298,179,173,0]
[null,44,{"$f":"COUNTIFS(tblPosts[poster_id],C$2,tblPosts[post_time],\">=\"&(C$3+($B47-1)*7),tblPosts[post_time],\"<\"&(C$3+($B47)*7))","v":13},{"$f":"COUNTIFS(tblPosts[poster_id],D$2,tblPosts[post_time],\">=\"&(D$3+($B47-1)*7),tblPosts[post_time],\"<\"&(D$3+($B47)*7))","v":30},{"$f":"COUNTIFS(tblPosts[poster_id],E$2,tblPosts[post_time],\">=\"&(E$3+($B47-1)*7),tblPosts[post_time],\"<\"&(E$3+($B47)*7))","v":0},{"$f":"COUNTIFS(tblPosts[poster_id],F$2,tblPosts[post_time],\">=\"&(F$3+($B47-1)*7),tblPosts[post_time],\"<\"&(F$3+($B47)*7))","v":0},{"$f":"COUNTIFS(tblPosts[poster_id],G$2,tblPosts[post_time],\">=\"&(G$3+($B47-1)*7),tblPosts[post_time],\"<\"&(G$3+($B47)*7))","v":0},{"$f":"COUNTIFS(tblPosts[poster_id],H$2,tblPosts[post_time],\">=\"&(H$3+($B47-1)*7),tblPosts[post_time],\"<\"&(H$3+($B47)*7))","v":0},{"$f":"COUNTIFS(tblPosts[poster_id],I$2,tblPosts[post_time],\">=\"&(I$3+($B47-1)*7),tblPosts[post_time],\"<\"&(I$3+($B47)*7))","v":7},{"$f":"COUNTIFS(tblPosts[poster_id],J$2,tblPosts[post_time],\">=\"&(J$3+($B47-1)*7),tblPosts[post_time],\"<\"&(J$3+($B47)*7))","v":1},{"$f":"COUNTIFS(tblPosts[poster_id],K$2,tblPosts[post_time],\">=\"&(K$3+($B47-1)*7),tblPosts[post_time],\"<\"&(K$3+($B47)*7))","v":0},{"$f":"COUNTIFS(tblPosts[poster_id],L$2,tblPosts[post_time],\">=\"&(L$3+($B47-1)*7),tblPosts[post_time],\"<\"&(L$3+($B47)*7))","v":1},null,44,424,827,{"$error":"#N/A"},{"$error":"#N/A"},182,185,175,299,179,174,0]
[null,45,{"$f":"COUNTIFS(tblPosts[poster_id],C$2,tblPosts[post_time],\">=\"&(C$3+($B48-1)*7),tblPosts[post_time],\"<\"&(C$3+($B48)*7))","v":21},{"$f":"COUNTIFS(tblPosts[poster_id],D$2,tblPosts[post_time],\">=\"&(D$3+($B48-1)*7),tblPosts[post_time],\"<\"&(D$3+($B48)*7))","v":29},{"$f":"COUNTIFS(tblPosts[poster_id],E$2,tblPosts[post_time],\">=\"&(E$3+($B48-1)*7),tblPosts[post_time],\"<\"&(E$3+($B48)*7))","v":0},{"$f":"COUNTIFS(tblPosts[poster_id],F$2,tblPosts[post_time],\">=\"&(F$3+($B48-1)*7),tblPosts[post_time],\"<\"&(F$3+($B48)*7))","v":0},{"$f":"COUNTIFS(tblPosts[poster_id],G$2,tblPosts[post_time],\">=\"&(G$3+($B48-1)*7),tblPosts[post_time],\"<\"&(G$3+($B48)*7))","v":2},{"$f":"COUNTIFS(tblPosts[poster_id],H$2,tblPosts[post_time],\">=\"&(H$3+($B48-1)*7),tblPosts[post_time],\"<\"&(H$3+($B48)*7))","v":1},{"$f":"COUNTIFS(tblPosts[poster_id],I$2,tblPosts[post_time],\">=\"&(I$3+($B48-1)*7),tblPosts[post_time],\"<\"&(I$3+($B48)*7))","v":2},{"$f":"COUNTIFS(tblPosts[poster_id],J$2,tblPosts[post_time],\">=\"&(J$3+($B48-1)*7),tblPosts[post_time],\"<\"&(J$3+($B48)*7))","v":0},{"$f":"COUNTIFS(tblPosts[poster_id],K$2,tblPosts[post_time],\">=\"&(K$3+($B48-1)*7),tblPosts[post_time],\"<\"&(K$3+($B48)*7))","v":0},{"$f":"COUNTIFS(tblPosts[poster_id],L$2,tblPosts[post_time],\">=\"&(L$3+($B48-1)*7),tblPosts[post_time],\"<\"&(L$3+($B48)*7))","v":6},null,45,445,856,{"$error":"#N/A"},{"$error":"#N/A"},184,186,177,299,179,180,0]
[null,46,{"$f":"COUNTIFS(tblPosts[poster_id],C$2,tblPosts[post_time],\">=\"&(C$3+($B49-1)*7),tblPosts[post_time],\"<\"&(C$3+($B49)*7))","v":17},{"$f":"COUNTIFS(tblPosts[poster_id],D$2,tblPosts[post_time],\">=\"&(D$3+($B49-1)*7),tblPosts[post_time],\"<\"&(D$3+($B49)*7))","v":63},{"$f":"COUNTIFS(tblPosts[poster_id],E$2,tblPosts[post_time],\">=\"&(E$3+($B49-1)*7),tblPosts[post_time],\"<\"&(E$3+($B49)*7))","v":0},{"$f":"COUNTIFS(tblPosts[poster_id],F$2,tblPosts[post_time],\">=\"&(F$3+($B49-1)*7),tblPosts[post_time],\"<\"&(F$3+($B49)*7))","v":0},{"$f":"COUNTIFS(tblPosts[poster_id],G$2,tblPosts[post_time],\">=\"&(G$3+($B49-1)*7),tblPosts[post_time],\"<\"&(G$3+($B49)*7))","v":3},{"$f":"COUNTIFS(tblPosts[poster_id],H$2,tblPosts[post_time],\">=\"&(H$3+($B49-1)*7),tblPosts[post_time],\"<\"&(H$3+($B49)*7))","v":6},{"$f":"COUNTIFS(tblPosts[poster_id],I$2,tblPosts[post_time],\">=\"&(I$3+($B49-1)*7),tblPosts[post_time],\"<\"&(I$3+($B49)*7))","v":5},{"$f":"COUNTIFS(tblPosts[poster_id],J$2,tblPosts[post_time],\">=\"&(J$3+($B49-1)*7),tblPosts[post_time],\"<\"&(J$3+($B49)*7))","v":0},{"$f":"COUNTIFS(tblPosts[poster_id],K$2,tblPosts[post_time],\">=\"&(K$3+($B49-1)*7),tblPosts[post_time],\"<\"&(K$3+($B49)*7))","v":11},{"$f":"COUNTIFS(tblPosts[poster_id],L$2,tblPosts[post_time],\">=\"&(L$3+($B49-1)*7),tblPosts[post_time],\"<\"&(L$3+($B49)*7))","v":15},null,46,462,919,{"$error":"#N/A"},{"$error":"#N/A"},187,192,182,299,190,195,0]
[null,47,{"$f":"COUNTIFS(tblPosts[poster_id],C$2,tblPosts[post_time],\">=\"&(C$3+($B50-1)*7),tblPosts[post_time],\"<\"&(C$3+($B50)*7))","v":28},{"$f":"COUNTIFS(tblPosts[poster_id],D$2,tblPosts[post_time],\">=\"&(D$3+($B50-1)*7),tblPosts[post_time],\"<\"&(D$3+($B50)*7))","v":38},{"$f":"COUNTIFS(tblPosts[poster_id],E$2,tblPosts[post_time],\">=\"&(E$3+($B50-1)*7),tblPosts[post_time],\"<\"&(E$3+($B50)*7))","v":0},{"$f":"COUNTIFS(tblPosts[poster_id],F$2,tblPosts[post_time],\">=\"&(F$3+($B50-1)*7),tblPosts[post_time],\"<\"&(F$3+($B50)*7))","v":0},{"$f":"COUNTIFS(tblPosts[poster_id],G$2,tblPosts[post_time],\">=\"&(G$3+($B50-1)*7),tblPosts[post_time],\"<\"&(G$3+($B50)*7))","v":6},{"$f":"COUNTIFS(tblPosts[poster_id],H$2,tblPosts[post_time],\">=\"&(H$3+($B50-1)*7),tblPosts[post_time],\"<\"&(H$3+($B50)*7))","v":30},{"$f":"COUNTIFS(tblPosts[poster_id],I$2,tblPosts[post_time],\">=\"&(I$3+($B50-1)*7),tblPosts[post_time],\"<\"&(I$3+($B50)*7))","v":8},{"$f":"COUNTIFS(tblPosts[poster_id],J$2,tblPosts[post_time],\">=\"&(J$3+($B50-1)*7),tblPosts[post_time],\"<\"&(J$3+($B50)*7))","v":7},{"$f":"COUNTIFS(tblPosts[poster_id],K$2,tblPosts[post_time],\">=\"&(K$3+($B50-1)*7),tblPosts[post_time],\"<\"&(K$3+($B50)*7))","v":0},{"$f":"COUNTIFS(tblPosts[poster_id],L$2,tblPosts[post_time],\">=\"&(L$3+($B50-1)*7),tblPosts[post_time],\"<\"&(L$3+($B50)*7))","v":16},null,47,490,957,{"$error":"#N/A"},{"$error":"#N/A"},193,222,190,306,190,211,0]
[null,48,{"$f":"COUNTIFS(tblPosts[poster_id],C$2,tblPosts[post_time],\">=\"&(C$3+($B51-1)*7),tblPosts[post_time],\"<\"&(C$3+($B51)*7))","v":11},{"$f":"COUNTIFS(tblPosts[poster_id],D$2,tblPosts[post_time],\">=\"&(D$3+($B51-1)*7),tblPosts[post_time],\"<\"&(D$3+($B51)*7))","v":25},{"$f":"COUNTIFS(tblPosts[poster_id],E$2,tblPosts[post_time],\">=\"&(E$3+($B51-1)*7),tblPosts[post_time],\"<\"&(E$3+($B51)*7))","v":0},{"$f":"COUNTIFS(tblPosts[poster_id],F$2,tblPosts[post_time],\">=\"&(F$3+($B51-1)*7),tblPosts[post_time],\"<\"&(F$3+($B51)*7))","v":0},{"$f":"COUNTIFS(tblPosts[poster_id],G$2,tblPosts[post_time],\">=\"&(G$3+($B51-1)*7),tblPosts[post_time],\"<\"&(G$3+($B51)*7))","v":1},{"$f":"COUNTIFS(tblPosts[poster_id],H$2,tblPosts[post_time],\">=\"&(H$3+($B51-1)*7),tblPosts[post_time],\"<\"&(H$3+($B51)*7))","v":9},{"$f":"COUNTIFS(tblPosts[poster_id],I$2,tblPosts[post_time],\">=\"&(I$3+($B51-1)*7),tblPosts[post_time],\"<\"&(I$3+($B51)*7))","v":3},{"$f":"COUNTIFS(tblPosts[poster_id],J$2,tblPosts[post_time],\">=\"&(J$3+($B51-1)*7),tblPosts[post_time],\"<\"&(J$3+($B51)*7))","v":3},{"$f":"COUNTIFS(tblPosts[poster_id],K$2,tblPosts[post_time],\">=\"&(K$3+($B51-1)*7),tblPosts[post_time],\"<\"&(K$3+($B51)*7))","v":5},{"$f":"COUNTIFS(tblPosts[poster_id],L$2,tblPosts[post_time],\">=\"&(L$3+($B51-1)*7),tblPosts[post_time],\"<\"&(L$3+($B51)*7))","v":1},null,48,501,982,{"$error":"#N/A"},{"$error":"#N/A"},194,231,193,309,195,212,0]
[null,49,{"$f":"COUNTIFS(tblPosts[poster_id],C$2,tblPosts[post_time],\">=\"&(C$3+($B52-1)*7),tblPosts[post_time],\"<\"&(C$3+($B52)*7))","v":29},{"$f":"COUNTIFS(tblPosts[poster_id],D$2,tblPosts[post_time],\">=\"&(D$3+($B52-1)*7),tblPosts[post_time],\"<\"&(D$3+($B52)*7))","v":43},{"$f":"COUNTIFS(tblPosts[poster_id],E$2,tblPosts[post_time],\">=\"&(E$3+($B52-1)*7),tblPosts[post_time],\"<\"&(E$3+($B52)*7))","v":0},{"$f":"COUNTIFS(tblPosts[poster_id],F$2,tblPosts[post_time],\">=\"&(F$3+($B52-1)*7),tblPosts[post_time],\"<\"&(F$3+($B52)*7))","v":0},{"$f":"COUNTIFS(tblPosts[poster_id],G$2,tblPosts[post_time],\">=\"&(G$3+($B52-1)*7),tblPosts[post_time],\"<\"&(G$3+($B52)*7))","v":1},{"$f":"COUNTIFS(tblPosts[poster_id],H$2,tblPosts[post_time],\">=\"&(H$3+($B52-1)*7),tblPosts[post_time],\"<\"&(H$3+($B52)*7))","v":10},{"$f":"COUNTIFS(tblPosts[poster_id],I$2,tblPosts[post_time],\">=\"&(I$3+($B52-1)*7),tblPosts[post_time],\"<\"&(I$3+($B52)*7))","v":6},{"$f":"COUNTIFS(tblPosts[poster_id],J$2,tblPosts[post_time],\">=\"&(J$3+($B52-1)*7),tblPosts[post_time],\"<\"&(J$3+($B52)*7))","v":5},{"$f":"COUNTIFS(tblPosts[poster_id],K$2,tblPosts[post_time],\">=\"&(K$3+($B52-1)*7),tblPosts[post_time],\"<\"&(K$3+($B52)*7))","v":1},{"$f":"COUNTIFS(tblPosts[poster_id],L$2,tblPosts[post_time],\">=\"&(L$3+($B52-1)*7),tblPosts[post_time],\"<\"&(L$3+($B52)*7))","v":6},null,49,530,1025,{"$error":"#N/A"},{"$error":"#N/A"},195,241,199,314,196,218,0]
[null,50,{"$f":"COUNTIFS(tblPosts[poster_id],C$2,tblPosts[post_time],\">=\"&(C$3+($B53-1)*7),tblPosts[post_time],\"<\"&(C$3+($B53)*7))","v":18},{"$f":"COUNTIFS(tblPosts[poster_id],D$2,tblPosts[post_time],\">=\"&(D$3+($B53-1)*7),tblPosts[post_time],\"<\"&(D$3+($B53)*7))","v":67},{"$f":"COUNTIFS(tblPosts[poster_id],E$2,tblPosts[post_time],\">=\"&(E$3+($B53-1)*7),tblPosts[post_time],\"<\"&(E$3+($B53)*7))","v":0},{"$f":"COUNTIFS(tblPosts[poster_id],F$2,tblPosts[post_time],\">=\"&(F$3+($B53-1)*7),tblPosts[post_time],\"<\"&(F$3+($B53)*7))","v":0},{"$f":"COUNTIFS(tblPosts[poster_id],G$2,tblPosts[post_time],\">=\"&(G$3+($B53-1)*7),tblPosts[post_time],\"<\"&(G$3+($B53)*7))","v":1},{"$f":"COUNTIFS(tblPosts[poster_id],H$2,tblPosts[post_time],\">=\"&(H$3+($B53-1)*7),tblPosts[post_time],\"<\"&(H$3+($B53)*7))","v":21},{"$f":"COUNTIFS(tblPosts[poster_id],I$2,tblPosts[post_time],\">=\"&(I$3+($B53-1)*7),tblPosts[post_time],\"<\"&(I$3+($B53)*7))","v":3},{"$f":"COUNTIFS(tblPosts[poster_id],J$2,tblPosts[post_time],\">=\"&(J$3+($B53-1)*7),tblPosts[post_time],\"<\"&(J$3+($B53)*7))","v":0},{"$f":"COUNTIFS(tblPosts[poster_id],K$2,tblPosts[post_time],\">=\"&(K$3+($B53-1)*7),tblPosts[post_time],\"<\"&(K$3+($B53)*7))","v":2},{"$f":"COUNTIFS(tblPosts[poster_id],L$2,tblPosts[post_time],\">=\"&(L$3+($B53-1)*7),tblPosts[post_time],\"<\"&(L$3+($B53)*7))","v":0},null,50,548,1092,{"$error":"#N/A"},{"$error":"#N/A"},196,262,202,314,198,218,0]
[null,51,{"$f":"COUNTIFS(tblPosts[poster_id],C$2,tblPosts[post_time],\">=\"&(C$3+($B54-1)*7),tblPosts[post_time],\"<\"&(C$3+($B54)*7))","v":26},{"$f":"COUNTIFS(tblPosts[poster_id],D$2,tblPosts[post_time],\">=\"&(D$3+($B54-1)*7),tblPosts[post_time],\"<\"&(D$3+($B54)*7))","v":50},{"$f":"COUNTIFS(tblPosts[poster_id],E$2,tblPosts[post_time],\">=\"&(E$3+($B54-1)*7),tblPosts[post_time],\"<\"&(E$3+($B54)*7))","v":0},{"$f":"COUNTIFS(tblPosts[poster_id],F$2,tblPosts[post_time],\">=\"&(F$3+($B54-1)*7),tblPosts[post_time],\"<\"&(F$3+($B54)*7))","v":0},{"$f":"COUNTIFS(tblPosts[poster_id],G$2,tblPosts[post_time],\">=\"&(G$3+($B54-1)*7),tblPosts[post_time],\"<\"&(G$3+($B54)*7))","v":1},{"$f":"COUNTIFS(tblPosts[poster_id],H$2,tblPosts[post_time],\">=\"&(H$3+($B54-1)*7),tblPosts[post_time],\"<\"&(H$3+($B54)*7))","v":23},{"$f":"COUNTIFS(tblPosts[poster_id],I$2,tblPosts[post_time],\">=\"&(I$3+($B54-1)*7),tblPosts[post_time],\"<\"&(I$3+($B54)*7))","v":1},{"$f":"COUNTIFS(tblPosts[poster_id],J$2,tblPosts[post_time],\">=\"&(J$3+($B54-1)*7),tblPosts[post_time],\"<\"&(J$3+($B54)*7))","v":3},{"$f":"COUNTIFS(tblPosts[poster_id],K$2,tblPosts[post_time],\">=\"&(K$3+($B54-1)*7),tblPosts[post_time],\"<\"&(K$3+($B54)*7))","v":1},{"$f":"COUNTIFS(tblPosts[poster_id],L$2,tblPosts[post_time],\">=\"&(L$3+($B54-1)*7),tblPosts[post_time],\"<\"&(L$3+($B54)*7))","v":0},null,51,574,1142,{"$error":"#N/A"},{"$error":"#N/A"},197,285,203,317,199,218,0]
[null,52,{"$f":"COUNTIFS(tblPosts[poster_id],C$2,tblPosts[post_time],\">=\"&(C$3+($B55-1)*7),tblPosts[post_time],\"<\"&(C$3+($B55)*7))","v":27},{"$f":"COUNTIFS(tblPosts[poster_id],D$2,tblPosts[post_time],\">=\"&(D$3+($B55-1)*7),tblPosts[post_time],\"<\"&(D$3+($B55)*7))","v":43},{"$f":"COUNTIFS(tblPosts[poster_id],E$2,tblPosts[post_time],\">=\"&(E$3+($B55-1)*7),tblPosts[post_time],\"<\"&(E$3+($B55)*7))","v":0},{"$f":"COUNTIFS(tblPosts[poster_id],F$2,tblPosts[post_time],\">=\"&(F$3+($B55-1)*7),tblPosts[post_time],\"<\"&(F$3+($B55)*7))","v":0},{"$f":"COUNTIFS(tblPosts[poster_id],G$2,tblPosts[post_time],\">=\"&(G$3+($B55-1)*7),tblPosts[post_time],\"<\"&(G$3+($B55)*7))","v":2},{"$f":"COUNTIFS(tblPosts[poster_id],H$2,tblPosts[post_time],\">=\"&(H$3+($B55-1)*7),tblPosts[post_time],\"<\"&(H$3+($B55)*7))","v":21},{"$f":"COUNTIFS(tblPosts[poster_id],I$2,tblPosts[post_time],\">=\"&(I$3+($B55-1)*7),tblPosts[post_time],\"<\"&(I$3+($B55)*7))","v":3},{"$f":"COUNTIFS(tblPosts[poster_id],J$2,tblPosts[post_time],\">=\"&(J$3+($B55-1)*7),tblPosts[post_time],\"<\"&(J$3+($B55)*7))","v":5},{"$f":"COUNTIFS(tblPosts[poster_id],K$2,tblPosts[post_time],\">=\"&(K$3+($B55-1)*7),tblPosts[post_time],\"<\"&(K$3+($B55)*7))","v":2},{"$f":"COUNTIFS(tblPosts[poster_id],L$2,tblPosts[post_time],\">=\"&(L$3+($B55-1)*7),tblPosts[post_time],\"<\"&(L$3+($B55)*7))","v":0},null,52,601,1185,{"$error":"#N/A"},{"$error":"#N/A"},199,306,206,322,201,218,0]
[null,53,{"$f":"COUNTIFS(tblPosts[poster_id],C$2,tblPosts[post_time],\">=\"&(C$3+($B56-1)*7),tblPosts[post_time],\"<\"&(C$3+($B56)*7))","v":26},{"$f":"COUNTIFS(tblPosts[poster_id],D$2,tblPosts[post_time],\">=\"&(D$3+($B56-1)*7),tblPosts[post_time],\"<\"&(D$3+($B56)*7))","v":61},{"$f":"COUNTIFS(tblPosts[poster_id],E$2,tblPosts[post_time],\">=\"&(E$3+($B56-1)*7),tblPosts[post_time],\"<\"&(E$3+($B56)*7))","v":0},{"$f":"COUNTIFS(tblPosts[poster_id],F$2,tblPosts[post_time],\">=\"&(F$3+($B56-1)*7),tblPosts[post_time],\"<\"&(F$3+($B56)*7))","v":0},{"$f":"COUNTIFS(tblPosts[poster_id],G$2,tblPosts[post_time],\">=\"&(G$3+($B56-1)*7),tblPosts[post_time],\"<\"&(G$3+($B56)*7))","v":0},{"$f":"COUNTIFS(tblPosts[poster_id],H$2,tblPosts[post_time],\">=\"&(H$3+($B56-1)*7),tblPosts[post_time],\"<\"&(H$3+($B56)*7))","v":8},{"$f":"COUNTIFS(tblPosts[poster_id],I$2,tblPosts[post_time],\">=\"&(I$3+($B56-1)*7),tblPosts[post_time],\"<\"&(I$3+($B56)*7))","v":4},{"$f":"COUNTIFS(tblPosts[poster_id],J$2,tblPosts[post_time],\">=\"&(J$3+($B56-1)*7),tblPosts[post_time],\"<\"&(J$3+($B56)*7))","v":0},{"$f":"COUNTIFS(tblPosts[poster_id],K$2,tblPosts[post_time],\">=\"&(K$3+($B56-1)*7),tblPosts[post_time],\"<\"&(K$3+($B56)*7))","v":0},{"$f":"COUNTIFS(tblPosts[poster_id],L$2,tblPosts[post_time],\">=\"&(L$3+($B56-1)*7),tblPosts[post_time],\"<\"&(L$3+($B56)*7))","v":0},null,53,627,1246,{"$error":"#N/A"},{"$error":"#N/A"},199,314,210,322,201,218,0]
[null,54,{"$f":"COUNTIFS(tblPosts[poster_id],C$2,tblPosts[post_time],\">=\"&(C$3+($B57-1)*7),tblPosts[post_time],\"<\"&(C$3+($B57)*7))","v":24},{"$f":"COUNTIFS(tblPosts[poster_id],D$2,tblPosts[post_time],\">=\"&(D$3+($B57-1)*7),tblPosts[post_time],\"<\"&(D$3+($B57)*7))","v":13},{"$f":"COUNTIFS(tblPosts[poster_id],E$2,tblPosts[post_time],\">=\"&(E$3+($B57-1)*7),tblPosts[post_time],\"<\"&(E$3+($B57)*7))","v":0},{"$f":"COUNTIFS(tblPosts[poster_id],F$2,tblPosts[post_time],\">=\"&(F$3+($B57-1)*7),tblPosts[post_time],\"<\"&(F$3+($B57)*7))","v":0},{"$f":"COUNTIFS(tblPosts[poster_id],G$2,tblPosts[post_time],\">=\"&(G$3+($B57-1)*7),tblPosts[post_time],\"<\"&(G$3+($B57)*7))","v":8},{"$f":"COUNTIFS(tblPosts[poster_id],H$2,tblPosts[post_time],\">=\"&(H$3+($B57-1)*7),tblPosts[post_time],\"<\"&(H$3+($B57)*7))","v":1},{"$f":"COUNTIFS(tblPosts[poster_id],I$2,tblPosts[post_time],\">=\"&(I$3+($B57-1)*7),tblPosts[post_time],\"<\"&(I$3+($B57)*7))","v":6},{"$f":"COUNTIFS(tblPosts[poster_id],J$2,tblPosts[post_time],\">=\"&(J$3+($B57-1)*7),tblPosts[post_time],\"<\"&(J$3+($B57)*7))","v":1},{"$f":"COUNTIFS(tblPosts[poster_id],K$2,tblPosts[post_time],\">=\"&(K$3+($B57-1)*7),tblPosts[post_time],\"<\"&(K$3+($B57)*7))","v":0},{"$f":"COUNTIFS(tblPosts[poster_id],L$2,tblPosts[post_time],\">=\"&(L$3+($B57-1)*7),tblPosts[post_time],\"<\"&(L$3+($B57)*7))","v":1},null,54,651,1259,{"$error":"#N/A"},{"$error":"#N/A"},207,315,216,323,201,219,0]
[null,55,{"$f":"COUNTIFS(tblPosts[poster_id],C$2,tblPosts[post_time],\">=\"&(C$3+($B58-1)*7),tblPosts[post_time],\"<\"&(C$3+($B58)*7))","v":23},{"$f":"COUNTIFS(tblPosts[poster_id],D$2,tblPosts[post_time],\">=\"&(D$3+($B58-1)*7),tblPosts[post_time],\"<\"&(D$3+($B58)*7))","v":33},{"$f":"COUNTIFS(tblPosts[poster_id],E$2,tblPosts[post_time],\">=\"&(E$3+($B58-1)*7),tblPosts[post_time],\"<\"&(E$3+($B58)*7))","v":0},{"$f":"COUNTIFS(tblPosts[poster_id],F$2,tblPosts[post_time],\">=\"&(F$3+($B58-1)*7),tblPosts[post_time],\"<\"&(F$3+($B58)*7))","v":0},{"$f":"COUNTIFS(tblPosts[poster_id],G$2,tblPosts[post_time],\">=\"&(G$3+($B58-1)*7),tblPosts[post_time],\"<\"&(G$3+($B58)*7))","v":1},{"$f":"COUNTIFS(tblPosts[poster_id],H$2,tblPosts[post_time],\">=\"&(H$3+($B58-1)*7),tblPosts[post_time],\"<\"&(H$3+($B58)*7))","v":6},{"$f":"COUNTIFS(tblPosts[poster_id],I$2,tblPosts[post_time],\">=\"&(I$3+($B58-1)*7),tblPosts[post_time],\"<\"&(I$3+($B58)*7))","v":2},{"$f":"COUNTIFS(tblPosts[poster_id],J$2,tblPosts[post_time],\">=\"&(J$3+($B58-1)*7),tblPosts[post_time],\"<\"&(J$3+($B58)*7))","v":0},{"$f":"COUNTIFS(tblPosts[poster_id],K$2,tblPosts[post_time],\">=\"&(K$3+($B58-1)*7),tblPosts[post_time],\"<\"&(K$3+($B58)*7))","v":2},{"$f":"COUNTIFS(tblPosts[poster_id],L$2,tblPosts[post_time],\">=\"&(L$3+($B58-1)*7),tblPosts[post_time],\"<\"&(L$3+($B58)*7))","v":1},null,55,674,1292,{"$error":"#N/A"},{"$error":"#N/A"},208,321,218,323,203,220,0]
[null,56,{"$f":"COUNTIFS(tblPosts[poster_id],C$2,tblPosts[post_time],\">=\"&(C$3+($B59-1)*7),tblPosts[post_time],\"<\"&(C$3+($B59)*7))","v":25},{"$f":"COUNTIFS(tblPosts[poster_id],D$2,tblPosts[post_time],\">=\"&(D$3+($B59-1)*7),tblPosts[post_time],\"<\"&(D$3+($B59)*7))","v":42},{"$f":"COUNTIFS(tblPosts[poster_id],E$2,tblPosts[post_time],\">=\"&(E$3+($B59-1)*7),tblPosts[post_time],\"<\"&(E$3+($B59)*7))","v":0},{"$f":"COUNTIFS(tblPosts[poster_id],F$2,tblPosts[post_time],\">=\"&(F$3+($B59-1)*7),tblPosts[post_time],\"<\"&(F$3+($B59)*7))","v":0},{"$f":"COUNTIFS(tblPosts[poster_id],G$2,tblPosts[post_time],\">=\"&(G$3+($B59-1)*7),tblPosts[post_time],\"<\"&(G$3+($B59)*7))","v":0},{"$f":"COUNTIFS(tblPosts[poster_id],H$2,tblPosts[post_time],\">=\"&(H$3+($B59-1)*7),tblPosts[post_time],\"<\"&(H$3+($B59)*7))","v":12},{"$f":"COUNTIFS(tblPosts[poster_id],I$2,tblPosts[post_time],\">=\"&(I$3+($B59-1)*7),tblPosts[post_time],\"<\"&(I$3+($B59)*7))","v":4},{"$f":"COUNTIFS(tblPosts[poster_id],J$2,tblPosts[post_time],\">=\"&(J$3+($B59-1)*7),tblPosts[post_time],\"<\"&(J$3+($B59)*7))","v":0},{"$f":"COUNTIFS(tblPosts[poster_id],K$2,tblPosts[post_time],\">=\"&(K$3+($B59-1)*7),tblPosts[post_time],\"<\"&(K$3+($B59)*7))","v":3},{"$f":"COUNTIFS(tblPosts[poster_id],L$2,tblPosts[post_time],\">=\"&(L$3+($B59-1)*7),tblPosts[post_time],\"<\"&(L$3+($B59)*7))","v":4},null,56,699,1334,{"$error":"#N/A"},{"$error":"#N/A"},208,333,222,323,206,224,0]
[null,57,{"$f":"COUNTIFS(tblPosts[poster_id],C$2,tblPosts[post_time],\">=\"&(C$3+($B60-1)*7),tblPosts[post_time],\"<\"&(C$3+($B60)*7))","v":32},{"$f":"COUNTIFS(tblPosts[poster_id],D$2,tblPosts[post_time],\">=\"&(D$3+($B60-1)*7),tblPosts[post_time],\"<\"&(D$3+($B60)*7))","v":23},{"$f":"COUNTIFS(tblPosts[poster_id],E$2,tblPosts[post_time],\">=\"&(E$3+($B60-1)*7),tblPosts[post_time],\"<\"&(E$3+($B60)*7))","v":0},{"$f":"COUNTIFS(tblPosts[poster_id],F$2,tblPosts[post_time],\">=\"&(F$3+($B60-1)*7),tblPosts[post_time],\"<\"&(F$3+($B60)*7))","v":0},{"$f":"COUNTIFS(tblPosts[poster_id],G$2,tblPosts[post_time],\">=\"&(G$3+($B60-1)*7),tblPosts[post_time],\"<\"&(G$3+($B60)*7))","v":0},{"$f":"COUNTIFS(tblPosts[poster_id],H$2,tblPosts[post_time],\">=\"&(H$3+($B60-1)*7),tblPosts[post_time],\"<\"&(H$3+($B60)*7))","v":14},{"$f":"COUNTIFS(tblPosts[poster_id],I$2,tblPosts[post_time],\">=\"&(I$3+($B60-1)*7),tblPosts[post_time],\"<\"&(I$3+($B60)*7))","v":3},{"$f":"COUNTIFS(tblPosts[poster_id],J$2,tblPosts[post_time],\">=\"&(J$3+($B60-1)*7),tblPosts[post_time],\"<\"&(J$3+($B60)*7))","v":0},{"$f":"COUNTIFS(tblPosts[poster_id],K$2,tblPosts[post_time],\">=\"&(K$3+($B60-1)*7),tblPosts[post_time],\"<\"&(K$3+($B60)*7))","v":0},{"$f":"COUNTIFS(tblPosts[poster_id],L$2,tblPosts[post_time],\">=\"&(L$3+($B60-1)*7),tblPosts[post_time],\"<\"&(L$3+($B60)*7))","v":0},null,57,731,1357,{"$error":"#N/A"},{"$error":"#N/A"},208,347,225,323,206,224,0]
[null,58,{"$f":"COUNTIFS(tblPosts[poster_id],C$2,tblPosts[post_time],\">=\"&(C$3+($B61-1)*7),tblPosts[post_time],\"<\"&(C$3+($B61)*7))","v":23},{"$f":"COUNTIFS(tblPosts[poster_id],D$2,tblPosts[post_time],\">=\"&(D$3+($B61-1)*7),tblPosts[post_time],\"<\"&(D$3+($B61)*7))","v":5},{"$f":"COUNTIFS(tblPosts[poster_id],E$2,tblPosts[post_time],\">=\"&(E$3+($B61-1)*7),tblPosts[post_time],\"<\"&(E$3+($B61)*7))","v":0},{"$f":"COUNTIFS(tblPosts[poster_id],F$2,tblPosts[post_time],\">=\"&(F$3+($B61-1)*7),tblPosts[post_time],\"<\"&(F$3+($B61)*7))","v":0},{"$f":"COUNTIFS(tblPosts[poster_id],G$2,tblPosts[post_time],\">=\"&(G$3+($B61-1)*7),tblPosts[post_time],\"<\"&(G$3+($B61)*7))","v":0},{"$f":"COUNTIFS(tblPosts[poster_id],H$2,tblPosts[post_time],\">=\"&(H$3+($B61-1)*7),tblPosts[post_time],\"<\"&(H$3+($B61)*7))","v":6},{"$f":"COUNTIFS(tblPosts[poster_id],I$2,tblPosts[post_time],\">=\"&(I$3+($B61-1)*7),tblPosts[post_time],\"<\"&(I$3+($B61)*7))","v":8},{"$f":"COUNTIFS(tblPosts[poster_id],J$2,tblPosts[post_time],\">=\"&(J$3+($B61-1)*7),tblPosts[post_time],\"<\"&(J$3+($B61)*7))","v":0},{"$f":"COUNTIFS(tblPosts[poster_id],K$2,tblPosts[post_time],\">=\"&(K$3+($B61-1)*7),tblPosts[post_time],\"<\"&(K$3+($B61)*7))","v":0},{"$f":"COUNTIFS(tblPosts[poster_id],L$2,tblPosts[post_time],\">=\"&(L$3+($B61-1)*7),tblPosts[post_time],\"<\"&(L$3+($B61)*7))","v":0},null,58,754,1362,{"$error":"#N/A"},{"$error":"#N/A"},208,353,233,323,206,224,0]
[null,59,{"$f":"COUNTIFS(tblPosts[poster_id],C$2,tblPosts[post_time],\">=\"&(C$3+($B62-1)*7),tblPosts[post_time],\"<\"&(C$3+($B62)*7))","v":25},{"$f":"COUNTIFS(tblPosts[poster_id],D$2,tblPosts[post_time],\">=\"&(D$3+($B62-1)*7),tblPosts[post_time],\"<\"&(D$3+($B62)*7))","v":3},{"$f":"COUNTIFS(tblPosts[poster_id],E$2,tblPosts[post_time],\">=\"&(E$3+($B62-1)*7),tblPosts[post_time],\"<\"&(E$3+($B62)*7))","v":0},{"$f":"COUNTIFS(tblPosts[poster_id],F$2,tblPosts[post_time],\">=\"&(F$3+($B62-1)*7),tblPosts[post_time],\"<\"&(F$3+($B62)*7))","v":0},{"$f":"COUNTIFS(tblPosts[poster_id],G$2,tblPosts[post_time],\">=\"&(G$3+($B62-1)*7),tblPosts[post_time],\"<\"&(G$3+($B62)*7))","v":5},{"$f":"COUNTIFS(tblPosts[poster_id],H$2,tblPosts[post_time],\">=\"&(H$3+($B62-1)*7),tblPosts[post_time],\"<\"&(H$3+($B62)*7))","v":4},{"$f":"COUNTIFS(tblPosts[poster_id],I$2,tblPosts[post_time],\">=\"&(I$3+($B62-1)*7),tblPosts[post_time],\"<\"&(I$3+($B62)*7))","v":4},{"$f":"COUNTIFS(tblPosts[poster_id],J$2,tblPosts[post_time],\">=\"&(J$3+($B62-1)*7),tblPosts[post_time],\"<\"&(J$3+($B62)*7))","v":0},{"$f":"COUNTIFS(tblPosts[poster_id],K$2,tblPosts[post_time],\">=\"&(K$3+($B62-1)*7),tblPosts[post_time],\"<\"&(K$3+($B62)*7))","v":4},{"$f":"COUNTIFS(tblPosts[poster_id],L$2,tblPosts[post_time],\">=\"&(L$3+($B62-1)*7),tblPosts[post_time],\"<\"&(L$3+($B62)*7))","v":3},null,59,779,1365,{"$error":"#N/A"},{"$error":"#N/A"},213,357,237,323,210,227,0]
[null,60,{"$f":"COUNTIFS(tblPosts[poster_id],C$2,tblPosts[post_time],\">=\"&(C$3+($B63-1)*7),tblPosts[post_time],\"<\"&(C$3+($B63)*7))","v":19},{"$f":"COUNTIFS(tblPosts[poster_id],D$2,tblPosts[post_time],\">=\"&(D$3+($B63-1)*7),tblPosts[post_time],\"<\"&(D$3+($B63)*7))","v":9},{"$f":"COUNTIFS(tblPosts[poster_id],E$2,tblPosts[post_time],\">=\"&(E$3+($B63-1)*7),tblPosts[post_time],\"<\"&(E$3+($B63)*7))","v":0},{"$f":"COUNTIFS(tblPosts[poster_id],F$2,tblPosts[post_time],\">=\"&(F$3+($B63-1)*7),tblPosts[post_time],\"<\"&(F$3+($B63)*7))","v":0},{"$f":"COUNTIFS(tblPosts[poster_id],G$2,tblPosts[post_time],\">=\"&(G$3+($B63-1)*7),tblPosts[post_time],\"<\"&(G$3+($B63)*7))","v":10},{"$f":"COUNTIFS(tblPosts[poster_id],H$2,tblPosts[post_time],\">=\"&(H$3+($B63-1)*7),tblPosts[post_time],\"<\"&(H$3+($B63)*7))","v":16},{"$f":"COUNTIFS(tblPosts[poster_id],I$2,tblPosts[post_time],\">=\"&(I$3+($B63-1)*7),tblPosts[post_time],\"<\"&(I$3+($B63)*7))","v":7},{"$f":"COUNTIFS(tblPosts[poster_id],J$2,tblPosts[post_time],\">=\"&(J$3+($B63-1)*7),tblPosts[post_time],\"<\"&(J$3+($B63)*7))","v":0},{"$f":"COUNTIFS(tblPosts[poster_id],K$2,tblPosts[post_time],\">=\"&(K$3+($B63-1)*7),tblPosts[post_time],\"<\"&(K$3+($B63)*7))","v":1},{"$f":"COUNTIFS(tblPosts[poster_id],L$2,tblPosts[post_time],\">=\"&(L$3+($B63-1)*7),tblPosts[post_time],\"<\"&(L$3+($B63)*7))","v":1},null,60,798,1374,{"$error":"#N/A"},{"$error":"#N/A"},223,373,244,323,211,228,0]
[null,61,{"$f":"COUNTIFS(tblPosts[poster_id],C$2,tblPosts[post_time],\">=\"&(C$3+($B64-1)*7),tblPosts[post_time],\"<\"&(C$3+($B64)*7))","v":21},{"$f":"COUNTIFS(tblPosts[poster_id],D$2,tblPosts[post_time],\">=\"&(D$3+($B64-1)*7),tblPosts[post_time],\"<\"&(D$3+($B64)*7))","v":7},{"$f":"COUNTIFS(tblPosts[poster_id],E$2,tblPosts[post_time],\">=\"&(E$3+($B64-1)*7),tblPosts[post_time],\"<\"&(E$3+($B64)*7))","v":0},{"$f":"COUNTIFS(tblPosts[poster_id],F$2,tblPosts[post_time],\">=\"&(F$3+($B64-1)*7),tblPosts[post_time],\"<\"&(F$3+($B64)*7))","v":0},{"$f":"COUNTIFS(tblPosts[poster_id],G$2,tblPosts[post_time],\">=\"&(G$3+($B64-1)*7),tblPosts[post_time],\"<\"&(G$3+($B64)*7))","v":6},{"$f":"COUNTIFS(tblPosts[poster_id],H$2,tblPosts[post_time],\">=\"&(H$3+($B64-1)*7),tblPosts[post_time],\"<\"&(H$3+($B64)*7))","v":6},{"$f":"COUNTIFS(tblPosts[poster_id],I$2,tblPosts[post_time],\">=\"&(I$3+($B64-1)*7),tblPosts[post_time],\"<\"&(I$3+($B64)*7))","v":3},{"$f":"COUNTIFS(tblPosts[poster_id],J$2,tblPosts[post_time],\">=\"&(J$3+($B64-1)*7),tblPosts[post_time],\"<\"&(J$3+($B64)*7))","v":0},{"$f":"COUNTIFS(tblPosts[poster_id],K$2,tblPosts[post_time],\">=\"&(K$3+($B64-1)*7),tblPosts[post_time],\"<\"&(K$3+($B64)*7))","v":7},{"$f":"COUNTIFS(tblPosts[poster_id],L$2,tblPosts[post_time],\">=\"&(L$3+($B64-1)*7),tblPosts[post_time],\"<\"&(L$3+($B64)*7))","v":0},null,61,819,1381,{"$error":"#N/A"},{"$error":"#N/A"},229,379,247,323,218,{"$error":"#N/A"},0]
[null,62,{"$f":"COUNTIFS(tblPosts[poster_id],C$2,tblPosts[post_time],\">=\"&(C$3+($B65-1)*7),tblPosts[post_time],\"<\"&(C$3+($B65)*7))","v":19},{"$f":"COUNTIFS(tblPosts[poster_id],D$2,tblPosts[post_time],\">=\"&(D$3+($B65-1)*7),tblPosts[post_time],\"<\"&(D$3+($B65)*7))","v":41},{"$f":"COUNTIFS(tblPosts[poster_id],E$2,tblPosts[post_time],\">=\"&(E$3+($B65-1)*7),tblPosts[post_time],\"<\"&(E$3+($B65)*7))","v":0},{"$f":"COUNTIFS(tblPosts[poster_id],F$2,tblPosts[post_time],\">=\"&(F$3+($B65-1)*7),tblPosts[post_time],\"<\"&(F$3+($B65)*7))","v":0},{"$f":"COUNTIFS(tblPosts[poster_id],G$2,tblPosts[post_time],\">=\"&(G$3+($B65-1)*7),tblPosts[post_time],\"<\"&(G$3+($B65)*7))","v":3},{"$f":"COUNTIFS(tblPosts[poster_id],H$2,tblPosts[post_time],\">=\"&(H$3+($B65-1)*7),tblPosts[post_time],\"<\"&(H$3+($B65)*7))","v":4},{"$f":"COUNTIFS(tblPosts[poster_id],I$2,tblPosts[post_time],\">=\"&(I$3+($B65-1)*7),tblPosts[post_time],\"<\"&(I$3+($B65)*7))","v":3},{"$f":"COUNTIFS(tblPosts[poster_id],J$2,tblPosts[post_time],\">=\"&(J$3+($B65-1)*7),tblPosts[post_time],\"<\"&(J$3+($B65)*7))","v":2},{"$f":"COUNTIFS(tblPosts[poster_id],K$2,tblPosts[post_time],\">=\"&(K$3+($B65-1)*7),tblPosts[post_time],\"<\"&(K$3+($B65)*7))","v":11},{"$f":"COUNTIFS(tblPosts[poster_id],L$2,tblPosts[post_time],\">=\"&(L$3+($B65-1)*7),tblPosts[post_time],\"<\"&(L$3+($B65)*7))","v":0},null,62,838,1422,{"$error":"#N/A"},{"$error":"#N/A"},232,383,250,325,229,{"$error":"#N/A"},0]
[null,63,{"$f":"COUNTIFS(tblPosts[poster_id],C$2,tblPosts[post_time],\">=\"&(C$3+($B66-1)*7),tblPosts[post_time],\"<\"&(C$3+($B66)*7))","v":32},{"$f":"COUNTIFS(tblPosts[poster_id],D$2,tblPosts[post_time],\">=\"&(D$3+($B66-1)*7),tblPosts[post_time],\"<\"&(D$3+($B66)*7))","v":15},{"$f":"COUNTIFS(tblPosts[poster_id],E$2,tblPosts[post_time],\">=\"&(E$3+($B66-1)*7),tblPosts[post_time],\"<\"&(E$3+($B66)*7))","v":0},{"$f":"COUNTIFS(tblPosts[poster_id],F$2,tblPosts[post_time],\">=\"&(F$3+($B66-1)*7),tblPosts[post_time],\"<\"&(F$3+($B66)*7))","v":0},{"$f":"COUNTIFS(tblPosts[poster_id],G$2,tblPosts[post_time],\">=\"&(G$3+($B66-1)*7),tblPosts[post_time],\"<\"&(G$3+($B66)*7))","v":3},{"$f":"COUNTIFS(tblPosts[poster_id],H$2,tblPosts[post_time],\">=\"&(H$3+($B66-1)*7),tblPosts[post_time],\"<\"&(H$3+($B66)*7))","v":8},{"$f":"COUNTIFS(tblPosts[poster_id],I$2,tblPosts[post_time],\">=\"&(I$3+($B66-1)*7),tblPosts[post_time],\"<\"&(I$3+($B66)*7))","v":0},{"$f":"COUNTIFS(tblPosts[poster_id],J$2,tblPosts[post_time],\">=\"&(J$3+($B66-1)*7),tblPosts[post_time],\"<\"&(J$3+($B66)*7))","v":0},{"$f":"COUNTIFS(tblPosts[poster_id],K$2,tblPosts[post_time],\">=\"&(K$3+($B66-1)*7),tblPosts[post_time],\"<\"&(K$3+($B66)*7))","v":5},{"$f":"COUNTIFS(tblPosts[poster_id],L$2,tblPosts[post_time],\">=\"&(L$3+($B66-1)*7),tblPosts[post_time],\"<\"&(L$3+($B66)*7))","v":0},null,63,870,1437,{"$error":"#N/A"},{"$error":"#N/A"},235,391,250,325,234,{"$error":"#N/A"},0]
[null,64,{"$f":"COUNTIFS(tblPosts[poster_id],C$2,tblPosts[post_time],\">=\"&(C$3+($B67-1)*7),tblPosts[post_time],\"<\"&(C$3+($B67)*7))","v":37},{"$f":"COUNTIFS(tblPosts[poster_id],D$2,tblPosts[post_time],\">=\"&(D$3+($B67-1)*7),tblPosts[post_time],\"<\"&(D$3+($B67)*7))","v":17},{"$f":"COUNTIFS(tblPosts[poster_id],E$2,tblPosts[post_time],\">=\"&(E$3+($B67-1)*7),tblPosts[post_time],\"<\"&(E$3+($B67)*7))","v":0},{"$f":"COUNTIFS(tblPosts[poster_id],F$2,tblPosts[post_time],\">=\"&(F$3+($B67-1)*7),tblPosts[post_time],\"<\"&(F$3+($B67)*7))","v":0},{"$f":"COUNTIFS(tblPosts[poster_id],G$2,tblPosts[post_time],\">=\"&(G$3+($B67-1)*7),tblPosts[post_time],\"<\"&(G$3+($B67)*7))","v":6},{"$f":"COUNTIFS(tblPosts[poster_id],H$2,tblPosts[post_time],\">=\"&(H$3+($B67-1)*7),tblPosts[post_time],\"<\"&(H$3+($B67)*7))","v":13},{"$f":"COUNTIFS(tblPosts[poster_id],I$2,tblPosts[post_time],\">=\"&(I$3+($B67-1)*7),tblPosts[post_time],\"<\"&(I$3+($B67)*7))","v":2},{"$f":"COUNTIFS(tblPosts[poster_id],J$2,tblPosts[post_time],\">=\"&(J$3+($B67-1)*7),tblPosts[post_time],\"<\"&(J$3+($B67)*7))","v":0},{"$f":"COUNTIFS(tblPosts[poster_id],K$2,tblPosts[post_time],\">=\"&(K$3+($B67-1)*7),tblPosts[post_time],\"<\"&(K$3+($B67)*7))","v":0},{"$f":"COUNTIFS(tblPosts[poster_id],L$2,tblPosts[post_time],\">=\"&(L$3+($B67-1)*7),tblPosts[post_time],\"<\"&(L$3+($B67)*7))","v":0},null,64,907,1454,{"$error":"#N/A"},{"$error":"#N/A"},241,404,252,325,234,{"$error":"#N/A"},0]
[null,65,{"$f":"COUNTIFS(tblPosts[poster_id],C$2,tblPosts[post_time],\">=\"&(C$3+($B68-1)*7),tblPosts[post_time],\"<\"&(C$3+($B68)*7))","v":45},{"$f":"COUNTIFS(tblPosts[poster_id],D$2,tblPosts[post_time],\">=\"&(D$3+($B68-1)*7),tblPosts[post_time],\"<\"&(D$3+($B68)*7))","v":30},{"$f":"COUNTIFS(tblPosts[poster_id],E$2,tblPosts[post_time],\">=\"&(E$3+($B68-1)*7),tblPosts[post_time],\"<\"&(E$3+($B68)*7))","v":0},{"$f":"COUNTIFS(tblPosts[poster_id],F$2,tblPosts[post_time],\">=\"&(F$3+($B68-1)*7),tblPosts[post_time],\"<\"&(F$3+($B68)*7))","v":0},{"$f":"COUNTIFS(tblPosts[poster_id],G$2,tblPosts[post_time],\">=\"&(G$3+($B68-1)*7),tblPosts[post_time],\"<\"&(G$3+($B68)*7))","v":6},{"$f":"COUNTIFS(tblPosts[poster_id],H$2,tblPosts[post_time],\">=\"&(H$3+($B68-1)*7),tblPosts[post_time],\"<\"&(H$3+($B68)*7))","v":13},{"$f":"COUNTIFS(tblPosts[poster_id],I$2,tblPosts[post_time],\">=\"&(I$3+($B68-1)*7),tblPosts[post_time],\"<\"&(I$3+($B68)*7))","v":1},{"$f":"COUNTIFS(tblPosts[poster_id],J$2,tblPosts[post_time],\">=\"&(J$3+($B68-1)*7),tblPosts[post_time],\"<\"&(J$3+($B68)*7))","v":0},{"$f":"COUNTIFS(tblPosts[poster_id],K$2,tblPosts[post_time],\">=\"&(K$3+($B68-1)*7),tblPosts[post_time],\"<\"&(K$3+($B68)*7))","v":1},{"$f":"COUNTIFS(tblPosts[poster_id],L$2,tblPosts[post_time],\">=\"&(L$3+($B68-1)*7),tblPosts[post_time],\"<\"&(L$3+($B68)*7))","v":0},null,65,952,1484,{"$error":"#N/A"},{"$error":"#N/A"},247,417,253,325,235,{"$error":"#N/A"},0]
[null,66,{"$f":"COUNTIFS(tblPosts[poster_id],C$2,tblPosts[post_time],\">=\"&(C$3+($B69-1)*7),tblPosts[post_time],\"<\"&(C$3+($B69)*7))","v":37},{"$f":"COUNTIFS(tblPosts[poster_id],D$2,tblPosts[post_time],\">=\"&(D$3+($B69-1)*7),tblPosts[post_time],\"<\"&(D$3+($B69)*7))","v":51},{"$f":"COUNTIFS(tblPosts[poster_id],E$2,tblPosts[post_time],\">=\"&(E$3+($B69-1)*7),tblPosts[post_time],\"<\"&(E$3+($B69)*7))","v":0},{"$f":"COUNTIFS(tblPosts[poster_id],F$2,tblPosts[post_time],\">=\"&(F$3+($B69-1)*7),tblPosts[post_time],\"<\"&(F$3+($B69)*7))","v":0},{"$f":"COUNTIFS(tblPosts[poster_id],G$2,tblPosts[post_time],\">=\"&(G$3+($B69-1)*7),tblPosts[post_time],\"<\"&(G$3+($B69)*7))","v":2},{"$f":"COUNTIFS(tblPosts[poster_id],H$2,tblPosts[post_time],\">=\"&(H$3+($B69-1)*7),tblPosts[post_time],\"<\"&(H$3+($B69)*7))","v":5},{"$f":"COUNTIFS(tblPosts[poster_id],I$2,tblPosts[post_time],\">=\"&(I$3+($B69-1)*7),tblPosts[post_time],\"<\"&(I$3+($B69)*7))","v":6},{"$f":"COUNTIFS(tblPosts[poster_id],J$2,tblPosts[post_time],\">=\"&(J$3+($B69-1)*7),tblPosts[post_time],\"<\"&(J$3+($B69)*7))","v":0},{"$f":"COUNTIFS(tblPosts[poster_id],K$2,tblPosts[post_time],\">=\"&(K$3+($B69-1)*7),tblPosts[post_time],\"<\"&(K$3+($B69)*7))","v":1},{"$f":"COUNTIFS(tblPosts[poster_id],L$2,tblPosts[post_time],\">=\"&(L$3+($B69-1)*7),tblPosts[post_time],\"<\"&(L$3+($B69)*7))","v":0},null,66,{"$f":"IF(C$3+$B68*7>dumpDate,NA(),O68+C69)","v":989},{"$f":"IF(D$3+$B68*7>dumpDate,NA(),P68+D69)","v":1535},{"$f":"IF(E$3+$B68*7>dumpDate,NA(),Q68+E69)","v":{"$error":"#N/A"}},{"$f":"IF(F$3+$B68*7>dumpDate,NA(),R68+F69)","v":{"$error":"#N/A"}},{"$f":"IF(G$3+$B68*7>dumpDate,NA(),S68+G69)","v":249},{"$f":"IF(H$3+$B68*7>dumpDate,NA(),T68+H69)","v":422},{"$f":"IF(I$3+$B68*7>dumpDate,NA(),U68+I69)","v":259},{"$f":"IF(J$3+$B68*7>dumpDate,NA(),V68+J69)","v":325},{"$f":"IF(K$3+$B68*7>dumpDate,NA(),W68+K69)","v":236},{"$f":"IF(L$3+$B68*7>dumpDate,NA(),X68+L69)","v":{"$error":"#N/A"}},0]
[null,67,{"$f":"COUNTIFS(tblPosts[poster_id],C$2,tblPosts[post_time],\">=\"&(C$3+($B70-1)*7),tblPosts[post_time],\"<\"&(C$3+($B70)*7))","v":23},{"$f":"COUNTIFS(tblPosts[poster_id],D$2,tblPosts[post_time],\">=\"&(D$3+($B70-1)*7),tblPosts[post_time],\"<\"&(D$3+($B70)*7))","v":57},{"$f":"COUNTIFS(tblPosts[poster_id],E$2,tblPosts[post_time],\">=\"&(E$3+($B70-1)*7),tblPosts[post_time],\"<\"&(E$3+($B70)*7))","v":0},{"$f":"COUNTIFS(tblPosts[poster_id],F$2,tblPosts[post_time],\">=\"&(F$3+($B70-1)*7),tblPosts[post_time],\"<\"&(F$3+($B70)*7))","v":0},{"$f":"COUNTIFS(tblPosts[poster_id],G$2,tblPosts[post_time],\">=\"&(G$3+($B70-1)*7),tblPosts[post_time],\"<\"&(G$3+($B70)*7))","v":6},{"$f":"COUNTIFS(tblPosts[poster_id],H$2,tblPosts[post_time],\">=\"&(H$3+($B70-1)*7),tblPosts[post_time],\"<\"&(H$3+($B70)*7))","v":4},{"$f":"COUNTIFS(tblPosts[poster_id],I$2,tblPosts[post_time],\">=\"&(I$3+($B70-1)*7),tblPosts[post_time],\"<\"&(I$3+($B70)*7))","v":2},{"$f":"COUNTIFS(tblPosts[poster_id],J$2,tblPosts[post_time],\">=\"&(J$3+($B70-1)*7),tblPosts[post_time],\"<\"&(J$3+($B70)*7))","v":0},{"$f":"COUNTIFS(tblPosts[poster_id],K$2,tblPosts[post_time],\">=\"&(K$3+($B70-1)*7),tblPosts[post_time],\"<\"&(K$3+($B70)*7))","v":0},{"$f":"COUNTIFS(tblPosts[poster_id],L$2,tblPosts[post_time],\">=\"&(L$3+($B70-1)*7),tblPosts[post_time],\"<\"&(L$3+($B70)*7))","v":0},null,67,1012,1592,{"$error":"#N/A"},{"$error":"#N/A"},255,426,261,325,236,{"$error":"#N/A"},0]
[null,68,{"$f":"COUNTIFS(tblPosts[poster_id],C$2,tblPosts[post_time],\">=\"&(C$3+($B71-1)*7),tblPosts[post_time],\"<\"&(C$3+($B71)*7))","v":32},{"$f":"COUNTIFS(tblPosts[poster_id],D$2,tblPosts[post_time],\">=\"&(D$3+($B71-1)*7),tblPosts[post_time],\"<\"&(D$3+($B71)*7))","v":39},{"$f":"COUNTIFS(tblPosts[poster_id],E$2,tblPosts[post_time],\">=\"&(E$3+($B71-1)*7),tblPosts[post_time],\"<\"&(E$3+($B71)*7))","v":0},{"$f":"COUNTIFS(tblPosts[poster_id],F$2,tblPosts[post_time],\">=\"&(F$3+($B71-1)*7),tblPosts[post_time],\"<\"&(F$3+($B71)*7))","v":0},{"$f":"COUNTIFS(tblPosts[poster_id],G$2,tblPosts[post_time],\">=\"&(G$3+($B71-1)*7),tblPosts[post_time],\"<\"&(G$3+($B71)*7))","v":3},{"$f":"COUNTIFS(tblPosts[poster_id],H$2,tblPosts[post_time],\">=\"&(H$3+($B71-1)*7),tblPosts[post_time],\"<\"&(H$3+($B71)*7))","v":10},{"$f":"COUNTIFS(tblPosts[poster_id],I$2,tblPosts[post_time],\">=\"&(I$3+($B71-1)*7),tblPosts[post_time],\"<\"&(I$3+($B71)*7))","v":6},{"$f":"COUNTIFS(tblPosts[poster_id],J$2,tblPosts[post_time],\">=\"&(J$3+($B71-1)*7),tblPosts[post_time],\"<\"&(J$3+($B71)*7))","v":0},{"$f":"COUNTIFS(tblPosts[poster_id],K$2,tblPosts[post_time],\">=\"&(K$3+($B71-1)*7),tblPosts[post_time],\"<\"&(K$3+($B71)*7))","v":9},{"$f":"COUNTIFS(tblPosts[poster_id],L$2,tblPosts[post_time],\">=\"&(L$3+($B71-1)*7),tblPosts[post_time],\"<\"&(L$3+($B71)*7))","v":0},null,68,1044,1631,{"$error":"#N/A"},{"$error":"#N/A"},258,436,267,325,245,{"$error":"#N/A"},0]
[null,69,{"$f":"COUNTIFS(tblPosts[poster_id],C$2,tblPosts[post_time],\">=\"&(C$3+($B72-1)*7),tblPosts[post_time],\"<\"&(C$3+($B72)*7))","v":46},{"$f":"COUNTIFS(tblPosts[poster_id],D$2,tblPosts[post_time],\">=\"&(D$3+($B72-1)*7),tblPosts[post_time],\"<\"&(D$3+($B72)*7))","v":0},{"$f":"COUNTIFS(tblPosts[poster_id],E$2,tblPosts[post_time],\">=\"&(E$3+($B72-1)*7),tblPosts[post_time],\"<\"&(E$3+($B72)*7))","v":0},{"$f":"COUNTIFS(tblPosts[poster_id],F$2,tblPosts[post_time],\">=\"&(F$3+($B72-1)*7),tblPosts[post_time],\"<\"&(F$3+($B72)*7))","v":0},{"$f":"COUNTIFS(tblPosts[poster_id],G$2,tblPosts[post_time],\">=\"&(G$3+($B72-1)*7),tblPosts[post_time],\"<\"&(G$3+($B72)*7))","v":2},{"$f":"COUNTIFS(tblPosts[poster_id],H$2,tblPosts[post_time],\">=\"&(H$3+($B72-1)*7),tblPosts[post_time],\"<\"&(H$3+($B72)*7))","v":2},{"$f":"COUNTIFS(tblPosts[poster_id],I$2,tblPosts[post_time],\">=\"&(I$3+($B72-1)*7),tblPosts[post_time],\"<\"&(I$3+($B72)*7))","v":4},{"$f":"COUNTIFS(tblPosts[poster_id],J$2,tblPosts[post_time],\">=\"&(J$3+($B72-1)*7),tblPosts[post_time],\"<\"&(J$3+($B72)*7))","v":0},{"$f":"COUNTIFS(tblPosts[poster_id],K$2,tblPosts[post_time],\">=\"&(K$3+($B72-1)*7),tblPosts[post_time],\"<\"&(K$3+($B72)*7))","v":2},{"$f":"COUNTIFS(tblPosts[poster_id],L$2,tblPosts[post_time],\">=\"&(L$3+($B72-1)*7),tblPosts[post_time],\"<\"&(L$3+($B72)*7))","v":0},null,69,1090,1631,{"$error":"#N/A"},{"$error":"#N/A"},260,438,271,325,247,{"$error":"#N/A"},0]
[null,70,{"$f":"COUNTIFS(tblPosts[poster_id],C$2,tblPosts[post_time],\">=\"&(C$3+($B73-1)*7),tblPosts[post_time],\"<\"&(C$3+($B73)*7))","v":35},{"$f":"COUNTIFS(tblPosts[poster_id],D$2,tblPosts[post_time],\">=\"&(D$3+($B73-1)*7),tblPosts[post_time],\"<\"&(D$3+($B73)*7))","v":0},{"$f":"COUNTIFS(tblPosts[poster_id],E$2,tblPosts[post_time],\">=\"&(E$3+($B73-1)*7),tblPosts[post_time],\"<\"&(E$3+($B73)*7))","v":0},{"$f":"COUNTIFS(tblPosts[poster_id],F$2,tblPosts[post_time],\">=\"&(F$3+($B73-1)*7),tblPosts[post_time],\"<\"&(F$3+($B73)*7))","v":0},{"$f":"COUNTIFS(tblPosts[poster_id],G$2,tblPosts[post_time],\">=\"&(G$3+($B73-1)*7),tblPosts[post_time],\"<\"&(G$3+($B73)*7))","v":3},{"$f":"COUNTIFS(tblPosts[poster_id],H$2,tblPosts[post_time],\">=\"&(H$3+($B73-1)*7),tblPosts[post_time],\"<\"&(H$3+($B73)*7))","v":0},{"$f":"COUNTIFS(tblPosts[poster_id],I$2,tblPosts[post_time],\">=\"&(I$3+($B73-1)*7),tblPosts[post_time],\"<\"&(I$3+($B73)*7))","v":5},{"$f":"COUNTIFS(tblPosts[poster_id],J$2,tblPosts[post_time],\">=\"&(J$3+($B73-1)*7),tblPosts[post_time],\"<\"&(J$3+($B73)*7))","v":0},{"$f":"COUNTIFS(tblPosts[poster_id],K$2,tblPosts[post_time],\">=\"&(K$3+($B73-1)*7),tblPosts[post_time],\"<\"&(K$3+($B73)*7))","v":2},{"$f":"COUNTIFS(tblPosts[poster_id],L$2,tblPosts[post_time],\">=\"&(L$3+($B73-1)*7),tblPosts[post_time],\"<\"&(L$3+($B73)*7))","v":0},null,70,1125,{"$error":"#N/A"},{"$error":"#N/A"},{"$error":"#N/A"},263,{"$error":"#N/A"},276,325,249,{"$error":"#N/A"},0]
[null,71,{"$f":"COUNTIFS(tblPosts[poster_id],C$2,tblPosts[post_time],\">=\"&(C$3+($B74-1)*7),tblPosts[post_time],\"<\"&(C$3+($B74)*7))","v":34},{"$f":"COUNTIFS(tblPosts[poster_id],D$2,tblPosts[post_time],\">=\"&(D$3+($B74-1)*7),tblPosts[post_time],\"<\"&(D$3+($B74)*7))","v":0},{"$f":"COUNTIFS(tblPosts[poster_id],E$2,tblPosts[post_time],\">=\"&(E$3+($B74-1)*7),tblPosts[post_time],\"<\"&(E$3+($B74)*7))","v":0},{"$f":"COUNTIFS(tblPosts[poster_id],F$2,tblPosts[post_time],\">=\"&(F$3+($B74-1)*7),tblPosts[post_time],\"<\"&(F$3+($B74)*7))","v":0},{"$f":"COUNTIFS(tblPosts[poster_id],G$2,tblPosts[post_time],\">=\"&(G$3+($B74-1)*7),tblPosts[post_time],\"<\"&(G$3+($B74)*7))","v":1},{"$f":"COUNTIFS(tblPosts[poster_id],H$2,tblPosts[post_time],\">=\"&(H$3+($B74-1)*7),tblPosts[post_time],\"<\"&(H$3+($B74)*7))","v":0},{"$f":"COUNTIFS(tblPosts[poster_id],I$2,tblPosts[post_time],\">=\"&(I$3+($B74-1)*7),tblPosts[post_time],\"<\"&(I$3+($B74)*7))","v":3},{"$f":"COUNTIFS(tblPosts[poster_id],J$2,tblPosts[post_time],\">=\"&(J$3+($B74-1)*7),tblPosts[post_time],\"<\"&(J$3+($B74)*7))","v":0},{"$f":"COUNTIFS(tblPosts[poster_id],K$2,tblPosts[post_time],\">=\"&(K$3+($B74-1)*7),tblPosts[post_time],\"<\"&(K$3+($B74)*7))","v":1},{"$f":"COUNTIFS(tblPosts[poster_id],L$2,tblPosts[post_time],\">=\"&(L$3+($B74-1)*7),tblPosts[post_time],\"<\"&(L$3+($B74)*7))","v":0},null,71,1159,{"$error":"#N/A"},{"$error":"#N/A"},{"$error":"#N/A"},264,{"$error":"#N/A"},279,325,250,{"$error":"#N/A"},0]
[null,72,{"$f":"COUNTIFS(tblPosts[poster_id],C$2,tblPosts[post_time],\">=\"&(C$3+($B75-1)*7),tblPosts[post_time],\"<\"&(C$3+($B75)*7))","v":23},{"$f":"COUNTIFS(tblPosts[poster_id],D$2,tblPosts[post_time],\">=\"&(D$3+($B75-1)*7),tblPosts[post_time],\"<\"&(D$3+($B75)*7))","v":0},{"$f":"COUNTIFS(tblPosts[poster_id],E$2,tblPosts[post_time],\">=\"&(E$3+($B75-1)*7),tblPosts[post_time],\"<\"&(E$3+($B75)*7))","v":0},{"$f":"COUNTIFS(tblPosts[poster_id],F$2,tblPosts[post_time],\">=\"&(F$3+($B75-1)*7),tblPosts[post_time],\"<\"&(F$3+($B75)*7))","v":0},{"$f":"COUNTIFS(tblPosts[poster_id],G$2,tblPosts[post_time],\">=\"&(G$3+($B75-1)*7),tblPosts[post_time],\"<\"&(G$3+($B75)*7))","v":5},{"$f":"COUNTIFS(tblPosts[poster_id],H$2,tblPosts[post_time],\">=\"&(H$3+($B75-1)*7),tblPosts[post_time],\"<\"&(H$3+($B75)*7))","v":0},{"$f":"COUNTIFS(tblPosts[poster_id],I$2,tblPosts[post_time],\">=\"&(I$3+($B75-1)*7),tblPosts[post_time],\"<\"&(I$3+($B75)*7))","v":4},{"$f":"COUNTIFS(tblPosts[poster_id],J$2,tblPosts[post_time],\">=\"&(J$3+($B75-1)*7),tblPosts[post_time],\"<\"&(J$3+($B75)*7))","v":0},{"$f":"COUNTIFS(tblPosts[poster_id],K$2,tblPosts[post_time],\">=\"&(K$3+($B75-1)*7),tblPosts[post_time],\"<\"&(K$3+($B75)*7))","v":3},{"$f":"COUNTIFS(tblPosts[poster_id],L$2,tblPosts[post_time],\">=\"&(L$3+($B75-1)*7),tblPosts[post_time],\"<\"&(L$3+($B75)*7))","v":0},null,72,1182,{"$error":"#N/A"},{"$error":"#N/A"},{"$error":"#N/A"},269,{"$error":"#N/A"},283,325,253,{"$error":"#N/A"},0]
[null,73,{"$f":"COUNTIFS(tblPosts[poster_id],C$2,tblPosts[post_time],\">=\"&(C$3+($B76-1)*7),tblPosts[post_time],\"<\"&(C$3+($B76)*7))","v":13},{"$f":"COUNTIFS(tblPosts[poster_id],D$2,tblPosts[post_time],\">=\"&(D$3+($B76-1)*7),tblPosts[post_time],\"<\"&(D$3+($B76)*7))","v":0},{"$f":"COUNTIFS(tblPosts[poster_id],E$2,tblPosts[post_time],\">=\"&(E$3+($B76-1)*7),tblPosts[post_time],\"<\"&(E$3+($B76)*7))","v":0},{"$f":"COUNTIFS(tblPosts[poster_id],F$2,tblPosts[post_time],\">=\"&(F$3+($B76-1)*7),tblPosts[post_time],\"<\"&(F$3+($B76)*7))","v":0},{"$f":"COUNTIFS(tblPosts[poster_id],G$2,tblPosts[post_time],\">=\"&(G$3+($B76-1)*7),tblPosts[post_time],\"<\"&(G$3+($B76)*7))","v":4},{"$f":"COUNTIFS(tblPosts[poster_id],H$2,tblPosts[post_time],\">=\"&(H$3+($B76-1)*7),tblPosts[post_time],\"<\"&(H$3+($B76)*7))","v":0},{"$f":"COUNTIFS(tblPosts[poster_id],I$2,tblPosts[post_time],\">=\"&(I$3+($B76-1)*7),tblPosts[post_time],\"<\"&(I$3+($B76)*7))","v":6},{"$f":"COUNTIFS(tblPosts[poster_id],J$2,tblPosts[post_time],\">=\"&(J$3+($B76-1)*7),tblPosts[post_time],\"<\"&(J$3+($B76)*7))","v":0},{"$f":"COUNTIFS(tblPosts[poster_id],K$2,tblPosts[post_time],\">=\"&(K$3+($B76-1)*7),tblPosts[post_time],\"<\"&(K$3+($B76)*7))","v":5},{"$f":"COUNTIFS(tblPosts[poster_id],L$2,tblPosts[post_time],\">=\"&(L$3+($B76-1)*7),tblPosts[post_time],\"<\"&(L$3+($B76)*7))","v":0},null,73,1195,{"$error":"#N/A"},{"$error":"#N/A"},{"$error":"#N/A"},273,{"$error":"#N/A"},289,325,258,{"$error":"#N/A"},0]
[null,74,{"$f":"COUNTIFS(tblPosts[poster_id],C$2,tblPosts[post_time],\">=\"&(C$3+($B77-1)*7),tblPosts[post_time],\"<\"&(C$3+($B77)*7))","v":22},{"$f":"COUNTIFS(tblPosts[poster_id],D$2,tblPosts[post_time],\">=\"&(D$3+($B77-1)*7),tblPosts[post_time],\"<\"&(D$3+($B77)*7))","v":0},{"$f":"COUNTIFS(tblPosts[poster_id],E$2,tblPosts[post_time],\">=\"&(E$3+($B77-1)*7),tblPosts[post_time],\"<\"&(E$3+($B77)*7))","v":0},{"$f":"COUNTIFS(tblPosts[poster_id],F$2,tblPosts[post_time],\">=\"&(F$3+($B77-1)*7),tblPosts[post_time],\"<\"&(F$3+($B77)*7))","v":0},{"$f":"COUNTIFS(tblPosts[poster_id],G$2,tblPosts[post_time],\">=\"&(G$3+($B77-1)*7),tblPosts[post_time],\"<\"&(G$3+($B77)*7))","v":4},{"$f":"COUNTIFS(tblPosts[poster_id],H$2,tblPosts[post_time],\">=\"&(H$3+($B77-1)*7),tblPosts[post_time],\"<\"&(H$3+($B77)*7))","v":0},{"$f":"COUNTIFS(tblPosts[poster_id],I$2,tblPosts[post_time],\">=\"&(I$3+($B77-1)*7),tblPosts[post_time],\"<\"&(I$3+($B77)*7))","v":6},{"$f":"COUNTIFS(tblPosts[poster_id],J$2,tblPosts[post_time],\">=\"&(J$3+($B77-1)*7),tblPosts[post_time],\"<\"&(J$3+($B77)*7))","v":0},{"$f":"COUNTIFS(tblPosts[poster_id],K$2,tblPosts[post_time],\">=\"&(K$3+($B77-1)*7),tblPosts[post_time],\"<\"&(K$3+($B77)*7))","v":0},{"$f":"COUNTIFS(tblPosts[poster_id],L$2,tblPosts[post_time],\">=\"&(L$3+($B77-1)*7),tblPosts[post_time],\"<\"&(L$3+($B77)*7))","v":0},null,74,1217,{"$error":"#N/A"},{"$error":"#N/A"},{"$error":"#N/A"},277,{"$error":"#N/A"},295,{"$error":"#N/A"},258,{"$error":"#N/A"},0]
[null,75,{"$f":"COUNTIFS(tblPosts[poster_id],C$2,tblPosts[post_time],\">=\"&(C$3+($B78-1)*7),tblPosts[post_time],\"<\"&(C$3+($B78)*7))","v":28},{"$f":"COUNTIFS(tblPosts[poster_id],D$2,tblPosts[post_time],\">=\"&(D$3+($B78-1)*7),tblPosts[post_time],\"<\"&(D$3+($B78)*7))","v":0},{"$f":"COUNTIFS(tblPosts[poster_id],E$2,tblPosts[post_time],\">=\"&(E$3+($B78-1)*7),tblPosts[post_time],\"<\"&(E$3+($B78)*7))","v":0},{"$f":"COUNTIFS(tblPosts[poster_id],F$2,tblPosts[post_time],\">=\"&(F$3+($B78-1)*7),tblPosts[post_time],\"<\"&(F$3+($B78)*7))","v":0},{"$f":"COUNTIFS(tblPosts[poster_id],G$2,tblPosts[post_time],\">=\"&(G$3+($B78-1)*7),tblPosts[post_time],\"<\"&(G$3+($B78)*7))","v":6},{"$f":"COUNTIFS(tblPosts[poster_id],H$2,tblPosts[post_time],\">=\"&(H$3+($B78-1)*7),tblPosts[post_time],\"<\"&(H$3+($B78)*7))","v":0},{"$f":"COUNTIFS(tblPosts[poster_id],I$2,tblPosts[post_time],\">=\"&(I$3+($B78-1)*7),tblPosts[post_time],\"<\"&(I$3+($B78)*7))","v":9},{"$f":"COUNTIFS(tblPosts[poster_id],J$2,tblPosts[post_time],\">=\"&(J$3+($B78-1)*7),tblPosts[post_time],\"<\"&(J$3+($B78)*7))","v":0},{"$f":"COUNTIFS(tblPosts[poster_id],K$2,tblPosts[post_time],\">=\"&(K$3+($B78-1)*7),tblPosts[post_time],\"<\"&(K$3+($B78)*7))","v":0},{"$f":"COUNTIFS(tblPosts[poster_id],L$2,tblPosts[post_time],\">=\"&(L$3+($B78-1)*7),tblPosts[post_time],\"<\"&(L$3+($B78)*7))","v":0},null,75,1245,{"$error":"#N/A"},{"$error":"#N/A"},{"$error":"#N/A"},283,{"$error":"#N/A"},304,{"$error":"#N/A"},258,{"$error":"#N/A"},0]
[null,76,{"$f":"COUNTIFS(tblPosts[poster_id],C$2,tblPosts[post_time],\">=\"&(C$3+($B79-1)*7),tblPosts[post_time],\"<\"&(C$3+($B79)*7))","v":42},{"$f":"COUNTIFS(tblPosts[poster_id],D$2,tblPosts[post_time],\">=\"&(D$3+($B79-1)*7),tblPosts[post_time],\"<\"&(D$3+($B79)*7))","v":0},{"$f":"COUNTIFS(tblPosts[poster_id],E$2,tblPosts[post_time],\">=\"&(E$3+($B79-1)*7),tblPosts[post_time],\"<\"&(E$3+($B79)*7))","v":0},{"$f":"COUNTIFS(tblPosts[poster_id],F$2,tblPosts[post_time],\">=\"&(F$3+($B79-1)*7),tblPosts[post_time],\"<\"&(F$3+($B79)*7))","v":0},{"$f":"COUNTIFS(tblPosts[poster_id],G$2,tblPosts[post_time],\">=\"&(G$3+($B79-1)*7),tblPosts[post_time],\"<\"&(G$3+($B79)*7))","v":1},{"$f":"COUNTIFS(tblPosts[poster_id],H$2,tblPosts[post_time],\">=\"&(H$3+($B79-1)*7),tblPosts[post_time],\"<\"&(H$3+($B79)*7))","v":0},{"$f":"COUNTIFS(tblPosts[poster_id],I$2,tblPosts[post_time],\">=\"&(I$3+($B79-1)*7),tblPosts[post_time],\"<\"&(I$3+($B79)*7))","v":1},{"$f":"COUNTIFS(tblPosts[poster_id],J$2,tblPosts[post_time],\">=\"&(J$3+($B79-1)*7),tblPosts[post_time],\"<\"&(J$3+($B79)*7))","v":0},{"$f":"COUNTIFS(tblPosts[poster_id],K$2,tblPosts[post_time],\">=\"&(K$3+($B79-1)*7),tblPosts[post_time],\"<\"&(K$3+($B79)*7))","v":0},{"$f":"COUNTIFS(tblPosts[poster_id],L$2,tblPosts[post_time],\">=\"&(L$3+($B79-1)*7),tblPosts[post_time],\"<\"&(L$3+($B79)*7))","v":0},null,76,1287,{"$error":"#N/A"},{"$error":"#N/A"},{"$error":"#N/A"},284,{"$error":"#N/A"},305,{"$error":"#N/A"},{"$error":"#N/A"},{"$error":"#N/A"},0]
[null,77,{"$f":"COUNTIFS(tblPosts[poster_id],C$2,tblPosts[post_time],\">=\"&(C$3+($B80-1)*7),tblPosts[post_time],\"<\"&(C$3+($B80)*7))","v":41},{"$f":"COUNTIFS(tblPosts[poster_id],D$2,tblPosts[post_time],\">=\"&(D$3+($B80-1)*7),tblPosts[post_time],\"<\"&(D$3+($B80)*7))","v":0},{"$f":"COUNTIFS(tblPosts[poster_id],E$2,tblPosts[post_time],\">=\"&(E$3+($B80-1)*7),tblPosts[post_time],\"<\"&(E$3+($B80)*7))","v":0},{"$f":"COUNTIFS(tblPosts[poster_id],F$2,tblPosts[post_time],\">=\"&(F$3+($B80-1)*7),tblPosts[post_time],\"<\"&(F$3+($B80)*7))","v":0},{"$f":"COUNTIFS(tblPosts[poster_id],G$2,tblPosts[post_time],\">=\"&(G$3+($B80-1)*7),tblPosts[post_time],\"<\"&(G$3+($B80)*7))","v":0},{"$f":"COUNTIFS(tblPosts[poster_id],H$2,tblPosts[post_time],\">=\"&(H$3+($B80-1)*7),tblPosts[post_time],\"<\"&(H$3+($B80)*7))","v":0},{"$f":"COUNTIFS(tblPosts[poster_id],I$2,tblPosts[post_time],\">=\"&(I$3+($B80-1)*7),tblPosts[post_time],\"<\"&(I$3+($B80)*7))","v":2},{"$f":"COUNTIFS(tblPosts[poster_id],J$2,tblPosts[post_time],\">=\"&(J$3+($B80-1)*7),tblPosts[post_time],\"<\"&(J$3+($B80)*7))","v":0},{"$f":"COUNTIFS(tblPosts[poster_id],K$2,tblPosts[post_time],\">=\"&(K$3+($B80-1)*7),tblPosts[post_time],\"<\"&(K$3+($B80)*7))","v":0},{"$f":"COUNTIFS(tblPosts[poster_id],L$2,tblPosts[post_time],\">=\"&(L$3+($B80-1)*7),tblPosts[post_time],\"<\"&(L$3+($B80)*7))","v":0},null,77,1328,{"$error":"#N/A"},{"$error":"#N/A"},{"$error":"#N/A"},284,{"$error":"#N/A"},307,{"$error":"#N/A"},{"$error":"#N/A"},{"$error":"#N/A"},0]
[null,78,{"$f":"COUNTIFS(tblPosts[poster_id],C$2,tblPosts[post_time],\">=\"&(C$3+($B81-1)*7),tblPosts[post_time],\"<\"&(C$3+($B81)*7))","v":29},{"$f":"COUNTIFS(tblPosts[poster_id],D$2,tblPosts[post_time],\">=\"&(D$3+($B81-1)*7),tblPosts[post_time],\"<\"&(D$3+($B81)*7))","v":0},{"$f":"COUNTIFS(tblPosts[poster_id],E$2,tblPosts[post_time],\">=\"&(E$3+($B81-1)*7),tblPosts[post_time],\"<\"&(E$3+($B81)*7))","v":0},{"$f":"COUNTIFS(tblPosts[poster_id],F$2,tblPosts[post_time],\">=\"&(F$3+($B81-1)*7),tblPosts[post_time],\"<\"&(F$3+($B81)*7))","v":0},{"$f":"COUNTIFS(tblPosts[poster_id],G$2,tblPosts[post_time],\">=\"&(G$3+($B81-1)*7),tblPosts[post_time],\"<\"&(G$3+($B81)*7))","v":0},{"$f":"COUNTIFS(tblPosts[poster_id],H$2,tblPosts[post_time],\">=\"&(H$3+($B81-1)*7),tblPosts[post_time],\"<\"&(H$3+($B81)*7))","v":0},{"$f":"COUNTIFS(tblPosts[poster_id],I$2,tblPosts[post_time],\">=\"&(I$3+($B81-1)*7),tblPosts[post_time],\"<\"&(I$3+($B81)*7))","v":2},{"$f":"COUNTIFS(tblPosts[poster_id],J$2,tblPosts[post_time],\">=\"&(J$3+($B81-1)*7),tblPosts[post_time],\"<\"&(J$3+($B81)*7))","v":0},{"$f":"COUNTIFS(tblPosts[poster_id],K$2,tblPosts[post_time],\">=\"&(K$3+($B81-1)*7),tblPosts[post_time],\"<\"&(K$3+($B81)*7))","v":0},{"$f":"COUNTIFS(tblPosts[poster_id],L$2,tblPosts[post_time],\">=\"&(L$3+($B81-1)*7),tblPosts[post_time],\"<\"&(L$3+($B81)*7))","v":0},null,78,1357,{"$error":"#N/A"},{"$error":"#N/A"},{"$error":"#N/A"},284,{"$error":"#N/A"},309,{"$error":"#N/A"},{"$error":"#N/A"},{"$error":"#N/A"},0]
[null,79,{"$f":"COUNTIFS(tblPosts[poster_id],C$2,tblPosts[post_time],\">=\"&(C$3+($B82-1)*7),tblPosts[post_time],\"<\"&(C$3+($B82)*7))","v":19},{"$f":"COUNTIFS(tblPosts[poster_id],D$2,tblPosts[post_time],\">=\"&(D$3+($B82-1)*7),tblPosts[post_time],\"<\"&(D$3+($B82)*7))","v":0},{"$f":"COUNTIFS(tblPosts[poster_id],E$2,tblPosts[post_time],\">=\"&(E$3+($B82-1)*7),tblPosts[post_time],\"<\"&(E$3+($B82)*7))","v":0},{"$f":"COUNTIFS(tblPosts[poster_id],F$2,tblPosts[post_time],\">=\"&(F$3+($B82-1)*7),tblPosts[post_time],\"<\"&(F$3+($B82)*7))","v":0},{"$f":"COUNTIFS(tblPosts[poster_id],G$2,tblPosts[post_time],\">=\"&(G$3+($B82-1)*7),tblPosts[post_time],\"<\"&(G$3+($B82)*7))","v":0},{"$f":"COUNTIFS(tblPosts[poster_id],H$2,tblPosts[post_time],\">=\"&(H$3+($B82-1)*7),tblPosts[post_time],\"<\"&(H$3+($B82)*7))","v":0},{"$f":"COUNTIFS(tblPosts[poster_id],I$2,tblPosts[post_time],\">=\"&(I$3+($B82-1)*7),tblPosts[post_time],\"<\"&(I$3+($B82)*7))","v":2},{"$f":"COUNTIFS(tblPosts[poster_id],J$2,tblPosts[post_time],\">=\"&(J$3+($B82-1)*7),tblPosts[post_time],\"<\"&(J$3+($B82)*7))","v":0},{"$f":"COUNTIFS(tblPosts[poster_id],K$2,tblPosts[post_time],\">=\"&(K$3+($B82-1)*7),tblPosts[post_time],\"<\"&(K$3+($B82)*7))","v":0},{"$f":"COUNTIFS(tblPosts[poster_id],L$2,tblPosts[post_time],\">=\"&(L$3+($B82-1)*7),tblPosts[post_time],\"<\"&(L$3+($B82)*7))","v":0},null,79,1376,{"$error":"#N/A"},{"$error":"#N/A"},{"$error":"#N/A"},284,{"$error":"#N/A"},311,{"$error":"#N/A"},{"$error":"#N/A"},{"$error":"#N/A"},0]
[null,80,{"$f":"COUNTIFS(tblPosts[poster_id],C$2,tblPosts[post_time],\">=\"&(C$3+($B83-1)*7),tblPosts[post_time],\"<\"&(C$3+($B83)*7))","v":28},{"$f":"COUNTIFS(tblPosts[poster_id],D$2,tblPosts[post_time],\">=\"&(D$3+($B83-1)*7),tblPosts[post_time],\"<\"&(D$3+($B83)*7))","v":0},{"$f":"COUNTIFS(tblPosts[poster_id],E$2,tblPosts[post_time],\">=\"&(E$3+($B83-1)*7),tblPosts[post_time],\"<\"&(E$3+($B83)*7))","v":0},{"$f":"COUNTIFS(tblPosts[poster_id],F$2,tblPosts[post_time],\">=\"&(F$3+($B83-1)*7),tblPosts[post_time],\"<\"&(F$3+($B83)*7))","v":0},{"$f":"COUNTIFS(tblPosts[poster_id],G$2,tblPosts[post_time],\">=\"&(G$3+($B83-1)*7),tblPosts[post_time],\"<\"&(G$3+($B83)*7))","v":1},{"$f":"COUNTIFS(tblPosts[poster_id],H$2,tblPosts[post_time],\">=\"&(H$3+($B83-1)*7),tblPosts[post_time],\"<\"&(H$3+($B83)*7))","v":0},{"$f":"COUNTIFS(tblPosts[poster_id],I$2,tblPosts[post_time],\">=\"&(I$3+($B83-1)*7),tblPosts[post_time],\"<\"&(I$3+($B83)*7))","v":1},{"$f":"COUNTIFS(tblPosts[poster_id],J$2,tblPosts[post_time],\">=\"&(J$3+($B83-1)*7),tblPosts[post_time],\"<\"&(J$3+($B83)*7))","v":0},{"$f":"COUNTIFS(tblPosts[poster_id],K$2,tblPosts[post_time],\">=\"&(K$3+($B83-1)*7),tblPosts[post_time],\"<\"&(K$3+($B83)*7))","v":0},{"$f":"COUNTIFS(tblPosts[poster_id],L$2,tblPosts[post_time],\">=\"&(L$3+($B83-1)*7),tblPosts[post_time],\"<\"&(L$3+($B83)*7))","v":0},null,80,1404,{"$error":"#N/A"},{"$error":"#N/A"},{"$error":"#N/A"},285,{"$error":"#N/A"},312,{"$error":"#N/A"},{"$error":"#N/A"},{"$error":"#N/A"},0]
[null,81,{"$f":"COUNTIFS(tblPosts[poster_id],C$2,tblPosts[post_time],\">=\"&(C$3+($B84-1)*7),tblPosts[post_time],\"<\"&(C$3+($B84)*7))","v":35},{"$f":"COUNTIFS(tblPosts[poster_id],D$2,tblPosts[post_time],\">=\"&(D$3+($B84-1)*7),tblPosts[post_time],\"<\"&(D$3+($B84)*7))","v":0},{"$f":"COUNTIFS(tblPosts[poster_id],E$2,tblPosts[post_time],\">=\"&(E$3+($B84-1)*7),tblPosts[post_time],\"<\"&(E$3+($B84)*7))","v":0},{"$f":"COUNTIFS(tblPosts[poster_id],F$2,tblPosts[post_time],\">=\"&(F$3+($B84-1)*7),tblPosts[post_time],\"<\"&(F$3+($B84)*7))","v":0},{"$f":"COUNTIFS(tblPosts[poster_id],G$2,tblPosts[post_time],\">=\"&(G$3+($B84-1)*7),tblPosts[post_time],\"<\"&(G$3+($B84)*7))","v":5},{"$f":"COUNTIFS(tblPosts[poster_id],H$2,tblPosts[post_time],\">=\"&(H$3+($B84-1)*7),tblPosts[post_time],\"<\"&(H$3+($B84)*7))","v":0},{"$f":"COUNTIFS(tblPosts[poster_id],I$2,tblPosts[post_time],\">=\"&(I$3+($B84-1)*7),tblPosts[post_time],\"<\"&(I$3+($B84)*7))","v":2},{"$f":"COUNTIFS(tblPosts[poster_id],J$2,tblPosts[post_time],\">=\"&(J$3+($B84-1)*7),tblPosts[post_time],\"<\"&(J$3+($B84)*7))","v":0},{"$f":"COUNTIFS(tblPosts[poster_id],K$2,tblPosts[post_time],\">=\"&(K$3+($B84-1)*7),tblPosts[post_time],\"<\"&(K$3+($B84)*7))","v":0},{"$f":"COUNTIFS(tblPosts[poster_id],L$2,tblPosts[post_time],\">=\"&(L$3+($B84-1)*7),tblPosts[post_time],\"<\"&(L$3+($B84)*7))","v":0},null,81,1439,{"$error":"#N/A"},{"$error":"#N/A"},{"$error":"#N/A"},290,{"$error":"#N/A"},314,{"$error":"#N/A"},{"$error":"#N/A"},{"$error":"#N/A"},0]
[null,82,{"$f":"COUNTIFS(tblPosts[poster_id],C$2,tblPosts[post_time],\">=\"&(C$3+($B85-1)*7),tblPosts[post_time],\"<\"&(C$3+($B85)*7))","v":27},{"$f":"COUNTIFS(tblPosts[poster_id],D$2,tblPosts[post_time],\">=\"&(D$3+($B85-1)*7),tblPosts[post_time],\"<\"&(D$3+($B85)*7))","v":0},{"$f":"COUNTIFS(tblPosts[poster_id],E$2,tblPosts[post_time],\">=\"&(E$3+($B85-1)*7),tblPosts[post_time],\"<\"&(E$3+($B85)*7))","v":0},{"$f":"COUNTIFS(tblPosts[poster_id],F$2,tblPosts[post_time],\">=\"&(F$3+($B85-1)*7),tblPosts[post_time],\"<\"&(F$3+($B85)*7))","v":0},{"$f":"COUNTIFS(tblPosts[poster_id],G$2,tblPosts[post_time],\">=\"&(G$3+($B85-1)*7),tblPosts[post_time],\"<\"&(G$3+($B85)*7))","v":4},{"$f":"COUNTIFS(tblPosts[poster_id],H$2,tblPosts[post_time],\">=\"&(H$3+($B85-1)*7),tblPosts[post_time],\"<\"&(H$3+($B85)*7))","v":0},{"$f":"COUNTIFS(tblPosts[poster_id],I$2,tblPosts[post_time],\">=\"&(I$3+($B85-1)*7),tblPosts[post_time],\"<\"&(I$3+($B85)*7))","v":1},{"$f":"COUNTIFS(tblPosts[poster_id],J$2,tblPosts[post_time],\">=\"&(J$3+($B85-1)*7),tblPosts[post_time],\"<\"&(J$3+($B85)*7))","v":0},{"$f":"COUNTIFS(tblPosts[poster_id],K$2,tblPosts[post_time],\">=\"&(K$3+($B85-1)*7),tblPosts[post_time],\"<\"&(K$3+($B85)*7))","v":0},{"$f":"COUNTIFS(tblPosts[poster_id],L$2,tblPosts[post_time],\">=\"&(L$3+($B85-1)*7),tblPosts[post_time],\"<\"&(L$3+($B85)*7))","v":0},null,82,1466,{"$error":"#N/A"},{"$error":"#N/A"},{"$error":"#N/A"},294,{"$error":"#N/A"},315,{"$error":"#N/A"},{"$error":"#N/A"},{"$error":"#N/A"},0]
[null,83,{"$f":"COUNTIFS(tblPosts[poster_id],C$2,tblPosts[post_time],\">=\"&(C$3+($B86-1)*7),tblPosts[post_time],\"<\"&(C$3+($B86)*7))","v":28},{"$f":"COUNTIFS(tblPosts[poster_id],D$2,tblPosts[post_time],\">=\"&(D$3+($B86-1)*7),tblPosts[post_time],\"<\"&(D$3+($B86)*7))","v":0},{"$f":"COUNTIFS(tblPosts[poster_id],E$2,tblPosts[post_time],\">=\"&(E$3+($B86-1)*7),tblPosts[post_time],\"<\"&(E$3+($B86)*7))","v":0},{"$f":"COUNTIFS(tblPosts[poster_id],F$2,tblPosts[post_time],\">=\"&(F$3+($B86-1)*7),tblPosts[post_time],\"<\"&(F$3+($B86)*7))","v":0},{"$f":"COUNTIFS(tblPosts[poster_id],G$2,tblPosts[post_time],\">=\"&(G$3+($B86-1)*7),tblPosts[post_time],\"<\"&(G$3+($B86)*7))","v":0},{"$f":"COUNTIFS(tblPosts[poster_id],H$2,tblPosts[post_time],\">=\"&(H$3+($B86-1)*7),tblPosts[post_time],\"<\"&(H$3+($B86)*7))","v":0},{"$f":"COUNTIFS(tblPosts[poster_id],I$2,tblPosts[post_time],\">=\"&(I$3+($B86-1)*7),tblPosts[post_time],\"<\"&(I$3+($B86)*7))","v":0},{"$f":"COUNTIFS(tblPosts[poster_id],J$2,tblPosts[post_time],\">=\"&(J$3+($B86-1)*7),tblPosts[post_time],\"<\"&(J$3+($B86)*7))","v":0},{"$f":"COUNTIFS(tblPosts[poster_id],K$2,tblPosts[post_time],\">=\"&(K$3+($B86-1)*7),tblPosts[post_time],\"<\"&(K$3+($B86)*7))","v":0},{"$f":"COUNTIFS(tblPosts[poster_id],L$2,tblPosts[post_time],\">=\"&(L$3+($B86-1)*7),tblPosts[post_time],\"<\"&(L$3+($B86)*7))","v":0},null,83,1494,{"$error":"#N/A"},{"$error":"#N/A"},{"$error":"#N/A"},294,{"$error":"#N/A"},315,{"$error":"#N/A"},{"$error":"#N/A"},{"$error":"#N/A"},0]
[null,84,{"$f":"COUNTIFS(tblPosts[poster_id],C$2,tblPosts[post_time],\">=\"&(C$3+($B87-1)*7),tblPosts[post_time],\"<\"&(C$3+($B87)*7))","v":10},{"$f":"COUNTIFS(tblPosts[poster_id],D$2,tblPosts[post_time],\">=\"&(D$3+($B87-1)*7),tblPosts[post_time],\"<\"&(D$3+($B87)*7))","v":0},{"$f":"COUNTIFS(tblPosts[poster_id],E$2,tblPosts[post_time],\">=\"&(E$3+($B87-1)*7),tblPosts[post_time],\"<\"&(E$3+($B87)*7))","v":0},{"$f":"COUNTIFS(tblPosts[poster_id],F$2,tblPosts[post_time],\">=\"&(F$3+($B87-1)*7),tblPosts[post_time],\"<\"&(F$3+($B87)*7))","v":0},{"$f":"COUNTIFS(tblPosts[poster_id],G$2,tblPosts[post_time],\">=\"&(G$3+($B87-1)*7),tblPosts[post_time],\"<\"&(G$3+($B87)*7))","v":1},{"$f":"COUNTIFS(tblPosts[poster_id],H$2,tblPosts[post_time],\">=\"&(H$3+($B87-1)*7),tblPosts[post_time],\"<\"&(H$3+($B87)*7))","v":0},{"$f":"COUNTIFS(tblPosts[poster_id],I$2,tblPosts[post_time],\">=\"&(I$3+($B87-1)*7),tblPosts[post_time],\"<\"&(I$3+($B87)*7))","v":1},{"$f":"COUNTIFS(tblPosts[poster_id],J$2,tblPosts[post_time],\">=\"&(J$3+($B87-1)*7),tblPosts[post_time],\"<\"&(J$3+($B87)*7))","v":0},{"$f":"COUNTIFS(tblPosts[poster_id],K$2,tblPosts[post_time],\">=\"&(K$3+($B87-1)*7),tblPosts[post_time],\"<\"&(K$3+($B87)*7))","v":0},{"$f":"COUNTIFS(tblPosts[poster_id],L$2,tblPosts[post_time],\">=\"&(L$3+($B87-1)*7),tblPosts[post_time],\"<\"&(L$3+($B87)*7))","v":0},null,84,1504,{"$error":"#N/A"},{"$error":"#N/A"},{"$error":"#N/A"},295,{"$error":"#N/A"},316,{"$error":"#N/A"},{"$error":"#N/A"},{"$error":"#N/A"},0]
[null,85,{"$f":"COUNTIFS(tblPosts[poster_id],C$2,tblPosts[post_time],\">=\"&(C$3+($B88-1)*7),tblPosts[post_time],\"<\"&(C$3+($B88)*7))","v":19},{"$f":"COUNTIFS(tblPosts[poster_id],D$2,tblPosts[post_time],\">=\"&(D$3+($B88-1)*7),tblPosts[post_time],\"<\"&(D$3+($B88)*7))","v":0},{"$f":"COUNTIFS(tblPosts[poster_id],E$2,tblPosts[post_time],\">=\"&(E$3+($B88-1)*7),tblPosts[post_time],\"<\"&(E$3+($B88)*7))","v":0},{"$f":"COUNTIFS(tblPosts[poster_id],F$2,tblPosts[post_time],\">=\"&(F$3+($B88-1)*7),tblPosts[post_time],\"<\"&(F$3+($B88)*7))","v":0},{"$f":"COUNTIFS(tblPosts[poster_id],G$2,tblPosts[post_time],\">=\"&(G$3+($B88-1)*7),tblPosts[post_time],\"<\"&(G$3+($B88)*7))","v":0},{"$f":"COUNTIFS(tblPosts[poster_id],H$2,tblPosts[post_time],\">=\"&(H$3+($B88-1)*7),tblPosts[post_time],\"<\"&(H$3+($B88)*7))","v":0},{"$f":"COUNTIFS(tblPosts[poster_id],I$2,tblPosts[post_time],\">=\"&(I$3+($B88-1)*7),tblPosts[post_time],\"<\"&(I$3+($B88)*7))","v":3},{"$f":"COUNTIFS(tblPosts[poster_id],J$2,tblPosts[post_time],\">=\"&(J$3+($B88-1)*7),tblPosts[post_time],\"<\"&(J$3+($B88)*7))","v":0},{"$f":"COUNTIFS(tblPosts[poster_id],K$2,tblPosts[post_time],\">=\"&(K$3+($B88-1)*7),tblPosts[post_time],\"<\"&(K$3+($B88)*7))","v":0},{"$f":"COUNTIFS(tblPosts[poster_id],L$2,tblPosts[post_time],\">=\"&(L$3+($B88-1)*7),tblPosts[post_time],\"<\"&(L$3+($B88)*7))","v":0},null,85,1523,{"$error":"#N/A"},{"$error":"#N/A"},{"$error":"#N/A"},295,{"$error":"#N/A"},319,{"$error":"#N/A"},{"$error":"#N/A"},{"$error":"#N/A"},0]
[null,86,{"$f":"COUNTIFS(tblPosts[poster_id],C$2,tblPosts[post_time],\">=\"&(C$3+($B89-1)*7),tblPosts[post_time],\"<\"&(C$3+($B89)*7))","v":26},{"$f":"COUNTIFS(tblPosts[poster_id],D$2,tblPosts[post_time],\">=\"&(D$3+($B89-1)*7),tblPosts[post_time],\"<\"&(D$3+($B89)*7))","v":0},{"$f":"COUNTIFS(tblPosts[poster_id],E$2,tblPosts[post_time],\">=\"&(E$3+($B89-1)*7),tblPosts[post_time],\"<\"&(E$3+($B89)*7))","v":0},{"$f":"COUNTIFS(tblPosts[poster_id],F$2,tblPosts[post_time],\">=\"&(F$3+($B89-1)*7),tblPosts[post_time],\"<\"&(F$3+($B89)*7))","v":0},{"$f":"COUNTIFS(tblPosts[poster_id],G$2,tblPosts[post_time],\">=\"&(G$3+($B89-1)*7),tblPosts[post_time],\"<\"&(G$3+($B89)*7))","v":0},{"$f":"COUNTIFS(tblPosts[poster_id],H$2,tblPosts[post_time],\">=\"&(H$3+($B89-1)*7),tblPosts[post_time],\"<\"&(H$3+($B89)*7))","v":0},{"$f":"COUNTIFS(tblPosts[poster_id],I$2,tblPosts[post_time],\">=\"&(I$3+($B89-1)*7),tblPosts[post_time],\"<\"&(I$3+($B89)*7))","v":3},{"$f":"COUNTIFS(tblPosts[poster_id],J$2,tblPosts[post_time],\">=\"&(J$3+($B89-1)*7),tblPosts[post_time],\"<\"&(J$3+($B89)*7))","v":0},{"$f":"COUNTIFS(tblPosts[poster_id],K$2,tblPosts[post_time],\">=\"&(K$3+($B89-1)*7),tblPosts[post_time],\"<\"&(K$3+($B89)*7))","v":0},{"$f":"COUNTIFS(tblPosts[poster_id],L$2,tblPosts[post_time],\">=\"&(L$3+($B89-1)*7),tblPosts[post_time],\"<\"&(L$3+($B89)*7))","v":0},null,86,1549,{"$error":"#N/A"},{"$error":"#N/A"},{"$error":"#N/A"},295,{"$error":"#N/A"},322,{"$error":"#N/A"},{"$error":"#N/A"},{"$error":"#N/A"},0]
[null,87,{"$f":"COUNTIFS(tblPosts[poster_id],C$2,tblPosts[post_time],\">=\"&(C$3+($B90-1)*7),tblPosts[post_time],\"<\"&(C$3+($B90)*7))","v":31},{"$f":"COUNTIFS(tblPosts[poster_id],D$2,tblPosts[post_time],\">=\"&(D$3+($B90-1)*7),tblPosts[post_time],\"<\"&(D$3+($B90)*7))","v":0},{"$f":"COUNTIFS(tblPosts[poster_id],E$2,tblPosts[post_time],\">=\"&(E$3+($B90-1)*7),tblPosts[post_time],\"<\"&(E$3+($B90)*7))","v":0},{"$f":"COUNTIFS(tblPosts[poster_id],F$2,tblPosts[post_time],\">=\"&(F$3+($B90-1)*7),tblPosts[post_time],\"<\"&(F$3+($B90)*7))","v":0},{"$f":"COUNTIFS(tblPosts[poster_id],G$2,tblPosts[post_time],\">=\"&(G$3+($B90-1)*7),tblPosts[post_time],\"<\"&(G$3+($B90)*7))","v":0},{"$f":"COUNTIFS(tblPosts[poster_id],H$2,tblPosts[post_time],\">=\"&(H$3+($B90-1)*7),tblPosts[post_time],\"<\"&(H$3+($B90)*7))","v":0},{"$f":"COUNTIFS(tblPosts[poster_id],I$2,tblPosts[post_time],\">=\"&(I$3+($B90-1)*7),tblPosts[post_time],\"<\"&(I$3+($B90)*7))","v":1},{"$f":"COUNTIFS(tblPosts[poster_id],J$2,tblPosts[post_time],\">=\"&(J$3+($B90-1)*7),tblPosts[post_time],\"<\"&(J$3+($B90)*7))","v":0},{"$f":"COUNTIFS(tblPosts[poster_id],K$2,tblPosts[post_time],\">=\"&(K$3+($B90-1)*7),tblPosts[post_time],\"<\"&(K$3+($B90)*7))","v":0},{"$f":"COUNTIFS(tblPosts[poster_id],L$2,tblPosts[post_time],\">=\"&(L$3+($B90-1)*7),tblPosts[post_time],\"<\"&(L$3+($B90)*7))","v":0},null,87,1580,{"$error":"#N/A"},{"$error":"#N/A"},{"$error":"#N/A"},295,{"$error":"#N/A"},323,{"$error":"#N/A"},{"$error":"#N/A"},{"$error":"#N/A"},0]
[null,88,{"$f":"COUNTIFS(tblPosts[poster_id],C$2,tblPosts[post_time],\">=\"&(C$3+($B91-1)*7),tblPosts[post_time],\"<\"&(C$3+($B91)*7))","v":18},{"$f":"COUNTIFS(tblPosts[poster_id],D$2,tblPosts[post_time],\">=\"&(D$3+($B91-1)*7),tblPosts[post_time],\"<\"&(D$3+($B91)*7))","v":0},{"$f":"COUNTIFS(tblPosts[poster_id],E$2,tblPosts[post_time],\">=\"&(E$3+($B91-1)*7),tblPosts[post_time],\"<\"&(E$3+($B91)*7))","v":0},{"$f":"COUNTIFS(tblPosts[poster_id],F$2,tblPosts[post_time],\">=\"&(F$3+($B91-1)*7),tblPosts[post_time],\"<\"&(F$3+($B91)*7))","v":0},{"$f":"COUNTIFS(tblPosts[poster_id],G$2,tblPosts[post_time],\">=\"&(G$3+($B91-1)*7),tblPosts[post_time],\"<\"&(G$3+($B91)*7))","v":6},{"$f":"COUNTIFS(tblPosts[poster_id],H$2,tblPosts[post_time],\">=\"&(H$3+($B91-1)*7),tblPosts[post_time],\"<\"&(H$3+($B91)*7))","v":0},{"$f":"COUNTIFS(tblPosts[poster_id],I$2,tblPosts[post_time],\">=\"&(I$3+($B91-1)*7),tblPosts[post_time],\"<\"&(I$3+($B91)*7))","v":1},{"$f":"COUNTIFS(tblPosts[poster_id],J$2,tblPosts[post_time],\">=\"&(J$3+($B91-1)*7),tblPosts[post_time],\"<\"&(J$3+($B91)*7))","v":0},{"$f":"COUNTIFS(tblPosts[poster_id],K$2,tblPosts[post_time],\">=\"&(K$3+($B91-1)*7),tblPosts[post_time],\"<\"&(K$3+($B91)*7))","v":0},{"$f":"COUNTIFS(tblPosts[poster_id],L$2,tblPosts[post_time],\">=\"&(L$3+($B91-1)*7),tblPosts[post_time],\"<\"&(L$3+($B91)*7))","v":0},null,88,1598,{"$error":"#N/A"},{"$error":"#N/A"},{"$error":"#N/A"},301,{"$error":"#N/A"},324,{"$error":"#N/A"},{"$error":"#N/A"},{"$error":"#N/A"},0]
[null,89,{"$f":"COUNTIFS(tblPosts[poster_id],C$2,tblPosts[post_time],\">=\"&(C$3+($B92-1)*7),tblPosts[post_time],\"<\"&(C$3+($B92)*7))","v":30},{"$f":"COUNTIFS(tblPosts[poster_id],D$2,tblPosts[post_time],\">=\"&(D$3+($B92-1)*7),tblPosts[post_time],\"<\"&(D$3+($B92)*7))","v":0},{"$f":"COUNTIFS(tblPosts[poster_id],E$2,tblPosts[post_time],\">=\"&(E$3+($B92-1)*7),tblPosts[post_time],\"<\"&(E$3+($B92)*7))","v":0},{"$f":"COUNTIFS(tblPosts[poster_id],F$2,tblPosts[post_time],\">=\"&(F$3+($B92-1)*7),tblPosts[post_time],\"<\"&(F$3+($B92)*7))","v":0},{"$f":"COUNTIFS(tblPosts[poster_id],G$2,tblPosts[post_time],\">=\"&(G$3+($B92-1)*7),tblPosts[post_time],\"<\"&(G$3+($B92)*7))","v":0},{"$f":"COUNTIFS(tblPosts[poster_id],H$2,tblPosts[post_time],\">=\"&(H$3+($B92-1)*7),tblPosts[post_time],\"<\"&(H$3+($B92)*7))","v":0},{"$f":"COUNTIFS(tblPosts[poster_id],I$2,tblPosts[post_time],\">=\"&(I$3+($B92-1)*7),tblPosts[post_time],\"<\"&(I$3+($B92)*7))","v":2},{"$f":"COUNTIFS(tblPosts[poster_id],J$2,tblPosts[post_time],\">=\"&(J$3+($B92-1)*7),tblPosts[post_time],\"<\"&(J$3+($B92)*7))","v":0},{"$f":"COUNTIFS(tblPosts[poster_id],K$2,tblPosts[post_time],\">=\"&(K$3+($B92-1)*7),tblPosts[post_time],\"<\"&(K$3+($B92)*7))","v":0},{"$f":"COUNTIFS(tblPosts[poster_id],L$2,tblPosts[post_time],\">=\"&(L$3+($B92-1)*7),tblPosts[post_time],\"<\"&(L$3+($B92)*7))","v":0},null,89,1628,{"$error":"#N/A"},{"$error":"#N/A"},{"$error":"#N/A"},301,{"$error":"#N/A"},326,{"$error":"#N/A"},{"$error":"#N/A"},{"$error":"#N/A"},0]
[null,90,{"$f":"COUNTIFS(tblPosts[poster_id],C$2,tblPosts[post_time],\">=\"&(C$3+($B93-1)*7),tblPosts[post_time],\"<\"&(C$3+($B93)*7))","v":34},{"$f":"COUNTIFS(tblPosts[poster_id],D$2,tblPosts[post_time],\">=\"&(D$3+($B93-1)*7),tblPosts[post_time],\"<\"&(D$3+($B93)*7))","v":0},{"$f":"COUNTIFS(tblPosts[poster_id],E$2,tblPosts[post_time],\">=\"&(E$3+($B93-1)*7),tblPosts[post_time],\"<\"&(E$3+($B93)*7))","v":0},{"$f":"COUNTIFS(tblPosts[poster_id],F$2,tblPosts[post_time],\">=\"&(F$3+($B93-1)*7),tblPosts[post_time],\"<\"&(F$3+($B93)*7))","v":0},{"$f":"COUNTIFS(tblPosts[poster_id],G$2,tblPosts[post_time],\">=\"&(G$3+($B93-1)*7),tblPosts[post_time],\"<\"&(G$3+($B93)*7))","v":0},{"$f":"COUNTIFS(tblPosts[poster_id],H$2,tblPosts[post_time],\">=\"&(H$3+($B93-1)*7),tblPosts[post_time],\"<\"&(H$3+($B93)*7))","v":0},{"$f":"COUNTIFS(tblPosts[poster_id],I$2,tblPosts[post_time],\">=\"&(I$3+($B93-1)*7),tblPosts[post_time],\"<\"&(I$3+($B93)*7))","v":0},{"$f":"COUNTIFS(tblPosts[poster_id],J$2,tblPosts[post_time],\">=\"&(J$3+($B93-1)*7),tblPosts[post_time],\"<\"&(J$3+($B93)*7))","v":0},{"$f":"COUNTIFS(tblPosts[poster_id],K$2,tblPosts[post_time],\">=\"&(K$3+($B93-1)*7),tblPosts[post_time],\"<\"&(K$3+($B93)*7))","v":0},{"$f":"COUNTIFS(tblPosts[poster_id],L$2,tblPosts[post_time],\">=\"&(L$3+($B93-1)*7),tblPosts[post_time],\"<\"&(L$3+($B93)*7))","v":0},null,90,1662,{"$error":"#N/A"},{"$error":"#N/A"},{"$error":"#N/A"},301,{"$error":"#N/A"},326,{"$error":"#N/A"},{"$error":"#N/A"},{"$error":"#N/A"},0]
[null,91,{"$f":"COUNTIFS(tblPosts[poster_id],C$2,tblPosts[post_time],\">=\"&(C$3+($B94-1)*7),tblPosts[post_time],\"<\"&(C$3+($B94)*7))","v":45},{"$f":"COUNTIFS(tblPosts[poster_id],D$2,tblPosts[post_time],\">=\"&(D$3+($B94-1)*7),tblPosts[post_time],\"<\"&(D$3+($B94)*7))","v":0},{"$f":"COUNTIFS(tblPosts[poster_id],E$2,tblPosts[post_time],\">=\"&(E$3+($B94-1)*7),tblPosts[post_time],\"<\"&(E$3+($B94)*7))","v":0},{"$f":"COUNTIFS(tblPosts[poster_id],F$2,tblPosts[post_time],\">=\"&(F$3+($B94-1)*7),tblPosts[post_time],\"<\"&(F$3+($B94)*7))","v":0},{"$f":"COUNTIFS(tblPosts[poster_id],G$2,tblPosts[post_time],\">=\"&(G$3+($B94-1)*7),tblPosts[post_time],\"<\"&(G$3+($B94)*7))","v":0},{"$f":"COUNTIFS(tblPosts[poster_id],H$2,tblPosts[post_time],\">=\"&(H$3+($B94-1)*7),tblPosts[post_time],\"<\"&(H$3+($B94)*7))","v":0},{"$f":"COUNTIFS(tblPosts[poster_id],I$2,tblPosts[post_time],\">=\"&(I$3+($B94-1)*7),tblPosts[post_time],\"<\"&(I$3+($B94)*7))","v":0},{"$f":"COUNTIFS(tblPosts[poster_id],J$2,tblPosts[post_time],\">=\"&(J$3+($B94-1)*7),tblPosts[post_time],\"<\"&(J$3+($B94)*7))","v":0},{"$f":"COUNTIFS(tblPosts[poster_id],K$2,tblPosts[post_time],\">=\"&(K$3+($B94-1)*7),tblPosts[post_time],\"<\"&(K$3+($B94)*7))","v":0},{"$f":"COUNTIFS(tblPosts[poster_id],L$2,tblPosts[post_time],\">=\"&(L$3+($B94-1)*7),tblPosts[post_time],\"<\"&(L$3+($B94)*7))","v":0},null,91,1707,{"$error":"#N/A"},{"$error":"#N/A"},{"$error":"#N/A"},301,{"$error":"#N/A"},326,{"$error":"#N/A"},{"$error":"#N/A"},{"$error":"#N/A"},0]
[null,92,{"$f":"COUNTIFS(tblPosts[poster_id],C$2,tblPosts[post_time],\">=\"&(C$3+($B95-1)*7),tblPosts[post_time],\"<\"&(C$3+($B95)*7))","v":47},{"$f":"COUNTIFS(tblPosts[poster_id],D$2,tblPosts[post_time],\">=\"&(D$3+($B95-1)*7),tblPosts[post_time],\"<\"&(D$3+($B95)*7))","v":0},{"$f":"COUNTIFS(tblPosts[poster_id],E$2,tblPosts[post_time],\">=\"&(E$3+($B95-1)*7),tblPosts[post_time],\"<\"&(E$3+($B95)*7))","v":0},{"$f":"COUNTIFS(tblPosts[poster_id],F$2,tblPosts[post_time],\">=\"&(F$3+($B95-1)*7),tblPosts[post_time],\"<\"&(F$3+($B95)*7))","v":0},{"$f":"COUNTIFS(tblPosts[poster_id],G$2,tblPosts[post_time],\">=\"&(G$3+($B95-1)*7),tblPosts[post_time],\"<\"&(G$3+($B95)*7))","v":9},{"$f":"COUNTIFS(tblPosts[poster_id],H$2,tblPosts[post_time],\">=\"&(H$3+($B95-1)*7),tblPosts[post_time],\"<\"&(H$3+($B95)*7))","v":0},{"$f":"COUNTIFS(tblPosts[poster_id],I$2,tblPosts[post_time],\">=\"&(I$3+($B95-1)*7),tblPosts[post_time],\"<\"&(I$3+($B95)*7))","v":1},{"$f":"COUNTIFS(tblPosts[poster_id],J$2,tblPosts[post_time],\">=\"&(J$3+($B95-1)*7),tblPosts[post_time],\"<\"&(J$3+($B95)*7))","v":0},{"$f":"COUNTIFS(tblPosts[poster_id],K$2,tblPosts[post_time],\">=\"&(K$3+($B95-1)*7),tblPosts[post_time],\"<\"&(K$3+($B95)*7))","v":0},{"$f":"COUNTIFS(tblPosts[poster_id],L$2,tblPosts[post_time],\">=\"&(L$3+($B95-1)*7),tblPosts[post_time],\"<\"&(L$3+($B95)*7))","v":0},null,92,1754,{"$error":"#N/A"},{"$error":"#N/A"},{"$error":"#N/A"},310,{"$error":"#N/A"},327,{"$error":"#N/A"},{"$error":"#N/A"},{"$error":"#N/A"},0]
[null,93,{"$f":"COUNTIFS(tblPosts[poster_id],C$2,tblPosts[post_time],\">=\"&(C$3+($B96-1)*7),tblPosts[post_time],\"<\"&(C$3+($B96)*7))","v":41},{"$f":"COUNTIFS(tblPosts[poster_id],D$2,tblPosts[post_time],\">=\"&(D$3+($B96-1)*7),tblPosts[post_time],\"<\"&(D$3+($B96)*7))","v":0},{"$f":"COUNTIFS(tblPosts[poster_id],E$2,tblPosts[post_time],\">=\"&(E$3+($B96-1)*7),tblPosts[post_time],\"<\"&(E$3+($B96)*7))","v":0},{"$f":"COUNTIFS(tblPosts[poster_id],F$2,tblPosts[post_time],\">=\"&(F$3+($B96-1)*7),tblPosts[post_time],\"<\"&(F$3+($B96)*7))","v":0},{"$f":"COUNTIFS(tblPosts[poster_id],G$2,tblPosts[post_time],\">=\"&(G$3+($B96-1)*7),tblPosts[post_time],\"<\"&(G$3+($B96)*7))","v":11},{"$f":"COUNTIFS(tblPosts[poster_id],H$2,tblPosts[post_time],\">=\"&(H$3+($B96-1)*7),tblPosts[post_time],\"<\"&(H$3+($B96)*7))","v":0},{"$f":"COUNTIFS(tblPosts[poster_id],I$2,tblPosts[post_time],\">=\"&(I$3+($B96-1)*7),tblPosts[post_time],\"<\"&(I$3+($B96)*7))","v":1},{"$f":"COUNTIFS(tblPosts[poster_id],J$2,tblPosts[post_time],\">=\"&(J$3+($B96-1)*7),tblPosts[post_time],\"<\"&(J$3+($B96)*7))","v":0},{"$f":"COUNTIFS(tblPosts[poster_id],K$2,tblPosts[post_time],\">=\"&(K$3+($B96-1)*7),tblPosts[post_time],\"<\"&(K$3+($B96)*7))","v":0},{"$f":"COUNTIFS(tblPosts[poster_id],L$2,tblPosts[post_time],\">=\"&(L$3+($B96-1)*7),tblPosts[post_time],\"<\"&(L$3+($B96)*7))","v":0},null,93,1795,{"$error":"#N/A"},{"$error":"#N/A"},{"$error":"#N/A"},321,{"$error":"#N/A"},328,{"$error":"#N/A"},{"$error":"#N/A"},{"$error":"#N/A"},0]
[null,94,{"$f":"COUNTIFS(tblPosts[poster_id],C$2,tblPosts[post_time],\">=\"&(C$3+($B97-1)*7),tblPosts[post_time],\"<\"&(C$3+($B97)*7))","v":56},{"$f":"COUNTIFS(tblPosts[poster_id],D$2,tblPosts[post_time],\">=\"&(D$3+($B97-1)*7),tblPosts[post_time],\"<\"&(D$3+($B97)*7))","v":0},{"$f":"COUNTIFS(tblPosts[poster_id],E$2,tblPosts[post_time],\">=\"&(E$3+($B97-1)*7),tblPosts[post_time],\"<\"&(E$3+($B97)*7))","v":0},{"$f":"COUNTIFS(tblPosts[poster_id],F$2,tblPosts[post_time],\">=\"&(F$3+($B97-1)*7),tblPosts[post_time],\"<\"&(F$3+($B97)*7))","v":0},{"$f":"COUNTIFS(tblPosts[poster_id],G$2,tblPosts[post_time],\">=\"&(G$3+($B97-1)*7),tblPosts[post_time],\"<\"&(G$3+($B97)*7))","v":21},{"$f":"COUNTIFS(tblPosts[poster_id],H$2,tblPosts[post_time],\">=\"&(H$3+($B97-1)*7),tblPosts[post_time],\"<\"&(H$3+($B97)*7))","v":0},{"$f":"COUNTIFS(tblPosts[poster_id],I$2,tblPosts[post_time],\">=\"&(I$3+($B97-1)*7),tblPosts[post_time],\"<\"&(I$3+($B97)*7))","v":2},{"$f":"COUNTIFS(tblPosts[poster_id],J$2,tblPosts[post_time],\">=\"&(J$3+($B97-1)*7),tblPosts[post_time],\"<\"&(J$3+($B97)*7))","v":0},{"$f":"COUNTIFS(tblPosts[poster_id],K$2,tblPosts[post_time],\">=\"&(K$3+($B97-1)*7),tblPosts[post_time],\"<\"&(K$3+($B97)*7))","v":0},{"$f":"COUNTIFS(tblPosts[poster_id],L$2,tblPosts[post_time],\">=\"&(L$3+($B97-1)*7),tblPosts[post_time],\"<\"&(L$3+($B97)*7))","v":0},null,94,1851,{"$error":"#N/A"},{"$error":"#N/A"},{"$error":"#N/A"},342,{"$error":"#N/A"},330,{"$error":"#N/A"},{"$error":"#N/A"},{"$error":"#N/A"},0]
[null,95,{"$f":"COUNTIFS(tblPosts[poster_id],C$2,tblPosts[post_time],\">=\"&(C$3+($B98-1)*7),tblPosts[post_time],\"<\"&(C$3+($B98)*7))","v":39},{"$f":"COUNTIFS(tblPosts[poster_id],D$2,tblPosts[post_time],\">=\"&(D$3+($B98-1)*7),tblPosts[post_time],\"<\"&(D$3+($B98)*7))","v":0},{"$f":"COUNTIFS(tblPosts[poster_id],E$2,tblPosts[post_time],\">=\"&(E$3+($B98-1)*7),tblPosts[post_time],\"<\"&(E$3+($B98)*7))","v":0},{"$f":"COUNTIFS(tblPosts[poster_id],F$2,tblPosts[post_time],\">=\"&(F$3+($B98-1)*7),tblPosts[post_time],\"<\"&(F$3+($B98)*7))","v":0},{"$f":"COUNTIFS(tblPosts[poster_id],G$2,tblPosts[post_time],\">=\"&(G$3+($B98-1)*7),tblPosts[post_time],\"<\"&(G$3+($B98)*7))","v":13},{"$f":"COUNTIFS(tblPosts[poster_id],H$2,tblPosts[post_time],\">=\"&(H$3+($B98-1)*7),tblPosts[post_time],\"<\"&(H$3+($B98)*7))","v":0},{"$f":"COUNTIFS(tblPosts[poster_id],I$2,tblPosts[post_time],\">=\"&(I$3+($B98-1)*7),tblPosts[post_time],\"<\"&(I$3+($B98)*7))","v":0},{"$f":"COUNTIFS(tblPosts[poster_id],J$2,tblPosts[post_time],\">=\"&(J$3+($B98-1)*7),tblPosts[post_time],\"<\"&(J$3+($B98)*7))","v":0},{"$f":"COUNTIFS(tblPosts[poster_id],K$2,tblPosts[post_time],\">=\"&(K$3+($B98-1)*7),tblPosts[post_time],\"<\"&(K$3+($B98)*7))","v":0},{"$f":"COUNTIFS(tblPosts[poster_id],L$2,tblPosts[post_time],\">=\"&(L$3+($B98-1)*7),tblPosts[post_time],\"<\"&(L$3+($B98)*7))","v":0},null,95,1890,{"$error":"#N/A"},{"$error":"#N/A"},{"$error":"#N/A"},355,{"$error":"#N/A"},330,{"$error":"#N/A"},{"$error":"#N/A"},{"$error":"#N/A"},0]
[null,96,{"$f":"COUNTIFS(tblPosts[poster_id],C$2,tblPosts[post_time],\">=\"&(C$3+($B99-1)*7),tblPosts[post_time],\"<\"&(C$3+($B99)*7))","v":9},{"$f":"COUNTIFS(tblPosts[poster_id],D$2,tblPosts[post_time],\">=\"&(D$3+($B99-1)*7),tblPosts[post_time],\"<\"&(D$3+($B99)*7))","v":0},{"$f":"COUNTIFS(tblPosts[poster_id],E$2,tblPosts[post_time],\">=\"&(E$3+($B99-1)*7),tblPosts[post_time],\"<\"&(E$3+($B99)*7))","v":0},{"$f":"COUNTIFS(tblPosts[poster_id],F$2,tblPosts[post_time],\">=\"&(F$3+($B99-1)*7),tblPosts[post_time],\"<\"&(F$3+($B99)*7))","v":0},{"$f":"COUNTIFS(tblPosts[poster_id],G$2,tblPosts[post_time],\">=\"&(G$3+($B99-1)*7),tblPosts[post_time],\"<\"&(G$3+($B99)*7))","v":22},{"$f":"COUNTIFS(tblPosts[poster_id],H$2,tblPosts[post_time],\">=\"&(H$3+($B99-1)*7),tblPosts[post_time],\"<\"&(H$3+($B99)*7))","v":0},{"$f":"COUNTIFS(tblPosts[poster_id],I$2,tblPosts[post_time],\">=\"&(I$3+($B99-1)*7),tblPosts[post_time],\"<\"&(I$3+($B99)*7))","v":0},{"$f":"COUNTIFS(tblPosts[poster_id],J$2,tblPosts[post_time],\">=\"&(J$3+($B99-1)*7),tblPosts[post_time],\"<\"&(J$3+($B99)*7))","v":0},{"$f":"COUNTIFS(tblPosts[poster_id],K$2,tblPosts[post_time],\">=\"&(K$3+($B99-1)*7),tblPosts[post_time],\"<\"&(K$3+($B99)*7))","v":0},{"$f":"COUNTIFS(tblPosts[poster_id],L$2,tblPosts[post_time],\">=\"&(L$3+($B99-1)*7),tblPosts[post_time],\"<\"&(L$3+($B99)*7))","v":0},null,96,1899,{"$error":"#N/A"},{"$error":"#N/A"},{"$error":"#N/A"},377,{"$error":"#N/A"},330,{"$error":"#N/A"},{"$error":"#N/A"},{"$error":"#N/A"},0]
[null,97,{"$f":"COUNTIFS(tblPosts[poster_id],C$2,tblPosts[post_time],\">=\"&(C$3+($B100-1)*7),tblPosts[post_time],\"<\"&(C$3+($B100)*7))","v":47},{"$f":"COUNTIFS(tblPosts[poster_id],D$2,tblPosts[post_time],\">=\"&(D$3+($B100-1)*7),tblPosts[post_time],\"<\"&(D$3+($B100)*7))","v":0},{"$f":"COUNTIFS(tblPosts[poster_id],E$2,tblPosts[post_time],\">=\"&(E$3+($B100-1)*7),tblPosts[post_time],\"<\"&(E$3+($B100)*7))","v":0},{"$f":"COUNTIFS(tblPosts[poster_id],F$2,tblPosts[post_time],\">=\"&(F$3+($B100-1)*7),tblPosts[post_time],\"<\"&(F$3+($B100)*7))","v":0},{"$f":"COUNTIFS(tblPosts[poster_id],G$2,tblPosts[post_time],\">=\"&(G$3+($B100-1)*7),tblPosts[post_time],\"<\"&(G$3+($B100)*7))","v":38},{"$f":"COUNTIFS(tblPosts[poster_id],H$2,tblPosts[post_time],\">=\"&(H$3+($B100-1)*7),tblPosts[post_time],\"<\"&(H$3+($B100)*7))","v":0},{"$f":"COUNTIFS(tblPosts[poster_id],I$2,tblPosts[post_time],\">=\"&(I$3+($B100-1)*7),tblPosts[post_time],\"<\"&(I$3+($B100)*7))","v":3},{"$f":"COUNTIFS(tblPosts[poster_id],J$2,tblPosts[post_time],\">=\"&(J$3+($B100-1)*7),tblPosts[post_time],\"<\"&(J$3+($B100)*7))","v":0},{"$f":"COUNTIFS(tblPosts[poster_id],K$2,tblPosts[post_time],\">=\"&(K$3+($B100-1)*7),tblPosts[post_time],\"<\"&(K$3+($B100)*7))","v":0},{"$f":"COUNTIFS(tblPosts[poster_id],L$2,tblPosts[post_time],\">=\"&(L$3+($B100-1)*7),tblPosts[post_time],\"<\"&(L$3+($B100)*7))","v":0},null,97,1946,{"$error":"#N/A"},{"$error":"#N/A"},{"$error":"#N/A"},415,{"$error":"#N/A"},333,{"$error":"#N/A"},{"$error":"#N/A"},{"$error":"#N/A"},0]
[null,98,{"$f":"COUNTIFS(tblPosts[poster_id],C$2,tblPosts[post_time],\">=\"&(C$3+($B101-1)*7),tblPosts[post_time],\"<\"&(C$3+($B101)*7))","v":47},{"$f":"COUNTIFS(tblPosts[poster_id],D$2,tblPosts[post_time],\">=\"&(D$3+($B101-1)*7),tblPosts[post_time],\"<\"&(D$3+($B101)*7))","v":0},{"$f":"COUNTIFS(tblPosts[poster_id],E$2,tblPosts[post_time],\">=\"&(E$3+($B101-1)*7),tblPosts[post_time],\"<\"&(E$3+($B101)*7))","v":0},{"$f":"COUNTIFS(tblPosts[poster_id],F$2,tblPosts[post_time],\">=\"&(F$3+($B101-1)*7),tblPosts[post_time],\"<\"&(F$3+($B101)*7))","v":0},{"$f":"COUNTIFS(tblPosts[poster_id],G$2,tblPosts[post_time],\">=\"&(G$3+($B101-1)*7),tblPosts[post_time],\"<\"&(G$3+($B101)*7))","v":22},{"$f":"COUNTIFS(tblPosts[poster_id],H$2,tblPosts[post_time],\">=\"&(H$3+($B101-1)*7),tblPosts[post_time],\"<\"&(H$3+($B101)*7))","v":0},{"$f":"COUNTIFS(tblPosts[poster_id],I$2,tblPosts[post_time],\">=\"&(I$3+($B101-1)*7),tblPosts[post_time],\"<\"&(I$3+($B101)*7))","v":2},{"$f":"COUNTIFS(tblPosts[poster_id],J$2,tblPosts[post_time],\">=\"&(J$3+($B101-1)*7),tblPosts[post_time],\"<\"&(J$3+($B101)*7))","v":0},{"$f":"COUNTIFS(tblPosts[poster_id],K$2,tblPosts[post_time],\">=\"&(K$3+($B101-1)*7),tblPosts[post_time],\"<\"&(K$3+($B101)*7))","v":0},{"$f":"COUNTIFS(tblPosts[poster_id],L$2,tblPosts[post_time],\">=\"&(L$3+($B101-1)*7),tblPosts[post_time],\"<\"&(L$3+($B101)*7))","v":0},null,98,{"$f":"IF(C$3+$B100*7>dumpDate,NA(),O100+C101)","v":1993},{"$f":"IF(D$3+$B100*7>dumpDate,NA(),P100+D101)","v":{"$error":"#N/A"}},{"$f":"IF(E$3+$B100*7>dumpDate,NA(),Q100+E101)","v":{"$error":"#N/A"}},{"$f":"IF(F$3+$B100*7>dumpDate,NA(),R100+F101)","v":{"$error":"#N/A"}},{"$f":"IF(G$3+$B100*7>dumpDate,NA(),S100+G101)","v":437},{"$f":"IF(H$3+$B100*7>dumpDate,NA(),T100+H101)","v":{"$error":"#N/A"}},{"$f":"IF(I$3+$B100*7>dumpDate,NA(),U100+I101)","v":335},{"$f":"IF(J$3+$B100*7>dumpDate,NA(),V100+J101)","v":{"$error":"#N/A"}},{"$f":"IF(K$3+$B100*7>dumpDate,NA(),W100+K101)","v":{"$error":"#N/A"}},{"$f":"IF(L$3+$B100*7>dumpDate,NA(),X100+L101)","v":{"$error":"#N/A"}},0]
[null,99,{"$f":"COUNTIFS(tblPosts[poster_id],C$2,tblPosts[post_time],\">=\"&(C$3+($B102-1)*7),tblPosts[post_time],\"<\"&(C$3+($B102)*7))","v":20},{"$f":"COUNTIFS(tblPosts[poster_id],D$2,tblPosts[post_time],\">=\"&(D$3+($B102-1)*7),tblPosts[post_time],\"<\"&(D$3+($B102)*7))","v":0},{"$f":"COUNTIFS(tblPosts[poster_id],E$2,tblPosts[post_time],\">=\"&(E$3+($B102-1)*7),tblPosts[post_time],\"<\"&(E$3+($B102)*7))","v":0},{"$f":"COUNTIFS(tblPosts[poster_id],F$2,tblPosts[post_time],\">=\"&(F$3+($B102-1)*7),tblPosts[post_time],\"<\"&(F$3+($B102)*7))","v":0},{"$f":"COUNTIFS(tblPosts[poster_id],G$2,tblPosts[post_time],\">=\"&(G$3+($B102-1)*7),tblPosts[post_time],\"<\"&(G$3+($B102)*7))","v":3},{"$f":"COUNTIFS(tblPosts[poster_id],H$2,tblPosts[post_time],\">=\"&(H$3+($B102-1)*7),tblPosts[post_time],\"<\"&(H$3+($B102)*7))","v":0},{"$f":"COUNTIFS(tblPosts[poster_id],I$2,tblPosts[post_time],\">=\"&(I$3+($B102-1)*7),tblPosts[post_time],\"<\"&(I$3+($B102)*7))","v":0},{"$f":"COUNTIFS(tblPosts[poster_id],J$2,tblPosts[post_time],\">=\"&(J$3+($B102-1)*7),tblPosts[post_time],\"<\"&(J$3+($B102)*7))","v":0},{"$f":"COUNTIFS(tblPosts[poster_id],K$2,tblPosts[post_time],\">=\"&(K$3+($B102-1)*7),tblPosts[post_time],\"<\"&(K$3+($B102)*7))","v":0},{"$f":"COUNTIFS(tblPosts[poster_id],L$2,tblPosts[post_time],\">=\"&(L$3+($B102-1)*7),tblPosts[post_time],\"<\"&(L$3+($B102)*7))","v":0},null,99,2013,{"$error":"#N/A"},{"$error":"#N/A"},{"$error":"#N/A"},440,{"$error":"#N/A"},335,{"$error":"#N/A"},{"$error":"#N/A"},{"$error":"#N/A"},0]
[null,100,{"$f":"COUNTIFS(tblPosts[poster_id],C$2,tblPosts[post_time],\">=\"&(C$3+($B103-1)*7),tblPosts[post_time],\"<\"&(C$3+($B103)*7))","v":28},{"$f":"COUNTIFS(tblPosts[poster_id],D$2,tblPosts[post_time],\">=\"&(D$3+($B103-1)*7),tblPosts[post_time],\"<\"&(D$3+($B103)*7))","v":0},{"$f":"COUNTIFS(tblPosts[poster_id],E$2,tblPosts[post_time],\">=\"&(E$3+($B103-1)*7),tblPosts[post_time],\"<\"&(E$3+($B103)*7))","v":0},{"$f":"COUNTIFS(tblPosts[poster_id],F$2,tblPosts[post_time],\">=\"&(F$3+($B103-1)*7),tblPosts[post_time],\"<\"&(F$3+($B103)*7))","v":0},{"$f":"COUNTIFS(tblPosts[poster_id],G$2,tblPosts[post_time],\">=\"&(G$3+($B103-1)*7),tblPosts[post_time],\"<\"&(G$3+($B103)*7))","v":0},{"$f":"COUNTIFS(tblPosts[poster_id],H$2,tblPosts[post_time],\">=\"&(H$3+($B103-1)*7),tblPosts[post_time],\"<\"&(H$3+($B103)*7))","v":0},{"$f":"COUNTIFS(tblPosts[poster_id],I$2,tblPosts[post_time],\">=\"&(I$3+($B103-1)*7),tblPosts[post_time],\"<\"&(I$3+($B103)*7))","v":1},{"$f":"COUNTIFS(tblPosts[poster_id],J$2,tblPosts[post_time],\">=\"&(J$3+($B103-1)*7),tblPosts[post_time],\"<\"&(J$3+($B103)*7))","v":0},{"$f":"COUNTIFS(tblPosts[poster_id],K$2,tblPosts[post_time],\">=\"&(K$3+($B103-1)*7),tblPosts[post_time],\"<\"&(K$3+($B103)*7))","v":0},{"$f":"COUNTIFS(tblPosts[poster_id],L$2,tblPosts[post_time],\">=\"&(L$3+($B103-1)*7),tblPosts[post_time],\"<\"&(L$3+($B103)*7))","v":0},null,100,2041,{"$error":"#N/A"},{"$error":"#N/A"},{"$error":"#N/A"},{"$error":"#N/A"},{"$error":"#N/A"},336,{"$error":"#N/A"},{"$error":"#N/A"},{"$error":"#N/A"},0]
[null,101,{"$f":"COUNTIFS(tblPosts[poster_id],C$2,tblPosts[post_time],\">=\"&(C$3+($B104-1)*7),tblPosts[post_time],\"<\"&(C$3+($B104)*7))","v":30},{"$f":"COUNTIFS(tblPosts[poster_id],D$2,tblPosts[post_time],\">=\"&(D$3+($B104-1)*7),tblPosts[post_time],\"<\"&(D$3+($B104)*7))","v":0},{"$f":"COUNTIFS(tblPosts[poster_id],E$2,tblPosts[post_time],\">=\"&(E$3+($B104-1)*7),tblPosts[post_time],\"<\"&(E$3+($B104)*7))","v":0},{"$f":"COUNTIFS(tblPosts[poster_id],F$2,tblPosts[post_time],\">=\"&(F$3+($B104-1)*7),tblPosts[post_time],\"<\"&(F$3+($B104)*7))","v":0},{"$f":"COUNTIFS(tblPosts[poster_id],G$2,tblPosts[post_time],\">=\"&(G$3+($B104-1)*7),tblPosts[post_time],\"<\"&(G$3+($B104)*7))","v":0},{"$f":"COUNTIFS(tblPosts[poster_id],H$2,tblPosts[post_time],\">=\"&(H$3+($B104-1)*7),tblPosts[post_time],\"<\"&(H$3+($B104)*7))","v":0},{"$f":"COUNTIFS(tblPosts[poster_id],I$2,tblPosts[post_time],\">=\"&(I$3+($B104-1)*7),tblPosts[post_time],\"<\"&(I$3+($B104)*7))","v":0},{"$f":"COUNTIFS(tblPosts[poster_id],J$2,tblPosts[post_time],\">=\"&(J$3+($B104-1)*7),tblPosts[post_time],\"<\"&(J$3+($B104)*7))","v":0},{"$f":"COUNTIFS(tblPosts[poster_id],K$2,tblPosts[post_time],\">=\"&(K$3+($B104-1)*7),tblPosts[post_time],\"<\"&(K$3+($B104)*7))","v":0},{"$f":"COUNTIFS(tblPosts[poster_id],L$2,tblPosts[post_time],\">=\"&(L$3+($B104-1)*7),tblPosts[post_time],\"<\"&(L$3+($B104)*7))","v":0},null,101,2071,{"$error":"#N/A"},{"$error":"#N/A"},{"$error":"#N/A"},{"$error":"#N/A"},{"$error":"#N/A"},336,{"$error":"#N/A"},{"$error":"#N/A"},{"$error":"#N/A"},0]
[null,102,{"$f":"COUNTIFS(tblPosts[poster_id],C$2,tblPosts[post_time],\">=\"&(C$3+($B105-1)*7),tblPosts[post_time],\"<\"&(C$3+($B105)*7))","v":15},{"$f":"COUNTIFS(tblPosts[poster_id],D$2,tblPosts[post_time],\">=\"&(D$3+($B105-1)*7),tblPosts[post_time],\"<\"&(D$3+($B105)*7))","v":0},{"$f":"COUNTIFS(tblPosts[poster_id],E$2,tblPosts[post_time],\">=\"&(E$3+($B105-1)*7),tblPosts[post_time],\"<\"&(E$3+($B105)*7))","v":0},{"$f":"COUNTIFS(tblPosts[poster_id],F$2,tblPosts[post_time],\">=\"&(F$3+($B105-1)*7),tblPosts[post_time],\"<\"&(F$3+($B105)*7))","v":0},{"$f":"COUNTIFS(tblPosts[poster_id],G$2,tblPosts[post_time],\">=\"&(G$3+($B105-1)*7),tblPosts[post_time],\"<\"&(G$3+($B105)*7))","v":0},{"$f":"COUNTIFS(tblPosts[poster_id],H$2,tblPosts[post_time],\">=\"&(H$3+($B105-1)*7),tblPosts[post_time],\"<\"&(H$3+($B105)*7))","v":0},{"$f":"COUNTIFS(tblPosts[poster_id],I$2,tblPosts[post_time],\">=\"&(I$3+($B105-1)*7),tblPosts[post_time],\"<\"&(I$3+($B105)*7))","v":0},{"$f":"COUNTIFS(tblPosts[poster_id],J$2,tblPosts[post_time],\">=\"&(J$3+($B105-1)*7),tblPosts[post_time],\"<\"&(J$3+($B105)*7))","v":0},{"$f":"COUNTIFS(tblPosts[poster_id],K$2,tblPosts[post_time],\">=\"&(K$3+($B105-1)*7),tblPosts[post_time],\"<\"&(K$3+($B105)*7))","v":0},{"$f":"COUNTIFS(tblPosts[poster_id],L$2,tblPosts[post_time],\">=\"&(L$3+($B105-1)*7),tblPosts[post_time],\"<\"&(L$3+($B105)*7))","v":0},null,102,2086,{"$error":"#N/A"},{"$error":"#N/A"},{"$error":"#N/A"},{"$error":"#N/A"},{"$error":"#N/A"},336,{"$error":"#N/A"},{"$error":"#N/A"},{"$error":"#N/A"},0]
[null,103,{"$f":"COUNTIFS(tblPosts[poster_id],C$2,tblPosts[post_time],\">=\"&(C$3+($B106-1)*7),tblPosts[post_time],\"<\"&(C$3+($B106)*7))","v":13},{"$f":"COUNTIFS(tblPosts[poster_id],D$2,tblPosts[post_time],\">=\"&(D$3+($B106-1)*7),tblPosts[post_time],\"<\"&(D$3+($B106)*7))","v":0},{"$f":"COUNTIFS(tblPosts[poster_id],E$2,tblPosts[post_time],\">=\"&(E$3+($B106-1)*7),tblPosts[post_time],\"<\"&(E$3+($B106)*7))","v":0},{"$f":"COUNTIFS(tblPosts[poster_id],F$2,tblPosts[post_time],\">=\"&(F$3+($B106-1)*7),tblPosts[post_time],\"<\"&(F$3+($B106)*7))","v":0},{"$f":"COUNTIFS(tblPosts[poster_id],G$2,tblPosts[post_time],\">=\"&(G$3+($B106-1)*7),tblPosts[post_time],\"<\"&(G$3+($B106)*7))","v":0},{"$f":"COUNTIFS(tblPosts[poster_id],H$2,tblPosts[post_time],\">=\"&(H$3+($B106-1)*7),tblPosts[post_time],\"<\"&(H$3+($B106)*7))","v":0},{"$f":"COUNTIFS(tblPosts[poster_id],I$2,tblPosts[post_time],\">=\"&(I$3+($B106-1)*7),tblPosts[post_time],\"<\"&(I$3+($B106)*7))","v":0},{"$f":"COUNTIFS(tblPosts[poster_id],J$2,tblPosts[post_time],\">=\"&(J$3+($B106-1)*7),tblPosts[post_time],\"<\"&(J$3+($B106)*7))","v":0},{"$f":"COUNTIFS(tblPosts[poster_id],K$2,tblPosts[post_time],\">=\"&(K$3+($B106-1)*7),tblPosts[post_time],\"<\"&(K$3+($B106)*7))","v":0},{"$f":"COUNTIFS(tblPosts[poster_id],L$2,tblPosts[post_time],\">=\"&(L$3+($B106-1)*7),tblPosts[post_time],\"<\"&(L$3+($B106)*7))","v":0},null,103,2099,{"$error":"#N/A"},{"$error":"#N/A"},{"$error":"#N/A"},{"$error":"#N/A"},{"$error":"#N/A"},336,{"$error":"#N/A"},{"$error":"#N/A"},{"$error":"#N/A"},0]
[null,104,{"$f":"COUNTIFS(tblPosts[poster_id],C$2,tblPosts[post_time],\">=\"&(C$3+($B107-1)*7),tblPosts[post_time],\"<\"&(C$3+($B107)*7))","v":18},{"$f":"COUNTIFS(tblPosts[poster_id],D$2,tblPosts[post_time],\">=\"&(D$3+($B107-1)*7),tblPosts[post_time],\"<\"&(D$3+($B107)*7))","v":0},{"$f":"COUNTIFS(tblPosts[poster_id],E$2,tblPosts[post_time],\">=\"&(E$3+($B107-1)*7),tblPosts[post_time],\"<\"&(E$3+($B107)*7))","v":0},{"$f":"COUNTIFS(tblPosts[poster_id],F$2,tblPosts[post_time],\">=\"&(F$3+($B107-1)*7),tblPosts[post_time],\"<\"&(F$3+($B107)*7))","v":0},{"$f":"COUNTIFS(tblPosts[poster_id],G$2,tblPosts[post_time],\">=\"&(G$3+($B107-1)*7),tblPosts[post_time],\"<\"&(G$3+($B107)*7))","v":0},{"$f":"COUNTIFS(tblPosts[poster_id],H$2,tblPosts[post_time],\">=\"&(H$3+($B107-1)*7),tblPosts[post_time],\"<\"&(H$3+($B107)*7))","v":0},{"$f":"COUNTIFS(tblPosts[poster_id],I$2,tblPosts[post_time],\">=\"&(I$3+($B107-1)*7),tblPosts[post_time],\"<\"&(I$3+($B107)*7))","v":0},{"$f":"COUNTIFS(tblPosts[poster_id],J$2,tblPosts[post_time],\">=\"&(J$3+($B107-1)*7),tblPosts[post_time],\"<\"&(J$3+($B107)*7))","v":0},{"$f":"COUNTIFS(tblPosts[poster_id],K$2,tblPosts[post_time],\">=\"&(K$3+($B107-1)*7),tblPosts[post_time],\"<\"&(K$3+($B107)*7))","v":0},{"$f":"COUNTIFS(tblPosts[poster_id],L$2,tblPosts[post_time],\">=\"&(L$3+($B107-1)*7),tblPosts[post_time],\"<\"&(L$3+($B107)*7))","v":0},null,104,2117,{"$error":"#N/A"},{"$error":"#N/A"},{"$error":"#N/A"},{"$error":"#N/A"},{"$error":"#N/A"},336,{"$error":"#N/A"},{"$error":"#N/A"},{"$error":"#N/A"},0]
[null,105,{"$f":"COUNTIFS(tblPosts[poster_id],C$2,tblPosts[post_time],\">=\"&(C$3+($B108-1)*7),tblPosts[post_time],\"<\"&(C$3+($B108)*7))","v":16},{"$f":"COUNTIFS(tblPosts[poster_id],D$2,tblPosts[post_time],\">=\"&(D$3+($B108-1)*7),tblPosts[post_time],\"<\"&(D$3+($B108)*7))","v":0},{"$f":"COUNTIFS(tblPosts[poster_id],E$2,tblPosts[post_time],\">=\"&(E$3+($B108-1)*7),tblPosts[post_time],\"<\"&(E$3+($B108)*7))","v":0},{"$f":"COUNTIFS(tblPosts[poster_id],F$2,tblPosts[post_time],\">=\"&(F$3+($B108-1)*7),tblPosts[post_time],\"<\"&(F$3+($B108)*7))","v":0},{"$f":"COUNTIFS(tblPosts[poster_id],G$2,tblPosts[post_time],\">=\"&(G$3+($B108-1)*7),tblPosts[post_time],\"<\"&(G$3+($B108)*7))","v":0},{"$f":"COUNTIFS(tblPosts[poster_id],H$2,tblPosts[post_time],\">=\"&(H$3+($B108-1)*7),tblPosts[post_time],\"<\"&(H$3+($B108)*7))","v":0},{"$f":"COUNTIFS(tblPosts[poster_id],I$2,tblPosts[post_time],\">=\"&(I$3+($B108-1)*7),tblPosts[post_time],\"<\"&(I$3+($B108)*7))","v":1},{"$f":"COUNTIFS(tblPosts[poster_id],J$2,tblPosts[post_time],\">=\"&(J$3+($B108-1)*7),tblPosts[post_time],\"<\"&(J$3+($B108)*7))","v":0},{"$f":"COUNTIFS(tblPosts[poster_id],K$2,tblPosts[post_time],\">=\"&(K$3+($B108-1)*7),tblPosts[post_time],\"<\"&(K$3+($B108)*7))","v":0},{"$f":"COUNTIFS(tblPosts[poster_id],L$2,tblPosts[post_time],\">=\"&(L$3+($B108-1)*7),tblPosts[post_time],\"<\"&(L$3+($B108)*7))","v":0},null,105,2133,{"$error":"#N/A"},{"$error":"#N/A"},{"$error":"#N/A"},{"$error":"#N/A"},{"$error":"#N/A"},337,{"$error":"#N/A"},{"$error":"#N/A"},{"$error":"#N/A"},0]
[null,106,{"$f":"COUNTIFS(tblPosts[poster_id],C$2,tblPosts[post_time],\">=\"&(C$3+($B109-1)*7),tblPosts[post_time],\"<\"&(C$3+($B109)*7))","v":19},{"$f":"COUNTIFS(tblPosts[poster_id],D$2,tblPosts[post_time],\">=\"&(D$3+($B109-1)*7),tblPosts[post_time],\"<\"&(D$3+($B109)*7))","v":0},{"$f":"COUNTIFS(tblPosts[poster_id],E$2,tblPosts[post_time],\">=\"&(E$3+($B109-1)*7),tblPosts[post_time],\"<\"&(E$3+($B109)*7))","v":0},{"$f":"COUNTIFS(tblPosts[poster_id],F$2,tblPosts[post_time],\">=\"&(F$3+($B109-1)*7),tblPosts[post_time],\"<\"&(F$3+($B109)*7))","v":0},{"$f":"COUNTIFS(tblPosts[poster_id],G$2,tblPosts[post_time],\">=\"&(G$3+($B109-1)*7),tblPosts[post_time],\"<\"&(G$3+($B109)*7))","v":0},{"$f":"COUNTIFS(tblPosts[poster_id],H$2,tblPosts[post_time],\">=\"&(H$3+($B109-1)*7),tblPosts[post_time],\"<\"&(H$3+($B109)*7))","v":0},{"$f":"COUNTIFS(tblPosts[poster_id],I$2,tblPosts[post_time],\">=\"&(I$3+($B109-1)*7),tblPosts[post_time],\"<\"&(I$3+($B109)*7))","v":1},{"$f":"COUNTIFS(tblPosts[poster_id],J$2,tblPosts[post_time],\">=\"&(J$3+($B109-1)*7),tblPosts[post_time],\"<\"&(J$3+($B109)*7))","v":0},{"$f":"COUNTIFS(tblPosts[poster_id],K$2,tblPosts[post_time],\">=\"&(K$3+($B109-1)*7),tblPosts[post_time],\"<\"&(K$3+($B109)*7))","v":0},{"$f":"COUNTIFS(tblPosts[poster_id],L$2,tblPosts[post_time],\">=\"&(L$3+($B109-1)*7),tblPosts[post_time],\"<\"&(L$3+($B109)*7))","v":0},null,106,2152,{"$error":"#N/A"},{"$error":"#N/A"},{"$error":"#N/A"},{"$error":"#N/A"},{"$error":"#N/A"},338,{"$error":"#N/A"},{"$error":"#N/A"},{"$error":"#N/A"},0]
[null,107,{"$f":"COUNTIFS(tblPosts[poster_id],C$2,tblPosts[post_time],\">=\"&(C$3+($B110-1)*7),tblPosts[post_time],\"<\"&(C$3+($B110)*7))","v":22},{"$f":"COUNTIFS(tblPosts[poster_id],D$2,tblPosts[post_time],\">=\"&(D$3+($B110-1)*7),tblPosts[post_time],\"<\"&(D$3+($B110)*7))","v":0},{"$f":"COUNTIFS(tblPosts[poster_id],E$2,tblPosts[post_time],\">=\"&(E$3+($B110-1)*7),tblPosts[post_time],\"<\"&(E$3+($B110)*7))","v":0},{"$f":"COUNTIFS(tblPosts[poster_id],F$2,tblPosts[post_time],\">=\"&(F$3+($B110-1)*7),tblPosts[post_time],\"<\"&(F$3+($B110)*7))","v":0},{"$f":"COUNTIFS(tblPosts[poster_id],G$2,tblPosts[post_time],\">=\"&(G$3+($B110-1)*7),tblPosts[post_time],\"<\"&(G$3+($B110)*7))","v":0},{"$f":"COUNTIFS(tblPosts[poster_id],H$2,tblPosts[post_time],\">=\"&(H$3+($B110-1)*7),tblPosts[post_time],\"<\"&(H$3+($B110)*7))","v":0},{"$f":"COUNTIFS(tblPosts[poster_id],I$2,tblPosts[post_time],\">=\"&(I$3+($B110-1)*7),tblPosts[post_time],\"<\"&(I$3+($B110)*7))","v":1},{"$f":"COUNTIFS(tblPosts[poster_id],J$2,tblPosts[post_time],\">=\"&(J$3+($B110-1)*7),tblPosts[post_time],\"<\"&(J$3+($B110)*7))","v":0},{"$f":"COUNTIFS(tblPosts[poster_id],K$2,tblPosts[post_time],\">=\"&(K$3+($B110-1)*7),tblPosts[post_time],\"<\"&(K$3+($B110)*7))","v":0},{"$f":"COUNTIFS(tblPosts[poster_id],L$2,tblPosts[post_time],\">=\"&(L$3+($B110-1)*7),tblPosts[post_time],\"<\"&(L$3+($B110)*7))","v":0},null,107,2174,{"$error":"#N/A"},{"$error":"#N/A"},{"$error":"#N/A"},{"$error":"#N/A"},{"$error":"#N/A"},339,{"$error":"#N/A"},{"$error":"#N/A"},{"$error":"#N/A"},0]
[null,108,{"$f":"COUNTIFS(tblPosts[poster_id],C$2,tblPosts[post_time],\">=\"&(C$3+($B111-1)*7),tblPosts[post_time],\"<\"&(C$3+($B111)*7))","v":32},{"$f":"COUNTIFS(tblPosts[poster_id],D$2,tblPosts[post_time],\">=\"&(D$3+($B111-1)*7),tblPosts[post_time],\"<\"&(D$3+($B111)*7))","v":0},{"$f":"COUNTIFS(tblPosts[poster_id],E$2,tblPosts[post_time],\">=\"&(E$3+($B111-1)*7),tblPosts[post_time],\"<\"&(E$3+($B111)*7))","v":0},{"$f":"COUNTIFS(tblPosts[poster_id],F$2,tblPosts[post_time],\">=\"&(F$3+($B111-1)*7),tblPosts[post_time],\"<\"&(F$3+($B111)*7))","v":0},{"$f":"COUNTIFS(tblPosts[poster_id],G$2,tblPosts[post_time],\">=\"&(G$3+($B111-1)*7),tblPosts[post_time],\"<\"&(G$3+($B111)*7))","v":0},{"$f":"COUNTIFS(tblPosts[poster_id],H$2,tblPosts[post_time],\">=\"&(H$3+($B111-1)*7),tblPosts[post_time],\"<\"&(H$3+($B111)*7))","v":0},{"$f":"COUNTIFS(tblPosts[poster_id],I$2,tblPosts[post_time],\">=\"&(I$3+($B111-1)*7),tblPosts[post_time],\"<\"&(I$3+($B111)*7))","v":0},{"$f":"COUNTIFS(tblPosts[poster_id],J$2,tblPosts[post_time],\">=\"&(J$3+($B111-1)*7),tblPosts[post_time],\"<\"&(J$3+($B111)*7))","v":0},{"$f":"COUNTIFS(tblPosts[poster_id],K$2,tblPosts[post_time],\">=\"&(K$3+($B111-1)*7),tblPosts[post_time],\"<\"&(K$3+($B111)*7))","v":0},{"$f":"COUNTIFS(tblPosts[poster_id],L$2,tblPosts[post_time],\">=\"&(L$3+($B111-1)*7),tblPosts[post_time],\"<\"&(L$3+($B111)*7))","v":0},null,108,2206,{"$error":"#N/A"},{"$error":"#N/A"},{"$error":"#N/A"},{"$error":"#N/A"},{"$error":"#N/A"},339,{"$error":"#N/A"},{"$error":"#N/A"},{"$error":"#N/A"},0]
[null,109,{"$f":"COUNTIFS(tblPosts[poster_id],C$2,tblPosts[post_time],\">=\"&(C$3+($B112-1)*7),tblPosts[post_time],\"<\"&(C$3+($B112)*7))","v":23},{"$f":"COUNTIFS(tblPosts[poster_id],D$2,tblPosts[post_time],\">=\"&(D$3+($B112-1)*7),tblPosts[post_time],\"<\"&(D$3+($B112)*7))","v":0},{"$f":"COUNTIFS(tblPosts[poster_id],E$2,tblPosts[post_time],\">=\"&(E$3+($B112-1)*7),tblPosts[post_time],\"<\"&(E$3+($B112)*7))","v":0},{"$f":"COUNTIFS(tblPosts[poster_id],F$2,tblPosts[post_time],\">=\"&(F$3+($B112-1)*7),tblPosts[post_time],\"<\"&(F$3+($B112)*7))","v":0},{"$f":"COUNTIFS(tblPosts[poster_id],G$2,tblPosts[post_time],\">=\"&(G$3+($B112-1)*7),tblPosts[post_time],\"<\"&(G$3+($B112)*7))","v":0},{"$f":"COUNTIFS(tblPosts[poster_id],H$2,tblPosts[post_time],\">=\"&(H$3+($B112-1)*7),tblPosts[post_time],\"<\"&(H$3+($B112)*7))","v":0},{"$f":"COUNTIFS(tblPosts[poster_id],I$2,tblPosts[post_time],\">=\"&(I$3+($B112-1)*7),tblPosts[post_time],\"<\"&(I$3+($B112)*7))","v":0},{"$f":"COUNTIFS(tblPosts[poster_id],J$2,tblPosts[post_time],\">=\"&(J$3+($B112-1)*7),tblPosts[post_time],\"<\"&(J$3+($B112)*7))","v":0},{"$f":"COUNTIFS(tblPosts[poster_id],K$2,tblPosts[post_time],\">=\"&(K$3+($B112-1)*7),tblPosts[post_time],\"<\"&(K$3+($B112)*7))","v":0},{"$f":"COUNTIFS(tblPosts[poster_id],L$2,tblPosts[post_time],\">=\"&(L$3+($B112-1)*7),tblPosts[post_time],\"<\"&(L$3+($B112)*7))","v":0},null,109,2229,{"$error":"#N/A"},{"$error":"#N/A"},{"$error":"#N/A"},{"$error":"#N/A"},{"$error":"#N/A"},339,{"$error":"#N/A"},{"$error":"#N/A"},{"$error":"#N/A"},0]
[null,110,{"$f":"COUNTIFS(tblPosts[poster_id],C$2,tblPosts[post_time],\">=\"&(C$3+($B113-1)*7),tblPosts[post_time],\"<\"&(C$3+($B113)*7))","v":30},{"$f":"COUNTIFS(tblPosts[poster_id],D$2,tblPosts[post_time],\">=\"&(D$3+($B113-1)*7),tblPosts[post_time],\"<\"&(D$3+($B113)*7))","v":0},{"$f":"COUNTIFS(tblPosts[poster_id],E$2,tblPosts[post_time],\">=\"&(E$3+($B113-1)*7),tblPosts[post_time],\"<\"&(E$3+($B113)*7))","v":0},{"$f":"COUNTIFS(tblPosts[poster_id],F$2,tblPosts[post_time],\">=\"&(F$3+($B113-1)*7),tblPosts[post_time],\"<\"&(F$3+($B113)*7))","v":0},{"$f":"COUNTIFS(tblPosts[poster_id],G$2,tblPosts[post_time],\">=\"&(G$3+($B113-1)*7),tblPosts[post_time],\"<\"&(G$3+($B113)*7))","v":0},{"$f":"COUNTIFS(tblPosts[poster_id],H$2,tblPosts[post_time],\">=\"&(H$3+($B113-1)*7),tblPosts[post_time],\"<\"&(H$3+($B113)*7))","v":0},{"$f":"COUNTIFS(tblPosts[poster_id],I$2,tblPosts[post_time],\">=\"&(I$3+($B113-1)*7),tblPosts[post_time],\"<\"&(I$3+($B113)*7))","v":0},{"$f":"COUNTIFS(tblPosts[poster_id],J$2,tblPosts[post_time],\">=\"&(J$3+($B113-1)*7),tblPosts[post_time],\"<\"&(J$3+($B113)*7))","v":0},{"$f":"COUNTIFS(tblPosts[poster_id],K$2,tblPosts[post_time],\">=\"&(K$3+($B113-1)*7),tblPosts[post_time],\"<\"&(K$3+($B113)*7))","v":0},{"$f":"COUNTIFS(tblPosts[poster_id],L$2,tblPosts[post_time],\">=\"&(L$3+($B113-1)*7),tblPosts[post_time],\"<\"&(L$3+($B113)*7))","v":0},null,110,2259,{"$error":"#N/A"},{"$error":"#N/A"},{"$error":"#N/A"},{"$error":"#N/A"},{"$error":"#N/A"},339,{"$error":"#N/A"},{"$error":"#N/A"},{"$error":"#N/A"},0]
[null,111,{"$f":"COUNTIFS(tblPosts[poster_id],C$2,tblPosts[post_time],\">=\"&(C$3+($B114-1)*7),tblPosts[post_time],\"<\"&(C$3+($B114)*7))","v":26},{"$f":"COUNTIFS(tblPosts[poster_id],D$2,tblPosts[post_time],\">=\"&(D$3+($B114-1)*7),tblPosts[post_time],\"<\"&(D$3+($B114)*7))","v":0},{"$f":"COUNTIFS(tblPosts[poster_id],E$2,tblPosts[post_time],\">=\"&(E$3+($B114-1)*7),tblPosts[post_time],\"<\"&(E$3+($B114)*7))","v":0},{"$f":"COUNTIFS(tblPosts[poster_id],F$2,tblPosts[post_time],\">=\"&(F$3+($B114-1)*7),tblPosts[post_time],\"<\"&(F$3+($B114)*7))","v":0},{"$f":"COUNTIFS(tblPosts[poster_id],G$2,tblPosts[post_time],\">=\"&(G$3+($B114-1)*7),tblPosts[post_time],\"<\"&(G$3+($B114)*7))","v":0},{"$f":"COUNTIFS(tblPosts[poster_id],H$2,tblPosts[post_time],\">=\"&(H$3+($B114-1)*7),tblPosts[post_time],\"<\"&(H$3+($B114)*7))","v":0},{"$f":"COUNTIFS(tblPosts[poster_id],I$2,tblPosts[post_time],\">=\"&(I$3+($B114-1)*7),tblPosts[post_time],\"<\"&(I$3+($B114)*7))","v":1},{"$f":"COUNTIFS(tblPosts[poster_id],J$2,tblPosts[post_time],\">=\"&(J$3+($B114-1)*7),tblPosts[post_time],\"<\"&(J$3+($B114)*7))","v":0},{"$f":"COUNTIFS(tblPosts[poster_id],K$2,tblPosts[post_time],\">=\"&(K$3+($B114-1)*7),tblPosts[post_time],\"<\"&(K$3+($B114)*7))","v":0},{"$f":"COUNTIFS(tblPosts[poster_id],L$2,tblPosts[post_time],\">=\"&(L$3+($B114-1)*7),tblPosts[post_time],\"<\"&(L$3+($B114)*7))","v":0},null,111,2285,{"$error":"#N/A"},{"$error":"#N/A"},{"$error":"#N/A"},{"$error":"#N/A"},{"$error":"#N/A"},340,{"$error":"#N/A"},{"$error":"#N/A"},{"$error":"#N/A"},0]
[null,112,{"$f":"COUNTIFS(tblPosts[poster_id],C$2,tblPosts[post_time],\">=\"&(C$3+($B115-1)*7),tblPosts[post_time],\"<\"&(C$3+($B115)*7))","v":22},{"$f":"COUNTIFS(tblPosts[poster_id],D$2,tblPosts[post_time],\">=\"&(D$3+($B115-1)*7),tblPosts[post_time],\"<\"&(D$3+($B115)*7))","v":0},{"$f":"COUNTIFS(tblPosts[poster_id],E$2,tblPosts[post_time],\">=\"&(E$3+($B115-1)*7),tblPosts[post_time],\"<\"&(E$3+($B115)*7))","v":0},{"$f":"COUNTIFS(tblPosts[poster_id],F$2,tblPosts[post_time],\">=\"&(F$3+($B115-1)*7),tblPosts[post_time],\"<\"&(F$3+($B115)*7))","v":0},{"$f":"COUNTIFS(tblPosts[poster_id],G$2,tblPosts[post_time],\">=\"&(G$3+($B115-1)*7),tblPosts[post_time],\"<\"&(G$3+($B115)*7))","v":0},{"$f":"COUNTIFS(tblPosts[poster_id],H$2,tblPosts[post_time],\">=\"&(H$3+($B115-1)*7),tblPosts[post_time],\"<\"&(H$3+($B115)*7))","v":0},{"$f":"COUNTIFS(tblPosts[poster_id],I$2,tblPosts[post_time],\">=\"&(I$3+($B115-1)*7),tblPosts[post_time],\"<\"&(I$3+($B115)*7))","v":0},{"$f":"COUNTIFS(tblPosts[poster_id],J$2,tblPosts[post_time],\">=\"&(J$3+($B115-1)*7),tblPosts[post_time],\"<\"&(J$3+($B115)*7))","v":0},{"$f":"COUNTIFS(tblPosts[poster_id],K$2,tblPosts[post_time],\">=\"&(K$3+($B115-1)*7),tblPosts[post_time],\"<\"&(K$3+($B115)*7))","v":0},{"$f":"COUNTIFS(tblPosts[poster_id],L$2,tblPosts[post_time],\">=\"&(L$3+($B115-1)*7),tblPosts[post_time],\"<\"&(L$3+($B115)*7))","v":0},null,112,2307,{"$error":"#N/A"},{"$error":"#N/A"},{"$error":"#N/A"},{"$error":"#N/A"},{"$error":"#N/A"},340,{"$error":"#N/A"},{"$error":"#N/A"},{"$error":"#N/A"},0]
[null,113,{"$f":"COUNTIFS(tblPosts[poster_id],C$2,tblPosts[post_time],\">=\"&(C$3+($B116-1)*7),tblPosts[post_time],\"<\"&(C$3+($B116)*7))","v":33},{"$f":"COUNTIFS(tblPosts[poster_id],D$2,tblPosts[post_time],\">=\"&(D$3+($B116-1)*7),tblPosts[post_time],\"<\"&(D$3+($B116)*7))","v":0},{"$f":"COUNTIFS(tblPosts[poster_id],E$2,tblPosts[post_time],\">=\"&(E$3+($B116-1)*7),tblPosts[post_time],\"<\"&(E$3+($B116)*7))","v":0},{"$f":"COUNTIFS(tblPosts[poster_id],F$2,tblPosts[post_time],\">=\"&(F$3+($B116-1)*7),tblPosts[post_time],\"<\"&(F$3+($B116)*7))","v":0},{"$f":"COUNTIFS(tblPosts[poster_id],G$2,tblPosts[post_time],\">=\"&(G$3+($B116-1)*7),tblPosts[post_time],\"<\"&(G$3+($B116)*7))","v":0},{"$f":"COUNTIFS(tblPosts[poster_id],H$2,tblPosts[post_time],\">=\"&(H$3+($B116-1)*7),tblPosts[post_time],\"<\"&(H$3+($B116)*7))","v":0},{"$f":"COUNTIFS(tblPosts[poster_id],I$2,tblPosts[post_time],\">=\"&(I$3+($B116-1)*7),tblPosts[post_time],\"<\"&(I$3+($B116)*7))","v":1},{"$f":"COUNTIFS(tblPosts[poster_id],J$2,tblPosts[post_time],\">=\"&(J$3+($B116-1)*7),tblPosts[post_time],\"<\"&(J$3+($B116)*7))","v":0},{"$f":"COUNTIFS(tblPosts[poster_id],K$2,tblPosts[post_time],\">=\"&(K$3+($B116-1)*7),tblPosts[post_time],\"<\"&(K$3+($B116)*7))","v":0},{"$f":"COUNTIFS(tblPosts[poster_id],L$2,tblPosts[post_time],\">=\"&(L$3+($B116-1)*7),tblPosts[post_time],\"<\"&(L$3+($B116)*7))","v":0},null,113,2340,{"$error":"#N/A"},{"$error":"#N/A"},{"$error":"#N/A"},{"$error":"#N/A"},{"$error":"#N/A"},341,{"$error":"#N/A"},{"$error":"#N/A"},{"$error":"#N/A"},0]
[null,114,{"$f":"COUNTIFS(tblPosts[poster_id],C$2,tblPosts[post_time],\">=\"&(C$3+($B117-1)*7),tblPosts[post_time],\"<\"&(C$3+($B117)*7))","v":31},{"$f":"COUNTIFS(tblPosts[poster_id],D$2,tblPosts[post_time],\">=\"&(D$3+($B117-1)*7),tblPosts[post_time],\"<\"&(D$3+($B117)*7))","v":0},{"$f":"COUNTIFS(tblPosts[poster_id],E$2,tblPosts[post_time],\">=\"&(E$3+($B117-1)*7),tblPosts[post_time],\"<\"&(E$3+($B117)*7))","v":0},{"$f":"COUNTIFS(tblPosts[poster_id],F$2,tblPosts[post_time],\">=\"&(F$3+($B117-1)*7),tblPosts[post_time],\"<\"&(F$3+($B117)*7))","v":0},{"$f":"COUNTIFS(tblPosts[poster_id],G$2,tblPosts[post_time],\">=\"&(G$3+($B117-1)*7),tblPosts[post_time],\"<\"&(G$3+($B117)*7))","v":0},{"$f":"COUNTIFS(tblPosts[poster_id],H$2,tblPosts[post_time],\">=\"&(H$3+($B117-1)*7),tblPosts[post_time],\"<\"&(H$3+($B117)*7))","v":0},{"$f":"COUNTIFS(tblPosts[poster_id],I$2,tblPosts[post_time],\">=\"&(I$3+($B117-1)*7),tblPosts[post_time],\"<\"&(I$3+($B117)*7))","v":1},{"$f":"COUNTIFS(tblPosts[poster_id],J$2,tblPosts[post_time],\">=\"&(J$3+($B117-1)*7),tblPosts[post_time],\"<\"&(J$3+($B117)*7))","v":0},{"$f":"COUNTIFS(tblPosts[poster_id],K$2,tblPosts[post_time],\">=\"&(K$3+($B117-1)*7),tblPosts[post_time],\"<\"&(K$3+($B117)*7))","v":0},{"$f":"COUNTIFS(tblPosts[poster_id],L$2,tblPosts[post_time],\">=\"&(L$3+($B117-1)*7),tblPosts[post_time],\"<\"&(L$3+($B117)*7))","v":0},null,114,2371,{"$error":"#N/A"},{"$error":"#N/A"},{"$error":"#N/A"},{"$error":"#N/A"},{"$error":"#N/A"},342,{"$error":"#N/A"},{"$error":"#N/A"},{"$error":"#N/A"},0]
[null,115,{"$f":"COUNTIFS(tblPosts[poster_id],C$2,tblPosts[post_time],\">=\"&(C$3+($B118-1)*7),tblPosts[post_time],\"<\"&(C$3+($B118)*7))","v":0},{"$f":"COUNTIFS(tblPosts[poster_id],D$2,tblPosts[post_time],\">=\"&(D$3+($B118-1)*7),tblPosts[post_time],\"<\"&(D$3+($B118)*7))","v":0},{"$f":"COUNTIFS(tblPosts[poster_id],E$2,tblPosts[post_time],\">=\"&(E$3+($B118-1)*7),tblPosts[post_time],\"<\"&(E$3+($B118)*7))","v":0},{"$f":"COUNTIFS(tblPosts[poster_id],F$2,tblPosts[post_time],\">=\"&(F$3+($B118-1)*7),tblPosts[post_time],\"<\"&(F$3+($B118)*7))","v":0},{"$f":"COUNTIFS(tblPosts[poster_id],G$2,tblPosts[post_time],\">=\"&(G$3+($B118-1)*7),tblPosts[post_time],\"<\"&(G$3+($B118)*7))","v":0},{"$f":"COUNTIFS(tblPosts[poster_id],H$2,tblPosts[post_time],\">=\"&(H$3+($B118-1)*7),tblPosts[post_time],\"<\"&(H$3+($B118)*7))","v":0},{"$f":"COUNTIFS(tblPosts[poster_id],I$2,tblPosts[post_time],\">=\"&(I$3+($B118-1)*7),tblPosts[post_time],\"<\"&(I$3+($B118)*7))","v":0},{"$f":"COUNTIFS(tblPosts[poster_id],J$2,tblPosts[post_time],\">=\"&(J$3+($B118-1)*7),tblPosts[post_time],\"<\"&(J$3+($B118)*7))","v":0},{"$f":"COUNTIFS(tblPosts[poster_id],K$2,tblPosts[post_time],\">=\"&(K$3+($B118-1)*7),tblPosts[post_time],\"<\"&(K$3+($B118)*7))","v":0},{"$f":"COUNTIFS(tblPosts[poster_id],L$2,tblPosts[post_time],\">=\"&(L$3+($B118-1)*7),tblPosts[post_time],\"<\"&(L$3+($B118)*7))","v":0},null,115,2371,{"$error":"#N/A"},{"$error":"#N/A"},{"$error":"#N/A"},{"$error":"#N/A"},{"$error":"#N/A"},342,{"$error":"#N/A"},{"$error":"#N/A"},{"$error":"#N/A"},0]
[null,116,{"$f":"COUNTIFS(tblPosts[poster_id],C$2,tblPosts[post_time],\">=\"&(C$3+($B119-1)*7),tblPosts[post_time],\"<\"&(C$3+($B119)*7))","v":0},{"$f":"COUNTIFS(tblPosts[poster_id],D$2,tblPosts[post_time],\">=\"&(D$3+($B119-1)*7),tblPosts[post_time],\"<\"&(D$3+($B119)*7))","v":0},{"$f":"COUNTIFS(tblPosts[poster_id],E$2,tblPosts[post_time],\">=\"&(E$3+($B119-1)*7),tblPosts[post_time],\"<\"&(E$3+($B119)*7))","v":0},{"$f":"COUNTIFS(tblPosts[poster_id],F$2,tblPosts[post_time],\">=\"&(F$3+($B119-1)*7),tblPosts[post_time],\"<\"&(F$3+($B119)*7))","v":0},{"$f":"COUNTIFS(tblPosts[poster_id],G$2,tblPosts[post_time],\">=\"&(G$3+($B119-1)*7),tblPosts[post_time],\"<\"&(G$3+($B119)*7))","v":0},{"$f":"COUNTIFS(tblPosts[poster_id],H$2,tblPosts[post_time],\">=\"&(H$3+($B119-1)*7),tblPosts[post_time],\"<\"&(H$3+($B119)*7))","v":0},{"$f":"COUNTIFS(tblPosts[poster_id],I$2,tblPosts[post_time],\">=\"&(I$3+($B119-1)*7),tblPosts[post_time],\"<\"&(I$3+($B119)*7))","v":1},{"$f":"COUNTIFS(tblPosts[poster_id],J$2,tblPosts[post_time],\">=\"&(J$3+($B119-1)*7),tblPosts[post_time],\"<\"&(J$3+($B119)*7))","v":0},{"$f":"COUNTIFS(tblPosts[poster_id],K$2,tblPosts[post_time],\">=\"&(K$3+($B119-1)*7),tblPosts[post_time],\"<\"&(K$3+($B119)*7))","v":0},{"$f":"COUNTIFS(tblPosts[poster_id],L$2,tblPosts[post_time],\">=\"&(L$3+($B119-1)*7),tblPosts[post_time],\"<\"&(L$3+($B119)*7))","v":0},null,116,2371,{"$error":"#N/A"},{"$error":"#N/A"},{"$error":"#N/A"},{"$error":"#N/A"},{"$error":"#N/A"},343,{"$error":"#N/A"},{"$error":"#N/A"},{"$error":"#N/A"},0]
[null,117,{"$f":"COUNTIFS(tblPosts[poster_id],C$2,tblPosts[post_time],\">=\"&(C$3+($B120-1)*7),tblPosts[post_time],\"<\"&(C$3+($B120)*7))","v":23},{"$f":"COUNTIFS(tblPosts[poster_id],D$2,tblPosts[post_time],\">=\"&(D$3+($B120-1)*7),tblPosts[post_time],\"<\"&(D$3+($B120)*7))","v":0},{"$f":"COUNTIFS(tblPosts[poster_id],E$2,tblPosts[post_time],\">=\"&(E$3+($B120-1)*7),tblPosts[post_time],\"<\"&(E$3+($B120)*7))","v":0},{"$f":"COUNTIFS(tblPosts[poster_id],F$2,tblPosts[post_time],\">=\"&(F$3+($B120-1)*7),tblPosts[post_time],\"<\"&(F$3+($B120)*7))","v":0},{"$f":"COUNTIFS(tblPosts[poster_id],G$2,tblPosts[post_time],\">=\"&(G$3+($B120-1)*7),tblPosts[post_time],\"<\"&(G$3+($B120)*7))","v":0},{"$f":"COUNTIFS(tblPosts[poster_id],H$2,tblPosts[post_time],\">=\"&(H$3+($B120-1)*7),tblPosts[post_time],\"<\"&(H$3+($B120)*7))","v":0},{"$f":"COUNTIFS(tblPosts[poster_id],I$2,tblPosts[post_time],\">=\"&(I$3+($B120-1)*7),tblPosts[post_time],\"<\"&(I$3+($B120)*7))","v":0},{"$f":"COUNTIFS(tblPosts[poster_id],J$2,tblPosts[post_time],\">=\"&(J$3+($B120-1)*7),tblPosts[post_time],\"<\"&(J$3+($B120)*7))","v":0},{"$f":"COUNTIFS(tblPosts[poster_id],K$2,tblPosts[post_time],\">=\"&(K$3+($B120-1)*7),tblPosts[post_time],\"<\"&(K$3+($B120)*7))","v":0},{"$f":"COUNTIFS(tblPosts[poster_id],L$2,tblPosts[post_time],\">=\"&(L$3+($B120-1)*7),tblPosts[post_time],\"<\"&(L$3+($B120)*7))","v":0},null,117,2394,{"$error":"#N/A"},{"$error":"#N/A"},{"$error":"#N/A"},{"$error":"#N/A"},{"$error":"#N/A"},343,{"$error":"#N/A"},{"$error":"#N/A"},{"$error":"#N/A"},0]
[null,118,{"$f":"COUNTIFS(tblPosts[poster_id],C$2,tblPosts[post_time],\">=\"&(C$3+($B121-1)*7),tblPosts[post_time],\"<\"&(C$3+($B121)*7))","v":26},{"$f":"COUNTIFS(tblPosts[poster_id],D$2,tblPosts[post_time],\">=\"&(D$3+($B121-1)*7),tblPosts[post_time],\"<\"&(D$3+($B121)*7))","v":0},{"$f":"COUNTIFS(tblPosts[poster_id],E$2,tblPosts[post_time],\">=\"&(E$3+($B121-1)*7),tblPosts[post_time],\"<\"&(E$3+($B121)*7))","v":0},{"$f":"COUNTIFS(tblPosts[poster_id],F$2,tblPosts[post_time],\">=\"&(F$3+($B121-1)*7),tblPosts[post_time],\"<\"&(F$3+($B121)*7))","v":0},{"$f":"COUNTIFS(tblPosts[poster_id],G$2,tblPosts[post_time],\">=\"&(G$3+($B121-1)*7),tblPosts[post_time],\"<\"&(G$3+($B121)*7))","v":0},{"$f":"COUNTIFS(tblPosts[poster_id],H$2,tblPosts[post_time],\">=\"&(H$3+($B121-1)*7),tblPosts[post_time],\"<\"&(H$3+($B121)*7))","v":0},{"$f":"COUNTIFS(tblPosts[poster_id],I$2,tblPosts[post_time],\">=\"&(I$3+($B121-1)*7),tblPosts[post_time],\"<\"&(I$3+($B121)*7))","v":2},{"$f":"COUNTIFS(tblPosts[poster_id],J$2,tblPosts[post_time],\">=\"&(J$3+($B121-1)*7),tblPosts[post_time],\"<\"&(J$3+($B121)*7))","v":0},{"$f":"COUNTIFS(tblPosts[poster_id],K$2,tblPosts[post_time],\">=\"&(K$3+($B121-1)*7),tblPosts[post_time],\"<\"&(K$3+($B121)*7))","v":0},{"$f":"COUNTIFS(tblPosts[poster_id],L$2,tblPosts[post_time],\">=\"&(L$3+($B121-1)*7),tblPosts[post_time],\"<\"&(L$3+($B121)*7))","v":0},null,118,2420,{"$error":"#N/A"},{"$error":"#N/A"},{"$error":"#N/A"},{"$error":"#N/A"},{"$error":"#N/A"},345,{"$error":"#N/A"},{"$error":"#N/A"},{"$error":"#N/A"},0]
[null,119,{"$f":"COUNTIFS(tblPosts[poster_id],C$2,tblPosts[post_time],\">=\"&(C$3+($B122-1)*7),tblPosts[post_time],\"<\"&(C$3+($B122)*7))","v":8},{"$f":"COUNTIFS(tblPosts[poster_id],D$2,tblPosts[post_time],\">=\"&(D$3+($B122-1)*7),tblPosts[post_time],\"<\"&(D$3+($B122)*7))","v":0},{"$f":"COUNTIFS(tblPosts[poster_id],E$2,tblPosts[post_time],\">=\"&(E$3+($B122-1)*7),tblPosts[post_time],\"<\"&(E$3+($B122)*7))","v":0},{"$f":"COUNTIFS(tblPosts[poster_id],F$2,tblPosts[post_time],\">=\"&(F$3+($B122-1)*7),tblPosts[post_time],\"<\"&(F$3+($B122)*7))","v":0},{"$f":"COUNTIFS(tblPosts[poster_id],G$2,tblPosts[post_time],\">=\"&(G$3+($B122-1)*7),tblPosts[post_time],\"<\"&(G$3+($B122)*7))","v":0},{"$f":"COUNTIFS(tblPosts[poster_id],H$2,tblPosts[post_time],\">=\"&(H$3+($B122-1)*7),tblPosts[post_time],\"<\"&(H$3+($B122)*7))","v":0},{"$f":"COUNTIFS(tblPosts[poster_id],I$2,tblPosts[post_time],\">=\"&(I$3+($B122-1)*7),tblPosts[post_time],\"<\"&(I$3+($B122)*7))","v":0},{"$f":"COUNTIFS(tblPosts[poster_id],J$2,tblPosts[post_time],\">=\"&(J$3+($B122-1)*7),tblPosts[post_time],\"<\"&(J$3+($B122)*7))","v":0},{"$f":"COUNTIFS(tblPosts[poster_id],K$2,tblPosts[post_time],\">=\"&(K$3+($B122-1)*7),tblPosts[post_time],\"<\"&(K$3+($B122)*7))","v":0},{"$f":"COUNTIFS(tblPosts[poster_id],L$2,tblPosts[post_time],\">=\"&(L$3+($B122-1)*7),tblPosts[post_time],\"<\"&(L$3+($B122)*7))","v":0},null,119,2428,{"$error":"#N/A"},{"$error":"#N/A"},{"$error":"#N/A"},{"$error":"#N/A"},{"$error":"#N/A"},345,{"$error":"#N/A"},{"$error":"#N/A"},{"$error":"#N/A"},0]
[null,120,{"$f":"COUNTIFS(tblPosts[poster_id],C$2,tblPosts[post_time],\">=\"&(C$3+($B123-1)*7),tblPosts[post_time],\"<\"&(C$3+($B123)*7))","v":16},{"$f":"COUNTIFS(tblPosts[poster_id],D$2,tblPosts[post_time],\">=\"&(D$3+($B123-1)*7),tblPosts[post_time],\"<\"&(D$3+($B123)*7))","v":0},{"$f":"COUNTIFS(tblPosts[poster_id],E$2,tblPosts[post_time],\">=\"&(E$3+($B123-1)*7),tblPosts[post_time],\"<\"&(E$3+($B123)*7))","v":0},{"$f":"COUNTIFS(tblPosts[poster_id],F$2,tblPosts[post_time],\">=\"&(F$3+($B123-1)*7),tblPosts[post_time],\"<\"&(F$3+($B123)*7))","v":0},{"$f":"COUNTIFS(tblPosts[poster_id],G$2,tblPosts[post_time],\">=\"&(G$3+($B123-1)*7),tblPosts[post_time],\"<\"&(G$3+($B123)*7))","v":0},{"$f":"COUNTIFS(tblPosts[poster_id],H$2,tblPosts[post_time],\">=\"&(H$3+($B123-1)*7),tblPosts[post_time],\"<\"&(H$3+($B123)*7))","v":0},{"$f":"COUNTIFS(tblPosts[poster_id],I$2,tblPosts[post_time],\">=\"&(I$3+($B123-1)*7),tblPosts[post_time],\"<\"&(I$3+($B123)*7))","v":0},{"$f":"COUNTIFS(tblPosts[poster_id],J$2,tblPosts[post_time],\">=\"&(J$3+($B123-1)*7),tblPosts[post_time],\"<\"&(J$3+($B123)*7))","v":0},{"$f":"COUNTIFS(tblPosts[poster_id],K$2,tblPosts[post_time],\">=\"&(K$3+($B123-1)*7),tblPosts[post_time],\"<\"&(K$3+($B123)*7))","v":0},{"$f":"COUNTIFS(tblPosts[poster_id],L$2,tblPosts[post_time],\">=\"&(L$3+($B123-1)*7),tblPosts[post_time],\"<\"&(L$3+($B123)*7))","v":0},null,120,2444,{"$error":"#N/A"},{"$error":"#N/A"},{"$error":"#N/A"},{"$error":"#N/A"},{"$error":"#N/A"},345,{"$error":"#N/A"},{"$error":"#N/A"},{"$error":"#N/A"},0]
[null,121,{"$f":"COUNTIFS(tblPosts[poster_id],C$2,tblPosts[post_time],\">=\"&(C$3+($B124-1)*7),tblPosts[post_time],\"<\"&(C$3+($B124)*7))","v":9},{"$f":"COUNTIFS(tblPosts[poster_id],D$2,tblPosts[post_time],\">=\"&(D$3+($B124-1)*7),tblPosts[post_time],\"<\"&(D$3+($B124)*7))","v":0},{"$f":"COUNTIFS(tblPosts[poster_id],E$2,tblPosts[post_time],\">=\"&(E$3+($B124-1)*7),tblPosts[post_time],\"<\"&(E$3+($B124)*7))","v":0},{"$f":"COUNTIFS(tblPosts[poster_id],F$2,tblPosts[post_time],\">=\"&(F$3+($B124-1)*7),tblPosts[post_time],\"<\"&(F$3+($B124)*7))","v":0},{"$f":"COUNTIFS(tblPosts[poster_id],G$2,tblPosts[post_time],\">=\"&(G$3+($B124-1)*7),tblPosts[post_time],\"<\"&(G$3+($B124)*7))","v":0},{"$f":"COUNTIFS(tblPosts[poster_id],H$2,tblPosts[post_time],\">=\"&(H$3+($B124-1)*7),tblPosts[post_time],\"<\"&(H$3+($B124)*7))","v":0},{"$f":"COUNTIFS(tblPosts[poster_id],I$2,tblPosts[post_time],\">=\"&(I$3+($B124-1)*7),tblPosts[post_time],\"<\"&(I$3+($B124)*7))","v":2},{"$f":"COUNTIFS(tblPosts[poster_id],J$2,tblPosts[post_time],\">=\"&(J$3+($B124-1)*7),tblPosts[post_time],\"<\"&(J$3+($B124)*7))","v":0},{"$f":"COUNTIFS(tblPosts[poster_id],K$2,tblPosts[post_time],\">=\"&(K$3+($B124-1)*7),tblPosts[post_time],\"<\"&(K$3+($B124)*7))","v":0},{"$f":"COUNTIFS(tblPosts[poster_id],L$2,tblPosts[post_time],\">=\"&(L$3+($B124-1)*7),tblPosts[post_time],\"<\"&(L$3+($B124)*7))","v":0},null,121,2453,{"$error":"#N/A"},{"$error":"#N/A"},{"$error":"#N/A"},{"$error":"#N/A"},{"$error":"#N/A"},347,{"$error":"#N/A"},{"$error":"#N/A"},{"$error":"#N/A"},0]
[null,122,{"$f":"COUNTIFS(tblPosts[poster_id],C$2,tblPosts[post_time],\">=\"&(C$3+($B125-1)*7),tblPosts[post_time],\"<\"&(C$3+($B125)*7))","v":12},{"$f":"COUNTIFS(tblPosts[poster_id],D$2,tblPosts[post_time],\">=\"&(D$3+($B125-1)*7),tblPosts[post_time],\"<\"&(D$3+($B125)*7))","v":0},{"$f":"COUNTIFS(tblPosts[poster_id],E$2,tblPosts[post_time],\">=\"&(E$3+($B125-1)*7),tblPosts[post_time],\"<\"&(E$3+($B125)*7))","v":0},{"$f":"COUNTIFS(tblPosts[poster_id],F$2,tblPosts[post_time],\">=\"&(F$3+($B125-1)*7),tblPosts[post_time],\"<\"&(F$3+($B125)*7))","v":0},{"$f":"COUNTIFS(tblPosts[poster_id],G$2,tblPosts[post_time],\">=\"&(G$3+($B125-1)*7),tblPosts[post_time],\"<\"&(G$3+($B125)*7))","v":0},{"$f":"COUNTIFS(tblPosts[poster_id],H$2,tblPosts[post_time],\">=\"&(H$3+($B125-1)*7),tblPosts[post_time],\"<\"&(H$3+($B125)*7))","v":0},{"$f":"COUNTIFS(tblPosts[poster_id],I$2,tblPosts[post_time],\">=\"&(I$3+($B125-1)*7),tblPosts[post_time],\"<\"&(I$3+($B125)*7))","v":0},{"$f":"COUNTIFS(tblPosts[poster_id],J$2,tblPosts[post_time],\">=\"&(J$3+($B125-1)*7),tblPosts[post_time],\"<\"&(J$3+($B125)*7))","v":0},{"$f":"COUNTIFS(tblPosts[poster_id],K$2,tblPosts[post_time],\">=\"&(K$3+($B125-1)*7),tblPosts[post_time],\"<\"&(K$3+($B125)*7))","v":0},{"$f":"COUNTIFS(tblPosts[poster_id],L$2,tblPosts[post_time],\">=\"&(L$3+($B125-1)*7),tblPosts[post_time],\"<\"&(L$3+($B125)*7))","v":0},null,122,2465,{"$error":"#N/A"},{"$error":"#N/A"},{"$error":"#N/A"},{"$error":"#N/A"},{"$error":"#N/A"},347,{"$error":"#N/A"},{"$error":"#N/A"},{"$error":"#N/A"},0]
[null,123,{"$f":"COUNTIFS(tblPosts[poster_id],C$2,tblPosts[post_time],\">=\"&(C$3+($B126-1)*7),tblPosts[post_time],\"<\"&(C$3+($B126)*7))","v":15},{"$f":"COUNTIFS(tblPosts[poster_id],D$2,tblPosts[post_time],\">=\"&(D$3+($B126-1)*7),tblPosts[post_time],\"<\"&(D$3+($B126)*7))","v":0},{"$f":"COUNTIFS(tblPosts[poster_id],E$2,tblPosts[post_time],\">=\"&(E$3+($B126-1)*7),tblPosts[post_time],\"<\"&(E$3+($B126)*7))","v":0},{"$f":"COUNTIFS(tblPosts[poster_id],F$2,tblPosts[post_time],\">=\"&(F$3+($B126-1)*7),tblPosts[post_time],\"<\"&(F$3+($B126)*7))","v":0},{"$f":"COUNTIFS(tblPosts[poster_id],G$2,tblPosts[post_time],\">=\"&(G$3+($B126-1)*7),tblPosts[post_time],\"<\"&(G$3+($B126)*7))","v":0},{"$f":"COUNTIFS(tblPosts[poster_id],H$2,tblPosts[post_time],\">=\"&(H$3+($B126-1)*7),tblPosts[post_time],\"<\"&(H$3+($B126)*7))","v":0},{"$f":"COUNTIFS(tblPosts[poster_id],I$2,tblPosts[post_time],\">=\"&(I$3+($B126-1)*7),tblPosts[post_time],\"<\"&(I$3+($B126)*7))","v":0},{"$f":"COUNTIFS(tblPosts[poster_id],J$2,tblPosts[post_time],\">=\"&(J$3+($B126-1)*7),tblPosts[post_time],\"<\"&(J$3+($B126)*7))","v":0},{"$f":"COUNTIFS(tblPosts[poster_id],K$2,tblPosts[post_time],\">=\"&(K$3+($B126-1)*7),tblPosts[post_time],\"<\"&(K$3+($B126)*7))","v":0},{"$f":"COUNTIFS(tblPosts[poster_id],L$2,tblPosts[post_time],\">=\"&(L$3+($B126-1)*7),tblPosts[post_time],\"<\"&(L$3+($B126)*7))","v":0},null,123,2480,{"$error":"#N/A"},{"$error":"#N/A"},{"$error":"#N/A"},{"$error":"#N/A"},{"$error":"#N/A"},347,{"$error":"#N/A"},{"$error":"#N/A"},{"$error":"#N/A"},0]
[null,124,{"$f":"COUNTIFS(tblPosts[poster_id],C$2,tblPosts[post_time],\">=\"&(C$3+($B127-1)*7),tblPosts[post_time],\"<\"&(C$3+($B127)*7))","v":12},{"$f":"COUNTIFS(tblPosts[poster_id],D$2,tblPosts[post_time],\">=\"&(D$3+($B127-1)*7),tblPosts[post_time],\"<\"&(D$3+($B127)*7))","v":0},{"$f":"COUNTIFS(tblPosts[poster_id],E$2,tblPosts[post_time],\">=\"&(E$3+($B127-1)*7),tblPosts[post_time],\"<\"&(E$3+($B127)*7))","v":0},{"$f":"COUNTIFS(tblPosts[poster_id],F$2,tblPosts[post_time],\">=\"&(F$3+($B127-1)*7),tblPosts[post_time],\"<\"&(F$3+($B127)*7))","v":0},{"$f":"COUNTIFS(tblPosts[poster_id],G$2,tblPosts[post_time],\">=\"&(G$3+($B127-1)*7),tblPosts[post_time],\"<\"&(G$3+($B127)*7))","v":0},{"$f":"COUNTIFS(tblPosts[poster_id],H$2,tblPosts[post_time],\">=\"&(H$3+($B127-1)*7),tblPosts[post_time],\"<\"&(H$3+($B127)*7))","v":0},{"$f":"COUNTIFS(tblPosts[poster_id],I$2,tblPosts[post_time],\">=\"&(I$3+($B127-1)*7),tblPosts[post_time],\"<\"&(I$3+($B127)*7))","v":1},{"$f":"COUNTIFS(tblPosts[poster_id],J$2,tblPosts[post_time],\">=\"&(J$3+($B127-1)*7),tblPosts[post_time],\"<\"&(J$3+($B127)*7))","v":0},{"$f":"COUNTIFS(tblPosts[poster_id],K$2,tblPosts[post_time],\">=\"&(K$3+($B127-1)*7),tblPosts[post_time],\"<\"&(K$3+($B127)*7))","v":0},{"$f":"COUNTIFS(tblPosts[poster_id],L$2,tblPosts[post_time],\">=\"&(L$3+($B127-1)*7),tblPosts[post_time],\"<\"&(L$3+($B127)*7))","v":0},null,124,2492,{"$error":"#N/A"},{"$error":"#N/A"},{"$error":"#N/A"},{"$error":"#N/A"},{"$error":"#N/A"},348,{"$error":"#N/A"},{"$error":"#N/A"},{"$error":"#N/A"},0]
[null,125,{"$f":"COUNTIFS(tblPosts[poster_id],C$2,tblPosts[post_time],\">=\"&(C$3+($B128-1)*7),tblPosts[post_time],\"<\"&(C$3+($B128)*7))","v":22},{"$f":"COUNTIFS(tblPosts[poster_id],D$2,tblPosts[post_time],\">=\"&(D$3+($B128-1)*7),tblPosts[post_time],\"<\"&(D$3+($B128)*7))","v":0},{"$f":"COUNTIFS(tblPosts[poster_id],E$2,tblPosts[post_time],\">=\"&(E$3+($B128-1)*7),tblPosts[post_time],\"<\"&(E$3+($B128)*7))","v":0},{"$f":"COUNTIFS(tblPosts[poster_id],F$2,tblPosts[post_time],\">=\"&(F$3+($B128-1)*7),tblPosts[post_time],\"<\"&(F$3+($B128)*7))","v":0},{"$f":"COUNTIFS(tblPosts[poster_id],G$2,tblPosts[post_time],\">=\"&(G$3+($B128-1)*7),tblPosts[post_time],\"<\"&(G$3+($B128)*7))","v":0},{"$f":"COUNTIFS(tblPosts[poster_id],H$2,tblPosts[post_time],\">=\"&(H$3+($B128-1)*7),tblPosts[post_time],\"<\"&(H$3+($B128)*7))","v":0},{"$f":"COUNTIFS(tblPosts[poster_id],I$2,tblPosts[post_time],\">=\"&(I$3+($B128-1)*7),tblPosts[post_time],\"<\"&(I$3+($B128)*7))","v":2},{"$f":"COUNTIFS(tblPosts[poster_id],J$2,tblPosts[post_time],\">=\"&(J$3+($B128-1)*7),tblPosts[post_time],\"<\"&(J$3+($B128)*7))","v":0},{"$f":"COUNTIFS(tblPosts[poster_id],K$2,tblPosts[post_time],\">=\"&(K$3+($B128-1)*7),tblPosts[post_time],\"<\"&(K$3+($B128)*7))","v":0},{"$f":"COUNTIFS(tblPosts[poster_id],L$2,tblPosts[post_time],\">=\"&(L$3+($B128-1)*7),tblPosts[post_time],\"<\"&(L$3+($B128)*7))","v":0},null,125,2514,{"$error":"#N/A"},{"$error":"#N/A"},{"$error":"#N/A"},{"$error":"#N/A"},{"$error":"#N/A"},350,{"$error":"#N/A"},{"$error":"#N/A"},{"$error":"#N/A"},0]
[null,126,{"$f":"COUNTIFS(tblPosts[poster_id],C$2,tblPosts[post_time],\">=\"&(C$3+($B129-1)*7),tblPosts[post_time],\"<\"&(C$3+($B129)*7))","v":12},{"$f":"COUNTIFS(tblPosts[poster_id],D$2,tblPosts[post_time],\">=\"&(D$3+($B129-1)*7),tblPosts[post_time],\"<\"&(D$3+($B129)*7))","v":0},{"$f":"COUNTIFS(tblPosts[poster_id],E$2,tblPosts[post_time],\">=\"&(E$3+($B129-1)*7),tblPosts[post_time],\"<\"&(E$3+($B129)*7))","v":0},{"$f":"COUNTIFS(tblPosts[poster_id],F$2,tblPosts[post_time],\">=\"&(F$3+($B129-1)*7),tblPosts[post_time],\"<\"&(F$3+($B129)*7))","v":0},{"$f":"COUNTIFS(tblPosts[poster_id],G$2,tblPosts[post_time],\">=\"&(G$3+($B129-1)*7),tblPosts[post_time],\"<\"&(G$3+($B129)*7))","v":0},{"$f":"COUNTIFS(tblPosts[poster_id],H$2,tblPosts[post_time],\">=\"&(H$3+($B129-1)*7),tblPosts[post_time],\"<\"&(H$3+($B129)*7))","v":0},{"$f":"COUNTIFS(tblPosts[poster_id],I$2,tblPosts[post_time],\">=\"&(I$3+($B129-1)*7),tblPosts[post_time],\"<\"&(I$3+($B129)*7))","v":2},{"$f":"COUNTIFS(tblPosts[poster_id],J$2,tblPosts[post_time],\">=\"&(J$3+($B129-1)*7),tblPosts[post_time],\"<\"&(J$3+($B129)*7))","v":0},{"$f":"COUNTIFS(tblPosts[poster_id],K$2,tblPosts[post_time],\">=\"&(K$3+($B129-1)*7),tblPosts[post_time],\"<\"&(K$3+($B129)*7))","v":0},{"$f":"COUNTIFS(tblPosts[poster_id],L$2,tblPosts[post_time],\">=\"&(L$3+($B129-1)*7),tblPosts[post_time],\"<\"&(L$3+($B129)*7))","v":0},null,126,2526,{"$error":"#N/A"},{"$error":"#N/A"},{"$error":"#N/A"},{"$error":"#N/A"},{"$error":"#N/A"},352,{"$error":"#N/A"},{"$error":"#N/A"},{"$error":"#N/A"},0]
[null,127,{"$f":"COUNTIFS(tblPosts[poster_id],C$2,tblPosts[post_time],\">=\"&(C$3+($B130-1)*7),tblPosts[post_time],\"<\"&(C$3+($B130)*7))","v":20},{"$f":"COUNTIFS(tblPosts[poster_id],D$2,tblPosts[post_time],\">=\"&(D$3+($B130-1)*7),tblPosts[post_time],\"<\"&(D$3+($B130)*7))","v":0},{"$f":"COUNTIFS(tblPosts[poster_id],E$2,tblPosts[post_time],\">=\"&(E$3+($B130-1)*7),tblPosts[post_time],\"<\"&(E$3+($B130)*7))","v":0},{"$f":"COUNTIFS(tblPosts[poster_id],F$2,tblPosts[post_time],\">=\"&(F$3+($B130-1)*7),tblPosts[post_time],\"<\"&(F$3+($B130)*7))","v":0},{"$f":"COUNTIFS(tblPosts[poster_id],G$2,tblPosts[post_time],\">=\"&(G$3+($B130-1)*7),tblPosts[post_time],\"<\"&(G$3+($B130)*7))","v":0},{"$f":"COUNTIFS(tblPosts[poster_id],H$2,tblPosts[post_time],\">=\"&(H$3+($B130-1)*7),tblPosts[post_time],\"<\"&(H$3+($B130)*7))","v":0},{"$f":"COUNTIFS(tblPosts[poster_id],I$2,tblPosts[post_time],\">=\"&(I$3+($B130-1)*7),tblPosts[post_time],\"<\"&(I$3+($B130)*7))","v":1},{"$f":"COUNTIFS(tblPosts[poster_id],J$2,tblPosts[post_time],\">=\"&(J$3+($B130-1)*7),tblPosts[post_time],\"<\"&(J$3+($B130)*7))","v":0},{"$f":"COUNTIFS(tblPosts[poster_id],K$2,tblPosts[post_time],\">=\"&(K$3+($B130-1)*7),tblPosts[post_time],\"<\"&(K$3+($B130)*7))","v":0},{"$f":"COUNTIFS(tblPosts[poster_id],L$2,tblPosts[post_time],\">=\"&(L$3+($B130-1)*7),tblPosts[post_time],\"<\"&(L$3+($B130)*7))","v":0},null,127,2546,{"$error":"#N/A"},{"$error":"#N/A"},{"$error":"#N/A"},{"$error":"#N/A"},{"$error":"#N/A"},353,{"$error":"#N/A"},{"$error":"#N/A"},{"$error":"#N/A"},0]
[null,128,{"$f":"COUNTIFS(tblPosts[poster_id],C$2,tblPosts[post_time],\">=\"&(C$3+($B131-1)*7),tblPosts[post_time],\"<\"&(C$3+($B131)*7))","v":22},{"$f":"COUNTIFS(tblPosts[poster_id],D$2,tblPosts[post_time],\">=\"&(D$3+($B131-1)*7),tblPosts[post_time],\"<\"&(D$3+($B131)*7))","v":0},{"$f":"COUNTIFS(tblPosts[poster_id],E$2,tblPosts[post_time],\">=\"&(E$3+($B131-1)*7),tblPosts[post_time],\"<\"&(E$3+($B131)*7))","v":0},{"$f":"COUNTIFS(tblPosts[poster_id],F$2,tblPosts[post_time],\">=\"&(F$3+($B131-1)*7),tblPosts[post_time],\"<\"&(F$3+($B131)*7))","v":0},{"$f":"COUNTIFS(tblPosts[poster_id],G$2,tblPosts[post_time],\">=\"&(G$3+($B131-1)*7),tblPosts[post_time],\"<\"&(G$3+($B131)*7))","v":0},{"$f":"COUNTIFS(tblPosts[poster_id],H$2,tblPosts[post_time],\">=\"&(H$3+($B131-1)*7),tblPosts[post_time],\"<\"&(H$3+($B131)*7))","v":0},{"$f":"COUNTIFS(tblPosts[poster_id],I$2,tblPosts[post_time],\">=\"&(I$3+($B131-1)*7),tblPosts[post_time],\"<\"&(I$3+($B131)*7))","v":0},{"$f":"COUNTIFS(tblPosts[poster_id],J$2,tblPosts[post_time],\">=\"&(J$3+($B131-1)*7),tblPosts[post_time],\"<\"&(J$3+($B131)*7))","v":0},{"$f":"COUNTIFS(tblPosts[poster_id],K$2,tblPosts[post_time],\">=\"&(K$3+($B131-1)*7),tblPosts[post_time],\"<\"&(K$3+($B131)*7))","v":0},{"$f":"COUNTIFS(tblPosts[poster_id],L$2,tblPosts[post_time],\">=\"&(L$3+($B131-1)*7),tblPosts[post_time],\"<\"&(L$3+($B131)*7))","v":0},null,128,2568,{"$error":"#N/A"},{"$error":"#N/A"},{"$error":"#N/A"},{"$error":"#N/A"},{"$error":"#N/A"},353,{"$error":"#N/A"},{"$error":"#N/A"},{"$error":"#N/A"},0]
[null,129,{"$f":"COUNTIFS(tblPosts[poster_id],C$2,tblPosts[post_time],\">=\"&(C$3+($B132-1)*7),tblPosts[post_time],\"<\"&(C$3+($B132)*7))","v":6},{"$f":"COUNTIFS(tblPosts[poster_id],D$2,tblPosts[post_time],\">=\"&(D$3+($B132-1)*7),tblPosts[post_time],\"<\"&(D$3+($B132)*7))","v":0},{"$f":"COUNTIFS(tblPosts[poster_id],E$2,tblPosts[post_time],\">=\"&(E$3+($B132-1)*7),tblPosts[post_time],\"<\"&(E$3+($B132)*7))","v":0},{"$f":"COUNTIFS(tblPosts[poster_id],F$2,tblPosts[post_time],\">=\"&(F$3+($B132-1)*7),tblPosts[post_time],\"<\"&(F$3+($B132)*7))","v":0},{"$f":"COUNTIFS(tblPosts[poster_id],G$2,tblPosts[post_time],\">=\"&(G$3+($B132-1)*7),tblPosts[post_time],\"<\"&(G$3+($B132)*7))","v":0},{"$f":"COUNTIFS(tblPosts[poster_id],H$2,tblPosts[post_time],\">=\"&(H$3+($B132-1)*7),tblPosts[post_time],\"<\"&(H$3+($B132)*7))","v":0},{"$f":"COUNTIFS(tblPosts[poster_id],I$2,tblPosts[post_time],\">=\"&(I$3+($B132-1)*7),tblPosts[post_time],\"<\"&(I$3+($B132)*7))","v":1},{"$f":"COUNTIFS(tblPosts[poster_id],J$2,tblPosts[post_time],\">=\"&(J$3+($B132-1)*7),tblPosts[post_time],\"<\"&(J$3+($B132)*7))","v":0},{"$f":"COUNTIFS(tblPosts[poster_id],K$2,tblPosts[post_time],\">=\"&(K$3+($B132-1)*7),tblPosts[post_time],\"<\"&(K$3+($B132)*7))","v":0},{"$f":"COUNTIFS(tblPosts[poster_id],L$2,tblPosts[post_time],\">=\"&(L$3+($B132-1)*7),tblPosts[post_time],\"<\"&(L$3+($B132)*7))","v":0},null,129,2574,{"$error":"#N/A"},{"$error":"#N/A"},{"$error":"#N/A"},{"$error":"#N/A"},{"$error":"#N/A"},354,{"$error":"#N/A"},{"$error":"#N/A"},{"$error":"#N/A"},0]
[null,130,{"$f":"COUNTIFS(tblPosts[poster_id],C$2,tblPosts[post_time],\">=\"&(C$3+($B133-1)*7),tblPosts[post_time],\"<\"&(C$3+($B133)*7))","v":24},{"$f":"COUNTIFS(tblPosts[poster_id],D$2,tblPosts[post_time],\">=\"&(D$3+($B133-1)*7),tblPosts[post_time],\"<\"&(D$3+($B133)*7))","v":0},{"$f":"COUNTIFS(tblPosts[poster_id],E$2,tblPosts[post_time],\">=\"&(E$3+($B133-1)*7),tblPosts[post_time],\"<\"&(E$3+($B133)*7))","v":0},{"$f":"COUNTIFS(tblPosts[poster_id],F$2,tblPosts[post_time],\">=\"&(F$3+($B133-1)*7),tblPosts[post_time],\"<\"&(F$3+($B133)*7))","v":0},{"$f":"COUNTIFS(tblPosts[poster_id],G$2,tblPosts[post_time],\">=\"&(G$3+($B133-1)*7),tblPosts[post_time],\"<\"&(G$3+($B133)*7))","v":0},{"$f":"COUNTIFS(tblPosts[poster_id],H$2,tblPosts[post_time],\">=\"&(H$3+($B133-1)*7),tblPosts[post_time],\"<\"&(H$3+($B133)*7))","v":0},{"$f":"COUNTIFS(tblPosts[poster_id],I$2,tblPosts[post_time],\">=\"&(I$3+($B133-1)*7),tblPosts[post_time],\"<\"&(I$3+($B133)*7))","v":0},{"$f":"COUNTIFS(tblPosts[poster_id],J$2,tblPosts[post_time],\">=\"&(J$3+($B133-1)*7),tblPosts[post_time],\"<\"&(J$3+($B133)*7))","v":0},{"$f":"COUNTIFS(tblPosts[poster_id],K$2,tblPosts[post_time],\">=\"&(K$3+($B133-1)*7),tblPosts[post_time],\"<\"&(K$3+($B133)*7))","v":0},{"$f":"COUNTIFS(tblPosts[poster_id],L$2,tblPosts[post_time],\">=\"&(L$3+($B133-1)*7),tblPosts[post_time],\"<\"&(L$3+($B133)*7))","v":0},null,130,{"$f":"IF(C$3+$B132*7>dumpDate,NA(),O132+C133)","v":2598},{"$f":"IF(D$3+$B132*7>dumpDate,NA(),P132+D133)","v":{"$error":"#N/A"}},{"$f":"IF(E$3+$B132*7>dumpDate,NA(),Q132+E133)","v":{"$error":"#N/A"}},{"$f":"IF(F$3+$B132*7>dumpDate,NA(),R132+F133)","v":{"$error":"#N/A"}},{"$f":"IF(G$3+$B132*7>dumpDate,NA(),S132+G133)","v":{"$error":"#N/A"}},{"$f":"IF(H$3+$B132*7>dumpDate,NA(),T132+H133)","v":{"$error":"#N/A"}},{"$f":"IF(I$3+$B132*7>dumpDate,NA(),U132+I133)","v":354},{"$f":"IF(J$3+$B132*7>dumpDate,NA(),V132+J133)","v":{"$error":"#N/A"}},{"$f":"IF(K$3+$B132*7>dumpDate,NA(),W132+K133)","v":{"$error":"#N/A"}},{"$f":"IF(L$3+$B132*7>dumpDate,NA(),X132+L133)","v":{"$error":"#N/A"}},0]
[null,131,{"$f":"COUNTIFS(tblPosts[poster_id],C$2,tblPosts[post_time],\">=\"&(C$3+($B134-1)*7),tblPosts[post_time],\"<\"&(C$3+($B134)*7))","v":12},{"$f":"COUNTIFS(tblPosts[poster_id],D$2,tblPosts[post_time],\">=\"&(D$3+($B134-1)*7),tblPosts[post_time],\"<\"&(D$3+($B134)*7))","v":0},{"$f":"COUNTIFS(tblPosts[poster_id],E$2,tblPosts[post_time],\">=\"&(E$3+($B134-1)*7),tblPosts[post_time],\"<\"&(E$3+($B134)*7))","v":0},{"$f":"COUNTIFS(tblPosts[poster_id],F$2,tblPosts[post_time],\">=\"&(F$3+($B134-1)*7),tblPosts[post_time],\"<\"&(F$3+($B134)*7))","v":0},{"$f":"COUNTIFS(tblPosts[poster_id],G$2,tblPosts[post_time],\">=\"&(G$3+($B134-1)*7),tblPosts[post_time],\"<\"&(G$3+($B134)*7))","v":0},{"$f":"COUNTIFS(tblPosts[poster_id],H$2,tblPosts[post_time],\">=\"&(H$3+($B134-1)*7),tblPosts[post_time],\"<\"&(H$3+($B134)*7))","v":0},{"$f":"COUNTIFS(tblPosts[poster_id],I$2,tblPosts[post_time],\">=\"&(I$3+($B134-1)*7),tblPosts[post_time],\"<\"&(I$3+($B134)*7))","v":0},{"$f":"COUNTIFS(tblPosts[poster_id],J$2,tblPosts[post_time],\">=\"&(J$3+($B134-1)*7),tblPosts[post_time],\"<\"&(J$3+($B134)*7))","v":0},{"$f":"COUNTIFS(tblPosts[poster_id],K$2,tblPosts[post_time],\">=\"&(K$3+($B134-1)*7),tblPosts[post_time],\"<\"&(K$3+($B134)*7))","v":0},{"$f":"COUNTIFS(tblPosts[poster_id],L$2,tblPosts[post_time],\">=\"&(L$3+($B134-1)*7),tblPosts[post_time],\"<\"&(L$3+($B134)*7))","v":0},null,131,2610,{"$error":"#N/A"},{"$error":"#N/A"},{"$error":"#N/A"},{"$error":"#N/A"},{"$error":"#N/A"},354,{"$error":"#N/A"},{"$error":"#N/A"},{"$error":"#N/A"},0]
[null,132,{"$f":"COUNTIFS(tblPosts[poster_id],C$2,tblPosts[post_time],\">=\"&(C$3+($B135-1)*7),tblPosts[post_time],\"<\"&(C$3+($B135)*7))","v":18},{"$f":"COUNTIFS(tblPosts[poster_id],D$2,tblPosts[post_time],\">=\"&(D$3+($B135-1)*7),tblPosts[post_time],\"<\"&(D$3+($B135)*7))","v":0},{"$f":"COUNTIFS(tblPosts[poster_id],E$2,tblPosts[post_time],\">=\"&(E$3+($B135-1)*7),tblPosts[post_time],\"<\"&(E$3+($B135)*7))","v":0},{"$f":"COUNTIFS(tblPosts[poster_id],F$2,tblPosts[post_time],\">=\"&(F$3+($B135-1)*7),tblPosts[post_time],\"<\"&(F$3+($B135)*7))","v":0},{"$f":"COUNTIFS(tblPosts[poster_id],G$2,tblPosts[post_time],\">=\"&(G$3+($B135-1)*7),tblPosts[post_time],\"<\"&(G$3+($B135)*7))","v":0},{"$f":"COUNTIFS(tblPosts[poster_id],H$2,tblPosts[post_time],\">=\"&(H$3+($B135-1)*7),tblPosts[post_time],\"<\"&(H$3+($B135)*7))","v":0},{"$f":"COUNTIFS(tblPosts[poster_id],I$2,tblPosts[post_time],\">=\"&(I$3+($B135-1)*7),tblPosts[post_time],\"<\"&(I$3+($B135)*7))","v":1},{"$f":"COUNTIFS(tblPosts[poster_id],J$2,tblPosts[post_time],\">=\"&(J$3+($B135-1)*7),tblPosts[post_time],\"<\"&(J$3+($B135)*7))","v":0},{"$f":"COUNTIFS(tblPosts[poster_id],K$2,tblPosts[post_time],\">=\"&(K$3+($B135-1)*7),tblPosts[post_time],\"<\"&(K$3+($B135)*7))","v":0},{"$f":"COUNTIFS(tblPosts[poster_id],L$2,tblPosts[post_time],\">=\"&(L$3+($B135-1)*7),tblPosts[post_time],\"<\"&(L$3+($B135)*7))","v":0},null,132,2628,{"$error":"#N/A"},{"$error":"#N/A"},{"$error":"#N/A"},{"$error":"#N/A"},{"$error":"#N/A"},355,{"$error":"#N/A"},{"$error":"#N/A"},{"$error":"#N/A"},0]
[null,133,{"$f":"COUNTIFS(tblPosts[poster_id],C$2,tblPosts[post_time],\">=\"&(C$3+($B136-1)*7),tblPosts[post_time],\"<\"&(C$3+($B136)*7))","v":29},{"$f":"COUNTIFS(tblPosts[poster_id],D$2,tblPosts[post_time],\">=\"&(D$3+($B136-1)*7),tblPosts[post_time],\"<\"&(D$3+($B136)*7))","v":0},{"$f":"COUNTIFS(tblPosts[poster_id],E$2,tblPosts[post_time],\">=\"&(E$3+($B136-1)*7),tblPosts[post_time],\"<\"&(E$3+($B136)*7))","v":0},{"$f":"COUNTIFS(tblPosts[poster_id],F$2,tblPosts[post_time],\">=\"&(F$3+($B136-1)*7),tblPosts[post_time],\"<\"&(F$3+($B136)*7))","v":0},{"$f":"COUNTIFS(tblPosts[poster_id],G$2,tblPosts[post_time],\">=\"&(G$3+($B136-1)*7),tblPosts[post_time],\"<\"&(G$3+($B136)*7))","v":0},{"$f":"COUNTIFS(tblPosts[poster_id],H$2,tblPosts[post_time],\">=\"&(H$3+($B136-1)*7),tblPosts[post_time],\"<\"&(H$3+($B136)*7))","v":0},{"$f":"COUNTIFS(tblPosts[poster_id],I$2,tblPosts[post_time],\">=\"&(I$3+($B136-1)*7),tblPosts[post_time],\"<\"&(I$3+($B136)*7))","v":3},{"$f":"COUNTIFS(tblPosts[poster_id],J$2,tblPosts[post_time],\">=\"&(J$3+($B136-1)*7),tblPosts[post_time],\"<\"&(J$3+($B136)*7))","v":0},{"$f":"COUNTIFS(tblPosts[poster_id],K$2,tblPosts[post_time],\">=\"&(K$3+($B136-1)*7),tblPosts[post_time],\"<\"&(K$3+($B136)*7))","v":0},{"$f":"COUNTIFS(tblPosts[poster_id],L$2,tblPosts[post_time],\">=\"&(L$3+($B136-1)*7),tblPosts[post_time],\"<\"&(L$3+($B136)*7))","v":0},null,133,2657,{"$error":"#N/A"},{"$error":"#N/A"},{"$error":"#N/A"},{"$error":"#N/A"},{"$error":"#N/A"},358,{"$error":"#N/A"},{"$error":"#N/A"},{"$error":"#N/A"},0]
[null,134,{"$f":"COUNTIFS(tblPosts[poster_id],C$2,tblPosts[post_time],\">=\"&(C$3+($B137-1)*7),tblPosts[post_time],\"<\"&(C$3+($B137)*7))","v":10},{"$f":"COUNTIFS(tblPosts[poster_id],D$2,tblPosts[post_time],\">=\"&(D$3+($B137-1)*7),tblPosts[post_time],\"<\"&(D$3+($B137)*7))","v":0},{"$f":"COUNTIFS(tblPosts[poster_id],E$2,tblPosts[post_time],\">=\"&(E$3+($B137-1)*7),tblPosts[post_time],\"<\"&(E$3+($B137)*7))","v":0},{"$f":"COUNTIFS(tblPosts[poster_id],F$2,tblPosts[post_time],\">=\"&(F$3+($B137-1)*7),tblPosts[post_time],\"<\"&(F$3+($B137)*7))","v":0},{"$f":"COUNTIFS(tblPosts[poster_id],G$2,tblPosts[post_time],\">=\"&(G$3+($B137-1)*7),tblPosts[post_time],\"<\"&(G$3+($B137)*7))","v":0},{"$f":"COUNTIFS(tblPosts[poster_id],H$2,tblPosts[post_time],\">=\"&(H$3+($B137-1)*7),tblPosts[post_time],\"<\"&(H$3+($B137)*7))","v":0},{"$f":"COUNTIFS(tblPosts[poster_id],I$2,tblPosts[post_time],\">=\"&(I$3+($B137-1)*7),tblPosts[post_time],\"<\"&(I$3+($B137)*7))","v":1},{"$f":"COUNTIFS(tblPosts[poster_id],J$2,tblPosts[post_time],\">=\"&(J$3+($B137-1)*7),tblPosts[post_time],\"<\"&(J$3+($B137)*7))","v":0},{"$f":"COUNTIFS(tblPosts[poster_id],K$2,tblPosts[post_time],\">=\"&(K$3+($B137-1)*7),tblPosts[post_time],\"<\"&(K$3+($B137)*7))","v":0},{"$f":"COUNTIFS(tblPosts[poster_id],L$2,tblPosts[post_time],\">=\"&(L$3+($B137-1)*7),tblPosts[post_time],\"<\"&(L$3+($B137)*7))","v":0},null,134,2667,{"$error":"#N/A"},{"$error":"#N/A"},{"$error":"#N/A"},{"$error":"#N/A"},{"$error":"#N/A"},359,{"$error":"#N/A"},{"$error":"#N/A"},{"$error":"#N/A"},0]
[null,135,{"$f":"COUNTIFS(tblPosts[poster_id],C$2,tblPosts[post_time],\">=\"&(C$3+($B138-1)*7),tblPosts[post_time],\"<\"&(C$3+($B138)*7))","v":20},{"$f":"COUNTIFS(tblPosts[poster_id],D$2,tblPosts[post_time],\">=\"&(D$3+($B138-1)*7),tblPosts[post_time],\"<\"&(D$3+($B138)*7))","v":0},{"$f":"COUNTIFS(tblPosts[poster_id],E$2,tblPosts[post_time],\">=\"&(E$3+($B138-1)*7),tblPosts[post_time],\"<\"&(E$3+($B138)*7))","v":0},{"$f":"COUNTIFS(tblPosts[poster_id],F$2,tblPosts[post_time],\">=\"&(F$3+($B138-1)*7),tblPosts[post_time],\"<\"&(F$3+($B138)*7))","v":0},{"$f":"COUNTIFS(tblPosts[poster_id],G$2,tblPosts[post_time],\">=\"&(G$3+($B138-1)*7),tblPosts[post_time],\"<\"&(G$3+($B138)*7))","v":0},{"$f":"COUNTIFS(tblPosts[poster_id],H$2,tblPosts[post_time],\">=\"&(H$3+($B138-1)*7),tblPosts[post_time],\"<\"&(H$3+($B138)*7))","v":0},{"$f":"COUNTIFS(tblPosts[poster_id],I$2,tblPosts[post_time],\">=\"&(I$3+($B138-1)*7),tblPosts[post_time],\"<\"&(I$3+($B138)*7))","v":0},{"$f":"COUNTIFS(tblPosts[poster_id],J$2,tblPosts[post_time],\">=\"&(J$3+($B138-1)*7),tblPosts[post_time],\"<\"&(J$3+($B138)*7))","v":0},{"$f":"COUNTIFS(tblPosts[poster_id],K$2,tblPosts[post_time],\">=\"&(K$3+($B138-1)*7),tblPosts[post_time],\"<\"&(K$3+($B138)*7))","v":0},{"$f":"COUNTIFS(tblPosts[poster_id],L$2,tblPosts[post_time],\">=\"&(L$3+($B138-1)*7),tblPosts[post_time],\"<\"&(L$3+($B138)*7))","v":0},null,135,2687,{"$error":"#N/A"},{"$error":"#N/A"},{"$error":"#N/A"},{"$error":"#N/A"},{"$error":"#N/A"},359,{"$error":"#N/A"},{"$error":"#N/A"},{"$error":"#N/A"},0]
[null,136,{"$f":"COUNTIFS(tblPosts[poster_id],C$2,tblPosts[post_time],\">=\"&(C$3+($B139-1)*7),tblPosts[post_time],\"<\"&(C$3+($B139)*7))","v":15},{"$f":"COUNTIFS(tblPosts[poster_id],D$2,tblPosts[post_time],\">=\"&(D$3+($B139-1)*7),tblPosts[post_time],\"<\"&(D$3+($B139)*7))","v":0},{"$f":"COUNTIFS(tblPosts[poster_id],E$2,tblPosts[post_time],\">=\"&(E$3+($B139-1)*7),tblPosts[post_time],\"<\"&(E$3+($B139)*7))","v":0},{"$f":"COUNTIFS(tblPosts[poster_id],F$2,tblPosts[post_time],\">=\"&(F$3+($B139-1)*7),tblPosts[post_time],\"<\"&(F$3+($B139)*7))","v":0},{"$f":"COUNTIFS(tblPosts[poster_id],G$2,tblPosts[post_time],\">=\"&(G$3+($B139-1)*7),tblPosts[post_time],\"<\"&(G$3+($B139)*7))","v":0},{"$f":"COUNTIFS(tblPosts[poster_id],H$2,tblPosts[post_time],\">=\"&(H$3+($B139-1)*7),tblPosts[post_time],\"<\"&(H$3+($B139)*7))","v":0},{"$f":"COUNTIFS(tblPosts[poster_id],I$2,tblPosts[post_time],\">=\"&(I$3+($B139-1)*7),tblPosts[post_time],\"<\"&(I$3+($B139)*7))","v":1},{"$f":"COUNTIFS(tblPosts[poster_id],J$2,tblPosts[post_time],\">=\"&(J$3+($B139-1)*7),tblPosts[post_time],\"<\"&(J$3+($B139)*7))","v":0},{"$f":"COUNTIFS(tblPosts[poster_id],K$2,tblPosts[post_time],\">=\"&(K$3+($B139-1)*7),tblPosts[post_time],\"<\"&(K$3+($B139)*7))","v":0},{"$f":"COUNTIFS(tblPosts[poster_id],L$2,tblPosts[post_time],\">=\"&(L$3+($B139-1)*7),tblPosts[post_time],\"<\"&(L$3+($B139)*7))","v":0},null,136,2702,{"$error":"#N/A"},{"$error":"#N/A"},{"$error":"#N/A"},{"$error":"#N/A"},{"$error":"#N/A"},360,{"$error":"#N/A"},{"$error":"#N/A"},{"$error":"#N/A"},0]
[null,137,{"$f":"COUNTIFS(tblPosts[poster_id],C$2,tblPosts[post_time],\">=\"&(C$3+($B140-1)*7),tblPosts[post_time],\"<\"&(C$3+($B140)*7))","v":10},{"$f":"COUNTIFS(tblPosts[poster_id],D$2,tblPosts[post_time],\">=\"&(D$3+($B140-1)*7),tblPosts[post_time],\"<\"&(D$3+($B140)*7))","v":0},{"$f":"COUNTIFS(tblPosts[poster_id],E$2,tblPosts[post_time],\">=\"&(E$3+($B140-1)*7),tblPosts[post_time],\"<\"&(E$3+($B140)*7))","v":0},{"$f":"COUNTIFS(tblPosts[poster_id],F$2,tblPosts[post_time],\">=\"&(F$3+($B140-1)*7),tblPosts[post_time],\"<\"&(F$3+($B140)*7))","v":0},{"$f":"COUNTIFS(tblPosts[poster_id],G$2,tblPosts[post_time],\">=\"&(G$3+($B140-1)*7),tblPosts[post_time],\"<\"&(G$3+($B140)*7))","v":0},{"$f":"COUNTIFS(tblPosts[poster_id],H$2,tblPosts[post_time],\">=\"&(H$3+($B140-1)*7),tblPosts[post_time],\"<\"&(H$3+($B140)*7))","v":0},{"$f":"COUNTIFS(tblPosts[poster_id],I$2,tblPosts[post_time],\">=\"&(I$3+($B140-1)*7),tblPosts[post_time],\"<\"&(I$3+($B140)*7))","v":2},{"$f":"COUNTIFS(tblPosts[poster_id],J$2,tblPosts[post_time],\">=\"&(J$3+($B140-1)*7),tblPosts[post_time],\"<\"&(J$3+($B140)*7))","v":0},{"$f":"COUNTIFS(tblPosts[poster_id],K$2,tblPosts[post_time],\">=\"&(K$3+($B140-1)*7),tblPosts[post_time],\"<\"&(K$3+($B140)*7))","v":0},{"$f":"COUNTIFS(tblPosts[poster_id],L$2,tblPosts[post_time],\">=\"&(L$3+($B140-1)*7),tblPosts[post_time],\"<\"&(L$3+($B140)*7))","v":0},null,137,2712,{"$error":"#N/A"},{"$error":"#N/A"},{"$error":"#N/A"},{"$error":"#N/A"},{"$error":"#N/A"},362,{"$error":"#N/A"},{"$error":"#N/A"},{"$error":"#N/A"},0]
[null,138,{"$f":"COUNTIFS(tblPosts[poster_id],C$2,tblPosts[post_time],\">=\"&(C$3+($B141-1)*7),tblPosts[post_time],\"<\"&(C$3+($B141)*7))","v":0},{"$f":"COUNTIFS(tblPosts[poster_id],D$2,tblPosts[post_time],\">=\"&(D$3+($B141-1)*7),tblPosts[post_time],\"<\"&(D$3+($B141)*7))","v":0},{"$f":"COUNTIFS(tblPosts[poster_id],E$2,tblPosts[post_time],\">=\"&(E$3+($B141-1)*7),tblPosts[post_time],\"<\"&(E$3+($B141)*7))","v":0},{"$f":"COUNTIFS(tblPosts[poster_id],F$2,tblPosts[post_time],\">=\"&(F$3+($B141-1)*7),tblPosts[post_time],\"<\"&(F$3+($B141)*7))","v":0},{"$f":"COUNTIFS(tblPosts[poster_id],G$2,tblPosts[post_time],\">=\"&(G$3+($B141-1)*7),tblPosts[post_time],\"<\"&(G$3+($B141)*7))","v":0},{"$f":"COUNTIFS(tblPosts[poster_id],H$2,tblPosts[post_time],\">=\"&(H$3+($B141-1)*7),tblPosts[post_time],\"<\"&(H$3+($B141)*7))","v":0},{"$f":"COUNTIFS(tblPosts[poster_id],I$2,tblPosts[post_time],\">=\"&(I$3+($B141-1)*7),tblPosts[post_time],\"<\"&(I$3+($B141)*7))","v":0},{"$f":"COUNTIFS(tblPosts[poster_id],J$2,tblPosts[post_time],\">=\"&(J$3+($B141-1)*7),tblPosts[post_time],\"<\"&(J$3+($B141)*7))","v":0},{"$f":"COUNTIFS(tblPosts[poster_id],K$2,tblPosts[post_time],\">=\"&(K$3+($B141-1)*7),tblPosts[post_time],\"<\"&(K$3+($B141)*7))","v":0},{"$f":"COUNTIFS(tblPosts[poster_id],L$2,tblPosts[post_time],\">=\"&(L$3+($B141-1)*7),tblPosts[post_time],\"<\"&(L$3+($B141)*7))","v":0},null,138,{"$error":"#N/A"},{"$error":"#N/A"},{"$error":"#N/A"},{"$error":"#N/A"},{"$error":"#N/A"},{"$error":"#N/A"},{"$error":"#N/A"},{"$error":"#N/A"},{"$error":"#N/A"},{"$error":"#N/A"},0]
[null,139,{"$f":"COUNTIFS(tblPosts[poster_id],C$2,tblPosts[post_time],\">=\"&(C$3+($B142-1)*7),tblPosts[post_time],\"<\"&(C$3+($B142)*7))","v":0},{"$f":"COUNTIFS(tblPosts[poster_id],D$2,tblPosts[post_time],\">=\"&(D$3+($B142-1)*7),tblPosts[post_time],\"<\"&(D$3+($B142)*7))","v":0},{"$f":"COUNTIFS(tblPosts[poster_id],E$2,tblPosts[post_time],\">=\"&(E$3+($B142-1)*7),tblPosts[post_time],\"<\"&(E$3+($B142)*7))","v":0},{"$f":"COUNTIFS(tblPosts[poster_id],F$2,tblPosts[post_time],\">=\"&(F$3+($B142-1)*7),tblPosts[post_time],\"<\"&(F$3+($B142)*7))","v":0},{"$f":"COUNTIFS(tblPosts[poster_id],G$2,tblPosts[post_time],\">=\"&(G$3+($B142-1)*7),tblPosts[post_time],\"<\"&(G$3+($B142)*7))","v":0},{"$f":"COUNTIFS(tblPosts[poster_id],H$2,tblPosts[post_time],\">=\"&(H$3+($B142-1)*7),tblPosts[post_time],\"<\"&(H$3+($B142)*7))","v":0},{"$f":"COUNTIFS(tblPosts[poster_id],I$2,tblPosts[post_time],\">=\"&(I$3+($B142-1)*7),tblPosts[post_time],\"<\"&(I$3+($B142)*7))","v":0},{"$f":"COUNTIFS(tblPosts[poster_id],J$2,tblPosts[post_time],\">=\"&(J$3+($B142-1)*7),tblPosts[post_time],\"<\"&(J$3+($B142)*7))","v":0},{"$f":"COUNTIFS(tblPosts[poster_id],K$2,tblPosts[post_time],\">=\"&(K$3+($B142-1)*7),tblPosts[post_time],\"<\"&(K$3+($B142)*7))","v":0},{"$f":"COUNTIFS(tblPosts[poster_id],L$2,tblPosts[post_time],\">=\"&(L$3+($B142-1)*7),tblPosts[post_time],\"<\"&(L$3+($B142)*7))","v":0},null,139,{"$error":"#N/A"},{"$error":"#N/A"},{"$error":"#N/A"},{"$error":"#N/A"},{"$error":"#N/A"},{"$error":"#N/A"},{"$error":"#N/A"},{"$error":"#N/A"},{"$error":"#N/A"},{"$error":"#N/A"},0]
[null,140,{"$f":"COUNTIFS(tblPosts[poster_id],C$2,tblPosts[post_time],\">=\"&(C$3+($B143-1)*7),tblPosts[post_time],\"<\"&(C$3+($B143)*7))","v":0},{"$f":"COUNTIFS(tblPosts[poster_id],D$2,tblPosts[post_time],\">=\"&(D$3+($B143-1)*7),tblPosts[post_time],\"<\"&(D$3+($B143)*7))","v":0},{"$f":"COUNTIFS(tblPosts[poster_id],E$2,tblPosts[post_time],\">=\"&(E$3+($B143-1)*7),tblPosts[post_time],\"<\"&(E$3+($B143)*7))","v":0},{"$f":"COUNTIFS(tblPosts[poster_id],F$2,tblPosts[post_time],\">=\"&(F$3+($B143-1)*7),tblPosts[post_time],\"<\"&(F$3+($B143)*7))","v":0},{"$f":"COUNTIFS(tblPosts[poster_id],G$2,tblPosts[post_time],\">=\"&(G$3+($B143-1)*7),tblPosts[post_time],\"<\"&(G$3+($B143)*7))","v":0},{"$f":"COUNTIFS(tblPosts[poster_id],H$2,tblPosts[post_time],\">=\"&(H$3+($B143-1)*7),tblPosts[post_time],\"<\"&(H$3+($B143)*7))","v":0},{"$f":"COUNTIFS(tblPosts[poster_id],I$2,tblPosts[post_time],\">=\"&(I$3+($B143-1)*7),tblPosts[post_time],\"<\"&(I$3+($B143)*7))","v":0},{"$f":"COUNTIFS(tblPosts[poster_id],J$2,tblPosts[post_time],\">=\"&(J$3+($B143-1)*7),tblPosts[post_time],\"<\"&(J$3+($B143)*7))","v":0},{"$f":"COUNTIFS(tblPosts[poster_id],K$2,tblPosts[post_time],\">=\"&(K$3+($B143-1)*7),tblPosts[post_time],\"<\"&(K$3+($B143)*7))","v":0},{"$f":"COUNTIFS(tblPosts[poster_id],L$2,tblPosts[post_time],\">=\"&(L$3+($B143-1)*7),tblPosts[post_time],\"<\"&(L$3+($B143)*7))","v":0},null,140,{"$error":"#N/A"},{"$error":"#N/A"},{"$error":"#N/A"},{"$error":"#N/A"},{"$error":"#N/A"},{"$error":"#N/A"},{"$error":"#N/A"},{"$error":"#N/A"},{"$error":"#N/A"},{"$error":"#N/A"},0]
[null,141,{"$f":"COUNTIFS(tblPosts[poster_id],C$2,tblPosts[post_time],\">=\"&(C$3+($B144-1)*7),tblPosts[post_time],\"<\"&(C$3+($B144)*7))","v":0},{"$f":"COUNTIFS(tblPosts[poster_id],D$2,tblPosts[post_time],\">=\"&(D$3+($B144-1)*7),tblPosts[post_time],\"<\"&(D$3+($B144)*7))","v":0},{"$f":"COUNTIFS(tblPosts[poster_id],E$2,tblPosts[post_time],\">=\"&(E$3+($B144-1)*7),tblPosts[post_time],\"<\"&(E$3+($B144)*7))","v":0},{"$f":"COUNTIFS(tblPosts[poster_id],F$2,tblPosts[post_time],\">=\"&(F$3+($B144-1)*7),tblPosts[post_time],\"<\"&(F$3+($B144)*7))","v":0},{"$f":"COUNTIFS(tblPosts[poster_id],G$2,tblPosts[post_time],\">=\"&(G$3+($B144-1)*7),tblPosts[post_time],\"<\"&(G$3+($B144)*7))","v":0},{"$f":"COUNTIFS(tblPosts[poster_id],H$2,tblPosts[post_time],\">=\"&(H$3+($B144-1)*7),tblPosts[post_time],\"<\"&(H$3+($B144)*7))","v":0},{"$f":"COUNTIFS(tblPosts[poster_id],I$2,tblPosts[post_time],\">=\"&(I$3+($B144-1)*7),tblPosts[post_time],\"<\"&(I$3+($B144)*7))","v":0},{"$f":"COUNTIFS(tblPosts[poster_id],J$2,tblPosts[post_time],\">=\"&(J$3+($B144-1)*7),tblPosts[post_time],\"<\"&(J$3+($B144)*7))","v":0},{"$f":"COUNTIFS(tblPosts[poster_id],K$2,tblPosts[post_time],\">=\"&(K$3+($B144-1)*7),tblPosts[post_time],\"<\"&(K$3+($B144)*7))","v":0},{"$f":"COUNTIFS(tblPosts[poster_id],L$2,tblPosts[post_time],\">=\"&(L$3+($B144-1)*7),tblPosts[post_time],\"<\"&(L$3+($B144)*7))","v":0},null,141,{"$error":"#N/A"},{"$error":"#N/A"},{"$error":"#N/A"},{"$error":"#N/A"},{"$error":"#N/A"},{"$error":"#N/A"},{"$error":"#N/A"},{"$error":"#N/A"},{"$error":"#N/A"},{"$error":"#N/A"},1]