{"text_format":"1","workbook":"xlsx","n_sheets":2,"sheets":["data","map"],"not_rendered":{"charts":2,"images":2,"macros":1,"external_links":0,"defined_names":0,"comments":0,"pivot_tables":0},"unopened":[],"bounds":{"document_bytes":16777216,"sheet_cells":100000,"rows_first":2000,"rows_last":500,"rows_between":2000,"halvings":0,"cell_chars":16384,"cell_head_chars":4096},"cells_cut":0,"cells_raw":0,"read":"whole","date_system":"1900"}

{"sheet":"data","index":0,"n_rows":32,"n_cols":10,"rows_kept":32,"cut":false,"hidden":false,"merged":[]}
["Date & Time","Lat","Lon","Wind MPH","Pressure","Type"]
["2012-10-22T15:00:00",13.5,-78,30,1003,"Tropical Depression",{"$f":"IF(A2=LOOKUP(map!$C$3,$A$2:$A$32),data!D2,NA())","v":{"$error":"#N/A"}},{"$f":"IF($A2<=LOOKUP(map!$C$3,$A$2:$A$32),data!B2,NA())","v":13.5},{"$f":"IF($A2<=LOOKUP(map!$C$3,$A$2:$A$32),data!C2,NA())","v":-78},{"$f":"IF($A2<=LOOKUP(map!$C$3,$A$2:$A$32),data!D2,NA())","v":30}]
["2012-10-22T21:00:00",12.5,-78.5,40,999,"Tropical Storm",{"$f":"IF(A3=LOOKUP(map!$C$3,$A$2:$A$32),data!D3,NA())","v":{"$error":"#N/A"}},{"$f":"IF($A3<=LOOKUP(map!$C$3,$A$2:$A$32),data!B3,NA())","v":12.5},{"$f":"IF($A3<=LOOKUP(map!$C$3,$A$2:$A$32),data!C3,NA())","v":-78.5},{"$f":"IF($A3<=LOOKUP(map!$C$3,$A$2:$A$32),data!D3,NA())","v":40}]
["2012-10-23T03:00:00",12.7,-78.599999999999994,45,998,"Tropical Storm",{"$f":"IF(A4=LOOKUP(map!$C$3,$A$2:$A$32),data!D4,NA())","v":{"$error":"#N/A"}},{"$f":"IF($A4<=LOOKUP(map!$C$3,$A$2:$A$32),data!B4,NA())","v":12.7},{"$f":"IF($A4<=LOOKUP(map!$C$3,$A$2:$A$32),data!C4,NA())","v":-78.599999999999994},{"$f":"IF($A4<=LOOKUP(map!$C$3,$A$2:$A$32),data!D4,NA())","v":45}]
["2012-10-23T09:00:00",13.3,-78.599999999999994,45,998,"Tropical Storm",{"$f":"IF(A5=LOOKUP(map!$C$3,$A$2:$A$32),data!D5,NA())","v":{"$error":"#N/A"}},{"$f":"IF($A5<=LOOKUP(map!$C$3,$A$2:$A$32),data!B5,NA())","v":13.3},{"$f":"IF($A5<=LOOKUP(map!$C$3,$A$2:$A$32),data!C5,NA())","v":-78.599999999999994},{"$f":"IF($A5<=LOOKUP(map!$C$3,$A$2:$A$32),data!D5,NA())","v":45}]
["2012-10-23T15:00:00",13.8,-77.8,50,993,"Tropical Storm",{"$f":"IF(A6=LOOKUP(map!$C$3,$A$2:$A$32),data!D6,NA())","v":{"$error":"#N/A"}},{"$f":"IF($A6<=LOOKUP(map!$C$3,$A$2:$A$32),data!B6,NA())","v":13.8},{"$f":"IF($A6<=LOOKUP(map!$C$3,$A$2:$A$32),data!C6,NA())","v":-77.8},{"$f":"IF($A6<=LOOKUP(map!$C$3,$A$2:$A$32),data!D6,NA())","v":50}]
["2012-10-23T21:00:00",14.3,-77.599999999999994,50,993,"Tropical Storm",{"$f":"IF(A7=LOOKUP(map!$C$3,$A$2:$A$32),data!D7,NA())","v":{"$error":"#N/A"}},{"$f":"IF($A7<=LOOKUP(map!$C$3,$A$2:$A$32),data!B7,NA())","v":14.3},{"$f":"IF($A7<=LOOKUP(map!$C$3,$A$2:$A$32),data!C7,NA())","v":-77.599999999999994},{"$f":"IF($A7<=LOOKUP(map!$C$3,$A$2:$A$32),data!D7,NA())","v":50}]
["2012-10-24T03:00:00",15.2,-77.2,60,989,"Tropical Storm",{"$f":"IF(A8=LOOKUP(map!$C$3,$A$2:$A$32),data!D8,NA())","v":{"$error":"#N/A"}},{"$f":"IF($A8<=LOOKUP(map!$C$3,$A$2:$A$32),data!B8,NA())","v":15.2},{"$f":"IF($A8<=LOOKUP(map!$C$3,$A$2:$A$32),data!C8,NA())","v":-77.2},{"$f":"IF($A8<=LOOKUP(map!$C$3,$A$2:$A$32),data!D8,NA())","v":60}]
["2012-10-24T09:00:00",16.3,-77,70,986,"Tropical Storm",{"$f":"IF(A9=LOOKUP(map!$C$3,$A$2:$A$32),data!D9,NA())","v":{"$error":"#N/A"}},{"$f":"IF($A9<=LOOKUP(map!$C$3,$A$2:$A$32),data!B9,NA())","v":16.3},{"$f":"IF($A9<=LOOKUP(map!$C$3,$A$2:$A$32),data!C9,NA())","v":-77},{"$f":"IF($A9<=LOOKUP(map!$C$3,$A$2:$A$32),data!D9,NA())","v":70}]
["2012-10-24T15:00:00",17.100000000000001,-76.7,80,973,"Category 1 Hurricane",{"$f":"IF(A10=LOOKUP(map!$C$3,$A$2:$A$32),data!D10,NA())","v":{"$error":"#N/A"}},{"$f":"IF($A10<=LOOKUP(map!$C$3,$A$2:$A$32),data!B10,NA())","v":17.100000000000001},{"$f":"IF($A10<=LOOKUP(map!$C$3,$A$2:$A$32),data!C10,NA())","v":-76.7},{"$f":"IF($A10<=LOOKUP(map!$C$3,$A$2:$A$32),data!D10,NA())","v":80}]
["2012-10-24T21:00:00",18.3,-76.599999999999994,80,970,"Category 1 Hurricane",{"$f":"IF(A11=LOOKUP(map!$C$3,$A$2:$A$32),data!D11,NA())","v":{"$error":"#N/A"}},{"$f":"IF($A11<=LOOKUP(map!$C$3,$A$2:$A$32),data!B11,NA())","v":18.3},{"$f":"IF($A11<=LOOKUP(map!$C$3,$A$2:$A$32),data!C11,NA())","v":-76.599999999999994},{"$f":"IF($A11<=LOOKUP(map!$C$3,$A$2:$A$32),data!D11,NA())","v":80}]
["2012-10-25T03:00:00",19.399999999999999,-76.3,90,954,"Category 1 Hurricane",{"$f":"IF(A12=LOOKUP(map!$C$3,$A$2:$A$32),data!D12,NA())","v":{"$error":"#N/A"}},{"$f":"IF($A12<=LOOKUP(map!$C$3,$A$2:$A$32),data!B12,NA())","v":19.399999999999999},{"$f":"IF($A12<=LOOKUP(map!$C$3,$A$2:$A$32),data!C12,NA())","v":-76.3},{"$f":"IF($A12<=LOOKUP(map!$C$3,$A$2:$A$32),data!D12,NA())","v":90}]
["2012-10-25T09:00:00",20.9,-75.8,105,960,"Category 2 Hurricane",{"$f":"IF(A13=LOOKUP(map!$C$3,$A$2:$A$32),data!D13,NA())","v":{"$error":"#N/A"}},{"$f":"IF($A13<=LOOKUP(map!$C$3,$A$2:$A$32),data!B13,NA())","v":20.9},{"$f":"IF($A13<=LOOKUP(map!$C$3,$A$2:$A$32),data!C13,NA())","v":-75.8},{"$f":"IF($A13<=LOOKUP(map!$C$3,$A$2:$A$32),data!D13,NA())","v":105}]
["2012-10-25T15:00:00",22.4,-75.5,105,964,"Category 2 Hurricane",{"$f":"IF(A14=LOOKUP(map!$C$3,$A$2:$A$32),data!D14,NA())","v":{"$error":"#N/A"}},{"$f":"IF($A14<=LOOKUP(map!$C$3,$A$2:$A$32),data!B14,NA())","v":22.4},{"$f":"IF($A14<=LOOKUP(map!$C$3,$A$2:$A$32),data!C14,NA())","v":-75.5},{"$f":"IF($A14<=LOOKUP(map!$C$3,$A$2:$A$32),data!D14,NA())","v":105}]
["2012-10-25T21:00:00",24.5,-75.599999999999994,105,963,"Category 2 Hurricane",{"$f":"IF(A15=LOOKUP(map!$C$3,$A$2:$A$32),data!D15,NA())","v":{"$error":"#N/A"}},{"$f":"IF($A15<=LOOKUP(map!$C$3,$A$2:$A$32),data!B15,NA())","v":24.5},{"$f":"IF($A15<=LOOKUP(map!$C$3,$A$2:$A$32),data!C15,NA())","v":-75.599999999999994},{"$f":"IF($A15<=LOOKUP(map!$C$3,$A$2:$A$32),data!D15,NA())","v":105}]
["2012-10-26T03:00:00",25.3,-76.099999999999994,90,968,"Category 1 Hurricane",{"$f":"IF(A16=LOOKUP(map!$C$3,$A$2:$A$32),data!D16,NA())","v":{"$error":"#N/A"}},{"$f":"IF($A16<=LOOKUP(map!$C$3,$A$2:$A$32),data!B16,NA())","v":25.3},{"$f":"IF($A16<=LOOKUP(map!$C$3,$A$2:$A$32),data!C16,NA())","v":-76.099999999999994},{"$f":"IF($A16<=LOOKUP(map!$C$3,$A$2:$A$32),data!D16,NA())","v":90}]
["2012-10-26T09:00:00",26.3,-76.900000000000006,80,968,"Category 1 Hurricane",{"$f":"IF(A17=LOOKUP(map!$C$3,$A$2:$A$32),data!D17,NA())","v":{"$error":"#N/A"}},{"$f":"IF($A17<=LOOKUP(map!$C$3,$A$2:$A$32),data!B17,NA())","v":26.3},{"$f":"IF($A17<=LOOKUP(map!$C$3,$A$2:$A$32),data!C17,NA())","v":-76.900000000000006},{"$f":"IF($A17<=LOOKUP(map!$C$3,$A$2:$A$32),data!D17,NA())","v":80}]
["2012-10-26T15:00:00",26.7,-76.900000000000006,80,970,"Category 1 Hurricane",{"$f":"IF(A18=LOOKUP(map!$C$3,$A$2:$A$32),data!D18,NA())","v":{"$error":"#N/A"}},{"$f":"IF($A18<=LOOKUP(map!$C$3,$A$2:$A$32),data!B18,NA())","v":26.7},{"$f":"IF($A18<=LOOKUP(map!$C$3,$A$2:$A$32),data!C18,NA())","v":-76.900000000000006},{"$f":"IF($A18<=LOOKUP(map!$C$3,$A$2:$A$32),data!D18,NA())","v":80}]
["2012-10-26T21:00:00",27.3,-77.099999999999994,75,971,"Category 1 Hurricane",{"$f":"IF(A19=LOOKUP(map!$C$3,$A$2:$A$32),data!D19,NA())","v":{"$error":"#N/A"}},{"$f":"IF($A19<=LOOKUP(map!$C$3,$A$2:$A$32),data!B19,NA())","v":27.3},{"$f":"IF($A19<=LOOKUP(map!$C$3,$A$2:$A$32),data!C19,NA())","v":-77.099999999999994},{"$f":"IF($A19<=LOOKUP(map!$C$3,$A$2:$A$32),data!D19,NA())","v":75}]
["2012-10-27T03:00:00",27.7,-77.099999999999994,75,969,"Category 1 Hurricane",{"$f":"IF(A20=LOOKUP(map!$C$3,$A$2:$A$32),data!D20,NA())","v":{"$error":"#N/A"}},{"$f":"IF($A20<=LOOKUP(map!$C$3,$A$2:$A$32),data!B20,NA())","v":27.7},{"$f":"IF($A20<=LOOKUP(map!$C$3,$A$2:$A$32),data!C20,NA())","v":-77.099999999999994},{"$f":"IF($A20<=LOOKUP(map!$C$3,$A$2:$A$32),data!D20,NA())","v":75}]
["2012-10-27T09:00:00",28.6,-76.7,70,969,"Tropical Storm",{"$f":"IF(A21=LOOKUP(map!$C$3,$A$2:$A$32),data!D21,NA())","v":{"$error":"#N/A"}},{"$f":"IF($A21<=LOOKUP(map!$C$3,$A$2:$A$32),data!B21,NA())","v":28.6},{"$f":"IF($A21<=LOOKUP(map!$C$3,$A$2:$A$32),data!C21,NA())","v":-76.7},{"$f":"IF($A21<=LOOKUP(map!$C$3,$A$2:$A$32),data!D21,NA())","v":70}]
["2012-10-27T15:00:00",29,-76,75,958,"Category 1 Hurricane",{"$f":"IF(A22=LOOKUP(map!$C$3,$A$2:$A$32),data!D22,NA())","v":{"$error":"#N/A"}},{"$f":"IF($A22<=LOOKUP(map!$C$3,$A$2:$A$32),data!B22,NA())","v":29},{"$f":"IF($A22<=LOOKUP(map!$C$3,$A$2:$A$32),data!C22,NA())","v":-76},{"$f":"IF($A22<=LOOKUP(map!$C$3,$A$2:$A$32),data!D22,NA())","v":75}]
["2012-10-27T21:00:00",30.2,-75.2,75,961,"Category 1 Hurricane",{"$f":"IF(A23=LOOKUP(map!$C$3,$A$2:$A$32),data!D23,NA())","v":{"$error":"#N/A"}},{"$f":"IF($A23<=LOOKUP(map!$C$3,$A$2:$A$32),data!B23,NA())","v":30.2},{"$f":"IF($A23<=LOOKUP(map!$C$3,$A$2:$A$32),data!C23,NA())","v":-75.2},{"$f":"IF($A23<=LOOKUP(map!$C$3,$A$2:$A$32),data!D23,NA())","v":75}]
["2012-10-28T03:00:00",30.9,-74.3,75,960,"Category 1 Hurricane",{"$f":"IF(A24=LOOKUP(map!$C$3,$A$2:$A$32),data!D24,NA())","v":{"$error":"#N/A"}},{"$f":"IF($A24<=LOOKUP(map!$C$3,$A$2:$A$32),data!B24,NA())","v":30.9},{"$f":"IF($A24<=LOOKUP(map!$C$3,$A$2:$A$32),data!C24,NA())","v":-74.3},{"$f":"IF($A24<=LOOKUP(map!$C$3,$A$2:$A$32),data!D24,NA())","v":75}]
["2012-10-28T09:00:00",31.9,-73.3,75,960,"Category 1 Hurricane",{"$f":"IF(A25=LOOKUP(map!$C$3,$A$2:$A$32),data!D25,NA())","v":{"$error":"#N/A"}},{"$f":"IF($A25<=LOOKUP(map!$C$3,$A$2:$A$32),data!B25,NA())","v":31.9},{"$f":"IF($A25<=LOOKUP(map!$C$3,$A$2:$A$32),data!C25,NA())","v":-73.3},{"$f":"IF($A25<=LOOKUP(map!$C$3,$A$2:$A$32),data!D25,NA())","v":75}]
["2012-10-28T15:00:00",32.5,-72.599999999999994,75,951,"Category 1 Hurricane",{"$f":"IF(A26=LOOKUP(map!$C$3,$A$2:$A$32),data!D26,NA())","v":{"$error":"#N/A"}},{"$f":"IF($A26<=LOOKUP(map!$C$3,$A$2:$A$32),data!B26,NA())","v":32.5},{"$f":"IF($A26<=LOOKUP(map!$C$3,$A$2:$A$32),data!C26,NA())","v":-72.599999999999994},{"$f":"IF($A26<=LOOKUP(map!$C$3,$A$2:$A$32),data!D26,NA())","v":75}]
["2012-10-28T21:00:00",33.4,-71.3,75,952,"Category 1 Hurricane",{"$f":"IF(A27=LOOKUP(map!$C$3,$A$2:$A$32),data!D27,NA())","v":{"$error":"#N/A"}},{"$f":"IF($A27<=LOOKUP(map!$C$3,$A$2:$A$32),data!B27,NA())","v":33.4},{"$f":"IF($A27<=LOOKUP(map!$C$3,$A$2:$A$32),data!C27,NA())","v":-71.3},{"$f":"IF($A27<=LOOKUP(map!$C$3,$A$2:$A$32),data!D27,NA())","v":75}]
["2012-10-29T03:00:00",34.5,-70.5,75,950,"Category 1 Hurricane",{"$f":"IF(A28=LOOKUP(map!$C$3,$A$2:$A$32),data!D28,NA())","v":{"$error":"#N/A"}},{"$f":"IF($A28<=LOOKUP(map!$C$3,$A$2:$A$32),data!B28,NA())","v":34.5},{"$f":"IF($A28<=LOOKUP(map!$C$3,$A$2:$A$32),data!C28,NA())","v":-70.5},{"$f":"IF($A28<=LOOKUP(map!$C$3,$A$2:$A$32),data!D28,NA())","v":75}]
["2012-10-29T09:00:00",35.9,-70.5,85,946,"Category 1 Hurricane",{"$f":"IF(A29=LOOKUP(map!$C$3,$A$2:$A$32),data!D29,NA())","v":{"$error":"#N/A"}},{"$f":"IF($A29<=LOOKUP(map!$C$3,$A$2:$A$32),data!B29,NA())","v":35.9},{"$f":"IF($A29<=LOOKUP(map!$C$3,$A$2:$A$32),data!C29,NA())","v":-70.5},{"$f":"IF($A29<=LOOKUP(map!$C$3,$A$2:$A$32),data!D29,NA())","v":85}]
["2012-10-29T15:00:00",37.5,-71.5,90,943,"Category 1 Hurricane",{"$f":"IF(A30=LOOKUP(map!$C$3,$A$2:$A$32),data!D30,NA())","v":{"$error":"#N/A"}},{"$f":"IF($A30<=LOOKUP(map!$C$3,$A$2:$A$32),data!B30,NA())","v":37.5},{"$f":"IF($A30<=LOOKUP(map!$C$3,$A$2:$A$32),data!C30,NA())","v":-71.5},{"$f":"IF($A30<=LOOKUP(map!$C$3,$A$2:$A$32),data!D30,NA())","v":90}]
["2012-10-29T21:00:00",38.799999999999997,-74.400000000000006,90,940,"Category 1 Hurricane",{"$f":"IF(A31=LOOKUP(map!$C$3,$A$2:$A$32),data!D31,NA())","v":{"$error":"#N/A"}},{"$f":"IF($A31<=LOOKUP(map!$C$3,$A$2:$A$32),data!B31,NA())","v":38.799999999999997},{"$f":"IF($A31<=LOOKUP(map!$C$3,$A$2:$A$32),data!C31,NA())","v":-74.400000000000006},{"$f":"IF($A31<=LOOKUP(map!$C$3,$A$2:$A$32),data!D31,NA())","v":90}]
["2012-10-30T03:00:00",39.799999999999997,-75.400000000000006,75,952,"Post-Tropical Cyclone",{"$f":"IF(A32=LOOKUP(map!$C$3,$A$2:$A$32),data!D32,NA())","v":75},{"$f":"IF($A32<=LOOKUP(map!$C$3,$A$2:$A$32),data!B32,NA())","v":39.799999999999997},{"$f":"IF($A32<=LOOKUP(map!$C$3,$A$2:$A$32),data!C32,NA())","v":-75.400000000000006},{"$f":"IF($A32<=LOOKUP(map!$C$3,$A$2:$A$32),data!D32,NA())","v":75}]

{"sheet":"map","index":1,"n_rows":14,"n_cols":6,"rows_kept":14,"cut":false,"hidden":false,"merged":[[2,16,2,17],[0,5,0,16]]}
[false,null,null,null,null,"Road Map of Hurricane Sandy"]
[]
[null,"Date & Time",{"$f":"\"2012-10-22 15:00\"+B14*6/24","v":"2012-10-30T03:00:00"}]
[null,"Lon",{"$f":"LOOKUP($C$3,data!$A$2:$A$32,data!$C$2:$C$32)","v":-75.400000000000006}]
[null,"Lat",{"$f":"LOOKUP($C$3,data!$A$2:$A$32,data!$B$2:$B$32)","v":39.799999999999997}]
[null,"Wind(mph)",{"$f":"LOOKUP($C$3,data!$A$2:$A$32,data!$D$2:$D$32)","v":75}]
[null,"Pressure(mb)",{"$f":"LOOKUP($C$3,data!$A$2:$A$32,data!$E$2:$E$32)","v":952}]
[]
[null,{"$f":"\"Hurricane [Sandy]\"&CHAR(13)&\"Date: \"&TEXT(C3,\"[$-409]mmm-dd hh:mm\")&CHAR(10)&\"Wind: \"&C6&\"mph\"&CHAR(13)&\"Pressure: \"&C7&\"mb\"","v":"Hurricane [Sandy]\rDate: Oct-30 03:00\nWind: 75mph\rPressure: 952mb"}]
[]
[]
[null,"Play","Stop        Loop"]
[]
[null,30]